Workbook
Name \A: #REF!
Name \A: #REF!
Name \B: #REF!
Name \C: #REF!
Name \D: #REF!
Name \E: #REF!
Name \F: #REF!
Name \G: #REF!
Name \H: #REF!
Name \J: #REF!
Name \K: #REF!
Name \Q: #REF!
Name ______SEC1200: #REF!
Name _____SEC1200: #REF!
Name ____SEC1200: #REF!
Name ___SEC1200: #REF!
Name __SEC1200: #REF!
Name _1SCHEDULE_1: #REF!
Name _2SCHEDULE_2: #REF!
Name _hhh2: #REF!
Name _SEC1200: #REF!
Name ALL: #REF!
Name BIGEN_AFRICA_no: #REF!
Name Contract_Description: #REF!
Name CONTRACT_NAME: #REF!
Name CONTRACT_NAME: #REF!
Name Contract_no: #REF!
Name D: #REF!
Name D: #REF!
Name data: #REF!
Name data: #REF!
Name data1: #REF!
Name data1: #REF!
Name data2: #REF!
Name data2: #REF!
Name Date: #REF!
Name Date: #REF!
Name hhh: #REF!
Name Items_01: #REF!
Name New: #REF!
Name SCHED1: #REF!
Name SCHED2: #REF!
Name SCHED2A: #REF!
Name VO1_ch133: #REF!

Sheet works
A1: Project no. :MHLM/MIG/03/2024/25
A2: MAQUASSI HILLS
A3: CONSTRUCTION OF RECREATIONAL FACILITIES AT THE WITPOORT DAM-PHASE 1
A9: Bill of Quantities
C15: =+A3 -> CONSTRUCTION OF RECREATIONAL FACILITIES AT THE WITPOORT DAM-PHASE 1
C26: For further clarification : all activities for each item shall be as described in the relevant SANS 1200 pay items | D26: For further clarification : all activities for each item shall be as described in the relevant SANS 1200 pay items | E26: For further clarification : all activities for each item shall be as described in the relevant SANS 1200 pay items | F26: For further clarification : all activities for each item shall be as described in the relevant SANS 1200 pay items
C27: For further clarification : all activities for each item shall be as described in the relevant SANS 1200 pay items | D27: For further clarification : all activities for each item shall be as described in the relevant SANS 1200 pay items | E27: For further clarification : all activities for each item shall be as described in the relevant SANS 1200 pay items | F27: For further clarification : all activities for each item shall be as described in the relevant SANS 1200 pay items
C28: For further clarification : all activities for each item shall be as described in the relevant SANS 1200 pay items | D28: For further clarification : all activities for each item shall be as described in the relevant SANS 1200 pay items | E28: For further clarification : all activities for each item shall be as described in the relevant SANS 1200 pay items | F28: For further clarification : all activities for each item shall be as described in the relevant SANS 1200 pay items
C29: For further clarification : all activities for each item shall be as described in the relevant SANS 1200 pay items | D29: For further clarification : all activities for each item shall be as described in the relevant SANS 1200 pay items | E29: For further clarification : all activities for each item shall be as described in the relevant SANS 1200 pay items | F29: For further clarification : all activities for each item shall be as described in the relevant SANS 1200 pay items
A31: For
A62: 1

Sheet Schedue 1
A1: =+works!A1 -> Project no. :MHLM/MIG/03/2024/25
A2: =+works!A2 -> MAQUASSI HILLS
A3: =+works!A3 -> CONSTRUCTION OF RECREATIONAL FACILITIES AT THE WITPOORT DAM-PHASE 1
A5: Item | B5: Payment | C5: Item Description | D5: Unit | E5: Quantities | F5: Rate | G5: Amount
A6: number | B6: reference | G6: Rands.cents
B7: SANS | C7: Schedule 1
B8: 1200 | C8: Preliminary & General and Health & Safety schedules
A12: 1.1 | C12: Preliminary & General allowances
B14: SABS 1200A | C14: GENERAL
A16: 1.1.1 | B16: A8.3.1 | C16: Contractual requirements | D16: sum | E16: 1
A17: 1.1.2 | B17: PSAB 1 | C17: The Contractor to provide a name board | D17: No | E17: 1
A18: 1.1.3 | B18: AB3.2;4.1;5.2 | C18: The contractor to provide furbished office | D18: sum | E18: 1
A19: 1.1.4 | B19: PSAB 4 | C19: The Contractor to provide survey assistant | D19: sum | E19: 1
A20: 1.1.5 | B20: PSAB 5 | C20: The Contractor to provide survey equipments | D20: sum | E20: 1
A21: 1.1.6 | B21: PS 6.3 | C21: The Contractor to provide offices and storage sheds | D21: sum | E21: 1
A22: 1.1.7 | B22: A8.3.2 | C22: The Contractor to provide workshops | D22: sum | E22: 1
A23: 1.1.8 | B23: A8.3.2 | C23: The Contractor to provide living accommodations | D23: sum | E23: 1
A24: 1.1.9 | B24: PS 7.1 | C24: The Contractor to provide ablution and latrine facilities | D24: sum | E24: 1
A25: 1.1.10 | B25: A8.3.2 | C25: The Contractor to supply tools and equipments | D25: sum | E25: 1
A26: 1.1.11 | B26: PS 6.1& | C26: The Contractor to provide water, electricity & communications | D26: sum | E26: 1
A27: 1.1.12 | B27: A8.3.2(A5.5) | C27: Deal with water as described in SANS 1 200 A section 5.5 | D27: sum | E27: 1
... A31: 1.1.16 | B31: A8.8.2 | C31: The Contractor to make provision for traffic control | D31: sum | E31: 1
A33: 1.2 | C33: Time related items
A35: 1.2.1 | B35: A8.4.1 | C35: Contractual requirements | D35: sum | E35: 1
A36: 1.2.2 | B36: A8.4.2.2 | C36: The Contractor to maintain all facilities on the site | D36: sum | E36: 1
A37: 1.2.3 | B37: A8.4.3 | C37: The Contractor's supervision of the site | D37: sum | E37: 1
A38: 1.2.4 | B38: A8.4.4 | C38: The Contractor's company and head office overhead costs | D38: sum | E38: 1
A39: 1.2.5 | B39: A8.4.5 | C39: Other time related obligations by the Contractor | D39: sum | E39: 1
A40: 1.2.6 | B40: A8.8.2 | C40: Time related costs for traffic control | D40: sum | E40: 1
A41: 1.2.7 | B41: PSAB4 | C41: Communication facilities (cell phone) for the Engineer | D41: Prov | E41: 1 | F41: 20000 | G41: 20000
B42: PSAB4a | C42: Contractor's overhead and profit on Item 1.2.7 | D42: % | E42: 20000
A43: 1.2.8 | B43: PSAB5 | C43: Provisional sum for community involvement/CLO payment | D43: Prov | E43: 1 | F43: 50000 | G43: 50000
B44: PSAB5a | C44: Contractor's overhead and profit on Item 1.2.8 | D44: % | E44: 50000
A46: 1.3 | C46: Provisional sums by the Engineer
A48: 1.3.1 | B48: A8.5a | C48: Provisional sum for various tests requested by the Engineer | D48: Prov | E48: 1 | F48: 50000 | G48: 50000
A49: 1.3.1.1 | B49: A8.5b | C49: Contractor's overhead and profit on Item 1.3.1 | D49: % | E49: 50000
A50: 1.3.2 | C50: Telephone calls and Rental for the Engineers Representative | D50: Prov | E50: 1 | F50: 40000 | G50: =F50 -> 40000
A51: 1.3.2.1 | C51: Contractor's overhead and profit on Item 1.3.2 | D51: % | E51: 40000
A60: =C7&" total carried to summary page" -> Schedule 1 total carried to summary page
A62: =+works!A62+1 -> 2

Sheet Shedule 2 - 1
A1: =+works!A1 -> Project no. :MHLM/MIG/03/2024/25
A2: =+works!A2 -> MAQUASSI HILLS
A3: =+works!A3 -> CONSTRUCTION OF RECREATIONAL FACILITIES AT THE WITPOORT DAM-PHASE 1
A5: Item | B5: Payment | C5: Item Description | D5: Unit | E5: Quantities | F5: Rate | G5: Amount
A6: number | B6: reference | G6: Rands.cents
B7: SANS | C7: Schedule 2
B8: 1 200 | C8: Main entrance building
A12: 2.1 | C12: Main entrance building
A14: 2.1.1 | C14: Site Clearance
A16: 2.1.1.1 | B16: 8.2.1 | C16: (a) Clear and grub area | D16: m² | E16: 200
C18: Supply, install/construct the following items :
C19: Bulk earthworks
A20: 2.1.2 | B20: D8.3.2a | C20: Remove 50 mm thick topsoil from the building area | D20: m³ | E20: 115.5
C21: mm) and spoil at designated disposal area
A22: 2.1.3 | B22: D8.3.2a | C22: Ecavation in bulk, use material for | D22: m³ | E22: 235
C23: backfill and spoil excess and/or unsuitable material (excavation includes
C24: the additional 100 mm layer under the concrete floor/paving finish)
C25: Note : all excavations other than rock requiring blasting will be considered as
C26: soft excavation - all free haul = 10 km unless otherwise stated in the Tender
C27: Document
C28: Excavation rate shall cover the cost of the excavation, compaction of the
C29: excavation base to 93% Mod AASHTO density, the disposal of all
C30: surplus material and the clean up of any excavated rubble material
A31: 2.1.4 | B31: D8.3.4(a) | C31: G6 imported selected gravel material lay in 150 mm thick layers with 95% | D31: m³ | E31: 235
C32: Mod AASHTO density fill under the floor slab and under the various
C33: foundations
C34: Earthworks for walls and columns
A35: 2.1.5 | B35: D8.3.2a | C35: Excavation EXTERNAL WALLS : 600 mm x ±600 mm deep foundation for 220 | D35: m³ | E35: 707.4
C36: wall foundation, use excavated material for backfill and spoil excess and/or
C37: unsuitable material
A38: 2.1.6 | B38: D8.3.2a | C38: Excavation INTERNAL WALLS : 600 mm x ±600 mm deep foundation for 220 | D38: m³ | E38: 108 | G38: rate only
C39: mm brick walls, use excavated material for backfill and spoil excess
C40: and/or unsuitable material
A41: 2.1.7 | B41: D8.3.2a | C41: Backfill : ±400 mm deep under floor slab with 93% | D41: m³ | E41: 309.04
C42: Mod AASHTO density compaction using suitable excavated material
A43: 2.1.8 | B43: D8.3.4(a) | C43: Make up deficiency in backfill by importation of suitable material | D43: m³ | E43: 30.9 | G43: rate only
A45: 2.2 | C45: Concrete & related items
C47: Supply, install/construct the following items :
C48: Note : The costs of making and testing of 150 mm x 150 mm x 150 mm test
C49: blocks are to be included in the various concrete rates
...

Sheet Schedule 2 - 2
A1: =+works!A1 -> Project no. :MHLM/MIG/03/2024/25
A2: =+works!A2 -> MAQUASSI HILLS
A3: =+works!A3 -> CONSTRUCTION OF RECREATIONAL FACILITIES AT THE WITPOORT DAM-PHASE 1
A5: Item | B5: Payment | C5: Item Description | D5: Unit | E5: Quantities | F5: Rate | G5: Amount
A6: number | B6: reference | G6: Rands.cents
B7: SANS | C7: Schedule 2 continued
B8: 1 200 | C8: =+'Shedule 2 - 1'!C8 -> Main entrance building
A10: SCHEDULE CONTINUED FROM PAGE 3
C12: Reinforcement in concrete
A13: 2.2.8 | B13: G8.3.2 | C13: Type 193 fabric reinforcement in 75 mm thick floor slab in single layer | D13: m² | E13: 60
A14: 2.2.9 | B14: G8.3.1 | C14: High tensile steel reinforcement in column footings | D14: kg | E14: 81 | G14: rate only
A15: 2.2.10 | B15: G8.1.2.2 | C15: Mild steel reinforcement in column footings | D15: kg | E15: 41 | G15: rate only
C16: Floor joints
A17: 2.2.11 | B17: G8.5 | C17: Isolation joint (IJ) between 150 mm thick concrete slab and brick wall to | D17: m | E17: 20 | G17: rate ony
C18: be filled with 12.5 mm FLEXCELL and capped with ABE FLEXOTHANE
C19: EPU epoxy POLYURETHANE joint sealant with ABE EPIDERMIX 326
C20: Primer and backing rope applied in accordance with ABE recommendation
C21: (or similar approved by the Engineer)
A23: 2.3 | C23: Water proofing
C25: Supply, install/construct the following items :
A26: 2.3.1 | C26: One layer of 375 micron "CONSOL Plastics Brikgrip DPC" embossed | D26: m² | E26: 13.8
C27: polyethylene damp proof course (SANS 952-1985-B or similar) in one
C28: brick (230 mm) walls
A29: 2.3.2 | C29: One layer of 250 micron "CONSOL Plastics Gunplas USB Green" | D29: m² | E29: 70
C30: polyethylene waterproof sheeting (SANS 952-1985-C or similar) sealed
C31: at laps with "Gunplas Pressure Sensitive Tape" under surface beds
A32: 2.3.3 | C32: Soil insecticide (termite poisoning) under surface slabs with TERMIDOR | D32: m² | E32: 700
C33: SC (or similar approved by the Architect) at a rate of 5 litres per square
C34: meter and evenly laid over the whole surface area
A36: 2.4 | C36: Paving block finishing around building structure
C38: Supply, install/construct the following items :
C39: Earthworks are documented in items 2.1.1 to 2.1.3
A40: 2.4.1 | B40: MJ8.2.2 | C40: 60 mm type S-A interlocking 30 mPa concrete paving blocks with the 20 | D40: m² | E40: 225
C41: mm thick sand layer included
A42: 2.4.2 | B42: MJ8.2.3 | C42: Allow for cutting of concrete paving blocks | D42: m | E42: 230
A43: 2.4.3 | B43: MK8.2.1a&b | C43: Figure 2 - rectangular kerbs on straight lines along the edges of paving | D43: m | E43: 100
A45: 2.5 | C45: Brickworks & related items
C47: Supply, install/construct the following items :
C48: 220 mm brick works
A49: 2.5.1 | C49: Brickwork of NFP bricks "stock brick" in class II mortar (burnt clay bricks | D49: m² | E49: 35
...

Sheet Schedule 2 - 3
A1: =+works!A1 -> Project no. :MHLM/MIG/03/2024/25
A2: =+works!A2 -> MAQUASSI HILLS
A3: =+works!A3 -> CONSTRUCTION OF RECREATIONAL FACILITIES AT THE WITPOORT DAM-PHASE 1
A5: Item | B5: Payment | C5: Item Description | D5: Unit | E5: Quantities | F5: Rate | G5: Amount
A6: number | B6: reference | G6: Rands.cents
B7: SANS | C7: =+'Schedule 2 - 2'!C7 -> Schedule 2 continued
B8: 1 200 | C8: =+'Schedule 2 - 2'!C8 -> Main entrance building
A10: SCHEDULE CONTINUED FROM PAGE 4
A12: 2.5.4 | C12: Brick-on-edge header course copings, sills etc of approved face bricks, | D12: m | E12: 65
C13: pointed with recessed joints on all exposed faces - 200 mm wide sills set
C14: sloping and slightly projecting
C15: Brickwork straight joint of 10 mm softboard sealed both sides with | D15: m | E15: 10 | G15: rate only
C16: SIKAFLEX 11FC
A18: 2.6 | C18: Doors and windows information
A20: 2.6.1 | C20: Door type D1 - Solid Meranti timber door, size 813 mm x 2032 mm with | D20: no | E20: 1
C21: Lotus standard square 55 mm x 80 mm solid Meranti timber frame 813 x
C22: 2032 mm to be finished with three coats of polyurethane varnish and
C23: sanded down between each application for smooth finish
A25: 2.6.2 | C25: Door type D2 -Hollow core Interior Door Deep Moulded 2 Panel Arch in a classic primed white finish. | D25: no | E25: 2
A27: 2.6.3 | C27: Window type W1 - Aluminium and glass window with extruded aluminium | D27: no | E27: 1
C28: frame, powder coated grey, size 600 mm x 900 mm
A29: 2.6.4 | C29: Window type W2 - Aluminium and glass window with extruded aluminium | D29: no | E29: 3
C30: frame, powder coated grey, size 1200 mm x 900 mm
A32: 2.6.5 | C32: Window type W3 - Aluminium and glass window with extruded aluminium | D32: no | E32: 2
C33: frame, powder coated grey, size 1500 mm x 900 mm
A35: 2.7 | C35: Carpentry and joinery
A37: 2.7.1 | C37: Solid hard wood timber bullnose skirtings 150 mm x 16 mm and 19 mm x | D37: m | E37: 40
C38: 19 mm quadrant trimming fixed to walls with no visible fasteners and
C39: varnished
A40: 2.7.2 | C40: 38 mm x 114 mm wall plates from sawn softwood grade 5 | D40: m | E40: 40
A41: 2.7.3 | C41: 50 mm x 76 mm purlins from sawn softwood grade 5 | D41: m | E41: 120
A42: 2.7.4 | C42: Double pitched trusses complete with roof certificate for complate roof | D42: no | E42: 26
C43: with 600mm overhang -grade 5
A44: 2.7.5 | C44: 12 mm x 230 mm medium density plain fibre-cement fascias, countersunk | D44: m | E44: 30
C45: screwed to support and roof timber with one brass screw at maximum
C46: 750 mm centres including galvanized steel H-profile joiners and standard
C47: aluminium half round cover strips at all joints
A48: 2.7.6 | C48: 10 mm x 250 mm medium density plain fibre-cement barge board | D48: m | E48: 12
C49: countersunk screwed to support and roof timber with one brass screw at
C50: maximum 750 mm centres and jointed with and including standard
...

Sheet Sechudle 2 - 4
A1: =+works!A1 -> Project no. :MHLM/MIG/03/2024/25
A2: =+works!A2 -> MAQUASSI HILLS
A3: =+works!A3 -> CONSTRUCTION OF RECREATIONAL FACILITIES AT THE WITPOORT DAM-PHASE 1
A5: Item | B5: Payment | C5: Item Description | D5: Unit | E5: Quantities | F5: Rate | G5: Amount
A6: number | B6: reference | G6: Rands.cents
B7: SANS | C7: =+'Schedule 2 - 3'!C7 -> Schedule 2 continued
B8: 1 200 | C8: =+'Schedule 2 - 3'!C8 -> Main entrance building
A10: SCHEDULE CONTINUED FROM PAGE 5
A12: 2.9 | C12: Ceiling timbers, beads, insulation, etc
A14: 2.9.1 | C14: Everite gypsum plasterboard 75 mm x 75 mm "Coved" cornices | D14: m | E14: 40
A15: 2.9.2 | C15: 4.6 mm fibre-cement plain ceiling boards with H-profile galvanized steel | D15: m² | E15: 30
C16: jointing strips ceilings including 38 mm x 38 mm sawn softwood brandering
C17: at 450 mm centres, including steel frame
A18: 2.9.3 | C18: Extra over ceiling for 600 mm x 600 mm trap door of 32 mm x 32 mm | D18: no | E18: 1
C19: wrought softwood rebated framing with one cross brander, including
C20: necessary trimmers around
A22: 2.10 | C22: Floor coverings
A24: 2.10.1 | C24: 350 mm x 350 mm "Kilimanjaro" type or similar approved | D24: m² | E24: 25
C25: matt non-slip floor tiles on cement screed on floor
A27: 2.10.2 | C27: 100 mm high skirting made from similar tiles as laid on floors, affixed to | D27: m | E27: 65
C28: walls with adhesive as per manufacturer's recommendations
A29: 2.10.3 | C29: Place wall tiles as splash tiles above hwb | D29: m² | E29: 1
A32: 2.11 | C32: Pressed steel door frame
A34: 2.11.1 | C34: 1.2 mm rebated, galvanized pressed steel door frame suitable for one brick | D34: no | E34: 1
C35: (220 mm) wall frame for door 877 mm x 2064 mm high
A36: 2.11.2 | C36: 1.2 mm rebated, galvanized pressed steel door frame suitable for half brick | D36: no | E36: 2
C37: (110 mm) wall frame for door 877 mm x 2064 mm high
A39: 2.12 | C39: Ironmongery
A41: 2.12.1 | C41: "ESCO NUTEK" four lever lockset, SC finish, or similar approved | D41: no | E41: 3
A43: 2.12.2 | C43: Bathroom Butler robe hook fitted to tiled wall in ablution | D43: no | E43: 1
A44: 2.12.3 | C44: Bathroom Butler paper holder polished stainless steel fixed to wall at hwb | D44: no | E44: 1
A46: 2.12.4 | C46: Bathroom Butler paper holder polished stainless steel fixed to wall at toilet | D46: no | E46: 1
C47: facility
A48: 2.12.5 | C48: Manual 1100 mℓ stainless steel wall mounted liquid gel soap dispenser | D48: no | E48: 1
A49: 2.12.6 | C49: 38 mm diameter red rubber tiled floor mounted door stop | D49: no | E49: 3
A51: 2.12.7 | C51: 600 mm x 800 mm high x 6 mm silvered float glass copper backed mirror | D51: no | E51: 1
C52: with polished edges, holed for and fixed with chromium plated dome 6 mm
C53: capped mirror screws with rubber buffers to plugs in tiled brick works
A59: SCHEDULE 2 SUB TOTAL CARRIED FORWARD TO PAGE 7
A61: =+'Schedule 2 - 3'!A64:G64+1 -> 6

Sheet Schedule 2 - 5
A1: =+works!A1 -> Project no. :MHLM/MIG/03/2024/25
A2: =+works!A2 -> MAQUASSI HILLS
A3: =+works!A3 -> CONSTRUCTION OF RECREATIONAL FACILITIES AT THE WITPOORT DAM-PHASE 1
A5: Item | B5: Payment | C5: Item Description | D5: Unit | E5: Quantities | F5: Rate | G5: Amount
A6: number | B6: reference | G6: Rands.cents
B7: SANS | C7: =+'Schedule 2 - 3'!C7 -> Schedule 2 continued
B8: 1 200 | C8: =+'Schedule 2 - 3'!C8 -> Main entrance building
A10: SCHEDULE CONTINUED FROM PAGE 6
A12: 2.13 | C12: Plastering
A14: 2.13.1 | C14: Cement plaster on brickwork - walls | D14: m² | E14: 120
A15: 2.13.2 | C15: Cement plaster on brickwork - narrow widths | D15: m² | E15: 6.08
A17: 2.14 | C17: Tiling
A19: 2.14.1 | C19: Place glazed ceramic tile on walls with fixed with adhesive as per tile | D19: m² | E19: 56.16
C20: manufacturer and supplier's specification in the ablution facility to a height
C21: of 1.8 m from the floor
A23: 2.15 | C23: Plumbing and drainage
A25: 2.15.1 | C25: 110 mm Ø x 45 degree bend (connected to pipe from Y-junction) | D25: no | E25: 2
A26: 2.15.2 | C26: 110 mm Ø x 90° bend (turn from horizontal to vertical) | D26: no | E26: 2
A27: 2.15.3 | C27: 110 mm Ø pipes vertically or ramped to cleaning eyes etc (no excavation) | D27: m | E27: 4
A28: 2.15.4 | C28: 110 mm Ø x 90° bend (turn from vertical to horizontal) above ground with | D28: no | E28: 5
C29: inspection eye
A30: 2.15.5 | C30: Vaal suite urban compact pan & close couple cistern, mech., and soft close | D30: no | E30: 1
C31: seat white
A32: 2.15.6 | C32: Vaal Sanitaryware ceramic fireclay 895 mm x 455 mm oval self rimming | D32: no | E32: 1
C33: vanity basin, with three semi-punched tap holes for flexible overflow tube,
C34: waste outlet and overflow tube adapter.
A35: 2.15.7 | C35: 50 mm P or S rubber trap | D35: no | E35: 2
A36: 2.15.8 | C36: 32 mm 301 CP basin and shower waste union and floor waster water union | D36: no | E36: 1 | G36: rate only
A37: 2.15.9 | C37: 50 mm VA2.342 RB shower trap with VA3.334-4CP waste and grating | D37: no | E37: 1 | G37: rate only
A38: 2.15.10 | C38: 15 mm capillary type Under-wall CP star pattern stop tap for hand wash | D38: no | E38: 2
C39: basin
A40: 2.15.11 | C40: 15 mm under tile stopcock for shower cubicle | D40: no | E40: 2 | G40: rate only
A41: 2.15.12 | C41: 15 mm 078CP shower head | D41: no | E41: 1 | G41: rate only
A42: 2.15.13 | C42: 15 mm 027CP overhead shower arm | D42: no | E42: 1 | G42: rate only
A43: 2.15.14 | C43: 150l 600kpa kwikot geyser complete with tray and isolator | D43: no | E43: 1
A44: 2.16 | C44: Paintwork
A46: 2.16.1 | C46: Prepare and apply one coat of Dulux plaster primer on all plastered walls | D46: m² | E46: 120
A47: 2.16.2 | C47: Apply two coats of Dulux under coat to all primed walls and drywalls | D47: m² | E47: 120
A48: 2.16.3 | C48: Apply two coats of Dulux easy-care soft sheen paint final finish to all | D48: m² | E48: 120
C49: plastered walls
...

Sheet Schedule 2- 6
A1: =+works!A1 -> Project no. :MHLM/MIG/03/2024/25
A2: =+works!A2 -> MAQUASSI HILLS
A3: =+works!A3 -> CONSTRUCTION OF RECREATIONAL FACILITIES AT THE WITPOORT DAM-PHASE 1
A5: Item | B5: Payment | C5: Item Description | D5: Unit | E5: Quantities | F5: Rate | G5: Amount
A6: number | B6: reference | G6: Rands.cents
B7: SANS | C7: =+'Schedule 2 - 3'!C7 -> Schedule 2 continued
B8: 1 200 | C8: =+'Schedule 2 - 3'!C8 -> Main entrance building
A10: SCHEDULE CONTINUED FROM PAGE 7
A12: 2.17 | C12: Glazing to steel with putty
A14: 2.17.1 | C14: 4 mm clear float glass panes exceeding 0.1 m² and not exceeding 0.5 m² | D14: m² | E14: 12.333
A15: 2.17.2 | C15: 4 mm obscure float glass panes exceeding 0.1 m² and not exceeding | D15: m² | E15: 0.45
C16: 0.5 m²
A18: 2.18 | C18: Electrical installation
A20: 2.18.1 | C20: Allow an amount for electrical installation as per drawings | D20: pc sum | E20: 25000
A21: 2.18.2 | C21: allow for profit and attendance | D21: %
A22: 2.18.3 | C22: allow for electrical connection to kiosk | D22: pc sum | E22: 25000
A23: 2.18.4 | C23: allow for profit and attendance | D23: %
A24: 2.18.5 | C24: allow for electrical connection to eskom network including kiosk | D24: pc sum | E24: 280000
A25: 2.18.6 | C25: allow for profit and attendance | D25: %
A60: ='Shedule 2 - 1'!C7&" total carried to summary page" -> Schedule 2 total carried to summary page
A62: =+'Schedule 2 - 5'!A62:G62+1 -> 8

Sheet 3-brickfence
A1: =+works!A1 -> Project no. :MHLM/MIG/03/2024/25
A2: =+works!A2 -> MAQUASSI HILLS
A3: =+works!A3 -> CONSTRUCTION OF RECREATIONAL FACILITIES AT THE WITPOORT DAM-PHASE 1
A5: Item | B5: Payment | C5: Item Description | D5: Unit | E5: Quantities | F5: Rate | G5: Amount
A6: number | B6: reference | G6: Rands.cents
B7: SANS | C7: Schedule 3
B8: 1 200 | C8: Brick perimeter wall
A12: 3.1 | C12: Brick wall details
A14: 3.1.1 | C14: Site Clearance
A15: 3.1.1.1 | C15: (a) Clear and grub area | D15: ha | E15: 1
A16: 3.1.1.2 | C16: Removal of Trees | D16: No | E16: 15
C18: Supply and install/construct the following items :
C19: Earthworks
A20: 3.1.2 | B20: D8.3.2a | C20: 600 mm wide x ±450 mm deep excavation for brick wall, | D20: m³ | E20: 295
C21: use material for backfill and spoil excess and/or unsuitable material
A22: 3.1.3 | C22: Rock excavations | D22: m³ | E22: 15
A24: 3.1.4 | B24: G8.4.3 | C24: 600 mm wide x 230 mm deep brick wall foundation from 25 mPa concrete | D24: m³ | E24: 165.88
A25: 3.1.5 | B25: G8.4.4 | C25: Uniform wood float finish on concrete surfaces | D25: m² | E25: 654.87
A26: 3.1.6 | B26: G8.3.1 | C26: High tensile steel reinforcement in brick wall foundations | D26: kg | E26: 19.91 | G26: rate only
A27: 3.1.7 | B27: G8.1.2.2 | C27: Mild steel reinforcement in brick wall foundations | D27: kg | E27: 9.95 | G27: rate only
C28: Brick works
A29: 3.1.8 | C29: Build 2210 mm high x 220 mm wide one brick wall | D29: m² | E29: 2653.31
C30: in 10730 mm segments with 10mm straight joints and 220x220 columns @ 3500mm c/c
C31: (brick works are inclusive of brick forcing)
A33: 3.1.9 | C33: Brick on edge laid on top of brick wall | D33: m | E33: 1091.45
A35: 3.1.10 | C35: Additional 220 mm wide brick columns at every 3500 mm | D35: no | E35: 760
C39: Joint in brick works
A40: 3.1.11 | C40: 10 mm wide Vertical joint in brick wall at every 10.73m long segment with | D40: m | E40: 1748
C41: 10 mm jointex fill
A42: 3.1.12 | C42: 10 mm x 10 mm vertical polysulphide joint sealant on both sides | D42: no | E42: 3496
A44: 3.1.13 | B44: G8.3.1 | C44: 600 mm long dowells in joint in brick walls spaced at | D44: no | E44: 1188.64
C45: 340 mm (vertically) laid in pairs
C46: one side of 300 mm to be encase in bond breaking liquid
A48: 3.1.14 | C48: 40X40X4MM Angle iron Y-bracket (total length=900mm) fixed to brickwall @ | D48: no | E48: 644.33
C49: 1.5m c/c with 8mm rawlbolts
A50: 3.1.15 | C50: Concertina razor (450mm diam) wire fixed to y-brackets with 6mm barbed wire | D50: m | E50: 1933
A51: 3.1.16 | C51: 6mm Barbed wire fixed to y-brackets | D51: m | E51: 5799
A66: =C7&" total carried to summary page" -> Schedule 3 total carried to summary page
A68: =+'Schedule 2 - 5'!A63:G63+9 -> 9

Sheet 4-clearvu
A1: =+works!A1 -> Project no. :MHLM/MIG/03/2024/25
A2: =+works!A2 -> MAQUASSI HILLS
A3: =+works!A3 -> CONSTRUCTION OF RECREATIONAL FACILITIES AT THE WITPOORT DAM-PHASE 1
A5: Item | B5: Payment | C5: Item Description | D5: Unit | E5: Quantities | F5: Rate | G5: Amount
A6: number | B6: reference | G6: Rands.cents
B7: SANS | C7: Schedule 4
B8: 1 200 | C8: Clearvu fencing
A12: 4.1 | C12: Clearvu fencing
A14: 4.1.1 | C14: Site Clearance
A15: 4.1.1.1 | C15: (a) Clear and grub area | D15: ha | E15: 1
A16: 4.1.1.2 | C16: Removal of Trees | D16: No | E16: 12
C18: Supply and install/construct the following items :
A19: 4.1.2 | B19: H8.3.1,3,5 | C19: 3297 mm wide x 2400 mm high "CLEARVU" security fence by Cochrane | D19: m | E19: =(45.5+71.1+149+81.6+74.4+41.6+25.5+72.6+76.2+120.2)*1.1 -> 833.47
C20: international (or similar approved by the Engineer) with 3 mm wire
C21: thickness as specified by the manufacturer
A22: 4.1.3 | B22: H8.3.1,3,5 | C22: 100 mm "SHARK TOOTH" type spyke rail along fence top | D22: m | E22: =E19 -> 833.47
A23: 4.1.4 | B23: H8.3.1,3,5 | C23: 3.0 m high x 85 mm Ø hot dipped galvanized taper locking post | D23: no | E23: =E22/3 -> 277.82333
A24: 4.1.5 | B24: D8.3.2a | C24: Excavate 400 mm x 400 mm x 600 mm for fence posts - spoil material at | D24: m³ | E24: =0.4*0.4*0.6*E23*1.1 -> 29.338144
C25: agreed upon disposal site
A26: 4.1.6 | B26: G8.4.3 | C26: 400 mm x 400 mm x 600 mm deep foundations from 20 mPa concrete | D26: m³ | E26: =E24 -> 29.338144
C27: for fence post foundation
A28: 4.1.7 | B28: D8.3.2a | C28: Excavate 200 mm wide x 200 mm deep for strip footing along fence base - | D28: m³ | E28: =E19*0.2*0.2 -> 33.3388
C29: spoil material at agreed disposal site
A30: 4.1.8 | B30: G8.4.3 | C30: 200 mm x 400 mm deep strip footing along the fence line from 20 mPa | D30: m³ | E30: =E22*0.2*0.4 -> 66.6776
C31: concrete to encase the bottom part of the fence (200 mm deep into the
C32: ground and 200 mm exposed)
A33: 4.1.9 | B33: G8.2.2 | C33: Smooth vertical formwork to exposed concrete surfaces | D33: m² | E33: =E22*0.2*2 -> 333.388
A34: 4.1.10 | B34: G8.4.4 | C34: Uniform wood float finish on concrete surfaces | D34: m² | E34: =E19*0.2 -> 166.694
A35: 4.1.11 | B35: G8.1.1.2 | C35: Construct 25 mm x 25 mm chamfers on exposed concrete edges | D35: m | E35: =E19*2 -> 1666.94
C36: Note : All rates shall include hot dipped galvanization/PVC coating
C37: of units as per manufacturer's recommendation and as accepted by
C38: the Engineer
A40: 4.2 | C40: 2 x 6.5 m wide electronic controlled sliding gate at Main Entrance
C42: Supply, install/construct the following items :
C43: Sliding gate
A44: 4.2.1 | C44: Clearvu type sliding gate - 2.1 m high, 6.5 m wide | D44: no | E44: 3
C45: including rail with "fish-tails" to be cast into the concrete slab, heavy duty gate
C46: rollers, top & bottom roller guides, gate stop guides, locking device, etc.
A47: 4.2.2 | B47: H8.3.1,3,5 | C47: 150 mm x 150 mm x 4.5 mm x 2.5 m high square hollow section posts | D47: no | E47: 12
A48: 4.2.3 | B48: D8.3.2a | C48: Excavate 13000 mm x 400 mm x 300 mm for ground beam | D48: m³ | E48: =ROUNDUP((13*0.4*0.3),0)*3 -> 6
...

Sheet sum
A1: =+works!A1 -> Project no. :MHLM/MIG/03/2024/25
A2: =+works!A2 -> MAQUASSI HILLS
A3: =+works!A3 -> CONSTRUCTION OF RECREATIONAL FACILITIES AT THE WITPOORT DAM-PHASE 1
A5: Summary of the Schedule of Quantities
A7: Schedule number | B7: Schedule description | C7: Schedule value
A8: ='Schedue 1'!C7 -> Schedule 1 | B8: =+'Schedue 1'!C8 -> Preliminary & General and Health & Safety schedules
A10: ='Shedule 2 - 1'!C7 -> Schedule 2 | B10: ='Shedule 2 - 1'!C8 -> Main entrance building
A12: ='3-brickfence'!C7 -> Schedule 3 | B12: ='3-brickfence'!C8 -> Brick perimeter wall
A14: ='4-clearvu'!C7 -> Schedule 4 | B14: ='4-clearvu'!C8 -> Clearvu fencing
A21: Sub - total : construction value :
A23: Add 10% of construction value for contingencies : | B23: Add estimated (10% of construction value) contingencies
A25: Sub - total : construction and contingency value : | B25: Total construction and contingency value
A27: Add 15% Value Added Tax : | B27: Add 14% Value Added Tax
A29: Total tender amount carried to form of offer (Incl VAT) : | B29: Total value carried to Tender Document's front page
A47: SUMMARY
