Workbook

Sheet Cover Page
A2: Bill of Quantities: Estimated Schools Costing- Primary Plant and Civil
B5: Site Activities
A6: A | B6: Fixed Charged Items | E6: =F29 -> 0
A7: B | B7: Time Related items (Will be paid as % of work done to date) | E7: =F49 -> 0
A8: C1 | B8: Civil Works | E8: ='[1]Civil Works 1'!H29 -> 0
A9: C2 | B9: Steelwork Erection | E9: ='[1]Steel Erection 1'!H33 -> 0
A10: C3 | B10: Clamps and Earthing | E10: ='[1]Cond-clamps-earthing 1'!H28 -> 0
A11: C4 | B11: Electrical | E11: =[1]Electrical!J99 -> 0
D13: Sub Total | E13: =SUM(E6:F11) -> 0
D14: 15% Vat | E14: =E13*0.15 -> 0
D15: Total | E15: =SUM(E13:F14) -> 0
A17: CODE | B17: STANDARD ACTIVITY | C17: UNIT | D17: QTY | E17: RATE | F17: TENDER PRICE
A20: A | B20: FIXED CHARGE ITEMS
A21: A.1 | B21: Contractual requirements i.e., insurance’s, statutory contributions, etc. | C21: sum | D21: 1 | F21: =D21*E21 -> 0
A22: A.2 | B22: Site Establishment - including, offices, telephone and fax, lighting, fencing, toilet facilities, water, etc. | C22: sum | D22: 1
A23: A.2.1 | B23: Office complete as per works information | C23: sum | D23: 1 | F23: =D23*E23 -> 0
A24: A.2.2 | B24: Staff Accommodation | C24: sum | D24: 1 | F24: =D24*E24 -> 0
A25: A.2.3 | B25: Stores | C25: sum | D25: 1 | F25: =D25*E25 -> 0
A26: A.2.4 | B26: Water, Sanitation and Electricity | C26: sum | D26: 1 | F26: =D26*E26 -> 0
A27: A.2.5 | B27: Communication | C27: sum | D27: 1 | F27: =D27*E27 -> 0
A28: A.3 | B28: Removal of site establishment on completion of the contract | C28: sum | D28: 1 | F28: =D28*E28 -> 0
A29: Sub Total 'A' | F29: =SUM(F21:F28) -> 0
A30: B | B30: TIME RELATED ITEMS
A31: B.1 | B31: Outages
B32: Contractors must allow for outages being done on weekends. | C32: each | D32: 0 | F32: =D32*E32 -> 0
A33: B.1.1 | B33: Provide a detailed breakdown of outage scope complete with time allocation to be handed to the Project Co-ordinator at the outage planning meeting prior to the outage - [minimum of 48 hours] | C33: each | D33: 0 | F33: =D33*E33 -> 0
A34: B.2 | B34: Programme and Planning
A35: B.2.1 | B35: Contractors must allow for the preparation of a detailed programme reflecting the outage dates. | C35: each | D35: 3 | F35: =D35*E35 -> 0
A36: B.3 | B36: Site Establishment
A37: B.3.1 | B37: Office complete as per works information | C37: weeks | D37: 3 | F37: =D37*E37 -> 0
A38: B.3.2 | B38: Staff Accommodation | C38: weeks | D38: 3 | F38: =D38*E38 -> 0
A39: B.3.3 | B39: Stores | C39: weeks | D39: 3 | F39: =D39*E39 -> 0
A40: B.3.4 | B40: Water, Sanitation and Electricity | C40: weeks | D40: 3 | F40: =D40*E40 -> 0
A41: B.3.5 | B41: Communication | C41: weeks | D41: 3 | F41: =D41*E41 -> 0
A42: B.4 | B42: Supervision | C42: weeks | D42: 3 | F42: =D42*E42 -> 0
A43: B.5 | B43: Site Security as per works information | C43: weeks | D43: 3 | F43: =D43*E43 -> 0
A44: B.6 | B44: Plant and Equipment | C44: weeks | D44: 3 | F44: =D44*E44 -> 0
A45: B.7 | B45: Cost for Health and Safety measures | C45: weeks | D45: 3 | F45: =D45*E45 -> 0
A46: B.8 | B46: Transport to site and back for Staff (Local) | C46: weeks | D46: 3 | F46: =D46*E46 -> 0
A47: B.9 | B47: Other time related charges (specify hereunder): | C47: weeks | D47: 3 | F47: =D47*E47 -> 0
...

Sheet Civil Works 1
A1: DALUHLANGA SENIOR SS CIVIL & PRIMARY PLANT BOQ
A3: Item No. | B3: Ref. DRG. No. Proj. Spec. | C3: Description of the item | D3: Unit | E3: Quantity | F3: Material Rate | G3: Labour Rate | H3: Total Price
H4: Rands
A6: C1 | C6: Civil Works
A7: 1.1 | C7: Extra over all excavations:
A8: 1.1.1 | C8: Intermediate material (Provisional amount). | D8: m³ | E8: 3
A9: 1.2 | C9: Extra over all excavations:
A10: 1.2.1 | C10: Hard rock material (Provisional amount). | D10: m³ | E10: 1
A11: 1.3 | B11: SANS 1200 C | C11: Site Clearance:
A12: 1.3.1 | B12: 8.2.1 | C12: Clear and strip site. | D12: m² | E12: 9
A13: 1.4 | B13: SANS 1200 D | C13: Excavation:
A14: 1.4.1 | B14: 8.3.1.2 | C14: Remove topsoil to nominal depth 150mm including loose rock, stockpile and maintain. | D14: m³ | E14: 9
A15: 1.5 | C15: ESS Slab/Foundation:
A16: 1.5.1 | C16: Supply and Install (1600*1500*300) | D16: m³ | E16: 1
A17: 1.6 | B17: D-DT- 4407 Rev 0 | C17: Yard stone ((26-38mm)
A18: 1.6.1 | B18: Sht 1A | C18: Supply and Install | D18: m³ | E18: 1
A19: 1.8 | B19: Project Specification | C19: Excess material:
A20: 1.8.1 | C20: Remove excess material from platform and dispose of at demacrated site at a rate of (cube/km). | D20: m³/km | E20: --- | F20: Rate only
A21: 1.9 | C21: Excess material:
A22: 1.9.1 | C22: Remove excess material from platform and dispose of within site boundary, make good and level. | D22: item | E22: item | F22: n/a
A23: 1.1 | C23: Weed killer:
A24: 1.10.1 | C24: Supply and spray (Project specification). | D24: m² | E24: 9
A25: 1.11
A26: 1.11.1
C28: Total C1

Sheet TRADE SECTION
A1: SMART TECHNOLOGY BOQ including Rates
A2: DISTRIBUTION
A7: SECTION | B7: DESCRIPTION | C7: SUPPLY TOTAL | D7: LABOUR TOTAL | E7: GRAND TOTAL
A8: A | B8: PRELIMINARY AND GENERAL ITEMS | D8: ='P&G''S'!G21 -> 0 | E8: =C8+D8 -> 0
A9: B | B9: PRE-CONSTRUCTION | D9: =Electrical!J15 -> 0 | E9: =C9+D9 -> 0
A10: C | B10: CONSTRUCTION | C10: =Electrical!G145 -> 175460.11 | D10: =Electrical!J145 -> 175460.11 | E10: =C10+D10 -> 350920.22
A11: D | B11: MISCELLANEOUS | C11: =Electrical!G148 -> 0 | D11: =Electrical!J148 -> 0 | E11: =C11+D11 -> 0
A12: E | B12: POST-CONSTRUCTION | E12: =C12+D12 -> 0
A13: F | B13: TRANSPORT | D13: =TRANSPORT!F18 -> 0 | E13: =C13+D13 -> 0
A14: TOTAL EXCLUDING 15% VAT | C14: =SUM(C8:C13) -> 175460.11 | D14: =SUM(D8:D13) -> 175460.11 | E14: =SUM(E8:E13) -> 350920.22
A15: 15% VAT | C15: =C14*15% -> 26319.017 | D15: =D14*15% -> 26319.017 | E15: =E14*15% -> 52638.033
A16: TOTAL ENCLUDING 15% VAT | C16: =SUM(C14:C15) -> 201779.13 | D16: =SUM(D14:D15) -> 201779.13 | E16: =SUM(E14:E15) -> 403558.25

Sheet P&G'S
A1: SMART TECHNOLOGY BOQ including Rates
A2: DISTRIBUTION
A6: A | B6: PRELIMINARY AND GENERAL ITEMS
A7: ITEM | C7: DESCRIPTION | D7: UNIT | E7: QUANTITY | F7: RATE | G7: TOTAL
A8: Every Invoice to be signed and verified by Quantity Surveyor for payment.
A9: 1 | C9: SITE ESTABLISHMENT
A10: 1.1 | C10: Overheads for project (This includes Site Establishment Overhead Costs, Office Overheads, Administration Costs etc.) Total Labour Value | D10: Sum
A11: 1.2 | C11: Health and Safety Management, OHSA appointments, PPE etc. Total Labour Value | D11: Sum
A12: 1.3 | C12: Quality & Contract Management. Total Labour Value | D12: Sum
A13: 1.4 | C13: Environmental Management & Site maintenance. Total Labour Value | D13: Sum
A14: 1.5 | C14: De-establishment & Rehabilitation of Site | D14: Sum
A15: 1.6 | C15: Security | D15: Cost plus fee %
A16: 1.7 | C16: Facilities for security (Guard house, toilet etc.) | D16: Monthly
A17: 1.8 | C17: CLO (If required) (Max Value) | D17: Monthly
A18: 1.9 | C18: Registered SACPCMP Construction Manager (Proof of registration required) | D18: Weekly
A19: 1.1 | C19: Safety Officer | D19: Daily
A20: 1.11 | C20: Responsible person | D20: Daily
A21: SUB-TOTAL A | G21: =SUM(G8:G20) -> 0

Sheet Steel Erection 1
A1: DALUHLANGA SENIOR SS CIVIL & PRIMARY PLANT BOQ
A3: Item No. | B3: Ref. DRG. No. Proj. Spec. | C3: Description of the item | D3: Unit | E3: Quantity | F3: Material Rate | G3: Labour Rate | H3: Total Price
H4: Rands
A6: C2 | C6: Erection of Steelwork
A7: 2.3 | B7: D-DT-5237 Rev 2 | C7: Palisade fence swing gate (5m) : (1 x 5m = 2 x 2.4m)
A8: 2.3.1 | B8: Sht 7E | C8: Supply Prepare and Install Palisade gate. | D8: no | E8: 1
A9: 2.4 | C9: High Security Single sheet Mesh fence panels (3m): Cage for ESS
A10: 2.4.1 | C10: Supply, prepare area and install. | D10: m | E10: =36/4 -> 9
A11: 2.5 | C11: High Security Single sheet Mesh fence gate: Modified panels (0.5-2m)
A12: 2.5.1 | C12: Supply, prepare area and install. | D12: m | E12: =8/4 -> 2
A13: 2.6 | C13: High Security Single sheet Mesh fence gate: 1.5m access gate
A14: 2.6.1 | C14: Supply, prepare area and install. | D14: m | E14: 1
A15: 2.7 | C15: Fence, Gate and ESS Cage Signs/Labels
A16: 2.7.1 | C16: Supply and install label on each ESS cage, Fence and Gates | D16: no | E16: =16/4 -> 4
A17: 2.8 | C17: ESS Sheeted Cover
A18: 2.8.1 | C18: Supply and Install IBR sheeting on Cage to cover the ESS | D18: no | E18: 1
A19: 2.11 | C19: Fire Safety
A20: 2.11.1 | C20: Fire Extinguisher- 9kg DCP | D20: no | E20: 1
C32: Total C2 | H32: =SUM(H7:H30) -> 0

Sheet Cond-clamps-earthing 1
A1: DALUHLANGA SENIOR SS CIVIL & PRIMARY PLANT BOQ
A3: Item No. | B3: Ref. DRG. No. Proj. Spec. | C3: Description of the item | D3: Unit | E3: Quantity | F3: Material Rate | G3: Labour Rate | H3: Total Price
H4: Rands
A6: C3 | C6: Conductor, Clamps and Earthing
A7: 3.1 | C7: Earth rod, copper-clad M16, 1.5 m, 250 µm (ACDC ER1516) | D7: ea | E7: 1
A8: 3.2 | C8: Earth rod coupler M16 (ACDC ERA03) | D8: ea | E8: 1
A9: 3.3 | C9: Driving tip for earth rod (ACDC ERA02) | D9: ea | E9: 1
A10: 3.4 | C10: Driving cap for earth rod (ACDC ERA01) | D10: ea | E10: 1
A11: 3.5 | C11: Earth inspection pit, polymer (WJ Furse PT205) | D11: ea | E11: 1
A12: 3.6 | C12: Conductive earthing compound/backfill 25 kg (ACDC E175) | D12: bag | E12: 1
A13: 3.7 | C13: Bare copper earth conductor 25 mm² (per metre) | D13: m | E13: 2
A14: 3.8 | C14: G/Y insulated earth wire 16 mm² (100 m coil) | D14: coil (100m) | E14: 1
A15: 3.9 | C15: Main earth bar 2×12‑way (ElectroMechanica MRS3005) | D15: ea | E15: 1
A16: 3.1 | C16: DIN earth bar 12‑way, 6×9 mm (Key Electric / ACDC class) | D16: ea | E16: 1
A17: 3.11 | C17: Rod‑to‑cable clamps for 16 mm rod / 25‑70 mm² cable (pack of 10) | D17: pack (10) | E17: 1
A18: 3.12 | C18: Miscellaneous | D18: value
C27: Total C3

Sheet Electrical
A1: SMART TECHNOLOGY BOQ including Rates
A2: DISTRIBUTION
A7: System Parameter
A8: Minimum PV (Wp) | C8: 51.2KWp
A9: Minimum BESS (kWh) | C9: 71.68kWh
A10: BILL OF ACTIVITIES
A11: ITEM | B11: DESCRIPTION | D11: UNIT | E11: SUPPLY QTY | F11: SUPPLY RATE | G11: SUPPLY TOTAL | H11: LABOUR QTY | I11: LABOUR RATE | J11: LABOUR TOTAL | K11: GRAND TOTAL
A12: B | B12: PRE-CONSTRUCTION
A13: 1 | B13: Site Assessment | C13: Initial site visit:Contractor to evaluate existing infrastructure and do all safety assessment. Contractor to do circuit analysis of existing electrical circuits per existing DBs. | D13: Sum | E13: 1 | H13: =E13 -> 1 | J13: =H13*I13 -> 0 | K13: =G13+J13 -> 0
A14: 2 | B14: System Detailed Engineering & Design | C14: Electrical single-line diagrams, string design, mounting layout, earthing, switchgear design, protection. Comply with NRS / SANS standards. | D14: Sum | E14: 1 | H14: 1 | J14: =H14*I14 -> 0 | K14: =G14+J14 -> 0
C15: SUB-TOTAL B | J15: =SUM(J13:J14) -> 0 | K15: =SUM(K13:K14) -> 0
A16: C | B16: CONSTRUCTION
A17: 1 | B17: Modules | C17: Mono-PERC / TOPCon, 640 Wp, Tier-1 manufacturer, IEC 61215 & IEC 61730 certified, PAN file available
A18: 1.1 | B18: PV Solar Modules | C18: Mono-PERC / TOPCon, 640Wp, Tier-1 manufacturer, IEC 61215 & IEC 61730 certified, PAN file available. (Including MC4 compatible male/female connectors, warning & identification labels, earthing lugs, etc) | D18: Each | E18: 80 | G18: =E18*F18 -> 0 | H18: =E18 -> 80 | J18: =H18*I18 -> 0 | K18: =G18+J18 -> 0
A19: 1.5 | B19: Module-Level Power Electronics / Optimisers (NEW) | C19: Shade-tolerant sites: consider DC optimisers or microinverters. Priced as option / provisional sum. | D19: Each | E19: 80 | G19: =E19*F19 -> 0 | H19: =E19 -> 80 | J19: =H19*I19 -> 0 | K19: =G19+J19 -> 0
A20: 2 | B20: MOUNTING SYSTEM | C20: Roof-mounted racking, rails, brackets, supports; structural components for
A21: 2.1 | B21: PV Roof Mounting Equipment | C21: Inclusive of roof mount rails, hook/brackets, clamps, splices, T-bolt&nuts, cable clips, lugs, EPDM flashing kit, etc. Equipement for 80 Modules mounted on IBR square profile building roofs
A22: 2.1.1 | B22: Roof mounting rails | C22: PV roof alunimum mounting rails | D22: m | E22: 192 | G22: =E22*F22 -> 0 | H22: =E22 -> 192 | J22: =H22*I22 -> 0 | K22: =J22+G22 -> 0
A23: 2.1.2 | B23: Mid Clamps | C23: To secure modules in the middle | D23: Each | E23: 150 | G23: =E23*F23 -> 0 | H23: =E23 -> 150 | J23: =H23*I23 -> 0 | K23: =J23+G23 -> 0
A24: 2.1.3 | B24: Roof Hooks/Brackets | C24: Connect rails to roof structure | D24: Each | E24: 88 | G24: =E24*F24 -> 0 | H24: =E24 -> 88 | J24: =H24*I24 -> 0 | K24: =J24+G24 -> 0
A25: 2.1.4 | B25: End Clamps | C25: Secure outer modules. Two at each end of the row (upper and lower rails). | D25: Each | E25: 36 | G25: =E25*F25 -> 0 | H25: =E25 -> 36 | J25: =H25*I25 -> 0 | K25: =J25+G25 -> 0
A26: 2.1.5 | B26: End Caps for rails | C26: Two end caps per rail | D26: Each | E26: 36 | G26: =E26*F26 -> 0 | H26: =E26 -> 36 | J26: =H26*I26 -> 0 | K26: =J26+G26 -> 0
A27: 2.1.6 | B27: Rail Splices | C27: Rail joining connectors | D27: Each | E27: 18 | G27: =E27*F27 -> 0 | H27: =E27 -> 18 | J27: =H27*I27 -> 0 | K27: =J27+G27 -> 0
A28: 2.1.7 | B28: Rail to brackets T-bolt/nuts | C28: One set (bolt and nut) per bracket | D28: Each | E28: 88 | G28: =E28*F28 -> 0 | H28: =E28 -> 88 | J28: =H28*I28 -> 0 | K28: =J28+G28 -> 0
A29: 2.1.8 | B29: Rail earthing lugs | C29: Connect rails to PE | D29: Each | E29: 18 | G29: =E29*F29 -> 0 | H29: =E29 -> 18 | J29: =H29*I29 -> 0 | K29: =J29+G29 -> 0
A30: 2.1.9 | B30: Earthing bonding clips | C30: Bond adjacent modules together | D30: Each | E30: 88 | G30: =E30*F30 -> 0 | H30: =E30 -> 88 | J30: =H30*I30 -> 0 | K30: =J30+G30 -> 0
A31: 2.1.10 | B31: Cable clips | C31: To secure module cables underneath modules | D31: Packet | E31: 180 | G31: =E31*F31 -> 0 | H31: =E31 -> 180 | J31: =H31*I31 -> 0 | K31: =J31+G31 -> 0
A32: 2.1.11 | B32: EPDM kit | C32: EPDM flashing, sealing washer/gasket, metal flashing plate/base, metal flashing plate/base, stainless-steel fixing screw bolts-nuts-washer, collar/seal etc. | D32: Set | E32: 2 | G32: =E32*F32 -> 0 | H32: =E32 -> 2 | J32: =H32*I32 -> 0 | K32: =J32+G32 -> 0
A33: 3 | B33: AC ELECTRICAL & DISTRIBUTION
A34: 5.1 | B34: AC Cable 4-core + Earth Aluminuim, 25 mm² | C34: XLPE, 600/1000 V AC rated, AC connection between PV inverter(s) and AC distribution board | D34: m | E34: 170 | G34: =E34*F34 -> 0 | J34: =H34*I34 -> 0 | K34: =G34+J34 -> 0
A35: 3.1 | B35: Main DB Upgrade / New DB | C35: Three row, 30-WAY Distribution Board with DIN rails, IP31 minimum; earth bar, neutral bar. | D35: Each | E35: 1 | G35: =E35*F35 -> 0 | H35: =E35 -> 1 | J35: =H35*I35 -> 0 | K35: =G35+J35 -> 0
A36: 3.2 | B36: Switch Disconnector | C36: 100A 4P, 3-Phase AC Manual Switch Disconnector with a locakable OFF position, Lock-Out Tag-Out (LOTO) capable. (Acting as Dead Grid Safety Lock equivalent) kiosk. (SANS/IEC 60947-3) | D36: Each | E36: 1 | G36: =E36*F36 -> 0 | H36: =E36 -> 1 | J36: =H36*I36 -> 0 | K36: =G36+J36 -> 0
A37: 5.4 | B37: MCCB 630A | C37: 630 A, 4-Pole, 50 kA (minimum) Moulded Case Circuit Breaker (MCCB), 415 V AC, Thermal-Magnetic Adjustable Trip Unit, suitable for Main Distribution Board incomer/application, complete with rotary operating handle, terminal shrouds, phase barriers, mounting accessories, and lockable OFF position. | D37: Each | E37: 1 | G37: =E37*F37 -> 0 | H37: =E37 -> 1 | J37: =H37*I37 -> 0 | K37: =G37+J37 -> 0
A38: 3.3 | B38: Moulded Case Circuit Breake (MCCB) 80A | C38: Moulded Case Circuit Breaker (MCCB): 80A, 4-Pole, 25kA, 400VAC, Thermal-Magnetic Adjustable Trip Unit, terminal shrouds, phase barriers, mounting accessories, and lockable OFF position. | D38: Each | E38: 2 | G38: =E38*F38 -> 0 | H38: =E38 -> 2 | J38: =H38*I38 -> 0 | K38: =G38+J38 -> 0
A39: 3.4 | B39: 100A MCB | C39: MCB, 100 A, 4-Pole, 20 kA, 400/415 V AC, Type C, suitable for 50 kW Deye inverter AC output protection | D39: Each | E39: 1 | G39: =E39*F39 -> 0 | H39: =E39 -> 1 | J39: =H39*I39 -> 0 | K39: =G39+J39 -> 0
A40: 3.5 | B40: Residual Current Device (RCD) 100A | C40: S-Type (Selective/Time Delayed), 100mA rated residual operating current that conforms with SANS 10142-1 | D40: Each | E40: 1 | G40: =E40*F40 -> 0 | H40: =E40 -> 1 | J40: =H40*I40 -> 0 | K40: =G40+J40 -> 0
A41: 5.6 | B41: MCCB 160A (Combiner Incomer) | C41: MCCB, 160 A, 4-Pole, 36 kA, 415 V AC, thermal-magnetic adjustable trip, suitable for PV AC combiner outgoing feeder | D41: Each | E41: 1 | G41: =E41*F41 -> 0 | H41: =E41 -> 1 | J41: =H41*I41 -> 0 | K41: =G41+J41 -> 0
A42: 3.6 | B42: MCB 63A | C42: 63A Single Pole C-Curve MCB, 230/400VAC, 6kA breaking capacity | D42: Each | E42: 10 | G42: =E42*F42 -> 0 | H42: =E42 -> 10 | J42: =H42*I42 -> 0 | K42: =G42+J42 -> 0
A43: 5.8 | B43: MCB 20A | C43: 20A Single Pole C-Curve MCB, 230/400VAC, 6kA breaking capacity | D43: Each | E43: 10 | G43: =E43*F43 -> 0 | H43: =E43 -> 10 | J43: =H43*I43 -> 0 | K43: =G43+J43 -> 0
A44: 5.9 | B44: MCB 25A | C44: 25A Single Pole C-Curve MCB, 230/400VAC, 6kA breaking capacity | D44: Each | E44: 5 | G44: =E44*F44 -> 0 | H44: =E44 -> 5 | J44: =H44*I44 -> 0 | K44: =G44+J44 -> 0
...

Sheet TRANSPORT
A1: SMART TECHNOLOGY BOQ including Rates
A2: DISTRIBUTION
A6: F | B6: TRANSPORT
A7: ITEM | B7: DESCRIPTION | C7: UNIT | D7: QUANTITY | E7: RATE | F7: TOTAL
A8: 1.1 | B8: LDV | C8: km
A9: 1.2 | B9: Personnel Transport for Staff | C9: km
A10: 1.3 | B10: 10 m³ Tipper Truck | C10: km
A11: 1.4 | B11: 6 m³ Tipper Truck | C11: km
A12: 1.5 | B12: Transport Truck 2-4 ton | C12: km
A13: 1.6 | B13: Transport Truck 5-8 ton | C13: km
A14: 1.7 | B14: Transport Truck 5-8 ton with crane | C14: km
A15: 1.8 | B15: Transport Truck 9-14 ton | C15: km
A16: 1.9 | B16: Transport Truck 9-14 ton with crane | C16: km
A17: 1.1 | B17: Lowbed | C17: km
A18: SUB-TOTAL F | F18: =SUM(F8:F17) -> 0

Sheet APP B1
A1: ENOCH SONTONGA SENIOR SS CIVIL & PRIMARY PLANT BOQ
A3: List all drawings applicable to the works or the asset and temporary works, indicating whether they are approved for use (ABU) or not.
A6: Drawing No. | B6: Rev | C6: Title | D6: AFU Attached
C8: Foundations
A9: D-EC-2250 | C9: ESS SLAB | D9: Yes
C14: Fencing Manufacturing and Assembly
A15: D-DT-5237-7A | B15: 2 | C15: Security Fence: 2,4m Steel palisade panels assembly & sections | D15: Yes
A16: D-DT-5237-7B | B16: 2 | C16: Security Fence: 2,4m Steel palisade panels manufacturing details | D16: Yes
A17: D-DT-5237-7E | B17: 2 | C17: Security Fence: 2,4m Steel palisade manual gates 1m, 1.5m, 2m & 2.5m assembly & sections | D17: Yes
A18: D-DT-5237-7F | B18: 2 | C18: Security Fence: 2,4m Steel palisade manual gates 1m, 1.5m, 2m, 2.5m manufacturing details | D18: Yes
C21: Specifications
