Workbook

Sheet Rates
A2: ITEM TYPE | B2: UNIT TYPE | C2: Year 1 | D2: Year 2 | E2: Year 3
A3: Labour Rate | B3: shift
A4: General labour - normal overtime | B4: hour | C4: =C3/9*1.1 -> 0 | D4: =D3/9*1.1 -> 0 | E4: =E3/9*1.1 -> 0
A5: General labour- Saturday overtime (x1.5) | B5: hour | C5: =C3/9*1.8 -> 0 | D5: =D3/9*1.8 -> 0 | E5: =E3/9*1.8 -> 0
A6: General labour - overtime Sunday/Public holiday (x2) | B6: hour | C6: =C3/9*2.5 -> 0 | D6: =D3/9*2.5 -> 0 | E6: =E3/9*2.5 -> 0
A7: General labour - standby (wknd) | B7: day
A8: Driver operator- Shift | B8: day
A9: Driver - normal overtime | B9: hour | C9: =C8/9*1.1 -> 0 | D9: =D8/9*1.1 -> 0 | E9: =E8/9*1.1 -> 0
A10: Driver - overtime Sunday/Public holiday | B10: hour | C10: =C9*2 -> 0 | D10: =D9*2 -> 0 | E10: =E9*2 -> 0
A11: Driver - standby (wknd) | B11: day
A12: Fire fighting - working hours | B12: hour
A13: Fire fighting: Labour carrier | B13: km
A14: Fire fighting: LDV | B14: km
A15: Fire fighting - Bulk Tanker/fire truck | B15: km
A16: Chainsaw wet rate | B16: day
A17: Brushcutter wet rate | B17: day
A18: Lawnmower rate | B18: day
A19: weekly refuse removal from the offices, residence to the dumping site | B19: weekly
A21: MECHANISED ACTIVITIES
A22: Planting | B22: R/Ha
A23: Watering | B23: R/Ha
A24: Weeding before plant | B24: R/Ha
A25: Fire breaks
A26: Land preparation | B26: R/Ha
A27: Weeding after plant | B27: R/Ha

Sheet Qoutation
A1: SILVICULTURE PRICING SCHEDULE
A3: Bidders Name
A5: Plantation Name | B5: Jessievale | E5: Rate Yr1 | F5: Rate Yr2 | G5: Rate Yr3 | H5: Total Yr1 | I5: Total Yr2 | J5: Total Yr3
B6: Year 1 | C6: year 2 | D6: Year 3
A7: Activities | B7: Man-days
A8: Establishment | B8: 5796 | C8: 5911 | D8: 5680 | H8: =B8*$E$6 -> 0 | I8: =C8*$F$6 -> 0 | J8: =D8*$G$6 -> 0
A9: Protection | B9: 9278 | C9: 9282 | D9: 9282 | H9: =B9*$E$6 -> 0 | I9: =C9*$F$6 -> 0 | J9: =D9*$G$6 -> 0
A10: Weeding | B10: 9000 | C10: 9000 | D10: 9000 | H10: =B10*$E$6 -> 0 | I10: =C10*$F$6 -> 0 | J10: =D10*$G$6 -> 0
A11: Tending | B11: 11000 | C11: 11000 | D11: 11000 | H11: =B11*$E$6 -> 0 | I11: =C11*$F$6 -> 0 | J11: =D11*$G$6 -> 0
A12: Conservation | B12: 2500 | C12: 2500 | D12: 2500 | H12: =B12*$E$6 -> 0 | I12: =C12*$F$6 -> 0 | J12: =D12*$G$6 -> 0
A13: Pruning | B13: 5355 | C13: 5500 | D13: 5500 | H13: =B13*$E$6 -> 0 | I13: =C13*$F$6 -> 0 | J13: =D13*$G$6 -> 0
A14: Supply of labour (PTM, EHM) | B14: 3200 | C14: 3200 | D14: 3200 | H14: =B14*$E$6 -> 0 | I14: =C14*$F$6 -> 0 | J14: =D14*$G$6 -> 0
A15: Supply of Labour for Research trials | B15: 275 | C15: 275 | D15: 275 | H15: =B15*$E$6 -> 0 | I15: =C15*$F$6 -> 0 | J15: =D15*$G$6 -> 0
A16: Road clearing , Village maintenance. | B16: 1888 | C16: 1888 | D16: 1888 | H16: =B16*$E$6 -> 0 | I16: =C16*$F$6 -> 0 | J16: =D16*$G$6 -> 0
A17: Gardening | B17: 800 | C17: 800 | D17: 800 | H17: =B17*E6 -> 0 | I17: =C17*F6 -> 0 | J17: =D17*G6 -> 0
E18: Totals | H18: =SUM(H8:H17) -> 0 | I18: =SUM(I8:I17) -> 0 | J18: =SUM(J8:J17) -> 0
E19: Grand Total | H19: =SUM(H18:J18) -> 0
A21: Other Ad hoc work | B21: Year 1 | C21: year 2 | D21: Year 3 | E21: Rate Yr1 | F21: Rate Yr2 | G21: Rate Yr3 | H21: Total Yr1 | I21: Total Yr2 | J21: Total Yr3
A22: Normal overtime (Rate/hr) | B22: 2900 | C22: 2900 | D22: 2900 | H22: =B22*E22 -> 0 | I22: =C22*F22 -> 0 | J22: =D22*G22 -> 0
A23: Saterday overtime (Rate/hr) | B23: 2000 | C23: 2000 | D23: 2000
A24: Sunday overtime (Rate/hr) | B24: 2300 | C24: 2300 | D24: 2300 | H24: =B24*E24 -> 0 | I24: =C24*F24 -> 0 | J24: =D24*G24 -> 0
A25: Standby (Rate/day) | B25: 3000 | C25: 3000 | D25: 3000 | H25: =B25*E25 -> 0 | I25: =C25*F25 -> 0 | J25: =D25*G25 -> 0
A26: Chainsaw wet rate | B26: 500 | C26: 500 | D26: 500 | H26: =B26*E26 -> 0 | I26: =C26*F26 -> 0 | J26: =D26*G26 -> 0
A27: Brushcutter wet rate | B27: 200 | C27: 200 | D27: 200 | H27: =B27*E27 -> 0 | I27: =C27*F27 -> 0 | J27: =D27*G27 -> 0
A28: Lawnmower rate | B28: 300 | C28: 300 | D28: 300 | H28: =B28*E28 -> 0 | I28: =C28*F28 -> 0 | J28: =D28*G28 -> 0
A29: Driver operator | B29: 50 | C29: 50 | D29: 50 | H29: =B29*E29 -> 0 | I29: =C29*F29 -> 0 | J29: =D29*G29 -> 0
A30: weekly refuse removal from the offices, residence to the dumping site | B30: 52 | C30: 52 | D30: 52 | H30: =B30*E30 -> 0 | I30: =C30*F30 -> 0 | J30: =D30*G30 -> 0
A31: Running cost - Bulk Tanker/fire truck | B31: 200 | C31: 200 | D31: 200 | H31: =B31*E31 -> 0 | I31: =C31*F31 -> 0 | J31: =D31*G31 -> 0
A32: Bakkie fire fighting (R/km) | B32: 200 | C32: 200 | D32: 200 | H32: =B32*E32 -> 0 | I32: =C32*F32 -> 0 | J32: =D32*G32 -> 0
A33: Truck 8 ton (R/km) | B33: 200 | C33: 200 | D33: 200 | H33: =B33*E33 -> 0 | I33: =C33*F33 -> 0 | J33: =D33*G33 -> 0
G34: TOTALS | H34: =SUM(H22:H33) -> 0 | I34: =SUM(I22:I33) -> 0 | J34: =SUM(J22:J33) -> 0
A35: SILVICULTURE PRICING SCHEDULE
A37: Bidders Name
A40: Plantation Name | B40: ROBURNIA | E40: Rate Yr1 | F40: Rate Yr2 | G40: Rate Yr3 | H40: Total Yr1 | I40: Total Yr2 | J40: Total Yr3
B41: Year 1 | C41: year 2 | D41: Year 3
A42: Activities | B42: Man-days
A43: Establishment | B43: 4500 | C43: 4500 | D43: 4500 | H43: =B43*$E$41 -> 0 | I43: =C43*$F$41 -> 0 | J43: =D43*$G$41 -> 0
A44: Protection | B44: 10000 | C44: 10000 | D44: 10000 | H44: =B44*$E$41 -> 0 | I44: =C44*$F$41 -> 0 | J44: =D44*$G$41 -> 0
A45: Weeding | B45: 9000 | C45: 9000 | D45: 9000 | H45: =B45*$E$41 -> 0 | I45: =C45*$F$41 -> 0 | J45: =D45*$G$41 -> 0
A46: Tending | B46: 9475 | C46: 9475 | D46: 9475 | H46: =B46*$E$41 -> 0 | I46: =C46*$F$41 -> 0 | J46: =D46*$G$41 -> 0
...

Sheet Contract Value
A6: BIDDER'S NAME
A8: PLANTATION | C8: =Qoutation!$B$5 -> Jessievale
B12: CORE SILVICULTURE | D12: =Qoutation!H19 -> 0
B13: AD HOC ACTIVITIES | D13: =SUM(Qoutation!H34:J34) -> 0
C15: TOTAL | D15: =D12+D13 -> 0
C16: VAT @15% | D16: =D15*0.15 -> 0
B18: GRAND TOTAL | D18: =D15+D16 -> 0
B20: TOTAL IN WORDS
A29: 1. Failure to fully complete the document (Annexure B) will be disqualified
A30: 2. Bidders to provide SAFCOL with market related rates as bidders who quotes within a certain market range will be appointed
A40: BIDDER'S NAME
A42: PLANTATION | C42: =Qoutation!$B$40 -> ROBURNIA
B46: CORE SILVICULTURE | D46: =Qoutation!H54 -> 0
B47: AD HOC ACTIVITIES | D47: =SUM(Qoutation!H69:J69) -> 0
C49: TOTAL | D49: =D46+D47 -> 0
C50: VAT @15% | D50: =D49*0.15 -> 0
B52: GRAND TOTAL | D52: =D49+D50 -> 0
B54: TOTAL IN WORDS
A63: 1. Failure to fully complete the document (Annexure B) will be disqualified
A64: 2. Bidders to provide SAFCOL with market related rates as bidders who quotes within a certain market range will be appointed
A72: BIDDER'S NAME
A74: PLANTATION | C74: =Qoutation!$B$76 -> BELFAST
B78: CORE SILVICULTURE | D78: =Qoutation!H90 -> 0
B79: AD HOC ACTIVITIES | D79: =SUM(Qoutation!H105:J105) -> 0
C81: TOTAL | D81: =D78+D79 -> 0
C82: VAT @15% | D82: =D81*0.15 -> 0
B84: GRAND TOTAL | D84: =D81+D82 -> 0
B86: TOTAL IN WORDS
A95: 1. Failure to fully complete the document (Annexure B) will be disqualified
A96: 2. Bidders to provide SAFCOL with market related rates as bidders who quotes within a certain market range will be appointed
A104: BIDDER'S NAME
A106: PLANTATION | C106: =Qoutation!$B$112 -> BLYDE
B110: CORE SILVICULTURE | D110: =Qoutation!H126 -> 0
B111: AD HOC ACTIVITIES | D111: =SUM(Qoutation!H141:J141) -> 0
C113: TOTAL | D113: =D110+D111 -> 0
C114: VAT @15% | D114: =D113*0.15 -> 0
B116: GRAND TOTAL | D116: =D113+D114 -> 0
B118: TOTAL IN WORDS
A127: 1. Failure to fully complete the document (Annexure B) will be disqualified
A128: 2. Bidders to provide SAFCOL with market related rates as bidders who quotes within a certain market range will be appointed
...

Sheet Sheet1
F1: Year 1 | H1: Year 2 | I1: Year 3
E2: Hourly Rate | F2: Daily Rate
A3: 1 | B3: Basic wage & Statutory costs | E3: 28.4 | F3: =E3*9 -> 255.6 | H3: =F3*1.08 -> 276.048 | I3: =H3*1.08 -> 298.13184
B4: Bonus pay per annum
B5: Sub-total Wages: | F5: =SUM(F3:F4) -> 255.6 | H5: =SUM(H3:H4) -> 276.048 | I5: =SUM(I3:I4) -> 298.13184
B6: What is your assessment rate with WCC? | E6: 0.0215 | F6: =$F$5*E6 -> 5.4954 | H6: =$H$5*E6 -> 5.935032 | I6: =$I$5*E6 -> 6.4098346
B7: What is your UIF contribution? (as % of total wages) | E7: 0.01 | F7: =$F$5*E7 -> 2.556 | H7: =$H$5*E7 -> 2.76048 | I7: =$I$5*E7 -> 2.9813184
B8: What % of net wage do you allow for medical expenses? | E8: 0.001 | F8: =$F$5*E8 -> 0.2556 | H8: =$H$5*E8 -> 0.276048 | I8: =$I$5*E8 -> 0.29813184
B9: What % of total remuneration do you allow for training? | E9: 0.021 | F9: =$F$5*E9 -> 5.3676 | H9: =$H$5*E9 -> 5.797008 | I9: =$I$5*E9 -> 6.2607686
B10: Provident/pension fund: What is your % contribution ? | E10: 0 | F10: =$F$5*E10 -> 0 | H10: =$H$5*E10 -> 0 | I10: =$I$5*E10 -> 0
B11: Sub-total: | F11: =SUM(F5:F10) -> 269.2746 | H11: =SUM(H5:H10) -> 290.81657 | I11: =SUM(I5:I10) -> 314.08189
A13: 2 | B13: Lost time recovery
B14: How many statutory leave days in this year? | E14: 13 | F14: =($F$11*E14)/251 -> 13.946493 | G14: divided by the number of available production days | H14: =($H$11*E14)/251 -> 15.062213 | I14: =($I$11*E14)/251 -> 16.26719
B15: How many days/labourer provided for sick leave/year? | E15: 5 | F15: =($F$11*E15)/251 -> 5.3640359 | H15: =($H$11*E15)/251 -> 5.7931587 | I15: =($I$11*E15)/251 -> 6.2566114
B16: How many days/labourer provided for leave/year? | E16: 15 | F16: =($F$11*E16)/251 -> 16.092108 | H16: =($H$11*E16)/251 -> 17.379476 | I16: =($I$11*E16)/251 -> 18.769834
B17: How many days provided for compassionate leave/ year? | E17: 1 | F17: =($F$11*E17)/251 -> 1.0728072 | H17: =($H$11*E17)/251 -> 1.1586317 | I17: =($I$11*E17)/251 -> 1.2513223
B18: How many days provided for training/ year? | E18: 2.5 | F18: =($F$11*E18)/251 -> 2.6820179 | H18: =($H$11*E18)/251 -> 2.8965794 | I18: =($I$11*E18)/251 -> 3.1283057
B19: How many days provided for un-productive time/ year? | E19: 1 | F19: =($F$11*E19)/251 -> 1.0728072 | H19: =($H$11*E19)/251 -> 1.1586317 | I19: =($I$11*E19)/251 -> 1.2513223
B20: Sub-total: | F20: =SUM(F14:F19) -> 40.230269 | H20: =SUM(H14:H19) -> 43.44869 | I20: =SUM(I14:I19) -> 46.924586
E21: %
B22: Sub-total: | F22: =F20+F11 -> 309.50487 | H22: =H20+H11 -> 334.26526 | I22: =I20+I11 -> 361.00648
B24: Working component | E24: Percent Contribution to the Rate
B25: Transport | E25: 12 | F25: =$F$22*(E25/100) -> 37.140584 | H25: =$H$22*(E25/100) -> 40.111831 | I25: =$I$22*(E25/100) -> 43.320777
B26: Medicals | E26: 1 | F26: =$F$22*(E26/100) -> 3.0950487 | H26: =$H$22*(E26/100) -> 3.3426526 | I26: =$I$22*(E26/100) -> 3.6100648
B27: Tools | E27: 3 | F27: =$F$22*(E27/100) -> 9.2851461 | H27: =$H$22*(E27/100) -> 10.027958 | I27: =$I$22*(E27/100) -> 10.830194
B28: PPE | E28: 5 | F28: =$F$22*(E28/100) -> 15.475243 | H28: =$H$22*(E28/100) -> 16.713263 | I28: =$I$22*(E28/100) -> 18.050324
B29: Training | E29: 5 | F29: =$F$22*(E29/100) -> 15.475243 | H29: =$H$22*(E29/100) -> 16.713263 | I29: =$I$22*(E29/100) -> 18.050324
B30: Overheads | E30: 8 | F30: =$F$22*(E30/100) -> 24.76039 | H30: =$H$22*(E30/100) -> 26.741221 | I30: =$I$22*(E30/100) -> 28.880518
B32: Sub-total Working component | F32: =SUM(F25:F30) -> 105.23166 | H32: =SUM(H25:H30) -> 113.65019 | I32: =SUM(I25:I30) -> 122.7422
B33: Total excluding markup | F33: =F22+F32 -> 414.73652 | H33: =H22+H32 -> 447.91545 | I33: =I22+I32 -> 483.74868
A34: 3 | B34: Mark-up | E34: 10 | F34: =F33*0.1 -> 41.473652 | H34: =H33*0.1 -> 44.791545 | I34: =I33*0.1 -> 48.374868
A37: 5 | B37: Tendered Unit rate | F37: =F33+F34 -> 456.21018 | G37: Ex Vat | H37: =H33+H34 -> 492.70699 | I37: =I33+I34 -> 532.12355
A39: 6 | B39: Unit rate | F39: =F37*1.15 -> 524.6417 | G39: Incl Vat | H39: =H37*1.15 -> 566.61304 | I39: =I37*1.15 -> 611.94208
