Workbook

Sheet 1500
A1: SECTION 1500
A2: N.B: The billed quantities are for evaluation purposes only. The actual quantities will be quantified with Request for Quotes (RFQs).
A3: Payment | B3: LIC Items | C3: Description | D3: Unit | E3: Billed Quantity | F3: Rate | G3: Estimated
A4: Item | G4: Amount
A5: 1500 | C5: SECTION 1500: ACCOMMODATION OF TRAFFIC
A6: B15.01 | C6: Accommodating traffic and maintaining temporary deviations | D6: Month | E6: 36 | F6: 0 | G6: =F6*E6 -> 0
A7: 15.02 | C7: Earthworks for temporary deviations
C8: a) Shaping of temporary deviations | D8: km | E8: 26 | F8: 0 | G8: =F8*E8 -> 0
C9: b) Cut and borrow to fill | D9: m³ | E9: 1 | F9: 0 | G9: Rate Only
C10: c) Cut to spoil | D10: m³ | E10: 1 | F10: 0 | G10: Rate Only
A11: B15.03 | C11: Temporary traffic control facilities
B12: LI | C12: a) Flagmen | D12: Man-day | E12: 6336 | F12: 0 | G12: =F12*E12 -> 0
C13: b) Portable STOP and GO-RY signs | D13: No | E13: 4 | F13: 0
C14: d) Amber flicker lights | D14: No | E14: 1 | F14: 0 | G14: Rate Only
C15: e) Road signs, R- and TR- series, (900 mm series) | D15: No | E15: 20 | F15: 0 | G15: =F15*E15 -> 0
C16: f) Road signs, TW-series | D16: No | E16: 20 | F16: 0 | G16: =F16*E16 -> 0
C17: g) Road signs, STW-, DTG-, TGS- and TG-series | D17: m² | E17: 40 | F17: 0 | G17: =F17*E17 -> 0
C18: (excluding delineators and barricades)
C19: h) Delineators (DTG 50J) (800 x 200 mm):
C20: 1) Single | D20: No | E20: 200 | F20: 0 | G20: =F20*E20 -> 0
C21: 2) Mounted back to back | D21: No | E21: 200 | F21: 0 | G21: =F21*E21 -> 0
C22: i) Moveable barricade/road sign combination (8 m wide road closed type) | D22: No | E22: 4 | F22: 0 | G22: =F22*E22 -> 0
C23: j) Traffic cones (750 mm high) | D23: No | E23: 10 | F23: 0 | G23: =F23*E23 -> 0
C24: k) Single guardrails attached to posts | D24: m | E24: 1 | F24: 0 | G24: -
C25: l) Movable barriers (guardrail sections attached to welded posts and footplates) | D25: m | E25: 1 | F25: 0 | G25: =F25*E25 -> 0
C26: m) Two-way communication devices | D26: No | E26: 8 | F26: 0 | G26: =F26*E26 -> 0
C27: n) Other traffic control measures ordered by the Engineer. | G27: =F27*E27 -> 0
C28: (i) Provision of other traffic control measures | D28: Prov Sum | E28: 1 | F28: 0 | G28: =F28*E28 -> 0
C29: (ii) Handling costs and profit in respect of B15.03(n)(i) | D29: % | E29: 100000 | F29: 0 | G29: =F29*E29 -> 0
A30: B15.04 | C30: Relocation of traffic control facilities | D30: L/Sum | E30: 1 | F30: 0 | G30: =F30*E30 -> 0
A31: 15.05 | C31: Gravelling and repair of temporary deviations and existing gravel shoulders used as temporary deviations | G31: =F31*E31 -> 0
C32: a) Temporary deviations | D32: km | E32: 5 | F32: 0
C33: b) Existing gravel shoulders | D33: km | E33: 5 | F33: 0 | G33: =F33*E33 -> 0
A34: CARRIED FORWARD | G34: =SUM(G6+G7+G12+G15+G16+G17+G21+G22+G23+G25+G26+G27+G30+G31+G33) -> 0
A36: Payment | B36: LIC Items | C36: Description | D36: Unit | E36: Billed Quantity | F36: Rate | G36: Estimated
A37: Item | G37: Amount
A38: BROUGHT FORWARD | G38: =G34 -> 0
A39: 15.06 | C39: Watering of temporary deviations | D39: km | E39: 10 | F39: 0 | G39: =F39*E39 -> 0
A40: 15.07 | C40: Blading by road grader of: | G40: =F40*E40 -> 0
C41: a) Temporary deviations | D41: km | E41: 10 | F41: 0
...

Sheet 1800
A1: SECTION 1800
A2: N.B: The billed quantities are for evaluation purposes only. The actual quantities will be quantified with Request for Quotes (RFQs).
A3: Payment | B3: LIC Items | C3: Description | D3: Unit | E3: Billed Quantity | F3: Rate | G3: Estimated Amount
A4: Item
A5: 1800 | C5: SECTION 1800 : DAYWORKS
A6: B18.01 | C6: Labour | D6: Hr | E6: 9 | F6: 0 | G6: =F6*E6 -> 0
C7: a) Unskilled labourer
C8: b) Semi-skilled labour | D8: Hr | E8: 9 | F8: 0 | G8: =F8*E8 -> 0
C9: c) Skilled labour | D9: Hr | E9: 9 | F9: 0 | G9: =F9*E9 -> 0
C10: d) Survey Ganger | D10: Hr | E10: 9 | F10: 0 | G10: =F10*E10 -> 0
C11: e) Artisan or mechanic | D11: Hr | E11: 9 | F11: 0 | G11: =F11*E11 -> 0
C12: f) Roads Foreman | D12: Hr | E12: 9 | F12: 0 | G12: =F12*E12 -> 0
A13: B18.02 | C13: Personnel engaged outside normal working hours 1) Outside normal working hours and Saturdays | D13: Hr | E13: 9 | F13: 0 | G13: =F13*E13 -> 0
C14: a) Unskilled labourer
C15: b) Semi-skilled labour | D15: Hr | E15: 9 | F15: 0 | G15: =F15*E15 -> 0
C16: c) Skilled labour | D16: Hr | E16: 9 | F16: 0 | G16: =F16*E16 -> 0
C17: d) Survey Ganger | D17: Hr | E17: 9 | F17: 0 | G17: =F17*E17 -> 0
C18: e) Artisan or mechanic | D18: Hr | E18: 9 | F18: 0 | G18: =F18*E18 -> 0
C19: f) Roads Foreman | D19: Hr | E19: 9 | F19: 0 | G19: =F19*E19 -> 0
C20: 2) Sundays and Public Holidays | D20: Hr | E20: 9 | F20: 0 | G20: =F20*E20 -> 0
C21: a) Unskilled labourer
C22: b) Semi-skilled labour | D22: Hr | E22: 9 | F22: 0 | G22: =F22*E22 -> 0
C23: c) Skilled labour | D23: Hr | E23: 9 | F23: 0 | G23: =F23*E23 -> 0
C24: d) Survey Ganger | D24: Hr | E24: 9 | F24: 0 | G24: =F24*E24 -> 0
C25: e) Artisan or mechanic | D25: Hr | E25: 9 | F25: 0 | G25: =F25*E25 -> 0
C26: f) Roads Foreman | D26: Hr | E26: 9 | F26: 0 | G26: =F26*E26 -> 0
A27: B18.03 | C27: Construction Plant
A28: CARRIED FORWARD | G28: =SUM(G6:G26) -> 0
A30: Payment | B30: LIC Items | C30: Description | D30: Unit | E30: Billed Quantity | F30: Rate | G30: Estimated
A31: Item | G31: Amount
A32: BROUGHT FORWARD | G32: =G28 -> 0
C33: a) Pneumatic tyred roller | D33: Day | E33: 9 | F33: 0 | G33: =F33*E33 -> 0
C34: b) Compressor unit with capacity to generate 3 m3/min at 650 kpa | D34: Day | E34: 9 | F34: 0 | G34: =F34*E34 -> 0
C35: c) Mobile crane | D35: Day | E35: 9 | F35: 0 | G35: =F35*E35 -> 0
C36: d) Self prppelled Mechanical broom | D36: Day | E36: 9 | F36: 0 | G36: =F36*E36 -> 0
C37: e) Self proppelled Chipspreader | D37: Day | E37: 9 | F37: 0 | G37: =F37*E37 -> 0
C38: f) 3000L Bitumen Hand sprayer trailer | D38: Day | E38: 9 | F38: 0 | G38: =F38*E38 -> 0
C39: g) 6 000L Bitumen distributor truck | D39: Day | E39: 9 | F39: 0 | G39: =F39*E39 -> 0
C40: h) 11 000 litres bitumen distributor truck | D40: Day | E40: 9 | F40: 0 | G40: =F40*E40 -> 0
A41: B18.04 | C41: Materials and Equipment | G41: =F41*E41 -> 0
...

Sheet 2400
A1: SECTION 2400
A2: N.B: The billed quantities are for evaluation purposes only. The actual quantities will be quantified with Request for Quotes (RFQs).
A3: Payment | B3: LIC Items | C3: Description | D3: Unit | E3: Billed Quantity | F3: Rate | G3: Estimated
A4: Item | G4: Amount
A5: 2400 | C5: SECTION 2400: ASPHALT AND CONCRETE BERMS
A6: 24.01 | C6: Asphalt berms, 80/100 pen grade continuous graded asphalt
B7: LI | C7: a) Placed where there are no guardrails | D7: m | E7: 1 | F7: 0 | G7: Rate Only
B8: LI | C8: b) Placed at existing guardrails (newly installed) | D8: m | E8: 1 | F8: 0 | G8: Rate Only
A9: 24.02 | C9: Concrete berms
B10: LI | C10: a) Placed where there are no guardrails | D10: m | E10: 1 | F10: 0 | G10: Rate Only
B11: LI | C11: b) Placed at existing guardrails (newly installed) | D11: m | E11: 1 | F11: 0 | G11: Rate Only
A12: 24.03 | C12: Prime and tack coats
C13: a)(i) Prime coat under asphalt berm MC-30 cut back bitumen | D13: m² | E13: 1 | F13: 0 | G13: Rate Only
C14: a)(ii) Prime coat under concrete berm MC-30 cut back bitumen | D14: m² | E14: 1 | F14: 0 | G14: Rate Only
C15: b) Tack coat, 30% stable grade emulsion | D15: m² | E15: 1 | F15: 0 | G15: Rate Only
A16: 24.04 | C16: Transition sections for NJ type parapets (at bridge approaches) | D16: No | E16: 1 | F16: 0 | G16: Rate Only
A17: 2400 | B17: SECTION 2400: ASPHALT AND CONCRETE BERMS | D17: CARRIED FORWARD TO SUMMARY PAGE

Sheet 4100
A1: SECTION 4100
A2: N.B: The billed quantities are for evaluation purposes only. The actual quantities will be quantified with Request for Quotes (RFQs).
A3: Payment | B3: LIC Items | C3: Description | D3: Unit | E3: Billed Quantity | F3: Rate | G3: Estimated
A4: Item | G4: Amount
A5: 4100 | C5: SECTION 4100: PRIME COAT
A6: B41.01 | C6: Prime coat:
C7: f) Colprime E or similar (All areas) | D7: litre | E7: 172172 | F7: 0 | G7: =F7*E7 -> 0
A8: 41.02 | B8: LI | C8: Aggregate for blinding | D8: m² | E8: 20800 | F8: 0 | G8: =F8*E8 -> 0
A9: 41.03 | B9: LI | C9: Extra over Item 41.01 for applying the prime coat in areas accessible only to hand held equipment | D9: litre | E9: 43043 | F9: 0 | G9: =F9*E9 -> 0
A10: 4100 | B10: SECTION 4100: PRIME COAT | D10: CARRIED FORWARD TO SUMMARY PAGE | G10: =G9+G8+G7 -> 0

Sheet 4200
A1: SECTION 4200
A2: N.B: The billed quantities are for evaluation purposes only. The actual quantities will be quantified with Request for Quotes (RFQs).
A3: Payment | B3: LIC Items | C3: Description | D3: Unit | E3: Billed Quantity | F3: Rate | G3: Estimated
A4: Item | G4: Amount
A5: 4200 | C5: SECTION 4200 : ASPHALT BASE AND SURFACING
A6: 42.04 | C6: Tack coat of 30% stable-grade emulsion | D6: l | E6: 1 | F6: 0 | G6: Rate Only
A7: 42.05 | C7: Binder variations:
C8: (a) A-E2 modified bitumen | D8: t | E8: 1 | F8: 0 | G8: Rate Only
A9: 42.06 | C9: Variations in Active Filler Content:
C10: (a) Cement | D10: t | E10: 1 | F10: 0 | G10: Rate Only
C11: (b) Lime | D11: t | E11: 1 | F11: 0 | G11: Rate Only
A12: 42.08 | C12: 100 mm cores in asphalt paving | D12: No. | E12: 1 | F12: 0 | G12: Rate Only
A13: 42.09 | C13: Asphalt surfacing on bridge decks
C14: a) 50 mm Continuously graded
C15: (i) medium grade asphalt surfacing using B12 road grade bitumen | D15: t | E15: 1 | F15: 0 | G15: Rate Only
C16: (ii) medium grade asphalt surfacing using A-E2 modified grade bitumen | D16: t | E16: 1 | F16: 0 | G16: Rate Only
A17: 4200 | B17: SECTION 4200 : ASPHALT BASE AND SURFACING | D17: CARRIED FORWARD TO SUMMARY PAGE

Sheet 4600
A1: SECTION 4600
A2: N.B: The billed quantities are for evaluation purposes only. The actual quantities will be quantified with Request for Quotes (RFQs).
A3: Payment | B3: LIC Items | C3: Description | D3: Unit | E3: Billed Quantity | F3: Rate | G3: Estimated
A4: Item | G4: Amount
A5: 4600 | C5: SECTION 4600: BITUMINOUS SINGLE SEAL WITH
C6: SLURRY (CAPE SEAL)
A7: B46.01 | C7: Bituminous single seal with 19 mm Grade 1 aggregate and slurry (2 coats of slurry) on roadway with:
C8: a) 70/100 penetration grade bitumen in tack coat and 65% cationic spray grade emulsion in the penetration coat | D8: m² | E8: 20800 | F8: 0 | G8: =F8*E8 -> 0
C9: b) A tack coat comprising of:
C10: (i) 70% polymer modified cationic spray-grade emulsion of Class SC-E1 (Winter) | D10: m² | E10: 20800 | F10: 0 | G10: =F10*E10 -> 0
C11: (ii) Hot applied polymer modified bitumen binder of Class S-E1 (Summer) | D11: m² | E11: 20800 | F11: 0 | G11: =F11*E11 -> 0
C12: c) 65% Cationic spray grade emulsion in both tack coat and penetration spray for cape seal on sidewalks | D12: m² | E12: 4000 | F12: 0
A13: 46.03 | C13: Bituminous binder variations:
C14: f) Spray-grade emulsion (65% bitumen) | D14: litre | E14: 1 | F14: 0 | G14: Rate Only
C15: g) Spray-grade emulsion (70% bitumen) | D15: litre | E15: 1 | F15: 0 | G15: Rate Only
A16: 46.04 | C16: Aggregate variations:
C17: b) 19 mm Nominal sized aggregate | D17: m³ | E17: 3952 | F17: 0 | G17: =F17*E17 -> 0
A18: 46.05 | C18: Variations in the rate of application of the slurry | D18: m³ | E18: 790 | F18: 0 | G18: =F18*E18 -> 0
A19: 46.06 | C19: Slurry application rate variations | D19: t | E19: 1 | F19: 0 | G19: Rate Only
A20: 46.07 | C20: Variation in active filler content (active filler to be ordinary cement) | D20: t | E20: 1 | F20: 0 | G20: Rate Only
A21: 46.08 | C21: Extra over items B46.01 for work in areas inaccessible to mechanical equipment | D21: m² | E21: 1 | F21: 0 | G21: Rate Only
A22: 4600 | B22: SECTION 4600: BITUMINOUS SINGLE SEAL WITH SLURRY | D22: CARRIED FORWARD TO SUMMARY PAGE | G22: =SUM(G8+G10+G11+G17+G18) -> 0

Sheet 7300
A1: SECTION 7300
A2: N.B: The billed quantities are for evaluation purposes only. The actual quantities will be quantified with Request for Quotes (RFQs).
A3: Payment | B3: LIC Items | C3: Description | D3: Unit | E3: Billed Quantity | F3: Rate | G3: Estimated
A4: Item | G4: Amount
A5: 7300 | C5: SECTION 7300 : CONCRETE BLOCK PAVING FOR
C6: ROADS
A7: 73.01 | C7: Concrete block paving, using standard 230mm x 110mm pavers.
B8: LI | C8: (a) At rest areas and view sites, using 60 mm thick pavers | D8: m² | E8: 1 | F8: 0 | G8: Rate Only
B9: LI | C9: (b) On sidewalks at the bridge approaches, using 60 mm thick pavers | D9: m² | E9: 1 | F9: 0 | G9: Rate Only
B10: LI | C10: (c) On driveways, pathways and parking areas, using 80 mm thick pavers. | D10: m² | E10: 1 | F10: 0 | G10: Rate Only
A11: B73.02 | C11: Concrete edge and intermediate beams .
B12: LI | C12: (a) Cast in-situ at back of sidewalks | D12: m³ | E12: 1 | F12: 0 | G12: Rate Only
B13: LI | C13: (b) Pre-cast edge beams, Figure 12 kerbs, | D13: m | E13: 1 | F13: 0 | G13: Rate Only
A14: 73.03 | C14: Provision of approved herbicide and ant poison.
C15: a) Provision of materials | D15: Sum PC | E15: 1 | F15: 500000 | G15: =F15*E15 -> 500000
C16: b) Contractor's charges and profit added to the prime cost sum | D16: % | E16: =G15 -> 500000 | F16: 0 | G16: =F16*E16 -> 0
A17: 7300 | C17: SECTION 7300 : CONCRETE BLOCK PAVING FOR ROADS | D17: CARRIED OVER TO SUMMARY PAGE | G17: =SUM(G15+G16) -> 500000

Sheet 8100
A1: SECTION 8100
A2: N.B: The billed quantities are for evaluation purposes only. The actual quantities will be quantified with Request for Quotes (RFQs).
A3: Payment | B3: LIC Items | C3: Description | D3: Unit | E3: Billed Quantity | F3: Rate | G3: Estimated
A4: Item | G4: Amount
A5: 8100 | C5: SECTION 8100: TESTING MATERIALS AND
C6: WORKMANSHIP
A7: 81.02 | C7: a) Other special tests requested by the engineer | D7: Prov Sum | E7: 1 | F7: 50000 | G7: =F7*E7 -> 50000
C8: b) Handling costs and profit in respect of 81.02(a). | D8: % | E8: 50000 | F8: 0 | G8: =F8*E8 -> 0
A9: 8100 | B9: SECTION 8100: TESTING MATERIALS AND WORKMANSHIP | D9: CARRIED FORWARD TO SUMMARY PAGE | G9: =+SUM(G7+G8) -> 50000

Sheet SUMMARY
A2: ENGINEER'S COST ESTIMATE
A3: SUMMARY OF SCHEDULE OF QUANTITIES
B5: SCHEDULE A | C5: Estimate amount
A8: 1500 | B8: ACCOMMODATION OF TRAFFIC | C8: ='1500'!G56 -> -5500
A10: 1800 | B10: DAYWORKS | C10: ='1800'!G46 -> 1500000
A12: 2400 | B12: ASPHALT AND CONCRETE BERMS | C12: ='2400'!G17 -> 0
A14: 4100 | B14: PRIME COAT | C14: ='4100'!G10 -> 0
A16: 4200 | B16: ASPHALT BASE AND SURFACING
A18: 4600 | B18: BITUMINOUS SINGLE SEAL WITH SLURRY (CAPE SEAL) | C18: ='4600'!G22 -> 0
A20: 7300 | B20: CONCRETE BLOCK PAVING FOR ROADS | C20: ='7300'!G17:G17 -> 500000
A22: 8100 | B22: TESTING MATERIALS AND WORKMANSHIP | C22: ='8100'!G9 -> 50000
B24: SUBTOTAL 1 | C24: =C8+C10+C12+C14+C16+C18+C20+C22 -> 2044500
B25: Contingencies - 5.0% | C25: =C24*5% -> 102225
B26: SUBTOTAL 2 | C26: =C24+C25 -> 2146725
B27: VAT @ 15 % | C27: =C26*15% -> 322008.75
A28: BID TOTAL (CARRIED OVER TO THE FORM OF OFFER) | C28: =C27+C26 -> 2468733.8
