Workbook

Sheet A_C1.2
A1: SECTION C1.2 | D1: GENERAL REQUIREMENTS AND PROVISIONS
A4: ITEM | B4: DESCRIPTION | D4: UNIT | E4: QTY | F4: RATE | G4: AMOUNT
G5: =IF(OR(D5="%",D5=" &"),IF(F5="","",ROUND(ROUND(F5,3)*E5,2)),IF(F5="","",ROUND(ROUND(F5,2)*E5,2)))
A6: C1.2 | B6: =D1 -> GENERAL REQUIREMENTS AND PROVISIONS | G6: =IF(OR(D6="%",D6=" &"),IF(F6="","",ROUND(ROUND(F6,3)*E6,2)),IF(F6="","",ROUND(ROUND(F6,2)*E6,2)))
G7: =IF(OR(D7="%",D7=" &"),IF(F7="","",ROUND(ROUND(F7,3)*E7,2)),IF(F7="","",ROUND(ROUND(F7,2)*E7,2)))
A8: C1.2.1 | B8: Environmental management: | G8: =IF(OR(D8="%",D8=" &"),IF(F8="","",ROUND(ROUND(F8,3)*E8,2)),IF(F8="","",ROUND(ROUND(F8,2)*E8,2)))
G9: =IF(OR(D9="%",D9=" &"),IF(F9="","",ROUND(ROUND(F9,3)*E9,2)),IF(F9="","",ROUND(ROUND(F9,2)*E9,2)))
A10: C1.2.1.1 | B10: Monitoring of compliance with and reporting on the EMP | D10: month | E10: 24 | G10: =IF(OR(D10="%",D10=" &"),IF(F10="","",ROUND(ROUND(F10,3)*E10,2)),IF(F10="","",ROUND(ROUND(F10,2)*E10,2)))
G11: =IF(OR(D11="%",D11=" &"),IF(F11="","",ROUND(ROUND(F11,3)*E11,2)),IF(F11="","",ROUND(ROUND(F11,2)*E11,2)))
A12: C1.2.2 | B12: Programming and reporting: | G12: =IF(OR(D12="%",D12=" &"),IF(F12="","",ROUND(ROUND(F12,3)*E12,2)),IF(F12="","",ROUND(ROUND(F12,2)*E12,2)))
G13: =IF(OR(D13="%",D13=" &"),IF(F13="","",ROUND(ROUND(F13,3)*E13,2)),IF(F13="","",ROUND(ROUND(F13,2)*E13,2)))
A14: C1.2.2.3 | B14: Submission of a Scheme 2 Initial Programme | D14: lump sum | E14: 1 | G14: =IF(OR(D14="%",D14=" &"),IF(F14="","",ROUND(ROUND(F14,3)*E14,2)),IF(F14="","",ROUND(ROUND(F14,2)*E14,2)))
G15: =IF(OR(D15="%",D15=" &"),IF(F15="","",ROUND(ROUND(F15,3)*E15,2)),IF(F15="","",ROUND(ROUND(F15,2)*E15,2)))
A16: C1.2.2.4 | B16: Submission of a Scheme 2 Full Programme | D16: lump sum | E16: 1 | G16: =IF(OR(D16="%",D16=" &"),IF(F16="","",ROUND(ROUND(F16,3)*E16,2)),IF(F16="","",ROUND(ROUND(F16,2)*E16,2)))
G17: =IF(OR(D17="%",D17=" &"),IF(F17="","",ROUND(ROUND(F17,3)*E17,2)),IF(F17="","",ROUND(ROUND(F17,2)*E17,2)))
A18: C1.2.2.5 | B18: Reviewing and updating a Scheme 2 programme every month | D18: month | E18: 24 | G18: =IF(OR(D18="%",D18=" &"),IF(F18="","",ROUND(ROUND(F18,3)*E18,2)),IF(F18="","",ROUND(ROUND(F18,2)*E18,2)))
G19: =IF(OR(D19="%",D19=" &"),IF(F19="","",ROUND(ROUND(F19,3)*E19,2)),IF(F19="","",ROUND(ROUND(F19,2)*E19,2)))
A20: C1.2.2.6 | B20: Preparation and submission of all information and reports specified in the Contract Documentation | D20: month | E20: 24 | G20: =IF(OR(D20="%",D20=" &"),IF(F20="","",ROUND(ROUND(F20,3)*E20,2)),IF(F20="","",ROUND(ROUND(F20,2)*E20,2)))
G21: =IF(OR(D21="%",D21=" &"),IF(F21="","",ROUND(ROUND(F21,3)*E21,2)),IF(F21="","",ROUND(ROUND(F21,2)*E21,2)))
A22: C1.2.3 | B22: Routine road maintenance of existing public roads within the Site of the Works or other public roads outside the Site of the Works which are used as detours | G22: =IF(OR(D22="%",D22=" &"),IF(F22="","",ROUND(ROUND(F22,3)*E22,2)),IF(F22="","",ROUND(ROUND(F22,2)*E22,2)))
G23: =IF(OR(D23="%",D23=" &"),IF(F23="","",ROUND(ROUND(F23,3)*E23,2)),IF(F23="","",ROUND(ROUND(F23,2)*E23,2)))
A24: C1.2.3.11 | B24: Other road maintenance work ordered by the Engineer | D24: Prov. Sum | E24: 1 | F24: 1500000 | G24: =IF(OR(D24="%",D24=" &"),IF(F24="","",ROUND(ROUND(F24,3)*E24,2)),IF(F24="","",ROUND(ROUND(F24,2)*E24,2))) -> 1500000
G25: =IF(OR(D25="%",D25=" &"),IF(F25="","",ROUND(ROUND(F25,3)*E25,2)),IF(F25="","",ROUND(ROUND(F25,2)*E25,2)))
A26: C1.2.3.12 | B26: Handling cost, profit and all other charges in respect of item C1.2.3.11 | D26: % | E26: 1500000 | G26: =IF(OR(D26="%",D26=" &"),IF(F26="","",ROUND(ROUND(F26,3)*E26,2)),IF(F26="","",ROUND(ROUND(F26,2)*E26,2)))
G27: =IF(OR(D27="%",D27=" &"),IF(F27="","",ROUND(ROUND(F27,3)*E27,2)),IF(F27="","",ROUND(ROUND(F27,2)*E27,2)))
A28: C1.2.3.13 | B28: Liaison with the routine road maintenance contractor | D28: month | E28: 24 | G28: =IF(OR(D28="%",D28=" &"),IF(F28="","",ROUND(ROUND(F28,3)*E28,2)),IF(F28="","",ROUND(ROUND(F28,2)*E28,2)))
G29: =IF(OR(D29="%",D29=" &"),IF(F29="","",ROUND(ROUND(F29,3)*E29,2)),IF(F29="","",ROUND(ROUND(F29,2)*E29,2)))
A30: C1.2.4 | B30: Stakeholder liaison | D30: month | E30: 24 | G30: =IF(OR(D30="%",D30=" &"),IF(F30="","",ROUND(ROUND(F30,3)*E30,2)),IF(F30="","",ROUND(ROUND(F30,2)*E30,2)))
G31: =IF(OR(D31="%",D31=" &"),IF(F31="","",ROUND(ROUND(F31,3)*E31,2)),IF(F31="","",ROUND(ROUND(F31,2)*E31,2)))
A32: C1.2.5 | B32: Safety: | G32: =IF(OR(D32="%",D32=" &"),IF(F32="","",ROUND(ROUND(F32,3)*E32,2)),IF(F32="","",ROUND(ROUND(F32,2)*E32,2)))
G33: =IF(OR(D33="%",D33=" &"),IF(F33="","",ROUND(ROUND(F33,3)*E33,2)),IF(F33="","",ROUND(ROUND(F33,2)*E33,2)))
A34: C1.2.5.1 | B34: Health and safety plan | D34: lump sum | E34: 1 | G34: =IF(OR(D34="%",D34=" &"),IF(F34="","",ROUND(ROUND(F34,3)*E34,2)),IF(F34="","",ROUND(ROUND(F34,2)*E34,2)))
G35: =IF(OR(D35="%",D35=" &"),IF(F35="","",ROUND(ROUND(F35,3)*E35,2)),IF(F35="","",ROUND(ROUND(F35,2)*E35,2)))
A36: C1.2.5.2 | B36: Implementation of health and safety plan | D36: month | E36: 24 | G36: =IF(OR(D36="%",D36=" &"),IF(F36="","",ROUND(ROUND(F36,3)*E36,2)),IF(F36="","",ROUND(ROUND(F36,2)*E36,2)))
G37: =IF(OR(D37="%",D37=" &"),IF(F37="","",ROUND(ROUND(F37,3)*E37,2)),IF(F37="","",ROUND(ROUND(F37,2)*E37,2)))
A38: C1.2.7 | B38: Road safety audits: | G38: =IF(OR(D38="%",D38=" &"),IF(F38="","",ROUND(ROUND(F38,3)*E38,2)),IF(F38="","",ROUND(ROUND(F38,2)*E38,2)))
G39: =IF(OR(D39="%",D39=" &"),IF(F39="","",ROUND(ROUND(F39,3)*E39,2)),IF(F39="","",ROUND(ROUND(F39,2)*E39,2)))
A40: C1.2.7.1 | B40: Stage 4 work zone traffic management audit | D40: Prov. Sum | E40: 1 | F40: 100000 | G40: =IF(OR(D40="%",D40=" &"),IF(F40="","",ROUND(ROUND(F40,3)*E40,2)),IF(F40="","",ROUND(ROUND(F40,2)*E40,2))) -> 100000
G41: =IF(OR(D41="%",D41=" &"),IF(F41="","",ROUND(ROUND(F41,3)*E41,2)),IF(F41="","",ROUND(ROUND(F41,2)*E41,2)))
A42: C1.2.7.2 | B42: Handling cost, profit and all other charges in respect of item C1.2.7.1 | D42: % | E42: 100000 | G42: =IF(OR(D42="%",D42=" &"),IF(F42="","",ROUND(ROUND(F42,3)*E42,2)),IF(F42="","",ROUND(ROUND(F42,2)*E42,2)))
...

Sheet A_C1.3
A1: SECTION C1.3 | D1: CONTRACTOR’S SITE ESTABLISHMENT AND GENERAL OBLIGATIONS
A4: ITEM | B4: DESCRIPTION | D4: UNIT | E4: QTY | F4: RATE | G4: AMOUNT
G5: =IF(OR(D5="%",D5=" &"),IF(F5="","",ROUND(ROUND(F5,3)*E5,2)),IF(F5="","",ROUND(ROUND(F5,2)*E5,2)))
A6: C1.3 | B6: =D1 -> CONTRACTOR’S SITE ESTABLISHMENT AND GENERAL OBLIGATIONS | G6: =IF(OR(D6="%",D6=" &"),IF(F6="","",ROUND(ROUND(F6,3)*E6,2)),IF(F6="","",ROUND(ROUND(F6,2)*E6,2)))
G7: =IF(OR(D7="%",D7=" &"),IF(F7="","",ROUND(ROUND(F7,3)*E7,2)),IF(F7="","",ROUND(ROUND(F7,2)*E7,2)))
A8: C1.3.1 | B8: The Contractor's general obligations: | G8: =IF(OR(D8="%",D8=" &"),IF(F8="","",ROUND(ROUND(F8,3)*E8,2)),IF(F8="","",ROUND(ROUND(F8,2)*E8,2)))
G9: =IF(OR(D9="%",D9=" &"),IF(F9="","",ROUND(ROUND(F9,3)*E9,2)),IF(F9="","",ROUND(ROUND(F9,2)*E9,2)))
A10: C1.3.1.1 | B10: Fixed obligations | D10: lump sum | E10: 1 | G10: =IF(OR(D10="%",D10=" &"),IF(F10="","",ROUND(ROUND(F10,3)*E10,2)),IF(F10="","",ROUND(ROUND(F10,2)*E10,2)))
G11: =IF(OR(D11="%",D11=" &"),IF(F11="","",ROUND(ROUND(F11,3)*E11,2)),IF(F11="","",ROUND(ROUND(F11,2)*E11,2)))
A12: C1.3.1.2 | B12: Value-related obligations | D12: lump sum | E12: 1 | G12: =IF(OR(D12="%",D12=" &"),IF(F12="","",ROUND(ROUND(F12,3)*E12,2)),IF(F12="","",ROUND(ROUND(F12,2)*E12,2)))
G13: =IF(OR(D13="%",D13=" &"),IF(F13="","",ROUND(ROUND(F13,3)*E13,2)),IF(F13="","",ROUND(ROUND(F13,2)*E13,2)))
A14: PC1.3.1.3 | B14: Time-related obligations: | G14: =IF(OR(D14="%",D14=" &"),IF(F14="","",ROUND(ROUND(F14,3)*E14,2)),IF(F14="","",ROUND(ROUND(F14,2)*E14,2)))
G15: =IF(OR(D15="%",D15=" &"),IF(F15="","",ROUND(ROUND(F15,3)*E15,2)),IF(F15="","",ROUND(ROUND(F15,2)*E15,2)))
B16: (a) | C16: Mobilisation period | D16: month | E16: 3 | G16: =IF(OR(D16="%",D16=" &"),IF(F16="","",ROUND(ROUND(F16,3)*E16,2)),IF(F16="","",ROUND(ROUND(F16,2)*E16,2)))
G17: =IF(OR(D17="%",D17=" &"),IF(F17="","",ROUND(ROUND(F17,3)*E17,2)),IF(F17="","",ROUND(ROUND(F17,2)*E17,2)))
B18: (b) | C18: Execution of the works | D18: month | E18: 21 | G18: =IF(OR(D18="%",D18=" &"),IF(F18="","",ROUND(ROUND(F18,3)*E18,2)),IF(F18="","",ROUND(ROUND(F18,2)*E18,2)))
G19: =IF(OR(D19="%",D19=" &"),IF(F19="","",ROUND(ROUND(F19,3)*E19,2)),IF(F19="","",ROUND(ROUND(F19,2)*E19,2)))
A20: PC1.3.1.4 | B20: Suspension cost: | G20: =IF(OR(D20="%",D20=" &"),IF(F20="","",ROUND(ROUND(F20,3)*E20,2)),IF(F20="","",ROUND(ROUND(F20,2)*E20,2)))
G21: =IF(OR(D21="%",D21=" &"),IF(F21="","",ROUND(ROUND(F21,3)*E21,2)),IF(F21="","",ROUND(ROUND(F21,2)*E21,2)))
B22: (a) | C22: De-establishment | D22: No. | E22: 1 | G22: =IF(OR(D22="%",D22=" &"),IF(F22="","",ROUND(ROUND(F22,3)*E22,2)),IF(F22="","",ROUND(ROUND(F22,2)*E22,2)))
G23: =IF(OR(D23="%",D23=" &"),IF(F23="","",ROUND(ROUND(F23,3)*E23,2)),IF(F23="","",ROUND(ROUND(F23,2)*E23,2)))
B24: (b) | C24: Re-establishment | D24: No. | E24: 1 | G24: =IF(OR(D24="%",D24=" &"),IF(F24="","",ROUND(ROUND(F24,3)*E24,2)),IF(F24="","",ROUND(ROUND(F24,2)*E24,2)))
G25: =IF(OR(D25="%",D25=" &"),IF(F25="","",ROUND(ROUND(F25,3)*E25,2)),IF(F25="","",ROUND(ROUND(F25,2)*E25,2)))
B26: (c) | C26: Suspension period | D26: month | E26: 2 | G26: =IF(OR(D26="%",D26=" &"),IF(F26="","",ROUND(ROUND(F26,3)*E26,2)),IF(F26="","",ROUND(ROUND(F26,2)*E26,2)))
G27: =IF(OR(D27="%",D27=" &"),IF(F27="","",ROUND(ROUND(F27,3)*E27,2)),IF(F27="","",ROUND(ROUND(F27,2)*E27,2)))
B28: (d) | C28: Engineer's cost | D28: PC Sum | E28: 1 | F28: 1000000 | G28: =IF(OR(D28="%",D28=" &"),IF(F28="","",ROUND(ROUND(F28,3)*E28,2)),IF(F28="","",ROUND(ROUND(F28,2)*E28,2))) -> 1000000
G29: =IF(OR(D29="%",D29=" &"),IF(F29="","",ROUND(ROUND(F29,3)*E29,2)),IF(F29="","",ROUND(ROUND(F29,2)*E29,2)))
A30: C1.3.2 | B30: Contract sign boards | D30: m2 | E30: 75 | G30: =IF(OR(D30="%",D30=" &"),IF(F30="","",ROUND(ROUND(F30,3)*E30,2)),IF(F30="","",ROUND(ROUND(F30,2)*E30,2)))
G31: =IF(OR(D31="%",D31=" &"),IF(F31="","",ROUND(ROUND(F31,3)*E31,2)),IF(F31="","",ROUND(ROUND(F31,2)*E31,2)))
G32: =IF(OR(D32="%",D32=" &"),IF(F32="","",ROUND(ROUND(F32,3)*E32,2)),IF(F32="","",ROUND(ROUND(F32,2)*E32,2)))
G33: =IF(OR(D33="%",D33=" &"),IF(F33="","",ROUND(ROUND(F33,3)*E33,2)),IF(F33="","",ROUND(ROUND(F33,2)*E33,2)))
G34: =IF(OR(D34="%",D34=" &"),IF(F34="","",ROUND(ROUND(F34,3)*E34,2)),IF(F34="","",ROUND(ROUND(F34,2)*E34,2)))
G35: =IF(OR(D35="%",D35=" &"),IF(F35="","",ROUND(ROUND(F35,3)*E35,2)),IF(F35="","",ROUND(ROUND(F35,2)*E35,2)))
G36: =IF(OR(D36="%",D36=" &"),IF(F36="","",ROUND(ROUND(F36,3)*E36,2)),IF(F36="","",ROUND(ROUND(F36,2)*E36,2)))
G37: =IF(OR(D37="%",D37=" &"),IF(F37="","",ROUND(ROUND(F37,3)*E37,2)),IF(F37="","",ROUND(ROUND(F37,2)*E37,2)))
G38: =IF(OR(D38="%",D38=" &"),IF(F38="","",ROUND(ROUND(F38,3)*E38,2)),IF(F38="","",ROUND(ROUND(F38,2)*E38,2)))
G39: =IF(OR(D39="%",D39=" &"),IF(F39="","",ROUND(ROUND(F39,3)*E39,2)),IF(F39="","",ROUND(ROUND(F39,2)*E39,2)))
G40: =IF(OR(D40="%",D40=" &"),IF(F40="","",ROUND(ROUND(F40,3)*E40,2)),IF(F40="","",ROUND(ROUND(F40,2)*E40,2)))
G41: =IF(OR(D41="%",D41=" &"),IF(F41="","",ROUND(ROUND(F41,3)*E41,2)),IF(F41="","",ROUND(ROUND(F41,2)*E41,2)))
G42: =IF(OR(D42="%",D42=" &"),IF(F42="","",ROUND(ROUND(F42,3)*E42,2)),IF(F42="","",ROUND(ROUND(F42,2)*E42,2)))
...

Sheet A_C1.4
A1: SECTION C1.4 | D1: FACILITIES FOR THE ENGINEER
A4: ITEM | B4: DESCRIPTION | D4: UNIT | E4: QTY | F4: RATE | G4: AMOUNT
G5: =IF(OR(D5="%",D5=" &"),IF(F5="","",ROUND(ROUND(F5,3)*E5,2)),IF(F5="","",ROUND(ROUND(F5,2)*E5,2)))
A6: C1.4 | B6: =D1 -> FACILITIES FOR THE ENGINEER | G6: =IF(OR(D6="%",D6=" &"),IF(F6="","",ROUND(ROUND(F6,3)*E6,2)),IF(F6="","",ROUND(ROUND(F6,2)*E6,2)))
G7: =IF(OR(D7="%",D7=" &"),IF(F7="","",ROUND(ROUND(F7,3)*E7,2)),IF(F7="","",ROUND(ROUND(F7,2)*E7,2)))
A8: C1.4.1 | B8: Site accommodation: | G8: =IF(OR(D8="%",D8=" &"),IF(F8="","",ROUND(ROUND(F8,3)*E8,2)),IF(F8="","",ROUND(ROUND(F8,2)*E8,2)))
G9: =IF(OR(D9="%",D9=" &"),IF(F9="","",ROUND(ROUND(F9,3)*E9,2)),IF(F9="","",ROUND(ROUND(F9,2)*E9,2)))
A10: C1.4.1.1 | B10: Offices and conference room | D10: m2 | E10: 250 | G10: =IF(OR(D10="%",D10=" &"),IF(F10="","",ROUND(ROUND(F10,3)*E10,2)),IF(F10="","",ROUND(ROUND(F10,2)*E10,2)))
G11: =IF(OR(D11="%",D11=" &"),IF(F11="","",ROUND(ROUND(F11,3)*E11,2)),IF(F11="","",ROUND(ROUND(F11,2)*E11,2)))
A12: C1.4.1.3 | B12: Open concrete working floors and verandas | D12: m2 | E12: 20 | G12: =IF(OR(D12="%",D12=" &"),IF(F12="","",ROUND(ROUND(F12,3)*E12,2)),IF(F12="","",ROUND(ROUND(F12,2)*E12,2)))
G13: =IF(OR(D13="%",D13=" &"),IF(F13="","",ROUND(ROUND(F13,3)*E13,2)),IF(F13="","",ROUND(ROUND(F13,2)*E13,2)))
A14: C1.4.1.4 | B14: Roofs over open concrete working floors and verandas | D14: m2 | E14: 20 | G14: =IF(OR(D14="%",D14=" &"),IF(F14="","",ROUND(ROUND(F14,3)*E14,2)),IF(F14="","",ROUND(ROUND(F14,2)*E14,2)))
G15: =IF(OR(D15="%",D15=" &"),IF(F15="","",ROUND(ROUND(F15,3)*E15,2)),IF(F15="","",ROUND(ROUND(F15,2)*E15,2)))
A16: C1.4.1.6 | B16: Car ports | D16: No. | E16: 10 | G16: =IF(OR(D16="%",D16=" &"),IF(F16="","",ROUND(ROUND(F16,3)*E16,2)),IF(F16="","",ROUND(ROUND(F16,2)*E16,2)))
G17: =IF(OR(D17="%",D17=" &"),IF(F17="","",ROUND(ROUND(F17,3)*E17,2)),IF(F17="","",ROUND(ROUND(F17,2)*E17,2)))
A18: C1.4.1.7 | B18: Ablution unit (equipped as specified) | D18: No. | E18: 6 | G18: =IF(OR(D18="%",D18=" &"),IF(F18="","",ROUND(ROUND(F18,3)*E18,2)),IF(F18="","",ROUND(ROUND(F18,2)*E18,2)))
G19: =IF(OR(D19="%",D19=" &"),IF(F19="","",ROUND(ROUND(F19,3)*E19,2)),IF(F19="","",ROUND(ROUND(F19,2)*E19,2)))
A20: C1.4.1.8 | B20: Change room with a shower | D20: No. | E20: 3 | G20: =IF(OR(D20="%",D20=" &"),IF(F20="","",ROUND(ROUND(F20,3)*E20,2)),IF(F20="","",ROUND(ROUND(F20,2)*E20,2)))
G21: =IF(OR(D21="%",D21=" &"),IF(F21="","",ROUND(ROUND(F21,3)*E21,2)),IF(F21="","",ROUND(ROUND(F21,2)*E21,2)))
A22: C1.4.1.9 | B22: Kitchen unit (equipped as specified) | D22: No. | E22: 3 | G22: =IF(OR(D22="%",D22=" &"),IF(F22="","",ROUND(ROUND(F22,3)*E22,2)),IF(F22="","",ROUND(ROUND(F22,2)*E22,2)))
G23: =IF(OR(D23="%",D23=" &"),IF(F23="","",ROUND(ROUND(F23,3)*E23,2)),IF(F23="","",ROUND(ROUND(F23,2)*E23,2)))
A24: C1.4.2 | B24: Items measured by area: | G24: =IF(OR(D24="%",D24=" &"),IF(F24="","",ROUND(ROUND(F24,3)*E24,2)),IF(F24="","",ROUND(ROUND(F24,2)*E24,2)))
G25: =IF(OR(D25="%",D25=" &"),IF(F25="","",ROUND(ROUND(F25,3)*E25,2)),IF(F25="","",ROUND(ROUND(F25,2)*E25,2)))
A26: C1.4.2.1 | B26: Shelving as specified, complete with brackets | D26: m2 | E26: 30 | G26: =IF(OR(D26="%",D26=" &"),IF(F26="","",ROUND(ROUND(F26,3)*E26,2)),IF(F26="","",ROUND(ROUND(F26,2)*E26,2)))
G27: =IF(OR(D27="%",D27=" &"),IF(F27="","",ROUND(ROUND(F27,3)*E27,2)),IF(F27="","",ROUND(ROUND(F27,2)*E27,2)))
A28: C1.4.2.7 | B28: Venetian blinds | D28: m2 | E28: 30 | G28: =IF(OR(D28="%",D28=" &"),IF(F28="","",ROUND(ROUND(F28,3)*E28,2)),IF(F28="","",ROUND(ROUND(F28,2)*E28,2)))
G29: =IF(OR(D29="%",D29=" &"),IF(F29="","",ROUND(ROUND(F29,3)*E29,2)),IF(F29="","",ROUND(ROUND(F29,2)*E29,2)))
A30: C1.4.2.8 | B30: Notice boards | D30: m2 | E30: 15 | G30: =IF(OR(D30="%",D30=" &"),IF(F30="","",ROUND(ROUND(F30,3)*E30,2)),IF(F30="","",ROUND(ROUND(F30,2)*E30,2)))
G31: =IF(OR(D31="%",D31=" &"),IF(F31="","",ROUND(ROUND(F31,3)*E31,2)),IF(F31="","",ROUND(ROUND(F31,2)*E31,2)))
A32: C1.4.2.9 | B32: White boards | D32: m2 | E32: 15 | G32: =IF(OR(D32="%",D32=" &"),IF(F32="","",ROUND(ROUND(F32,3)*E32,2)),IF(F32="","",ROUND(ROUND(F32,2)*E32,2)))
G33: =IF(OR(D33="%",D33=" &"),IF(F33="","",ROUND(ROUND(F33,3)*E33,2)),IF(F33="","",ROUND(ROUND(F33,2)*E33,2)))
A34: C1.4.3 | B34: Items measured by number: | G34: =IF(OR(D34="%",D34=" &"),IF(F34="","",ROUND(ROUND(F34,3)*E34,2)),IF(F34="","",ROUND(ROUND(F34,2)*E34,2)))
G35: =IF(OR(D35="%",D35=" &"),IF(F35="","",ROUND(ROUND(F35,3)*E35,2)),IF(F35="","",ROUND(ROUND(F35,2)*E35,2)))
A36: C1.4.3.2 | B36: Office chair | D36: No. | E36: 15 | G36: =IF(OR(D36="%",D36=" &"),IF(F36="","",ROUND(ROUND(F36,3)*E36,2)),IF(F36="","",ROUND(ROUND(F36,2)*E36,2)))
G37: =IF(OR(D37="%",D37=" &"),IF(F37="","",ROUND(ROUND(F37,3)*E37,2)),IF(F37="","",ROUND(ROUND(F37,2)*E37,2)))
A38: C1.4.3.5 | B38: Office desk with 3 drawers (at least one lockable drawer) | D38: No. | E38: 5 | G38: =IF(OR(D38="%",D38=" &"),IF(F38="","",ROUND(ROUND(F38,3)*E38,2)),IF(F38="","",ROUND(ROUND(F38,2)*E38,2)))
G39: =IF(OR(D39="%",D39=" &"),IF(F39="","",ROUND(ROUND(F39,3)*E39,2)),IF(F39="","",ROUND(ROUND(F39,2)*E39,2)))
A40: C1.4.3.7 | B40: Drawing table | D40: No. | E40: 3 | G40: =IF(OR(D40="%",D40=" &"),IF(F40="","",ROUND(ROUND(F40,3)*E40,2)),IF(F40="","",ROUND(ROUND(F40,2)*E40,2)))
G41: =IF(OR(D41="%",D41=" &"),IF(F41="","",ROUND(ROUND(F41,3)*E41,2)),IF(F41="","",ROUND(ROUND(F41,2)*E41,2)))
A42: C1.4.3.8 | B42: Conference table | D42: No. | E42: 2 | G42: =IF(OR(D42="%",D42=" &"),IF(F42="","",ROUND(ROUND(F42,3)*E42,2)),IF(F42="","",ROUND(ROUND(F42,2)*E42,2)))
...

Sheet A_C11.4
A1: SECTION C11.4 | D1: ROAD RESTRAINT SYSTEMS
A4: ITEM | B4: DESCRIPTION | D4: UNIT | E4: QTY | F4: RATE | G4: AMOUNT
G5: =IF(OR(D5="%",D5=" &"),IF(F5="","",ROUND(ROUND(F5,3)*E5,2)),IF(F5="","",ROUND(ROUND(F5,2)*E5,2)))
A6: C11.4 | B6: =D1 -> ROAD RESTRAINT SYSTEMS | G6: =IF(OR(D6="%",D6=" &"),IF(F6="","",ROUND(ROUND(F6,3)*E6,2)),IF(F6="","",ROUND(ROUND(F6,2)*E6,2)))
G7: =IF(OR(D7="%",D7=" &"),IF(F7="","",ROUND(ROUND(F7,3)*E7,2)),IF(F7="","",ROUND(ROUND(F7,2)*E7,2)))
A8: C11.4.1 | B8: Erecting of guardrails at 3,81 m spacing | G8: =IF(OR(D8="%",D8=" &"),IF(F8="","",ROUND(ROUND(F8,3)*E8,2)),IF(F8="","",ROUND(ROUND(F8,2)*E8,2)))
G9: =IF(OR(D9="%",D9=" &"),IF(F9="","",ROUND(ROUND(F9,3)*E9,2)),IF(F9="","",ROUND(ROUND(F9,2)*E9,2)))
A10: C11.4.1.1 | B10: Complete galvanized system compliant to SANS 1350: | G10: =IF(OR(D10="%",D10=" &"),IF(F10="","",ROUND(ROUND(F10,3)*E10,2)),IF(F10="","",ROUND(ROUND(F10,2)*E10,2)))
G11: =IF(OR(D11="%",D11=" &"),IF(F11="","",ROUND(ROUND(F11,3)*E11,2)),IF(F11="","",ROUND(ROUND(F11,2)*E11,2)))
B12: (a) | C12: On timber posts (drg no. TD-R-GR-001 and TD-R-GR-002) | D12: m | E12: 500 | G12: =IF(OR(D12="%",D12=" &"),IF(F12="","",ROUND(ROUND(F12,3)*E12,2)),IF(F12="","",ROUND(ROUND(F12,2)*E12,2)))
G13: =IF(OR(D13="%",D13=" &"),IF(F13="","",ROUND(ROUND(F13,3)*E13,2)),IF(F13="","",ROUND(ROUND(F13,2)*E13,2)))
B14: (b) | C14: On steel posts used at specific locations (drg no. TD-R-GR-001 and TD-R-GR-002) | D14: m | E14: 50 | G14: =IF(OR(D14="%",D14=" &"),IF(F14="","",ROUND(ROUND(F14,3)*E14,2)),IF(F14="","",ROUND(ROUND(F14,2)*E14,2)))
G15: =IF(OR(D15="%",D15=" &"),IF(F15="","",ROUND(ROUND(F15,3)*E15,2)),IF(F15="","",ROUND(ROUND(F15,2)*E15,2)))
A16: C11.4.1.2 | B16: Terminal sections for 3,81 guardrails comprising of: | G16: =IF(OR(D16="%",D16=" &"),IF(F16="","",ROUND(ROUND(F16,3)*E16,2)),IF(F16="","",ROUND(ROUND(F16,2)*E16,2)))
G17: =IF(OR(D17="%",D17=" &"),IF(F17="","",ROUND(ROUND(F17,3)*E17,2)),IF(F17="","",ROUND(ROUND(F17,2)*E17,2)))
B18: (b) | C18: Bullnoses to SANS 1350 | D18: No. | E18: 2 | G18: =IF(OR(D18="%",D18=" &"),IF(F18="","",ROUND(ROUND(F18,3)*E18,2)),IF(F18="","",ROUND(ROUND(F18,2)*E18,2)))
G19: =IF(OR(D19="%",D19=" &"),IF(F19="","",ROUND(ROUND(F19,3)*E19,2)),IF(F19="","",ROUND(ROUND(F19,2)*E19,2)))
B20: (e) | C20: End treatments where double guardrail sections are specified (drg no. TD-R-GR-100 and TD-R-GR-101) | D20: No. | E20: 2 | G20: =IF(OR(D20="%",D20=" &"),IF(F20="","",ROUND(ROUND(F20,3)*E20,2)),IF(F20="","",ROUND(ROUND(F20,2)*E20,2)))
G21: =IF(OR(D21="%",D21=" &"),IF(F21="","",ROUND(ROUND(F21,3)*E21,2)),IF(F21="","",ROUND(ROUND(F21,2)*E21,2)))
A22: C11.4.5 | B22: Additional guardrail posts for 3,81 m systems: | G22: =IF(OR(D22="%",D22=" &"),IF(F22="","",ROUND(ROUND(F22,3)*E22,2)),IF(F22="","",ROUND(ROUND(F22,2)*E22,2)))
G23: =IF(OR(D23="%",D23=" &"),IF(F23="","",ROUND(ROUND(F23,3)*E23,2)),IF(F23="","",ROUND(ROUND(F23,2)*E23,2)))
A24: C11.4.5.1 | B24: Timber | D24: No. | E24: 100 | G24: =IF(OR(D24="%",D24=" &"),IF(F24="","",ROUND(ROUND(F24,3)*E24,2)),IF(F24="","",ROUND(ROUND(F24,2)*E24,2)))
G25: =IF(OR(D25="%",D25=" &"),IF(F25="","",ROUND(ROUND(F25,3)*E25,2)),IF(F25="","",ROUND(ROUND(F25,2)*E25,2)))
A26: C11.4.5.2 | B26: Steel (drg no. TD-R-GR-002) | D26: No. | E26: 25 | G26: =IF(OR(D26="%",D26=" &"),IF(F26="","",ROUND(ROUND(F26,3)*E26,2)),IF(F26="","",ROUND(ROUND(F26,2)*E26,2)))
G27: =IF(OR(D27="%",D27=" &"),IF(F27="","",ROUND(ROUND(F27,3)*E27,2)),IF(F27="","",ROUND(ROUND(F27,2)*E27,2)))
A28: C11.4.6 | B28: Reflective plates | G28: =IF(OR(D28="%",D28=" &"),IF(F28="","",ROUND(ROUND(F28,3)*E28,2)),IF(F28="","",ROUND(ROUND(F28,2)*E28,2)))
G29: =IF(OR(D29="%",D29=" &"),IF(F29="","",ROUND(ROUND(F29,3)*E29,2)),IF(F29="","",ROUND(ROUND(F29,2)*E29,2)))
A30: C11.4.6.1 | B30: Steel plates | D30: No. | E30: 100 | G30: =IF(OR(D30="%",D30=" &"),IF(F30="","",ROUND(ROUND(F30,3)*E30,2)),IF(F30="","",ROUND(ROUND(F30,2)*E30,2)))
G31: =IF(OR(D31="%",D31=" &"),IF(F31="","",ROUND(ROUND(F31,3)*E31,2)),IF(F31="","",ROUND(ROUND(F31,2)*E31,2)))
A32: C11.4.7 | B32: Removing existing guardrails | D32: m | E32: 500 | G32: =IF(OR(D32="%",D32=" &"),IF(F32="","",ROUND(ROUND(F32,3)*E32,2)),IF(F32="","",ROUND(ROUND(F32,2)*E32,2)))
G33: =IF(OR(D33="%",D33=" &"),IF(F33="","",ROUND(ROUND(F33,3)*E33,2)),IF(F33="","",ROUND(ROUND(F33,2)*E33,2)))
A34: C11.4.12 | B34: Extra over items C11.4.1 and C11.4.2 for drilling and blasting holes for guardrail posts | D34: No. | E34: 10 | G34: =IF(OR(D34="%",D34=" &"),IF(F34="","",ROUND(ROUND(F34,3)*E34,2)),IF(F34="","",ROUND(ROUND(F34,2)*E34,2)))
G35: =IF(OR(D35="%",D35=" &"),IF(F35="","",ROUND(ROUND(F35,3)*E35,2)),IF(F35="","",ROUND(ROUND(F35,2)*E35,2)))
A36: C11.4.13 | B36: Steel base plates for guardrail posts on structures | D36: No. | E36: 25 | G36: =IF(OR(D36="%",D36=" &"),IF(F36="","",ROUND(ROUND(F36,3)*E36,2)),IF(F36="","",ROUND(ROUND(F36,2)*E36,2)))
G37: =IF(OR(D37="%",D37=" &"),IF(F37="","",ROUND(ROUND(F37,3)*E37,2)),IF(F37="","",ROUND(ROUND(F37,2)*E37,2)))
A38: C11.4.14 | B38: Nailing of gang nail plates on top of timber guardrail posts | D38: No. | E38: 250 | G38: =IF(OR(D38="%",D38=" &"),IF(F38="","",ROUND(ROUND(F38,3)*E38,2)),IF(F38="","",ROUND(ROUND(F38,2)*E38,2)))
G39: =IF(OR(D39="%",D39=" &"),IF(F39="","",ROUND(ROUND(F39,3)*E39,2)),IF(F39="","",ROUND(ROUND(F39,2)*E39,2)))
A40: C11.4.15 | B40: Disposal of existing guardrails | G40: =IF(OR(D40="%",D40=" &"),IF(F40="","",ROUND(ROUND(F40,3)*E40,2)),IF(F40="","",ROUND(ROUND(F40,2)*E40,2)))
G41: =IF(OR(D41="%",D41=" &"),IF(F41="","",ROUND(ROUND(F41,3)*E41,2)),IF(F41="","",ROUND(ROUND(F41,2)*E41,2)))
A42: C11.4.15.1 | B42: Straight or curved longitudinal guardrails | D42: m | E42: 500 | G42: =IF(OR(D42="%",D42=" &"),IF(F42="","",ROUND(ROUND(F42,3)*E42,2)),IF(F42="","",ROUND(ROUND(F42,2)*E42,2)))
...

Sheet A_C11.5
A1: SECTION C11.5 | D1: FENCING
A4: ITEM | B4: DESCRIPTION | D4: UNIT | E4: QTY | F4: RATE | G4: AMOUNT
G5: =IF(OR(D5="%",D5=" &"),IF(F5="","",ROUND(ROUND(F5,3)*E5,2)),IF(F5="","",ROUND(ROUND(F5,2)*E5,2)))
A6: C11.5 | B6: =D1 -> FENCING | G6: =IF(OR(D6="%",D6=" &"),IF(F6="","",ROUND(ROUND(F6,3)*E6,2)),IF(F6="","",ROUND(ROUND(F6,2)*E6,2)))
G7: =IF(OR(D7="%",D7=" &"),IF(F7="","",ROUND(ROUND(F7,3)*E7,2)),IF(F7="","",ROUND(ROUND(F7,2)*E7,2)))
A8: C11.5.1 | B8: Supply and erect new fencing material for new fences and for supplementing material in existing fences which are being repaired or removed: | G8: =IF(OR(D8="%",D8=" &"),IF(F8="","",ROUND(ROUND(F8,3)*E8,2)),IF(F8="","",ROUND(ROUND(F8,2)*E8,2)))
G9: =IF(OR(D9="%",D9=" &"),IF(F9="","",ROUND(ROUND(F9,3)*E9,2)),IF(F9="","",ROUND(ROUND(F9,2)*E9,2)))
A10: C11.5.1.1 | B10: Zinc-coated barbed wire (high tensile grade SANS 675, 3,2 mm x 2,5 mm oval shaped, fully galvanised) | D10: km | E10: 25 | G10: =IF(OR(D10="%",D10=" &"),IF(F10="","",ROUND(ROUND(F10,3)*E10,2)),IF(F10="","",ROUND(ROUND(F10,2)*E10,2)))
G11: =IF(OR(D11="%",D11=" &"),IF(F11="","",ROUND(ROUND(F11,3)*E11,2)),IF(F11="","",ROUND(ROUND(F11,2)*E11,2)))
A12: C11.5.1.2 | B12: Zinc-coated smooth wire (high tensile grade SANS 675, 3,0 mm Ø, fully galvanised) | D12: km | E12: 5 | G12: =IF(OR(D12="%",D12=" &"),IF(F12="","",ROUND(ROUND(F12,3)*E12,2)),IF(F12="","",ROUND(ROUND(F12,2)*E12,2)))
G13: =IF(OR(D13="%",D13=" &"),IF(F13="","",ROUND(ROUND(F13,3)*E13,2)),IF(F13="","",ROUND(ROUND(F13,2)*E13,2)))
A14: C11.5.1.4 | B14: Wire netting | D14: m2 | E14: 1500 | G14: =IF(OR(D14="%",D14=" &"),IF(F14="","",ROUND(ROUND(F14,3)*E14,2)),IF(F14="","",ROUND(ROUND(F14,2)*E14,2)))
G15: =IF(OR(D15="%",D15=" &"),IF(F15="","",ROUND(ROUND(F15,3)*E15,2)),IF(F15="","",ROUND(ROUND(F15,2)*E15,2)))
A16: C11.5.1.7 | B16: Standards | G16: =IF(OR(D16="%",D16=" &"),IF(F16="","",ROUND(ROUND(F16,3)*E16,2)),IF(F16="","",ROUND(ROUND(F16,2)*E16,2)))
G17: =IF(OR(D17="%",D17=" &"),IF(F17="","",ROUND(ROUND(F17,3)*E17,2)),IF(F17="","",ROUND(ROUND(F17,2)*E17,2)))
B18: (a) | C18: Timber (2,000 mm x 100 mm Ø, notched) | D18: No. | E18: 50 | G18: =IF(OR(D18="%",D18=" &"),IF(F18="","",ROUND(ROUND(F18,3)*E18,2)),IF(F18="","",ROUND(ROUND(F18,2)*E18,2)))
G19: =IF(OR(D19="%",D19=" &"),IF(F19="","",ROUND(ROUND(F19,3)*E19,2)),IF(F19="","",ROUND(ROUND(F19,2)*E19,2)))
B20: (b) | C20: Steel (1,850 mm x 2,5 kg/m "Y" section complete with holes at 50 mm centers, fully galvanised) | D20: No. | E20: 130 | G20: =IF(OR(D20="%",D20=" &"),IF(F20="","",ROUND(ROUND(F20,3)*E20,2)),IF(F20="","",ROUND(ROUND(F20,2)*E20,2)))
G21: =IF(OR(D21="%",D21=" &"),IF(F21="","",ROUND(ROUND(F21,3)*E21,2)),IF(F21="","",ROUND(ROUND(F21,2)*E21,2)))
A22: C11.5.1.8 | B22: Droppers | G22: =IF(OR(D22="%",D22=" &"),IF(F22="","",ROUND(ROUND(F22,3)*E22,2)),IF(F22="","",ROUND(ROUND(F22,2)*E22,2)))
G23: =IF(OR(D23="%",D23=" &"),IF(F23="","",ROUND(ROUND(F23,3)*E23,2)),IF(F23="","",ROUND(ROUND(F23,2)*E23,2)))
B24: (a) | C24: Timber (1,400 mm x 136 mm Ø, notched) | D24: No. | E24: 450 | G24: =IF(OR(D24="%",D24=" &"),IF(F24="","",ROUND(ROUND(F24,3)*E24,2)),IF(F24="","",ROUND(ROUND(F24,2)*E24,2)))
G25: =IF(OR(D25="%",D25=" &"),IF(F25="","",ROUND(ROUND(F25,3)*E25,2)),IF(F25="","",ROUND(ROUND(F25,2)*E25,2)))
B26: (b) | C26: Steel (1,200 mm x 0.56 mm kg/m ridgeback pattern, fully galvanised) | D26: No. | E26: 500 | G26: =IF(OR(D26="%",D26=" &"),IF(F26="","",ROUND(ROUND(F26,3)*E26,2)),IF(F26="","",ROUND(ROUND(F26,2)*E26,2)))
G27: =IF(OR(D27="%",D27=" &"),IF(F27="","",ROUND(ROUND(F27,3)*E27,2)),IF(F27="","",ROUND(ROUND(F27,2)*E27,2)))
B28: (c) | C28: Steel (1,400 mm x 0.56 mm kg/m ridgeback pattern, fully galvanised) | D28: No. | E28: 500 | G28: =IF(OR(D28="%",D28=" &"),IF(F28="","",ROUND(ROUND(F28,3)*E28,2)),IF(F28="","",ROUND(ROUND(F28,2)*E28,2)))
G29: =IF(OR(D29="%",D29=" &"),IF(F29="","",ROUND(ROUND(F29,3)*E29,2)),IF(F29="","",ROUND(ROUND(F29,2)*E29,2)))
A30: C11.5.1.9 | B30: Straining posts, stays and anchors: | G30: =IF(OR(D30="%",D30=" &"),IF(F30="","",ROUND(ROUND(F30,3)*E30,2)),IF(F30="","",ROUND(ROUND(F30,2)*E30,2)))
G31: =IF(OR(D31="%",D31=" &"),IF(F31="","",ROUND(ROUND(F31,3)*E31,2)),IF(F31="","",ROUND(ROUND(F31,2)*E31,2)))
B32: (a) | C32: Vertical | G32: =IF(OR(D32="%",D32=" &"),IF(F32="","",ROUND(ROUND(F32,3)*E32,2)),IF(F32="","",ROUND(ROUND(F32,2)*E32,2)))
G33: =IF(OR(D33="%",D33=" &"),IF(F33="","",ROUND(ROUND(F33,3)*E33,2)),IF(F33="","",ROUND(ROUND(F33,2)*E33,2)))
C34: (i) Steel straining posts | G34: =IF(OR(D34="%",D34=" &"),IF(F34="","",ROUND(ROUND(F34,3)*E34,2)),IF(F34="","",ROUND(ROUND(F34,2)*E34,2)))
C35: (2,130 mm x 100 mm Ø x 3 mm mild steel tubing, fully galvanised) | D35: No. | E35: 20 | G35: =IF(OR(D35="%",D35=" &"),IF(F35="","",ROUND(ROUND(F35,3)*E35,2)),IF(F35="","",ROUND(ROUND(F35,2)*E35,2)))
G36: =IF(OR(D36="%",D36=" &"),IF(F36="","",ROUND(ROUND(F36,3)*E36,2)),IF(F36="","",ROUND(ROUND(F36,2)*E36,2)))
C37: (ii) Timber straining posts | G37: =IF(OR(D37="%",D37=" &"),IF(F37="","",ROUND(ROUND(F37,3)*E37,2)),IF(F37="","",ROUND(ROUND(F37,2)*E37,2)))
C38: (2,100 mm x 125 mm Ø, notched) | D38: No. | E38: 20 | G38: =IF(OR(D38="%",D38=" &"),IF(F38="","",ROUND(ROUND(F38,3)*E38,2)),IF(F38="","",ROUND(ROUND(F38,2)*E38,2)))
G39: =IF(OR(D39="%",D39=" &"),IF(F39="","",ROUND(ROUND(F39,3)*E39,2)),IF(F39="","",ROUND(ROUND(F39,2)*E39,2)))
B40: (b) | C40: Inclined | G40: =IF(OR(D40="%",D40=" &"),IF(F40="","",ROUND(ROUND(F40,3)*E40,2)),IF(F40="","",ROUND(ROUND(F40,2)*E40,2)))
G41: =IF(OR(D41="%",D41=" &"),IF(F41="","",ROUND(ROUND(F41,3)*E41,2)),IF(F41="","",ROUND(ROUND(F41,2)*E41,2)))
C42: (i) Steel stays and anchors | G42: =IF(OR(D42="%",D42=" &"),IF(F42="","",ROUND(ROUND(F42,3)*E42,2)),IF(F42="","",ROUND(ROUND(F42,2)*E42,2)))
...

Sheet A_C20.1
A1: SECTION C20.1 | D1: TESTING MATERIALS AND JUDGEMENT OF WORKMANSHIP
A4: ITEM | B4: DESCRIPTION | D4: UNIT | E4: QTY | F4: RATE | G4: AMOUNT
G5: =IF(OR(D5="%",D5=" &"),IF(F5="","",ROUND(ROUND(F5,3)*E5,2)),IF(F5="","",ROUND(ROUND(F5,2)*E5,2)))
A6: C20.1 | B6: =D1 -> TESTING MATERIALS AND JUDGEMENT OF WORKMANSHIP | G6: =IF(OR(D6="%",D6=" &"),IF(F6="","",ROUND(ROUND(F6,3)*E6,2)),IF(F6="","",ROUND(ROUND(F6,2)*E6,2)))
G7: =IF(OR(D7="%",D7=" &"),IF(F7="","",ROUND(ROUND(F7,3)*E7,2)),IF(F7="","",ROUND(ROUND(F7,2)*E7,2)))
A8: PC20.1.6 | B8: Other special tests requested by the Engineer: | G8: =IF(OR(D8="%",D8=" &"),IF(F8="","",ROUND(ROUND(F8,3)*E8,2)),IF(F8="","",ROUND(ROUND(F8,2)*E8,2)))
G9: =IF(OR(D9="%",D9=" &"),IF(F9="","",ROUND(ROUND(F9,3)*E9,2)),IF(F9="","",ROUND(ROUND(F9,2)*E9,2)))
A10: PC20.1.6.1 | B10: Tests requested by the Engineer | D10: PC Sum | E10: 1 | F10: 500000 | G10: =IF(OR(D10="%",D10=" &"),IF(F10="","",ROUND(ROUND(F10,3)*E10,2)),IF(F10="","",ROUND(ROUND(F10,2)*E10,2))) -> 500000
G11: =IF(OR(D11="%",D11=" &"),IF(F11="","",ROUND(ROUND(F11,3)*E11,2)),IF(F11="","",ROUND(ROUND(F11,2)*E11,2)))
A12: PC20.1.6.2 | B12: Handling costs and profit in respect of item PC20.1.6.1 | D12: % | E12: 500000 | G12: =IF(OR(D12="%",D12=" &"),IF(F12="","",ROUND(ROUND(F12,3)*E12,2)),IF(F12="","",ROUND(ROUND(F12,2)*E12,2)))
G13: =IF(OR(D13="%",D13=" &"),IF(F13="","",ROUND(ROUND(F13,3)*E13,2)),IF(F13="","",ROUND(ROUND(F13,2)*E13,2)))
G14: =IF(OR(D14="%",D14=" &"),IF(F14="","",ROUND(ROUND(F14,3)*E14,2)),IF(F14="","",ROUND(ROUND(F14,2)*E14,2)))
G15: =IF(OR(D15="%",D15=" &"),IF(F15="","",ROUND(ROUND(F15,3)*E15,2)),IF(F15="","",ROUND(ROUND(F15,2)*E15,2)))
G16: =IF(OR(D16="%",D16=" &"),IF(F16="","",ROUND(ROUND(F16,3)*E16,2)),IF(F16="","",ROUND(ROUND(F16,2)*E16,2)))
G17: =IF(OR(D17="%",D17=" &"),IF(F17="","",ROUND(ROUND(F17,3)*E17,2)),IF(F17="","",ROUND(ROUND(F17,2)*E17,2)))
G18: =IF(OR(D18="%",D18=" &"),IF(F18="","",ROUND(ROUND(F18,3)*E18,2)),IF(F18="","",ROUND(ROUND(F18,2)*E18,2)))
G19: =IF(OR(D19="%",D19=" &"),IF(F19="","",ROUND(ROUND(F19,3)*E19,2)),IF(F19="","",ROUND(ROUND(F19,2)*E19,2)))
G20: =IF(OR(D20="%",D20=" &"),IF(F20="","",ROUND(ROUND(F20,3)*E20,2)),IF(F20="","",ROUND(ROUND(F20,2)*E20,2)))
G21: =IF(OR(D21="%",D21=" &"),IF(F21="","",ROUND(ROUND(F21,3)*E21,2)),IF(F21="","",ROUND(ROUND(F21,2)*E21,2)))
G22: =IF(OR(D22="%",D22=" &"),IF(F22="","",ROUND(ROUND(F22,3)*E22,2)),IF(F22="","",ROUND(ROUND(F22,2)*E22,2)))
G23: =IF(OR(D23="%",D23=" &"),IF(F23="","",ROUND(ROUND(F23,3)*E23,2)),IF(F23="","",ROUND(ROUND(F23,2)*E23,2)))
G24: =IF(OR(D24="%",D24=" &"),IF(F24="","",ROUND(ROUND(F24,3)*E24,2)),IF(F24="","",ROUND(ROUND(F24,2)*E24,2)))
... G55: =IF(OR(D55="%",D55=" &"),IF(F55="","",ROUND(ROUND(F55,3)*E55,2)),IF(F55="","",ROUND(ROUND(F55,2)*E55,2)))
A56: TOTAL CARRIED TO SUMMARY | G56: =SUM(G5:G55) -> 500000

Sheet B1_C1.5
A1: SECTION C1.5 | D1: ACCOMMODATION OF TRAFFIC
A4: ITEM | B4: DESCRIPTION | D4: UNIT | E4: QTY | F4: RATE | G4: AMOUNT
G5: =IF(OR(D5="%",D5=" &"),IF(F5="","",ROUND(ROUND(F5,3)*E5,2)),IF(F5="","",ROUND(ROUND(F5,2)*E5,2)))
A6: C1.5 | B6: =D1 -> ACCOMMODATION OF TRAFFIC | G6: =IF(OR(D6="%",D6=" &"),IF(F6="","",ROUND(ROUND(F6,3)*E6,2)),IF(F6="","",ROUND(ROUND(F6,2)*E6,2)))
G7: =IF(OR(D7="%",D7=" &"),IF(F7="","",ROUND(ROUND(F7,3)*E7,2)),IF(F7="","",ROUND(ROUND(F7,2)*E7,2)))
A8: C1.5.2 | B8: Accommodation of vehicular traffic | D8: month | E8: 14 | G8: =IF(OR(D8="%",D8=" &"),IF(F8="","",ROUND(ROUND(F8,3)*E8,2)),IF(F8="","",ROUND(ROUND(F8,2)*E8,2)))
G9: =IF(OR(D9="%",D9=" &"),IF(F9="","",ROUND(ROUND(F9,3)*E9,2)),IF(F9="","",ROUND(ROUND(F9,2)*E9,2)))
A10: C1.5.3 | B10: Liaison with traffic authorities | D10: month | E10: 14 | G10: =IF(OR(D10="%",D10=" &"),IF(F10="","",ROUND(ROUND(F10,3)*E10,2)),IF(F10="","",ROUND(ROUND(F10,2)*E10,2)))
G11: =IF(OR(D11="%",D11=" &"),IF(F11="","",ROUND(ROUND(F11,3)*E11,2)),IF(F11="","",ROUND(ROUND(F11,2)*E11,2)))
A12: C1.5.7 | B12: Temporary traffic control facilities | G12: =IF(OR(D12="%",D12=" &"),IF(F12="","",ROUND(ROUND(F12,3)*E12,2)),IF(F12="","",ROUND(ROUND(F12,2)*E12,2)))
G13: =IF(OR(D13="%",D13=" &"),IF(F13="","",ROUND(ROUND(F13,3)*E13,2)),IF(F13="","",ROUND(ROUND(F13,2)*E13,2)))
A14: C1.5.7.1 | B14: Delineators including mounting bases and ballast: | G14: =IF(OR(D14="%",D14=" &"),IF(F14="","",ROUND(ROUND(F14,3)*E14,2)),IF(F14="","",ROUND(ROUND(F14,2)*E14,2)))
G15: =IF(OR(D15="%",D15=" &"),IF(F15="","",ROUND(ROUND(F15,3)*E15,2)),IF(F15="","",ROUND(ROUND(F15,2)*E15,2)))
B16: (c) | C16: Reboundable delineators, single sided (200 x 800 mm, minimum 16 kg base) | D16: No. | E16: 100 | G16: =IF(OR(D16="%",D16=" &"),IF(F16="","",ROUND(ROUND(F16,3)*E16,2)),IF(F16="","",ROUND(ROUND(F16,2)*E16,2)))
G17: =IF(OR(D17="%",D17=" &"),IF(F17="","",ROUND(ROUND(F17,3)*E17,2)),IF(F17="","",ROUND(ROUND(F17,2)*E17,2)))
B18: (d) | C18: Reboundable delineators, double sided (200 x 800 mm, minimum 16 kg base) | D18: No. | E18: 200 | G18: =IF(OR(D18="%",D18=" &"),IF(F18="","",ROUND(ROUND(F18,3)*E18,2)),IF(F18="","",ROUND(ROUND(F18,2)*E18,2)))
G19: =IF(OR(D19="%",D19=" &"),IF(F19="","",ROUND(ROUND(F19,3)*E19,2)),IF(F19="","",ROUND(ROUND(F19,2)*E19,2)))
A20: C1.5.7.2 | B20: Traffic cones, minimum height 750 mm | D20: No. | E20: 50 | G20: =IF(OR(D20="%",D20=" &"),IF(F20="","",ROUND(ROUND(F20,3)*E20,2)),IF(F20="","",ROUND(ROUND(F20,2)*E20,2)))
G21: =IF(OR(D21="%",D21=" &"),IF(F21="","",ROUND(ROUND(F21,3)*E21,2)),IF(F21="","",ROUND(ROUND(F21,2)*E21,2)))
A22: C1.5.7.3 | B22: Flagmen | D22: man-shift | E22: 6000 | G22: =IF(OR(D22="%",D22=" &"),IF(F22="","",ROUND(ROUND(F22,3)*E22,2)),IF(F22="","",ROUND(ROUND(F22,2)*E22,2)))
G23: =IF(OR(D23="%",D23=" &"),IF(F23="","",ROUND(ROUND(F23,3)*E23,2)),IF(F23="","",ROUND(ROUND(F23,2)*E23,2)))
A24: C1.5.7.4 | B24: Traffic controllers | D24: man-shift | E24: 3000 | G24: =IF(OR(D24="%",D24=" &"),IF(F24="","",ROUND(ROUND(F24,3)*E24,2)),IF(F24="","",ROUND(ROUND(F24,2)*E24,2)))
G25: =IF(OR(D25="%",D25=" &"),IF(F25="","",ROUND(ROUND(F25,3)*E25,2)),IF(F25="","",ROUND(ROUND(F25,2)*E25,2)))
A26: C1.5.7.5 | B26: Provision of illuminated traffic signs: | G26: =IF(OR(D26="%",D26=" &"),IF(F26="","",ROUND(ROUND(F26,3)*E26,2)),IF(F26="","",ROUND(ROUND(F26,2)*E26,2)))
G27: =IF(OR(D27="%",D27=" &"),IF(F27="","",ROUND(ROUND(F27,3)*E27,2)),IF(F27="","",ROUND(ROUND(F27,2)*E27,2)))
B28: (a) | C28: Sign mounted flashing amber lights (2 lights with the specified power supply) mounted on a backing board which is: | G28: =IF(OR(D28="%",D28=" &"),IF(F28="","",ROUND(ROUND(F28,3)*E28,2)),IF(F28="","",ROUND(ROUND(F28,2)*E28,2)))
G29: =IF(OR(D29="%",D29=" &"),IF(F29="","",ROUND(ROUND(F29,3)*E29,2)),IF(F29="","",ROUND(ROUND(F29,2)*E29,2)))
C30: (ii) 1200 mm wide x 200 mm high | D30: No. | E30: 4 | G30: =IF(OR(D30="%",D30=" &"),IF(F30="","",ROUND(ROUND(F30,3)*E30,2)),IF(F30="","",ROUND(ROUND(F30,2)*E30,2)))
G31: =IF(OR(D31="%",D31=" &"),IF(F31="","",ROUND(ROUND(F31,3)*E31,2)),IF(F31="","",ROUND(ROUND(F31,2)*E31,2)))
B32: (e) | C32: Mobile variable message sign | D32: No. | E32: 2 | G32: =IF(OR(D32="%",D32=" &"),IF(F32="","",ROUND(ROUND(F32,3)*E32,2)),IF(F32="","",ROUND(ROUND(F32,2)*E32,2)))
G33: =IF(OR(D33="%",D33=" &"),IF(F33="","",ROUND(ROUND(F33,3)*E33,2)),IF(F33="","",ROUND(ROUND(F33,2)*E33,2)))
A34: C1.5.7.6 | B34: Maintenance of illuminated traffic signs: | G34: =IF(OR(D34="%",D34=" &"),IF(F34="","",ROUND(ROUND(F34,3)*E34,2)),IF(F34="","",ROUND(ROUND(F34,2)*E34,2)))
G35: =IF(OR(D35="%",D35=" &"),IF(F35="","",ROUND(ROUND(F35,3)*E35,2)),IF(F35="","",ROUND(ROUND(F35,2)*E35,2)))
B36: (a) | C36: Sign mounted flashing amber lights (a pair of two lights mounted on a separate backing board) | D36: month | E36: 14 | G36: =IF(OR(D36="%",D36=" &"),IF(F36="","",ROUND(ROUND(F36,3)*E36,2)),IF(F36="","",ROUND(ROUND(F36,2)*E36,2)))
G37: =IF(OR(D37="%",D37=" &"),IF(F37="","",ROUND(ROUND(F37,3)*E37,2)),IF(F37="","",ROUND(ROUND(F37,2)*E37,2)))
B38: (e) | C38: Mobile variable message sign | D38: month | E38: 14 | G38: =IF(OR(D38="%",D38=" &"),IF(F38="","",ROUND(ROUND(F38,3)*E38,2)),IF(F38="","",ROUND(ROUND(F38,2)*E38,2)))
G39: =IF(OR(D39="%",D39=" &"),IF(F39="","",ROUND(ROUND(F39,3)*E39,2)),IF(F39="","",ROUND(ROUND(F39,2)*E39,2)))
A40: C1.5.7.8 | B40: Traffic control stations | D40: month | E40: 14 | G40: =IF(OR(D40="%",D40=" &"),IF(F40="","",ROUND(ROUND(F40,3)*E40,2)),IF(F40="","",ROUND(ROUND(F40,2)*E40,2)))
G41: =IF(OR(D41="%",D41=" &"),IF(F41="","",ROUND(ROUND(F41,3)*E41,2)),IF(F41="","",ROUND(ROUND(F41,2)*E41,2)))
A42: C1.5.7.9 | B42: Cleaning of traffic control facilities | D42: month | E42: 14 | G42: =IF(OR(D42="%",D42=" &"),IF(F42="","",ROUND(ROUND(F42,3)*E42,2)),IF(F42="","",ROUND(ROUND(F42,2)*E42,2)))
...

Sheet B1_C11.8
A1: SECTION C11.8 | D1: LANDSCAPING AND PLANTING PLANTS
A4: ITEM | B4: DESCRIPTION | D4: UNIT | E4: QTY | F4: RATE | G4: AMOUNT
G5: =IF(OR(D5="%",D5=" &"),IF(F5="","",ROUND(ROUND(F5,3)*E5,2)),IF(F5="","",ROUND(ROUND(F5,2)*E5,2)))
A6: C11.8 | B6: =D1 -> LANDSCAPING AND PLANTING PLANTS | G6: =IF(OR(D6="%",D6=" &"),IF(F6="","",ROUND(ROUND(F6,3)*E6,2)),IF(F6="","",ROUND(ROUND(F6,2)*E6,2)))
G7: =IF(OR(D7="%",D7=" &"),IF(F7="","",ROUND(ROUND(F7,3)*E7,2)),IF(F7="","",ROUND(ROUND(F7,2)*E7,2)))
A8: C11.8.10 | B8: Unspecified work for landscaping | D8: Prov. Sum | E8: 1 | F8: 1000000 | G8: =IF(OR(D8="%",D8=" &"),IF(F8="","",ROUND(ROUND(F8,3)*E8,2)),IF(F8="","",ROUND(ROUND(F8,2)*E8,2))) -> 1000000
G9: =IF(OR(D9="%",D9=" &"),IF(F9="","",ROUND(ROUND(F9,3)*E9,2)),IF(F9="","",ROUND(ROUND(F9,2)*E9,2)))
G10: =IF(OR(D10="%",D10=" &"),IF(F10="","",ROUND(ROUND(F10,3)*E10,2)),IF(F10="","",ROUND(ROUND(F10,2)*E10,2)))
G11: =IF(OR(D11="%",D11=" &"),IF(F11="","",ROUND(ROUND(F11,3)*E11,2)),IF(F11="","",ROUND(ROUND(F11,2)*E11,2)))
G12: =IF(OR(D12="%",D12=" &"),IF(F12="","",ROUND(ROUND(F12,3)*E12,2)),IF(F12="","",ROUND(ROUND(F12,2)*E12,2)))
G13: =IF(OR(D13="%",D13=" &"),IF(F13="","",ROUND(ROUND(F13,3)*E13,2)),IF(F13="","",ROUND(ROUND(F13,2)*E13,2)))
G14: =IF(OR(D14="%",D14=" &"),IF(F14="","",ROUND(ROUND(F14,3)*E14,2)),IF(F14="","",ROUND(ROUND(F14,2)*E14,2)))
G15: =IF(OR(D15="%",D15=" &"),IF(F15="","",ROUND(ROUND(F15,3)*E15,2)),IF(F15="","",ROUND(ROUND(F15,2)*E15,2)))
G16: =IF(OR(D16="%",D16=" &"),IF(F16="","",ROUND(ROUND(F16,3)*E16,2)),IF(F16="","",ROUND(ROUND(F16,2)*E16,2)))
G17: =IF(OR(D17="%",D17=" &"),IF(F17="","",ROUND(ROUND(F17,3)*E17,2)),IF(F17="","",ROUND(ROUND(F17,2)*E17,2)))
G18: =IF(OR(D18="%",D18=" &"),IF(F18="","",ROUND(ROUND(F18,3)*E18,2)),IF(F18="","",ROUND(ROUND(F18,2)*E18,2)))
G19: =IF(OR(D19="%",D19=" &"),IF(F19="","",ROUND(ROUND(F19,3)*E19,2)),IF(F19="","",ROUND(ROUND(F19,2)*E19,2)))
G20: =IF(OR(D20="%",D20=" &"),IF(F20="","",ROUND(ROUND(F20,3)*E20,2)),IF(F20="","",ROUND(ROUND(F20,2)*E20,2)))
... G58: =IF(OR(D58="%",D58=" &"),IF(F58="","",ROUND(ROUND(F58,3)*E58,2)),IF(F58="","",ROUND(ROUND(F58,2)*E58,2)))
A59: TOTAL CARRIED TO SUMMARY | G59: =SUM(G5:G58) -> 1000000

Sheet B1_C11.9
A1: SECTION C11.9 | D1: FINISHING THE ROAD AND ROAD RESERVE AND TREATING OLD ROAD
A4: ITEM | B4: DESCRIPTION | D4: UNIT | E4: QTY | F4: RATE | G4: AMOUNT
G5: =IF(OR(D5="%",D5=" &"),IF(F5="","",ROUND(ROUND(F5,3)*E5,2)),IF(F5="","",ROUND(ROUND(F5,2)*E5,2)))
A6: C11.9 | B6: =D1 -> FINISHING THE ROAD AND ROAD RESERVE AND TREATING OLD ROAD | G6: =IF(OR(D6="%",D6=" &"),IF(F6="","",ROUND(ROUND(F6,3)*E6,2)),IF(F6="","",ROUND(ROUND(F6,2)*E6,2)))
G7: =IF(OR(D7="%",D7=" &"),IF(F7="","",ROUND(ROUND(F7,3)*E7,2)),IF(F7="","",ROUND(ROUND(F7,2)*E7,2)))
A8: C11.9.1 | B8: Finishing the road and road reserve | G8: =IF(OR(D8="%",D8=" &"),IF(F8="","",ROUND(ROUND(F8,3)*E8,2)),IF(F8="","",ROUND(ROUND(F8,2)*E8,2)))
G9: =IF(OR(D9="%",D9=" &"),IF(F9="","",ROUND(ROUND(F9,3)*E9,2)),IF(F9="","",ROUND(ROUND(F9,2)*E9,2)))
A10: PC11.9.1.3 | B10: Slope stabilisation site - Cradock cutting (R390 Section 1, km 6.4 - km 7.4) | D10: lump sum | E10: 1 | G10: =IF(OR(D10="%",D10=" &"),IF(F10="","",ROUND(ROUND(F10,3)*E10,2)),IF(F10="","",ROUND(ROUND(F10,2)*E10,2)))
G11: =IF(OR(D11="%",D11=" &"),IF(F11="","",ROUND(ROUND(F11,3)*E11,2)),IF(F11="","",ROUND(ROUND(F11,2)*E11,2)))
G12: =IF(OR(D12="%",D12=" &"),IF(F12="","",ROUND(ROUND(F12,3)*E12,2)),IF(F12="","",ROUND(ROUND(F12,2)*E12,2)))
G13: =IF(OR(D13="%",D13=" &"),IF(F13="","",ROUND(ROUND(F13,3)*E13,2)),IF(F13="","",ROUND(ROUND(F13,2)*E13,2)))
G14: =IF(OR(D14="%",D14=" &"),IF(F14="","",ROUND(ROUND(F14,3)*E14,2)),IF(F14="","",ROUND(ROUND(F14,2)*E14,2)))
G15: =IF(OR(D15="%",D15=" &"),IF(F15="","",ROUND(ROUND(F15,3)*E15,2)),IF(F15="","",ROUND(ROUND(F15,2)*E15,2)))
G16: =IF(OR(D16="%",D16=" &"),IF(F16="","",ROUND(ROUND(F16,3)*E16,2)),IF(F16="","",ROUND(ROUND(F16,2)*E16,2)))
G17: =IF(OR(D17="%",D17=" &"),IF(F17="","",ROUND(ROUND(F17,3)*E17,2)),IF(F17="","",ROUND(ROUND(F17,2)*E17,2)))
G18: =IF(OR(D18="%",D18=" &"),IF(F18="","",ROUND(ROUND(F18,3)*E18,2)),IF(F18="","",ROUND(ROUND(F18,2)*E18,2)))
G19: =IF(OR(D19="%",D19=" &"),IF(F19="","",ROUND(ROUND(F19,3)*E19,2)),IF(F19="","",ROUND(ROUND(F19,2)*E19,2)))
G20: =IF(OR(D20="%",D20=" &"),IF(F20="","",ROUND(ROUND(F20,3)*E20,2)),IF(F20="","",ROUND(ROUND(F20,2)*E20,2)))
G21: =IF(OR(D21="%",D21=" &"),IF(F21="","",ROUND(ROUND(F21,3)*E21,2)),IF(F21="","",ROUND(ROUND(F21,2)*E21,2)))
G22: =IF(OR(D22="%",D22=" &"),IF(F22="","",ROUND(ROUND(F22,3)*E22,2)),IF(F22="","",ROUND(ROUND(F22,2)*E22,2)))
... G56: =IF(OR(D56="%",D56=" &"),IF(F56="","",ROUND(ROUND(F56,3)*E56,2)),IF(F56="","",ROUND(ROUND(F56,2)*E56,2)))
A57: TOTAL CARRIED TO SUMMARY | G57: =SUM(G5:G56) -> 0

Sheet B1_C12.2
A1: SECTION C12.2 | D1: GROUND ANCHORS
A4: ITEM | B4: DESCRIPTION | D4: UNIT | E4: QTY | F4: RATE | G4: AMOUNT
G5: =IF(OR(D5="%",D5=" &"),IF(F5="","",ROUND(ROUND(F5,3)*E5,2)),IF(F5="","",ROUND(ROUND(F5,2)*E5,2)))
A6: C12.2 | B6: =D1 -> GROUND ANCHORS | G6: =IF(OR(D6="%",D6=" &"),IF(F6="","",ROUND(ROUND(F6,3)*E6,2)),IF(F6="","",ROUND(ROUND(F6,2)*E6,2)))
G7: =IF(OR(D7="%",D7=" &"),IF(F7="","",ROUND(ROUND(F7,3)*E7,2)),IF(F7="","",ROUND(ROUND(F7,2)*E7,2)))
A8: C12.2.13 | B8: Establishment on the site for drilling of rockbolts, dowels, soil nails or mechanical anchors | G8: =IF(OR(D8="%",D8=" &"),IF(F8="","",ROUND(ROUND(F8,3)*E8,2)),IF(F8="","",ROUND(ROUND(F8,2)*E8,2)))
G9: =IF(OR(D9="%",D9=" &"),IF(F9="","",ROUND(ROUND(F9,3)*E9,2)),IF(F9="","",ROUND(ROUND(F9,2)*E9,2)))
A10: C12.2.13.1 | B10: Galvanised hot-rolled, high-tensile steel bars with continuous coarse-thread complying with SANS 920, 25 mm dia. and 32 mm dia. with a yield stress greater than 500 MPa | D10: lump sum | E10: 1 | G10: =IF(OR(D10="%",D10=" &"),IF(F10="","",ROUND(ROUND(F10,3)*E10,2)),IF(F10="","",ROUND(ROUND(F10,2)*E10,2)))
G11: =IF(OR(D11="%",D11=" &"),IF(F11="","",ROUND(ROUND(F11,3)*E11,2)),IF(F11="","",ROUND(ROUND(F11,2)*E11,2)))
A12: C12.2.13.2 | B12: Micro pile according to SANS 54199 with a tension load design value of Rd = 183 kN. Hollow steel bar with 30 mm O.D. and 11 mm I.D. and continuous reinforcing thread complying with SANS 920 made from grade S460NH steel according to EN 10210 (Self-Drilling Anchor) | D12: lump sum | E12: 1 | G12: =IF(OR(D12="%",D12=" &"),IF(F12="","",ROUND(ROUND(F12,3)*E12,2)),IF(F12="","",ROUND(ROUND(F12,2)*E12,2)))
G13: =IF(OR(D13="%",D13=" &"),IF(F13="","",ROUND(ROUND(F13,3)*E13,2)),IF(F13="","",ROUND(ROUND(F13,2)*E13,2)))
A14: C12.2.14 | B14: Move to and set up at each rockbolt, dowel, soil nail or mechanical anchor position | D14: No. | E14: 3035 | G14: =IF(OR(D14="%",D14=" &"),IF(F14="","",ROUND(ROUND(F14,3)*E14,2)),IF(F14="","",ROUND(ROUND(F14,2)*E14,2)))
G15: =IF(OR(D15="%",D15=" &"),IF(F15="","",ROUND(ROUND(F15,3)*E15,2)),IF(F15="","",ROUND(ROUND(F15,2)*E15,2)))
A16: C12.2.15 | B16: Install, grout and protect soil nails or rock bolts | G16: =IF(OR(D16="%",D16=" &"),IF(F16="","",ROUND(ROUND(F16,3)*E16,2)),IF(F16="","",ROUND(ROUND(F16,2)*E16,2)))
G17: =IF(OR(D17="%",D17=" &"),IF(F17="","",ROUND(ROUND(F17,3)*E17,2)),IF(F17="","",ROUND(ROUND(F17,2)*E17,2)))
A18: C12.2.15.1 | B18: Galvanised hot-rolled, high-tensile steel bars with continuous coarse-thread complying with SANS 920, 25 mm dia. with a yield stress greater than 500 MPa | G18: =IF(OR(D18="%",D18=" &"),IF(F18="","",ROUND(ROUND(F18,3)*E18,2)),IF(F18="","",ROUND(ROUND(F18,2)*E18,2)))
G19: =IF(OR(D19="%",D19=" &"),IF(F19="","",ROUND(ROUND(F19,3)*E19,2)),IF(F19="","",ROUND(ROUND(F19,2)*E19,2)))
B20: (a) | C20: Spot rock dowel with 2 m dowel length | D20: No. | E20: 20 | G20: =IF(OR(D20="%",D20=" &"),IF(F20="","",ROUND(ROUND(F20,3)*E20,2)),IF(F20="","",ROUND(ROUND(F20,2)*E20,2)))
G21: =IF(OR(D21="%",D21=" &"),IF(F21="","",ROUND(ROUND(F21,3)*E21,2)),IF(F21="","",ROUND(ROUND(F21,2)*E21,2)))
B22: (b) | C22: 5 m dowel length, anchorage for summit / toe cable to new rockfall netting | D22: No. | E22: 300 | G22: =IF(OR(D22="%",D22=" &"),IF(F22="","",ROUND(ROUND(F22,3)*E22,2)),IF(F22="","",ROUND(ROUND(F22,2)*E22,2)))
G23: =IF(OR(D23="%",D23=" &"),IF(F23="","",ROUND(ROUND(F23,3)*E23,2)),IF(F23="","",ROUND(ROUND(F23,2)*E23,2)))
B24: (c) | C24: 3 m dowel length, stabilise and reinforcing of shotcrete bands (dolerite) | D24: No. | E24: 180 | G24: =IF(OR(D24="%",D24=" &"),IF(F24="","",ROUND(ROUND(F24,3)*E24,2)),IF(F24="","",ROUND(ROUND(F24,2)*E24,2)))
G25: =IF(OR(D25="%",D25=" &"),IF(F25="","",ROUND(ROUND(F25,3)*E25,2)),IF(F25="","",ROUND(ROUND(F25,2)*E25,2)))
B26: (d) | C26: 5 m dowel length, stabilise and reinforcing of shotcrete bands (mudstone/siltstone) | D26: No. | E26: 905 | G26: =IF(OR(D26="%",D26=" &"),IF(F26="","",ROUND(ROUND(F26,3)*E26,2)),IF(F26="","",ROUND(ROUND(F26,2)*E26,2)))
G27: =IF(OR(D27="%",D27=" &"),IF(F27="","",ROUND(ROUND(F27,3)*E27,2)),IF(F27="","",ROUND(ROUND(F27,2)*E27,2)))
A28: C12.2.15.2 | B28: Galvanised hot-rolled, high-tensile steel bars with continuous coarse-thread complying with SANS 920, 32 mm dia. with a yield stress greater than 500 MPa | G28: =IF(OR(D28="%",D28=" &"),IF(F28="","",ROUND(ROUND(F28,3)*E28,2)),IF(F28="","",ROUND(ROUND(F28,2)*E28,2)))
G29: =IF(OR(D29="%",D29=" &"),IF(F29="","",ROUND(ROUND(F29,3)*E29,2)),IF(F29="","",ROUND(ROUND(F29,2)*E29,2)))
B30: (a) | C30: 10 m dowel length, anchorage for new rockfall netting | D30: No. | E30: 540 | G30: =IF(OR(D30="%",D30=" &"),IF(F30="","",ROUND(ROUND(F30,3)*E30,2)),IF(F30="","",ROUND(ROUND(F30,2)*E30,2)))
G31: =IF(OR(D31="%",D31=" &"),IF(F31="","",ROUND(ROUND(F31,3)*E31,2)),IF(F31="","",ROUND(ROUND(F31,2)*E31,2)))
B32: (b) | C32: 15 m dowel length, anchorage for new rockfall netting | D32: No. | E32: 810 | G32: =IF(OR(D32="%",D32=" &"),IF(F32="","",ROUND(ROUND(F32,3)*E32,2)),IF(F32="","",ROUND(ROUND(F32,2)*E32,2)))
G33: =IF(OR(D33="%",D33=" &"),IF(F33="","",ROUND(ROUND(F33,3)*E33,2)),IF(F33="","",ROUND(ROUND(F33,2)*E33,2)))
G34: =IF(OR(D34="%",D34=" &"),IF(F34="","",ROUND(ROUND(F34,3)*E34,2)),IF(F34="","",ROUND(ROUND(F34,2)*E34,2)))
A35: CARRIED FORWARD / ……. | G35: =SUM(G5:G34) -> 0
G36: =IF(OR(D36="%",D36=" &"),IF(F36="","",ROUND(ROUND(F36,3)*E36,2)),IF(F36="","",ROUND(ROUND(F36,2)*E36,2)))
B37: BROUGHT FORWARD / ……. | G37: =G35 -> 0
G38: =IF(OR(D38="%",D38=" &"),IF(F38="","",ROUND(ROUND(F38,3)*E38,2)),IF(F38="","",ROUND(ROUND(F38,2)*E38,2)))
A39: PC12.2.20 | B39: Install and grout Self-Drilling Anchors | G39: =IF(OR(D39="%",D39=" &"),IF(F39="","",ROUND(ROUND(F39,3)*E39,2)),IF(F39="","",ROUND(ROUND(F39,2)*E39,2)))
G40: =IF(OR(D40="%",D40=" &"),IF(F40="","",ROUND(ROUND(F40,3)*E40,2)),IF(F40="","",ROUND(ROUND(F40,2)*E40,2)))
A41: PC12.2.20.1 | B41: Micro pile according to SANS 54199 with a tension load design value of Rd = 183 kN. Hollow steel bar with 30 mm O.D. and 11 mm I.D. and continuous reinforcing thread complying with SANS 920 made from grade S460NH steel according to EN 10210 (Self-Drilling Anchor) | G41: =IF(OR(D41="%",D41=" &"),IF(F41="","",ROUND(ROUND(F41,3)*E41,2)),IF(F41="","",ROUND(ROUND(F41,2)*E41,2)))
G42: =IF(OR(D42="%",D42=" &"),IF(F42="","",ROUND(ROUND(F42,3)*E42,2)),IF(F42="","",ROUND(ROUND(F42,2)*E42,2)))
...

Sheet B1_C12.5
A1: SECTION C12.5 | D1: SHOTCRETE
A4: ITEM | B4: DESCRIPTION | D4: UNIT | E4: QTY | F4: RATE | G4: AMOUNT
G5: =IF(OR(D5="%",D5=" &"),IF(F5="","",ROUND(ROUND(F5,3)*E5,2)),IF(F5="","",ROUND(ROUND(F5,2)*E5,2)))
A6: C12.5 | B6: =D1 -> SHOTCRETE | G6: =IF(OR(D6="%",D6=" &"),IF(F6="","",ROUND(ROUND(F6,3)*E6,2)),IF(F6="","",ROUND(ROUND(F6,2)*E6,2)))
G7: =IF(OR(D7="%",D7=" &"),IF(F7="","",ROUND(ROUND(F7,3)*E7,2)),IF(F7="","",ROUND(ROUND(F7,2)*E7,2)))
A8: C12.5.1 | B8: Establishment on site | D8: lump sum | E8: 1 | G8: =IF(OR(D8="%",D8=" &"),IF(F8="","",ROUND(ROUND(F8,3)*E8,2)),IF(F8="","",ROUND(ROUND(F8,2)*E8,2)))
G9: =IF(OR(D9="%",D9=" &"),IF(F9="","",ROUND(ROUND(F9,3)*E9,2)),IF(F9="","",ROUND(ROUND(F9,2)*E9,2)))
A10: C12.5.2 | B10: Surface preparation for shotcreting | D10: m2 | E10: 5550 | G10: =IF(OR(D10="%",D10=" &"),IF(F10="","",ROUND(ROUND(F10,3)*E10,2)),IF(F10="","",ROUND(ROUND(F10,2)*E10,2)))
G11: =IF(OR(D11="%",D11=" &"),IF(F11="","",ROUND(ROUND(F11,3)*E11,2)),IF(F11="","",ROUND(ROUND(F11,2)*E11,2)))
A12: C12.5.3 | B12: Supply and installation of reinforcement: | G12: =IF(OR(D12="%",D12=" &"),IF(F12="","",ROUND(ROUND(F12,3)*E12,2)),IF(F12="","",ROUND(ROUND(F12,2)*E12,2)))
G13: =IF(OR(D13="%",D13=" &"),IF(F13="","",ROUND(ROUND(F13,3)*E13,2)),IF(F13="","",ROUND(ROUND(F13,2)*E13,2)))
A14: C12.5.3.2 | B14: Fibre (polypropylene fibres at 7 kg/m³) | D14: kg | E14: 6050 | G14: =IF(OR(D14="%",D14=" &"),IF(F14="","",ROUND(ROUND(F14,3)*E14,2)),IF(F14="","",ROUND(ROUND(F14,2)*E14,2)))
G15: =IF(OR(D15="%",D15=" &"),IF(F15="","",ROUND(ROUND(F15,3)*E15,2)),IF(F15="","",ROUND(ROUND(F15,2)*E15,2)))
A16: C12.5.4 | B16: Shotcrete (100 mm total thickness): Dolerite | G16: =IF(OR(D16="%",D16=" &"),IF(F16="","",ROUND(ROUND(F16,3)*E16,2)),IF(F16="","",ROUND(ROUND(F16,2)*E16,2)))
G17: =IF(OR(D17="%",D17=" &"),IF(F17="","",ROUND(ROUND(F17,3)*E17,2)),IF(F17="","",ROUND(ROUND(F17,2)*E17,2)))
A18: C12.5.4.1 | B18: Flash / base coat (unreinforced) (50 mm thick) | D18: m2 | E18: 1050 | G18: =IF(OR(D18="%",D18=" &"),IF(F18="","",ROUND(ROUND(F18,3)*E18,2)),IF(F18="","",ROUND(ROUND(F18,2)*E18,2)))
G19: =IF(OR(D19="%",D19=" &"),IF(F19="","",ROUND(ROUND(F19,3)*E19,2)),IF(F19="","",ROUND(ROUND(F19,2)*E19,2)))
A20: C12.5.4.3 | B20: Final coat (50 mm thick, pigment to reflect the surrounding natural rock colour, SU finish) | D20: m2 | E20: 1050 | G20: =IF(OR(D20="%",D20=" &"),IF(F20="","",ROUND(ROUND(F20,3)*E20,2)),IF(F20="","",ROUND(ROUND(F20,2)*E20,2)))
G21: =IF(OR(D21="%",D21=" &"),IF(F21="","",ROUND(ROUND(F21,3)*E21,2)),IF(F21="","",ROUND(ROUND(F21,2)*E21,2)))
A22: C12.5.4 | B22: Shotcrete (150 mm total thickness): Mudstone/Siltstone | G22: =IF(OR(D22="%",D22=" &"),IF(F22="","",ROUND(ROUND(F22,3)*E22,2)),IF(F22="","",ROUND(ROUND(F22,2)*E22,2)))
G23: =IF(OR(D23="%",D23=" &"),IF(F23="","",ROUND(ROUND(F23,3)*E23,2)),IF(F23="","",ROUND(ROUND(F23,2)*E23,2)))
A24: C12.5.4.1 | B24: Flash / base coat (unreinforced) (50 mm thick) | D24: m2 | E24: 4500 | G24: =IF(OR(D24="%",D24=" &"),IF(F24="","",ROUND(ROUND(F24,3)*E24,2)),IF(F24="","",ROUND(ROUND(F24,2)*E24,2)))
G25: =IF(OR(D25="%",D25=" &"),IF(F25="","",ROUND(ROUND(F25,3)*E25,2)),IF(F25="","",ROUND(ROUND(F25,2)*E25,2)))
A26: C12.5.4.2 | B26: Intermediate coat (50 mm thick, 1 layer) | D26: m2 | E26: 4500 | G26: =IF(OR(D26="%",D26=" &"),IF(F26="","",ROUND(ROUND(F26,3)*E26,2)),IF(F26="","",ROUND(ROUND(F26,2)*E26,2)))
G27: =IF(OR(D27="%",D27=" &"),IF(F27="","",ROUND(ROUND(F27,3)*E27,2)),IF(F27="","",ROUND(ROUND(F27,2)*E27,2)))
A28: C12.5.4.3 | B28: Final coat (50 mm thick, pigment to reflect the surrounding natural rock colour, SU finish) | D28: m2 | E28: 4500 | G28: =IF(OR(D28="%",D28=" &"),IF(F28="","",ROUND(ROUND(F28,3)*E28,2)),IF(F28="","",ROUND(ROUND(F28,2)*E28,2)))
G29: =IF(OR(D29="%",D29=" &"),IF(F29="","",ROUND(ROUND(F29,3)*E29,2)),IF(F29="","",ROUND(ROUND(F29,2)*E29,2)))
A30: C12.5.5 | B30: Removal to spoil of material trimmed from slope | D30: m3-km | E30: 27750 | G30: =IF(OR(D30="%",D30=" &"),IF(F30="","",ROUND(ROUND(F30,3)*E30,2)),IF(F30="","",ROUND(ROUND(F30,2)*E30,2)))
G31: =IF(OR(D31="%",D31=" &"),IF(F31="","",ROUND(ROUND(F31,3)*E31,2)),IF(F31="","",ROUND(ROUND(F31,2)*E31,2)))
A32: C12.5.6 | B32: Edge finishing of shotcrete | D32: m | E32: 1000 | G32: =IF(OR(D32="%",D32=" &"),IF(F32="","",ROUND(ROUND(F32,3)*E32,2)),IF(F32="","",ROUND(ROUND(F32,2)*E32,2)))
G33: =IF(OR(D33="%",D33=" &"),IF(F33="","",ROUND(ROUND(F33,3)*E33,2)),IF(F33="","",ROUND(ROUND(F33,2)*E33,2)))
A34: C12.5.7 | B34: Geopipe collectors and weepholes: | G34: =IF(OR(D34="%",D34=" &"),IF(F34="","",ROUND(ROUND(F34,3)*E34,2)),IF(F34="","",ROUND(ROUND(F34,2)*E34,2)))
G35: =IF(OR(D35="%",D35=" &"),IF(F35="","",ROUND(ROUND(F35,3)*E35,2)),IF(F35="","",ROUND(ROUND(F35,2)*E35,2)))
A36: C12.5.7.1 | B36: 50 mm diameter U-PVC weephole piping (170 mm, extending ±20 mm out of shotcrete) | D36: No. | E36: 1000 | G36: =IF(OR(D36="%",D36=" &"),IF(F36="","",ROUND(ROUND(F36,3)*E36,2)),IF(F36="","",ROUND(ROUND(F36,2)*E36,2)))
G37: =IF(OR(D37="%",D37=" &"),IF(F37="","",ROUND(ROUND(F37,3)*E37,2)),IF(F37="","",ROUND(ROUND(F37,2)*E37,2)))
A38: C12.5.8 | B38: Geocomposite / geosynthetic drain as specified | D38: m | E38: 2500 | G38: =IF(OR(D38="%",D38=" &"),IF(F38="","",ROUND(ROUND(F38,3)*E38,2)),IF(F38="","",ROUND(ROUND(F38,2)*E38,2)))
G39: =IF(OR(D39="%",D39=" &"),IF(F39="","",ROUND(ROUND(F39,3)*E39,2)),IF(F39="","",ROUND(ROUND(F39,2)*E39,2)))
G40: =IF(OR(D40="%",D40=" &"),IF(F40="","",ROUND(ROUND(F40,3)*E40,2)),IF(F40="","",ROUND(ROUND(F40,2)*E40,2)))
G41: =IF(OR(D41="%",D41=" &"),IF(F41="","",ROUND(ROUND(F41,3)*E41,2)),IF(F41="","",ROUND(ROUND(F41,2)*E41,2)))
G42: =IF(OR(D42="%",D42=" &"),IF(F42="","",ROUND(ROUND(F42,3)*E42,2)),IF(F42="","",ROUND(ROUND(F42,2)*E42,2)))
...

Sheet B1_C12.8
A1: SECTION C12.8 | D1: GROUND DRAINAGE
A4: ITEM | B4: DESCRIPTION | D4: UNIT | E4: QTY | F4: RATE | G4: AMOUNT
G5: =IF(OR(D5="%",D5=" &"),IF(F5="","",ROUND(ROUND(F5,3)*E5,2)),IF(F5="","",ROUND(ROUND(F5,2)*E5,2)))
A6: C12.8 | B6: =D1 -> GROUND DRAINAGE | G6: =IF(OR(D6="%",D6=" &"),IF(F6="","",ROUND(ROUND(F6,3)*E6,2)),IF(F6="","",ROUND(ROUND(F6,2)*E6,2)))
G7: =IF(OR(D7="%",D7=" &"),IF(F7="","",ROUND(ROUND(F7,3)*E7,2)),IF(F7="","",ROUND(ROUND(F7,2)*E7,2)))
A8: C12.8.1 | B8: Establishment on site for | G8: =IF(OR(D8="%",D8=" &"),IF(F8="","",ROUND(ROUND(F8,3)*E8,2)),IF(F8="","",ROUND(ROUND(F8,2)*E8,2)))
G9: =IF(OR(D9="%",D9=" &"),IF(F9="","",ROUND(ROUND(F9,3)*E9,2)),IF(F9="","",ROUND(ROUND(F9,2)*E9,2)))
A10: C12.8.1.2 | B10: Horizontal drains | D10: lump sum | E10: 1 | G10: =IF(OR(D10="%",D10=" &"),IF(F10="","",ROUND(ROUND(F10,3)*E10,2)),IF(F10="","",ROUND(ROUND(F10,2)*E10,2)))
G11: =IF(OR(D11="%",D11=" &"),IF(F11="","",ROUND(ROUND(F11,3)*E11,2)),IF(F11="","",ROUND(ROUND(F11,2)*E11,2)))
A12: C12.8.2 | B12: Provision of access to drain positions | G12: =IF(OR(D12="%",D12=" &"),IF(F12="","",ROUND(ROUND(F12,3)*E12,2)),IF(F12="","",ROUND(ROUND(F12,2)*E12,2)))
G13: =IF(OR(D13="%",D13=" &"),IF(F13="","",ROUND(ROUND(F13,3)*E13,2)),IF(F13="","",ROUND(ROUND(F13,2)*E13,2)))
A14: C12.8.2.1 | B14: Horizontal drains | D14: lump sum | E14: 1 | G14: =IF(OR(D14="%",D14=" &"),IF(F14="","",ROUND(ROUND(F14,3)*E14,2)),IF(F14="","",ROUND(ROUND(F14,2)*E14,2)))
G15: =IF(OR(D15="%",D15=" &"),IF(F15="","",ROUND(ROUND(F15,3)*E15,2)),IF(F15="","",ROUND(ROUND(F15,2)*E15,2)))
A16: C12.8.3 | B16: Moving to, and setting up the equipment for drilling the holes at each well /horizontal/ sand drain position | G16: =IF(OR(D16="%",D16=" &"),IF(F16="","",ROUND(ROUND(F16,3)*E16,2)),IF(F16="","",ROUND(ROUND(F16,2)*E16,2)))
G17: =IF(OR(D17="%",D17=" &"),IF(F17="","",ROUND(ROUND(F17,3)*E17,2)),IF(F17="","",ROUND(ROUND(F17,2)*E17,2)))
A18: C12.8.3.1 | B18: Horizontal drains | D18: No. | E18: 195 | G18: =IF(OR(D18="%",D18=" &"),IF(F18="","",ROUND(ROUND(F18,3)*E18,2)),IF(F18="","",ROUND(ROUND(F18,2)*E18,2)))
G19: =IF(OR(D19="%",D19=" &"),IF(F19="","",ROUND(ROUND(F19,3)*E19,2)),IF(F19="","",ROUND(ROUND(F19,2)*E19,2)))
A20: C12.8.6 | B20: Drilling holes for horizontal drains (15° above horizontal and 100 mm dia.) to the required depth (20 m) | D20: m | E20: 3900 | G20: =IF(OR(D20="%",D20=" &"),IF(F20="","",ROUND(ROUND(F20,3)*E20,2)),IF(F20="","",ROUND(ROUND(F20,2)*E20,2)))
G21: =IF(OR(D21="%",D21=" &"),IF(F21="","",ROUND(ROUND(F21,3)*E21,2)),IF(F21="","",ROUND(ROUND(F21,2)*E21,2)))
G22: =IF(OR(D22="%",D22=" &"),IF(F22="","",ROUND(ROUND(F22,3)*E22,2)),IF(F22="","",ROUND(ROUND(F22,2)*E22,2)))
G23: =IF(OR(D23="%",D23=" &"),IF(F23="","",ROUND(ROUND(F23,3)*E23,2)),IF(F23="","",ROUND(ROUND(F23,2)*E23,2)))
G24: =IF(OR(D24="%",D24=" &"),IF(F24="","",ROUND(ROUND(F24,3)*E24,2)),IF(F24="","",ROUND(ROUND(F24,2)*E24,2)))
G25: =IF(OR(D25="%",D25=" &"),IF(F25="","",ROUND(ROUND(F25,3)*E25,2)),IF(F25="","",ROUND(ROUND(F25,2)*E25,2)))
G26: =IF(OR(D26="%",D26=" &"),IF(F26="","",ROUND(ROUND(F26,3)*E26,2)),IF(F26="","",ROUND(ROUND(F26,2)*E26,2)))
G27: =IF(OR(D27="%",D27=" &"),IF(F27="","",ROUND(ROUND(F27,3)*E27,2)),IF(F27="","",ROUND(ROUND(F27,2)*E27,2)))
G28: =IF(OR(D28="%",D28=" &"),IF(F28="","",ROUND(ROUND(F28,3)*E28,2)),IF(F28="","",ROUND(ROUND(F28,2)*E28,2)))
G29: =IF(OR(D29="%",D29=" &"),IF(F29="","",ROUND(ROUND(F29,3)*E29,2)),IF(F29="","",ROUND(ROUND(F29,2)*E29,2)))
G30: =IF(OR(D30="%",D30=" &"),IF(F30="","",ROUND(ROUND(F30,3)*E30,2)),IF(F30="","",ROUND(ROUND(F30,2)*E30,2)))
G31: =IF(OR(D31="%",D31=" &"),IF(F31="","",ROUND(ROUND(F31,3)*E31,2)),IF(F31="","",ROUND(ROUND(F31,2)*E31,2)))
G32: =IF(OR(D32="%",D32=" &"),IF(F32="","",ROUND(ROUND(F32,3)*E32,2)),IF(F32="","",ROUND(ROUND(F32,2)*E32,2)))
... G54: =IF(OR(D54="%",D54=" &"),IF(F54="","",ROUND(ROUND(F54,3)*E54,2)),IF(F54="","",ROUND(ROUND(F54,2)*E54,2)))
A55: TOTAL CARRIED TO SUMMARY | G55: =SUM(G5:G54) -> 0

Sheet B1_C12.9
A1: SECTION C12.9 | D1: SLOPE PROTECTION MEASURES
A4: ITEM | B4: DESCRIPTION | D4: UNIT | E4: QTY | F4: RATE | G4: AMOUNT
G5: =IF(OR(D5="%",D5=" &"),IF(F5="","",ROUND(ROUND(F5,3)*E5,2)),IF(F5="","",ROUND(ROUND(F5,2)*E5,2)))
A6: C12.9 | B6: =D1 -> SLOPE PROTECTION MEASURES | G6: =IF(OR(D6="%",D6=" &"),IF(F6="","",ROUND(ROUND(F6,3)*E6,2)),IF(F6="","",ROUND(ROUND(F6,2)*E6,2)))
G7: =IF(OR(D7="%",D7=" &"),IF(F7="","",ROUND(ROUND(F7,3)*E7,2)),IF(F7="","",ROUND(ROUND(F7,2)*E7,2)))
A8: C12.9.1 | B8: Barring down of rock surfaces within vertical height intervals | G8: =IF(OR(D8="%",D8=" &"),IF(F8="","",ROUND(ROUND(F8,3)*E8,2)),IF(F8="","",ROUND(ROUND(F8,2)*E8,2)))
G9: =IF(OR(D9="%",D9=" &"),IF(F9="","",ROUND(ROUND(F9,3)*E9,2)),IF(F9="","",ROUND(ROUND(F9,2)*E9,2)))
B10: (a) | C10: Not exceeding 2 m above toe level | D10: m2 | E10: 3000 | G10: =IF(OR(D10="%",D10=" &"),IF(F10="","",ROUND(ROUND(F10,3)*E10,2)),IF(F10="","",ROUND(ROUND(F10,2)*E10,2)))
G11: =IF(OR(D11="%",D11=" &"),IF(F11="","",ROUND(ROUND(F11,3)*E11,2)),IF(F11="","",ROUND(ROUND(F11,2)*E11,2)))
B12: (b) | C12: Exceeding 2 m but not exceeding 5 m above toe level | D12: m2 | E12: 5500 | G12: =IF(OR(D12="%",D12=" &"),IF(F12="","",ROUND(ROUND(F12,3)*E12,2)),IF(F12="","",ROUND(ROUND(F12,2)*E12,2)))
G13: =IF(OR(D13="%",D13=" &"),IF(F13="","",ROUND(ROUND(F13,3)*E13,2)),IF(F13="","",ROUND(ROUND(F13,2)*E13,2)))
B14: (c) | C14: Exceeding 5 m above toe level | D14: m2 | E14: 19500 | G14: =IF(OR(D14="%",D14=" &"),IF(F14="","",ROUND(ROUND(F14,3)*E14,2)),IF(F14="","",ROUND(ROUND(F14,2)*E14,2)))
G15: =IF(OR(D15="%",D15=" &"),IF(F15="","",ROUND(ROUND(F15,3)*E15,2)),IF(F15="","",ROUND(ROUND(F15,2)*E15,2)))
A16: C12.9.2 | B16: Cleaning of rock surfaces by high pressure air and water jetting equipment within the vertical height intervals | G16: =IF(OR(D16="%",D16=" &"),IF(F16="","",ROUND(ROUND(F16,3)*E16,2)),IF(F16="","",ROUND(ROUND(F16,2)*E16,2)))
