Workbook
Name Consequence: '[1]Drop Down Lists'!$A$3:$A$8
Name Likelihood: '[1]Drop Down Lists'!$B$3:$B$7
Name RCE: '[1]Drop Down Lists'!$D$3:$D$7

Sheet Risk templateCG
A3: Occupational Health and Safety Baseline risk assessment template
A4: Business/Operating unit: | B4: Central Grid | V4: Next Review Date (every 2 years): | W4: 44050 | X4: Template identifier: | Y4: 240-70044602
A6: Date: | B6: 43319 | J6: Prepared by: | K6: Sericah Promesse, Chico Ramgovind, Zanele Sethusa, Zandile Gabela, Tshwari Ramagofu | N6: Authorised by: | P6: Name: Victor Shikoana | X6: Document identifier | AN6: R | AO6: Safety | AP6: 1 | AQ6: A | AR6: Fully effective | AS6: I
P7: Designation: Senior Manager Grids | X7: Revision number: | Y7: 1 | AN7: N | AO7: Health | AP7: 2 | AQ7: B | AR7: Mostly effective | AS7: II
P8: Signed: | X8: Revision date: | Y8: 45443 | AP8: 3 | AQ8: C | AR8: Mostly ineffective | AS8: III
P9: Date: | AP9: 4 | AQ9: D | AR9: None | AS9: IV
A10: Refer to Occupational Health and Safety Risk assessment procedure 32-520 | AP10: 5 | AQ10: E
A11: List activity | B11: Activity type (Routine/Non-routine) | C11: Hazard nr | D11: Hazard Identification | E11: Risk Nr | F11: Associated risk | G11: Risk type | H11: Cause(s) of the risk | I11: Exposed group/employees | J11: Risk Owner | K11: Exposure patterns | L11: What are the possible consequences? | M11: Hierachy of Controls | N11: Existing Controls | Q11: Risk Priority Rating | S11: Additional Controls or Tasks Aimed at improving Existing Controls | T11: Monitoring Mechanisms | U11: Control Owner | V11: Legal and Other Requirements | W11: Target Date | X11: Current Status | Y11: Integrated Risk Management (IRM) reference number | AP11: 6
A12: List specific activities to be performed taking into consideration the equipment to be used, the personnel involved in the task. | B12: Indicate R or N 1. Routine activities and situations create hazards through day-to-day operations and normal work activities; 2. Non-routine activities and situations are occasional or unplanned; | C12: # | D12: Anything with potential to cause of harm. Note: A hazard can pose more than one risk. | E12: # | F12: A chance that injury , ill health or damage could occur as a result of uncontrolled hazard. | G12: Safety or health | H12: What causes the risk to come into effect? | I12: Who is exposed to the hazard i.e. visitors, members of the public, etc. | J12: Who is accountable for making sure the controls and monitors are: - in place, - implemented, - regularly reviewed for effectiveness. | K12: The frequency and duration the person/group is exposed to the hazard e.g. Daily for 3 hrs. | L12: Consider the worse case scenario without controls? | M12: Includes: Elimination, Substitution, Engineering, Administrative and PPE | N12: Include: - Preventative Controls (controls implemented to eliminate hazards or reduce the likelihood of the risk occurring), and - Reactive Controls (controls implemented to reduce the immediate impact of the risk occurring) Elimination Substitution Engineering controls Administrative controls Personal protective equipment (PPE) | O12: Consequence | P12: Likelihood | R12: RCE Risk Control Effectiveness | S12: Include: - Preventative Controls (controls implemented to eliminate hazards or reduce the likelihood of the risk occurring), and - Reactive Controls (controls implemented to reduce the immediate impact of the risk occurring) Elimination Substitution Engineering controls Administrative controls Personal protective equipment (PPE) | T12: How we know if we are succeeding. Include comments on effectiveness. This may include i.e. measurements, inspections, supervision where necessary. | U12: Person allocated the responsibility for implementing the agreed controls | V12: Where relevant, list the relevant legislative and or Eskom requirements that prescribe the control. | W12: Once a date has been agreed to, this can not be changed | X12: Pending, In Progress, Complete | Y12: Where applicable, add IRM system reference number for tracking of treatment actions. | AE12: Consequences | AF12: 6 | AG12: III | AH12: II | AI12: I | AJ12: I | AK12: I
A13: Vegetation Management | B13: R | C13: 1.1 | D13: Chainsaws | E13: 1.1.1 | F13: Induced hearing Loss | G13: Health | H13: Not wearing ear protection while using chainsaws | I13: Lines & servitude employees, contractors | J13: Grid Manager | K13: Daily (+-8 hrs a day) | L13: Noise Iinduced Hearing Loss (NIHL) causing partial or permanent deafness leading to a medical incident or LTI | M13: 1. Elimination- not possible. Its a required tool to do the job. 2. Substituion-cant replace, technological evolution. 3. Engineering controls-not appliacble 4. Administrative:-Training and awareness, task specific risk assessment and toolbox talks 5. PPE- use of hearing protection | N13: 1. Training and awareness on noise induced hearing loss to be carried out 2. Task risk assessments. 3. Toolbox talks 4. Use of hearing protection | O13: 4 | P13: C | Q13: II | R13: Fully effective | S13: 1. Routine medical screening includes audiometric tests 2. Continuous servicing of equipment | T13: Servicing/Repairs | U13: Line Management | V13: OHS Act 85 of 1993, NIHL regulations, SANS 10083 and Eskom hearing conservation procedure, Incident Management Procedure 32-95
B14: R | E14: 1.1.2 | F14: Suffer eye injury | G14: Safety | H14: Not wearing eye protection while using chainsaws | I14: Lines & servitude employees, contractors | J14: Grid Manager | K14: Daily (+-8 hrs a day) | L14: Permanent/ partial eye loss leading to a medical incident or LTI | M14: 1. Elimination- not possible. Its a required tool to do the job. 2. Substituion-cant replace, technological evolution. 3. Engineering controls-not appliacble 4. Administrative:-Training and awareness, task specific risk assessment and toolbox talks 5. PPE- use of hearing protection | N14: 1. Training and awareness on the use of Chain saws. 2. Task risk assessments. 3. Tool Box talks 4. Use of eye protection | O14: 4 | P14: C | Q14: II | R14: Fully effective | S14: Routine medical screening includes eye tests | T14: Servicing/Repairs | U14: Line Management | V14: OHS Act 85 of 1993, Section 8 , Eskom Risk assessment procedure 32-520, Incident Management Procedure 32-95,
B15: R | E15: 1.1.3 | F15: Inhaling petrol fumes | G15: Health | H15: Not wearing mask while using chainsaws | I15: Lines & servitude employees, contractors | J15: Grid Manager | K15: Daily (+-8 hrs a day) | L15: 1. Acute effects are eye, nose, throat and lung irritation, headaches, light headedness, and nausea. 2. Allergic people becomes more susceptible to what they are allergic to, inflammation of the lungs which may aggravate chronic respiratory symptoms and increase the frequency & intensity of asthma attacks. 3.Long term inhalation will contribute to mutation of cells that will lead to lung and bladder cancer. 4. Prolonged skin exposures may cause variety of skin conditions. 5. Long term exposure will cause suppression of the central nervous system | M15: 1. Elimination- not possible. Its a required tool to do the job. 2. Substituion-cant replace, technological evolution. 3. Engineering controls-not appliacble 4. Administrative:-Training and awareness, task specific risk assessment and toolbox talks 5. PPE- use of hearing protection | N15: 1. Task risk assessments. 2. Tool box talks 3. Use of masks | O15: 4 | P15: C | Q15: II | R15: Fully effective | S15: Routine Occupational hygiene medical screening includes Pulmonary function tests | T15: Behavioural Safety Observations, Supervision | U15: Line Management | V15: OHS Act 85 of 1993, HCS Regulations, Incident Management Procedure 32-95,
B16: R | E16: 1.1.4 | F16: Inhaling Dust | G16: Health | H16: Not wearing breathing mask protection while using chainsaws | I16: Lines & servitude employees, contractors | J16: Grid Manager | K16: Daily (+-8 hrs a day) | L16: Chest/ breathing complications temporary or permanent leading to a medical incident or LTI | M16: 1. Elimination- not possible. Its a required tool to do the job. 2. Substituion-cant replace, technological evolution. 3. Engineering controls-not appliacble 4. Administrative:-Training and awareness, task specific risk assessment and toolbox talks 5. PPE- use of hearing protection | N16: 1. Training and awareness on the use of Chain saws. 2. Task risk assessments. 3. Tool box talks 4. Use of dust masks | O16: 4 | P16: C | Q16: II | R16: Fully effective | S16: Routine Occupational hygiene medical screening includes Pulmonary function tests | T16: Behavioural Safety Observations, Supervision | U16: Line Management | V16: OHS Act 85 of 1993, HCS Regulations; Incident Management Procedure 32-95,
B17: R | E17: 1.1.5 | F17: Minor Cuts or seroius body injury | G17: Safety | H17: Not wearing apprpriate PPE including gloves. Not doing appropriate Risk assesments. | I17: Lines & servitude employees, contractors | J17: Grid Manager | K17: Daily (+-8 hrs a day) | L17: Damage or a loss to a limb resulting in amputation leading to a medical incident or LTI. | N17: 1. Training and awareness on the use of Chain saws. 2. Task risk assessments. 3. Use of appropriate PPE (Chainsaw trouser, helmet with a face shield, goggles and gloves) 4. Tool Box Talks | O17: 4 | P17: C | Q17: II | R17: Fully effective | S17: Routine Occupational hygiene medical screening tests | T17: Behavioural Safety Observations, Supervision | U17: Line Management | V17: OHS Act 85 of 1993, Section 8, training on the use of chain saws, Incident Management Procedure 32-95,
B18: R | E18: 1.1.6 | F18: Trees/branches falling causing injury whilst tree felling/ bush clearing | G18: Safety | H18: Not doing proper Risk assessments. | I18: Lines & servitude employees, contractors | J18: Grid Manager | K18: Daily (+-8 hrs a day) | L18: Temporary or permanent body injury. Could result in fatality. | N18: 1. Training and awareness on the use of Chain saws. 2. Task risk assessments. 3. Tool box talks. | O18: 5 | P18: D | Q18: I | R18: Fully effective | S18: 1. Refresher training every 3 years on HIRA | T18: Behavioural Safety Observations, Supervision | U18: Line Management | V18: OHS Act 85 of 1993, Section 8, Incident Management Procedure 32-95,
B19: R | E19: 1.1.7 | F19: Working at Heights | G19: Safety | H19: Not Wearing appropriate PPE including fall arrest system. Not doing proper Risk assessments. Not Hooking up at Heights. | I19: Lines & servitude employees, contractors | J19: Grid Manager | K19: Daily (+-8 hrs a day) | L19: Temporary or permanent body injury. Could result in fatality. | N19: Working at heights procedure availabe, implementation and monitoring of procedure, Training on working at heights and rescue, sharing of life saving rules to all employees working at heights, use of fall arrest system. | O19: 5 | P19: D | Q19: I | R19: Fully effective | S19: Continuous awareness on the working at heights procedure. | T19: Behavioural Safety Observations, Supervision | U19: Line Management | V19: OHS Act 85 of1993, Section 8, Life saving rules, working at heights procedure 32-418, Incident Management Procedure 32-95
B20: R | D20: Extreme Temperatures | E20: 1.2.1 | F20: Sun burns, heat stroke, frost bites | G20: Health | H20: Not Wearing appropriate PPE including hats, sun block creams in hot weather. In cold weather not using appropriate warm jackets and clothing. Not doing proper Risk assessments. | I20: Lines & servitude employees, contractors | J20: Grid Manager | K20: Daily (+-8 hrs a day) | L20: Temporary or permanent body illness | N20: 1. Awareness on working in extreme temperatures 2. Task risk assessments. 3. Tool Box Talks 5. Use of appropriate PPE | O20: 4 | P20: C | Q20: II | R20: Fully effective | S20: Sharing of Lessons learnt form past or recent incidents | T20: Audits conducted of relevant awareness raised | U20: Line Management | V20: OHS Act 85 of 1993, Section 8, Eskom Policy 32-727, Incident Management Procedure 32-95
B21: R | D21: Snakes, ticks, mosquitoes, bees, spiders & scorpions | E21: 1.3.1 | F21: Bitten by snakes, ticks, mosquitoes, bees, spiders & scorpions | G21: Health | H21: Not wearing appropriate PPE including shin pads. Not doing appropriate Risk assessments. | I21: Lines & servitude employees, contractors | J21: Grid Manager | K21: Once a year (+-8 hrs a day) | L21: Bee stings, scorpion or poisonous snake bites leading to a medical incident, LTI or fatality. | N21: 1. Training and awareness of exposure to snakes and insects (EWT) 2. Task risk assessments. 3. Tool box talks 4. Use of appropriate PPE (Sheen guards for snakes) | O21: 5 | P21: C | Q21: II | R21: Fully effective | S21: Awareness on exposure to snakes and insects | T21: Audits conducted of relevant awareness raised | U21: Line Management | V21: OHS Act 85 of 1993, Section 8, Eskom Policy 32-727, Incident Management Procedure 32-95
B22: R | D22: Bush cutters | E22: 2.1.1 | F22: Induced hearing Loss | G22: Health | H22: Not wearing ear protection while using brush cutter | I22: Lines & servitude employees, contractors | J22: Grid Manager | K22: Once a year (+-8 hrs a day) | L22: Noise Induced Hearing Loss (NIHL) causing partial or permanent deafness leading to a medical incident or LTI | N22: 1. Training and awareness on noise induced hearing loss to be carried. 2. Task risk assessments. 3. Tool box talks 4. Use of hearing protection | O22: 4 | P22: C | Q22: II | R22: Fully effective | S22: 1. Routine Occupational hygiene medical screening includes audiometric tests 2. Continuous servicing of equipment | T22: Inspections, servicing, monitoring programme | U22: Line Management | V22: OHS Act 85 of 1993, NIHL regulations, SANS 10083 and Eskom hearing conservation procedure, Incident Management Procedure 32-95
B23: R | E23: 2.1.2 | F23: suffer eye injury | G23: Safety | H23: Not wearing eye protection while using chainsaws | I23: Lines & servitude employees, contractors | J23: Grid Manager | K23: Once a year (+-8 hrs a day) | L23: Permanent/ partial eye loss leading to a medical incident or LTI | N23: 1. Training and awareness on the use of Brush Cutters. 2. Task risk assessments. 3. Tool box talks 4. Use of eye protection. | O23: 4 | P23: C | Q23: II | R23: Fully effective | S23: Routine medical screening includes eye tests | T23: Inspections, servicing, monitoring programme | U23: Line Management | V23: OHS Act 85 of 1993, Section 8 , Eskom Risk assessment procedure 32-520, Incident Management Procedure 32-95,
B24: R | E24: 2.1.3 | F24: Inhaling petrol fumes | G24: Health | H24: Not wearing breathing mask protection while using brush cutters | I24: Lines & servitude employees, contractors | J24: Grid Manager | K24: Once a year (+-8 hrs a day) | L24: 1. Acute effects are eye, nose, throat and lung irritation, headaches, light headedness, and nausea. 2. Allergic people becomes more susceptible to what they are allergic to, inflammation of the lungs which may aggravate chronic respiratory symptoms and increase the frequency & intensity of asthma attacks. 3.Long term inhalation will contribute to mutation of cells that will lead to lung and bladder cancer. 4. Prolonged skin exposures may cause variety of skin conditions. 5. Long term exposure will cause suppression of the central nervous system | N24: 1. Training and awareness on the use of Brush Cutters 2. Task risk assessments. 3. Tool Box Talks 4. Use of appropriate PPE | O24: 4 | P24: C | Q24: II | R24: Fully effective | S24: Continuous awareness on the use of petrol | T24: Behavioural Safety Observations, Supervision | U24: Line Management | V24: OHS Act 85 of 1993, HCS Regulations, Incident Management Procedure 32-95,
B25: R | E25: 2.1.4 | F25: Breathing of Dust | G25: Health | H25: Not wearing breathing mask protection while using brush cutters | I25: Lines & servitude employees, contractors | J25: Grid Manager | K25: Once a year (+-8 hrs a day) | L25: Chest/ breathing complications temporary or permanent leading to a medical incident or LTI | N25: 1. Training and awareness on the use of Brush Cutters. 2. Task risk assessments. 3. Use of breathing protection 4. Tool Box Talks. | O25: 4 | P25: C | Q25: II | R25: Fully effective | S25: Continuous awareness on the working in dusty environments | T25: Behavioural Safety Observations, Supervision | U25: Line Management | V25: OHS Act 85 of 1993, HCS Regulations, Incident Management Procedure 32-95
B26: R | E26: 2.1.5 | F26: Minor cuts or serious body injury | G26: Safety | H26: Not wearing appropriate PPE including gloves. Not doing appropriate Risk assessments. | I26: Lines & servitude employees, contractors | J26: Grid Manager | K26: Once a year (+-8 hrs a day) | L26: Damage or a loss to a limb resulting in amputation leading to a medical incident or LTI. | N26: 1. Training and awareness on the use of Brush Cutters. 2. Task risk assessments. 3. Tool Box Talks 4. Use of appropriate PPE | O26: 4 | P26: C | Q26: II | R26: Fully effective | S26: Routine Occupational hygiene medical screening tests | T26: Behavioural Safety Observations, Supervision | U26: Line Management | V26: OHS Act 85 of 1993, Section 8, Eskom Policy 32-727, Incident Management Procedure 32-95
B27: R | D27: Extreme Temperatures | E27: 2.2.1 | F27: Sun burns, heat stroke, frost bites | G27: Health | H27: Not Wearing appropriate PPE including hats, sun block creams in hot weather. In cold weather not using appropriate warm jackets and clothing. Not doing proper Risk assessments. | I27: Lines & servitude employees, contractors | J27: Grid Manager | K27: Once a year (+-8 hrs a day) | L27: Temporary or permanent body illness | N27: 1. Awareness of brush cutting in extreme temperatures 2. Task risk assessments. 3. Tool Box Talks 5. Use of appropriate PPE | O27: 4 | P27: C | Q27: II | R27: Fully effective | S27: Continuous awareness on working in extreme temperatures | T27: Audit on awareness | U27: Line Management | V27: OHS Act 85 of 1993,Environmental Regulations for workplaces, Eskom risk assessment procedure; 32-520, Incident Management Procedure 32-95
B28: R | D28: Flying objects | E28: 2.3.1 | F28: Serious injuries or fatality | G28: Safety | H28: Not wearing appropriate PPE around machines or tools that may cause an object to become airborne. Not having protective guards on tools or untrained employees using tools. | I28: Lines & servitude employees, contractors | J28: Grid Manager | K28: Once/Twice a month (+-8 hrs a day) | L28: Injuries range from minor concussions to blindness and even fatality. | N28: 1. Awareness or training on the use of chainsaws and pruners 2. Task risk assessments. 3. Tool Box Talks 4. Use of appropriate PP | O28: 5 | P28: D | Q28: I | R28: Fully effective | S28: Continous awareness on safety precautions that need to be taken when working around tools that may cause objects to become airborne. | T28: Inspections of tools | U28: Lines & Servitude Manager | V28: Eskom risk assessment procedure; 32-520, Incident Management Procedure 32-95
B29: R | D29: Wildlife (Ostrich) | E29: 2.4.1 | F29: Serious injuries or fatality | G29: Safety | H29: Provoking ostriches or coming into close proximity with them especially during their breeding season. | I29: Lines & servitude employees, contractors | J29: Grid Manager | K29: Once/Twice a month (+-8 hrs a day) | L29: Scrapes and bruises, fractured skull,loss of vision and even fatality | N29: 1. Task risk assessment before doing any work in areas with wildlife | O29: 5 | P29: D | Q29: I | R29: Fully effective | S29: Awareness on working in areas with wildlife | T29: Audit on awareness | U29: Lines & Servitude Manager | V29: Eskom risk assessment procedure; 32-520, Incident Management Procedure 32-96
B30: R | D30: Snakes, ticks, mosquitoes, bees, spiders & scorpions | E30: 2.5.1 | F30: Bitten by snakes, ticks, mosquitoes, bees, spiders & scorpions | G30: Health | H30: Not wearing appropriate PPE including shin pads. Not doing appropriate Risk assessments. | I30: Lines & servitude employees, contractors | J30: Grid Manager | K30: Once a year (+-8 hrs a day) | L30: Bee stings, scorpion or poisonous snake bites leading to a medical incident, or LTI | N30: 1. Training and awareness of exposure to snakes and insects. 2. Task risk assessments. 3. Tool Box Talks 4. Use of appropriate PPE | O30: 5 | P30: D | Q30: I | R30: Fully effective | S30: Tool Box talks | T30: Audit on awareness | U30: Line Management | V30: OHS Act 85 of 1993, Section 8, Eskom Policy 32-727, Incident Management Procedure 32-95
A31: Repair of tower members | B31: R | C31: 3.1 | D31: Portable electrical tools (Grinder, Drill) | E31: 3.1.1 | F31: Induced hearing Loss | G31: Health | H31: Not wearing ear protection while using grinders, drills etc. | I31: Lines & servitude employees, contractors | J31: Grid Manager | K31: Once a month (+-8 hrs a day) | L31: Noise Induced Hearing Loss (NIHL) causing partial or permanent deafness leading to a medical incident or LTI. | N31: 1. Training and awareness of using Portable electrical tools. 2. Task risk assessments and checking the portable electrical tools 3. Tool box talks 4. Use of appropriate PPE | O31: 4 | P31: C | Q31: II | R31: Fully effective | S31: Routine Occupational hygiene medical screening includes audiometric tests | T31: Inspections, servicing, monitoring programme | U31: Line Management | V31: OHS Act 85 of 1993, Electrical Machinery Regulations, Incident Management Procedure 32-95
B32: R | E32: 3.1.2 | F32: Suffer eye injury | G32: Safety | H32: Not wearing eye protection while using grinders, drills, anti vandal bolt machine etc. | I32: Lines & servitude employees, contractors | J32: Grid Manager | K32: Once a month (+-8 hrs a day) | L32: Permanent/ partial eye loss leading to a medical incident or LTI. | N32: 1. Training and awareness on the use of Portable electrical tools. 2. Task risk assessments. 3. Tool box talks 4. Use of eye protection | O32: 4 | P32: C | Q32: II | R32: Fully effective | S32: Routine Occupational hygiene medical screening includes eye tests | T32: Inspections, servicing, monitoring programme | U32: Line Management | V32: OHS Act 85 of 1993, Electrical Machinery Regulations, Incident Management Procedure 32-95
B33: R | E33: 3.1.3 | F33: Minor cuts or serious body injury | G33: Safety | H33: Failure to conduct a proper risk assessment. | I33: Lines & servitude employees, contractors | J33: Grid Manager | K33: Once a month (+-8 hrs a day) | L33: Damage or a loss to a limb resulting in amputation leading to a medical incident or LTI. | N33: 1. Training and awareness on the use of portable electrical equipment. 2. Task risk assessments. 3. Tool box talks | O33: 4 | P33: C | Q33: II | R33: Fully effective | S33: Supervision | T33: Behavioural Safety Observations, Supervision | U33: Line Management | V33: OHS Act 85 of 1993 , Electrical Machinery Regulations, Incident Management Procedure 32-95
B34: R | E34: 3.1.4 | F34: Electrical contact | G34: Safety | H34: Working in wet weather or with defective equipment | I34: Lines & servitude employees, contractors | J34: Grid Manager | K34: Once a month (+-8 hrs a day) | L34: leading to a medical incident or LTI or Fatality. | N34: 1. Training and awareness on the use of portable electrical tools. 2. Task risk assessments. 3. Use of appropriate PPE. 4. Tool Box Talks. | O34: 5 | P34: D | Q34: I | R34: Fully effective | S34: Sharing of Lessons learnt form past or recent incidents and use of portable electrical tools checklist | T34: Behavioural Safety Observations, Supervision | U34: Line Management | V34: OHS Act 85 of 1993, Electrical Machinery Regulations, Incident Management Procedure 32-95
B35: R | C35: 3.2 | D35: Swege Bolt Machine | E35: 3.2.1 | F35: Minor cuts or serious body injury | G35: Safety | H35: If the user is destructed, improper handling | I35: Lines & servitude employees, contractors | J35: Grid Manager | K35: Twice a week (+- 5 hrs a day) | L35: leading to a medical incident or LTI . | N35: 1. Awareness on the use the Swege bolt machine. 2. Task risk assessments. 3. Use of appropriate PPE. 4. Tool Box Talks. | O35: 4 | P35: C | Q35: II | R35: Fully effective | S35: Continous supervision | T35: Behavioural Safety Observations, Supervision | U35: Line Management | V35: OHS Act 85 of 1993, Electrical Machinery Regulations, Incident Management Procedure 32-95
B36: R | C36: 3.2 | D36: Extreme Temperatures | E36: 3.2.1 | F36: Sun burns, heat stroke, frost bites | G36: Safety | H36: Not Wearing appropriate PPE including hats, sun block creams in hot weather. In cold weather not using appropriate warm jackets and clothing. Not doing proper Risk assessments. | I36: Lines & servitude employees, contractors | J36: Grid Manager | K36: Twice a week (+-8 hrs a day) | L36: Temporary or permanent body injury/illness leading to a medical incident or LTI. | N36: 1. Awareness of tower inspections/repairs in extreme weather conditions. 2. Task risk assessments. 3. Tool Box Talks 4. Use of appropriate PPE | O36: 4 | P36: C | Q36: II | R36: Fully effective | S36: Sharing of Lessons learnt from past or recent incidents | T36: Audits conducted of relevant awareness raised | U36: Line Management | V36: OHS Act 85 of 1993, Section 8, Eskom Policy 32-727, Incident Management Procedure 32-95
B37: N | C37: 3.3 | D37: Medical unfitness | E37: 3.3.1 | F37: Possibility Falling due to not being well | G37: Safety | H37: No / inadequate Man Job Specification in Place | I37: Lines & servitude employees, contractors | J37: Grid Manager | K37: Twice a week (+-8 hrs a day) | L37: Major injury or Fatality | N37: Medical surveillance in place, Man-job-specifications done, Medical fitness monitored on a monthly basis. | O37: 5 | P37: D | Q37: I | R37: Fully effective | S37: Awareness to refuse employees with expired medicals not to perform any work | T37: Continuous Monitoring of medical fitness | U37: Line Management | V37: OHS Act 85 of 1993, Section 8, Eskom Policy 32-727, Incident Management Procedure 32-95
B38: R | C38: 3.4 | D38: Adverse weather conditions (Heavy rain, hail storm, heavy winds) | E38: 3.4.1 | F38: Slip and Fall from the Tower | G38: Safety | H38: Tower which is wet may cause a person to slip, strong winds may cause a person to be insecure and panic | I38: Lines & servitude employees, contractors | J38: Grid Manager | K38: Twice a week (+-8 hrs a day) | L38: Falling may cause Major injury or fatality | N38: Procedure available, implementation and monitoring of working at heights, Awareness raised on the procedure, Risk assessment conducted | O38: 5 | P38: D | Q38: I | R38: Fully effective | S38: Continuous awareness raised on the Work at heights procedure whenever there is a review. Conducting BSO | T38: Monitor that all risk assessments cover all hazards relating to working in adverse weather conditions | U38: Line Management | V38: Eskom Working at Heights Procedure, 32-418, Eskom Risk assessment Procedure, 32-520
B39: R | C39: 3.5 | D39: Snakes, ticks, mosquitoes, bees, spiders & scorpions | E39: 3.5.1 | F39: Bitten by snakes, ticks, mosquitoes, bees, spiders & scorpions | G39: Health | H39: Not wearing appropriate PPE including shin pads. Not doing appropriate Risk assessments. | I39: Lines & servitude employees, contractors | J39: Grid Manager | K39: Once/Twice a month (+-8 hrs a day) | L39: Bee stings, scorpion or poisonous snake bites leading to a medical incident, LTI or fatality. | N39: 1. Training and awareness of exposure to snakes and insects. 2. Task risk assessments. 3. Tool Box Talks 4. Use of appropriate PPE | O39: 5 | P39: D | Q39: I | R39: Mostly effective | S39: Continuous awareness on exposure to snakes and insects | T39: Monitor incidents associated with snakes and insects (Mainly medical and First Aid) | U39: Line Management | V39: OHS Act 85 of 1993, Section 8, Transmission Central Grid Emergency Preparedness Plan, 240-108022748, Incident Management Procedure 32-95
A40: Application of Herbicides | B40: R | C40: 4.1 | D40: Herbicides | E40: 4.1.1 | F40: Skin contact | G40: Health | H40: Not wearing appropriate PPE while mixing or applying herbicides, not following manufactures specifications on the MSDS | I40: Lines & servitude employees, contractors | J40: Grid Manager | K40: Once a month (+-8 hrs a day) | L40: Skin damage temporary or permanent leading to a medical incident or LTI. | N40: Awareness on safe use of herbicides, correct PPE to be issued, Chemical inventory should be in place, MSDS's for all herbicides should be available | O40: 4 | P40: C | Q40: II | R40: Fully effective | S40: Continuous awareness on the safe use of herbicides | T40: Auditing | U40: Line Management | V40: OHS Act 85 of 1993, HCS Regulations, Incident Management Procedure 32-95
B41: R | E41: 4.1.2 | F41: Inhaling herbicide chemicals | G41: Health | H41: Not wearing appropriate breathing apparatus while mixing or applying herbicides | I41: Lines & servitude employees, contractors | J41: Grid Manager | K41: Once a month (+-8 hrs a day) | L41: Chest/ breathing complications temporary or permanent leading to a medical incident or LTI. | N41: Awareness on safe use of herbicides, correct PPE to be issued, Chemical inventory should be in place, MSDS's for all herbicides should be available | O41: 4 | P41: C | Q41: II | R41: Fully effective | S41: Continuous awareness on the safe use of herbicides | T41: Auditing | U41: Line Management | V41: OHS Act 85 of 1993, HCS Regulations, Incident Management Procedure 32-95
B42: R | E42: 4.1.3 | F42: Ergonomic stress of carrying back spray | G42: Safety | H42: By carrying heavy weight for a long time . Not taking adequate breaks | I42: Lines & servitude employees, contractors | J42: Grid Manager | K42: Once a month (+-8 hrs a day) | L42: Temporary or permanent back damage leading to a medical incident or LTI. | N42: 1. Training and awareness on the use of Back sprays 2. Task risk assessments. 3. Tool box talks 4. Use of appropriate PPE | O42: 4 | P42: C | Q42: II | R42: Fully effective | S42: Sharing of Lessons learnt from past or recent incidents | T42: Behavioural Safety Observations, Supervision | U42: Line Management | V42: OHS Act 85 of 1993, Section 8, Incident Management Procedure 32-95
A43: Tower Inspections | B43: R | C43: 5.1 | D43: Climbing of Towers (Working at heights) | E43: 5.1.1 | F43: Falling from Heights | G43: Safety | H43: Not Wearing appropriate PPE including fall arrest system. Not doing proper Risk assessments. Not Hooking up at Heights. | I43: Lines & servitude employees, live line employees | J43: Grid Manager | K43: Twice a month (+-8 hrs a day) | L43: Temporary or permanent body injury leading to a medical incident or LTI or could result in fatality. | N43: 1. Awareness of tower inspections. 2. Task risk assessments. 3. Use of appropriate PPE (Safety Harnesses). | O43: 5 | P43: D | Q43: I | R43: Fully effective | S43: Sharing of Lessons learnt from past or recent incidents | T43: Internal Audits which includes verification of Inspections and training | U43: Line Management | V43: OHS Act 85 of 1993, Section 8, Life saving rules, working at heights procedure, 32-418, Incident Management Procedure 32-95
...

Sheet HV Plant
A2: Occupational Health and Safety Baseline risk assessment template
A3: Business/Operating unit: | B3: Central Grid | U3: Next Review Date (every 2 years): | V3: 44050 | W3: Template identifier: | X3: 240-70044602
A5: Date: | B5: 43319 | J5: Prepared by: | K5: Sericah Promesse, Chico Ramgovind, Zanele Sethusa, Zandile Gabela, Tshwari Ramagofu | M5: Authorised by: | O5: Name: Victor Shikoana | W5: Document identifier
O6: Designation: Senior Manager Grids | W6: Revision number: | X6: 1
O7: Signed: | W7: Revision date: | X7: 45443
O8: Date:
A9: Refer to Occupational Health and Safety Risk assessment procedure 32-520
A10: List activity | B10: Activity type (Routine/Non-routine) | C10: Hazard nr | D10: Hazard Identification | E10: Risk Nr | F10: Associated risk | G10: Risk type | H10: Cause(s) of the risk | I10: Exposed group/employees | J10: Risk Owner | K10: Exposure patterns | L10: What are the possible consequences? | M10: Existing Controls | P10: Risk Priority Rating | R10: Additional Controls or Tasks Aimed at improving Existing Controls | S10: Monitoring Mechanisms | T10: Control Owner | U10: Legal and Other Requirements | V10: Target Date | W10: Current Status | X10: Integrated Risk Management (IRM) reference number
A11: List specific activities to be performed taking into consideration the equipment to be used, the personnel involved in the task. | B11: Indicate R or N 1. Routine activities and situations create hazards through day-to-day operations and normal work activities; 2. Non-routine activities and situations are occasional or unplanned; | C11: # | D11: Anything with potential to cause of harm. Note: A hazard can pose more than one risk. | E11: # | F11: A chance that injury , ill health or damage could occur as a result of uncontrolled hazard. | G11: Safety or health | H11: What causes the risk to come into effect? | I11: Who is exposed to the hazard i.e. visitors, members of the public, etc. | J11: Who is accountable for making sure the controls and monitors are: - in place, - implemented, - regularly reviewed for effectiveness. | K11: The frequency and duration the person/group is exposed to the hazard e.g. Daily for 3 hrs. | L11: Consider the worse case scenario without controls? | M11: Include: - Preventative Controls (controls implemented to eliminate hazards or reduce the likelihood of the risk occurring), and - Reactive Controls (controls implemented to reduce the immediate impact of the risk occurring) Elimination Substitution Engineering controls Administrative controls Personal protective equipment (PPE) | N11: Consequence | O11: Likelihood | Q11: RCE Risk Control Effectiveness | R11: Include: - Preventative Controls (controls implemented to eliminate hazards or reduce the likelihood of the risk occurring), and - Reactive Controls (controls implemented to reduce the immediate impact of the risk occurring) Elimination Substitution Engineering controls Administrative controls Personal protective equipment (PPE) | S11: How we know if we are succeeding. Include comments on effectiveness. This may include i.e. measurements, inspections, supervision where necessary. | T11: Person allocated the responsibility for implementing the agreed controls | U11: Where relevant, list the relevant legislative and or Eskom requirements that prescribe the control. | V11: Once a date has been agreed to, this can not be changed | W11: Pending, In Progress, Complete | X11: Where applicable, add IRM system reference number for tracking of treatment actions.
A12: Maintenance/ Commissioning/decommissioning/fault finding of Primary plant equipment | B12: R | C12: 1.1 | D12: Portable electrical tools | E12: 1.1.1 | F12: Induced hearing Loss | G12: Health | H12: Not wearing eye protection while using grinders, drills, anti vandal bolt machine etc. | I12: HV Plant (Artisans) | J12: Grid Manager | K12: Once a month (+-8 hrs a day) | L12: Noise Induced Hearing Loss (NIHL) causing partial or permanent deafness leading to a medical incident or LTI. | M12: 1. Training and awareness of using portable electrical tools. 2. Task risk assessments. 3. Tool box talks 4. Use of hearing protection | N12: 4 | O12: C | P12: II | Q12: Fully effective | R12: Continuous awareness on the use of portable electrical tools. | S12: Inspections, servicing, monitoring programme | T12: Line Management | U12: OHS Act 85 of 1993, NIHL Regulations, Incident Management Procedure 32-95
B13: R | E13: 1.1.2 | F13: Suffer eye injury | G13: Safety | H13: Not wearing eye protection while using grinders, drills, anti vandal bolt machine etc. | I13: HV Plant (Artisans) | J13: Grid Manager | K13: Once a month (+-8 hrs a day) | L13: Permanent/ partial eye loss leading to a medical incident or LTI. | M13: 1. Training and awareness on the use of portable electrical tools. 2. Task risk assessments. 3. Tool box talks 4. Use of eye protection | N13: 4 | O13: C | P13: II | Q13: Fully effective | R13: Continuous awareness on the use of portable electrical tools. | S13: Behavioural Safety Observations, Supervision | T13: Line Management | U13: OHS Act 85 of 1993, Section 8 ,Eskom Risk assessment procedure 32-520, Incident Management Procedure 32-95
B14: R | E14: 1.1.3 | F14: Minor cuts or serious body injury | G14: Safety | H14: Not wearing eye protection while using grinders, drills, etc. | I14: HV Plant (Artisans) | J14: Grid Manager | K14: Once a month (+-8 hrs a day) | L14: Damage or a loss to a limb resulting in amputation. | M14: 1. Training and awareness on the use of Portable electrical tools. 2. Task risk assessments. 3. Tool box talks 4. Use of appropriate PPE | N14: 4 | O14: C | P14: II | Q14: Fully effective | R14: Continuous awareness on the use of portable electrical tools. | S14: Behavioural Safety Observations, Supervision | T14: Line Management | U14: OHS Act 85 of 1993, Electrical Machinery Regulations, Incident Management Procedure 32-95
B15: R | E15: 1.1.4 | F15: Electrical contact | G15: Safety | H15: Working in wet weather or with defective equipment | I15: HV Plant (Artisans) | J15: Grid Manager | K15: Once a month (+-8 hrs a day) | L15: Leading to a medical incident or LTI or could result in a fatality | M15: 1. Training and awareness on the use of portable electrical tools. 2. Task risk assessments. 3. Tool box talks 4. Use of appropriate PPE | N15: 5 | O15: C | P15: II | Q15: Fully effective | R15: Continuous awareness on the use of portable electrical tools. | S15: Behavioural Safety Observations, Supervision | T15: Line Management | U15: OHS Act 85 of 1993, Electrical Machinery Regulations, Incident Management Procedure 32-95
B16: R | C16: 1.2 | D16: Working at Heights | E16: 1.2.1 | F16: Falling from Height | G16: Safety | H16: Not Wearing appropriate PPE including fall arrest system. Not doing proper Risk assessments. Not Hooking up at Heights. | I16: HV Plant (Artisans) | J16: Grid Manager | K16: Once/Twice a month (+-8 hrs a day) | L16: Temporary or permanent body injury leading to a medical incident or LTI or could result in fatality. | M16: 1. Training and awareness of maintenance specific. 2. Task risk assessments. 3. Re-Enforcing Life saving rules. 4. Use of appropriate PPE (Fall arrest system) | N16: 5 | O16: C | P16: II | Q16: Fully effective | R16: Continuous awareness on working at heights | S16: Behavioural Safety Observations, Supervision | T16: Line Management | U16: OHS Act 85 of 1993, Section 8, Life saving rules, working at heights procedure, 32-418, Incident Management Procedure 32-95
B17: R | E17: 1.2.2 | F17: Extreme Temperatures | G17: Health | H17: Not Wearing appropriate PPE including hats, sun block creams in hot weather. In cold weather not using appropriate warm jackets and clothing. Not doing proper Risk assessments. | I17: HV Plant (Artisans) | J17: Grid Manager | K17: Once/Twice a month (+-8 hrs a day) | L17: Temporary or permanent body injury/illness leading to a medical incident or LTI. | M17: 1. Training and awareness of maintenance specific. 2. Task risk assessments. 3. Use of appropriate PPE (Safety Harnesses). 4. Re-Enforcing Life saving rules. 5. Tool Box Talks. | N17: 4 | O17: C | P17: II | Q17: Fully effective | R17: Continuous awareness on working at heights | S17: Behavioural Safety Observations, Supervision | T17: Line Management | U17: OHS Act 85 of 1993, Section 8, Life saving rules, working at heights procedure, 32-418, Incident Management Procedure 32-95
B18: R | C18: 1.3 | D18: Hoisting and rigging | E18: 1.3.1 | F18: Object being lifted falls | G18: Safety | H18: Incorrect rigging plan | I18: HV Plant (Artisans) | J18: Grid Manager | K18: Once/Twice a month (+-8 hrs a day) | L18: Temporary or permanent body injury/illness leading to a medical incident or LTI. | M18: 1. Training and awareness of riggings plans 2. Task risk assessments. 3. Tool box talks 5. Use of appropriate PPE. | N18: 4 | O18: C | P18: II | R18: Sharing of Lessons learnt form past or recent incidents | S18: Behavioural Safety Observation, Supervision | T18: Line Management | U18: OHS Act 85 of 1993, Section 8, Eskom Policy 32-727, Incident Management Procedure 32-95
B19: R | E19: 1.3.2 | F19: Making electrical contact with the crane | G19: Safety | H19: Poor Risk Assessment | I19: HV Plant (Artisans) | J19: Grid Manager | K19: Once/Twice a month (+-8 hrs a day) | L19: Temporary or permanent body injury leading to a medical incident or LTI or could result in fatality. | M19: 1. Training and awareness of riggings plans 2. Task risk assessments. 3. Tool box talk 5. Use of appropriate PPE. | N19: 5 | O19: C | P19: II | Q19: Fully effective | R19: Sharing of Lessons learnt form past or recent incidents | S19: Behavioural Safety Observation, Supervision | T19: Line Management | U19: OHS Act 85 of 1993, Section 8, Eskom Policy 32-727, Incident Management Procedure 32-95
B20: R | E20: 1.3.3 | F20: Crane falls | G20: Safety | H20: Incorrect rigging plan. Incorrect rigging skills | I20: HV Plant (Artisans) | J20: Grid Manager | K20: Once/Twice a month (+-8 hrs a day) | L20: Temporary or permanent body injury leading to a medical incident or LT or could result in fatality. | M20: 1. Training and awareness of riggings plans 2. Task risk assessments. 3. Tool box talks 5. Use of appropriate PPE | N20: 5 | O20: C | P20: II | Q20: Fully effective | R20: Sharing of Lessons learnt form past or recent incidents | S20: Behavioural Safety Observation, Supervision | T20: Line Management | U20: OHS Act 85 of 1993, Section 8, Eskom Policy 32-727, Incident Management Procedure 32-95
B21: R | E21: 1.3.4 | F21: Sling breaks or snaps | G21: Safety | H21: Old or damaged slings | I21: HV Plant (Artisans) | J21: Grid Manager | K21: Once/Twice a month (+-8 hrs a day) | L21: Temporary or permanent body injury leading to a medical incident or LT or could result in fatality. | M21: 1. Training and awareness of riggings plans 2. Task risk assessments. 3. Tool box talks. 5. Use of appropriate PPE. | N21: 5 | O21: C | P21: II | Q21: Fully effective | R21: Sharing of Lessons learnt form past or recent incidents | S21: Behavioural Safety Observation, Supervision | T21: Line Management | U21: OHS Act 85 of 1993, Section 8, Eskom Policy 32-727, Incident Management Procedure 32-95
B22: R | C22: 1.4 | D22: Blowers | E22: 1.4.1 | F22: Dust inhalation | G22: Health | H22: Not wearing breathing/dust mask | I22: HV Plant (Artisans) | J22: Grid Manager | K22: ONCE/Twice a week (+-8 hrs a day) | L22: Chest/ breathing complications temporary or permanent leading to a medical incident or LTI. | M22: 1. Training and awareness of blowers. 2. Task risk assessments. 3. Tool box talks 5. Use of appropriate PPE. | N22: 4 | O22: C | P22: II | Q22: Fully effective | R22: Sharing of Lessons learnt form past or recent incidents | S22: Behavioural Safety Observation, Supervision | T22: Line Management | U22: OHS Act 85 of 1993, Section 8, Eskom Policy 32-727, Incident Management Procedure 32-95
B23: R | E23: 1.4.2 | F23: Eye injury | G23: Safety | H23: Not wearing eye protection | I23: HV Plant (Artisans) | J23: Grid Manager | K23: ONCE/Twice a week (+-8 hrs a day) | L23: Permanent/ partial eye loss leading to a medical incident or LTI. | M23: 1. Training and awareness of blowers. 2. Task risk assessments. 3. Tool box talks 5. Use of appropriate PPE. | N23: 4 | O23: C | P23: II | Q23: Fully effective | R23: Sharing of Lessons learnt form past or recent incidents | S23: Behavioural Safety Observation, Supervision | T23: Line Management | U23: OHS Act 85 of 1993, Section 8, Eskom Policy 32-727, Incident Management Procedure 32-95
B24: R | C24: 1.5 | D24: SF6 gas | E24: 1.5.1 | F24: Inhalation of SF6 gas | G24: Health | H24: Not wearing breathing apparatus | I24: HV Plant (Artisans) | J24: Grid Manager | K24: ONCE/Twice a week (+-8 hrs a day) | L24: Inhalation may cause asphyxiation (suffocation), eye contact may cause freezing of tissues, skin contact may cause frostbites | M24: 1. Training and awareness of SF6 gas. 2. Task risk assessments. 3. Tool Box talks 5. Use of appropriate PPE | N24: 4 | O24: C | P24: II | Q24: Fully effective | R24: Sharing of Lessons learnt form past or recent incidents | S24: Behavioural Safety Observation, Supervision | T24: Line Management | U24: OHS Act 85 1993, HCS Regulatons, Incident Management Procedure 32-95
B25: R | E25: 1.5.2 | F25: Gas leaks | G25: Health | H25: Inadequate skills. Broken or damaged pipes/equipment | I25: HV Plant (Artisans) | J25: Grid Manager | K25: ONCE/Twice a week (+-8 hrs a day) | L25: Chest/ breathing complications temporary or permanent leading to a medical incident or LTI. | M25: 1. Training and awareness of top up procedure of SF6 gas. 2. Task risk assessments. 3. Tool box talks 5. Use of appropriate PPE | N25: 4 | O25: C | P25: II | Q25: Fully effective | R25: Sharing of Lessons learnt form past or recent incidents | S25: Behavioural Safety Observation, Supervision | T25: Line Management | U25: OHS Act 85 of 1993, HCS Regulations,Incident Management Procedure 32-95, Eskom Risk assessment Procedure, 32-520.
B26: R | E26: 1.5.3 | F26: Over pressuring -causing primary fault e.g. b/bar fault in GIS switchgear | G26: Safety | H26: Inadequate skills/training | I26: HV Plant (Artisans) | J26: Grid Manager | K26: ONCE/Twice a week (+-8 hrs a day) | L26: Temporary or permanent body injury leading to a medical incident or LTI or could result in fatality. | M26: 1. Training and awareness of SF6 gas. 2. Task risk assessments. 3. Tool box talks 5. Use of appropriate PPE | N26: 5 | O26: C | P26: II | Q26: Fully effective | R26: Sharing of Lessons learnt form past or recent incidents | S26: Behavioural Safety Observation, Supervision | T26: Line Management | U26: OHS Act 85 of 1993, HCS Regulations,Incident Management Procedure 32-95, Eskom Risk assessment Procedure, 32-520.
B27: R | C27: 1.6 | D27: Oil ( breaker/ transformer) | E27: 1.6.1 | F27: Skin contact | G27: Safety | H27: Not wearing appropriate safety gloves | I27: HV Plant (Artisans) | J27: Grid Manager | K27: ONCE/Twice a week (+-8 hrs a day) | L27: Skin damage temporary or permanent leading to a medical incident or LTI or Leading to skin cancer. | M27: 1. Training and awareness of equipment specific including oil handling. 2. Task risk assessments. 3. Tool box talks 4. Use of appropriate PPE | N27: 4 | O27: C | P27: II | Q27: Fully effective | R27: Breaker and transformer maintenance training, | S27: Behavioural Safety Observation, Supervision | T27: Line Management | U27: OHS Act 85 of 1993, Section 8, Eskom Policy 32-727, Incident Management Procedure 32-95
B28: R | E28: 1.6.2 | F28: Exposure to PCB | G28: Safety | H28: Inadequate skills/training. Not warning signs/sticker of oil containing PCB's. | I28: HV Plant (Artisans) | J28: Grid Manager | K28: ONCE/Twice a week (+-8 hrs a day) | L28: Temporary or permanent body injury leading to a medical incident or LTI. | M28: 1. Training and awareness of equipment specific including management of PCB's. 2. Task risk assessments. 3. Tool box talks 4. Use of appropriate PPE | N28: 4 | O28: C | P28: II | Q28: Fully effective | R28: Breaker and transformer maintenance training, environmental awareness on PCB | S28: Behavioural Safety Observation, Supervision | T28: Line Management | U28: OHS Act 85 of 1993, Section 8, Eskom Policy 32-727, Incident Management Procedure 32-95
B29: R | E29: 1.6.3 | F29: Slips, trips & falls | G29: Safety | H29: Inadequate skills/training | I29: HV Plant (Artisans) | J29: Grid Manager | K29: ONCE/Twice a week (+-8 hrs a day) | L29: Temporary or permanent body injury. | M29: 1. Training and awareness of equipment specific including oil handling. 2. Task risk assessments. 3. Tool box talks 5. Use of appropriate PPE | N29: 4 | O29: C | P29: II | Q29: Fully effective | R29: Sharing of Lessons learnt form past or recent incidents | S29: Behavioural Safety Observation, Supervision | T29: Line Management | U29: OHS Act 85 of 1993, Section 8, Eskom Policy 32-727, Incident Management Procedure 32-95
B30: R | C30: 1.7 | D30: Infra red scanning | E30: 1.7.1 | F30: Slips, trips & falls | G30: Safety | H30: Inadequate skills/training | I30: HV Plant (Artisans) | J30: Grid Manager | K30: ONCE/Twice a week (+-8 hrs a day) | L30: Temporary or permanent body injury leading to a medical incident or LTI. | M30: 1. Training and awareness of IR scanning in HV yards. 2. Task risk assessments. 3. Tool box talks 4. Use of appropriate PPE | N30: 4 | O30: C | P30: II | Q30: Fully effective | R30: Sharing of Lessons learnt form past or recent incidents | S30: Behavioural Safety Observation, Supervision | T30: Line Management | U30: OHS Act 85 of 1993, Section 8, Eskom Policy 32-727, Incident Management Procedure 32-95
B31: R | C31: 1.8 | D31: Silica gel /hand cleaner/ grease | E31: 1.8.1 | F31: Skin contact | G31: Health | H31: Inadequate skills/training | I31: HV Plant (Artisans) | J31: Grid Manager | K31: ONCE/Twice a week (+-8 hrs a day) | L31: 1.Route of entry: inhalation, absorption and ingestion. 2.Eye irritation, defatting and irritation of the skin, prolonged exposure may cause dermatitis. 3.Swallowing may cause dizziness, gastrointestinal irritation, diarrhoea, nausea, and vomiting. 4.Inhalation may cause dizziness, drowsiness, anaesthesia, mental confusion, impaired vision, nausea and vomiting Silica gel When inhaled may cause dryness and irritation to mucous membranes, nose and throat. Symptoms are coughing, sore throat and wheezing. Skin irritation with dryness and abrasion. Eye irritation, redness and pain. Hand cleaner May cause eye irritation | M31: 1. Training and awareness of equipment specific including management/handling of chemicals . 2. Task risk assessments. 3. Tool box talks 5. Use of appropriate PPE | N31: 4 | O31: C | P31: II | Q31: Fully effective | R31: Environmental awareness when working with chemicals | S31: Behavioural Safety Observation, Supervision | T31: Line Management | U31: OHS Act 85 of 1993, senvironmental awareness when working with chemicals, Incident Management Procedure 32-95
B32: R | E32: 1.8.2 | F32: Inhalation of chemical fumes | G32: Health | H32: Not wearing breathing apparatus | I32: HV Plant (Artisans) | J32: Grid Manager | K32: ONCE/Twice a week (+-8 hrs a day) | L32: 1. Acute effects are eye, nose, throat and lung irritation, headaches, light headedness, and nausea. 2. Allergic people becomes more susceptible to what they are allergic to, inflammation of the lungs which may aggravate chronic respiratory symptoms and increase the frequency & intensity of asthma attacks. 3.Long term inhalation will contribute to mutation of cells that will lead to lung and bladder cancer. 4. Prolonged skin exposures may cause variety of skin conditions. 5. Long term exposure will cause suppression of the central nervous system | M32: 1. Training and awareness of equipment specific including management/handling of chemicals . 2. Task risk assessments. 3. Use of appropriate PPE. 5. Tool Box Talks. | N32: 4 | O32: C | P32: II | Q32: Fully effective | R32: Sharing of Lessons learnt form past or recent incidents | S32: Behavioural Safety Observation, Supervision | T32: Line Management | U32: OHS Act, environmental awareness when working with chemicals, Incident Management Procedure 32-95
B33: R | C33: 1.9 | D33: HV yard | E33: 1.9.1 | F33: Slips, trips & falls | G33: Safety | H33: Inadequate skills/training. Poor Risk Assessments | I33: HV Plant (Artisans) | J33: Grid Manager | K33: ONCE/Twice a week (+-8 hrs a day) | L33: Temporary or permanent body injury leading to a medical incident or LTI. | M33: 1. Training and awareness of ORHVS regs. 2. Task risk assessments. 3. Use of appropriate PPE. 5. Tool Box Talks. | N33: 4 | O33: C | P33: II | Q33: Fully effective | R33: Sharing of Lessons learnt form past or recent incidents | S33: Behavioural Safety Observation, Supervision | T33: Line Management | U33: OHS Act. Training on HV Yard inspections, Incident Management Procedure 32-95
B34: R | E34: 1.9.2 | F34: Electrical contact | G34: Safety | H34: Inadequate skills/training. Poor Risk Assessments | J34: Grid Manager | K34: ONCE/Twice a week (+-8 hrs a day) | L34: Temporary or permanent body injury leading to a medical incident or LTI or could result in a fatality. | M34: 1. Training and awareness of ORHVS regulations. 2. Task risk assessments. 3. Use of appropriate PPE. 5. Tool Box Talks. | N34: 5 | O34: C | P34: II | Q34: Fully effective | R34: Training on first line maintenance of Electric fences | S34: Behavioural Safety Observation, Supervision | T34: Line Management | U34: OHS Act 85 of 1993, Electrical machinery Regulations, Incident Management Procedure 32-95
B35: R | C35: 1.1 | D35: Electric fence | E35: 1.10.1 | F35: Electrical contact | G35: Safety | H35: Inadequate skills/training. Poor Risk Assessments | I35: HV Plant (Artisans) | J35: Grid Manager | K35: ONCE a week (+-8 hrs a day) | L35: Temporary or permanent body injury leading to a medical incident or LTI or could result in a fatality. | M35: 1.1st line Training and awareness of electric fences. 2. Task risk assessments. 3. Use of appropriate PPE | N35: 5 | O35: C | P35: II | Q35: Fully effective | R35: Sharing of Lessons learnt form past or recent incidents | S35: Behavioural Safety Observation, Supervision | T35: Line Management | U35: OHS Act 85 of 1993, Section 8, Eskom Risk assement Procedure, 32-520, Incident Management Procedure 32-95
B36: R | C36: 1.11 | D36: Tan delta testing | E36: 1.11.1 | F36: Electrical contact | G36: Safety | H36: Inadequate skills/training. Poor Risk Assessments | I36: HV Plant (Artisans) | J36: Grid Manager | K36: ONCE/Twice a week (+-8 hrs a day) | L36: Temporary or permanent body injury leading to a medical incident or LTI or could result in a fatality. | M36: 1. Training and awareness of Tan delta testing in HV yards. 2. Task risk assessments. 3. Tool box talks 4. Use of appropriate PPE | N36: 5 | O36: C | P36: II | Q36: Fully effective | R36: Sharing of Lessons learnt form past or recent incidents | S36: Behavioural Safety Observation, Supervision | T36: Line Management | U36: Eskom Working at heights Procedure 32-418, Eskom SHEQ Policy, 32-727, Incident Management Procedure 32-95
B37: R | E37: 1.11.2 | F37: Falling from Height | G37: Safety | H37: No Fall arrest system used. Inadequate skills/training. Poor Risk Assessments. Breaking lifesaving rules- not hooking up at heights | I37: HV Plant (Artisans) | J37: Grid Manager | K37: ONCE/Twice a week (+-8 hrs a day) | L37: Temporary or permanent body injury leading to a medical incident or LTI or could result in a fatality. | M37: 1. Training and awareness of working at heights. 2. Task risk assessments. 3. Tool box talks 4. Use of appropriate PPE | N37: 5 | O37: C | P37: II | Q37: Fully effective | R37: Sharing of Lessons learnt form past or recent incidents | S37: Behavioural Safety Observation, Supervision | T37: Line Management | U37: OHS Act 85 of 1993, Secton 8, Working at heights 32-418, Incident Management Procedure 32-95
B38: R | C38: 1.12 | D38: Welding/grinding | E38: 1.12.1 | F38: Arc eyes | G38: Safety | H38: Not wearing eye protection while welding | I38: HV Plant (Artisans) | J38: Grid Manager | K38: Once/Twice a month (+-8 hrs a day) | L38: Damage or a loss of vision in eyes leading to a medical incident or LTI. | M38: 1. Training and awareness on the use of welding machines. 2. Task risk assessments. 3. Tool box talks 4. Use of appropriate PPE | N38: 4 | O38: C | P38: II | Q38: Fully effective | R38: Routine Occupational hygiene medical screening including eye tests | S38: Behavioural Safety Observation, Supervision | T38: Line Management | U38: OHS Act 85 of 1993, Section 8, Eskom Risk assement Procedure, 32-520, Incident Management Procedure 32-95
B39: R | E39: 1.12.2 | F39: Minor cuts or serious body injury | G39: Safety | H39: Not wearing appropriate PPE. | I39: HV Plant (Artisans) | J39: Grid Manager | K39: Once/Twice a month (+-8 hrs a day) | L39: Damage or a loss to a limb resulting in amputation leading to a medical incident or LTI. | M39: 1. Training and awareness on the use of hand tools. 2. Task risk assessments. 3. Tool box talks 4. Use of appropriate PPE | N39: 4 | O39: C | P39: II | Q39: Fully effective | R39: Continous awareness on the use of portable electrical tools | S39: Behavioural Safety Observation, Supervision | T39: Line Management | U39: OHS Act 85 of 1993, Electrical Machinery Regulations, Incident Management Procedure 32-95.
A40: Operating | C40: 2.1 | D40: Opening, Isolating, safety testing and earthing of primary plant equipment | E40: 2.1.1. | F40: Electrical contact | G40: Safety | H40: Failure to do proper Risk Assessment, failure to follow stds & procedures, In appropriate PPE, Failure to observe ORHVS, non adherence to life saving rules, faulty plant equipment, Distraction, lack of skills. | I40: HV Plant (Artisans) | J40: Grid Manager | K40: 2 to 3 times a week | L40: Temporary or permanent body injury leading to a medical incident or LTI or could result in fatality. | M40: 1. Training and awareness of ORHVS and operating. 2. Task risk assessments. 3. Tool box talks 4. Buddy system - brothers keeper 5. Re-enforcing of live saving rules 6. Use of appropriate PPE | N40: 6 | O40: C | P40: I | Q40: Mostly effective | R40: Sharing of Lessons learnt form past or recent incidents | S40: Behavioural Safety Observation, Supervision | T40: Line Management | U40: OHS Act 85 of 1993, Section 8, Eskom Risk assement Procedure, 32-520, Incident Management Procedure 32-95
E41: 2.1.2 | F41: Falling from Height (Inspection of GIS) | G41: Safety | H41: Failure to do proper Risk Assessment, In appropriate PPE or no FAS, non adherence to life saving rules, Distraction, lack of skills. | I41: HV Plant (Artisans) | J41: Grid Manager | K41: 2 to 3 times a week | L41: Temporary or permanent body injury leading to a medical incident or LTI or could result in fatality. | M41: 1. Training and awareness of ORHVS and operating. 2. Task risk assessments. 3. Tool box talks 4. Buddy system - brothers keeper 5. Re-enforcing of live saving rules 6. Use of appropriate PPE | N41: 5 | O41: C | P41: II | Q41: Mostly effective | R41: Sharing of Lessons learnt form past or recent incidents | S41: Behavioural Safety Observation, Supervision | T41: Line Management | U41: OHS Act 85 of 1993, Section 8, Eskom Risk assement Procedure, 32-520, Incident Management Procedure 32-95
E42: 2.1.3 | F42: Slips, trips & falls | G42: Safety | H42: Failure to do proper Risk Assessment, In appropriate PPE, non adherence to life saving rules, Distraction, lack of skills. | I42: HV Plant (Artisans) | J42: Grid Manager | K42: 2 to 3 times a week | L42: Temporary or permanent body injury leading to a medical incident or LTI. | M42: 1. Training and awareness of ORHVS and operating. 2. Task risk assessments. 3. Tool Box Talks 4. Buddy system - brothers keeper 5. Re-enforcing of live saving rules 6. Use of appropriate PPE | N42: 4 | O42: C | P42: II | Q42: Fully effective | R42: Sharing of Lessons learnt form past or recent incidents | S42: Behavioural Safety Observation, Supervision | T42: Line Management | U42: OHS Act 85 of 1993, Section 8, Eskom Risk assement Procedure, 32-520, Incident Management Procedure 32-95
...

Sheet Lines & Servitudes
A2: Occupational Health and Safety Baseline risk assessment template
A3: Business/Operating unit: | B3: Central Grid | U3: Next Review Date (every 2 years): | V3: 44050 | W3: Template identifier: | X3: 240-70044602
A5: Date: | B5: 43319 | J5: Prepared by: | K5: Sericah Promesse, Chico Ramgovind, Zanele Sethusa, Zandile Gabela, Tshwari Ramagofu | M5: Authorised by: | O5: Name: Victor Shikoana | W5: Document identifier
