Workbook
Name Consequence: '[1]Drop Down Lists'!$A$3:$A$8
Name Likelihood: '[1]Drop Down Lists'!$B$3:$B$7
Name RCE: '[1]Drop Down Lists'!$D$3:$D$7

Sheet Risk templateCG
A3: Occupational Health and Safety Baseline risk assessment template
A4: Business/Operating unit: | B4: Central Grid | V4: Next Review Date (every 2 years): | W4: 44050 | X4: Template identifier: | Y4: 240-70044602
A6: Date: | B6: 43319 | J6: Prepared by: | K6: Sericah Promesse, Chico Ramgovind, Zanele Sethusa, Zandile Gabela, Tshwari Ramagofu | N6: Authorised by: | P6: Name: Victor Shikoana | X6: Document identifier | AN6: R | AO6: Safety | AP6: 1 | AQ6: A | AR6: Fully effective | AS6: I
P7: Designation: Senior Manager Grids | X7: Revision number: | Y7: 1 | AN7: N | AO7: Health | AP7: 2 | AQ7: B | AR7: Mostly effective | AS7: II
P8: Signed: | X8: Revision date: | Y8: 45443 | AP8: 3 | AQ8: C | AR8: Mostly ineffective | AS8: III
P9: Date: | AP9: 4 | AQ9: D | AR9: None | AS9: IV
A10: Refer to Occupational Health and Safety Risk assessment procedure 32-520 | AP10: 5 | AQ10: E
A11: List activity | B11: Activity type (Routine/Non-routine) | C11: Hazard nr | D11: Hazard Identification | E11: Risk Nr | F11: Associated risk | G11: Risk type | H11: Cause(s) of the risk | I11: Exposed group/employees | J11: Risk Owner | K11: Exposure patterns | L11: What are the possible consequences? | M11: Hierachy of Controls | N11: Existing Controls | Q11: Risk Priority Rating | S11: Additional Controls or Tasks Aimed at improving Existing Controls | T11: Monitoring Mechanisms | U11: Control Owner | V11: Legal and Other Requirements | W11: Target Date | X11: Current Status | Y11: Integrated Risk Management (IRM) reference number | AP11: 6
A12: List specific activities to be performed taking into consideration the equipment to be used, the personnel involved in the task. | B12: Indicate R or N 1. Routine activities and situations create hazards through day-to-day operations and normal work activities; 2. Non-routine activities and situations are occasional or unplanned; | C12: # | D12: Anything with potential to cause of harm. Note: A hazard can pose more than one risk. | E12: # | F12: A chance that injury , ill health or damage could occur as a result of uncontrolled hazard. | G12: Safety or health | H12: What causes the risk to come into effect? | I12: Who is exposed to the hazard i.e. visitors, members of the public, etc. | J12: Who is accountable for making sure the controls and monitors are: - in place, - implemented, - regularly reviewed for effectiveness. | K12: The frequency and duration the person/group is exposed to the hazard e.g. Daily for 3 hrs. | L12: Consider the worse case scenario without controls? | M12: Includes: Elimination, Substitution, Engineering, Administrative and PPE | N12: Include: - Preventative Controls (controls implemented to eliminate hazards or reduce the likelihood of the risk occurring), and - Reactive Controls (controls implemented to reduce the immediate impact of the risk occurring) Elimination Substitution Engineering controls Administrative controls Personal protective equipment (PPE) | O12: Consequence | P12: Likelihood | R12: RCE Risk Control Effectiveness | S12: Include: - Preventative Controls (controls implemented to eliminate hazards or reduce the likelihood of the risk occurring), and - Reactive Controls (controls implemented to reduce the immediate impact of the risk occurring) Elimination Substitution Engineering controls Administrative controls Personal protective equipment (PPE) | T12: How we know if we are succeeding. Include comments on effectiveness. This may include i.e. measurements, inspections, supervision where necessary. | U12: Person allocated the responsibility for implementing the agreed controls | V12: Where relevant, list the relevant legislative and or Eskom requirements that prescribe the control. | W12: Once a date has been agreed to, this can not be changed | X12: Pending, In Progress, Complete | Y12: Where applicable, add IRM system reference number for tracking of treatment actions. | AE12: Consequences | AF12: 6 | AG12: III | AH12: II | AI12: I | AJ12: I | AK12: I
A13: Vegetation Management | B13: R | C13: 1.1 | D13: Chainsaws | E13: 1.1.1 | F13: Induced hearing Loss | G13: Health | H13: Not wearing ear protection while using chainsaws | I13: Lines & servitude employees, contractors | J13: Grid Manager | K13: Daily (+-8 hrs a day) | L13: Noise Iinduced Hearing Loss (NIHL) causing partial or permanent deafness leading to a medical incident or LTI | M13: 1. Elimination- not possible. Its a required tool to do the job. 2. Substituion-cant replace, technological evolution. 3. Engineering controls-not appliacble 4. Administrative:-Training and awareness, task specific risk assessment and toolbox talks 5. PPE- use of hearing protection | N13: 1. Training and awareness on noise induced hearing loss to be carried out 2. Task risk assessments. 3. Toolbox talks 4. Use of hearing protection | O13: 4 | P13: C | Q13: II | R13: Fully effective | S13: 1. Routine medical screening includes audiometric tests 2. Continuous servicing of equipment | T13: Servicing/Repairs | U13: Line Management | V13: OHS Act 85 of 1993, NIHL regulations, SANS 10083 and Eskom hearing conservation procedure, Incident Management Procedure 32-95
B14: R | E14: 1.1.2 | F14: Suffer eye injury | G14: Safety | H14: Not wearing eye protection while using chainsaws | I14: Lines & servitude employees, contractors | J14: Grid Manager | K14: Daily (+-8 hrs a day) | L14: Permanent/ partial eye loss leading to a medical incident or LTI | M14: 1. Elimination- not possible. Its a required tool to do the job. 2. Substituion-cant replace, technological evolution. 3. Engineering controls-not appliacble 4. Administrative:-Training and awareness, task specific risk assessment and toolbox talks 5. PPE- use of hearing protection | N14: 1. Training and awareness on the use of Chain saws. 2. Task risk assessments. 3. Tool Box talks 4. Use of eye protection | O14: 4 | P14: C | Q14: II | R14: Fully effective | S14: Routine medical screening includes eye tests | T14: Servicing/Repairs | U14: Line Management | V14: OHS Act 85 of 1993, Section 8 , Eskom Risk assessment procedure 32-520, Incident Management Procedure 32-95,
B15: R | E15: 1.1.3 | F15: Inhaling petrol fumes | G15: Health | H15: Not wearing mask while using chainsaws | I15: Lines & servitude employees, contractors | J15: Grid Manager | K15: Daily (+-8 hrs a day) | L15: 1. Acute effects are eye, nose, throat and lung irritation, headaches, light headedness, and nausea. 2. Allergic people becomes more susceptible to what they are allergic to, inflammation of the lungs which may aggravate chronic respiratory symptoms and increase the frequency & intensity of asthma attacks. 3.Long term inhalation will contribute to mutation of cells that will lead to lung and bladder cancer. 4. Prolonged skin exposures may cause variety of skin conditions. 5. Long term exposure will cause suppression of the central nervous system | M15: 1. Elimination- not possible. Its a required tool to do the job. 2. Substituion-cant replace, technological evolution. 3. Engineering controls-not appliacble 4. Administrative:-Training and awareness, task specific risk assessment and toolbox talks 5. PPE- use of hearing protection | N15: 1. Task risk assessments. 2. Tool box talks 3. Use of masks | O15: 4 | P15: C | Q15: II | R15: Fully effective | S15: Routine Occupational hygiene medical screening includes Pulmonary function tests | T15: Behavioural Safety Observations, Supervision | U15: Line Management | V15: OHS Act 85 of 1993, HCS Regulations, Incident Management Procedure 32-95,
B16: R | E16: 1.1.4 | F16: Inhaling Dust | G16: Health | H16: Not wearing breathing mask protection while using chainsaws | I16: Lines & servitude employees, contractors | J16: Grid Manager | K16: Daily (+-8 hrs a day) | L16: Chest/ breathing complications temporary or permanent leading to a medical incident or LTI | M16: 1. Elimination- not possible. Its a required tool to do the job. 2. Substituion-cant replace, technological evolution. 3. Engineering controls-not appliacble 4. Administrative:-Training and awareness, task specific risk assessment and toolbox talks 5. PPE- use of hearing protection | N16: 1. Training and awareness on the use of Chain saws. 2. Task risk assessments. 3. Tool box talks 4. Use of dust masks | O16: 4 | P16: C | Q16: II | R16: Fully effective | S16: Routine Occupational hygiene medical screening includes Pulmonary function tests | T16: Behavioural Safety Observations, Supervision | U16: Line Management | V16: OHS Act 85 of 1993, HCS Regulations; Incident Management Procedure 32-95,
B17: R | E17: 1.1.5 | F17: Minor Cuts or seroius body injury | G17: Safety | H17: Not wearing apprpriate PPE including gloves. Not doing appropriate Risk assesments. | I17: Lines & servitude employees, contractors | J17: Grid Manager | K17: Daily (+-8 hrs a day) | L17: Damage or a loss to a limb resulting in amputation leading to a medical incident or LTI. | N17: 1. Training and awareness on the use of Chain saws. 2. Task risk assessments. 3. Use of appropriate PPE (Chainsaw trouser, helmet with a face shield, goggles and gloves) 4. Tool Box Talks | O17: 4 | P17: C | Q17: II | R17: Fully effective | S17: Routine Occupational hygiene medical screening tests | T17: Behavioural Safety Observations, Supervision | U17: Line Management | V17: OHS Act 85 of 1993, Section 8, training on the use of chain saws, Incident Management Procedure 32-95,
B18: R | E18: 1.1.6 | F18: Trees/branches falling causing injury whilst tree felling/ bush clearing | G18: Safety | H18: Not doing proper Risk assessments. | I18: Lines & servitude employees, contractors | J18: Grid Manager | K18: Daily (+-8 hrs a day) | L18: Temporary or permanent body injury. Could result in fatality. | N18: 1. Training and awareness on the use of Chain saws. 2. Task risk assessments. 3. Tool box talks. | O18: 5 | P18: D | Q18: I | R18: Fully effective | S18: 1. Refresher training every 3 years on HIRA | T18: Behavioural Safety Observations, Supervision | U18: Line Management | V18: OHS Act 85 of 1993, Section 8, Incident Management Procedure 32-95,
B19: R | E19: 1.1.7 | F19: Working at Heights | G19: Safety | H19: Not Wearing appropriate PPE including fall arrest system. Not doing proper Risk assessments. Not Hooking up at Heights. | I19: Lines & servitude employees, contractors | J19: Grid Manager | K19: Daily (+-8 hrs a day) | L19: Temporary or permanent body injury. Could result in fatality. | N19: Working at heights procedure availabe, implementation and monitoring of procedure, Training on working at heights and rescue, sharing of life saving rules to all employees working at heights, use of fall arrest system. | O19: 5 | P19: D | Q19: I | R19: Fully effective | S19: Continuous awareness on the working at heights procedure. | T19: Behavioural Safety Observations, Supervision | U19: Line Management | V19: OHS Act 85 of1993, Section 8, Life saving rules, working at heights procedure 32-418, Incident Management Procedure 32-95
B20: R | D20: Extreme Temperatures | E20: 1.2.1 | F20: Sun burns, heat stroke, frost bites | G20: Health | H20: Not Wearing appropriate PPE including hats, sun block creams in hot weather. In cold weather not using appropriate warm jackets and clothing. Not doing proper Risk assessments. | I20: Lines & servitude employees, contractors | J20: Grid Manager | K20: Daily (+-8 hrs a day) | L20: Temporary or permanent body illness | N20: 1. Awareness on working in extreme temperatures 2. Task risk assessments. 3. Tool Box Talks 5. Use of appropriate PPE | O20: 4 | P20: C | Q20: II | R20: Fully effective | S20: Sharing of Lessons learnt form past or recent incidents | T20: Audits conducted of relevant awareness raised | U20: Line Management | V20: OHS Act 85 of 1993, Section 8, Eskom Policy 32-727, Incident Management Procedure 32-95
B21: R | D21: Snakes, ticks, mosquitoes, bees, spiders & scorpions | E21: 1.3.1 | F21: Bitten by snakes, ticks, mosquitoes, bees, spiders & scorpions | G21: Health | H21: Not wearing appropriate PPE including shin pads. Not doing appropriate Risk assessments. | I21: Lines & servitude employees, contractors | J21: Grid Manager | K21: Once a year (+-8 hrs a day) | L21: Bee stings, scorpion or poisonous snake bites leading to a medical incident, LTI or fatality. | N21: 1. Training and awareness of exposure to snakes and insects (EWT) 2. Task risk assessments. 3. Tool box talks 4. Use of appropriate PPE (Sheen guards for snakes) | O21: 5 | P21: C | Q21: II | R21: Fully effective | S21: Awareness on exposure to snakes and insects | T21: Audits conducted of relevant awareness raised | U21: Line Management | V21: OHS Act 85 of 1993, Section 8, Eskom Policy 32-727, Incident Management Procedure 32-95
B22: R | D22: Bush cutters | E22: 2.1.1 | F22: Induced hearing Loss | G22: Health | H22: Not wearing ear protection while using brush cutter | I22: Lines & servitude employees, contractors | J22: Grid Manager | K22: Once a year (+-8 hrs a day) | L22: Noise Induced Hearing Loss (NIHL) causing partial or permanent deafness leading to a medical incident or LTI | N22: 1. Training and awareness on noise induced hearing loss to be carried. 2. Task risk assessments. 3. Tool box talks 4. Use of hearing protection | O22: 4 | P22: C | Q22: II | R22: Fully effective | S22: 1. Routine Occupational hygiene medical screening includes audiometric tests 2. Continuous servicing of equipment | T22: Inspections, servicing, monitoring programme | U22: Line Management | V22: OHS Act 85 of 1993, NIHL regulations, SANS 10083 and Eskom hearing conservation procedure, Incident Management Procedure 32-95
B23: R | E23: 2.1.2 | F23: suffer eye injury | G23: Safety | H23: Not wearing eye protection while using chainsaws | I23: Lines & servitude employees, contractors | J23: Grid Manager | K23: Once a year (+-8 hrs a day) | L23: Permanent/ partial eye loss leading to a medical incident or LTI | N23: 1. Training and awareness on the use of Brush Cutters. 2. Task risk assessments. 3. Tool box talks 4. Use of eye protection. | O23: 4 | P23: C | Q23: II | R23: Fully effective | S23: Routine medical screening includes eye tests | T23: Inspections, servicing, monitoring programme | U23: Line Management | V23: OHS Act 85 of 1993, Section 8 , Eskom Risk assessment procedure 32-520, Incident Management Procedure 32-95,
B24: R | E24: 2.1.3 | F24: Inhaling petrol fumes | G24: Health | H24: Not wearing breathing mask protection while using brush cutters | I24: Lines & servitude employees, contractors | J24: Grid Manager | K24: Once a year (+-8 hrs a day) | L24: 1. Acute effects are eye, nose, throat and lung irritation, headaches, light headedness, and nausea. 2. Allergic people becomes more susceptible to what they are allergic to, inflammation of the lungs which may aggravate chronic respiratory symptoms and increase the frequency & intensity of asthma attacks. 3.Long term inhalation will contribute to mutation of cells that will lead to lung and bladder cancer. 4. Prolonged skin exposures may cause variety of skin conditions. 5. Long term exposure will cause suppression of the central nervous system | N24: 1. Training and awareness on the use of Brush Cutters 2. Task risk assessments. 3. Tool Box Talks 4. Use of appropriate PPE | O24: 4 | P24: C | Q24: II | R24: Fully effective | S24: Continuous awareness on the use of petrol | T24: Behavioural Safety Observations, Supervision | U24: Line Management | V24: OHS Act 85 of 1993, HCS Regulations, Incident Management Procedure 32-95,
B25: R | E25: 2.1.4 | F25: Breathing of Dust | G25: Health | H25: Not wearing breathing mask protection while using brush cutters | I25: Lines & servitude employees, contractors | J25: Grid Manager | K25: Once a year (+-8 hrs a day) | L25: Chest/ breathing complications temporary or permanent leading to a medical incident or LTI | N25: 1. Training and awareness on the use of Brush Cutters. 2. Task risk assessments. 3. Use of breathing protection 4. Tool Box Talks. | O25: 4 | P25: C | Q25: II | R25: Fully effective | S25: Continuous awareness on the working in dusty environments | T25: Behavioural Safety Observations, Supervision | U25: Line Management | V25: OHS Act 85 of 1993, HCS Regulations, Incident Management Procedure 32-95
B26: R | E26: 2.1.5 | F26: Minor cuts or serious body injury | G26: Safety | H26: Not wearing appropriate PPE including gloves. Not doing appropriate Risk assessments. | I26: Lines & servitude employees, contractors | J26: Grid Manager | K26: Once a year (+-8 hrs a day) | L26: Damage or a loss to a limb resulting in amputation leading to a medical incident or LTI. | N26: 1. Training and awareness on the use of Brush Cutters. 2. Task risk assessments. 3. Tool Box Talks 4. Use of appropriate PPE | O26: 4 | P26: C | Q26: II | R26: Fully effective | S26: Routine Occupational hygiene medical screening tests | T26: Behavioural Safety Observations, Supervision | U26: Line Management | V26: OHS Act 85 of 1993, Section 8, Eskom Policy 32-727, Incident Management Procedure 32-95
B27: R | D27: Extreme Temperatures | E27: 2.2.1 | F27: Sun burns, heat stroke, frost bites | G27: Health | H27: Not Wearing appropriate PPE including hats, sun block creams in hot weather. In cold weather not using appropriate warm jackets and clothing. Not doing proper Risk assessments. | I27: Lines & servitude employees, contractors | J27: Grid Manager | K27: Once a year (+-8 hrs a day) | L27: Temporary or permanent body illness | N27: 1. Awareness of brush cutting in extreme temperatures 2. Task risk assessments. 3. Tool Box Talks 5. Use of appropriate PPE | O27: 4 | P27: C | Q27: II | R27: Fully effective | S27: Continuous awareness on working in extreme temperatures | T27: Audit on awareness | U27: Line Management | V27: OHS Act 85 of 1993,Environmental Regulations for workplaces, Eskom risk assessment procedure; 32-520, Incident Management Procedure 32-95
B28: R | D28: Flying objects | E28: 2.3.1 | F28: Serious injuries or fatality | G28: Safety | H28: Not wearing appropriate PPE around machines or tools that may cause an object to become airborne. Not having protective guards on tools or untrained employees using tools. | I28: Lines & servitude employees, contractors | J28: Grid Manager | K28: Once/Twice a month (+-8 hrs a day) | L28: Injuries range from minor concussions to blindness and even fatality. | N28: 1. Awareness or training on the use of chainsaws and pruners 2. Task risk assessments. 3. Tool Box Talks 4. Use of appropriate PP | O28: 5 | P28: D | Q28: I | R28: Fully effective | S28: Continous awareness on safety precautions that need to be taken when working around tools that may cause objects to become airborne. | T28: Inspections of tools | U28: Lines & Servitude Manager | V28: Eskom risk assessment procedure; 32-520, Incident Management Procedure 32-95
B29: R | D29: Wildlife (Ostrich) | E29: 2.4.1 | F29: Serious injuries or fatality | G29: Safety | H29: Provoking ostriches or coming into close proximity with them especially during their breeding season. | I29: Lines & servitude employees, contractors | J29: Grid Manager | K29: Once/Twice a month (+-8 hrs a day) | L29: Scrapes and bruises, fractured skull,loss of vision and even fatality | N29: 1. Task risk assessment before doing any work in areas with wildlife | O29: 5 | P29: D | Q29: I | R29: Fully effective | S29: Awareness on working in areas with wildlife | T29: Audit on awareness | U29: Lines & Servitude Manager | V29: Eskom risk assessment procedure; 32-520, Incident Management Procedure 32-96
B30: R | D30: Snakes, ticks, mosquitoes, bees, spiders & scorpions | E30: 2.5.1 | F30: Bitten by snakes, ticks, mosquitoes, bees, spiders & scorpions | G30: Health | H30: Not wearing appropriate PPE including shin pads. Not doing appropriate Risk assessments. | I30: Lines & servitude employees, contractors | J30: Grid Manager | K30: Once a year (+-8 hrs a day) | L30: Bee stings, scorpion or poisonous snake bites leading to a medical incident, or LTI | N30: 1. Training and awareness of exposure to snakes and insects. 2. Task risk assessments. 3. Tool Box Talks 4. Use of appropriate PPE | O30: 5 | P30: D | Q30: I | R30: Fully effective | S30: Tool Box talks | T30: Audit on awareness | U30: Line Management | V30: OHS Act 85 of 1993, Section 8, Eskom Policy 32-727, Incident Management Procedure 32-95
A31: Repair of tower members | B31: R | C31: 3.1 | D31: Portable electrical tools (Grinder, Drill) | E31: 3.1.1 | F31: Induced hearing Loss | G31: Health | H31: Not wearing ear protection while using grinders, drills etc. | I31: Lines & servitude employees, contractors | J31: Grid Manager | K31: Once a month (+-8 hrs a day) | L31: Noise Induced Hearing Loss (NIHL) causing partial or permanent deafness leading to a medical incident or LTI. | N31: 1. Training and awareness of using Portable electrical tools. 2. Task risk assessments and checking the portable electrical tools 3. Tool box talks 4. Use of appropriate PPE | O31: 4 | P31: C | Q31: II | R31: Fully effective | S31: Routine Occupational hygiene medical screening includes audiometric tests | T31: Inspections, servicing, monitoring programme | U31: Line Management | V31: OHS Act 85 of 1993, Electrical Machinery Regulations, Incident Management Procedure 32-95
B32: R | E32: 3.1.2 | F32: Suffer eye injury | G32: Safety | H32: Not wearing eye protection while using grinders, drills, anti vandal bolt machine etc. | I32: Lines & servitude employees, contractors | J32: Grid Manager | K32: Once a month (+-8 hrs a day) | L32: Permanent/ partial eye loss leading to a medical incident or LTI. | N32: 1. Training and awareness on the use of Portable electrical tools. 2. Task risk assessments. 3. Tool box talks 4. Use of eye protection | O32: 4 | P32: C | Q32: II | R32: Fully effective | S32: Routine Occupational hygiene medical screening includes eye tests | T32: Inspections, servicing, monitoring programme | U32: Line Management | V32: OHS Act 85 of 1993, Electrical Machinery Regulations, Incident Management Procedure 32-95
B33: R | E33: 3.1.3 | F33: Minor cuts or serious body injury | G33: Safety | H33: Failure to conduct a proper risk assessment. | I33: Lines & servitude employees, contractors | J33: Grid Manager | K33: Once a month (+-8 hrs a day) | L33: Damage or a loss to a limb resulting in amputation leading to a medical incident or LTI. | N33: 1. Training and awareness on the use of portable electrical equipment. 2. Task risk assessments. 3. Tool box talks | O33: 4 | P33: C | Q33: II | R33: Fully effective | S33: Supervision | T33: Behavioural Safety Observations, Supervision | U33: Line Management | V33: OHS Act 85 of 1993 , Electrical Machinery Regulations, Incident Management Procedure 32-95
B34: R | E34: 3.1.4 | F34: Electrical contact | G34: Safety | H34: Working in wet weather or with defective equipment | I34: Lines & servitude employees, contractors | J34: Grid Manager | K34: Once a month (+-8 hrs a day) | L34: leading to a medical incident or LTI or Fatality. | N34: 1. Training and awareness on the use of portable electrical tools. 2. Task risk assessments. 3. Use of appropriate PPE. 4. Tool Box Talks. | O34: 5 | P34: D | Q34: I | R34: Fully effective | S34: Sharing of Lessons learnt form past or recent incidents and use of portable electrical tools checklist | T34: Behavioural Safety Observations, Supervision | U34: Line Management | V34: OHS Act 85 of 1993, Electrical Machinery Regulations, Incident Management Procedure 32-95
B35: R | C35: 3.2 | D35: Swege Bolt Machine | E35: 3.2.1 | F35: Minor cuts or serious body injury | G35: Safety | H35: If the user is destructed, improper handling | I35: Lines & servitude employees, contractors | J35: Grid Manager | K35: Twice a week (+- 5 hrs a day) | L35: leading to a medical incident or LTI . | N35: 1. Awareness on the use the Swege bolt machine. 2. Task risk assessments. 3. Use of appropriate PPE. 4. Tool Box Talks. | O35: 4 | P35: C | Q35: II | R35: Fully effective | S35: Continous supervision | T35: Behavioural Safety Observations, Supervision | U35: Line Management | V35: OHS Act 85 of 1993, Electrical Machinery Regulations, Incident Management Procedure 32-95
B36: R | C36: 3.2 | D36: Extreme Temperatures | E36: 3.2.1 | F36: Sun burns, heat stroke, frost bites | G36: Safety | H36: Not Wearing appropriate PPE including hats, sun block creams in hot weather. In cold weather not using appropriate warm jackets and clothing. Not doing proper Risk assessments. | I36: Lines & servitude employees, contractors | J36: Grid Manager | K36: Twice a week (+-8 hrs a day) | L36: Temporary or permanent body injury/illness leading to a medical incident or LTI. | N36: 1. Awareness of tower inspections/repairs in extreme weather conditions. 2. Task risk assessments. 3. Tool Box Talks 4. Use of appropriate PPE | O36: 4 | P36: C | Q36: II | R36: Fully effective | S36: Sharing of Lessons learnt from past or recent incidents | T36: Audits conducted of relevant awareness raised | U36: Line Management | V36: OHS Act 85 of 1993, Section 8, Eskom Policy 32-727, Incident Management Procedure 32-95
B37: N | C37: 3.3 | D37: Medical unfitness | E37: 3.3.1 | F37: Possibility Falling due to not being well | G37: Safety | H37: No / inadequate Man Job Specification in Place | I37: Lines & servitude employees, contractors | J37: Grid Manager | K37: Twice a week (+-8 hrs a day) | L37: Major injury or Fatality | N37: Medical surveillance in place, Man-job-specifications done, Medical fitness monitored on a monthly basis. | O37: 5 | P37: D | Q37: I | R37: Fully effective | S37: Awareness to refuse employees with expired medicals not to perform any work | T37: Continuous Monitoring of medical fitness | U37: Line Management | V37: OHS Act 85 of 1993, Section 8, Eskom Policy 32-727, Incident Management Procedure 32-95
B38: R | C38: 3.4 | D38: Adverse weather conditions (Heavy rain, hail storm, heavy winds) | E38: 3.4.1 | F38: Slip and Fall from the Tower | G38: Safety | H38: Tower which is wet may cause a person to slip, strong winds may cause a person to be insecure and panic | I38: Lines & servitude employees, contractors | J38: Grid Manager | K38: Twice a week (+-8 hrs a day) | L38: Falling may cause Major injury or fatality | N38: Procedure available, implementation and monitoring of working at heights, Awareness raised on the procedure, Risk assessment conducted | O38: 5 | P38: D | Q38: I | R38: Fully effective | S38: Continuous awareness raised on the Work at heights procedure whenever there is a review. Conducting BSO | T38: Monitor that all risk assessments cover all hazards relating to working in adverse weather conditions | U38: Line Management | V38: Eskom Working at Heights Procedure, 32-418, Eskom Risk assessment Procedure, 32-520
B39: R | C39: 3.5 | D39: Snakes, ticks, mosquitoes, bees, spiders & scorpions | E39: 3.5.1 | F39: Bitten by snakes, ticks, mosquitoes, bees, spiders & scorpions | G39: Health | H39: Not wearing appropriate PPE including shin pads. Not doing appropriate Risk assessments. | I39: Lines & servitude employees, contractors | J39: Grid Manager | K39: Once/Twice a month (+-8 hrs a day) | L39: Bee stings, scorpion or poisonous snake bites leading to a medical incident, LTI or fatality. | N39: 1. Training and awareness of exposure to snakes and insects. 2. Task risk assessments. 3. Tool Box Talks 4. Use of appropriate PPE | O39: 5 | P39: D | Q39: I | R39: Mostly effective | S39: Continuous awareness on exposure to snakes and insects | T39: Monitor incidents associated with snakes and insects (Mainly medical and First Aid) | U39: Line Management | V39: OHS Act 85 of 1993, Section 8, Transmission Central Grid Emergency Preparedness Plan, 240-108022748, Incident Management Procedure 32-95
A40: Application of Herbicides | B40: R | C40: 4.1 | D40: Herbicides | E40: 4.1.1 | F40: Skin contact | G40: Health | H40: Not wearing appropriate PPE while mixing or applying herbicides, not following manufactures specifications on the MSDS | I40: Lines & servitude employees, contractors | J40: Grid Manager | K40: Once a month (+-8 hrs a day) | L40: Skin damage temporary or permanent leading to a medical incident or LTI. | N40: Awareness on safe use of herbicides, correct PPE to be issued, Chemical inventory should be in place, MSDS's for all herbicides should be available | O40: 4 | P40: C | Q40: II | R40: Fully effective | S40: Continuous awareness on the safe use of herbicides | T40: Auditing | U40: Line Management | V40: OHS Act 85 of 1993, HCS Regulations, Incident Management Procedure 32-95
B41: R | E41: 4.1.2 | F41: Inhaling herbicide chemicals | G41: Health | H41: Not wearing appropriate breathing apparatus while mixing or applying herbicides | I41: Lines & servitude employees, contractors | J41: Grid Manager | K41: Once a month (+-8 hrs a day) | L41: Chest/ breathing complications temporary or permanent leading to a medical incident or LTI. | N41: Awareness on safe use of herbicides, correct PPE to be issued, Chemical inventory should be in place, MSDS's for all herbicides should be available | O41: 4 | P41: C | Q41: II | R41: Fully effective | S41: Continuous awareness on the safe use of herbicides | T41: Auditing | U41: Line Management | V41: OHS Act 85 of 1993, HCS Regulations, Incident Management Procedure 32-95
B42: R | E42: 4.1.3 | F42: Ergonomic stress of carrying back spray | G42: Safety | H42: By carrying heavy weight for a long time . Not taking adequate breaks | I42: Lines & servitude employees, contractors | J42: Grid Manager | K42: Once a month (+-8 hrs a day) | L42: Temporary or permanent back damage leading to a medical incident or LTI. | N42: 1. Training and awareness on the use of Back sprays 2. Task risk assessments. 3. Tool box talks 4. Use of appropriate PPE | O42: 4 | P42: C | Q42: II | R42: Fully effective | S42: Sharing of Lessons learnt from past or recent incidents | T42: Behavioural Safety Observations, Supervision | U42: Line Management | V42: OHS Act 85 of 1993, Section 8, Incident Management Procedure 32-95
A43: Tower Inspections | B43: R | C43: 5.1 | D43: Climbing of Towers (Working at heights) | E43: 5.1.1 | F43: Falling from Heights | G43: Safety | H43: Not Wearing appropriate PPE including fall arrest system. Not doing proper Risk assessments. Not Hooking up at Heights. | I43: Lines & servitude employees, live line employees | J43: Grid Manager | K43: Twice a month (+-8 hrs a day) | L43: Temporary or permanent body injury leading to a medical incident or LTI or could result in fatality. | N43: 1. Awareness of tower inspections. 2. Task risk assessments. 3. Use of appropriate PPE (Safety Harnesses). | O43: 5 | P43: D | Q43: I | R43: Fully effective | S43: Sharing of Lessons learnt from past or recent incidents | T43: Internal Audits which includes verification of Inspections and training | U43: Line Management | V43: OHS Act 85 of 1993, Section 8, Life saving rules, working at heights procedure, 32-418, Incident Management Procedure 32-95
B44: R | E44: 5.1.2 | F44: Electrical contact | G44: Safety | H44: Not doing proper Risk assessments. Getting too close to live conductors. Not wearing correct PPE. | I44: Lines & servitude employees, live line employees | J44: Grid Manager | K44: Twice a month (+-8 hrs a day) | L44: Fatality | N44: 1. Awareness of tower inspections. 2. Task risk assessments. 3. Tool Box Talks. | O44: 5 | P44: D | Q44: I | R44: Fully effective | S44: Sharing of Lessons learnt from past or recent incidents | T44: Internal Audits which includes verification of Inspections and training | U44: Line Management | V44: OHS Act 85 of 1993, General Safety Regulations, Working at heights procedure, 32-418, Incident Management Procedure 32-95
B45: R | E45: 5.1.3 | F45: Extreme Temperatures | G45: Health | H45: Not Wearing appropriate PPE including hats, sun block creams in hot weather. In cold weather not using appropriate warm jackets and clothing. Not doing proper Risk assessments. | I45: Lines & servitude employees, live line employees | J45: Grid Manager | K45: Twice a month (+-8 hrs a day) | L45: Temporary or permanent body injury/illness leading to a medical incident or LTI. | N45: 1. Awareness of tower inspections/repairs. 2. Task risk assessments. 3. Tool Box Talks 4. Use of appropriate PPE (hats or jackets depending on the weather) | O45: 4 | P45: C | Q45: II | R45: Fully effective | S45: Sharing of Lessons learnt from past or recent incidents | T45: Audits conducted of relevant awareness raised | U45: Line Management | V45: OHS Act 85 of 1993, Environmental Regulations for Workplaces and Section 8, Incident Management Procedure 32-95
A46: Travelling & Driving | B46: R | C46: 6.1 | D46: Other negligent road users | E46: 6.1.1 | F46: Injury or fatality to employees or 3rd party | G46: Safety | H46: Not doing Continuous risk assessment, Lack of Driver awareness(Road rage, avoiding reckless drivers, Giving way irrespective of being right) | I46: Lines & servitude employees, contractors | J46: Grid Manager | K46: Daily (6 - 8 hrs a day) | L46: Temporary or permanent body injury leading to a medical incident or LTI or could result in fatality. | N46: 1. Driver training. 2. Pre trip inspections 3. OBC and Drivecam monitoring 4. Tool Box Talks 5. Accident/incident investigations | O46: 5 | P46: D | Q46: I | R46: Mostly effective | S46: Sharing of Lessons learnt from past or recent incidents | T46: Monthly Incident analysis and sharing of lessons learnt | U46: Line Management | V46: OHS Act 85 of 1993, Section 8, Vehicle and Driver safety procedure, 240-62946386, Incident Management Procedure 32-95
B47: R | C47: 6.2 | D47: Hi-Jacking or theft | E47: 6.2.1 | F47: Injury or fatality to employees or 3rd party | G47: Safety | H47: Due to high risk areas, high crime in the country. | I47: Lines & servitude employees, contractors | J47: Grid Manager | K47: Daily (6 - 8 hrs a day) | L47: Temporary or permanent body injury leading to a medical incident or LTI or could result in fatality. | N47: 1. Driver safety awareness/campaigns 2.. Defensive driver training 3. Tool box talks | O47: 5 | P47: D | Q47: I | R47: Mostly effective | S47: Continuous awareness raised on the hi-jacking, Continuous risk assessment to be done and vigilance while driving. | T47: Audits conducted of relevant awareness raised | U47: Line Management | V47: OHS Act 85 of 1993, Section 8, Eskom Risk assessment procedure, 32-520, Incident Management Procedure 32-95
B48: R | E48: 6.2.3 | F48: Stress/ trauma to employee | G48: Health | H48: Due to high risk areas, due economic climate, high crime in the country. | I48: Lines & servitude employees, contractors | J48: Grid Manager | K48: Daily (6 - 8 hrs a day) | L48: Temporary or permanent illness | N48: 1. Driver safety awareness/campaigns 2. Defensive driver training 3. EAP - trauma counselling 4. Tool box talks | O48: 4 | P48: D | Q48: I | R48: Mostly effective | S48: Sharing of Lessons learnt from past or recent incidents | T48: Monthly Incident analysis and sharing of lessons learnt | U48: Line Management | V48: Vehicle and Driver safety management procedure, 240-62946386, Risk Management Procedure, 32-520, Incident Management Procedure 32-95
B49: R | C49: 6.3 | D49: Rough Terrain | E49: 6.3.1 | F49: Ergonomic stress of rough terrain | G49: Safety | H49: Travelling in rough terrain | I49: Lines & servitude employees, contractors | J49: Grid Manager | K49: Daily (6 - 8 hrs a day) | L49: Temporary or permanent illness. | N49: 1. 4x4 Training 2. Tool Box Talks 3. Task risk assessments | O49: 4 | P49: C | Q49: II | R49: Fully effective | S49: Sharing of Lessons learnt from past or recent incidents | T49: Monthly Incident analysis and sharing of lessons learnt | U49: Line Management | V49: OHS Act 85 of 1993, Section 8, Life saving rules, Incident Management Procedure 32-95
B50: N | C50: 6.4 | D50: Night driving | E50: 6.4.1 | F50: Being involved in an accident (Collision, hitting pedestrians, hitting straying animals etc.) | G50: Safety | H50: Night Blindness | I50: Employees, Members of the Public, Contractors | J50: Grid Manager | K50: Weekly (2 - 4 hrs a day) | L50: MVA which may lead to injury or fatality | N50: Risk assessment, buddy system. | O50: 5 | P50: D | Q50: I | R50: Mostly effective | S50: Continuous awareness on night driving raised | T50: Monthly Incident analysis and sharing of lessons learnt | U50: Line Management | V50: OHS Act 85 of 1993, Section 8, Life saving rules, Incident Management Procedure 32-95
B51: N | C51: 6.5 | D51: Fatigue | E51: 6.5.1 | F51: Falling asleep while driving, | G51: Safety | H51: Travelling long distances without resting, working for long hours and not getting enough rest, studying for long hours without getting any rest | I51: Employees, Members of the Public, Contractors | J51: Grid Manager | K51: Daily (6 - 8 hrs a day) | L51: MVA which may lead to injury or fatality | N51: Awareness on fatigue management | O51: 5 | P51: D | Q51: I | R51: Mostly effective | S51: Continuous awareness and monitoring | T51: Monthly monitoring of Vehicle monitoring devices | U51: Line Management | V51: OHS Act 85 of 1993, Section 8, Vehicle and driver safety management, 240-62946386, Life saving rules, Incident Management Procedure 32-95
B52: N | C52: 6.6 | D52: Wild/stray animals | E52: 6.6.1 | F52: Hitting a straying animal | G52: Safety | H52: Obscured view, Over Speeding, No Fencing along the road | I52: Employees, Contractors | J52: Grid Manager | K52: Daily (6 - 8 hrs a day) | L52: MVA which may lead to injury or fatality | N52: Defensive driving, driver awareness, being vigilant, obeying traffic rules | O52: 5 | P52: D | Q52: I | R52: Mostly effective | S52: Continuous awareness and monitoring, Develop Objectives, Targets and Management Programmes | T52: Analysis of incident statistics | U52: Line Management | V52: OHS Act 85 of 1993 section 8 and 14, Risk assessment procedure, 32-520, Incident Management Procedure 32-95
B53: N | C53: 6.7 | D53: Travelling in areas where there are protests | E53: 6.7.1 | F53: Loss of control of the vehicle Injuries Damage to properties Intimidation | G53: Safety | H53: Protestors throwing stones, Road blockages Being held hostage | I53: Employees, Contractors | J53: Grid Manager | K53: Once/Twice a month (+-8 hrs a day) | L53: Possible damage to vehicle and/or injury/fatality | N53: Safe Driver awareness, protests safety alerts | O53: 4 | P53: D | Q53: I | R53: Mostly effective | S53: Continuous awareness raised on listening to protests alerts being undertaking a trip and encourage the use of alternative roads | T53: BSO, Analysis of incident statistics | U53: Line Management | V53: OHS Act 85 of 1993, Section 8, Eskom Policy 32-727, Incident Management Procedure 32-95
B54: N | C54: 6.8 | D54: Over speeding | E54: 6.8.1 | F54: Collision, losing control of the vehicle, unable to stop in time | G54: Safety | H54: Time Pressure, excitement, Doing things in haste, driving under intoxication | I54: Employees, Members of the Public, Contractors | J54: Grid Manager | K54: Daily (6 - 8 hrs a day) | L54: MVA which may lead to injury or fatality | N54: OBC and Drivecam installed in Pool Vehicles, driver awareness | O54: 4 | P54: D | Q54: I | R54: Mostly effective | S54: Continuous monitoring of OBC Reports and taking necessary action, Continuous awareness on over speeding | T54: Monitoring Mechanisms on OBC | U54: Line Management | V54: OHS Act 85 of 1993, Section 8, Vehicle and Driver safety procedure, 240-62946386, Incident Management Procedure 32-95
A55: Winching | B55: R | C55: 7.1 | D55: Winching | E55: 7.1.1 | F55: Minor Cuts or serious body injury | G55: Safety | H55: Snapping of cable, damage of equipment, incorrect methods used | I55: Lines & servitude employees | J55: Grid Manager | K55: Once a year (+-8 hrs a day) | L55: Damage or a loss to a limb resulting in amputation leading to a medical incident or LTI. | N55: 1. Training and awareness on winching 2. Task risk assessments 3. Tool box talks | O55: 4 | P55: C | Q55: II | R55: Fully effective | S55: Sharing of Lessons learnt from past or recent incidents | T55: Analysis of incident statistics | U55: Line Management | V55: OHS Act 85 of 1993, Incident Management Procedure 32-95
B56: R | E56: 7.1.2 | F56: Damage to Eskom Vehicle or 3rd party property | G56: Safety | H56: Snapping of cable, damage of equipment, incorrect methods used | I56: Lines & servitude employees | J56: Grid Manager | K56: Once a year (+-8 hrs a day) | L56: Damage or a loss of assets. | N56: 1. Training and awareness on winching 2. Accident/Incident Investigations 3. Task risk assessments 4. Tool Box Talks | O56: 4 | P56: C | Q56: II | R56: Fully effective | S56: Sharing of Lessons learnt from past or recent incidents | T56: Analysis of incident statistics | U56: Line Management | V56: OHS Act 85 of 1993, Incident Management Procedure 32-95
B57: R | C57: 7.2 | D57: Extreme Temperatures | E57: 7.2.1 | F57: Sun burns, heat stroke, frost bites | G57: Safety | H57: Not Wearing appropriate PPE including hats, sun block creams in hot weather. In cold weather not using appropriate warm jackets and clothing. Not doing proper Risk assessments. | I57: Lines & servitude employees | J57: Grid Manager | K57: Once/Twice a month (+-8 hrs a day) | L57: Temporary or permanent body injury/illness leading to a medical incident or LTI. | N57: 1. Training and awareness of winching in adverse weather conditions. 2. Task risk assessments. 3. Tool box talks 4. Use of appropriate PPE | O57: 4 | P57: C | Q57: II | R57: Fully effective | S57: Sharing of Lessons learnt from past or recent incidents | T57: Analysis of incident statistics | U57: Line Management | V57: OHS Act 85 of 1993, training on the use of Brush cutters, Incident Management Procedure 32-95
B58: R | C58: 7.3 | D58: Snakes, ticks, mosquitoes, bees, spiders & scorpions | E58: 7.3.1 | F58: Bitten by snakes, ticks, mosquitoes, bees, spiders & scorpions | G58: Health | H58: Not wearing appropriate PPE including shin pads. Not doing appropriate Risk assessments. | I58: Lines & servitude employees | J58: Grid Manager | K58: Once/Twice a month (+-8 hrs a day) | L58: Bee stings, scorpion or poisonous snake bites leading to a medical incident, LTI or fatality. | N58: 1. Training and awareness of exposure to snakes and insects. 2. Task risk assessments. 3. Tool box talks 4. Use of appropriate PPE | O58: 5 | P58: C | Q58: II | R58: Fully effective | S58: Tool Box talks | T58: Analysis of incident statistics | U58: Line Management | V58: OHS Act 85 of 1993, training on the use of Brush cutters, Incident Management Procedure 32-95
A59: Maintenance/ Commissioning/decommissioning/fault finding of Primary plant equipment | B59: R | C59: 8.1 | D59: Portable electrical tools | E59: 8.1.1 | F59: Induced hearing Loss | G59: Health | H59: Not wearing eye protection while using grinders, drills, anti vandal bolt machine etc. | I59: Lines & servitude (Semi-skilled) | J59: Grid Manager | K59: Once a month (+-8 hrs a day) | L59: Noise Induced Hearing Loss (NIHL) causing partial or permanent deafness leading to a medical incident or LTI. | N59: 1. Training and awareness of using portable electrical tools. 2. Task risk assessments. 3. Tool box talks 4. Use of hearing protection | O59: 4 | P59: C | Q59: II | R59: Fully effective | S59: Continuous awareness on the use of portable electrical tools. | T59: Inspections, servicing, monitoring programme | U59: Line Management | V59: OHS Act 85 of 1993, NIHL Regulations, Incident Management Procedure 32-95
B60: R | E60: 8.1.2 | F60: Suffer eye injury | G60: Safety | H60: Not wearing eye protection while using grinders, drills, anti vandal bolt machine etc. | I60: Lines & servitude (Semi-skilled) | J60: Grid Manager | K60: Once a month (+-8 hrs a day) | L60: Permanent/ partial eye loss leading to a medical incident or LTI. | N60: 1. Training and awareness on the use of portable electrical tools. 2. Task risk assessments. 3. Tool box talks 4. Use of eye protection | O60: 4 | P60: C | Q60: II | R60: Fully effective | S60: Continuous awareness on the use of portable electrical tools. | T60: Behavioural Safety Observations, Supervision | U60: Line Management | V60: OHS Act 85 of 1993, Section 8 ,Eskom Risk assessment procedure 32-520, Incident Management Procedure 32-95
B61: R | E61: 8.1.3 | F61: Minor cuts or serious body injury | G61: Safety | H61: Not wearing eye protection while using grinders, drills, etc. | I61: Lines & servitude (Semi-skilled) | J61: Grid Manager | K61: Once a month (+-8 hrs a day) | L61: Damage or a loss to a limb resulting in amputation. | N61: 1. Training and awareness on the use of Portable electrical tools. 2. Task risk assessments. 3. Tool box talks 4. Use of appropriate PPE | O61: 4 | P61: C | Q61: II | R61: Fully effective | S61: Continuous awareness on the use of portable electrical tools. | T61: Behavioural Safety Observations, Supervision | U61: Line Management | V61: OHS Act 85 of 1993, Electrical Machinery Regulations, Incident Management Procedure 32-95
B62: R | E62: 8.1.4 | F62: Electrical contact | G62: Safety | H62: Working in wet weather or with defective equipment | I62: Lines & servitude (Semi-skilled) | J62: Grid Manager | K62: Once a month (+-8 hrs a day) | L62: Leading to a medical incident or LTI or could result in a fatality | N62: 1. Training and awareness on the use of portable electrical tools. 2. Task risk assessments. 3. Tool box talks 4. Use of appropriate PPE | O62: 5 | P62: C | Q62: II | R62: Fully effective | S62: Continuous awareness on the use of portable electrical tools. | T62: Behavioural Safety Observations, Supervision | U62: Line Management | V62: OHS Act 85 of 1993, Electrical Machinery Regulations, Incident Management Procedure 32-95
B63: R | C63: 8.2 | D63: Working at Heights | E63: 8.2.1 | F63: Falling from Height | G63: Safety | H63: Not Wearing appropriate PPE including fall arrest system. Not doing proper Risk assessments. Not Hooking up at Heights. | I63: Lines & servitude (Semi-skilled) | J63: Grid Manager | K63: Once/Twice a month (+-8 hrs a day) | L63: Temporary or permanent body injury leading to a medical incident or LTI or could result in fatality. | N63: 1. Training and awareness of maintenance specific. 2. Task risk assessments. 3. Re-Enforcing Life saving rules. 4. Use of appropriate PPE (Fall arrest system) | O63: 5 | P63: C | Q63: II | R63: Fully effective | S63: Continuous awareness on working at heights | T63: Behavioural Safety Observations, Supervision | U63: Line Management | V63: OHS Act 85 of 1993, Section 8, Life saving rules, working at heights procedure, 32-418, Incident Management Procedure 32-95
B64: R | E64: 8.2.2 | F64: Extreme Temperatures | G64: Health | H64: Not Wearing appropriate PPE including hats, sun block creams in hot weather. In cold weather not using appropriate warm jackets and clothing. Not doing proper Risk assessments. | I64: Lines & servitude (Semi-skilled) | J64: Grid Manager | K64: Once/Twice a month (+-8 hrs a day) | L64: Temporary or permanent body injury/illness leading to a medical incident or LTI. | N64: 1. Training and awareness of maintenance specific. 2. Task risk assessments. 3. Use of appropriate PPE (Safety Harnesses). 4. Re-Enforcing Life saving rules. 5. Tool Box Talks. | O64: 4 | P64: C | Q64: II | R64: Fully effective | S64: Continuous awareness on working at heights | T64: Behavioural Safety Observations, Supervision | U64: Line Management | V64: OHS Act 85 of 1993, Section 8, Life saving rules, working at heights procedure, 32-418, Incident Management Procedure 32-95
B65: R | C65: 8.3 | D65: Hoisting and rigging | E65: 8.3.1 | F65: Object being lifted falls | G65: Safety | H65: Incorrect rigging plan | I65: HV Plant (Artisans) | J65: Grid Manager | K65: Once/Twice a month (+-8 hrs a day) | L65: Temporary or permanent body injury/illness leading to a medical incident or LTI. | N65: 1. Training and awareness of riggings plans 2. Task risk assessments. 3. Tool box talks 5. Use of appropriate PPE. | O65: 4 | P65: C | Q65: II | R65: Mostly effective | S65: Sharing of Lessons learnt form past or recent incidents | T65: Behavioural Safety Observation, Supervision | U65: Line Management | V65: OHS Act 85 of 1993, Section 8, Eskom Policy 32-727, Incident Management Procedure 32-95
B66: R | E66: 8.3.2 | F66: Making electrical contact with the crane | G66: Safety | H66: Poor Risk Assessment | I66: HV Plant (Artisans) | J66: Grid Manager | K66: Once/Twice a month (+-8 hrs a day) | L66: Temporary or permanent body injury leading to a medical incident or LTI or could result in fatality. | N66: 1. Training and awareness of riggings plans 2. Task risk assessments. 3. Tool box talk 5. Use of appropriate PPE. | O66: 5 | P66: C | Q66: II | R66: Fully effective | S66: Sharing of Lessons learnt form past or recent incidents | T66: Behavioural Safety Observation, Supervision | U66: Line Management | V66: OHS Act 85 of 1993, Section 8, Eskom Policy 32-727, Incident Management Procedure 32-95
B67: R | E67: 8.3.3 | F67: Crane falls | G67: Safety | H67: Incorrect rigging plan. Incorrect rigging skills | I67: HV Plant (Artisans) | J67: Grid Manager | K67: Once/Twice a month (+-8 hrs a day) | L67: Temporary or permanent body injury leading to a medical incident or LT or could result in fatality. | N67: 1. Training and awareness of riggings plans 2. Task risk assessments. 3. Tool box talks 5. Use of appropriate PPE | O67: 5 | P67: C | Q67: II | R67: Fully effective | S67: Sharing of Lessons learnt form past or recent incidents | T67: Behavioural Safety Observation, Supervision | U67: Line Management | V67: OHS Act 85 of 1993, Section 8, Eskom Policy 32-727, Incident Management Procedure 32-95
B68: R | E68: 8.3.4 | F68: Sling breaks or snaps | G68: Safety | H68: Old or damaged slings | I68: HV Plant (Artisans) | J68: Grid Manager | K68: Once/Twice a month (+-8 hrs a day) | L68: Temporary or permanent body injury leading to a medical incident or LT or could result in fatality. | N68: 1. Training and awareness of riggings plans 2. Task risk assessments. 3. Tool box talks. 5. Use of appropriate PPE. | O68: 5 | P68: C | Q68: II | R68: Fully effective | S68: Sharing of Lessons learnt form past or recent incidents | T68: Behavioural Safety Observation, Supervision | U68: Line Management | V68: OHS Act 85 of 1993, Section 8, Eskom Policy 32-727, Incident Management Procedure 32-95
B69: R | C69: 8.4 | D69: Blowers | E69: 8.4.1 | F69: Dust inhalation | G69: Health | H69: Not wearing breathing/dust mask | I69: HV Plant (Artisans) | J69: Grid Manager | K69: ONCE/Twice a week (+-8 hrs a day) | L69: Chest/ breathing complications temporary or permanent leading to a medical incident or LTI. | N69: 1. Training and awareness of blowers. 2. Task risk assessments. 3. Tool box talks 5. Use of appropriate PPE. | O69: 4 | P69: C | Q69: II | R69: Fully effective | S69: Sharing of Lessons learnt form past or recent incidents | T69: Behavioural Safety Observation, Supervision | U69: Line Management | V69: OHS Act 85 of 1993, Section 8, Eskom Policy 32-727, Incident Management Procedure 32-95
B70: R | E70: 8.4.2 | F70: Eye injury | G70: Safety | H70: Not wearing eye protection | I70: HV Plant (Artisans) | J70: Grid Manager | K70: ONCE/Twice a week (+-8 hrs a day) | L70: Permanent/ partial eye loss leading to a medical incident or LTI. | N70: 1. Training and awareness of blowers. 2. Task risk assessments. 3. Tool box talks 5. Use of appropriate PPE. | O70: 4 | P70: C | Q70: II | R70: Fully effective | S70: Sharing of Lessons learnt form past or recent incidents | T70: Behavioural Safety Observation, Supervision | U70: Line Management | V70: OHS Act 85 of 1993, Section 8, Eskom Policy 32-727, Incident Management Procedure 32-95
B71: R | C71: 8.5 | D71: SF6 gas | E71: 8.5.1 | F71: Inhalation of SF6 gas | G71: Health | H71: Not wearing breathing apparatus | I71: HV Plant (Artisans) | J71: Grid Manager | K71: ONCE/Twice a week (+-8 hrs a day) | L71: Inhalation may cause asphyxiation (suffocation), eye contact may cause freezing of tissues, skin contact may cause frostbites | N71: 1. Training and awareness of SF6 gas. 2. Task risk assessments. 3. Tool Box talks 5. Use of appropriate PPE | O71: 4 | P71: C | Q71: II | R71: Fully effective | S71: Sharing of Lessons learnt form past or recent incidents | T71: Behavioural Safety Observation, Supervision | U71: Line Management | V71: OHS Act 85 1993, HCS Regulatons, Incident Management Procedure 32-95
B72: R | E72: 8.5.2 | F72: Gas leaks | G72: Health | H72: Inadequate skills. Broken or damaged pipes/equipment | I72: HV Plant (Artisans) | J72: Grid Manager | K72: ONCE/Twice a week (+-8 hrs a day) | L72: Chest/ breathing complications temporary or permanent leading to a medical incident or LTI. | N72: 1. Training and awareness of top up procedure of SF6 gas. 2. Task risk assessments. 3. Tool box talks 5. Use of appropriate PPE | O72: 4 | P72: C | Q72: II | R72: Fully effective | S72: Sharing of Lessons learnt form past or recent incidents | T72: Behavioural Safety Observation, Supervision | U72: Line Management | V72: OHS Act 85 of 1993, HCS Regulations,Incident Management Procedure 32-95, Eskom Risk assessment Procedure, 32-520.
B73: R | E73: 8.5.3 | F73: Over pressuring -causing primary fault e.g. b/bar fault in GIS switchgear | G73: Safety | H73: Inadequate skills/training | I73: HV Plant (Artisans) | J73: Grid Manager | K73: ONCE/Twice a week (+-8 hrs a day) | L73: Temporary or permanent body injury leading to a medical incident or LTI or could result in fatality. | N73: 1. Training and awareness of SF6 gas. 2. Task risk assessments. 3. Tool box talks 5. Use of appropriate PPE | O73: 5 | P73: C | Q73: II | R73: Fully effective | S73: Sharing of Lessons learnt form past or recent incidents | T73: Behavioural Safety Observation, Supervision | U73: Line Management | V73: OHS Act 85 of 1993, HCS Regulations,Incident Management Procedure 32-95, Eskom Risk assessment Procedure, 32-520.
B74: R | C74: 8.6 | D74: Oil ( breaker/ transformer) | E74: 8.6.1 | F74: Skin contact | G74: Safety | H74: Not wearing appropriate safety gloves | I74: HV Plant (Artisans) | J74: Grid Manager | K74: ONCE/Twice a week (+-8 hrs a day) | L74: Skin damage temporary or permanent leading to a medical incident or LTI or Leading to skin cancer. | N74: 1. Training and awareness of equipment specific including oil handling. 2. Task risk assessments. 3. Tool box talks 4. Use of appropriate PPE | O74: 4 | P74: C | Q74: II | R74: Fully effective | S74: Breaker and transformer maintenance training, | T74: Behavioural Safety Observation, Supervision | U74: Line Management | V74: OHS Act 85 of 1993, Section 8, Eskom Policy 32-727, Incident Management Procedure 32-95
B75: R | E75: 8.6.2 | F75: Exposure to PCB | G75: Safety | H75: Inadequate skills/training. Not warning signs/sticker of oil containing PCB's. | I75: HV Plant (Artisans) | J75: Grid Manager | K75: ONCE/Twice a week (+-8 hrs a day) | L75: Temporary or permanent body injury leading to a medical incident or LTI. | N75: 1. Training and awareness of equipment specific including management of PCB's. 2. Task risk assessments. 3. Tool box talks 4. Use of appropriate PPE | O75: 4 | P75: C | Q75: II | R75: Fully effective | S75: Breaker and transformer maintenance training, environmental awareness on PCB | T75: Behavioural Safety Observation, Supervision | U75: Line Management | V75: OHS Act 85 of 1993, Section 8, Eskom Policy 32-727, Incident Management Procedure 32-95
B76: R | E76: 8.6.3 | F76: Slips, trips & falls | G76: Safety | H76: Inadequate skills/training | I76: HV Plant (Artisans) | J76: Grid Manager | K76: ONCE/Twice a week (+-8 hrs a day) | L76: Temporary or permanent body injury. | N76: 1. Training and awareness of equipment specific including oil handling. 2. Task risk assessments. 3. Tool box talks 5. Use of appropriate PPE | O76: 4 | P76: C | Q76: II | R76: Fully effective | S76: Sharing of Lessons learnt form past or recent incidents | T76: Behavioural Safety Observation, Supervision | U76: Line Management | V76: OHS Act 85 of 1993, Section 8, Eskom Policy 32-727, Incident Management Procedure 32-95
B77: R | C77: 8.7 | D77: Infra red scanning | E77: 8.7.1 | F77: Slips, trips & falls | G77: Safety | H77: Inadequate skills/training | I77: HV Plant (Artisans) | J77: Grid Manager | K77: ONCE/Twice a week (+-8 hrs a day) | L77: Temporary or permanent body injury leading to a medical incident or LTI. | N77: 1. Training and awareness of IR scanning in HV yards. 2. Task risk assessments. 3. Tool box talks 4. Use of appropriate PPE | O77: 4 | P77: C | Q77: II | R77: Fully effective | S77: Sharing of Lessons learnt form past or recent incidents | T77: Behavioural Safety Observation, Supervision | U77: Line Management | V77: OHS Act 85 of 1993, Section 8, Eskom Policy 32-727, Incident Management Procedure 32-95
B78: R | C78: 8.8 | D78: Silica gel /hand cleaner/ grease | E78: 8.8.1 | F78: Skin contact | G78: Health | H78: Inadequate skills/training | I78: HV Plant (Artisans) | J78: Grid Manager | K78: ONCE/Twice a week (+-8 hrs a day) | L78: 1.Route of entry: inhalation, absorption and ingestion. 2.Eye irritation, defatting and irritation of the skin, prolonged exposure may cause dermatitis. 3.Swallowing may cause dizziness, gastrointestinal irritation, diarrhoea, nausea, and vomiting. 4.Inhalation may cause dizziness, drowsiness, anaesthesia, mental confusion, impaired vision, nausea and vomiting Silica gel When inhaled may cause dryness and irritation to mucous membranes, nose and throat. Symptoms are coughing, sore throat and wheezing. Skin irritation with dryness and abrasion. Eye irritation, redness and pain. Hand cleaner May cause eye irritation | N78: 1. Training and awareness of equipment specific including management/handling of chemicals . 2. Task risk assessments. 3. Tool box talks 5. Use of appropriate PPE | O78: 4 | P78: C | Q78: II | R78: Fully effective | S78: Environmental awareness when working with chemicals | T78: Behavioural Safety Observation, Supervision | U78: Line Management | V78: OHS Act 85 of 1993, senvironmental awareness when working with chemicals, Incident Management Procedure 32-95
B79: R | E79: 2.8.2 | F79: Inhalation of chemical fumes | G79: Health | H79: Not wearing breathing apparatus | I79: HV Plant (Artisans) | J79: Grid Manager | K79: ONCE/Twice a week (+-8 hrs a day) | L79: 1. Acute effects are eye, nose, throat and lung irritation, headaches, light headedness, and nausea. 2. Allergic people becomes more susceptible to what they are allergic to, inflammation of the lungs which may aggravate chronic respiratory symptoms and increase the frequency & intensity of asthma attacks. 3.Long term inhalation will contribute to mutation of cells that will lead to lung and bladder cancer. 4. Prolonged skin exposures may cause variety of skin conditions. 5. Long term exposure will cause suppression of the central nervous system | N79: 1. Training and awareness of equipment specific including management/handling of chemicals . 2. Task risk assessments. 3. Use of appropriate PPE. 5. Tool Box Talks. | O79: 4 | P79: C | Q79: II | R79: Fully effective | S79: Sharing of Lessons learnt form past or recent incidents | T79: Behavioural Safety Observation, Supervision | U79: Line Management | V79: OHS Act, environmental awareness when working with chemicals, Incident Management Procedure 32-95
B80: R | C80: 8.9 | D80: HV yard | E80: 8.9.1 | F80: Slips, trips & falls | G80: Safety | H80: Inadequate skills/training. Poor Risk Assessments | I80: HV Plant (Artisans) | J80: Grid Manager | K80: ONCE/Twice a week (+-8 hrs a day) | L80: Temporary or permanent body injury leading to a medical incident or LTI. | N80: 1. Training and awareness of ORHVS regs. 2. Task risk assessments. 3. Use of appropriate PPE. 5. Tool Box Talks. | O80: 4 | P80: C | Q80: II | R80: Fully effective | S80: Sharing of Lessons learnt form past or recent incidents | T80: Behavioural Safety Observation, Supervision | U80: Line Management | V80: OHS Act. Training on HV Yard inspections, Incident Management Procedure 32-95
B81: R | E81: 8.9.2 | F81: Electrical contact | G81: Safety | H81: Inadequate skills/training. Poor Risk Assessments | J81: Grid Manager | K81: ONCE/Twice a week (+-8 hrs a day) | L81: Temporary or permanent body injury leading to a medical incident or LTI or could result in a fatality. | N81: 1. Training and awareness of ORHVS regulations. 2. Task risk assessments. 3. Use of appropriate PPE. 5. Tool Box Talks. | O81: 5 | P81: C | Q81: II | R81: Fully effective | S81: Training on first line maintenance of Electric fences | T81: Behavioural Safety Observation, Supervision | U81: Line Management | V81: OHS Act 85 of 1993, Electrical machinery Regulations, Incident Management Procedure 32-95
B82: R | C82: 8.1 | D82: Electric fence | E82: 8.10.1 | F82: Electrical contact | G82: Safety | H82: Inadequate skills/training. Poor Risk Assessments | I82: HV Plant (Artisans) | J82: Grid Manager | K82: ONCE a week (+-8 hrs a day) | L82: Temporary or permanent body injury leading to a medical incident or LTI or could result in a fatality. | N82: 1.1st line Training and awareness of electric fences. 2. Task risk assessments. 3. Use of appropriate PPE | O82: 5 | P82: C | Q82: II | R82: Fully effective | S82: Sharing of Lessons learnt form past or recent incidents | T82: Behavioural Safety Observation, Supervision | U82: Line Management | V82: OHS Act 85 of 1993, Section 8, Eskom Risk assement Procedure, 32-520, Incident Management Procedure 32-95
B83: R | C83: 8.11 | D83: Tan delta testing | E83: 8.11.1 | F83: Electrical contact | G83: Safety | H83: Inadequate skills/training. Poor Risk Assessments | I83: HV Plant (Artisans) | J83: Grid Manager | K83: ONCE/Twice a week (+-8 hrs a day) | L83: Temporary or permanent body injury leading to a medical incident or LTI or could result in a fatality. | N83: 1. Training and awareness of Tan delta testing in HV yards. 2. Task risk assessments. 3. Tool box talks 4. Use of appropriate PPE | O83: 5 | P83: C | Q83: II | R83: Fully effective | S83: Sharing of Lessons learnt form past or recent incidents | T83: Behavioural Safety Observation, Supervision | U83: Line Management | V83: Eskom Working at heights Procedure 32-418, Eskom SHEQ Policy, 32-727, Incident Management Procedure 32-95
B84: R | E84: 8.11.2 | F84: Falling from Height | G84: Safety | H84: No Fall arrest system used. Inadequate skills/training. Poor Risk Assessments. Breaking lifesaving rules- not hooking up at heights | I84: HV Plant (Artisans) | J84: Grid Manager | K84: ONCE/Twice a week (+-8 hrs a day) | L84: Temporary or permanent body injury leading to a medical incident or LTI or could result in a fatality. | N84: 1. Training and awareness of working at heights. 2. Task risk assessments. 3. Tool box talks 4. Use of appropriate PPE | O84: 5 | P84: C | Q84: II | R84: Fully effective | S84: Sharing of Lessons learnt form past or recent incidents | T84: Behavioural Safety Observation, Supervision | U84: Line Management | V84: OHS Act 85 of 1993, Secton 8, Working at heights 32-418, Incident Management Procedure 32-95
B85: R | C85: 8.12 | D85: Welding/grinding | E85: 8.12.1 | F85: Arc eyes | G85: Safety | H85: Not wearing eye protection while welding | I85: HV Plant (Artisans) | J85: Grid Manager | K85: Once/Twice a month (+-8 hrs a day) | L85: Damage or a loss of vision in eyes leading to a medical incident or LTI. | N85: 1. Training and awareness on the use of welding machines. 2. Task risk assessments. 3. Tool box talks 4. Use of appropriate PPE | O85: 4 | P85: C | Q85: II | R85: Fully effective | S85: Routine Occupational hygiene medical screening including eye tests | T85: Behavioural Safety Observation, Supervision | U85: Line Management | V85: OHS Act 85 of 1993, Section 8, Eskom Risk assement Procedure, 32-520, Incident Management Procedure 32-95
B86: R | E86: 8.12.2 | F86: Minor cuts or serious body injury | G86: Safety | H86: Not wearing appropriate PPE. | I86: HV Plant (Artisans) | J86: Grid Manager | K86: Once/Twice a month (+-8 hrs a day) | L86: Damage or a loss to a limb resulting in amputation leading to a medical incident or LTI. | N86: 1. Training and awareness on the use of hand tools. 2. Task risk assessments. 3. Tool box talks 4. Use of appropriate PPE | O86: 4 | P86: C | Q86: II | R86: Fully effective | S86: Continous awareness on the use of portable electrical tools | T86: Behavioural Safety Observation, Supervision | U86: Line Management | V86: OHS Act 85 of 1993, Electrical Machinery Regulations, Incident Management Procedure 32-95.
A87: Operating | C87: 9.1 | D87: Opening, Isolating, safety testing and earthing of primary plant equipment | E87: 9.1.1. | F87: Electrical contact | G87: Safety | H87: Failure to do proper Risk Assessment, failure to follow stds & procedures, In appropriate PPE, Failure to observe ORHVS, non adherence to life saving rules, faulty plant equipment, Distraction, lack of skills. | I87: HV Plant (Artisans) | J87: Grid Manager | K87: 2 to 3 times a week | L87: Temporary or permanent body injury leading to a medical incident or LTI or could result in fatality. | N87: 1. Training and awareness of ORHVS and operating. 2. Task risk assessments. 3. Tool box talks 4. Buddy system - brothers keeper 5. Re-enforcing of live saving rules 6. Use of appropriate PPE | O87: 6 | P87: C | Q87: I | R87: Mostly effective | S87: Sharing of Lessons learnt form past or recent incidents | T87: Behavioural Safety Observation, Supervision | U87: Line Management | V87: OHS Act 85 of 1993, Section 8, Eskom Risk assement Procedure, 32-520, Incident Management Procedure 32-95
E88: 9.1.2 | F88: Falling from Height (Inspection of GIS) | G88: Safety | H88: Failure to do proper Risk Assessment, In appropriate PPE or no FAS, non adherence to life saving rules, Distraction, lack of skills. | I88: HV Plant (Artisans) | J88: Grid Manager | K88: 2 to 3 times a week | L88: Temporary or permanent body injury leading to a medical incident or LTI or could result in fatality. | N88: 1. Training and awareness of ORHVS and operating. 2. Task risk assessments. 3. Tool box talks 4. Buddy system - brothers keeper 5. Re-enforcing of live saving rules 6. Use of appropriate PPE | O88: 5 | P88: C | Q88: II | R88: Mostly effective | S88: Sharing of Lessons learnt form past or recent incidents | T88: Behavioural Safety Observation, Supervision | U88: Line Management | V88: OHS Act 85 of 1993, Section 8, Eskom Risk assement Procedure, 32-520, Incident Management Procedure 32-95
E89: 9.1.3 | F89: Slips, trips & falls | G89: Safety | H89: Failure to do proper Risk Assessment, In appropriate PPE, non adherence to life saving rules, Distraction, lack of skills. | I89: HV Plant (Artisans) | J89: Grid Manager | K89: 2 to 3 times a week | L89: Temporary or permanent body injury leading to a medical incident or LTI. | N89: 1. Training and awareness of ORHVS and operating. 2. Task risk assessments. 3. Tool Box Talks 4. Buddy system - brothers keeper 5. Re-enforcing of live saving rules 6. Use of appropriate PPE | O89: 4 | P89: C | Q89: II | R89: Fully effective | S89: Sharing of Lessons learnt form past or recent incidents | T89: Behavioural Safety Observation, Supervision | U89: Line Management | V89: OHS Act 85 of 1993, Section 8, Eskom Risk assement Procedure, 32-520, Incident Management Procedure 32-95
C90: 9.2 | D90: Extreme Temperatures | E90: 9.2.1 | F90: Sun burns, heat stroke, frost bites | G90: Health | H90: Not Wearing appropriate PPE including hats, sun block creams in hot weather. In cold weather not using appropriate warm jackets and clothing. Not doing proper Risk assessments. | I90: HV Plant (Artisans) | J90: Grid Manager | K90: 2 to 3 times a week | L90: Temporary or permanent body injury/illness leading to a medical incident or LTI. | N90: 1. Training and awareness of ORHVS and operating in adverse weather conditions. 2. Task & Site risk assessments. 3. Tool box talks 4. Re-Enforcing Life saving rules. 5. Use of appropriate PPE | O90: 4 | P90: C | Q90: II | R90: Mostly effective | S90: Sharing of Lessons learnt form past or recent incidents | T90: Behavioural Safety Observation, Supervision | U90: Line Management | V90: OHS Act 85 of 1993, Section 8, Eskom Risk assement Procedure, 32-520, Incident Management Procedure 32-95
C91: 9.3 | D91: Snakes, ticks, mosquitoes, bees, spiders & scorpions | E91: 9.3.1 | F91: Bitten by snakes, ticks, mosquitoes, bees, spiders & scorpions | G91: Safety | H91: Not Wearing appropriate PPE including hats, sun block creams in hot weather. In cold weather not using appropriate warm jackets and clothing. Not doing proper Risk assessments. | I91: HV Plant (Artisans) | J91: Grid Manager | K91: 2 to 3 times a week | L91: Bee stings, scorpion or poisonous snake bites leading to a medical incident, LTI or fatality. | N91: 1. Training and awareness of exposure to snakes, bees, insects & scorpions. 2. Task risk assessments. 3. Tool box talks 4. Use of appropriate PPE | O91: 5 | P91: C | Q91: II | R91: Mostly effective | S91: Sharing of Lessons learnt form past or recent incidents | T91: Behavioural Safety Observation, Supervision | U91: Line Management | V91: OHS Act 85 of 1993, Section 8, Eskom Risk assement Procedure, 32-520, Incident Management Procedure 32-95
C92: 9.4 | D92: Lifting link stick | E92: 9.4.1 | F92: Strain back or neck | G92: Safety | H92: Failure to do proper Risk Assessment, In appropriate PPE, non adherence to life saving rules, faulty plant equipment, Distraction, lack of skills. | I92: HV Plant (Artisans) | J92: Grid Manager | K92: 2 to 3 times a week | L92: Temporary or permanent body injury leading to a medical incident or LTI. . | N92: 1. Training and awareness of using link sticks to apply/remove earths 2. Task risk assessments. 3. Tool Box Talks 4. Use of appropriate PPE | O92: 4 | P92: C | Q92: II | R92: Mostly effective | S92: Sharing of Lessons learnt form past or recent incidents | T92: Behavioural Safety Observation, Supervision | U92: Line Management | V92: OHS Act 85 of 1993, Section 8, Eskom Risk assement Procedure, 32-520, Incident Management Procedure 32-95
C93: 9.5 | D93: Snakes, ticks, mosquitoes, bees, spiders & scorpions | E93: 9.5.1 | F93: Strain back or neck | G93: Safety | H93: Failure to do proper Risk Assessment, In appropriate PPE, non adherence to life saving rules, faulty plant equipment, Distraction, lack of skills. | I93: HV Plant (Artisans) | J93: Grid Manager | K93: 2 to 3 times a week | L93: Temporary or permanent body injury leading to a medical incident or LTI. | N93: 1. Training and awareness of manually opening/closing links. 2. Task risk assessments. 3. Tool Box Talks 4. Use of appropriate PPE | O93: 4 | P93: C | Q93: II | R93: Mostly effective | S93: Sharing of Lessons learnt form past or recent incidents | T93: Behavioural Safety Observation, Supervision | U93: Line Management | V93: OHS Act 85 of 1993, Section 8, Eskom Risk assement Procedure, 32-520, Incident Management Procedure 32-95
E94: 9.5.2 | F94: Slips, trips & falls | G94: Safety | H94: Failure to do proper Risk Assessment, In appropriate PPE, non adherence to life saving rules, faulty plant equipment, Distraction, lack of skills. | I94: HV Plant (Artisans) | J94: Grid Manager | K94: 2 to 3 times a week | L94: Temporary or permanent body injury leading to a medical incident or LTI. | N94: 1. Training and awareness of manually opening/closing links. 2. Task risk assessments. 3. Tool Box Talks 4. Use of appropriate PPE | O94: 4 | P94: C | Q94: II | R94: Mostly effective | S94: Sharing of Lessons learnt form past or recent incidents | T94: Behavioural Safety Observation, Supervision | U94: Line Management | V94: OHS Act 85 of 1993, Section 8, Eskom Risk assement Procedure, 32-520, Incident Management Procedure 32-95
E95: 9.5.3 | F95: Minor or serious body injury | G95: Safety | H95: Failure to do proper Risk Assessment, In appropriate PPE, non adherence to life saving rules, faulty plant equipment, Distraction, lack of skills. | I95: HV Plant (Artisans) | J95: Grid Manager | K95: 2 to 3 times a week | L95: Minor or serious damage to fingers/hand leading to a medical incident or LTI. | N95: 1. Training and awareness of manually opening/closing links. 2. Task risk assessments. 3. Tool Box Talks 4. Use of appropriate PPE | O95: 4 | P95: C | Q95: II | R95: Mostly effective | S95: Routine Occupational hygiene medical screening tests | T95: Behavioural Safety Observation, Supervision | U95: Line Management | V95: OHS Act 85 of 1993, Section 8, Eskom Risk assement Procedure, 32-520, Incident Management Procedure 32-95
E96: 9.5.4 | F96: Electrical contact | G96: Safety | H96: Failure to do proper Risk Assessment, failure to follow stds & procedures, In appropriate PPE, Failure to observe ORHVS, non adherence to life saving rules, faulty plant equipment, Distraction, lack of skills. | I96: HV Plant (Artisans) | J96: Grid Manager | K96: 2 to 3 times a week | L96: Temporary or permanent body injury leading to a medical incident or LTI or could result in fatality. | N96: 1. Training and awareness of ORHVS regs. 2. Task risk assessments. 3. Tool box talks 4. Use of appropriate PPE | O96: 5 | P96: C | Q96: II | R96: Mostly effective | S96: Sharing of Lessons learnt form past or recent incidents | T96: Behavioural Safety Observation, Supervision | U96: Line Management | V96: OHS Act 85 of 1993, Section 8, Eskom Risk assement Procedure, 32-520, Incident Management Procedure 32-95
C97: 9.6 | D97: Barricading | E97: 9.6.1 | F97: Electrical contact | G97: Safety | H97: Failure to do proper Risk Assessment, failure to follow stds & procedures, In appropriate PPE, Failure to observe ORHVS, non adherence to life saving rules, faulty plant equipment, Distraction, lack of skills. | I97: HV Plant (Artisans) | J97: Grid Manager | K97: 2 to 3 times a week | L97: Temporary or permanent body injury. Could result in fatality. | N97: 1. Training and awareness of ORHVS regs. 2. Task risk assessments. 3. Tool box talks 4. Use of appropriate PPE | O97: 5 | P97: C | Q97: II | R97: Mostly effective | S97: Sharing of Lessons learnt form past or recent incidents | T97: Behavioural Safety Observation, Supervision | U97: Line Management | V97: OHS Act 85 of 1993, Section 8, Eskom Risk assement Procedure, 32-520, Incident Management Procedure 32-95
E98: 9.6.2 | F98: Strain back or neck | G98: Safety | H98: Failure to do proper Risk Assessment, failure to follow stds & procedures, In appropriate PPE, Failure to observe ORHVS, non adherence to life saving rules, faulty plant equipment, Distraction, lack of skills. | I98: HV Plant (Artisans) | J98: Grid Manager | K98: 2 to 3 times a week | L98: Inappropriate method of manually opening/closing links. Not taking adequate breaks. Leading to a medical incident or LTI. | N98: 1. Training and awareness of barricading. 2. Task risk assessments. 3. Tool box talks 4. Use of appropriate PPE | O98: 4 | P98: C | Q98: II | R98: Mostly effective | S98: Sharing of Lessons learnt form past or recent incidents | T98: Behavioural Safety Observation, Supervision | U98: Line Management | V98: OHS Act 85 of 1993, Section 8, Eskom Risk assement Procedure, 32-520, Incident Management Procedure 32-95
E99: 9.6.3 | F99: Slips, trips & falls | G99: Safety | H99: Failure to do proper Risk Assessment, failure to follow stds & procedures, In appropriate PPE, Failure to observe ORHVS, non adherence to life saving rules, faulty plant equipment, Distraction, lack of skills. | I99: HV Plant (Artisans) | J99: Grid Manager | K99: 2 to 3 times a week | L99: Temporary or permanent body injury leading to a medical incident or LTI. | N99: 1. Training and awareness of barricading. 2. Task risk assessments. 3. Tool box talks 4. Use of appropriate PPE | O99: 4 | P99: C | Q99: II | R99: Mostly effective | S99: Sharing of Lessons learnt form past or recent incidents | T99: Behavioural Safety Observation, Supervision | U99: Line Management | V99: OHS Act 85 of 1993,Section 8, Eskom Risk Assessment procedure 32-520, Eskom SHEQ Policy 32-727
A100: First line Battery maintenance | C100: 10.1 | D100: Battery acid | E100: 10.1.1 | F100: Skin Contact | G100: Safety | H100: Failure to do proper Risk Assessment, failure to follow stds & procedures, In appropriate PPE, Distraction, lack of skills. | I100: HV Plant (Artisans) | J100: Grid Manager | K100: Once/Twice a month (+-8 hrs a day) | L100: 1. Severe or corrosive damage if inhaled, severe lung damage, pulmonary oedema, symptoms includes coughing & shortness of breath. Skin irritations, eye irritation (which may cause redness, swelling & pain). 2. Accidental swallowing may cause burn of the mouth, throat and oesophagus, symptoms may include difficulty swallowing, intense thirst, nausea, vomiting & diarrhoea. | N100: 1. Training and awareness of first line battery maintenance. 2. Task risk assessments. 3. Tool box talks 4. Battery room equipped with emergency equipment. 5. Use of appropriate PPE | O100: 4 | P100: C | Q100: II | R100: Mostly effective | S100: Sharing of Lessons learnt form past or recent incidents | T100: Behavioural Safety Observation, Supervision | U100: Line Management | V100: OHS Act 85 of 1993,Section 8, Eskom Risk Assessment procedure 32-520, Eskom SHEQ Policy 32-727
E101: 10.1.2 | F101: Eye injury | G101: Safety | H101: Failure to do proper Risk Assessment, failure to follow stds & procedures, In appropriate PPE (eye protection), Distraction, lack of skills. | I101: HV Plant (Artisans) | J101: Grid Manager | K101: Once/Twice a month (+-8 hrs a day) | L101: 1. Eye irritation (which may cause redness, swelling & pain). 2. Can lead to permanent eye loss and LTI. | N101: 1. Training and awareness of blowers. 2. Task risk assessments. 3. Use of appropriate PPE ( eye/face protection). 4. Tool Box Talks. | O101: 4 | P101: C | Q101: II | R101: Mostly effective | S101: Sharing of Lessons learnt form past or recent incidents | T101: Behavioural Safety Observation, Supervision | U101: Line Management | V101: OHS Act 85 of 1993,Section 8, Eskom Risk Assessment procedure 32-520, Eskom SHEQ Policy 32-727
E102: 10.1.3 | F102: Inhaling of poisonous fumes | G102: Safety | H102: Failure to do proper Risk Assessment, failure to follow stds & procedures, In appropriate PPE(gas masks), Distraction, lack of skills. | I102: HV Plant (Artisans) | J102: Grid Manager | K102: Once/Twice a month (+-8 hrs a day) | L102: 1. Acute effects are eye, nose, throat and lung irritation, headaches, light headedness, and nausea. 2. Allergic people becomes more susceptible to what they are allergic to, inflammation of the lungs which may aggravate chronic respiratory symptoms and increase the frequency & intensity of asthma attacks. 3.Long term inhalation will contribute to mutation of cells that will lead to lung and bladder cancer. 4. Prolonged skin exposures may cause variety of skin conditions. 5. Long term exposure will cause suppression of the central nervous system | N102: 1. Training and awareness of equipment specific including management/handling of battery fumes . 2. Task risk assessments. 3. Use of appropriate PPE.( gas masks/breathing apparatus) 5. Tool Box Talks. 6. Appropriate extraction fans in battery rooms. | O102: 4 | P102: C | Q102: II | R102: Mostly effective | S102: Sharing of Lessons learnt form past or recent incidents | T102: Behavioural Safety Observation, Supervision | U102: Line Management | V102: OHS Act 85 of 1993,Section 8, Eskom Risk Assessment procedure 32-520, Eskom SHEQ Policy 32-727
C103: 10.2 | D103: Short circuit across battery terminals | E103: 10.2.1 | F103: Explosion causing Minor or serious body injury | G103: Safety | H103: Failure to do proper Risk Assessment, failure to follow stds & procedures, In appropriate tools used, Distraction, lack of skills. | I103: HV Plant (Artisans) | J103: Grid Manager | K103: Once/Twice a month (+-8 hrs a day) | L103: 1. Severe or corrosive damage if inhaled, severe lung damage, pulmonary oedema, symptoms includes coughing & shortness of breath. Skin irritations, eye irritation (which may cause redness, swelling & pain). 2. Accidental swallowing may cause burn of the mouth, throat and oesophagus, symptoms may include difficulty swallowing, intense thirst, nausea, vomiting & diarrhoea. | N103: 1. Training and awareness of first line battery maintenance incl handling & dangers of batteries . 2. Task risk assessments. 3. Use of appropriate PPE. 4.. Tool Box Talks. | O103: 5 | P103: C | Q103: II | R103: Mostly effective | S103: Sharing of Lessons learnt form past or recent incidents | T103: Behavioural Safety Observation, Supervision | U103: Line Management | V103: OHS Act 85 of 1993,Section 8, Eskom Risk Assessment procedure 32-520, Eskom SHEQ Policy 32-727
...

Sheet HV Plant
A2: Occupational Health and Safety Baseline risk assessment template
A3: Business/Operating unit: | B3: Central Grid | U3: Next Review Date (every 2 years): | V3: 44050 | W3: Template identifier: | X3: 240-70044602
A5: Date: | B5: 43319 | J5: Prepared by: | K5: Sericah Promesse, Chico Ramgovind, Zanele Sethusa, Zandile Gabela, Tshwari Ramagofu | M5: Authorised by: | O5: Name: Victor Shikoana | W5: Document identifier
O6: Designation: Senior Manager Grids | W6: Revision number: | X6: 1
O7: Signed: | W7: Revision date: | X7: 45443
O8: Date:
A9: Refer to Occupational Health and Safety Risk assessment procedure 32-520
A10: List activity | B10: Activity type (Routine/Non-routine) | C10: Hazard nr | D10: Hazard Identification | E10: Risk Nr | F10: Associated risk | G10: Risk type | H10: Cause(s) of the risk | I10: Exposed group/employees | J10: Risk Owner | K10: Exposure patterns | L10: What are the possible consequences? | M10: Existing Controls | P10: Risk Priority Rating | R10: Additional Controls or Tasks Aimed at improving Existing Controls | S10: Monitoring Mechanisms | T10: Control Owner | U10: Legal and Other Requirements | V10: Target Date | W10: Current Status | X10: Integrated Risk Management (IRM) reference number
A11: List specific activities to be performed taking into consideration the equipment to be used, the personnel involved in the task. | B11: Indicate R or N 1. Routine activities and situations create hazards through day-to-day operations and normal work activities; 2. Non-routine activities and situations are occasional or unplanned; | C11: # | D11: Anything with potential to cause of harm. Note: A hazard can pose more than one risk. | E11: # | F11: A chance that injury , ill health or damage could occur as a result of uncontrolled hazard. | G11: Safety or health | H11: What causes the risk to come into effect? | I11: Who is exposed to the hazard i.e. visitors, members of the public, etc. | J11: Who is accountable for making sure the controls and monitors are: - in place, - implemented, - regularly reviewed for effectiveness. | K11: The frequency and duration the person/group is exposed to the hazard e.g. Daily for 3 hrs. | L11: Consider the worse case scenario without controls? | M11: Include: - Preventative Controls (controls implemented to eliminate hazards or reduce the likelihood of the risk occurring), and - Reactive Controls (controls implemented to reduce the immediate impact of the risk occurring) Elimination Substitution Engineering controls Administrative controls Personal protective equipment (PPE) | N11: Consequence | O11: Likelihood | Q11: RCE Risk Control Effectiveness | R11: Include: - Preventative Controls (controls implemented to eliminate hazards or reduce the likelihood of the risk occurring), and - Reactive Controls (controls implemented to reduce the immediate impact of the risk occurring) Elimination Substitution Engineering controls Administrative controls Personal protective equipment (PPE) | S11: How we know if we are succeeding. Include comments on effectiveness. This may include i.e. measurements, inspections, supervision where necessary. | T11: Person allocated the responsibility for implementing the agreed controls | U11: Where relevant, list the relevant legislative and or Eskom requirements that prescribe the control. | V11: Once a date has been agreed to, this can not be changed | W11: Pending, In Progress, Complete | X11: Where applicable, add IRM system reference number for tracking of treatment actions.
A12: Maintenance/ Commissioning/decommissioning/fault finding of Primary plant equipment | B12: R | C12: 1.1 | D12: Portable electrical tools | E12: 1.1.1 | F12: Induced hearing Loss | G12: Health | H12: Not wearing eye protection while using grinders, drills, anti vandal bolt machine etc. | I12: HV Plant (Artisans) | J12: Grid Manager | K12: Once a month (+-8 hrs a day) | L12: Noise Induced Hearing Loss (NIHL) causing partial or permanent deafness leading to a medical incident or LTI. | M12: 1. Training and awareness of using portable electrical tools. 2. Task risk assessments. 3. Tool box talks 4. Use of hearing protection | N12: 4 | O12: C | P12: II | Q12: Fully effective | R12: Continuous awareness on the use of portable electrical tools. | S12: Inspections, servicing, monitoring programme | T12: Line Management | U12: OHS Act 85 of 1993, NIHL Regulations, Incident Management Procedure 32-95
B13: R | E13: 1.1.2 | F13: Suffer eye injury | G13: Safety | H13: Not wearing eye protection while using grinders, drills, anti vandal bolt machine etc. | I13: HV Plant (Artisans) | J13: Grid Manager | K13: Once a month (+-8 hrs a day) | L13: Permanent/ partial eye loss leading to a medical incident or LTI. | M13: 1. Training and awareness on the use of portable electrical tools. 2. Task risk assessments. 3. Tool box talks 4. Use of eye protection | N13: 4 | O13: C | P13: II | Q13: Fully effective | R13: Continuous awareness on the use of portable electrical tools. | S13: Behavioural Safety Observations, Supervision | T13: Line Management | U13: OHS Act 85 of 1993, Section 8 ,Eskom Risk assessment procedure 32-520, Incident Management Procedure 32-95
B14: R | E14: 1.1.3 | F14: Minor cuts or serious body injury | G14: Safety | H14: Not wearing eye protection while using grinders, drills, etc. | I14: HV Plant (Artisans) | J14: Grid Manager | K14: Once a month (+-8 hrs a day) | L14: Damage or a loss to a limb resulting in amputation. | M14: 1. Training and awareness on the use of Portable electrical tools. 2. Task risk assessments. 3. Tool box talks 4. Use of appropriate PPE | N14: 4 | O14: C | P14: II | Q14: Fully effective | R14: Continuous awareness on the use of portable electrical tools. | S14: Behavioural Safety Observations, Supervision | T14: Line Management | U14: OHS Act 85 of 1993, Electrical Machinery Regulations, Incident Management Procedure 32-95
B15: R | E15: 1.1.4 | F15: Electrical contact | G15: Safety | H15: Working in wet weather or with defective equipment | I15: HV Plant (Artisans) | J15: Grid Manager | K15: Once a month (+-8 hrs a day) | L15: Leading to a medical incident or LTI or could result in a fatality | M15: 1. Training and awareness on the use of portable electrical tools. 2. Task risk assessments. 3. Tool box talks 4. Use of appropriate PPE | N15: 5 | O15: C | P15: II | Q15: Fully effective | R15: Continuous awareness on the use of portable electrical tools. | S15: Behavioural Safety Observations, Supervision | T15: Line Management | U15: OHS Act 85 of 1993, Electrical Machinery Regulations, Incident Management Procedure 32-95
B16: R | C16: 1.2 | D16: Working at Heights | E16: 1.2.1 | F16: Falling from Height | G16: Safety | H16: Not Wearing appropriate PPE including fall arrest system. Not doing proper Risk assessments. Not Hooking up at Heights. | I16: HV Plant (Artisans) | J16: Grid Manager | K16: Once/Twice a month (+-8 hrs a day) | L16: Temporary or permanent body injury leading to a medical incident or LTI or could result in fatality. | M16: 1. Training and awareness of maintenance specific. 2. Task risk assessments. 3. Re-Enforcing Life saving rules. 4. Use of appropriate PPE (Fall arrest system) | N16: 5 | O16: C | P16: II | Q16: Fully effective | R16: Continuous awareness on working at heights | S16: Behavioural Safety Observations, Supervision | T16: Line Management | U16: OHS Act 85 of 1993, Section 8, Life saving rules, working at heights procedure, 32-418, Incident Management Procedure 32-95
B17: R | E17: 1.2.2 | F17: Extreme Temperatures | G17: Health | H17: Not Wearing appropriate PPE including hats, sun block creams in hot weather. In cold weather not using appropriate warm jackets and clothing. Not doing proper Risk assessments. | I17: HV Plant (Artisans) | J17: Grid Manager | K17: Once/Twice a month (+-8 hrs a day) | L17: Temporary or permanent body injury/illness leading to a medical incident or LTI. | M17: 1. Training and awareness of maintenance specific. 2. Task risk assessments. 3. Use of appropriate PPE (Safety Harnesses). 4. Re-Enforcing Life saving rules. 5. Tool Box Talks. | N17: 4 | O17: C | P17: II | Q17: Fully effective | R17: Continuous awareness on working at heights | S17: Behavioural Safety Observations, Supervision | T17: Line Management | U17: OHS Act 85 of 1993, Section 8, Life saving rules, working at heights procedure, 32-418, Incident Management Procedure 32-95
B18: R | C18: 1.3 | D18: Hoisting and rigging | E18: 1.3.1 | F18: Object being lifted falls | G18: Safety | H18: Incorrect rigging plan | I18: HV Plant (Artisans) | J18: Grid Manager | K18: Once/Twice a month (+-8 hrs a day) | L18: Temporary or permanent body injury/illness leading to a medical incident or LTI. | M18: 1. Training and awareness of riggings plans 2. Task risk assessments. 3. Tool box talks 5. Use of appropriate PPE. | N18: 4 | O18: C | P18: II | R18: Sharing of Lessons learnt form past or recent incidents | S18: Behavioural Safety Observation, Supervision | T18: Line Management | U18: OHS Act 85 of 1993, Section 8, Eskom Policy 32-727, Incident Management Procedure 32-95
B19: R | E19: 1.3.2 | F19: Making electrical contact with the crane | G19: Safety | H19: Poor Risk Assessment | I19: HV Plant (Artisans) | J19: Grid Manager | K19: Once/Twice a month (+-8 hrs a day) | L19: Temporary or permanent body injury leading to a medical incident or LTI or could result in fatality. | M19: 1. Training and awareness of riggings plans 2. Task risk assessments. 3. Tool box talk 5. Use of appropriate PPE. | N19: 5 | O19: C | P19: II | Q19: Fully effective | R19: Sharing of Lessons learnt form past or recent incidents | S19: Behavioural Safety Observation, Supervision | T19: Line Management | U19: OHS Act 85 of 1993, Section 8, Eskom Policy 32-727, Incident Management Procedure 32-95
B20: R | E20: 1.3.3 | F20: Crane falls | G20: Safety | H20: Incorrect rigging plan. Incorrect rigging skills | I20: HV Plant (Artisans) | J20: Grid Manager | K20: Once/Twice a month (+-8 hrs a day) | L20: Temporary or permanent body injury leading to a medical incident or LT or could result in fatality. | M20: 1. Training and awareness of riggings plans 2. Task risk assessments. 3. Tool box talks 5. Use of appropriate PPE | N20: 5 | O20: C | P20: II | Q20: Fully effective | R20: Sharing of Lessons learnt form past or recent incidents | S20: Behavioural Safety Observation, Supervision | T20: Line Management | U20: OHS Act 85 of 1993, Section 8, Eskom Policy 32-727, Incident Management Procedure 32-95
B21: R | E21: 1.3.4 | F21: Sling breaks or snaps | G21: Safety | H21: Old or damaged slings | I21: HV Plant (Artisans) | J21: Grid Manager | K21: Once/Twice a month (+-8 hrs a day) | L21: Temporary or permanent body injury leading to a medical incident or LT or could result in fatality. | M21: 1. Training and awareness of riggings plans 2. Task risk assessments. 3. Tool box talks. 5. Use of appropriate PPE. | N21: 5 | O21: C | P21: II | Q21: Fully effective | R21: Sharing of Lessons learnt form past or recent incidents | S21: Behavioural Safety Observation, Supervision | T21: Line Management | U21: OHS Act 85 of 1993, Section 8, Eskom Policy 32-727, Incident Management Procedure 32-95
B22: R | C22: 1.4 | D22: Blowers | E22: 1.4.1 | F22: Dust inhalation | G22: Health | H22: Not wearing breathing/dust mask | I22: HV Plant (Artisans) | J22: Grid Manager | K22: ONCE/Twice a week (+-8 hrs a day) | L22: Chest/ breathing complications temporary or permanent leading to a medical incident or LTI. | M22: 1. Training and awareness of blowers. 2. Task risk assessments. 3. Tool box talks 5. Use of appropriate PPE. | N22: 4 | O22: C | P22: II | Q22: Fully effective | R22: Sharing of Lessons learnt form past or recent incidents | S22: Behavioural Safety Observation, Supervision | T22: Line Management | U22: OHS Act 85 of 1993, Section 8, Eskom Policy 32-727, Incident Management Procedure 32-95
B23: R | E23: 1.4.2 | F23: Eye injury | G23: Safety | H23: Not wearing eye protection | I23: HV Plant (Artisans) | J23: Grid Manager | K23: ONCE/Twice a week (+-8 hrs a day) | L23: Permanent/ partial eye loss leading to a medical incident or LTI. | M23: 1. Training and awareness of blowers. 2. Task risk assessments. 3. Tool box talks 5. Use of appropriate PPE. | N23: 4 | O23: C | P23: II | Q23: Fully effective | R23: Sharing of Lessons learnt form past or recent incidents | S23: Behavioural Safety Observation, Supervision | T23: Line Management | U23: OHS Act 85 of 1993, Section 8, Eskom Policy 32-727, Incident Management Procedure 32-95
B24: R | C24: 1.5 | D24: SF6 gas | E24: 1.5.1 | F24: Inhalation of SF6 gas | G24: Health | H24: Not wearing breathing apparatus | I24: HV Plant (Artisans) | J24: Grid Manager | K24: ONCE/Twice a week (+-8 hrs a day) | L24: Inhalation may cause asphyxiation (suffocation), eye contact may cause freezing of tissues, skin contact may cause frostbites | M24: 1. Training and awareness of SF6 gas. 2. Task risk assessments. 3. Tool Box talks 5. Use of appropriate PPE | N24: 4 | O24: C | P24: II | Q24: Fully effective | R24: Sharing of Lessons learnt form past or recent incidents | S24: Behavioural Safety Observation, Supervision | T24: Line Management | U24: OHS Act 85 1993, HCS Regulatons, Incident Management Procedure 32-95
B25: R | E25: 1.5.2 | F25: Gas leaks | G25: Health | H25: Inadequate skills. Broken or damaged pipes/equipment | I25: HV Plant (Artisans) | J25: Grid Manager | K25: ONCE/Twice a week (+-8 hrs a day) | L25: Chest/ breathing complications temporary or permanent leading to a medical incident or LTI. | M25: 1. Training and awareness of top up procedure of SF6 gas. 2. Task risk assessments. 3. Tool box talks 5. Use of appropriate PPE | N25: 4 | O25: C | P25: II | Q25: Fully effective | R25: Sharing of Lessons learnt form past or recent incidents | S25: Behavioural Safety Observation, Supervision | T25: Line Management | U25: OHS Act 85 of 1993, HCS Regulations,Incident Management Procedure 32-95, Eskom Risk assessment Procedure, 32-520.
B26: R | E26: 1.5.3 | F26: Over pressuring -causing primary fault e.g. b/bar fault in GIS switchgear | G26: Safety | H26: Inadequate skills/training | I26: HV Plant (Artisans) | J26: Grid Manager | K26: ONCE/Twice a week (+-8 hrs a day) | L26: Temporary or permanent body injury leading to a medical incident or LTI or could result in fatality. | M26: 1. Training and awareness of SF6 gas. 2. Task risk assessments. 3. Tool box talks 5. Use of appropriate PPE | N26: 5 | O26: C | P26: II | Q26: Fully effective | R26: Sharing of Lessons learnt form past or recent incidents | S26: Behavioural Safety Observation, Supervision | T26: Line Management | U26: OHS Act 85 of 1993, HCS Regulations,Incident Management Procedure 32-95, Eskom Risk assessment Procedure, 32-520.
B27: R | C27: 1.6 | D27: Oil ( breaker/ transformer) | E27: 1.6.1 | F27: Skin contact | G27: Safety | H27: Not wearing appropriate safety gloves | I27: HV Plant (Artisans) | J27: Grid Manager | K27: ONCE/Twice a week (+-8 hrs a day) | L27: Skin damage temporary or permanent leading to a medical incident or LTI or Leading to skin cancer. | M27: 1. Training and awareness of equipment specific including oil handling. 2. Task risk assessments. 3. Tool box talks 4. Use of appropriate PPE | N27: 4 | O27: C | P27: II | Q27: Fully effective | R27: Breaker and transformer maintenance training, | S27: Behavioural Safety Observation, Supervision | T27: Line Management | U27: OHS Act 85 of 1993, Section 8, Eskom Policy 32-727, Incident Management Procedure 32-95
B28: R | E28: 1.6.2 | F28: Exposure to PCB | G28: Safety | H28: Inadequate skills/training. Not warning signs/sticker of oil containing PCB's. | I28: HV Plant (Artisans) | J28: Grid Manager | K28: ONCE/Twice a week (+-8 hrs a day) | L28: Temporary or permanent body injury leading to a medical incident or LTI. | M28: 1. Training and awareness of equipment specific including management of PCB's. 2. Task risk assessments. 3. Tool box talks 4. Use of appropriate PPE | N28: 4 | O28: C | P28: II | Q28: Fully effective | R28: Breaker and transformer maintenance training, environmental awareness on PCB | S28: Behavioural Safety Observation, Supervision | T28: Line Management | U28: OHS Act 85 of 1993, Section 8, Eskom Policy 32-727, Incident Management Procedure 32-95
B29: R | E29: 1.6.3 | F29: Slips, trips & falls | G29: Safety | H29: Inadequate skills/training | I29: HV Plant (Artisans) | J29: Grid Manager | K29: ONCE/Twice a week (+-8 hrs a day) | L29: Temporary or permanent body injury. | M29: 1. Training and awareness of equipment specific including oil handling. 2. Task risk assessments. 3. Tool box talks 5. Use of appropriate PPE | N29: 4 | O29: C | P29: II | Q29: Fully effective | R29: Sharing of Lessons learnt form past or recent incidents | S29: Behavioural Safety Observation, Supervision | T29: Line Management | U29: OHS Act 85 of 1993, Section 8, Eskom Policy 32-727, Incident Management Procedure 32-95
B30: R | C30: 1.7 | D30: Infra red scanning | E30: 1.7.1 | F30: Slips, trips & falls | G30: Safety | H30: Inadequate skills/training | I30: HV Plant (Artisans) | J30: Grid Manager | K30: ONCE/Twice a week (+-8 hrs a day) | L30: Temporary or permanent body injury leading to a medical incident or LTI. | M30: 1. Training and awareness of IR scanning in HV yards. 2. Task risk assessments. 3. Tool box talks 4. Use of appropriate PPE | N30: 4 | O30: C | P30: II | Q30: Fully effective | R30: Sharing of Lessons learnt form past or recent incidents | S30: Behavioural Safety Observation, Supervision | T30: Line Management | U30: OHS Act 85 of 1993, Section 8, Eskom Policy 32-727, Incident Management Procedure 32-95
B31: R | C31: 1.8 | D31: Silica gel /hand cleaner/ grease | E31: 1.8.1 | F31: Skin contact | G31: Health | H31: Inadequate skills/training | I31: HV Plant (Artisans) | J31: Grid Manager | K31: ONCE/Twice a week (+-8 hrs a day) | L31: 1.Route of entry: inhalation, absorption and ingestion. 2.Eye irritation, defatting and irritation of the skin, prolonged exposure may cause dermatitis. 3.Swallowing may cause dizziness, gastrointestinal irritation, diarrhoea, nausea, and vomiting. 4.Inhalation may cause dizziness, drowsiness, anaesthesia, mental confusion, impaired vision, nausea and vomiting Silica gel When inhaled may cause dryness and irritation to mucous membranes, nose and throat. Symptoms are coughing, sore throat and wheezing. Skin irritation with dryness and abrasion. Eye irritation, redness and pain. Hand cleaner May cause eye irritation | M31: 1. Training and awareness of equipment specific including management/handling of chemicals . 2. Task risk assessments. 3. Tool box talks 5. Use of appropriate PPE | N31: 4 | O31: C | P31: II | Q31: Fully effective | R31: Environmental awareness when working with chemicals | S31: Behavioural Safety Observation, Supervision | T31: Line Management | U31: OHS Act 85 of 1993, senvironmental awareness when working with chemicals, Incident Management Procedure 32-95
B32: R | E32: 1.8.2 | F32: Inhalation of chemical fumes | G32: Health | H32: Not wearing breathing apparatus | I32: HV Plant (Artisans) | J32: Grid Manager | K32: ONCE/Twice a week (+-8 hrs a day) | L32: 1. Acute effects are eye, nose, throat and lung irritation, headaches, light headedness, and nausea. 2. Allergic people becomes more susceptible to what they are allergic to, inflammation of the lungs which may aggravate chronic respiratory symptoms and increase the frequency & intensity of asthma attacks. 3.Long term inhalation will contribute to mutation of cells that will lead to lung and bladder cancer. 4. Prolonged skin exposures may cause variety of skin conditions. 5. Long term exposure will cause suppression of the central nervous system | M32: 1. Training and awareness of equipment specific including management/handling of chemicals . 2. Task risk assessments. 3. Use of appropriate PPE. 5. Tool Box Talks. | N32: 4 | O32: C | P32: II | Q32: Fully effective | R32: Sharing of Lessons learnt form past or recent incidents | S32: Behavioural Safety Observation, Supervision | T32: Line Management | U32: OHS Act, environmental awareness when working with chemicals, Incident Management Procedure 32-95
B33: R | C33: 1.9 | D33: HV yard | E33: 1.9.1 | F33: Slips, trips & falls | G33: Safety | H33: Inadequate skills/training. Poor Risk Assessments | I33: HV Plant (Artisans) | J33: Grid Manager | K33: ONCE/Twice a week (+-8 hrs a day) | L33: Temporary or permanent body injury leading to a medical incident or LTI. | M33: 1. Training and awareness of ORHVS regs. 2. Task risk assessments. 3. Use of appropriate PPE. 5. Tool Box Talks. | N33: 4 | O33: C | P33: II | Q33: Fully effective | R33: Sharing of Lessons learnt form past or recent incidents | S33: Behavioural Safety Observation, Supervision | T33: Line Management | U33: OHS Act. Training on HV Yard inspections, Incident Management Procedure 32-95
B34: R | E34: 1.9.2 | F34: Electrical contact | G34: Safety | H34: Inadequate skills/training. Poor Risk Assessments | J34: Grid Manager | K34: ONCE/Twice a week (+-8 hrs a day) | L34: Temporary or permanent body injury leading to a medical incident or LTI or could result in a fatality. | M34: 1. Training and awareness of ORHVS regulations. 2. Task risk assessments. 3. Use of appropriate PPE. 5. Tool Box Talks. | N34: 5 | O34: C | P34: II | Q34: Fully effective | R34: Training on first line maintenance of Electric fences | S34: Behavioural Safety Observation, Supervision | T34: Line Management | U34: OHS Act 85 of 1993, Electrical machinery Regulations, Incident Management Procedure 32-95
B35: R | C35: 1.1 | D35: Electric fence | E35: 1.10.1 | F35: Electrical contact | G35: Safety | H35: Inadequate skills/training. Poor Risk Assessments | I35: HV Plant (Artisans) | J35: Grid Manager | K35: ONCE a week (+-8 hrs a day) | L35: Temporary or permanent body injury leading to a medical incident or LTI or could result in a fatality. | M35: 1.1st line Training and awareness of electric fences. 2. Task risk assessments. 3. Use of appropriate PPE | N35: 5 | O35: C | P35: II | Q35: Fully effective | R35: Sharing of Lessons learnt form past or recent incidents | S35: Behavioural Safety Observation, Supervision | T35: Line Management | U35: OHS Act 85 of 1993, Section 8, Eskom Risk assement Procedure, 32-520, Incident Management Procedure 32-95
B36: R | C36: 1.11 | D36: Tan delta testing | E36: 1.11.1 | F36: Electrical contact | G36: Safety | H36: Inadequate skills/training. Poor Risk Assessments | I36: HV Plant (Artisans) | J36: Grid Manager | K36: ONCE/Twice a week (+-8 hrs a day) | L36: Temporary or permanent body injury leading to a medical incident or LTI or could result in a fatality. | M36: 1. Training and awareness of Tan delta testing in HV yards. 2. Task risk assessments. 3. Tool box talks 4. Use of appropriate PPE | N36: 5 | O36: C | P36: II | Q36: Fully effective | R36: Sharing of Lessons learnt form past or recent incidents | S36: Behavioural Safety Observation, Supervision | T36: Line Management | U36: Eskom Working at heights Procedure 32-418, Eskom SHEQ Policy, 32-727, Incident Management Procedure 32-95
B37: R | E37: 1.11.2 | F37: Falling from Height | G37: Safety | H37: No Fall arrest system used. Inadequate skills/training. Poor Risk Assessments. Breaking lifesaving rules- not hooking up at heights | I37: HV Plant (Artisans) | J37: Grid Manager | K37: ONCE/Twice a week (+-8 hrs a day) | L37: Temporary or permanent body injury leading to a medical incident or LTI or could result in a fatality. | M37: 1. Training and awareness of working at heights. 2. Task risk assessments. 3. Tool box talks 4. Use of appropriate PPE | N37: 5 | O37: C | P37: II | Q37: Fully effective | R37: Sharing of Lessons learnt form past or recent incidents | S37: Behavioural Safety Observation, Supervision | T37: Line Management | U37: OHS Act 85 of 1993, Secton 8, Working at heights 32-418, Incident Management Procedure 32-95
B38: R | C38: 1.12 | D38: Welding/grinding | E38: 1.12.1 | F38: Arc eyes | G38: Safety | H38: Not wearing eye protection while welding | I38: HV Plant (Artisans) | J38: Grid Manager | K38: Once/Twice a month (+-8 hrs a day) | L38: Damage or a loss of vision in eyes leading to a medical incident or LTI. | M38: 1. Training and awareness on the use of welding machines. 2. Task risk assessments. 3. Tool box talks 4. Use of appropriate PPE | N38: 4 | O38: C | P38: II | Q38: Fully effective | R38: Routine Occupational hygiene medical screening including eye tests | S38: Behavioural Safety Observation, Supervision | T38: Line Management | U38: OHS Act 85 of 1993, Section 8, Eskom Risk assement Procedure, 32-520, Incident Management Procedure 32-95
B39: R | E39: 1.12.2 | F39: Minor cuts or serious body injury | G39: Safety | H39: Not wearing appropriate PPE. | I39: HV Plant (Artisans) | J39: Grid Manager | K39: Once/Twice a month (+-8 hrs a day) | L39: Damage or a loss to a limb resulting in amputation leading to a medical incident or LTI. | M39: 1. Training and awareness on the use of hand tools. 2. Task risk assessments. 3. Tool box talks 4. Use of appropriate PPE | N39: 4 | O39: C | P39: II | Q39: Fully effective | R39: Continous awareness on the use of portable electrical tools | S39: Behavioural Safety Observation, Supervision | T39: Line Management | U39: OHS Act 85 of 1993, Electrical Machinery Regulations, Incident Management Procedure 32-95.
A40: Operating | C40: 2.1 | D40: Opening, Isolating, safety testing and earthing of primary plant equipment | E40: 2.1.1. | F40: Electrical contact | G40: Safety | H40: Failure to do proper Risk Assessment, failure to follow stds & procedures, In appropriate PPE, Failure to observe ORHVS, non adherence to life saving rules, faulty plant equipment, Distraction, lack of skills. | I40: HV Plant (Artisans) | J40: Grid Manager | K40: 2 to 3 times a week | L40: Temporary or permanent body injury leading to a medical incident or LTI or could result in fatality. | M40: 1. Training and awareness of ORHVS and operating. 2. Task risk assessments. 3. Tool box talks 4. Buddy system - brothers keeper 5. Re-enforcing of live saving rules 6. Use of appropriate PPE | N40: 6 | O40: C | P40: I | Q40: Mostly effective | R40: Sharing of Lessons learnt form past or recent incidents | S40: Behavioural Safety Observation, Supervision | T40: Line Management | U40: OHS Act 85 of 1993, Section 8, Eskom Risk assement Procedure, 32-520, Incident Management Procedure 32-95
E41: 2.1.2 | F41: Falling from Height (Inspection of GIS) | G41: Safety | H41: Failure to do proper Risk Assessment, In appropriate PPE or no FAS, non adherence to life saving rules, Distraction, lack of skills. | I41: HV Plant (Artisans) | J41: Grid Manager | K41: 2 to 3 times a week | L41: Temporary or permanent body injury leading to a medical incident or LTI or could result in fatality. | M41: 1. Training and awareness of ORHVS and operating. 2. Task risk assessments. 3. Tool box talks 4. Buddy system - brothers keeper 5. Re-enforcing of live saving rules 6. Use of appropriate PPE | N41: 5 | O41: C | P41: II | Q41: Mostly effective | R41: Sharing of Lessons learnt form past or recent incidents | S41: Behavioural Safety Observation, Supervision | T41: Line Management | U41: OHS Act 85 of 1993, Section 8, Eskom Risk assement Procedure, 32-520, Incident Management Procedure 32-95
E42: 2.1.3 | F42: Slips, trips & falls | G42: Safety | H42: Failure to do proper Risk Assessment, In appropriate PPE, non adherence to life saving rules, Distraction, lack of skills. | I42: HV Plant (Artisans) | J42: Grid Manager | K42: 2 to 3 times a week | L42: Temporary or permanent body injury leading to a medical incident or LTI. | M42: 1. Training and awareness of ORHVS and operating. 2. Task risk assessments. 3. Tool Box Talks 4. Buddy system - brothers keeper 5. Re-enforcing of live saving rules 6. Use of appropriate PPE | N42: 4 | O42: C | P42: II | Q42: Fully effective | R42: Sharing of Lessons learnt form past or recent incidents | S42: Behavioural Safety Observation, Supervision | T42: Line Management | U42: OHS Act 85 of 1993, Section 8, Eskom Risk assement Procedure, 32-520, Incident Management Procedure 32-95
C43: 2.2 | D43: Extreme Temperatures | E43: 2.2.1 | F43: Sun burns, heat stroke, frost bites | G43: Health | H43: Not Wearing appropriate PPE including hats, sun block creams in hot weather. In cold weather not using appropriate warm jackets and clothing. Not doing proper Risk assessments. | I43: HV Plant (Artisans) | J43: Grid Manager | K43: 2 to 3 times a week | L43: Temporary or permanent body injury/illness leading to a medical incident or LTI. | M43: 1. Training and awareness of ORHVS and operating in adverse weather conditions. 2. Task & Site risk assessments. 3. Tool box talks 4. Re-Enforcing Life saving rules. 5. Use of appropriate PPE | N43: 4 | O43: C | P43: II | Q43: Mostly effective | R43: Sharing of Lessons learnt form past or recent incidents | S43: Behavioural Safety Observation, Supervision | T43: Line Management | U43: OHS Act 85 of 1993, Section 8, Eskom Risk assement Procedure, 32-520, Incident Management Procedure 32-95
C44: 2.3 | D44: Snakes, ticks, mosquitoes, bees, spiders & scorpions | E44: 2.3.1 | F44: Bitten by snakes, ticks, mosquitoes, bees, spiders & scorpions | G44: Safety | H44: Not Wearing appropriate PPE including hats, sun block creams in hot weather. In cold weather not using appropriate warm jackets and clothing. Not doing proper Risk assessments. | I44: HV Plant (Artisans) | J44: Grid Manager | K44: 2 to 3 times a week | L44: Bee stings, scorpion or poisonous snake bites leading to a medical incident, LTI or fatality. | M44: 1. Training and awareness of exposure to snakes, bees, insects & scorpions. 2. Task risk assessments. 3. Tool box talks 4. Use of appropriate PPE | N44: 5 | O44: C | P44: II | Q44: Mostly effective | R44: Sharing of Lessons learnt form past or recent incidents | S44: Behavioural Safety Observation, Supervision | T44: Line Management | U44: OHS Act 85 of 1993, Section 8, Eskom Risk assement Procedure, 32-520, Incident Management Procedure 32-95
C45: 2.4 | D45: Lifting link stick | E45: 2.4.1 | F45: Strain back or neck | G45: Safety | H45: Failure to do proper Risk Assessment, In appropriate PPE, non adherence to life saving rules, faulty plant equipment, Distraction, lack of skills. | I45: HV Plant (Artisans) | J45: Grid Manager | K45: 2 to 3 times a week | L45: Temporary or permanent body injury leading to a medical incident or LTI. . | M45: 1. Training and awareness of using link sticks to apply/remove earths 2. Task risk assessments. 3. Tool Box Talks 4. Use of appropriate PPE | N45: 4 | O45: C | P45: II | Q45: Mostly effective | R45: Sharing of Lessons learnt form past or recent incidents | S45: Behavioural Safety Observation, Supervision | T45: Line Management | U45: OHS Act 85 of 1993, Section 8, Eskom Risk assement Procedure, 32-520, Incident Management Procedure 32-95
C46: 2.5 | D46: Snakes, ticks, mosquitoes, bees, spiders & scorpions | E46: 2.5.1 | F46: Strain back or neck | G46: Safety | H46: Failure to do proper Risk Assessment, In appropriate PPE, non adherence to life saving rules, faulty plant equipment, Distraction, lack of skills. | I46: HV Plant (Artisans) | J46: Grid Manager | K46: 2 to 3 times a week | L46: Temporary or permanent body injury leading to a medical incident or LTI. | M46: 1. Training and awareness of manually opening/closing links. 2. Task risk assessments. 3. Tool Box Talks 4. Use of appropriate PPE | N46: 4 | O46: C | P46: II | Q46: Mostly effective | R46: Sharing of Lessons learnt form past or recent incidents | S46: Behavioural Safety Observation, Supervision | T46: Line Management | U46: OHS Act 85 of 1993, Section 8, Eskom Risk assement Procedure, 32-520, Incident Management Procedure 32-95
E47: 2.5.2 | F47: Slips, trips & falls | G47: Safety | H47: Failure to do proper Risk Assessment, In appropriate PPE, non adherence to life saving rules, faulty plant equipment, Distraction, lack of skills. | I47: HV Plant (Artisans) | J47: Grid Manager | K47: 2 to 3 times a week | L47: Temporary or permanent body injury leading to a medical incident or LTI. | M47: 1. Training and awareness of manually opening/closing links. 2. Task risk assessments. 3. Tool Box Talks 4. Use of appropriate PPE | N47: 4 | O47: C | P47: II | Q47: Mostly effective | R47: Sharing of Lessons learnt form past or recent incidents | S47: Behavioural Safety Observation, Supervision | T47: Line Management | U47: OHS Act 85 of 1993, Section 8, Eskom Risk assement Procedure, 32-520, Incident Management Procedure 32-95
E48: 2.5.3 | F48: Minor or serious body injury | G48: Safety | H48: Failure to do proper Risk Assessment, In appropriate PPE, non adherence to life saving rules, faulty plant equipment, Distraction, lack of skills. | I48: HV Plant (Artisans) | J48: Grid Manager | K48: 2 to 3 times a week | L48: Minor or serious damage to fingers/hand leading to a medical incident or LTI. | M48: 1. Training and awareness of manually opening/closing links. 2. Task risk assessments. 3. Tool Box Talks 4. Use of appropriate PPE | N48: 4 | O48: C | P48: II | Q48: Mostly effective | R48: Routine Occupational hygiene medical screening tests | S48: Behavioural Safety Observation, Supervision | T48: Line Management | U48: OHS Act 85 of 1993, Section 8, Eskom Risk assement Procedure, 32-520, Incident Management Procedure 32-95
E49: 2.5.4 | F49: Electrical contact | G49: Safety | H49: Failure to do proper Risk Assessment, failure to follow stds & procedures, In appropriate PPE, Failure to observe ORHVS, non adherence to life saving rules, faulty plant equipment, Distraction, lack of skills. | I49: HV Plant (Artisans) | J49: Grid Manager | K49: 2 to 3 times a week | L49: Temporary or permanent body injury leading to a medical incident or LTI or could result in fatality. | M49: 1. Training and awareness of ORHVS regs. 2. Task risk assessments. 3. Tool box talks 4. Use of appropriate PPE | N49: 5 | O49: C | P49: II | Q49: Mostly effective | R49: Sharing of Lessons learnt form past or recent incidents | S49: Behavioural Safety Observation, Supervision | T49: Line Management | U49: OHS Act 85 of 1993, Section 8, Eskom Risk assement Procedure, 32-520, Incident Management Procedure 32-95
C50: 2.6 | D50: Barricading | E50: 2.6.1 | F50: Electrical contact | G50: Safety | H50: Failure to do proper Risk Assessment, failure to follow stds & procedures, In appropriate PPE, Failure to observe ORHVS, non adherence to life saving rules, faulty plant equipment, Distraction, lack of skills. | I50: HV Plant (Artisans) | J50: Grid Manager | K50: 2 to 3 times a week | L50: Temporary or permanent body injury. Could result in fatality. | M50: 1. Training and awareness of ORHVS regs. 2. Task risk assessments. 3. Tool box talks 4. Use of appropriate PPE | N50: 5 | O50: C | P50: II | Q50: Mostly effective | R50: Sharing of Lessons learnt form past or recent incidents | S50: Behavioural Safety Observation, Supervision | T50: Line Management | U50: OHS Act 85 of 1993, Section 8, Eskom Risk assement Procedure, 32-520, Incident Management Procedure 32-95
E51: 2.6.2 | F51: Strain back or neck | G51: Safety | H51: Failure to do proper Risk Assessment, failure to follow stds & procedures, In appropriate PPE, Failure to observe ORHVS, non adherence to life saving rules, faulty plant equipment, Distraction, lack of skills. | I51: HV Plant (Artisans) | J51: Grid Manager | K51: 2 to 3 times a week | L51: Inappropriate method of manually opening/closing links. Not taking adequate breaks. Leading to a medical incident or LTI. | M51: 1. Training and awareness of barricading. 2. Task risk assessments. 3. Tool box talks 4. Use of appropriate PPE | N51: 4 | O51: C | P51: II | Q51: Mostly effective | R51: Sharing of Lessons learnt form past or recent incidents | S51: Behavioural Safety Observation, Supervision | T51: Line Management | U51: OHS Act 85 of 1993, Section 8, Eskom Risk assement Procedure, 32-520, Incident Management Procedure 32-95
E52: 2.6.3 | F52: Slips, trips & falls | G52: Safety | H52: Failure to do proper Risk Assessment, failure to follow stds & procedures, In appropriate PPE, Failure to observe ORHVS, non adherence to life saving rules, faulty plant equipment, Distraction, lack of skills. | I52: HV Plant (Artisans) | J52: Grid Manager | K52: 2 to 3 times a week | L52: Temporary or permanent body injury leading to a medical incident or LTI. | M52: 1. Training and awareness of barricading. 2. Task risk assessments. 3. Tool box talks 4. Use of appropriate PPE | N52: 4 | O52: C | P52: II | Q52: Mostly effective | R52: Sharing of Lessons learnt form past or recent incidents | S52: Behavioural Safety Observation, Supervision | T52: Line Management | U52: OHS Act 85 of 1993,Section 8, Eskom Risk Assessment procedure 32-520, Eskom SHEQ Policy 32-727
A53: First line Battery maintenance | C53: 3.1 | D53: Battery acid | E53: 3.1.1 | F53: Skin Contact | G53: Safety | H53: Failure to do proper Risk Assessment, failure to follow stds & procedures, In appropriate PPE, Distraction, lack of skills. | I53: HV Plant (Artisans) | J53: Grid Manager | K53: Once/Twice a month (+-8 hrs a day) | L53: 1. Severe or corrosive damage if inhaled, severe lung damage, pulmonary oedema, symptoms includes coughing & shortness of breath. Skin irritations, eye irritation (which may cause redness, swelling & pain). 2. Accidental swallowing may cause burn of the mouth, throat and oesophagus, symptoms may include difficulty swallowing, intense thirst, nausea, vomiting & diarrhoea. | M53: 1. Training and awareness of first line battery maintenance. 2. Task risk assessments. 3. Tool box talks 4. Battery room equipped with emergency equipment. 5. Use of appropriate PPE | N53: 4 | O53: C | P53: II | Q53: Mostly effective | R53: Sharing of Lessons learnt form past or recent incidents | S53: Behavioural Safety Observation, Supervision | T53: Line Management | U53: OHS Act 85 of 1993,Section 8, Eskom Risk Assessment procedure 32-520, Eskom SHEQ Policy 32-727
E54: 3.1.2 | F54: Eye injury | G54: Safety | H54: Failure to do proper Risk Assessment, failure to follow stds & procedures, In appropriate PPE (eye protection), Distraction, lack of skills. | I54: HV Plant (Artisans) | J54: Grid Manager | K54: Once/Twice a month (+-8 hrs a day) | L54: 1. Eye irritation (which may cause redness, swelling & pain). 2. Can lead to permanent eye loss and LTI. | M54: 1. Training and awareness of blowers. 2. Task risk assessments. 3. Use of appropriate PPE ( eye/face protection). 4. Tool Box Talks. | N54: 4 | O54: C | P54: II | Q54: Mostly effective | R54: Sharing of Lessons learnt form past or recent incidents | S54: Behavioural Safety Observation, Supervision | T54: Line Management | U54: OHS Act 85 of 1993,Section 8, Eskom Risk Assessment procedure 32-520, Eskom SHEQ Policy 32-727
E55: 3.1.3 | F55: Inhaling of poisonous fumes | G55: Safety | H55: Failure to do proper Risk Assessment, failure to follow stds & procedures, In appropriate PPE(gas masks), Distraction, lack of skills. | I55: HV Plant (Artisans) | J55: Grid Manager | K55: Once/Twice a month (+-8 hrs a day) | L55: 1. Acute effects are eye, nose, throat and lung irritation, headaches, light headedness, and nausea. 2. Allergic people becomes more susceptible to what they are allergic to, inflammation of the lungs which may aggravate chronic respiratory symptoms and increase the frequency & intensity of asthma attacks. 3.Long term inhalation will contribute to mutation of cells that will lead to lung and bladder cancer. 4. Prolonged skin exposures may cause variety of skin conditions. 5. Long term exposure will cause suppression of the central nervous system | M55: 1. Training and awareness of equipment specific including management/handling of battery fumes . 2. Task risk assessments. 3. Use of appropriate PPE.( gas masks/breathing apparatus) 5. Tool Box Talks. 6. Appropriate extraction fans in battery rooms. | N55: 4 | O55: C | P55: II | Q55: Mostly effective | R55: Sharing of Lessons learnt form past or recent incidents | S55: Behavioural Safety Observation, Supervision | T55: Line Management | U55: OHS Act 85 of 1993,Section 8, Eskom Risk Assessment procedure 32-520, Eskom SHEQ Policy 32-727
C56: 3.2 | D56: Short circuit across battery terminals | E56: 3.2.1 | F56: Explosion causing Minor or serious body injury | G56: Safety | H56: Failure to do proper Risk Assessment, failure to follow stds & procedures, In appropriate tools used, Distraction, lack of skills. | I56: HV Plant (Artisans) | J56: Grid Manager | K56: Once/Twice a month (+-8 hrs a day) | L56: 1. Severe or corrosive damage if inhaled, severe lung damage, pulmonary oedema, symptoms includes coughing & shortness of breath. Skin irritations, eye irritation (which may cause redness, swelling & pain). 2. Accidental swallowing may cause burn of the mouth, throat and oesophagus, symptoms may include difficulty swallowing, intense thirst, nausea, vomiting & diarrhoea. | M56: 1. Training and awareness of first line battery maintenance incl handling & dangers of batteries . 2. Task risk assessments. 3. Use of appropriate PPE. 4.. Tool Box Talks. | N56: 5 | O56: C | P56: II | Q56: Mostly effective | R56: Sharing of Lessons learnt form past or recent incidents | S56: Behavioural Safety Observation, Supervision | T56: Line Management | U56: OHS Act 85 of 1993,Section 8, Eskom Risk Assessment procedure 32-520, Eskom SHEQ Policy 32-727
C57: 3.3 | D57: Battery exploding | E57: 3.3.1 | F57: Explosion causing Minor or serious body injury | G57: Safety | H57: Failure to do proper Risk Assessment, failure to follow stds & procedures, In appropriate tools used, Distraction, lack of skills. | I57: HV Plant (Artisans) | J57: Grid Manager | K57: Once/Twice a month (+-8 hrs a day) | L57: 1. Severe or corrosive damage if inhaled, severe lung damage, pulmonary oedema, symptoms includes coughing & shortness of breath. Skin irritations, eye irritation (which may cause redness, swelling & pain). 2. Accidental swallowing may cause burn of the mouth, throat and oesophagus, symptoms may include difficulty swallowing, intense thirst, nausea, vomiting & diarrhoea. | M57: 1. Training and awareness of first line battery maintenance incl handling & dangers of batteries . 2. Task risk assessments. 3. Tool box talks 4. Use of appropriate PPE | N57: 5 | O57: C | P57: II | Q57: Mostly effective | R57: Sharing of Lessons learnt form past or recent incidents | S57: Behavioural Safety Observation, Supervision | T57: Line Management | U57: OHS Act 85 of 1993,Section 8, Eskom Risk Assessment procedure 32-520, Eskom SHEQ Policy 32-727
A58: Office Administrative activities | B58: R | C58: 4.1 | D58: Electrical and network cords | E58: 4.1.1 | F58: Trips and falls | G58: Safety | H58: When they are crossing around, and not in a holder or skirting, and people walks on them | I58: Office occupants | J58: Grid Manager | K58: Daily, 8 hours | L58: injuries sustained from trips and falls | M58: 1. Conduct regular health and safety inspections 2. Awareness training on slips trips and falls in the office 3.Report defects to ERE | N58: 2 | O58: C | P58: III | Q58: Fully effective | R58: Maintain the existing controls. | S58: OHS inspections | T58: Line Managers | U58: OHS Act 85 of 1993, General Safety Regulations, Eskom SHEQ policy 32-727, OHS Baseline Risk Assessment 32-520
B59: R | C59: 4.2 | D59: Excessive Use of Computers | E59: 4.2.1 | F59: Sight Detorioration | G59: Health | H59: Spending long hours on computers without taking frequent breaks, could cause sight deterioration | I59: All employees using computers | J59: Grid Manager | K59: Daily, 8 hours | L59: Visual impairment | M59: 1. Take frequent breaks away fromt the computer every 20-30 minutes. 2. Conduct periodic medical surveillance. 3. Conducte awareness training on office Ergornomics | N59: 3 | O59: D | P59: III | Q59: Fully effective | R59: Maintain the existing controls. | S59: Medical Surveillance | T59: Line Managers | U59: OHS Act 85 of 1993 (Environmental Regulations for workplaces), SANS 10114-1 (artifical Lighting), SANS 10400- Part O(National building regulations and Standards Act) Eskom SHEQ policy 32-727,OHS Baseline Risk Assessment 32-520
B60: R | C60: 4.3 | D60: Glare from computer screens | E60: 4.3.1 | F60: Damage of optical nerves | G60: Health | H60: When glare reflecting from the windows reach the surface of the computer screen | I60: Employees whose computers screens are facing towards the windows | J60: Grid Manager | K60: Daily, 8 hours | L60: The presence of glare may lead to discomfort and impairment of vision. | M60: 1. Encourage that the blinds are always closed. 2. Train employees on the dangers associated with glare reflecting on their computer screens. | N60: 4 | O60: B | P60: III | Q60: Fully effective | R60: Maintain the existing controls. | S60: Medical Surveillance | T60: Line Managers | U60: OHS Act 85 of 1993 (Environmental Regulations for workplaces), SANS 10114-1 (artifical Lighting), SANS 10400- Part O(National building regulations and Standards Act) Eskom SHEQ policy 32-727,OHS Baseline Risk Assessment 32-520
B61: R | C61: 4.4 | D61: Poor Illumination | E61: 4.4.1 | F61: Sight Detorioration | G61: Health | H61: 1. Illumination not meeting legal requirement 2.Unsuitable luminance and extreme contrasts may cause a visual condition where there is discomfort. 3. Flickering lights can induce visual discomfort, headaches and stroboscopic effects (optical illusions) particularly in sensitive individuals. | I61: All Office accupants | J61: Grid Manager | K61: Daily, 8 hours | L61: Sight Detorioration | M61: 1. Conduct periodic illumunation surveys to determine the quality and suitaility of office lights. 2. Conduct periodic visual inspections (SHE inspections) on light fittings to ensure early detection of defective lights. 3.Report all defective artificial light sources to Eskom Real Estate. 4. Ensure periodic medical surveillance is done | N61: 4 | O61: B | P61: III | Q61: Fully effective | R61: Maintain the existing controls. | S61: Illumination surveys OHS inspections Medical Surveillance | T61: Line Managers | U61: OHS Act 85 of 1993 (Environmental Regulations for workplaces), SANS 10114-1 (artifical Lighting), SANS 10400- Part O(National building regulations and Standards Act) Eskom SHEQ policy 32-727,OHS Baseline Risk Assessment 32-520
B62: R | E62: 4.4.2 | F62: Slips and trips | G62: Health | H62: 1. Illumination not meeting legal requirement 2.Unsuitable luminance may reduced ability to see identifiable objects | I62: All Office accupants | J62: Grid Manager | K62: Daily, 8 hours | L62: Injuries resulting from slips and trips | M62: 1. Conduct periodic illumunation surveys to determine the quality and suitaility of office lights. 2. Conduct periodic visual inspections (SHE inspections) on light fittings to ensure early detection of defective lights. 3.Report all defective artificial light sources to Eskom Real Estate. | N62: 2 | O62: C | P62: III | Q62: Fully effective | R62: Maintain the existing controls. | S62: Illumination surveys OHS inspections | T62: Line Managers | U62: OHS Act 85 of 1993 (Environmental Regulations for workplaces), SANS 10114-1 (artifical Lighting), SANS 10400- Part O(National building regulations and Standards Act) Eskom SHEQ policy 32-727,OHS Baseline Risk Assessment 32-520
B63: R | C63: 4.5 | D63: Incompatibility of the workstation layout with the use of the computers | E63: 4.5.1 | F63: musculoskeletal disorders | G63: Health | H63: 1.Workstation designs incompatible with the use of computers (positioning of tables and chairs), 2. Laptop screens are lower than the eye level of most individuals. 3. Chairs are not adjustable to accommodate differen body types | I63: Office occupants | J63: Grid Manager | K63: Daily, 8 hours | L63: Wrists, back, legs, shoulders, neck, muscles and joints strains | M63: 1. Periodic Ergonomics Surveys 2. Laptop stands are provided to staff that using laptops 3.Report defective chairs to your manager for replacement 4 Conduct ergonomics awareness training | N63: 4 | O63: B | P63: III | Q63: Fully effective | R63: Maintain the existing controls. | S63: Ergonomics Survey, BSO's Absence of musculoskeletal disorders incidents reported | T63: Line Managers | U63: OHS Act 85 of 1993 (General Safety Regulations), Eskom SHEQ policy 32-727,OHS Baseline Risk Assessment 32-520
B64: R | E64: 4.5.2 | F64: Trips and falls | G64: Safety | H64: 1. Office layout causing obstructions in the event of emergencies. | I64: Office occupants | J64: Grid Manager | K64: Daily, 8 hours | L64: Injuries sustained from trips and falls | M64: !. Periodic Evacution drills for employees to familiarise themselves with their work station layout | N64: 2 | O64: C | P64: III | Q64: Mostly effective | R64: Maintain the existing controls. | S64: Emergency evacution drill report | T64: Line Managers | U64: OHS Act 85 of 1993 (General Safety Regulations), Eskom SHEQ policy 32-727,OHS Baseline Risk Assessment 32-520
B65: R | C65: 4.6 | D65: Various Cleaning Agents (Detergents) | E65: 4.6.1 | F65: Poor indoor air quality | G65: Health | H65: When the cleaning substances are used on workstations and othe office surfaces | I65: Employees working in offices, and visitors | J65: Grid Manager | K65: Daily, 1 to 2 hrs | L65: Loss of vision ,Severe pain in the throat, Severe pain or burning in the nose, eyes, ears, lips, or tongue, Breathing difficulty, Throat swelling , Burns, Holes (necrosis) in the skin or tissues underneath | M65: 1.The ready availability of Materials Safety Data Sheets for all the cleaning substances used in our office space is in kitchen cupboard. 2.Conduct basic awareness training on exposure to hazardous chemicals substances. 3. Encourage employees that are reacting to the cleaning substances to take air brakes outside the building while cleaning takes place. | N65: 2 | O65: C | P65: III | Q65: Mostly effective | R65: Maintain current controls | S65: OHS inspections, BSO's | T65: Line Managers | U65: OHS Act 85 of 1993 ( Regulations for Hazardous Chemicals Substances), Eskom SHEQ policy 32-727,OHS Baseline Risk Assessment 32-520
B66: R | C66: 4.7 | D66: Mechanical Ventilation System | E66: 4.7.1 | F66: Poor indoor air quality | G66: Health | H66: Insufficient maintenance and service Incontrollable relative humidity (Limitation of ventilation system design) | I66: Employees working in offices, and visitors | J66: Grid Manager | K66: Daily, 8 hours | L66: Headache, Fatigue, Shortness of breath, Sinus congestion, Cough, Sneezing, Eye, nose and throat irritation, Dizziness, and Nausea. | M66: Report to Eskom Real Estates all faulty ventilation system equipment Awareness training on indoor air quality. Regular maintenance of the Ventilation system by ERE | N66: 2 | O66: C | P66: III | Q66: Fully effective | R66: Maintain the existing controls. | S66: Indoor air quality measurements. | T66: Line Managers | U66: OHS Act 85 of 1993 (Environmental Regulations for Workplaces) , Eskom SHEQ policy 32-727,OHS Baseline Risk Assessment 32-520, National Building Regulations and Standards Act- Part O
B67: R | C67: 4.8 | D67: Use of Hydro Boiler | E67: 4.8.1 | F67: Skin Burns | G67: Safety | H67: Buildup of steam in the Hydro Boil can cause water to spew. Lack of focus when using the hydro boil. | I67: office occupants and visitors | J67: Grid Manager | K67: Occasionally, +-6 hrs | L67: Skin burns | M67: 1. Warning sign on the hydro boil. 2.SHE rep inspections 3. Awareness training on the dangers assosiated with the use of the hydroboil. 4. Reporting of defects to ERE | N67: 3 | O67: B | P67: III | R67: Maintenance and continuous monitoring of the existing controls | S67: OHS inspections, Behavioural Safety Observations (BSO) | T67: Line Managers | U67: OHS Act 85 of 1993, Eskom SHEQ policy 32-727, xxxxxxx
A68: Local Business Travelling | B68: N | C68: 4.9 | D68: Use of motor Vehicles | E68: 4.9.1 | F68: Road rage incidents | G68: Safety | H68: Collisions, negligence, driving at inappropriate speed, tail gaiting, fatigue,weaving in and out of traffic, driivng on the soulder, cutting off traffic, hooting, yelling, flashing, headlights, using inappropriate gestures, pressing deadlines | I68: Employees travelling on Eskom business | J68: Grid Manager | K68: Daily, 8 hours | L68: Injuries, multiple injuries and fatalities | M68: 1. Defensive driver training available for high risk drivers- if identified. 2.Awareness on road rage. 3. Conduct Vehicle inspections. 4. Medical fitness tests. 5. Driver commitment forms. 6. Use Webex/Video conferencing | N68: 5 | O68: C | P68: II | R68: Maintenance and continuous monitoring of the existing controls | S68: Absence of vehicle incidents, SHE performance reports | T68: Line Managers | U68: OHS Act 85 of 1993, Eskom SHEQ policy 32-727,OHS Baseline Risk Assessment 32-520 , Eskom Vehicle Safety and Driver Management procedure 240-62946386, Eskom Vehicle Safety Specifications procedure 32-345, National Road Traffic Act 93 of 1996, Substance Abuse Procedure 32-37
B69: N | E69: 4.9.2 | F69: Motor vehicle accidents. | G69: Safety | H69: Negligence, driving at inappropriate speed, fatigue, pressing deadlines, leaving work late, Mechanical failures | I69: Employees travelling on Eskom business | J69: Grid Manager | K69: Daily, 8 hours | L69: Injuries, multiple injuries, fatalities and multiple fatalities | M69: 1. Defensive driver training avialable for high risk drivers- if identified, 2. Awareness of a 15 minutes rest after every two hours, 3. Drivers advised to check the medication they use, 4.Awareness training on fatigue management. 5. Campaigns on Vehicle and Driver safety. 6.Use Webex/Video conferencing | N69: 5 | O69: C | P69: II | R69: 1. Maintenance and continuous monitoring of the existing controls 2. Vehicle inspections. 3. Medical fitness tests. 4. Driver commitment forms. | S69: Absence of vehicle incidents, SHE performance reports | T69: Line Managers | U69: OHS Act 85 of 1993, Eskom SHEQ policy 32-727,OHS Baseline Risk Assessment 32-520 , Eskom Vehicle Safety and Driver Management procedure 240-62946386, Eskom Vehicle Safety Specifications procedure 32-345, National Road Traffic Act 93 of 1996, Substance Abuse Procedure 32-37
B70: N | E70: 4.9.3 | F70: Hi-jackings | G70: Safety | H70: Crime, Lack of security at site, unfamiliartiy of the area, | I70: Employees travelling on Eskom business | J70: Grid Manager | K70: Daily, 8 hours | L70: Injuries, fatalities, trauma | M70: 1. Sharing of smash and grab/ hi-jacking zones 2. Awareness on prevention of hi-jacking 3.Travel Route risk assessments 4. Use Webex/Video conferencing | N70: 5 | O70: C | P70: II | R70: Maintain the existing controls. | S70: Absence of vehicle incidents, SHE performance reports | T70: Line Managers | U70: OHS Act 85 of 1993, Eskom SHEQ policy 32-727,OHS Baseline Risk Assessment 32-520 , Eskom Vehicle Safety and Driver Management procedure 240-62946386, Eskom Vehicle Safety Specifications procedure 32-345, National Road Traffic Act 93 of 1996, Substance Abuse Procedure 32-37
B71: N | E71: 4.9.4 | F71: Smash and grabs | G71: Safety | H71: Crime,, Lack of security at site, unfamiliartiy of the area, valueables visible in the car, talking on cellphones, driver distractions ( e.g putitng on make-up) | I71: Employees travelling on Eskom business | J71: Grid Manager | K71: Daily, 8 hours | L71: Injuries, fatalities, trauma | M71: 1.Travel Route risk assessments 2. Training on Defensive driving- if identified. 3. Awareness raised on Smash and grabs. 4. Use Webex/Video conferencing 5. Sharing of smash and grab/ hi-jacking zones in South Africa | N71: 5 | O71: C | P71: II | R71: Maintain the existing controls. | S71: Absence of vehicle incidents, SHE performance reports | T71: Line Managers | U71: OHSAct, Eskom SHEQ policy 32-727,OHS Baseline Risk Assessment 32-520 , Eskom Vehicle Safety and Driver Management procedure 240-62946386, Eskom Vehicle Safety Specifications procedure 32-345, National Road Traffic Management Act, Substance Abuse Procedure 32-37
B72: N | E72: 4.9.5 | F72: Long distance travelling | G72: Safety | H72: Business activities wrt IPP's | I72: Employees travelling on Eskom business dealing with IPP's | J72: Grid Manager | K72: Once in six months, 4 hours | L72: fatigue, collisions, Injuries, multiple injuries and fatalities | M72: 1. Defensive driver training available for high risk drivers- if identified, 2. 15 minutes rest after every two hours, 3. drivers advised to check the medication they use, 4.Awareness training on fatigue management. 5. Campaigns on Vehicle and Driver safety. 6. Use Webex/Video conferencing | N72: 5 | O72: C | P72: II | R72: 1. Maintenance and continuous monitoring of the existing controls. 2. . Reinforcement of the implementation of the Vehicle and Driver Safety Procedure. | S72: Absence of vehicle incidents, SHE performance reports | T72: Line Managers | U72: OHS Act 85 of 1993, Eskom SHEQ policy 32-727,OHS Baseline Risk Assessment 32-520 , Eskom Vehicle Safety and Driver Management procedure 240-62946386, Eskom Vehicle Safety Specifications procedure 32-345, National Road Traffic Act 93 of 1996, Substance Abuse Procedure 32-37
B73: N | E73: 4.9.6 | F73: Excessive travelling | G73: Safety | H73: Business activities and adhoc requests | I73: GM EPMD | J73: Grid Manager | K73: Once in two weeks, 3hours | L73: fatigue, collisions, Injuries, multiple injuries and fatalities | M73: 1. Driver advised to check the medication that he use. 2. Awareness training on fatigue management. 3. Campaigns on Vehicle and Driver safety. 4. Use Webex/Video conferencing | N73: 5 | O73: C | P73: II | R73: 1. Maintenance and continuous monitoring of the existing controls. 2. Reinforecement of the implemtation of the Vehicle and Driver Safety Procedure. | S73: Absence of vehicle incidents, SHE performance reports | T73: Line Managers | U73: OHS Act 85 of 1993, Eskom SHEQ policy 32-727,OHS Baseline Risk Assessment 32-520 , Eskom Vehicle Safety and Driver Management procedure 240-62946386, Eskom Vehicle Safety Specifications procedure 32-345, National Road Traffic Act 93 of 1996, Substance Abuse Procedure 32-37
B74: N | C74: 4.10 | D74: Poor Road conditions | E74: 4.10.1 | F74: Motor vehicle incident | G74: Safety | H74: stones, unclear signs, potholes, narrow roads, Invisible road markings, slippery roads, rough terrain | I74: Employees, members of Public | J74: Grid Manager | K74: Daily, 8 hours | L74: Injuries and/or fatalities | M74: 1. Travel Route risk assessment 2.Awareness on vehicle and driver safety 3. Driver commitment forms | N74: 5 | O74: C | P74: II | R74: 1. Maintenance and continuous monitoring of the existing controls. 2. Reinforecement of the implemtation of the Vehicle and Driver Safety Procedure. | S74: Absence of vehicle incidents, SHE performance reports | T74: Line Managers | U74: OHS Act 85 of 1993, Eskom SHEQ policy 32-727,OHS Baseline Risk Assessment 32-520 , Eskom Vehicle Safety and Driver Management procedure 240-62946386, Eskom Vehicle Safety Specifications procedure 32-345, National Road Traffic Act 93 of 1996, Substance Abuse Procedure 32-37
B75: N | C75: 4.11 | D75: Wild/stray animals | E75: 4.11.1 | F75: Motor vehicle incident | G75: Safety | H75: Obscured view, Speeding, disregard to road rules | I75: Employees travelling on Eskom business | J75: Grid Manager | K75: Daily, 8 hours | L75: Injuries and/or fatalities | M75: 1.Awareness on vehicle and driver safety 2. Sharing of lessons learnt from similar incidents 3. Route risk assessment | N75: 5 | O75: C | P75: II | R75: 1. Maintenance and continuous monitoring of the existing controls. 2. Reinforecement of the implemtation of the Vehicle and Driver Safety Procedure. | S75: Absence of vehicle incidents, SHE performance reports | T75: Line Managers | U75: OHS Act 85 of 1993, Eskom SHEQ policy 32-727,OHS Baseline Risk Assessment 32-520 , Eskom Vehicle Safety and Driver Management procedure 240-62946386, Eskom Vehicle Safety Specifications procedure 32-345, National Road Traffic Act 93 of 1996, Substance Abuse Procedure 32-37
B76: N | C76: 4.12 | D76: Adverse weather conditions | E76: 4.12.1 | F76: Motor vehicle incident | G76: Safety | H76: Rains, fog ,mists, snow, whirl winds | I76: Employees, Public | J76: Grid Manager | K76: Seasonal | L76: Injuries and/or fatalities | M76: 1. Awareness on travelling in bad weather conditions, 2. Reinforecement of the implemtation of the Vehicle and Driver Safety Procedure. 3. Conduct Awarenss training on Adverse weather conditions. 4. Conduct Awarenss training on the prevention of heat stress. | N76: 5 | O76: C | P76: II | R76: Maintenance and continuous monitoring of the existing controls. | S76: Absence of vehicle incidents, SHE performance reports | T76: Line Managers | U76: OHS Act 85 of 1993, Eskom SHEQ policy 32-727,OHS Baseline Risk Assessment 32-520 , Eskom Vehicle Safety and Driver Management procedure 240-62946386, Eskom Vehicle Safety Specifications procedure 32-345, National Road Traffic Act 93 of 1996, Substance Abuse Procedure 32-37
B77: N | C77: 4.13 | D77: Road Works | E77: 4.13.1 | F77: Motor vehicle incident | G77: Safety | H77: Obstruction on the road, unclear road signs, road construction/ maintenance, driver disregard of road signs, poorly visible road markings | I77: Employees, Members of the Public | J77: Grid Manager | K77: Occasionally | L77: Injuries and/or fatalities | M77: 1.Awareness on vehicle and driver safety 2. sharing of lessons learnt from similar incidents 3. Route risk assessment 4. Adjust your speed and following distance accordingly | N77: 5 | O77: C | P77: II | R77: Maintenance and continuous monitoring of the existing controls. | S77: Absence of vehicle incidents, SHE performance reports | T77: Line Managers | U77: OHS Act 85 of 1993, Eskom SHEQ policy 32-727,OHS Baseline Risk Assessment 32-520 , Eskom Vehicle Safety and Driver Management procedure 240-62946386, Eskom Vehicle Safety Specifications procedure 32-345, National Road Traffic Act 93 of 1996, Substance Abuse Procedure 32-37
A78: Public Safety | B78: R | C78: 5.1 | D78: Overhead HV Lines on the ground | E78: 5.1.1 | F78: Veld fires | G78: Safety | H78: Lack of public safety awareness; Theft of conductors; Theft of tower members; Towers falling due to accidents/ Disasters; Accidental fires caused by the public members; fires caused by flash overs from the line | I78: Eskom employees, contractors and members of the public | J78: Grid Manager | K78: Daily; 8 hours | L78: Possible injuries and Fatalities | M78: 1. Line inspections 2. Public Awareness | N78: 4 | O78: C | P78: II | Q78: Mostly effective | R78: Continuous awareness training; Public engagement; Ecouraging reporting of incident by public; | S78: Continuous awareness training; Public engagement; Ecouraging reporting of incident by public; | T78: Line Managers | U78: OHSAct 85 of 1993 , Environmental Regulations for workplaces, Eskom SHEQ policy 32-727,OHS Baseline Risk Assessment 32-520, National Building Regulations, and Standards Act, COID Act
B79: R | C79: 5.2 | D79: HV Towers | E79: 5.2.1 | F79: Tower collapse | G79: Safety | H79: Lack of public safety awareness; Thefts of conductors; Theft of tower members; Towers falling due to accidents/ Disasters | I79: Eskom employees, contractors and members of the public | J79: Grid Manager | K79: Daily; 8 hours | L79: Possible injuries and Fatalities | M79: 1. Line inspections 2. Public Awareness | N79: 5 | O79: C | P79: II | Q79: Fully effective | R79: Adhere to the maintenace schedule; Repair and replacement of damaged equipment; Attending and addressing public incident reports; Continuous awareness and public engagement | S79: Adhere to the maintenace schedule; Repair and replacement of damaged equipment; Attending and addressing public incident reports; Continuous awareness and public engagement | T79: Line Managers | U79: OHSAct 85 of 1993 , Environmental Regulations for workplaces, Eskom SHEQ policy 32-727,OHS Baseline Risk Assessment 32-520, National Building Regulations, and Standards Act, COID Act
A80: Access to site | B80: R | C80: 6.1 | D80: Public protest/unrests | E80: 6.1.1 | F80: Trespassing, theft, vandalism, and Injury | G80: Safety | H80: Location of the site, disputes, aggrieved community, unsatisfied customers/ workers/ contractors, | I80: Eskom employees, contractors and members of the public | J80: Grid Manager | K80: As and when there are unrests | L80: Possible injury or Damage to property | M80: 1. Sensitise employees if there are any protests; 2. Move employees to alternative sites; 3. Inform employees to work from home where possible, 4. Sensitise employees to use alternative routes 5) PPE - not applicable to this risk | N80: 4 | O80: C | P80: II | Q80: Fully effective | R80: Maintain the existing controls | S80: Incidents and trends | T80: Line Managers | U80: Occupational Health and Safety Act, 1993 (Act No. 85 of 1993) Sec: 8, 13, 14, 15, 18 & 19 ; General Administrative Regulations, 2003 Sec: 6, 7, 8 & 9 ; General Safety Regulations, 1986 Sec: 2, & 3 ; Compensation for Occupational Injuries and Diseases Act, Act 130 of 1993 (COID) Sec: 22, 38, 39, 41, 42 & 43; National Key Points Act, 1980: Regulations regarding the appointment of guards by owners of National Key Points and the powers of such guards Sec: 15; 32-727 Eskom SHEQ policy; 32-123 Emergency planning; 32-95 Environmental, Occupational Health and Safety Incident Management Procedure; 32-520 Occupational Health & Safety Risk Assessment Procedure
A81: Working in HV Yard and building maintenance | B81: R | C81: 7.1 | D81: Damaged of falling asbestos containing material | E81: 7.1.1 | G81: Health | H81: Inhalation of Asbestos fibres causing disease | I81: Eskom employees, contractors and members of the public | J81: Grid Manager | K81: Daily; 8 hours | L81: Occupational diseases; Lost time incidents; Fatalities | M81: Phase out Plan in Place; Awareness training; Periodic inspections; maintenance and painting; Labelling and identification | N81: 4 | O81: D | P81: I | Q81: Mostly effective | R81: Carrying out of periodic inspections and adherring to phaseout plan | T81: Line Managers | U81: OHSAct 85 of 1993 , Asbestos regulations; Environmental Regulations for workplaces, Eskom SHEQ policy 32-727,OHS Baseline Risk Assessment 32-520, National Building Regulations, and Standards Act, COID Act

Sheet Lines & Servitudes
A2: Occupational Health and Safety Baseline risk assessment template
A3: Business/Operating unit: | B3: Central Grid | U3: Next Review Date (every 2 years): | V3: 44050 | W3: Template identifier: | X3: 240-70044602
A5: Date: | B5: 43319 | J5: Prepared by: | K5: Sericah Promesse, Chico Ramgovind, Zanele Sethusa, Zandile Gabela, Tshwari Ramagofu | M5: Authorised by: | O5: Name: Victor Shikoana | W5: Document identifier
O6: Designation: Senior Manager Grids | W6: Revision number: | X6: 1
O7: Signed: | W7: Revision date: | X7: 45443
O8: Date:
A9: Refer to Occupational Health and Safety Risk assessment procedure 32-520
A10: List activity | B10: Activity type (Routine/Non-routine) | C10: Hazard nr | D10: Hazard Identification | E10: Risk Nr | F10: Associated risk | G10: Risk type | H10: Cause(s) of the risk | I10: Exposed group/employees | J10: Risk Owner | K10: Exposure patterns | L10: What are the possible consequences? | M10: Existing Controls | P10: Risk Priority Rating | R10: Additional Controls or Tasks Aimed at improving Existing Controls | S10: Monitoring Mechanisms | T10: Control Owner | U10: Legal and Other Requirements | V10: Target Date | W10: Current Status | X10: Integrated Risk Management (IRM) reference number
A11: List specific activities to be performed taking into consideration the equipment to be used, the personnel involved in the task. | B11: Indicate R or N 1. Routine activities and situations create hazards through day-to-day operations and normal work activities; 2. Non-routine activities and situations are occasional or unplanned; | C11: # | D11: Anything with potential to cause of harm. Note: A hazard can pose more than one risk. | E11: # | F11: A chance that injury , ill health or damage could occur as a result of uncontrolled hazard. | G11: Safety or health | H11: What causes the risk to come into effect? | I11: Who is exposed to the hazard i.e. visitors, members of the public, etc. | J11: Who is accountable for making sure the controls and monitors are: - in place, - implemented, - regularly reviewed for effectiveness. | K11: The frequency and duration the person/group is exposed to the hazard e.g. Daily for 3 hrs. | L11: Consider the worse case scenario without controls? | M11: Include: - Preventative Controls (controls implemented to eliminate hazards or reduce the likelihood of the risk occurring), and - Reactive Controls (controls implemented to reduce the immediate impact of the risk occurring) Elimination Substitution Engineering controls Administrative controls Personal protective equipment (PPE) | N11: Consequence | O11: Likelihood | Q11: RCE Risk Control Effectiveness | R11: Include: - Preventative Controls (controls implemented to eliminate hazards or reduce the likelihood of the risk occurring), and - Reactive Controls (controls implemented to reduce the immediate impact of the risk occurring) Elimination Substitution Engineering controls Administrative controls Personal protective equipment (PPE) | S11: How we know if we are succeeding. Include comments on effectiveness. This may include i.e. measurements, inspections, supervision where necessary. | T11: Person allocated the responsibility for implementing the agreed controls | U11: Where relevant, list the relevant legislative and or Eskom requirements that prescribe the control. | V11: Once a date has been agreed to, this can not be changed | W11: Pending, In Progress, Complete | X11: Where applicable, add IRM system reference number for tracking of treatment actions.
A12: Vegetation Management | B12: R | C12: 1.1 | D12: Chainsaws | E12: 1.1.1 | F12: Induced hearing Loss | G12: Health | H12: Not wearing ear protection while using chainsaws | I12: Lines & servitude employees, contractors | J12: Grid Manager | K12: Daily (+-8 hrs a day) | L12: Noise Iinduced Hearing Loss (NIHL) causing partial or permanent deafness leading to a medical incident or LTI | M12: 1. Training and awareness on noise induced hearing loss to be carried out 2. Task risk assessments. 3. Toolbox talks 4. Use of hearing protection | N12: 4 | O12: C | P12: II | Q12: Fully effective | R12: 1. Routine medical screening includes audiometric tests 2. Continuous servicing of equipment | S12: Servicing/Repairs | T12: Line Management | U12: OHS Act 85 of 1993, NIHL regulations, SANS 10083 and Eskom hearing conservation procedure, Incident Management Procedure 32-95
B13: R | E13: 1.1.2 | F13: Suffer eye injury | G13: Safety | H13: Not wearing eye protection while using chainsaws | I13: Lines & servitude employees, contractors | J13: Grid Manager | K13: Daily (+-8 hrs a day) | L13: Permanent/ partial eye loss leading to a medical incident or LTI | M13: 1. Training and awareness on the use of Chain saws. 2. Task risk assessments. 3. Tool Box talks 4. Use of eye protection | N13: 4 | O13: C | P13: II | Q13: Fully effective | R13: Routine medical screening includes eye tests | S13: Servicing/Repairs | T13: Line Management | U13: OHS Act 85 of 1993, Section 8 , Eskom Risk assessment procedure 32-520, Incident Management Procedure 32-95,
B14: R | E14: 1.1.3 | F14: Inhaling petrol fumes | G14: Health | H14: Not wearing mask while using chainsaws | I14: Lines & servitude employees, contractors | J14: Grid Manager | K14: Daily (+-8 hrs a day) | L14: 1. Acute effects are eye, nose, throat and lung irritation, headaches, light headedness, and nausea. 2. Allergic people becomes more susceptible to what they are allergic to, inflammation of the lungs which may aggravate chronic respiratory symptoms and increase the frequency & intensity of asthma attacks. 3.Long term inhalation will contribute to mutation of cells that will lead to lung and bladder cancer. 4. Prolonged skin exposures may cause variety of skin conditions. 5. Long term exposure will cause suppression of the central nervous system | M14: 1. Task risk assessments. 2. Tool box talks 3. Use of masks | N14: 4 | O14: C | P14: II | Q14: Fully effective | R14: Routine Occupational hygiene medical screening includes Pulmonary function tests | S14: Behavioural Safety Observations, Supervision | T14: Line Management | U14: OHS Act 85 of 1993, HCS Regulations, Incident Management Procedure 32-95,
B15: R | E15: 1.1.4 | F15: Inhaling Dust | G15: Health | H15: Not wearing breathing mask protection while using chainsaws | I15: Lines & servitude employees, contractors | J15: Grid Manager | K15: Daily (+-8 hrs a day) | L15: Chest/ breathing complications temporary or permanent leading to a medical incident or LTI | M15: 1. Training and awareness on the use of Chain saws. 2. Task risk assessments. 3. Tool box talks 4. Use of dust masks | N15: 4 | O15: C | P15: II | Q15: Fully effective | R15: Routine Occupational hygiene medical screening includes Pulmonary function tests | S15: Behavioural Safety Observations, Supervision | T15: Line Management | U15: OHS Act 85 of 1993, HCS Regulations; Incident Management Procedure 32-95,
B16: R | E16: 1.1.5 | F16: Minor Cuts or seroius body injury | G16: Safety | H16: Not wearing apprpriate PPE including gloves. Not doing appropriate Risk assesments. | I16: Lines & servitude employees, contractors | J16: Grid Manager | K16: Daily (+-8 hrs a day) | L16: Damage or a loss to a limb resulting in amputation leading to a medical incident or LTI. | M16: 1. Training and awareness on the use of Chain saws. 2. Task risk assessments. 3. Use of appropriate PPE (Chainsaw trouser, helmet with a face shield, goggles and gloves) 4. Tool Box Talks | N16: 4 | O16: C | P16: II | Q16: Fully effective | R16: Routine Occupational hygiene medical screening tests | S16: Behavioural Safety Observations, Supervision | T16: Line Management | U16: OHS Act 85 of 1993, Section 8, training on the use of chain saws, Incident Management Procedure 32-95,
B17: R | E17: 1.1.6 | F17: Trees/branches falling causing injury whilst tree felling/ bush clearing | G17: Safety | H17: Not doing proper Risk assessments. | I17: Lines & servitude employees, contractors | J17: Grid Manager | K17: Daily (+-8 hrs a day) | L17: Temporary or permanent body injury. Could result in fatality. | M17: 1. Training and awareness on the use of Chain saws. 2. Task risk assessments. 3. Tool box talks. | N17: 5 | O17: D | P17: I | Q17: Fully effective | R17: 1. Refresher training every 3 years on HIRA | S17: Behavioural Safety Observations, Supervision | T17: Line Management | U17: OHS Act 85 of 1993, Section 8, Incident Management Procedure 32-95,
B18: R | E18: 1.1.7 | F18: Working at Heights | G18: Safety | H18: Not Wearing appropriate PPE including fall arrest system. Not doing proper Risk assessments. Not Hooking up at Heights. | I18: Lines & servitude employees, contractors | J18: Grid Manager | K18: Daily (+-8 hrs a day) | L18: Temporary or permanent body injury. Could result in fatality. | M18: Working at heights procedure availabe, implementation and monitoring of procedure, Training on working at heights and rescue, sharing of life saving rules to all employees working at heights, use of fall arrest system. | N18: 5 | O18: D | P18: I | Q18: Fully effective | R18: Continuous awareness on the working at heights procedure. | S18: Behavioural Safety Observations, Supervision | T18: Line Management | U18: OHS Act 85 of1993, Section 8, Life saving rules, working at heights procedure 32-418, Incident Management Procedure 32-95
B19: R | D19: Extreme Temperatures | E19: 1.2.1 | F19: Sun burns, heat stroke, frost bites | G19: Health | H19: Not Wearing appropriate PPE including hats, sun block creams in hot weather. In cold weather not using appropriate warm jackets and clothing. Not doing proper Risk assessments. | I19: Lines & servitude employees, contractors | J19: Grid Manager | K19: Daily (+-8 hrs a day) | L19: Temporary or permanent body illness | M19: 1. Awareness on working in extreme temperatures 2. Task risk assessments. 3. Tool Box Talks 5. Use of appropriate PPE | N19: 4 | O19: C | P19: II | Q19: Fully effective | R19: Sharing of Lessons learnt form past or recent incidents | S19: Audits conducted of relevant awareness raised | T19: Line Management | U19: OHS Act 85 of 1993, Section 8, Eskom Policy 32-727, Incident Management Procedure 32-95
B20: R | D20: Snakes, ticks, mosquitoes, bees, spiders & scorpions | E20: 1.3.1 | F20: Bitten by snakes, ticks, mosquitoes, bees, spiders & scorpions | G20: Health | H20: Not wearing appropriate PPE including shin pads. Not doing appropriate Risk assessments. | I20: Lines & servitude employees, contractors | J20: Grid Manager | K20: Once a year (+-8 hrs a day) | L20: Bee stings, scorpion or poisonous snake bites leading to a medical incident, LTI or fatality. | M20: 1. Training and awareness of exposure to snakes and insects (EWT) 2. Task risk assessments. 3. Tool box talks 4. Use of appropriate PPE (Sheen guards for snakes) | N20: 5 | O20: C | P20: II | Q20: Fully effective | R20: Awareness on exposure to snakes and insects | S20: Audits conducted of relevant awareness raised | T20: Line Management | U20: OHS Act 85 of 1993, Section 8, Eskom Policy 32-727, Incident Management Procedure 32-95
B21: R | D21: Bush cutters | E21: 2.1.1 | F21: Induced hearing Loss | G21: Health | H21: Not wearing ear protection while using brush cutter | I21: Lines & servitude employees, contractors | J21: Grid Manager | K21: Once a year (+-8 hrs a day) | L21: Noise Induced Hearing Loss (NIHL) causing partial or permanent deafness leading to a medical incident or LTI | M21: 1. Training and awareness on noise induced hearing loss to be carried. 2. Task risk assessments. 3. Tool box talks 4. Use of hearing protection | N21: 4 | O21: C | P21: II | Q21: Fully effective | R21: 1. Routine Occupational hygiene medical screening includes audiometric tests 2. Continuous servicing of equipment | S21: Inspections, servicing, monitoring programme | T21: Line Management | U21: OHS Act 85 of 1993, NIHL regulations, SANS 10083 and Eskom hearing conservation procedure, Incident Management Procedure 32-95
B22: R | E22: 2.1.2 | F22: suffer eye injury | G22: Safety | H22: Not wearing eye protection while using chainsaws | I22: Lines & servitude employees, contractors | J22: Grid Manager | K22: Once a year (+-8 hrs a day) | L22: Permanent/ partial eye loss leading to a medical incident or LTI | M22: 1. Training and awareness on the use of Brush Cutters. 2. Task risk assessments. 3. Tool box talks 4. Use of eye protection. | N22: 4 | O22: C | P22: II | Q22: Fully effective | R22: Routine medical screening includes eye tests | S22: Inspections, servicing, monitoring programme | T22: Line Management | U22: OHS Act 85 of 1993, Section 8 , Eskom Risk assessment procedure 32-520, Incident Management Procedure 32-95,
B23: R | E23: 2.1.3 | F23: Inhaling petrol fumes | G23: Health | H23: Not wearing breathing mask protection while using brush cutters | I23: Lines & servitude employees, contractors | J23: Grid Manager | K23: Once a year (+-8 hrs a day) | L23: 1. Acute effects are eye, nose, throat and lung irritation, headaches, light headedness, and nausea. 2. Allergic people becomes more susceptible to what they are allergic to, inflammation of the lungs which may aggravate chronic respiratory symptoms and increase the frequency & intensity of asthma attacks. 3.Long term inhalation will contribute to mutation of cells that will lead to lung and bladder cancer. 4. Prolonged skin exposures may cause variety of skin conditions. 5. Long term exposure will cause suppression of the central nervous system | M23: 1. Training and awareness on the use of Brush Cutters 2. Task risk assessments. 3. Tool Box Talks 4. Use of appropriate PPE | N23: 4 | O23: C | P23: II | Q23: Fully effective | R23: Continuous awareness on the use of petrol | S23: Behavioural Safety Observations, Supervision | T23: Line Management | U23: OHS Act 85 of 1993, HCS Regulations, Incident Management Procedure 32-95,
B24: R | E24: 2.1.4 | F24: Breathing of Dust | G24: Health | H24: Not wearing breathing mask protection while using brush cutters | I24: Lines & servitude employees, contractors | J24: Grid Manager | K24: Once a year (+-8 hrs a day) | L24: Chest/ breathing complications temporary or permanent leading to a medical incident or LTI | M24: 1. Training and awareness on the use of Brush Cutters. 2. Task risk assessments. 3. Use of breathing protection 4. Tool Box Talks. | N24: 4 | O24: C | P24: II | Q24: Fully effective | R24: Continuous awareness on the working in dusty environments | S24: Behavioural Safety Observations, Supervision | T24: Line Management | U24: OHS Act 85 of 1993, HCS Regulations, Incident Management Procedure 32-95
B25: R | E25: 2.1.5 | F25: Minor cuts or serious body injury | G25: Safety | H25: Not wearing appropriate PPE including gloves. Not doing appropriate Risk assessments. | I25: Lines & servitude employees, contractors | J25: Grid Manager | K25: Once a year (+-8 hrs a day) | L25: Damage or a loss to a limb resulting in amputation leading to a medical incident or LTI. | M25: 1. Training and awareness on the use of Brush Cutters. 2. Task risk assessments. 3. Tool Box Talks 4. Use of appropriate PPE | N25: 4 | O25: C | P25: II | Q25: Fully effective | R25: Routine Occupational hygiene medical screening tests | S25: Behavioural Safety Observations, Supervision | T25: Line Management | U25: OHS Act 85 of 1993, Section 8, Eskom Policy 32-727, Incident Management Procedure 32-95
B26: R | D26: Extreme Temperatures | E26: 2.2.1 | F26: Sun burns, heat stroke, frost bites | G26: Health | H26: Not Wearing appropriate PPE including hats, sun block creams in hot weather. In cold weather not using appropriate warm jackets and clothing. Not doing proper Risk assessments. | I26: Lines & servitude employees, contractors | J26: Grid Manager | K26: Once a year (+-8 hrs a day) | L26: Temporary or permanent body illness | M26: 1. Awareness of brush cutting in extreme temperatures 2. Task risk assessments. 3. Tool Box Talks 5. Use of appropriate PPE | N26: 4 | O26: C | P26: II | Q26: Fully effective | R26: Continuous awareness on working in extreme temperatures | S26: Audit on awareness | T26: Line Management | U26: OHS Act 85 of 1993,Environmental Regulations for workplaces, Eskom risk assessment procedure; 32-520, Incident Management Procedure 32-95
B27: R | D27: Flying objects | E27: 2.3.1 | F27: Serious injuries or fatality | G27: Safety | H27: Not wearing appropriate PPE around machines or tools that may cause an object to become airborne. Not having protective guards on tools or untrained employees using tools. | I27: Lines & servitude employees, contractors | J27: Grid Manager | K27: Once/Twice a month (+-8 hrs a day) | L27: Injuries range from minor concussions to blindness and even fatality. | M27: 1. Awareness or training on the use of chainsaws and pruners 2. Task risk assessments. 3. Tool Box Talks 4. Use of appropriate PP | N27: 5 | O27: D | P27: I | Q27: Fully effective | R27: Continous awareness on safety precautions that need to be taken when working around tools that may cause objects to become airborne. | S27: Inspections of tools | T27: Lines & Servitude Manager | U27: Eskom risk assessment procedure; 32-520, Incident Management Procedure 32-95
B28: R | D28: Wildlife (Ostrich) | E28: 2.4.1 | F28: Serious injuries or fatality | G28: Safety | H28: Provoking ostriches or coming into close proximity with them especially during their breeding season. | I28: Lines & servitude employees, contractors | J28: Grid Manager | K28: Once/Twice a month (+-8 hrs a day) | L28: Scrapes and bruises, fractured skull,loss of vision and even fatality | M28: 1. Task risk assessment before doing any work in areas with wildlife | N28: 5 | O28: D | P28: I | Q28: Fully effective | R28: Awareness on working in areas with wildlife | S28: Audit on awareness | T28: Lines & Servitude Manager | U28: Eskom risk assessment procedure; 32-520, Incident Management Procedure 32-96
B29: R | D29: Snakes, ticks, mosquitoes, bees, spiders & scorpions | E29: 2.5.1 | F29: Bitten by snakes, ticks, mosquitoes, bees, spiders & scorpions | G29: Health | H29: Not wearing appropriate PPE including shin pads. Not doing appropriate Risk assessments. | I29: Lines & servitude employees, contractors | J29: Grid Manager | K29: Once a year (+-8 hrs a day) | L29: Bee stings, scorpion or poisonous snake bites leading to a medical incident, or LTI | M29: 1. Training and awareness of exposure to snakes and insects. 2. Task risk assessments. 3. Tool Box Talks 4. Use of appropriate PPE | N29: 5 | O29: D | P29: I | Q29: Fully effective | R29: Tool Box talks | S29: Audit on awareness | T29: Line Management | U29: OHS Act 85 of 1993, Section 8, Eskom Policy 32-727, Incident Management Procedure 32-95
A30: Repair of tower members | B30: R | C30: 3.1 | D30: Portable electrical tools (Grinder, Drill) | E30: 3.1.1 | F30: Induced hearing Loss | G30: Health | H30: Not wearing ear protection while using grinders, drills etc. | I30: Lines & servitude employees, contractors | J30: Grid Manager | K30: Once a month (+-8 hrs a day) | L30: Noise Induced Hearing Loss (NIHL) causing partial or permanent deafness leading to a medical incident or LTI. | M30: 1. Training and awareness of using Portable electrical tools. 2. Task risk assessments and checking the portable electrical tools 3. Tool box talks 4. Use of appropriate PPE | N30: 4 | O30: C | P30: II | Q30: Fully effective | R30: Routine Occupational hygiene medical screening includes audiometric tests | S30: Inspections, servicing, monitoring programme | T30: Line Management | U30: OHS Act 85 of 1993, Electrical Machinery Regulations, Incident Management Procedure 32-95
B31: R | E31: 3.1.2 | F31: Suffer eye injury | G31: Safety | H31: Not wearing eye protection while using grinders, drills, anti vandal bolt machine etc. | I31: Lines & servitude employees, contractors | J31: Grid Manager | K31: Once a month (+-8 hrs a day) | L31: Permanent/ partial eye loss leading to a medical incident or LTI. | M31: 1. Training and awareness on the use of Portable electrical tools. 2. Task risk assessments. 3. Tool box talks 4. Use of eye protection | N31: 4 | O31: C | P31: II | Q31: Fully effective | R31: Routine Occupational hygiene medical screening includes eye tests | S31: Inspections, servicing, monitoring programme | T31: Line Management | U31: OHS Act 85 of 1993, Electrical Machinery Regulations, Incident Management Procedure 32-95
B32: R | E32: 3.1.3 | F32: Minor cuts or serious body injury | G32: Safety | H32: Failure to conduct a proper risk assessment. | I32: Lines & servitude employees, contractors | J32: Grid Manager | K32: Once a month (+-8 hrs a day) | L32: Damage or a loss to a limb resulting in amputation leading to a medical incident or LTI. | M32: 1. Training and awareness on the use of portable electrical equipment. 2. Task risk assessments. 3. Tool box talks | N32: 4 | O32: C | P32: II | Q32: Fully effective | R32: Supervision | S32: Behavioural Safety Observations, Supervision | T32: Line Management | U32: OHS Act 85 of 1993 , Electrical Machinery Regulations, Incident Management Procedure 32-95
B33: R | E33: 3.1.4 | F33: Electrical contact | G33: Safety | H33: Working in wet weather or with defective equipment | I33: Lines & servitude employees, contractors | J33: Grid Manager | K33: Once a month (+-8 hrs a day) | L33: leading to a medical incident or LTI or Fatality. | M33: 1. Training and awareness on the use of portable electrical tools. 2. Task risk assessments. 3. Use of appropriate PPE. 4. Tool Box Talks. | N33: 5 | O33: D | P33: I | Q33: Fully effective | R33: Sharing of Lessons learnt form past or recent incidents and use of portable electrical tools checklist | S33: Behavioural Safety Observations, Supervision | T33: Line Management | U33: OHS Act 85 of 1993, Electrical Machinery Regulations, Incident Management Procedure 32-95
B34: R | C34: 3.2 | D34: Swege Bolt Machine | E34: 3.2.1 | F34: Minor cuts or serious body injury | G34: Safety | H34: If the user is destructed, improper handling | I34: Lines & servitude employees, contractors | J34: Grid Manager | K34: Twice a week (+- 5 hrs a day) | L34: leading to a medical incident or LTI . | M34: 1. Awareness on the use the Swege bolt machine. 2. Task risk assessments. 3. Use of appropriate PPE. 4. Tool Box Talks. | N34: 4 | O34: C | P34: II | Q34: Fully effective | R34: Continous supervision | S34: Behavioural Safety Observations, Supervision | T34: Line Management | U34: OHS Act 85 of 1993, Electrical Machinery Regulations, Incident Management Procedure 32-95
B35: R | C35: 3.2 | D35: Extreme Temperatures | E35: 3.2.1 | F35: Sun burns, heat stroke, frost bites | G35: Safety | H35: Not Wearing appropriate PPE including hats, sun block creams in hot weather. In cold weather not using appropriate warm jackets and clothing. Not doing proper Risk assessments. | I35: Lines & servitude employees, contractors | J35: Grid Manager | K35: Twice a week (+-8 hrs a day) | L35: Temporary or permanent body injury/illness leading to a medical incident or LTI. | M35: 1. Awareness of tower inspections/repairs in extreme weather conditions. 2. Task risk assessments. 3. Tool Box Talks 4. Use of appropriate PPE | N35: 4 | O35: C | P35: II | Q35: Fully effective | R35: Sharing of Lessons learnt from past or recent incidents | S35: Audits conducted of relevant awareness raised | T35: Line Management | U35: OHS Act 85 of 1993, Section 8, Eskom Policy 32-727, Incident Management Procedure 32-95
B36: N | C36: 3.3 | D36: Medical unfitness | E36: 3.3.1 | F36: Possibility Falling due to not being well | G36: Safety | H36: No / inadequate Man Job Specification in Place | I36: Lines & servitude employees, contractors | J36: Grid Manager | K36: Twice a week (+-8 hrs a day) | L36: Major injury or Fatality | M36: Medical surveillance in place, Man-job-specifications done, Medical fitness monitored on a monthly basis. | N36: 5 | O36: D | P36: I | Q36: Fully effective | R36: Awareness to refuse employees with expired medicals not to perform any work | S36: Continuous Monitoring of medical fitness | T36: Line Management | U36: OHS Act 85 of 1993, Section 8, Eskom Policy 32-727, Incident Management Procedure 32-95
B37: R | C37: 3.4 | D37: Adverse weather conditions (Heavy rain, hail storm, heavy winds) | E37: 3.4.1 | F37: Slip and Fall from the Tower | G37: Safety | H37: Tower which is wet may cause a person to slip, strong winds may cause a person to be insecure and panic | I37: Lines & servitude employees, contractors | J37: Grid Manager | K37: Twice a week (+-8 hrs a day) | L37: Falling may cause Major injury or fatality | M37: Procedure available, implementation and monitoring of working at heights, Awareness raised on the procedure, Risk assessment conducted | N37: 5 | O37: D | P37: I | Q37: Fully effective | R37: Continuous awareness raised on the Work at heights procedure whenever there is a review. Conducting BSO | S37: Monitor that all risk assessments cover all hazards relating to working in adverse weather conditions | T37: Line Management | U37: Eskom Working at Heights Procedure, 32-418, Eskom Risk assessment Procedure, 32-520
B38: R | C38: 3.5 | D38: Snakes, ticks, mosquitoes, bees, spiders & scorpions | E38: 3.5.1 | F38: Bitten by snakes, ticks, mosquitoes, bees, spiders & scorpions | G38: Health | H38: Not wearing appropriate PPE including shin pads. Not doing appropriate Risk assessments. | I38: Lines & servitude employees, contractors | J38: Grid Manager | K38: Once/Twice a month (+-8 hrs a day) | L38: Bee stings, scorpion or poisonous snake bites leading to a medical incident, LTI or fatality. | M38: 1. Training and awareness of exposure to snakes and insects. 2. Task risk assessments. 3. Tool Box Talks 4. Use of appropriate PPE | N38: 5 | O38: D | P38: I | Q38: Mostly effective | R38: Continuous awareness on exposure to snakes and insects | S38: Monitor incidents associated with snakes and insects (Mainly medical and First Aid) | T38: Line Management | U38: OHS Act 85 of 1993, Section 8, Transmission Central Grid Emergency Preparedness Plan, 240-108022748, Incident Management Procedure 32-95
A39: Application of Herbicides | B39: R | C39: 4.1 | D39: Herbicides | E39: 4.1.1 | F39: Skin contact | G39: Health | H39: Not wearing appropriate PPE while mixing or applying herbicides, not following manufactures specifications on the MSDS | I39: Lines & servitude employees, contractors | J39: Grid Manager | K39: Once a month (+-8 hrs a day) | L39: Skin damage temporary or permanent leading to a medical incident or LTI. | M39: Awareness on safe use of herbicides, correct PPE to be issued, Chemical inventory should be in place, MSDS's for all herbicides should be available | N39: 4 | O39: C | P39: II | Q39: Fully effective | R39: Continuous awareness on the safe use of herbicides | S39: Auditing | T39: Line Management | U39: OHS Act 85 of 1993, HCS Regulations, Incident Management Procedure 32-95
B40: R | E40: 4.1.2 | F40: Inhaling herbicide chemicals | G40: Health | H40: Not wearing appropriate breathing apparatus while mixing or applying herbicides | I40: Lines & servitude employees, contractors | J40: Grid Manager | K40: Once a month (+-8 hrs a day) | L40: Chest/ breathing complications temporary or permanent leading to a medical incident or LTI. | M40: Awareness on safe use of herbicides, correct PPE to be issued, Chemical inventory should be in place, MSDS's for all herbicides should be available | N40: 4 | O40: C | P40: II | Q40: Fully effective | R40: Continuous awareness on the safe use of herbicides | S40: Auditing | T40: Line Management | U40: OHS Act 85 of 1993, HCS Regulations, Incident Management Procedure 32-95
B41: R | E41: 4.1.3 | F41: Ergonomic stress of carrying back spray | G41: Safety | H41: By carrying heavy weight for a long time . Not taking adequate breaks | I41: Lines & servitude employees, contractors | J41: Grid Manager | K41: Once a month (+-8 hrs a day) | L41: Temporary or permanent back damage leading to a medical incident or LTI. | M41: 1. Training and awareness on the use of Back sprays 2. Task risk assessments. 3. Tool box talks 4. Use of appropriate PPE | N41: 4 | O41: C | P41: II | Q41: Fully effective | R41: Sharing of Lessons learnt from past or recent incidents | S41: Behavioural Safety Observations, Supervision | T41: Line Management | U41: OHS Act 85 of 1993, Section 8, Incident Management Procedure 32-95
A42: Tower Inspections | B42: R | C42: 5.1 | D42: Climbing of Towers (Working at heights) | E42: 5.1.1 | F42: Falling from Heights | G42: Safety | H42: Not Wearing appropriate PPE including fall arrest system. Not doing proper Risk assessments. Not Hooking up at Heights. | I42: Lines & servitude employees, live line employees | J42: Grid Manager | K42: Twice a month (+-8 hrs a day) | L42: Temporary or permanent body injury leading to a medical incident or LTI or could result in fatality. | M42: 1. Awareness of tower inspections. 2. Task risk assessments. 3. Use of appropriate PPE (Safety Harnesses). | N42: 5 | O42: D | P42: I | Q42: Fully effective | R42: Sharing of Lessons learnt from past or recent incidents | S42: Internal Audits which includes verification of Inspections and training | T42: Line Management | U42: OHS Act 85 of 1993, Section 8, Life saving rules, working at heights procedure, 32-418, Incident Management Procedure 32-95
B43: R | E43: 5.1.2 | F43: Electrical contact | G43: Safety | H43: Not doing proper Risk assessments. Getting too close to live conductors. Not wearing correct PPE. | I43: Lines & servitude employees, live line employees | J43: Grid Manager | K43: Twice a month (+-8 hrs a day) | L43: Fatality | M43: 1. Awareness of tower inspections. 2. Task risk assessments. 3. Tool Box Talks. | N43: 5 | O43: D | P43: I | Q43: Fully effective | R43: Sharing of Lessons learnt from past or recent incidents | S43: Internal Audits which includes verification of Inspections and training | T43: Line Management | U43: OHS Act 85 of 1993, General Safety Regulations, Working at heights procedure, 32-418, Incident Management Procedure 32-95
B44: R | E44: 5.1.3 | F44: Extreme Temperatures | G44: Health | H44: Not Wearing appropriate PPE including hats, sun block creams in hot weather. In cold weather not using appropriate warm jackets and clothing. Not doing proper Risk assessments. | I44: Lines & servitude employees, live line employees | J44: Grid Manager | K44: Twice a month (+-8 hrs a day) | L44: Temporary or permanent body injury/illness leading to a medical incident or LTI. | M44: 1. Awareness of tower inspections/repairs. 2. Task risk assessments. 3. Tool Box Talks 4. Use of appropriate PPE (hats or jackets depending on the weather) | N44: 4 | O44: C | P44: II | Q44: Fully effective | R44: Sharing of Lessons learnt from past or recent incidents | S44: Audits conducted of relevant awareness raised | T44: Line Management | U44: OHS Act 85 of 1993, Environmental Regulations for Workplaces and Section 8, Incident Management Procedure 32-95
A45: Travelling & Driving | B45: R | C45: 6.1 | D45: Other negligent road users | E45: 6.1.1 | F45: Injury or fatality to employees or 3rd party | G45: Safety | H45: Not doing Continuous risk assessment, Lack of Driver awareness(Road rage, avoiding reckless drivers, Giving way irrespective of being right) | I45: Lines & servitude employees, contractors | J45: Grid Manager | K45: Daily (6 - 8 hrs a day) | L45: Temporary or permanent body injury leading to a medical incident or LTI or could result in fatality. | M45: 1. Driver training. 2. Pre trip inspections 3. OBC and Drivecam monitoring 4. Tool Box Talks 5. Accident/incident investigations | N45: 5 | O45: D | P45: I | Q45: Mostly effective | R45: Sharing of Lessons learnt from past or recent incidents | S45: Monthly Incident analysis and sharing of lessons learnt | T45: Line Management | U45: OHS Act 85 of 1993, Section 8, Vehicle and Driver safety procedure, 240-62946386, Incident Management Procedure 32-95
B46: R | C46: 6.2 | D46: Hi-Jacking or theft | E46: 6.2.1 | F46: Injury or fatality to employees or 3rd party | G46: Safety | H46: Due to high risk areas, high crime in the country. | I46: Lines & servitude employees, contractors | J46: Grid Manager | K46: Daily (6 - 8 hrs a day) | L46: Temporary or permanent body injury leading to a medical incident or LTI or could result in fatality. | M46: 1. Driver safety awareness/campaigns 2.. Defensive driver training 3. Tool box talks | N46: 5 | O46: D | P46: I | Q46: Mostly effective | R46: Continuous awareness raised on the hi-jacking, Continuous risk assessment to be done and vigilance while driving. | S46: Audits conducted of relevant awareness raised | T46: Line Management | U46: OHS Act 85 of 1993, Section 8, Eskom Risk assessment procedure, 32-520, Incident Management Procedure 32-95
B47: R | E47: 6.2.3 | F47: Stress/ trauma to employee | G47: Health | H47: Due to high risk areas, due economic climate, high crime in the country. | I47: Lines & servitude employees, contractors | J47: Grid Manager | K47: Daily (6 - 8 hrs a day) | L47: Temporary or permanent illness | M47: 1. Driver safety awareness/campaigns 2. Defensive driver training 3. EAP - trauma counselling 4. Tool box talks | N47: 4 | O47: 5 | Q47: Mostly effective | R47: Sharing of Lessons learnt from past or recent incidents | S47: Monthly Incident analysis and sharing of lessons learnt | T47: Line Management | U47: Vehicle and Driver safety management procedure, 240-62946386, Risk Management Procedure, 32-520, Incident Management Procedure 32-95
B48: R | C48: 6.3 | D48: Rough Terrain | E48: 6.3.1 | F48: Ergonomic stress of rough terrain | G48: Safety | H48: Travelling in rough terrain | I48: Lines & servitude employees, contractors | J48: Grid Manager | K48: Daily (6 - 8 hrs a day) | L48: Temporary or permanent illness. | M48: 1. 4x4 Training 2. Tool Box Talks 3. Task risk assessments | N48: 4 | O48: C | P48: II | Q48: Fully effective | R48: Sharing of Lessons learnt from past or recent incidents | S48: Monthly Incident analysis and sharing of lessons learnt | T48: Line Management | U48: OHS Act 85 of 1993, Section 8, Life saving rules, Incident Management Procedure 32-95
B49: N | C49: 6.4 | D49: Night driving | E49: 6.4.1 | F49: Being involved in an accident (Collision, hitting pedestrians, hitting straying animals etc.) | G49: Safety | H49: Night Blindness | I49: Employees, Members of the Public, Contractors | J49: Grid Manager | K49: Weekly (2 - 4 hrs a day) | L49: MVA which may lead to injury or fatality | M49: Risk assessment, buddy system. | N49: 5 | O49: D | P49: I | Q49: Mostly effective | R49: Continuous awareness on night driving raised | S49: Monthly Incident analysis and sharing of lessons learnt | T49: Line Management | U49: OHS Act 85 of 1993, Section 8, Life saving rules, Incident Management Procedure 32-95
B50: N | C50: 6.5 | D50: Fatigue | E50: 6.5.1 | F50: Falling asleep while driving, | G50: Safety | H50: Travelling long distances without resting, working for long hours and not getting enough rest, studying for long hours without getting any rest | I50: Employees, Members of the Public, Contractors | J50: Grid Manager | K50: Daily (6 - 8 hrs a day) | L50: MVA which may lead to injury or fatality | M50: Awareness on fatigue management | N50: 5 | O50: D | P50: I | Q50: Mostly effective | R50: Continuous awareness and monitoring | S50: Monthly monitoring of Vehicle monitoring devices | T50: Line Management | U50: OHS Act 85 of 1993, Section 8, Vehicle and driver safety management, 240-62946386, Life saving rules, Incident Management Procedure 32-95
B51: N | C51: 6.6 | D51: Wild/stray animals | E51: 6.6.1 | F51: Hitting a straying animal | G51: Safety | H51: Obscured view, Over Speeding, No Fencing along the road | I51: Employees, Contractors | J51: Grid Manager | K51: Daily (6 - 8 hrs a day) | L51: MVA which may lead to injury or fatality | M51: Defensive driving, driver awareness, being vigilant, obeying traffic rules | N51: 5 | O51: D | P51: I | Q51: Mostly effective | R51: Continuous awareness and monitoring, Develop Objectives, Targets and Management Programmes | S51: Analysis of incident statistics | T51: Line Management | U51: OHS Act 85 of 1993 section 8 and 14, Risk assessment procedure, 32-520, Incident Management Procedure 32-95
B52: N | C52: 6.7 | D52: Travelling in areas where there are protests | E52: 6.7.1 | F52: Loss of control of the vehicle Injuries Damage to properties Intimidation | G52: Safety | H52: Protestors throwing stones, Road blockages Being held hostage | I52: Employees, Contractors | J52: Grid Manager | K52: Once/Twice a month (+-8 hrs a day) | L52: Possible damage to vehicle and/or injury/fatality | M52: Safe Driver awareness, protests safety alerts | N52: 4 | O52: D | P52: I | Q52: Mostly effective | R52: Continuous awareness raised on listening to protests alerts being undertaking a trip and encourage the use of alternative roads | S52: BSO, Analysis of incident statistics | T52: Line Management | U52: OHS Act 85 of 1993, Section 8, Eskom Policy 32-727, Incident Management Procedure 32-95
B53: N | C53: 6.8 | D53: Over speeding | E53: 6.8.1 | F53: Collision, losing control of the vehicle, unable to stop in time | G53: Safety | H53: Time Pressure, excitement, Doing things in haste, driving under intoxication | I53: Employees, Members of the Public, Contractors | J53: Grid Manager | K53: Daily (6 - 8 hrs a day) | L53: MVA which may lead to injury or fatality | M53: OBC and Drivecam installed in Pool Vehicles, driver awareness | N53: 4 | O53: D | P53: I | Q53: Mostly effective | R53: Continuous monitoring of OBC Reports and taking necessary action, Continuous awareness on over speeding | S53: Monitoring Mechanisms on OBC | T53: Line Management | U53: OHS Act 85 of 1993, Section 8, Vehicle and Driver safety procedure, 240-62946386, Incident Management Procedure 32-95
A54: Winching | B54: R | C54: 7.1 | D54: Winching | E54: 7.1.1 | F54: Minor Cuts or serious body injury | G54: Safety | H54: Snapping of cable, damage of equipment, incorrect methods used | I54: Lines & servitude employees | J54: Grid Manager | K54: Once a year (+-8 hrs a day) | L54: Damage or a loss to a limb resulting in amputation leading to a medical incident or LTI. | M54: 1. Training and awareness on winching 2. Task risk assessments 3. Tool box talks | N54: 4 | O54: C | P54: II | Q54: Fully effective | R54: Sharing of Lessons learnt from past or recent incidents | S54: Analysis of incident statistics | T54: Line Management | U54: OHS Act 85 of 1993, Incident Management Procedure 32-95
B55: R | E55: 7.1.2 | F55: Damage to Eskom Vehicle or 3rd party property | G55: Safety | H55: Snapping of cable, damage of equipment, incorrect methods used | I55: Lines & servitude employees | J55: Grid Manager | K55: Once a year (+-8 hrs a day) | L55: Damage or a loss of assets. | M55: 1. Training and awareness on winching 2. Accident/Incident Investigations 3. Task risk assessments 4. Tool Box Talks | N55: 4 | O55: C | P55: II | Q55: Fully effective | R55: Sharing of Lessons learnt from past or recent incidents | S55: Analysis of incident statistics | T55: Line Management | U55: OHS Act 85 of 1993, Incident Management Procedure 32-95
B56: R | C56: 7.2 | D56: Extreme Temperatures | E56: 7.2.1 | F56: Sun burns, heat stroke, frost bites | G56: Safety | H56: Not Wearing appropriate PPE including hats, sun block creams in hot weather. In cold weather not using appropriate warm jackets and clothing. Not doing proper Risk assessments. | I56: Lines & servitude employees | J56: Grid Manager | K56: Once/Twice a month (+-8 hrs a day) | L56: Temporary or permanent body injury/illness leading to a medical incident or LTI. | M56: 1. Training and awareness of winching in adverse weather conditions. 2. Task risk assessments. 3. Tool box talks 4. Use of appropriate PPE | N56: 4 | O56: C | P56: II | Q56: Fully effective | R56: Sharing of Lessons learnt from past or recent incidents | S56: Analysis of incident statistics | T56: Line Management | U56: OHS Act 85 of 1993, training on the use of Brush cutters, Incident Management Procedure 32-95
A57: Office Administrative activities | B57: R | C57: 8.1 | D57: Electrical and network cords | E57: 8.1.1 | F57: Trips and falls | G57: Safety | H57: When they are crossing around, and not in a holder or skirting, and people walks on them | I57: Office occupants | J57: Grid Manager | K57: Daily, 8 hours | L57: injuries sustained from trips and falls | M57: 1. Conduct regular health and safety inspections 2. Awareness training on slips trips and falls in the office 3.Report defects to ERE | N57: 2 | O57: C | P57: III | Q57: Fully effective | R57: Maintain the existing controls. | S57: OHS inspections | T57: Line Managers | U57: OHS Act 85 of 1993, General Safety Regulations, Eskom SHEQ policy 32-727, OHS Baseline Risk Assessment 32-520
B58: R | C58: 8.2 | D58: Excessive Use of Computers | E58: 8.2.1 | F58: Sight Detorioration | G58: Health | H58: Spending long hours on computers without taking frequent breaks, could cause sight deterioration | I58: All employees using computers | J58: Grid Manager | K58: Daily, 8 hours | L58: Visual impairment | M58: 1. Take frequent breaks away fromt the computer every 20-30 minutes. 2. Conduct periodic medical surveillance. 3. Conducte awareness training on office Ergornomics | N58: 3 | O58: D | P58: III | Q58: Fully effective | R58: Maintain the existing controls. | S58: Medical Surveillance | T58: Line Managers | U58: OHS Act 85 of 1993 (Environmental Regulations for workplaces), SANS 10114-1 (artifical Lighting), SANS 10400- Part O(National building regulations and Standards Act) Eskom SHEQ policy 32-727,OHS Baseline Risk Assessment 32-520
B59: R | C59: 8.3 | D59: Glare from computer screens | E59: 8.3.1 | F59: Damage of optical nerves | G59: Health | H59: When glare reflecting from the windows reach the surface of the computer screen | I59: Employees whose computers screens are facing towards the windows | J59: Grid Manager | K59: Daily, 8 hours | L59: The presence of glare may lead to discomfort and impairment of vision. | M59: 1. Encourage that the blinds are always closed. 2. Train employees on the dangers associated with glare reflecting on their computer screens. | N59: 4 | O59: B | P59: III | Q59: Fully effective | R59: Maintain the existing controls. | S59: Medical Surveillance | T59: Line Managers | U59: OHS Act 85 of 1993 (Environmental Regulations for workplaces), SANS 10114-1 (artifical Lighting), SANS 10400- Part O(National building regulations and Standards Act) Eskom SHEQ policy 32-727,OHS Baseline Risk Assessment 32-520
B60: R | C60: 8.4 | D60: Poor Illumination | E60: 8.4.1 | F60: Sight Detorioration | G60: Health | H60: 1. Illumination not meeting legal requirement 2.Unsuitable luminance and extreme contrasts may cause a visual condition where there is discomfort. 3. Flickering lights can induce visual discomfort, headaches and stroboscopic effects (optical illusions) particularly in sensitive individuals. | I60: All Office accupants | J60: Grid Manager | K60: Daily, 8 hours | L60: Sight Detorioration | M60: 1. Conduct periodic illumunation surveys to determine the quality and suitaility of office lights. 2. Conduct periodic visual inspections (SHE inspections) on light fittings to ensure early detection of defective lights. 3.Report all defective artificial light sources to Eskom Real Estate. 4. Ensure periodic medical surveillance is done | N60: 4 | O60: B | P60: III | Q60: Fully effective | R60: Maintain the existing controls. | S60: Illumination surveys OHS inspections Medical Surveillance | T60: Line Managers | U60: OHS Act 85 of 1993 (Environmental Regulations for workplaces), SANS 10114-1 (artifical Lighting), SANS 10400- Part O(National building regulations and Standards Act) Eskom SHEQ policy 32-727,OHS Baseline Risk Assessment 32-520
B61: R | E61: 8.4.2 | F61: Slips and trips | G61: Health | H61: 1. Illumination not meeting legal requirement 2.Unsuitable luminance may reduced ability to see identifiable objects | I61: All Office accupants | J61: Grid Manager | K61: Daily, 8 hours | L61: Injuries resulting from slips and trips | M61: 1. Conduct periodic illumunation surveys to determine the quality and suitaility of office lights. 2. Conduct periodic visual inspections (SHE inspections) on light fittings to ensure early detection of defective lights. 3.Report all defective artificial light sources to Eskom Real Estate. | N61: 2 | O61: C | P61: III | Q61: Fully effective | R61: Maintain the existing controls. | S61: Illumination surveys OHS inspections | T61: Line Managers | U61: OHS Act 85 of 1993 (Environmental Regulations for workplaces), SANS 10114-1 (artifical Lighting), SANS 10400- Part O(National building regulations and Standards Act) Eskom SHEQ policy 32-727,OHS Baseline Risk Assessment 32-520
B62: R | C62: 8.5 | D62: Incompatibility of the workstation layout with the use of the computers | E62: 8.5.1 | F62: musculoskeletal disorders | G62: Health | H62: 1.Workstation designs incompatible with the use of computers (positioning of tables and chairs), 2. Laptop screens are lower than the eye level of most individuals. 3. Chairs are not adjustable to accommodate differen body types | I62: Office occupants | J62: Grid Manager | K62: Daily, 8 hours | L62: Wrists, back, legs, shoulders, neck, muscles and joints strains | M62: 1. Periodic Ergonomics Surveys 2. Laptop stands are provided to staff that using laptops 3.Report defective chairs to your manager for replacement 4 Conduct ergonomics awareness training | N62: 4 | O62: B | P62: III | Q62: Fully effective | R62: Maintain the existing controls. | S62: Ergonomics Survey, BSO's Absence of musculoskeletal disorders incidents reported | T62: Line Managers | U62: OHS Act 85 of 1993 (General Safety Regulations), Eskom SHEQ policy 32-727,OHS Baseline Risk Assessment 32-520
B63: R | E63: 8.5.2 | F63: Trips and falls | G63: Safety | H63: 1. Office layout causing obstructions in the event of emergencies. | I63: Office occupants | J63: Grid Manager | K63: Daily, 8 hours | L63: Injuries sustained from trips and falls | M63: !. Periodic Evacution drills for employees to familiarise themselves with their work station layout | N63: 2 | O63: C | P63: III | Q63: Mostly effective | R63: Maintain the existing controls. | S63: Emergency evacution drill report | T63: Line Managers | U63: OHS Act 85 of 1993 (General Safety Regulations), Eskom SHEQ policy 32-727,OHS Baseline Risk Assessment 32-520
B64: R | C64: 8.6 | D64: Various Cleaning Agents (Detergents) | E64: 8.6.1 | F64: Poor indoor air quality | G64: Health | H64: When the cleaning substances are used on workstations and othe office surfaces | I64: Employees working in offices, and visitors | J64: Grid Manager | K64: Daily, 1 to 2 hrs | L64: Loss of vision ,Severe pain in the throat, Severe pain or burning in the nose, eyes, ears, lips, or tongue, Breathing difficulty, Throat swelling , Burns, Holes (necrosis) in the skin or tissues underneath | M64: 1.The ready availability of Materials Safety Data Sheets for all the cleaning substances used in our office space is in kitchen cupboard. 2.Conduct basic awareness training on exposure to hazardous chemicals substances. 3. Encourage employees that are reacting to the cleaning substances to take air brakes outside the building while cleaning takes place. | N64: 2 | O64: C | P64: III | Q64: Mostly effective | R64: Maintain current controls | S64: OHS inspections, BSO's | T64: Line Managers | U64: OHS Act 85 of 1993 ( Regulations for Hazardous Chemicals Substances), Eskom SHEQ policy 32-727,OHS Baseline Risk Assessment 32-520
B65: R | C65: 8.7 | D65: Mechanical Ventilation System | E65: 8.7.1 | F65: Poor indoor air quality | G65: Health | H65: Insufficient maintenance and service Incontrollable relative humidity (Limitation of ventilation system design) | I65: Employees working in offices, and visitors | J65: Grid Manager | K65: Daily, 8 hours | L65: Headache, Fatigue, Shortness of breath, Sinus congestion, Cough, Sneezing, Eye, nose and throat irritation, Dizziness, and Nausea. | M65: Report to Eskom Real Estates all faulty ventilation system equipment Awareness training on indoor air quality. Regular maintenance of the Ventilation system by ERE | N65: 2 | O65: C | P65: III | Q65: Fully effective | R65: Maintain the existing controls. | S65: Indoor air quality measurements. | T65: Line Managers | U65: OHS Act 85 of 1993 (Environmental Regulations for Workplaces) , Eskom SHEQ policy 32-727,OHS Baseline Risk Assessment 32-520, National Building Regulations and Standards Act- Part O
B66: R | C66: 8.8 | D66: Use of Hydro Boiler | E66: 8.8.1 | F66: Skin Burns | G66: Safety | H66: Buildup of steam in the Hydro Boil can cause water to spew. Lack of focus when using the hydro boil. | I66: office occupants and visitors | J66: Grid Manager | K66: Occasionally, +-6 hrs | L66: Skin burns | M66: 1. Warning sign on the hydro boil. 2.SHE rep inspections 3. Awareness training on the dangers assosiated with the use of the hydroboil. 4. Reporting of defects to ERE | N66: 3 | O66: B | P66: III | R66: Maintenance and continuous monitoring of the existing controls | S66: OHS inspections, Behavioural Safety Observations (BSO) | T66: Line Managers | U66: OHS Act 85 of 1993, Eskom SHEQ policy 32-727, xxxxxxx
A67: Local Business Travelling | B67: N | C67: 8.9 | D67: Use of motor Vehicles | E67: 8.9.1 | F67: Road rage incidents | G67: Safety | H67: Collisions, negligence, driving at inappropriate speed, tail gaiting, fatigue,weaving in and out of traffic, driivng on the soulder, cutting off traffic, hooting, yelling, flashing, headlights, using inappropriate gestures, pressing deadlines | I67: Employees travelling on Eskom business | J67: Grid Manager | K67: Daily, 8 hours | L67: Injuries, multiple injuries and fatalities | M67: 1. Defensive driver training available for high risk drivers- if identified. 2.Awareness on road rage. 3. Conduct Vehicle inspections. 4. Medical fitness tests. 5. Driver commitment forms. 6. Use Webex/Video conferencing | N67: 5 | O67: C | P67: II | R67: Maintenance and continuous monitoring of the existing controls | S67: Absence of vehicle incidents, SHE performance reports | T67: Line Managers | U67: OHS Act 85 of 1993, Eskom SHEQ policy 32-727,OHS Baseline Risk Assessment 32-520 , Eskom Vehicle Safety and Driver Management procedure 240-62946386, Eskom Vehicle Safety Specifications procedure 32-345, National Road Traffic Act 93 of 1996, Substance Abuse Procedure 32-37
B68: N | E68: 8.9.2 | F68: Motor vehicle accidents. | G68: Safety | H68: Negligence, driving at inappropriate speed, fatigue, pressing deadlines, leaving work late, Mechanical failures | I68: Employees travelling on Eskom business | J68: Grid Manager | K68: Daily, 8 hours | L68: Injuries, multiple injuries, fatalities and multiple fatalities | M68: 1. Defensive driver training avialable for high risk drivers- if identified, 2. Awareness of a 15 minutes rest after every two hours, 3. Drivers advised to check the medication they use, 4.Awareness training on fatigue management. 5. Campaigns on Vehicle and Driver safety. 6.Use Webex/Video conferencing | N68: 5 | O68: C | P68: II | R68: 1. Maintenance and continuous monitoring of the existing controls 2. Vehicle inspections. 3. Medical fitness tests. 4. Driver commitment forms. | S68: Absence of vehicle incidents, SHE performance reports | T68: Line Managers | U68: OHS Act 85 of 1993, Eskom SHEQ policy 32-727,OHS Baseline Risk Assessment 32-520 , Eskom Vehicle Safety and Driver Management procedure 240-62946386, Eskom Vehicle Safety Specifications procedure 32-345, National Road Traffic Act 93 of 1996, Substance Abuse Procedure 32-37
