Workbook
Name a: #REF!
Name Area_Print: #REF!
Name b: #REF!
Name copy: #REF!
Name d: #REF!
Name Data: #REF!
Name Data_Daywork: #REF!
Name Data_Opt_Bill5: #REF!
Name e: #REF!
Name Sort_Data: #REF!

Sheet Read Me
A1: Enquiry No. | C1: ='Tender Cover Sheet'!C12 -> 0
A2: Package Name:
A3: Tenderer's Name: | C3: ='Tender Cover Sheet'!C16 -> 0
A4: Category of Offer ( Main Offer Only): | C4: Main Offer Only
A6: READ ME
A8: 1 | B8: Read these notes BEFORE you commence input to this workbook. Changes may not be made to this workbook. No columns may be removed, edited, added or changed on this workbook.
A9: 2 | B9: Only The Main Offer shall be accepted. No alternative offers are accepted. There must be a separate Excel and PDF file for the main offer.
A10: 3 | B10: Main offer is = The pricing schedule may not be changed or altered. Tenderer(s) to populate all required information on the Tender cover sheet and also populate as stipulated in (5.1.1 Pricing, 5.1.2 Summary (VATPortion).
A11: 4 | B11: NOTE: ALL CALCULATIONS ARE THE RESPONSIBILITY OF THE TENDERER, AND MUST BE CHECKED THOROUGHLY. ANY DISCREPANCY FOUND IN THE CALCULATIONS IN THIS WORKBOOK MUST BE BROUGHT TO THE ATTENTION OF ESKOM, THROUGH THE DESIGNATED BUYER!
A14: 5 | B14: This workbook contains the following sheets:
B15: Read Me | C15: This sheet provides an overview to the Tenderer of the content and role of the sheets making up the Price Schedule. It will not form part of the tender or contract.This contract is an "as and when" required contract. The units herein are estimates only and are non-committal.
B16: Tender Cover Sheet | C16: This is the cover sheet for Worksheets 5.1.0 to 5.1.4 and provides the total tendered price which is mandatory be completed. It is also the source of the package name, tenderer name etc. for the other worksheets. It will form part of the tender or contract. Worksheets Tender Cover Sheet, 5.1.1 Pricing and 5.1.2 Summary are compulsory tender returnables as they are loaded onto the Eskom Tender Bulletin and they may not be changed or altered.
B17: 5.1.0 Preamble | C17: This sheet provides general guidelines for this section.
B18: 5.1.1 Pricing | C18: This is the main data entry sheet for the Tenderer to complete. The Tenderer takes responsibility for ensuring correct inputs. Tenderers are to populate their pricing information as stipulated in the pricing schedule. The pricing schedule may not be changed or altered. Tenderer(s) to populate all required information on the Tender cover sheet as stipulated in (5.1.1 Pricing ).
A21: 6 | B21: Conventions used in this workbook
B22: The following conventions have been used in this workbook to facilitate its accurate use:
C23: Only Light Green highlighted cells are to be inputted by the Tenderer.
C24: There will be no inputting in Grey highlighted cells.

Sheet Tender Cover Sheet
B10: PRICING INFORMATION
B12: ENQUIRY No.
B14: NAME OF PACKAGE:
B16: TENDERER’S NAME:
B18: CATEGORY OF OFFER (MAIN OFFER ONLY): | C18: ='Read Me'!C4 -> Main Offer Only
B20: TENDERED PRICE: IN ZAR | C20: ='5.1.2 Summary'!#REF! -> #REF!
B21: (excluding VAT)
B23: RAND VALUE IN WORDS | C23: [Price in Words]
B28: TENDERED PRICE: IN ZAR | C28: ='5.1.2 Summary'!#REF! -> #REF!
B29: (including VAT)
B31: DATE :
B35: FULL NAMES OF SIGNATORY:
B39: DESIGNATION OF SIGNATORY:
B43: SIGNATURE :

Sheet 5.1.0 Preamble
A1: Enquiry No.
A2: Package Name:
A3: Tenderer's Name: | C3: ='Tender Cover Sheet'!C16 -> 0
A4: Category of Offer: | C4: ='Read Me'!C4 -> Main Offer Only
A6: 5.1.0 PREAMBLE TO PRICE SCHEDULE
A8: 1 | B8: The Price Schedule provides the basis of valuation and information for general contract progress monitoring. This contract is an "as and when" required contract.The units herein are estimates only and are non-committal. No alternative offers are accepted.
A9: 2 | B9: This is the main data entry sheet for the Tenderer to complete. The Tenderer takes responsibility for ensuring correct inputs. Tenderers are to populate their pricing information as stipulated in the pricing schedule. The pricing schedule may not be changed or altered. Tenderer(s) to populate all required information on the Tender cover sheet and also populate as stipulated in (5.1.1 Pricing ).
A10: 3 | B10: The Prices are the amounts stated in the price column of the Price Schedule. Where an estimated quantity is stated for an item in the Price Schedule, the Price is calculated by multiplying the estimated quantity by the rate.
A11: 4 | B11: If the Supplier has decided not to identify a particular item in the price schedule at the time of tender the cost to the Supplier of doing the work is assumed to be included in, or spread across, the other Prices and rates in the price schedule in order to fulfil the obligation to Provide the Goods and Services for the tendered total of the Prices.
A12: 5 | B12: The total of the prices must include for all direct and indirect costs, overheads, profit on costs, risks, liabilities, obligations, etc. relative to the contract.
A13: 6 | B13: The Tenderer must allow for all necessary costs to complete the pricing shedule as required in terms of the specifications, technical scope and conditions of contract whether expressly stated or not in the Price Schedules. The Tenderer must provide any breakdown of prices as may be required for specific items not detailed in the Price Schedule prior to or after contract award.
A14: 7 | B14: The Prices quoted by the supplier should be exclusive and inclusive of VAT.
A15: 8 | B15: Please note, that the Tenderer is to input the VAT amount as no formulae has been provided for the VAT portion.
A16: 9 | B16: All worksheets in this Pricing Schedule are to be submitted. Tenderers are not allowed to ommit a worksheet.
A17: 10 | B17: Only Light Green highlighted cells are to be inputted by the Tenderer.
A18: 11 | B18: There will be no inputting in Grey highlighted cells.

Sheet 5.1.1 Price Table 1
A1: Enquiry No.
A2: Package Name:
A3: Tenderer's Name: | B3: ='Tender Cover Sheet'!C16 -> 0
A4: Category of Offer: | B4: ='Read Me'!C4 -> Main Offer Only
A6: 5.1.1. Pricing
A8: NOTES:
A9: 1 | B9: NB - Column F & Column N in 5.1.1 Pricing is a drop down cell for tenderer to select the Currency and CPA formula chosen that they would have populated in 5.1.2 CPA Formulae and 5.1.4 Exchange Rates. It is the Tenderer's responsibility to ensure that Column H correctly reflects the intention of the Tenderer.
A10: 2 | B10: CPA Formulae Codes Column I 5.1.1 Pricing is to be populated by the tenderer by selecting the respective drop down codes CPA formula as developed by Tenderer in 5.1.2 CPA formulae worksheet (e.g. Formula A - J ) then the tenderer must populate their respective CPA formula in 5.1.2 CPA Formulae Worksheet. Codes and descriptions must be selected by the tenderer and inserted into each row of activity.
A13: Line No. | B13: Activity description | C13: Unit of measure | D13: Estimated Quantities | E13: Tendered Rates (ZAR) | F13: Total Tendered Value (ZAR) | G13: Currency Code (See Sheet 5.1.4 Rate of Exchange) | H13: Tendered Price Excld. Vat (ZAR) | I13: Vat | J13: Tendered Price Including Vat (ZAR)
A17: Table 1 | B17: Test Equipment sets:
A18: 1 | B18: Northern Cape -PR 1075212479
B19: TESTER:RADIO TEST SET;220 V;50 HZ;100% (Material No: 0719057) | C19: EA | D19: 1 | F19: =E19*D19 -> 0 | G19: ZAR | H19: =F19 -> 0 | I19: =H19*15% -> 0 | J19: =H19+I19 -> 0
A20: 2 | B20: North West - 1075367418
B21: TESTER:RADIO TEST SET;220 V;50 HZ;100 ( Material No: 0719057) | C21: EA | D21: 1 | F21: =E21*D21 -> 0 | G21: ZAR | H21: =F21 -> 0 | I21: =H21*15% -> 0 | J21: =H21+I21 -> 0
A22: 3 | B22: Free State - 1075367418
B23: TESTER:RADIO TEST SET;220 V;50 HZ;100 ( Material No: 0719057) | C23: EA | D23: 1 | F23: =E23*D23 -> 0 | G23: ZAR | H23: =F23 -> 0 | I23: =H23*15% -> 0 | J23: =H23+I23 -> 0
A24: 4 | B24: Northern Cape - 1075597107
B25: TESTER:RADIO TEST SET;220 V;50 HZ;100 ( Material No: 0719057) | C25: EA | D25: 4 | F25: =E25*D25 -> 0 | G25: ZAR | H25: =F25 -> 0 | I25: =H25*15% -> 0 | J25: =H25+I25 -> 0
B26: TOTAL | F26: =SUM(F18:F25) -> 0 | H26: =SUM(H19:H25) -> 0 | I26: =SUM(I19:I25) -> 0 | J26: =SUM(J19:J25) -> 0
B29: Total Tendered Value | F29: =F26 -> 0 | H29: =H26 -> 0 | I29: =I26 -> 0 | J29: =J26 -> 0
H30: Must agree with Price (Excl. VAT) on Tender Cover Page | J30: Must agree with Price (Incl. VAT) on Tender Cover Page

Sheet 5.1.2 Summary
A1: Enquiry No.
A2: Package Name:
A3: Tenderer's Name:
A4: Category of Offer:
A6: 5.1.3 Summary | E6: Manual input required
A9: Table No. | B9: Section Description | C9: Total Tendered Value
A10: 1 | B10: ='5.1.1 Price Table 1'!B17 -> Test Equipment sets: | C10: ='5.1.1 Price Table 1'!F26 -> 0
B12: TOTAL PRICE EXCLUDING VAT | C12: =SUM(C10:C11) -> 0 | D12: Must agree with Price (Excl. VAT) on Tender Cover Page
B13: SOUTH AFRICAN VAT - ON IMPORTED GOODS | C13: =C12*15% -> 0
B14: TOTAL PRICES INCLUDING VAT | C14: =C12+C13 -> 0 | D14: Must agree with Price (Incl. VAT) on Tender Cover Page

Sheet 5.1.4 PS5
A1: Enquiry No. | C1: ='Tender Cover Sheet'!C12 -> 0
A2: Package Name: | C2: ='Tender Cover Sheet'!C14 -> 0
A3: Tenderer's Name: | C3: ='Tender Cover Sheet'!C16 -> 0
A4: Category of Offer: | C4: ='Tender Cover Sheet'!C18 -> Main Offer Only
A6: 5.1.4. PS 5
A8: NOTES:
A9: 1 | B9: The exchange rates inputted below must be the same as per Worksheet 5.1.6 Exchange Rates.
K11: 1 | L11: 2 | M11: 3 | N11: 4 | O11: 5 | P11: 6 | Q11: 7 | R11: 8
A12: No. | B12: Description | K12: =#REF! -> #REF! | L12: =#REF! -> #REF! | M12: =#REF! -> #REF! | N12: =#REF! -> #REF! | O12: =#REF! -> #REF! | P12: =#REF! -> #REF! | Q12: =#REF! -> #REF! | R12: =#REF! -> #REF!
B13: *Eskom may effect this insurance which includes war
B14: risk insurance
B15: **Please specify
B16: SUPPLIED FROM OUTSIDE R.S.A.: | J16: (In ZAR)
A17: 1 | B17: 1: F.O.B. PRICE | J17: (In ZAR) | K17: 1000
A18: 2 | B18: 2: COST OF SEA FREIGHT | J18: (In ZAR)
A19: 3 | B19: 3: COST OF AIR FREIGHT | J19: (In ZAR)
A20: 4 | B20: 4: COST OF MARINE INSURANCES * | J20: (In ZAR)
A21: 5 | B21: 5: TOTAL PRICE DELIVERED PORT R.S.A. ... | H21: (1+2+3+4) | J21: (In ZAR) | K21: =SUM(K17:K20) -> 1000 | L21: =SUM(L17:L20) -> 0 | M21: =SUM(M17:M20) -> 0 | N21: =SUM(N17:N20) -> 0 | O21: =SUM(O17:O20) -> 0 | P21: =SUM(P17:P20) -> 0 | Q21: =SUM(Q17:Q20) -> 0 | R21: =SUM(R17:R20) -> 0
A22: 6 | B22: 6: WHARFAGE | J22: (In ZAR)
A23: 7 | B23: 7: LANDING CHARGES | J23: (In ZAR)
A24: 8 | B24: 8: CUSTOMS DUTIES | J24: (In ZAR)
A25: 9 | B25: 9: IMPORT SURCHARGE | J25: (In ZAR)
A26: 10 | B26: 10: OTHER** | J26: (In ZAR)
A27: 11 | B27: 11: COST OF IMPORTATION ... | H27: (6+7+8+9+10) | J27: (In ZAR) | K27: =SUM(K22:K26) -> 0 | L27: =SUM(L22:L26) -> 0 | M27: =SUM(M22:M26) -> 0 | N27: =SUM(N22:N26) -> 0 | O27: =SUM(O22:O26) -> 0 | P27: =SUM(P22:P26) -> 0 | Q27: =SUM(Q22:Q26) -> 0 | R27: =SUM(R22:R26) -> 0
A28: 12 | B28: 12: COST OF RAIL TRANSPORT IN R.S.A. | J28: (In ZAR)
A29: 13 | B29: 13: COST OF ROAD TRANSPORT IN R.S.A. | J29: (In ZAR)
A30: 14 | B30: 14: TOTAL COST OF TRANSPORT S.A. PORT TO WORK/SITE ... | H30: (12+13) | J30: (In ZAR) | K30: =SUM(K28:K29) -> 0 | L30: =SUM(L28:L29) -> 0 | M30: =SUM(M28:M29) -> 0 | N30: =SUM(N28:N29) -> 0 | O30: =SUM(O28:O29) -> 0 | P30: =SUM(P28:P29) -> 0 | Q30: =SUM(Q28:Q29) -> 0 | R30: =SUM(R28:R29) -> 0
A31: 15 | B31: 15: TOTAL PRICE (F.O.B.) DELIVERED TO WORKS/SITE... | H31: (5+11+14) | J31: (In ZAR) | K31: =K21+K27+K30 -> 1000 | L31: =L21+L27+L30 -> 0 | M31: =M21+M27+M30 -> 0 | N31: =N21+N27+N30 -> 0 | O31: =O21+O27+O30 -> 0 | P31: =P21+P27+P30 -> 0 | Q31: =Q21+Q27+Q30 -> 0 | R31: =R21+R27+R30 -> 0
B33: SUPPLIED FROM INSIDE R.S.A.
A34: 16 | B34: 16: F.O.R. PRICE-GOODS MANUFACTURED INSIDE R.S.A.
A35: 17 | B35: 17: F.O.R. PRICE-GOODS SUPPLIED FROM IMPORTED ITEMS
A36: 18 | B36: 18: TOTAL F.O.R. PRICE ... | H36: (16+17) | K36: =SUM(K34:K35) -> 0 | L36: =SUM(L34:L35) -> 0 | M36: =SUM(M34:M35) -> 0 | N36: =SUM(N34:N35) -> 0 | O36: =SUM(O34:O35) -> 0 | P36: =SUM(P34:P35) -> 0 | Q36: =SUM(Q34:Q35) -> 0 | R36: =SUM(R34:R35) -> 0
A37: 19 | B37: 19: COST OF RAIL TRANSPORT
A38: 20 | B38: 20: COST OF ROAD TRANSPORT
A39: 21 | B39: 21: COST OF TRANSPORT WORKS TO SITE ... | H39: (19+20) | K39: =SUM(K37:K38) -> 0 | L39: =SUM(L37:L38) -> 0 | M39: =SUM(M37:M38) -> 0 | N39: =SUM(N37:N38) -> 0 | O39: =SUM(O37:O38) -> 0 | P39: =SUM(P37:P38) -> 0 | Q39: =SUM(Q37:Q38) -> 0 | R39: =SUM(R37:R38) -> 0
A40: 22 | B40: 22: PRICE (F.O.R.) DELIVERED TO SITE ... | H40: (18+21) | K40: =K36+K39 -> 0 | L40: =L36+L39 -> 0 | M40: =M36+M39 -> 0 | N40: =N36+N39 -> 0 | O40: =O36+O39 -> 0 | P40: =P36+P39 -> 0 | Q40: =Q36+Q39 -> 0 | R40: =R36+R39 -> 0
B41: SITE WORK (ERECTION / INSTALLATION INCL. COMMISSIONING)
A42: 23 | B42: 23: LOCAL LABOUR
A43: 24 | B43: 24: EXPATRIATE LABOUR
A44: 25 | B44: 25: TOTAL PRICE FOR SITE WORK ... | H44: (23+24) | K44: =SUM(K42:K43) -> 0 | L44: =SUM(L42:L43) -> 0 | M44: =SUM(M42:M43) -> 0 | N44: =SUM(N42:N43) -> 0 | O44: =SUM(O42:O43) -> 0 | P44: =SUM(P42:P43) -> 0 | Q44: =SUM(Q42:Q43) -> 0 | R44: =SUM(R42:R43) -> 0
...
