Workbook
Name __TOTAL_DUE: #REF!
Name __TOTAL_DUE: #REF!
Name __TOTAL_DUE: #REF!
Name __TOTAL_DUE: #REF!
Name _2: #REF!
Name _2: #REF!
Name _2: #REF!
Name _2: #REF!
Name _CONTRACT_DESCR: [1]CONT_COD!$C$3
Name _CONTRAS: #REF!
Name _DATE_PAID: #REF!
Name _DIESEL: #REF!
Name _SEC1200: #REF!
Name _SEC1200: #REF!
Name _SEC1200: #REF!
Name _SEC1200: #REF!
Name _UNDERPAID: #REF!
Name _UNDERPAID: #REF!
Name _UNDERPAID: #REF!
Name _UNDERPAID: #REF!
Name _VAT: #REF!
Name aaa: #REF!
Name aaaad: #REF!
Name Act_close_man: '[2]Monthly trend Sheet (closed)'!$E$6:$P$93
Name Act_man: '[2]Monthly trend sheet (open)'!$E$6:$P$114
Name Actual_cls_man: '[2]Monthly trend Sheet (closed)'!$E$6:$P$93
Name Actualman: '[2]Monthly trend sheet (open)'!$E$6:$P$114
Name adsfZ: #REF!
Name ADSZcx: #REF!
Name aDSZFCXV: #REF!
Name Aeshg: #REF!
Name AQSZgfcx: #REF!
Name ASDfzxhg: #REF!
Name asJ: #REF!
Name aszFDXB: #REF!
Name At_Risk_Behaviour: [3]Definitions!$I$25:$I$63
Name At_Risk_Conditions: [3]Definitions!$J$25:$J$64
Name Awards_man: [2]awards!$F$6:$Q$59
Name Awardsman: [2]awards!$F$6:$Q$59
Name awfaw: #REF!
Name awfaw: #REF!
Name awfaw: #REF!
Name awfaw: #REF!
Name backpay: #REF!
Name backpay: #REF!
Name backpay: #REF!
Name backpay: #REF!
Name Body_Part: [4]Definitions!$A$40:$A$59
Name Boiler: '[5]Boiler House (Cost)'!$I$7:$BJ$8
Name Bud_Close_Cons: #REF!
Name Bud_Close_Cons: #REF!
Name Bud_Close_Cons: #REF!
Name Bud_Close_Cons: #REF!
Name Bud_Cons: #REF!
Name Bud_Cons: #REF!
Name Bud_Cons: #REF!
Name Bud_Cons: #REF!
Name Bud_sum_man: '[2]budget summary'!$E$6:$P$38
Name Budgetman: #REF!
Name Budgetman: #REF!

Sheet Read Me FIRST
A1: Project: | C1: KUSILE POWER STATION PROJECT
A2: Enquiry No. | C2: ='5.1Tender Cover Sheet'!C19 -> 0
A3: Package Name: | C3: PROFESSIONAL ENGINEERING SERVICES AND CONSTRUCTION SUPERVISION TECHNICAL SPECIFICATION FOR KUSILE COAL COMBUSTION TERRACE PHASE 2
A4: Tenderer's Name: | C4: ='5.1Tender Cover Sheet'!C24 -> 0
A7: READ ME
B9: Read these notes BEFORE you commence input or make any changes to this workbook.
B11: The Tenderer must provide a clear indication on the Cover Sheet as to whether the offer is "main" or "alternative" (and if there are several alternatives, to number them). There must be a separate Excel file for each offer if applicable
B13: NOTE: ALL CALCULATIONS ARE THE RESPONSIBILITY OF THE TENDERER, AND MUST BE CHECKED THOROUGHLY. ANY DISCREPANCY FOUND IN THE CALCULATIONS IN THIS WORKBOOK MUST BE BROUGHT TO THE ATTENTION OF ESKOM, THROUGH THE DESIGNATED BUYER!
A16: 1 | B16: This workbook contains the following sheets:
B17: Read Me | C17: This sheet provides an overview to the Tenderer of the content and role of the sheets making up the Price Schedules. It will not form part of the tender or contract.
B18: 5.1 Tender Cover Sheet | C18: This is the cover sheet for Section 5.1 and provides the total tender price. It is also the source of the package name, tenderer name etc for the other sheets.
B19: 5.1.1 Preamble | C19: This sheet provides general guidelines for this section.
B20: 5.1.2 Summary | C20: This is where the total amounts of all the trades are shown
B21: 5.1.3 to 5.1.6 BOQ | C21: This is the main data entry sheet for the Tenderer to complete.
B22: 5.1.7 CPA Formulae | C22: This is where the tenderer selects the CPA Formulae
B23: 5.1.8 to 5.1.10 PLA Benefits | C23: This is where the tenderer prices/estimates for the PLA benefits
A28: 2 | B28: Conventions used in this workbook
B29: The following conventions have been used in this workbook to facilitate its accurate use:
B30: Red | C30: This GREEN shading is used for cells where DATA ENTRY is required from the Tenderer. The Tenderer must complete the information in these GREEN shaded cells.
C31: PLEASE REFRAIN from tampering with ANY other cells contained in this workbook as it may affect Eskom's standard formulae and lead to data integrity issues.

Sheet 5.1Tender Cover Sheet
B2: KUSILE POWER STATION PROJECT
B15: PRICING INFORMATION
B17: TENDER INFORMATION
B19: ENQUIRY No.
B21: NAME OF PACKAGE: | C21: WATER TREATMENT PLANT REMEDIAL WORKS
B24: TENDERER’S NAME:
B27: Annexure IT 5.1 Price Schedules
B30: THE PRICE: IN ZAR | C30: ='5.1.2 FINAL SUMMARY'!C21 -> 0
B31: (excluding VAT)
B32: RAND VALUE IN WORDS
B37: DATE :
B41: FULL NAMES OF SIGNATORY:
B45: DESIGNATION OF SIGNATORY:
B49: SIGNATURE :

Sheet 5.1.1 Preamble
A1: Project: | C1: KUSILE POWER STATION PROJECT
A2: Enquiry No. | C2: ='5.1Tender Cover Sheet'!C19 -> 0
A3: Package Name: | C3: ='5.1Tender Cover Sheet'!C21 -> WATER TREATMENT PLANT REMEDIAL WORKS
A4: Tenderer's Name: | C4: ='5.1Tender Cover Sheet'!C24 -> 0
A6: 5.1.1.1 PREAMBLE TO PRICE SCHEDULE
A8: 1 | B8: The Provisional Price Schedule provides the basis of valuation of all the work activities and inputs and information for general contract progress monitoring.
A9: 2 | B9: The amount due at each application for payment date is based on activities and/or milestones completed as indicated on the Price Schedule/Bills of Quantities. The Tenderer must provide all necessary information which is required to determine amounts due in respect of each application for payment relative to the activities.
A10: 3 | B10: The total of the prices must include for all direct and indirect costs, overheads, profits, on costs, risks, liabilities, obligations, etc. relative to the contract.
A11: 4 | B11: The Tenderer will have to provide all necessary information required during tender evaluation (this includes but not limited to item and rate breakdown).

Sheet 5.1.2 FINAL SUMMARY
A1: ='5.1Tender Cover Sheet'!B21 -> NAME OF PACKAGE: | B1: ='5.1Tender Cover Sheet'!C21 -> WATER TREATMENT PLANT REMEDIAL WORKS
A2: ='5.1Tender Cover Sheet'!B19 -> ENQUIRY No. | B2: ='5.1Tender Cover Sheet'!C19 -> 0
A3: ='5.1Tender Cover Sheet'!B24 -> TENDERER’S NAME: | B3: ='5.1Tender Cover Sheet'!C24 -> 0
A5: ITEM NO | B5: DESCRIPTION | C5: AMOUNT
B7: FINAL SUMMARY
B9: KUSILE POWER STATION
B11: WTP LAB REMEDIAL WORKS
A13: 1 | B13: Section 1 - Preliminaries & General | C13: ='5.1.3 Sec 1 - PnG'!F77 -> 0
A15: 2 | B15: Section 2 - Building Works | C15: ='5.1.4 Sec 2 - BW-Misc'!F40 -> 0
A17: 3 | B17: Section 3 - Piling | C17: ='5.1.5 Sec 3 - Piling'!F61 -> 0
A19: 4 | B19: Section 4 - Furniture Removal | C19: ='5.1.6 Sec 4 - Furniture removal'!F83 -> 0
B21: Total carried forward to form of tender (Excluding VAT) | C21: =SUM(C13:C19) -> 0

Sheet 5.1.3 Sec 1 - PnG
A1: {='5.1Tender Cover Sheet'!B21:B21} -> NAME OF PACKAGE: | B1: {='5.1Tender Cover Sheet'!C21:C21} -> WATER TREATMENT PLANT REMEDIAL WORKS
A2: ='5.1Tender Cover Sheet'!B24 -> TENDERER’S NAME: | B2: ='5.1Tender Cover Sheet'!C24 -> 0
A5: ITEM NO | B5: DESCRIPTION | C5: UNIT | D5: QUANTITY | E5: RATE | F5: AMOUNT
B7: SECTION 1 - PRELIMINARIES
B9: PRELIMINARY AND GENERAL (Applicable to the whole of the Works)
B11: Value Added Tax All Prices shall be net exclusive of Value Added Tax Reference to contract The items in the bill of quantities shall be read in conjunction with all drawings and specifications. Note: All requirements not specified are deemed to be included in the general pricing.
B13: FIXED CHARGE ITEMS | F13: =SUM(F15:F37) -> 0
A15: 1 | B15: Contractual requirements. | C15: item | D15: 1 | F15: =E15*D15 -> 0
B17: Establishment of Facilities on the Site
B19: Facilities for Contractor
A21: 2 | B21: Offices and storage sheds. | C21: item | D21: 1 | F21: =E21*D21 -> 0
A23: 3 | B23: Living accommodation. | C23: item | D23: 1 | F23: =E23*D23 -> 0
A25: 4 | B25: Ablution and latrine facilities. | C25: item | D25: 1 | F25: =E25*D25 -> 0
A27: 5 | B27: Tools and equipment. | C27: item | D27: 1 | F27: =E27*D27 -> 0
A29: 6 | B29: Water supplies, electric power, communications, dealing with water, and access. | C29: item | D29: 1 | F29: =E29*D29 -> 0
A31: 7 | B31: Plant. | C31: item | D31: 1 | F31: =E31*D31 -> 0
A33: 8 | B33: Other fixed charge obligations. | C33: item | D33: 1 | F33: =E33*D33 -> 0
A35: 9 | B35: Laydown area with storage facility | C35: item | D35: 1 | F35: =E35*D35 -> 0
A37: 10 | B37: Removal of site establishment. | C37: item | D37: 1 | F37: =E37*D37 -> 0
B39: TIME RELATED ITEMS | F39: =SUM(F42:F76) -> 0
B41: Estimated Duration (Months) for the below estimated section | C41: Months | D41: 9
B43: Operation and Maintenance of Facilities on Site, for Duration of Construction, (unless otherwise stated)
B45: Facilities for Engineer
A47: 12 | B47: Furnished offices. (In No.1) | C47: months | D47: 9 | F47: =E47*D47 -> 0
A49: 13 | B49: Telephone. | C49: months | D49: 9 | F49: =E49*D49 -> 0
A51: 14 | B51: Survey assistants and materials. | C51: months | D51: 9 | F51: =E51*D51 -> 0
B53: Facilities for Contractor
A55: 15 | B55: Offices and storage sheds. | C55: months | D55: 9 | F55: =E55*D55 -> 0
A57: 16 | B57: Living accommodation. | C57: months | D57: 9 | F57: =E57*D57 -> 0
A59: 17 | B59: Ablution and latrine facilities. | C59: months | D59: 9 | F59: =E59*D59 -> 0
A61: 18 | B61: Tools and equipment. | C61: months | D61: 9 | F61: =E61*D61 -> 0
A63: 19 | B63: Water supplies, electric power, communications, dealing with water, and access. | C63: months | D63: 9 | F63: =E63*D63 -> 0
A65: 20 | B65: Plant. | C65: months | D65: 9 | F65: =E65*D65 -> 0
A67: 21 | B67: Supervision for duration of construction. | C67: months | D67: 9 | F67: =E67*D67 -> 0
A69: 22 | B69: Company and head office overhead costs for duration of construction. | C69: item | D69: 1 | F69: =E69*D69 -> 0
A71: 23 | B71: Other time related obligations. | C71: item | D71: 1 | F71: =E71*D71 -> 0
A73: 24 | B73: Resident Engineer for the duration of construction | C73: months | D73: 9 | F73: =E73*D73 -> 0
A75: 25 | B75: Allowance for PLA/SSA Benefits | C75: Sum | D75: 1 | E75: =' 5.1.8Safety & Production Bonus'!G20+'5.1.9 PA Attendance Bonus'!G22+'5.1.10 Travel Allowance'!H23 -> 0 | F75: =E75*D75 -> 0
B77: Total carried to final summary | F77: =F13+F39 -> 0

Sheet 5.1.4 Sec 2 - BW-Misc
A1: {='5.1Tender Cover Sheet'!B21:B21} -> NAME OF PACKAGE: | B1: {='5.1Tender Cover Sheet'!C21:C21} -> WATER TREATMENT PLANT REMEDIAL WORKS
A2: ='5.1Tender Cover Sheet'!B24 -> TENDERER’S NAME: | B2: ='5.1Tender Cover Sheet'!C24 -> 0
A4: MISCELLANEOUS WORKS
A6: ITEM NO. | B6: DESCRIPTION | C6: UNIT | D6: QTY | E6: RATE | F6: AMOUNT
A7: 1 | B7: Clear WTP Laboratory and provide access to Micropiling Contractor | C7: item | D7: 1 | F7: =D7*E7 -> 0
A9: 2 | B9: Demolish walls & remove rubble from WTP
B11: i) Complete demolition of wall | C11: m2 | D11: 560 | F11: =D11*E11 -> 0
B13: ii) Partial demolition of wall | C13: m2 | D13: 100 | F13: =D13*E13 -> 0
A15: 3 | B15: Geophysical scanning of rebar and services at micropile positions | C15: item | D15: 1 | F15: =D15*E15 -> 0
A17: 4 | B17: Survey micropile positions following setting out and for as-built drawings | C17: item | D17: 1 | F17: =D17*E17 -> 0
A19: 5 | B19: Prepare top of foundation slab concrete and apply level screed where required | C19: item | D19: 1 | F19: =D19*E19 -> 0
A21: 6 | B21: Rebuild demolished walls & fittings removed previously | C21: m | D21: 190 | F21: =D21*E21 -> 0
A23: 7 | B23: Repair, plaster and/ plaster as required | C23: item | D23: 1 | F23: =D23*E23 -> 0
A25: 8 | B25: Repaint walls, and replace flooring tiles etc | C25: item | D25: 1 | F25: =D25*E25 -> 0
A27: 9 | B27: Floor tiling | C27: item | D27: 1 | F27: =D27*E27 -> 0
A29: 10 | B29: Removal & re-install ceiling boards | C29: item | D29: 1 | F29: =D29*E29 -> 0
A31: 11 | B31: Removal & replacement of door frames | C31: item | D31: 1 | F31: =D31*E31 -> 0
A33: 12 | B33: Rewiring (provisional sum) | C33: item | D33: 1 | F33: =D33*E33 -> 0
A35: 13 | B35: Repair and reinstatement of concrete surface beds including floor finishes (provisional) | C35: item | D35: 1 | F35: =D35*E35 -> 0
A37: 14 | B37: Epoxy works | C37: m2 | D37: 200 | F37: =D37*E37 -> 0
B40: TOTAL-MISCELLANEOUS WORKS | F40: =SUM(F7:F38) -> 0

Sheet 5.1.5 Sec 3 - Piling
A1: {='5.1Tender Cover Sheet'!B21:B21} -> NAME OF PACKAGE: | B1: {='5.1Tender Cover Sheet'!C21:C21} -> WATER TREATMENT PLANT REMEDIAL WORKS
A2: ='5.1Tender Cover Sheet'!B24 -> TENDERER’S NAME: | B2: ='5.1Tender Cover Sheet'!C24 -> 0
A4: MICRO-PILING WORKS
A7: ITEM NO. | B7: DESCRIPTION | C7: UNIT | D7: QTY | E7: RATE | F7: AMOUNT
A9: 1 | B9: INSTALLATION OF MICROPILES (Inside building)
A11: 1.1 | B11: Establishment equipment in building for micropile installation | C11: Item | D11: 1 | F11: =D11*E11 -> 0
A13: 1.2 | B13: Core 125mm diameter holes through 350mm concrete raft | C13: no | D13: 327 | F13: =D13*E13 -> 0
A15: 1.3 | B15: Moving to and setting up the equipment at each micropile section | C15: no | D15: 327 | F15: =D15*E15 -> 0
A17: 1.4 | B17: E.O for setting up at each micropile position less than 400mm to an existing wall and/column | C17: no | D17: 198 | F17: =D17*E17 -> 0
A19: 1.5 | B19: Supply R25N self-drilling, continuous thread, hollow-core, steel bars, including couplers | C19: m | D19: 6375 | F19: =D19*E19 -> 0
A21: 1.6 | B21: Supply greater than 100mm disposable drill bits for R25N self-drilling, continous thread, hollow-bar | C21: no | D21: 327 | F21: =D21*E21 -> 0
A23: 1.7 | B23: Supply 110mm x 20mm hot dip galvanised bearing plate and hexagonal nuts to fit R25N self-drilling, continuous thread, hollow bar | C23: no | D23: 6 | F23: =D23*E23 -> 0
A25: 1.8 | B25: Drill in R25N micropiles, with grout flush to a depth of approximately 15m, including supply, mixing, pumping & injecting of grout flushing grout | C25: m | D25: 6375 | F25: =D25*E25 -> 0
A27: 1.9 | B27: E.O for pressure grouting and injecting annulus grout, including supply, mixing, pumping and injecting annulus grout | C27: m | D27: 6375 | F27: =D27*E27 -> 0
A29: 1.1 | B29: E.O for drilling 2.5m socket into bedrock/shale | C29: m | D29: 1063 | F29: =D29*E29 -> 0
A31: 1.11 | B31: High pressure cleaning out of core hole to 500mm depth and grouting with a non-shrink high strength grout, including installation of hexagonal nut and 110mm bearing plate and supply, mixing, pumping and injecting of grout | C31: no | D31: 327 | F31: =D31*E31 -> 0
A34: 2 | B34: TESTING OF MICROPILES
A36: 2.1 | B36: Establishment equipment on WTP Lab foundation for micropile testing | C36: sum | D36: 1 | F36: =D36*E36 -> 0
A38: 2.2 | B38: Core 125mm diameter holes through 350mm concrete raft | C38: no | D38: 6 | F38: =D38*E38 -> 0
A40: 2.3 | B40: Moving to and setting up the equipment at each micropile section | C40: no | D40: 6 | F40: =D40*E40 -> 0
A42: 2.4 | B42: Supply R25N self-drilling, continuous thread, hollow-core, steel bars, including couplers | C42: m | D42: 90 | F42: =D42*E42 -> 0
A44: 2.5 | B44: Supply greater than 100mm disposable drill bits for R25N self-drilling, continous thread, hollow-bar | C44: no | D44: 6 | F44: =D44*E44 -> 0
A46: 2.6 | B46: Supply 110mm x 20mm hot dip galvanised bearing plate and hexagonal nuts to fit R25N self-drilling, continuous thread, hollow bar | C46: no | D46: 6 | F46: =D46*E46 -> 0
A48: 2.7 | B48: Drill in R25N micropiles, with grout flush to a depth of approximately 15m, including supply, mixing, pumping & injecting of grout flushing grout | C48: m | D48: 90 | F48: =D48*E48 -> 0
A50: 2.8 | B50: E.O for pressure grouting and injecting annulus grout, including supply, mixing, pumping and injecting annulus grout | C50: m | D50: 90 | F50: =D50*E50 -> 0
A52: 2.9 | B52: E.O for drilling 2.5m socket into bedrock/shale | C52: m | D52: 15 | F52: =D52*E52 -> 0
A54: 2.1 | B54: Supply and erect testing equipment to test micropiles to 700kN and removal on completion | C54: no | D54: 6 | F54: =D54*E54 -> 0
A56: 2.11 | B56: Carry out micropile test over 48 hours, including recording and submission of test results to the Engineer | C56: no | D56: 6 | F56: =D56*E56 -> 0
A58: 2.12 | B58: High pressure cleaning out of core hole to 500mm depth and grouting with a non-shrink high strength grout, including installation of hexagonal nut and 110mm bearing plate and supply, mixing, pumping and injecting of grout | C58: no | D58: 6 | F58: =D58*E58 -> 0
B61: TOTAL FOR MICROPILING WORKS | F61: =SUM(F10:F60) -> 0

Sheet 5.1.6 Sec 4 - Furniture removal
A1: WTP LABORATORY
A2: REMEDIAL WORKS ESTIMATE
A4: FURNITURE REMOVAL AND RE-INSTALLATION
A6: ITEM NO. | B6: DESCRIPTION | C6: UNIT | D6: QTY | E6: RATE | F6: AMOUNT
B7: CONTROL ROOM
A9: 1 | B9: FURNITURE REMOVAL - PACKING & STORAGE
A10: 1.1 | B10: Engineering desk | C10: No. | D10: 1 | F10: =SUM(D10*E10) -> 0
A11: 1.2 | B11: Operator desk | C11: No. | D11: 1 | F11: =SUM(D11*E11) -> 0
A12: 1.3 | B12: PRINTER desk | C12: No. | D12: 1 | F12: =SUM(D12*E12) -> 0
A13: 1.4 | B13: Chairs | C13: No. | D13: 3 | F13: =SUM(D13*E13) -> 0
A14: 1.5 | B14: 24" Dell Monitors | C14: No. | D14: 14 | F14: =SUM(D14*E14) -> 0
A15: 1.6 | B15: Key boards & Mouse | C15: No. | D15: 4 | F15: =SUM(D15*E15) -> 0
A16: 1.7 | B16: Dell KVMs | C16: No. | D16: 4 | F16: =SUM(D16*E16) -> 0
A17: 1.8 | B17: Printers | C17: No. | D17: 2 | F17: =SUM(D17*E17) -> 0
A18: 1.9 | B18: Network Switches | C18: No. | D18: 2 | F18: =SUM(D18*E18) -> 0
A19: 1.1 | B19: Cabling - Patch leads, Network cables | C19: item | D19: 1 | F19: =SUM(D19*E19) -> 0
A21: 2 | B21: ANALYSER ROOM
A23: 2.1 | B23: Removal of analysers | C23: no | D23: =42+15 -> 57 | F23: =D23*E23 -> 0
A24: 2.2 | B24: Permanent relocation of WTP analysers to field | C24: no | D24: 42 | F24: =D24*E24 -> 0
A25: 2.3 | B25: Relocation of analysers back into analyser room | C25: no | D25: 15 | F25: =D25*E25 -> 0
A26: 2.4 | B26: Decomissioning analysers | C26: item | D26: 1 | F26: =D26*E26 -> 0
A27: 2.5 | B27: Design of power, signalling for routing for analysers | C27: P Sum | D27: 1 | F27: =D27*E27 -> 0
A28: 2.6 | B28: Remove junction box and relocate | C28: no | D28: 1 | F28: =D28*E28 -> 0
A29: 2.7 | B29: Installation of impulse tubing & fittings | C29: m | D29: =15*3*6 -> 270 | F29: =D29*E29 -> 0
A30: 2.8 | B30: Reagents, Standards and Chemicals | C30: Item | D30: 1 | F30: =D30*E30 -> 0
A31: 2.9 | B31: Materials - (Racking, piping, fittings, valves, glands, bolts, drills) | C31: P Sum | D31: 1 | F31: =D31*E31 -> 0
A32: 2.1 | B32: Allowance for Sundry items | C32: P Sum | D32: 1 | F32: =D32*E32 -> 0
A33: 2.11 | B33: Recomissioning analysers | C33: P Sum | D33: 1 | F33: =D33*E33 -> 0
A34: 2.12 | B34: Removal of built in cup-boards | C34: P Sum | D34: 1 | F34: =D34*E34 -> 0
A35: 2.13 | B35: Reinstalling built in cupboards | C35: P Sum | D35: 1 | F35: =D35*E35 -> 0
A37: 3 | B37: GENERAL LABORATORY
A38: 3.1 | B38: work benches with sinks & taps attached | C38: no | D38: 5 | F38: =D38*E38 -> 0
A39: 3.2 | B39: Fume cupboards | C39: no | D39: 2 | F39: =D39*E39 -> 0
A40: 3.3 | B40: Bench top | C40: no | D40: 1 | F40: =D40*E40 -> 0
A41: 3.4 | B41: Bench top | C41: no | D41: 1 | F41: =D41*E41 -> 0
A42: 3.5 | B42: Reinstallation of furniture | C42: no | D42: 1 | F42: =D42*E42 -> 0
A44: 4 | B44: CLEAN LABORATORY
A45: 4.1 | B45: Fume cupboards | C45: no | D45: 2 | F45: =D45*E45 -> 0
A46: 4.2 | B46: work benches with sinks & taps attached | C46: no | D46: 1 | F46: =D46*E46 -> 0
A47: 4.3 | B47: Bench top | C47: no | D47: 1 | F47: =D47*E47 -> 0
...

Sheet 5.1.7 CPA Formulae
A1: KUSILE POWER STATION PROJECT
A2: ENQUIRY No. | D2: ='5.1Tender Cover Sheet'!C19 -> 0
A3: TENDERER NAME: | D3: ='5.1Tender Cover Sheet'!C24 -> 0
A4: NAME OF PACKAGE: | D4: ='5.1Tender Cover Sheet'!C21 -> WATER TREATMENT PLANT REMEDIAL WORKS
A5: PRICE ADJUSTMENT FOR INFLATION
A6: Summary
A7: No | B7: Description
A8: A | B8: 0 | E8: Type in description of formula which is carried through below
A12: GENERAL NOTES :
A13: a. | B13: References to "indices" below have the meaning of "cost indices or reference prices", unless otherwise stated.
A14: b. | B14: Where historical information is applicable as requested below, internet address references which are accessible to the
B15: general public may be submitted instead, with the specific electronic route and web page reflecting the applicable data.
A16: c. | B16: Each formula is related to one unique currency. Mixing of currencies in a specific formula is not acceptable.
A17: CPA FORMULA REQUIREMENTS :
A18: i. | B18: Formulae must be linked to independent cost indices or other benchmarks ("reference prices") and must be clearly and
B19: completely defined. The source must be a recognised statistical publishing source and must not be in-house indices.
A20: ii. | B20: Local Indices: Where local indices other than SEIFSA or StatsSA are specified, the tenderer is to submit 5 years' historical data
B21: for such indices. Note that the Contractor must ensure that indices are published and recommended by the "Source" as
B22: applicable to the work involved. For example SEIFSA has terminated the publication of Table E and is replaced by Table E-A and
B23: or E-EX and the specific sub breakdown of such must be identified. Also SEIFSA recommends utilisation of Table L-2 for road
B24: transport rather than Table L-1.
A25: iii. | B25: Foreign Price Adjustments: In the case of foreign price adjustments, the Contractor is to submit 5 years' historical data for the
B26: tendered indices. Where a formula is linked to indices in a country, payment of the amounts for that formula must be in the
B27: currency of the same country. A formula may not be linked to indices of more than one country.
A28: iv. | B28: Commodity Price Linked Payments: The reference price is considered as the base price (index) for purpose of the CPA formula
B29: and is incuded in the applicable tables below and must be in the currency in which the CPA will be payable. The exchange
B30: rate applied to convert the base price in a foreign currency into that of the currency of the formula must also be indicated in
B31: the tables below if the price is not in the same currency as the applicable formula.. ie exposure to the movement in a
B32: reference price is in the same currency as that of the CPA formula. The Contractor is to submit 5 years' historical price data
B33: for such commodity,
A34: v. | B34: London Metal Exchange (LME) Prices: For metals traded on the LME, the tonnage will be required before contract award in
B35: order for Eskom to hedge the metal price fluctuations. This applies also for prices linked to local indices or reference prices.
B36: Though these metals are traded in US$, prices are daily quoted in various other currencies.
B37: The LME price in the currency of the formula must apply and thus not the US$ unless the amount payable in terms of the
B38: formula is US$. Refer to the "LME" Sheet in this file for more detail regarding this aspect. By indicating any of these metals in
B39: the formulae below, the contractor declares that neither he nor any other body avails or will avail of forward price and/or
B40: currency cover for the metal(s).
A41: vi. | B41: CPA Base Date: The CPA base date for calculating price movements is the Base Date as defined in the Particular Conditions,
B42: Clause 1.1.3.1. For indices or reference prices published as at certain dates, and where such a date is not the Base Date, the
B43: latest date for which it is published before the Base Date will be considered as the Base Date index or reference price. In
...

Sheet  5.1.8Safety & Production Bonus
A2: Project: | C2: KUSILE POWER STATION PROJECT
A3: Enquiry No. | C3: ='5.1Tender Cover Sheet'!C19 -> 0
A4: Package Name: | C4: WTP LABORATORY REMEDIAL WORKS
A5: Tenderer's Name: | C5: ='5.1Tender Cover Sheet'!C24 -> 0
A7: TO BE READ AND PRICED IN CONJUNCTION WITH THE EMPLOYER’S POLICIES AND PROCEDURES
A8: THE PRICES/RATES/QUANTITIES IN THIS PAGE ARE FOR ESTIMATION ONLY
A11: SAFETY & PRODUCTION BONUS
A13: Resource ID. | B13: Resource Name (If Available) | C13: Job Title | D13: Quantity | E13: hourly Rate | F13: Estimated hours earned month | G13: Total Amount
C14: General Worker | F14: 8 | G14: =E14*F14*D14 -> 0
C15: Semi-Skilled | F15: 8 | G15: =E15*F15*D15 -> 0
C16: Skilled | F16: 8 | G16: =E16*F16*D16 -> 0
G17: =E17*F17*D17 -> 0
A18: Estimated Total | G18: =SUM(G14:G17) -> 0
A19: Contract Duration in months | G19: 9
A20: Total Estimated Costs for 9 months | G20: =G19*G18 -> 0

Sheet 5.1.9 PA Attendance Bonus
A2: Project: | C2: KUSILE POWER STATION PROJECT
A3: Enquiry No. | C3: =' 5.1.8Safety & Production Bonus'!C3 -> 0
A4: Package Name: | C4: WTP LABORATORY REMEDIAL WORKS
A5: Tenderer's Name: | C5: =' 5.1.8Safety & Production Bonus'!C5 -> 0
A7: TO BE READ AND PRICED IN CONJUNCTION WITH THE EMPLOYER’S POLICIES AND PROCEDURES
A8: THE PRICES/RATES/QUANTITIES IN THIS PAGE ARE FOR ESTIMATION ONLY
A10: THE FIRST LINE ITEM SERVES AS A GUIDE, ADDITIONAL LINE ITEMS CAN BE ADDED TO CATER FOR RESOURCES FOR EXAMPLE GENERAL WORKERS X5 . PLEASE NOTE THAT ESKOM PROVIDES 15.5 HOURS PM FOR THE BONUS AND THE CONTRACTOR COVERS THE 0,5 HRS, PLEASE REFER TO PA GUIDELINES FOR FURTHER INFORMATION.
A12: PA ATTENDANCE BONUS
A14: Resource ID | B14: Resource Name (If Available) | E14: Bonus
C15: Job Title | D15: Quantity | E15: Hourly Rate as per Payslip | F15: Hours | G15: Amount
C16: General Worker | F16: 15.5 | G16: =D16*E16*F16 -> 0
C17: Semi-Skilled | F17: 15.5 | G17: =D17*E17*F17 -> 0
C18: Skilled | F18: 15.5 | G18: =D18*E18*F18 -> 0
G19: =D19*E19*F19 -> 0
A20: Estimated Total | G20: =SUM(G16:G19) -> 0
A21: Contract Duration In Months | G21: ='[20] Safety & Production Bonus'!G20 -> 9
A22: Total Estimated Costs for 9 Months | G22: =G20*G21 -> 0

Sheet 5.1.10 Travel Allowance
A2: Project: | C2: KUSILE POWER STATION PROJECT
A3: Enquiry No. | C3: ='5.1.9 PA Attendance Bonus'!C3 -> 0
A4: Package Name: | C4: WTP LABORATORY REMEDIAL WORKS
A5: Tenderer's Name: | C5: ='5.1.9 PA Attendance Bonus'!C5 -> 0
A7: TO BE READ AND PRICED IN CONJUNCTION WITH THE EMPLOYER’S POLICIES AND PROCEDURES
A8: THE PRICES/RATES/QUANTITIES IN THIS PAGE ARE FOR ESTIMATION ONLY
A10: THE FIRST LINE ITEM SERVES AS A GUIDE, ADDITIONAL LINE ITEMS CAN BE ADDED TO CATER FOR RESOURCES FOR EXAMPLE GENERAL WORKERS X5 . PLEASE NOTE THAT ESKOM PROVIDES R 2.50 PM AS TRAVELLING ALLOWANCE (TRAVELLING IS NOT PAID FOR LOCAL WORKERS) , PLEASE REFER TO PA GUIDELINES FOR FURTHER INFORMATION.
A12: PA TRAVEL ALLOWANCE
A14: Resource ID | B14: Resource Name (If Available) | E14: Travel
C15: Job Title | D15: Quantity | E15: Destination | F15: Total Km (return) | G15: Allowance | H15: Amount
C16: General Worker | G16: 2.5 | H16: =F16*G16*D16 -> 0
C17: Semi-Skilled | G17: 2.5 | H17: =F17*G17*D17 -> 0
C18: Skilled | G18: 2.5 | H18: =F18*G18*D18 -> 0
A21: Estimated Total | H21: =SUM(H16:H20) -> 0
A22: Estimated number of travel weekends | H22: 5
A23: Total Estimated Costs | H23: =H21*H22 -> 0
