Workbook

Sheet HOW TO USE
B2: What? | C2: What tab | D2: What cells | E2: Screen shot
B3: Enter/ type the names of the Responders/ Companies (replace Company 1, 2, 3, 4, and 5) Note: The company name will populate throughout the other tabs | C3: Evaluation Summary | D3: D4 to H4
B4: To change the name of a section Note: The section name will populate throughout the other tabs | C4: Evaluation Summary | D4: Applicable row/ cell in Column B
B5: To manage/change the weight % allocation per section Note: The weight % allocation per section will populate throughout the other tab, as well as against the headings (coloured rows) on the Evalution Summary | C5: Evaluation Summary | D5: C6, C8, C10-22, C25
B6: To score a company, enter the score (maximum value 4) in the cells provided (will have a default score of 0) | C6: Company Evaluation Functional Evaluation Criteria Non-Functional Criteria System Demo
B7: OTHER NOTES
B8: Note: The actual scores will be calculated automatically | C8: Company Evaluation Functional Evaluation Criteria Non-Functional Criteria System Demo
B9: Note: The weighted scores will be calculated automatically | C9: Company Evaluation Functional Evaluation Criteria Non-Functional Criteria System Demo
B10: Note: All the weighted scores per company - from the evaluation criteria (various sections and tabs) - will pull through to the Evaluation Summary tab. | C10: Evaluation Summary
B11: Note: The final/ total weighted score per company is calculated at the bottom of the Evaluation Summary | C11: Evaluation Summary

Sheet Evaluation Summary
B1: Technical Evaluation Criteria Summary - RFI for Risk Based Inspection Tool
D3: Sectional Weighted Evaluation Scores (%)
B4: Evaluation criteria | C4: Weight | D4: Company 1 | E4: Company 2 | F4: Company 3 | G4: Company 4 | H4: Company 5
B5: Company Profile and Experience Evaluation | C5: =C6 -> 0.05 | D5: =D6 -> 0 | E5: =E6 -> 0 | F5: =F6 -> 0 | G5: =G6 -> 0 | H5: =H6 -> 0
B6: Section 1 - Company Profile | C6: =5/100 -> 0.05 | D6: ='Company Evaluation'!J19 -> 0 | E6: ='Company Evaluation'!N19 -> 0 | F6: ='Company Evaluation'!R19 -> 0 | G6: ='Company Evaluation'!V19 -> 0 | H6: ='Company Evaluation'!Z19 -> 0
B7: Functional Evaluation Evaluation Criteria | C7: =C8 -> 0.4 | D7: =D8 -> 0 | E7: =E8 -> 0 | F7: =F8 -> 0 | G7: =G8 -> 0 | H7: =H8 -> 0
B8: Section 2 - Functional Capability Evaluation Criteria | C8: =40/100 -> 0.4 | D8: ='Functional Evaluation Criteria'!J47 -> 0 | E8: ='Functional Evaluation Criteria'!N47 -> 0 | F8: ='Functional Evaluation Criteria'!R47 -> 0 | G8: ='Functional Evaluation Criteria'!V47 -> 0 | H8: ='Functional Evaluation Criteria'!Z47 -> 0
B9: Non-Functional Evaluation Criteria | C9: =40/100 -> 0.4 | D9: =SUM(D10:D22) -> 0 | E9: =SUM(E10:E22) -> 0 | F9: =SUM(F10:F22) -> 0 | G9: =SUM(G10:G22) -> 0 | H9: =SUM(H10:H22) -> 0
B10: Section 3 - General Capability Questions | C10: 0.01 | D10: ='Non-Functional Criteria'!J13 -> 0 | E10: ='Non-Functional Criteria'!N13 -> 0 | F10: ='Non-Functional Criteria'!R13 -> 0 | G10: ='Non-Functional Criteria'!V13 -> 0 | H10: ='Non-Functional Criteria'!Z13 -> 0
B11: Section 4 - Cloud (current approval for secure, private, on-premise) | C11: 0.01 | D11: ='Non-Functional Criteria'!J33 -> 0 | E11: ='Non-Functional Criteria'!N33 -> 0 | F11: ='Non-Functional Criteria'!R33 -> 0 | G11: ='Non-Functional Criteria'!V33 -> 0 | H11: ='Non-Functional Criteria'!Z33 -> 0
B12: Section 5 - Security | C12: 0.05 | D12: ='Non-Functional Criteria'!J54 -> 0 | E12: ='Non-Functional Criteria'!N54 -> 0 | F12: ='Non-Functional Criteria'!R54 -> 0 | G12: ='Non-Functional Criteria'!V54 -> 0 | H12: ='Non-Functional Criteria'!Z54 -> 0
B13: Section 6 - Mobility | C13: 0.04 | D13: ='Non-Functional Criteria'!J63 -> 0 | E13: ='Non-Functional Criteria'!N63 -> 0 | F13: ='Non-Functional Criteria'!R63 -> 0 | G13: ='Non-Functional Criteria'!V63 -> 0 | H13: ='Non-Functional Criteria'!Z63 -> 0
B14: Section 7 - System Integration | C14: 0.05 | D14: ='Non-Functional Criteria'!J77 -> 0 | E14: ='Non-Functional Criteria'!N77 -> 0 | F14: ='Non-Functional Criteria'!R77 -> 0 | G14: ='Non-Functional Criteria'!V77 -> 0 | H14: ='Non-Functional Criteria'!Z77 -> 0
B15: Section 8 - Performance & Capacity Management | C15: 0.05 | D15: ='Non-Functional Criteria'!J91 -> 0 | E15: ='Non-Functional Criteria'!N91 -> 0 | F15: ='Non-Functional Criteria'!R91 -> 0 | G15: ='Non-Functional Criteria'!V91 -> 0 | H15: ='Non-Functional Criteria'!Z91 -> 0
B16: Section 9 - Data Management | C16: 0.04 | D16: ='Non-Functional Criteria'!J109 -> 0 | E16: ='Non-Functional Criteria'!N109 -> 0 | F16: ='Non-Functional Criteria'!R109 -> 0 | G16: ='Non-Functional Criteria'!V109 -> 0 | H16: ='Non-Functional Criteria'!Z109 -> 0
B17: Section 10 - System Implementation Strategy | C17: 0.01 | D17: ='Non-Functional Criteria'!J118 -> 0 | E17: ='Non-Functional Criteria'!N118 -> 0 | F17: ='Non-Functional Criteria'!R118 -> 0 | G17: ='Non-Functional Criteria'!V118 -> 0 | H17: ='Non-Functional Criteria'!Z118 -> 0
B18: Section 11 - System Reporting & Analytics | C18: 0.04 | D18: ='Non-Functional Criteria'!J131 -> 0 | E18: ='Non-Functional Criteria'!N131 -> 0 | F18: ='Non-Functional Criteria'!R131 -> 0 | G18: ='Non-Functional Criteria'!V131 -> 0 | H18: ='Non-Functional Criteria'!Z131 -> 0
B19: Section 12 - System Maintenance, Support & Lifecycle Management | C19: 0.04 | D19: ='Non-Functional Criteria'!J170 -> 0 | E19: ='Non-Functional Criteria'!N170 -> 0 | F19: ='Non-Functional Criteria'!R170 -> 0 | G19: ='Non-Functional Criteria'!V170 -> 0 | H19: ='Non-Functional Criteria'!Z170 -> 0
B20: Section 13 - End user training | C20: 0.02 | D20: ='Non-Functional Criteria'!J186 -> 0 | E20: ='Non-Functional Criteria'!N186 -> 0 | F20: ='Non-Functional Criteria'!R186 -> 0 | G20: ='Non-Functional Criteria'!V186 -> 0 | H20: ='Non-Functional Criteria'!Z186 -> 0
B21: Section 14 - Operating Systems | C21: 0.02 | D21: ='Non-Functional Criteria'!J193 -> 0 | E21: ='Non-Functional Criteria'!N193 -> 0 | F21: ='Non-Functional Criteria'!R193 -> 0 | G21: ='Non-Functional Criteria'!V193 -> 0 | H21: ='Non-Functional Criteria'!Z193 -> 0
B22: Section 15 - License Management | C22: 0.02 | D22: ='Non-Functional Criteria'!J206 -> 0 | E22: ='Non-Functional Criteria'!N206 -> 0 | F22: ='Non-Functional Criteria'!R206 -> 0 | G22: ='Non-Functional Criteria'!V206 -> 0 | H22: ='Non-Functional Criteria'!Z206 -> 0
C23: =SUM(C10:C22) -> 0.4
B24: System Demonstration | C24: =C25 -> 0.15 | D24: =D25 -> 0 | E24: =E25 -> 0 | F24: =F25 -> 0 | G24: =G25 -> 0 | H24: =H25 -> 0
B25: Section 16 - Demo (Remember to include on USB stick as a pre-recorded mp4. Note :no cd's will be accepted) | C25: =15/100 -> 0.15 | D25: ='System Demo'!I66 -> 0 | E25: ='System Demo'!M66 -> 0 | F25: ='System Demo'!Q66 -> 0 | G25: ='System Demo'!U66 -> 0 | H25: ='System Demo'!Y66 -> 0
B27: Final Weighted Evaluation Scores (%) | C27: =SUM(C5+C7+C9+C24) -> 1 | D27: =SUM(D5+D7+D9+D24) -> 0 | E27: =SUM(E5+E7+E9+E24) -> 0 | F27: =SUM(F5+F7+F9+F24) -> 0 | G27: =SUM(G5+G7+G9+G24) -> 0 | H27: =SUM(H5+H7+H9+H24) -> 0

Sheet Company Evaluation
B1: Engineering Design and Technical Document Management Software - Request for Information (RFI)
C2: NOTE TO SUPPLIERS: Please provide your response in the cells below corresponding to each question. If there is a requirement to provide additional information, please reference the additional documentation accordingly and strictly according to the numbering in this spreadsheet.
B3: Name of Scorer: | G3: Scoring
B4: ='Evaluation Summary'!B6 -> Section 1 - Company Profile | C4: Response | D4: Gatekeeper | E4: Criteria | F4: Section Weighting | G4: Max score | I4: ='Evaluation Summary'!D4 -> Company 1 | J4: Company Score | K4: Scorer's Evidence / Reference / Comment | M4: ='Evaluation Summary'!E4 -> Company 2 | N4: Company Score | O4: Scorer's Evidence / Reference / Comment | Q4: ='Evaluation Summary'!F4 -> Company 3 | R4: Company Score | S4: Scorer's Evidence / Reference / Comment | U4: ='Evaluation Summary'!G4 -> Company 4 | V4: Company Score | W4: Scorer's Evidence / Reference / Comment | Y4: ='Evaluation Summary'!H4 -> Company 5 | Z4: Company Score | AA4: Scorer's Evidence / Reference / Comment
A5: 1.1 | B5: Provide a brief description of your company background. | E5: 1 - Information provided 0 - Information not provided | F5: 0.0025 | G5: 1 | J5: 0 | N5: 0 | R5: 0 | V5: 0 | Z5: 0
A6: 1.2 | B6: Provide evidence of your years of experience in and proof of Risk Based Inspection projects implemented. | D6: Yes | E6: 4 - > 8 yrs experience 3 - 5 to 8 yrs 2 - < 5 yrs 1 - < 2 years 0 - Information not provided | F6: 0.01 | G6: 4 | J6: 0 | N6: 0 | R6: 0 | V6: 0 | Z6: 0
A7: 1.3 | B7: Provide an overview of your company's strategic direction in terms of risk base inspection systems. | E7: 4 - leader in the field 3 - firm strategic direction 2 - some strategic direction planned 1 - no strategic direction/uncertain 0 - Information not provided | F7: 0.005 | G7: 4 | J7: 0 | N7: 0 | R7: 0 | V7: 0 | Z7: 0
A8: 1.4 | B8: What is the size and demographic of your current client base? Please provide location, type of client and number of users. | E8: 4 - enterprise client base experience 3 - large client base experience 2 - medium client base experience 1 - small client base experience 0 - Information not provided | F8: 0.005 | G8: 4 | J8: 0 | N8: 0 | R8: 0 | V8: 0 | Z8: 0
A9: 1.5 | B9: What is the probability that the product line will sustain for the long term (at least 10 years)? Please provide evidence of your current roadmap. | E9: 4 - Long term roadmap & product commitment 2 - Medium term roadmap/ product might be replaced 1 - Short term roadmap/ product is already earmarked for replacement 0 - Information not provided | F9: 0.005 | G9: 4 | J9: 0 | N9: 0 | R9: 0 | V9: 0 | Z9: 0
A10: 1.6 | B10: What support capability do you have in South Africa? | E10: 2 - Support in multiple regions 1 - Limited support e.g. one office 0 - Information not provided | F10: 0.005 | G10: 2 | J10: 0 | N10: 0 | R10: 0 | V10: 0 | Z10: 0
A11: 1.7 | B11: What type of remote support do you have available, and what mechanism do you prefer to logically connect with your software from remote locations? | E11: 2 - Remote support capability available 1 - No remote support capability 0 - Information not provided | F11: 0.0025 | G11: 2 | J11: 0 | N11: 0 | R11: 0 | V11: 0 | Z11: 0
A12: 1.8 | B12: Does the Supplier have a confidentiality policy with regards to its employees, partners and subcontractors? | E12: 1 - Yes 0 - No/ Information not provided | F12: 0.0025 | G12: 1 | J12: 0 | N12: 0 | R12: 0 | V12: 0 | Z12: 0
A13: 1.9 | B13: Is your solution deployed in the Utilities industry? If so, provide credentials. | E13: 3 - Yes, deployed at Electrical Utility 2 - Yes, deployed at other type of utility than elecytical eg gas/oil 1 - No deployment as yet at a utility, but deployed at other industry type 0 - Information not provided | F13: 0.005 | G13: 3 | J13: 0 | N13: 0 | R13: 0 | V13: 0 | Z13: 0
A14: 1.10 | B14: List any key differentiators that set your solution apart from your Competitors. Refer to any published analyst reports or similar independent reviews and provide a copy if available. | E14: 3 - Leader/ independent reviews or ratings/ other proof 2 - Evidence of some differentiation in the product offering which could be advantageous 1 - Provide similar offering as other competitors 0 - Information not provided | F14: 0.005 | G14: 3 | J14: 0 | N14: 0 | R14: 0 | V14: 0 | Z14: 0
A15: 1.11 | B15: What organisation is the largest user of your product? | E15: 1 - Information provided 0 - Information not provided | F15: 0.0025 | G15: 1 | J15: 0 | N15: 0 | R15: 0 | V15: 0 | Z15: 0
B17: Sub-Total | J17: =SUM(J5:J15) -> 0 | N17: =SUM(N5:N15) -> 0 | R17: =SUM(R5:R15) -> 0 | V17: =SUM(V5:V15) -> 0 | Z17: =SUM(Z5:Z15) -> 0
J18: Actual score | N18: Actual score | R18: Actual score | V18: Actual score | Z18: Actual score
F19: ='Evaluation Summary'!C5 -> 0.05 | G19: =SUM(G5:G15) -> 29 | J19: =J17/$G$19*$F$19 -> 0 | N19: =N17/$G$19*$F$19 -> 0 | R19: =R17/$G$19*$F$19 -> 0 | V19: =V17/$G$19*$F$19 -> 0 | Z19: =Z17/$G$19*$F$19 -> 0
F20: Section Weighting | G20: Section max possible score | J20: Weighted score % | N20: Weighted score % | R20: Weighted score % | V20: Weighted score % | Z20: Weighted score %
B74: Reporting
B101: Testing
B103: Development Tools
B116: Administration
B215: System Architecture
B221: Mobility
B224: Video & Audio Management

Sheet Functional Evaluation Criteria
B1: Engineering Design and Technical Document Management Software - Request for Information (RFI)
C2: NOTE TO SUPPLIERS: Please provide your response in the cells below corresponding to each question. If there is a requirement to provide additional information, please reference the additional documentation accordingly and strictly according to the numbering in this spreadsheet.
B3: Name of Scorer:
B5: ='Evaluation Summary'!B8 -> Section 2 - Functional Capability Evaluation Criteria | C5: Response | D5: Gatekeeper | E5: Criteria | F5: Section Weighting | G5: Max score | I5: ='Evaluation Summary'!D4 -> Company 1 | J5: Company Score | K5: Scorer's Evidence / Reference / Comment | M5: ='Evaluation Summary'!E4 -> Company 2 | N5: Company Score | O5: Scorer's Evidence / Reference / Comment | Q5: ='Evaluation Summary'!F4 -> Company 3 | R5: Company Score | S5: Scorer's Evidence / Reference / Comment | U5: ='Evaluation Summary'!G4 -> Company 4 | V5: Company Score | W5: Scorer's Evidence / Reference / Comment | Y5: ='Evaluation Summary'!H4 -> Company 5 | Z5: Company Score | AA5: Scorer's Evidence / Reference / Comment
B6: Statutary requirements
A7: 2.1 | B7: Software that will support the Risk Based Inspection of pressure equipment as per the Pressure Equipment Regulations of 2009 and designed in accordance to CWA 15740, applicable to Sound Engineering Principles up to category IV as per SANS 347 definitions. For categorisation principles the fluid group definition as per SANS 347 edition 2 will apply, but for all other aspects Edition 3 will apply. Software must cater for all requirements as stipulated in SANS347 with regards to categorisation and PER regulation 12. | D7: Yes | E7: 4 – Fully compliant to CWA 15740 and/or EN16991, SANS 347 and PER 2 – Not fully compliant but tolerable 1- Deficient to meet requirements of CWA15740 and/or EN16991, SANS 347 and PER 0 - No submission/ could not meet the requirements | F7: 0.05 | G7: 4 | J7: 0
A8: 2.2 | B8: The application should have the capability to determine the risk level and contain the information required to monitor the risk level for pressure equipment. | E8: 4 – Fully compliant 2 – Not fully compliant but tolerable 1- Deficient to meet requirements of CWA15740 and/or EN16991 0 - No submission | F8: 0.02 | G8: 4 | J8: 0
B9: Ability to input data
A10: 2.3 | B10: Functionality to capture the design and operating data | E10: 4 – Fully compliant 2 – Not fully compliant but tolerable 1- Deficient to meet requirements of CWA15740 and/or EN16991 0 - No submission | F10: 0.01 | G10: 4 | J10: 0
A11: 2.4 | B11: Functionality to capture the plant equipment inspection history information | E11: 4 – Fully compliant 2 – Not fully compliant but tolerable 1- Deficient to meet requirements of CWA15740 and/or EN16991 0 - No submission | F11: 0.01 | G11: 4 | J11: 0
A12: 2.5 | B12: Cater for the requirement to capture text based history, images one or all which may form part of inspections or maintenance interventions conducted. | E12: 4 – Fully compliant 2 – Not fully compliant but tolerable 1- Deficient to meet requirements of CWA15740 and/or EN16991 0 - No submission | F12: 0.01 | G12: 4
A13: 2.6 | B13: Functionality to capture failure information | E13: 4 – Fully compliant 2 – Not fully compliant but tolerable 1- Deficient to meet requirements of CWA15740 and/or EN16991 0 - No submission | F13: 0.01 | G13: 4 | J13: 0
A14: 2.7 | B14: The tool is required to have functionality that caters for the Input of plant inspection results from various sources and formats. These include, but are not limited to hand held acquisition devices, spreadsheets or manual input or external plant and IT data sources. | E14: 4 – Fully compliant 2 – Not fully compliant but tolerable 1- Deficient to meet requirements 0 - No submission | F14: 0.01 | G14: 4 | J14: 0
A15: 2.8 | B15: The application should have the full functionality to work both online and offline. All data and inputs captured when offline should automatically be updated/transferred to the main server the next time the device is online. | E15: 4 – Fully compliant 2 – Not fully compliant but tolerable 1- Deficient to meet requirements 0 - No submission | F15: 0.01 | G15: 4 | J15: 0
B16: Manage the configuration for pressurised items of plant
A17: 2.9 | B17: Cater for the establishment of a plant inventory catering for pressurised equipment. Provide for functional location codes, description together with serial numbers where applicable. (All plant equipment which are subjected to a pressure of 50KPa and higher as per requirements of PER Regulation 2 shall be inspected to comply with OHS and SANS requirements). | E17: 4 – Fully compliant 2 – Not fully compliant but tolerable 1- Deficient to meet requirements 0 - No submission | F17: 0.02 | G17: 4 | J17: 0
A18: 2.10 | B18: Cater for the requirement to separate items based on function utilising equipment types (All plant equipment which is subjected to a pressure of 50KPa and higher as per requirements of PER Regulation 2 shall be inspected to comply with OHS and SANS requirements). | E18: 4 – Fully compliant 2 – Not fully compliant but tolerable 1- Deficient to meet requirements 0 - No submission | F18: 1.25% | G18: 4 | J18: 0
A19: 2.11 | B19: Cater for the requirement to filter and display all pressurized equipment which falls within the requirements of the OHS and SANS requirement (Capability to display or print pressurised equipment inventory). | E19: 4 – Fully compliant 2 – Not fully compliant but tolerable 1- Deficient to meet requirements 0 - No submission | F19: 0.0125 | G19: 4 | J19: 0
A20: 2.12 | B20: Provide functionality to cater for equipment deployment status i.e. installed, removed, de-commissioned together with history tracking for where previously installed. (Establish if item is installed and requires monitoring). | E20: 4 – Fully compliant 2 – Not fully compliant but tolerable 1- Deficient to meet requirements 0 - No submission | F20: 0.0125 | G20: 4 | J20: 0
B21: Plant criticality and inspections (Note: SAP Plant Maintenance (SAP PM) is available in Eskom)
A22: 2.13 | B22: Cater for the requirement to classify equipment based on plant criticality. (Plant criticality contributes toward prioritizing work). | E22: 4 – Fully compliant 2 – Not fully compliant but tolerable 1- Deficient to meet requirements 0 - No submission | F22: 0.02 | G22: 4 | J22: 0
A23: 2.14 | B23: Cater for the establishment of maintenance strategies and inspections which is equipment specific. (Standardise inspections for equipment types). | E23: 4 – Fully compliant 2 – Not fully compliant but tolerable 1- Deficient to meet requirements 0 - No submission | F23: 0.01 | G23: 4 | J23: 0
A24: 2.15 | B24: Cater for the scheduling and triggering of inspections, monitoring or maintenance interventions which will generate work orders as and when required. (Automate the generation of inspections). | E24: 4 – Fully compliant 2 – Not fully compliant but tolerable 1- Deficient to meet requirements 0 - No submission | F24: 0.0125 | G24: 4 | J24: 0
A25: 2.16 | B25: Cater for the scheduling of work – surveys by assigning resources, dates plant access etc. (Schedule resources and work). | E25: 4 – Fully compliant 2 – Not fully compliant but tolerable 1- Deficient to meet requirements 0 - No submission | F25: 0.01 | G25: 4 | J25: 0
A26: 2.17 | B26: Cater for the requirement to analyse equipment status utilising information captured, comparing to previous results and rendering images associated with surveys conducted against unique plant items. | E26: 4 – Fully compliant 2 – Not fully compliant but tolerable 1- Deficient to meet requirements 0 - No submission | F26: 0.01 | G26: 4 | J26: 0
A27: 2.18 | B27: Ability to send the inspection maintenance and testing information to SAP PM | E27: 4 – Fully compliant 2 – Not fully compliant but tolerable 1- Deficient to meet requirements 0 - No submission | F27: 0.01 | G27: 4 | J27: 0
A28: 2.19 | B28: The tool must cater for the requirement to define and schedule inspection interventions required to determine the plant condition using RBI principles. | E28: 4 – Fully compliant 2 – Not fully compliant but tolerable 1- Deficient to meet requirements 0 - No submission | F28: 0.01 | G28: 4 | J28: 0
B29: Reporting
A30: 2.20 | B30: Ability of a system to input a monthly water chemistry report | E30: 4 – Fully compliant 2 – Not fully compliant but tolerable 1- Deficient to meet requirements 0 - No submission | F30: 0.01 | G30: 4 | J30: 0
A31: 2.21 | B31: Ability to view inspection reports captured | E31: 4 – Fully compliant 2 – Not fully compliant but tolerable 1- Deficient to meet requirements 0 - No submission | F31: 0.01 | G31: 4 | J31: 0
A32: 2.22 | B32: The system must have the capability to generate an RBI report scorecard detailing the findings of applying the RBI process | E32: 4 – Fully compliant 2 – Not fully compliant but tolerable 1- Deficient to meet requirements 0 - No submission | F32: 0.02 | G32: 4 | J32: 0
A33: 2.23 | B33: The capability to view the results of Level 1 level 2 and level 3 Risks assessment in a matrix form | E33: 4 – Fully compliant 2 – Not fully compliant but tolerable 1- Deficient to meet requirements 0 - No submission | F33: 0.02 | G33: 4 | J33: 0
A34: 2.24 | B34: Ability of a system to generate a view of the plant components subjected to risk assessment, e.g. boiler components, turbine components | E34: 4 – Fully compliant 2 – Not fully compliant but tolerable 1- Deficient to meet requirements 0 - No submission | F34: 0.02 | G34: 4 | J34: 0
A35: 2.25 | B35: The ability to trend and simulate the escalation of risk through the assessed period. To flag the specific equipment which escalates to high risk 12 months before the escalation for e. g. by sending out a notification if no new inspection data has been added for the specific piece of equipment. | E35: 4 – Fully compliant 2 – Not fully compliant but tolerable 1- Deficient to meet requirements 0 - No submission | F35: 0.02 | G35: 4 | J35: 0
B36: Document Management
A37: 2.26 | B37: Ability to source the Design documents by creating a link on the RBI system with a reference to the actual document from the source document | E37: 4 – Fully compliant 2 – Not fully compliant but tolerable 1- Deficient to meet requirements 0 - No submission | F37: 0.0075 | G37: 4 | J37: 0
A38: 2.27 | B38: Ability to source the Operating Documents by creating a link on the RBI system with a reference to the actual document from the source document | E38: 4 – Fully compliant 2 – Not fully compliant but tolerable 1- Deficient to meet requirements 0 - No submission | F38: 0.0075 | G38: 4 | J38: 0
A39: 2.28 | B39: Functionality to store the RBI Assessment Report reports on and create a link with the enterprise document management system (currently Hyperwave, in the process of migrating to Open Text) | E39: 4 – Fully compliant 2 – Not fully compliant but tolerable 1- Deficient to meet requirements 0 - No submission | F39: 0.0075 | G39: 4 | J39: 0
B40: Other
A41: 2.29 | B41: A search capability that will enable management to easily access and compare components data between stations | E41: 4 – Fully compliant 2 – Not fully compliant but tolerable 1- Deficient to meet requirements 0 - No submission | F41: 0.01 | G41: 4 | J41: 0
...

Sheet Non-Functional Criteria
B2: Engineering Design and Technical Document Management Software - Request for Information (RFI)
B3: Name of Scorer:
C4: NOTE TO SUPPLIERS: Please provide your response in the cells below corresponding to each question. If there is a requirement to provide additional information, please reference the additional documentation accordingly and strictly according to the numbering in this spreadsheet.
B6: Non-Functional Evaluation Criteria | D6: Gatekeeper | E6: Criteria | F6: Section Weighting | G6: Max score | I6: ='Evaluation Summary'!D4 -> Company 1 | J6: Company Actual Score | K6: Scorer's Evidence / Reference / Comment | M6: ='Evaluation Summary'!E4 -> Company 2 | N6: Company Actual Score | O6: Scorer's Evidence / Reference / Comment | Q6: ='Evaluation Summary'!F4 -> Company 3 | R6: Company Actual Score | S6: Scorer's Evidence / Reference / Comment | U6: ='Evaluation Summary'!G4 -> Company 4 | V6: Company Actual Score | W6: Scorer's Evidence / Reference / Comment | Y6: ='Evaluation Summary'!H4 -> Company 5 | Z6: Company Actual Score | AA6: Scorer's Evidence / Reference / Comment
B7: ='Evaluation Summary'!B10 -> Section 3 - General Capability Questions | C7: Response | F7: ='Evaluation Summary'!C10/'Evaluation Summary'!$C$23 -> 0.025 | G7: =SUM(G8:G12) -> 5 | J7: =SUM(J8:J12) -> 0 | N7: =SUM(N8:N12) -> 0 | R7: =SUM(R8:R12) -> 0 | V7: =SUM(V8:V12) -> 0 | Z7: =SUM(Z8:Z12) -> 0
A8: 3.1 | B8: Describe the user interface e.g. via browser, navigation (how user-friendly) | E8: 1 - Information provided 0 - Information not provided | F8: 0.005 | G8: 1 | J8: 0 | N8: 0 | R8: 0 | V8: 0 | Z8: 0
A9: 3.2 | B9: Can the product cater for both internal staff as well as external users such as contractors and consultants? | E9: 1 - Yes 0 - No | F9: 0.005 | G9: 1 | J9: 0 | N9: 0 | R9: 0 | V9: 0 | Z9: 0
A10: 3.3 | B10: Does your product offer both a perpetual and cloud based version? | E10: 1 - Yes 0 - No | F10: 0.005 | G10: 1 | J10: 0 | N10: 0 | R10: 0 | V10: 0 | Z10: 0
A11: 3.4 | B11: Has your solution been designed with specific focus to support risk based inspection organizations? Provide examples of organizations/ implementations. | E11: 1 - Yes 0 - No | F11: 0.005 | G11: 1 | J11: 0 | N11: 0 | R11: 0 | V11: 0 | Z11: 0
A12: 3.5 | B12: Can your solution be deployed to a number of remote locations over a distributed IT infrastructure network? | E12: 1 - Yes 0 - No | F12: 0.005 | G12: 1 | J12: 0 | N12: 0 | R12: 0 | V12: 0 | Z12: 0
F13: =SUM(F8:F12) -> 0.025 | G13: =SUM(G8:G12) -> 5 | J13: =SUM(J7/$G$13*$F$13) -> 0 | N13: =SUM(N7/$G$13*$F$13) -> 0 | R13: =SUM(R7/$G$13*$F$13) -> 0 | V13: =SUM(V7/$G$13*$F$13) -> 0 | Z13: =SUM(Z7/$G$13*$F$13) -> 0
J14: Weighted section score % | N14: Weighted section score % | R14: Weighted section score % | V14: Weighted section score % | Z14: Weighted section score %
B16: ='Evaluation Summary'!B11 -> Section 4 - Cloud (current approval for secure, private, on-premise) | F16: ='Evaluation Summary'!C11/'Evaluation Summary'!$C$23 -> 0.025 | G16: =SUM(G17:G32) -> 16 | I16: ='Evaluation Summary'!D4 -> Company 1 | J16: =SUM(J17:J32) -> 0 | K16: Scorer's Evidence / Reference / Comment | M16: ='Evaluation Summary'!E4 -> Company 2 | N16: =SUM(N17:N32) -> 0 | O16: Scorer's Evidence / Reference / Comment | Q16: Company Name 3 | R16: =SUM(R17:R32) -> 0 | S16: Scorer's Evidence / Reference / Comment | U16: Company Name 4 | V16: =SUM(V17:V32) -> 0 | W16: Scorer's Evidence / Reference / Comment | Y16: Company Name 5 | Z16: =SUM(Z17:Z32) -> 0 | AA16: Scorer's Evidence / Reference / Comment
A17: 4.1 | B17: Do you have a cloud service model which could accommodate sensitive data e.g. on-premise SaaS? | E17: 1 - Yes 0 - No | F17: 0.0055 | G17: 1 | J17: 0 | N17: 0 | R17: 0 | V17: 0 | Z17: 0
A18: 4.2 | B18: Please specify your Service Deployment Model (Private, Public or Hybrid)? | E18: 2 - Private 1 - Hybrid 0 - Information not provided/ Public | F18: 0.0025 | G18: 1 | J18: 0 | N18: 0 | R18: 0 | V18: 0 | Z18: 0
A19: 4.3 | B19: Describe your Commercial Model (Fixed Contract, Subscription or Consumptive)? | E19: 1 - Information provided 0 - Information not provided | F19: 0.0005 | G19: 1 | J19: 0 | N19: 0 | R19: 0 | V19: 0 | Z19: 0
A20: 4.4 | B20: Please supply a costing model for all elements of the service (e.g vCPU, RAM, Disk\ Egress or Ingress Traffic or Cost per user)? | E20: 1 - Information provided 0 - Information not provided | F20: 0.0005 | G20: 1 | J20: 0 | N20: 0 | R20: 0 | V20: 0 | Z20: 0
A21: 4.5 | B21: ESKOM will retain ownership of the data that ESKOM stores, transmits, and/or creates with the cloud service. The ownership includes all copies of data available with the CSP, including backups. | E21: 1 -Service Provider agrees 0 - Information not provided/ SP disagrees | F21: 0.0005 | G21: 1 | J21: 0 | N21: 0 | R21: 0 | V21: 0 | Z21: 0
A22: 4.6 | B22: ESKOM will gain ownership of metadata generated by the cloud service system during procedures of upload, management, download, and migration. Eskom data must be provided in an agreed format and time frame. | E22: 1 -Service Provider agrees 0 - Information not provided/ disagrees | F22: 0.0005 | G22: 1 | J22: 0 | N22: 0 | R22: 0 | V22: 0 | Z22: 0
A23: 4.7 | B23: Is the availibility of the service clearly stated in % and\or Hours per year? | E23: 1 - Information provided 0 - Information not provided | F23: 0.0005 | G23: 1 | J23: 0 | N23: 0 | R23: 0 | V23: 0 | Z23: 0
A24: 4.8 | B24: Supplier must stipulate the procedure, cost (or cost estimate or costing basis), and time period for returning/transferring ESKOM data at the end of the contract. | E24: 1 - Information provided 0 - Information not provided | F24: 0.0005 | G24: 1 | J24: 0 | N24: 0 | R24: 0 | V24: 0 | Z24: 0
A25: 4.9 | B25: Do all terms, certifications and standards apply to and include the DR service? | E25: 1 - Yes 0 - No | F25: 0.0005 | G25: 1 | J25: 0 | N25: 0 | R25: 0 | V25: 0 | Z25: 0
A26: 4.10 | B26: Does the degree of availability of the data meet ESKOM business needs as defined? | E26: 1 - Yes 0 - No | F26: 0.0005 | G26: 1 | J26: 0 | N26: 0 | R26: 0 | V26: 0 | Z26: 0
A27: 4.11 | B27: Can the backup retention be specified\customized by Eskom? | E27: 1 - Yes 0 - No | F27: 0.0005 | G27: 1 | J27: 0 | N27: 0 | R27: 0 | V27: 0 | Z27: 0
A28: 4.12 | B28: Does the Supplier offer any service levels related to data restoration in the event of data loss or corruption? | E28: 1 - Yes 0 - No | F28: 0.0005 | G28: 1 | J28: 0 | N28: 0 | R28: 0 | V28: 0 | Z28: 0
... A32: 4.16 | B32: Does Supplier comply with the location requirements that might be imposed on ESKOM organization’s data by law, especially by applicable privacy law? | E32: 1 - Yes 0 - No | F32: 0.0055 | G32: 1 | J32: 0 | N32: 0 | R32: 0 | V32: 0 | Z32: 0
B33: Sub-Total | F33: =SUM(F17:F32) -> 0.025 | G33: =SUM(G17:G32) -> 16 | J33: =SUM(J16/$G$33*$F$33) -> 0 | N33: =SUM(N16/$G$33*$F$33) -> 0 | R33: =SUM(R16/$G$33*$F$33) -> 0 | V33: =SUM(V16/$G$33*$F$33) -> 0 | Z33: =SUM(Z16/$G$33*$F$33) -> 0
J34: Weighted section score % | N34: Weighted section score % | R34: Weighted section score % | V34: Weighted section score % | Z34: Weighted section score %
B36: ='Evaluation Summary'!B12 -> Section 5 - Security | F36: ='Evaluation Summary'!C12/'Evaluation Summary'!$C$23 -> 0.125 | G36: =SUM(G37:G53) -> 17 | I36: ='Evaluation Summary'!D4 -> Company 1 | J36: =SUM(J37:J53) -> 0 | K36: Scorer's Evidence / Reference / Comment | M36: ='Evaluation Summary'!E4 -> Company 2 | N36: =SUM(N37:N53) -> 0 | O36: Scorer's Evidence / Reference / Comment | Q36: ='Evaluation Summary'!F4 -> Company 3 | R36: =SUM(R37:R53) -> 0 | S36: Scorer's Evidence / Reference / Comment | U36: ='Evaluation Summary'!G4 -> Company 4 | V36: =SUM(V37:V53) -> 0 | W36: Scorer's Evidence / Reference / Comment | Y36: ='Evaluation Summary'!H4 -> Company 5 | Z36: =SUM(Z37:Z53) -> 0 | AA36: Scorer's Evidence / Reference / Comment
A37: 5.1 | B37: Describe how your software solution is designed to identify and authenticate end users to access the system? | E37: 1 - Information provided/ authentication securely 0 - Information not provided | F37: 0.0075 | G37: 1 | J37: 0 | N37: 0 | R37: 0 | V37: 0 | Z37: 0
A38: 5.2 | B38: Can your product be accessed by multiple stakeholders internal and external (e.g. consultants, contractors) of the organization in a secure way? | E38: 1 - Yes 0 - No | F38: 0.0075 | G38: 1
A39: 5.3 | B39: Describe your solution's mobile security strategy and indicate the process for end user identification and authorization? | E39: 1 - Information provided/ mobile users authenticated securely 0 - Information not provided | F39: 0.0075 | G39: 1
A40: 5.4 | B40: Explain how your solution manages sensitive data within your application and database? | E40: 1 - Information provided/ sensitive data protected adequately 0 - Information not provided/ sensitive data not protected adequately | F40: 0.0075 | G40: 1 | J40: 0 | N40: 0 | R40: 0 | V40: 0 | Z40: 0
A41: 5.5 | B41: Does your solution log all system and end user activity? State how these logs are securely managed | E41: 1 - Yes 0 - No | F41: 0.0075 | G41: 1 | J41: 0 | N41: 0 | R41: 0 | V41: 0 | Z41: 0
A42: 5.6 | B42: Explain how security events and incidents are communicated from remote locations (data in transit) to the central server infrastructure? | E42: 1 - Information provided 0 - Information not provided | F42: 0.0075 | G42: 1 | J42: 0 | N42: 0 | R42: 0 | V42: 0 | Z42: 0
A43: 5.7 | B43: Describe and explain how your solution manages data at rest in your respective databases (on site and central server infrastructure)? | E43: 1 - Information provided 0 - Information not provided | F43: 0.0075 | G43: 1 | J43: 0 | N43: 0 | R43: 0 | V43: 0 | Z43: 0
A44: 5.8 | B44: Is your solution designed to grant access to role based end users? | E44: 1 - Yes 0 - No | F44: 0.0075 | G44: 1 | J44: 0 | N44: 0 | R44: 0 | V44: 0 | Z44: 0
A45: 5.9 | B45: Describe if your software solution generates standard and / or customized security logs and reports? | E45: 1 - Yes 0 - No | F45: 0.0075 | G45: 1 | J45: 0 | N45: 0 | R45: 0 | V45: 0 | Z45: 0
A46: 5.10 | B46: What intrusion detection solution is used to detect illegal access to the software solution? | E46: 1 - Information provided 0 - Information not provided | F46: 0.0075 | G46: 1 | J46: 0 | N46: 0 | R46: 0 | V46: 0 | Z46: 0
A47: 5.11 | B47: What security authentication protocols and mechanism is used to grant access to end users to the software solution? | E47: 1 - Information provided 0 - Information not provided | F47: 0.0075 | G47: 1 | J47: 0 | N47: 0 | R47: 0 | V47: 0 | Z47: 0
...

Sheet System Demo
B1: Technical Evaluation Criteria - RFI for Engineering Design and Technical Document Management Software
B3: ='Evaluation Summary'!B25 -> Section 16 - Demo (Remember to include on USB stick as a pre-recorded mp4. Note :no cd's will be accepted) | C3: NOTE TO SUPPLIERS: Please provide your response in the cells below corresponding to each question. If there is a requirement to provide additional information, please reference the additional documentation accordingly and strictly according to the numbering in this spreadsheet. | D3: Criteria | E3: Section Weighting | F3: Max score | H3: ='Evaluation Summary'!D4 -> Company 1 | I3: Company Score | J3: Scorer's Evidence / Reference / Comment | L3: ='Evaluation Summary'!E4 -> Company 2 | M3: Company Score | N3: Scorer's Evidence / Reference / Comment | P3: ='Evaluation Summary'!F4 -> Company 3 | Q3: Company Score | R3: Scorer's Evidence / Reference / Comment | T3: ='Evaluation Summary'!G4 -> Company 4 | U3: Company Score | V3: Scorer's Evidence / Reference / Comment | X3: ='Evaluation Summary'!H4 -> Company 5 | Y3: Company Score | Z3: Scorer's Evidence / Reference / Comment
C4: Response
B5: DEMONSTRATE COMPLIANCE OBLIGATIONS/ STATUTORY REQUIREMENTS
A6: 16.1 | B6: Please demonstrate that the software solution supports the Risk Based Inspection of pressure equipment as per the (Pressure Equipment Regulations of 2009 and designed in accordance to CWA 15740, applicable to Sound engineering Principles up to category IV as per SANS 347 definitions). For categorisation principles the fluid group definition as per SANS 347 edition 2 will apply, but for all other aspects Edition 3 will apply. Software must cater for all requirements as stipulated in SANS347 with regards to categorisation and PER regulation 12. | D6: 4 – Fully compliant to CWA 15740 and/or EN16991, SANS 347 and PER 2 – Not fully compliant but tolerable 1 - Deficient to meet requirements of CWA15740 and/or EN16991, SANS 347 and PER 0 - No submission/ could not demonstrate the requirements | F6: 4 | I6: 0 | M6: 0 | Q6: 0 | U6: 0 | Y6: 0
B7: DEMONSTRATE FUNCTIONAL REQUIREMENTS
B8: Data input
A9: 16.2 | B9: Demonstrate how existing and historical data such as failure information, inspection data, design data, operational data can be imported from various IT and plant sources and formats. | D9: 4 – Fully compliant 2 – Not fully compliant but tolerable 1 - Deficient to meet requirements 0 - Not demonstrated | F9: 4 | I9: 0 | M9: 0 | Q9: 0 | U9: 0 | Y9: 0
A10: 16.3 | B10: Demonstrate how existing and historical data such as failure information, inspection data, design data, operational can be manually captured when required (e.g. from hard copy source documents) | D10: 4 – Fully compliant 2 – Not fully compliant but tolerable 1 - Deficient to meet requirements 0 - Not demonstrated | F10: 4 | I10: 0 | M10: 0 | Q10: 0 | U10: 0 | Y10: 0
B11: Manage the configuration for pressurised items of plant
A12: 16.4 | B12: Separate items based on function utilising equipment types and SANS requirements. | D12: 4 – Fully compliant to CWA 15740 and/or EN16991, SANS 347 and PER 2 – Not fully compliant but tolerable 1 - Deficient to meet requirements of CWA15740 and/or EN16991, SANS 347 and PER 0 - No submission/ could not demonstrate the requirements | F12: 4 | I12: 0 | M12: 0 | Q12: 0 | U12: 0 | Y12: 0
A13: 16.5 | B13: Filter and display all pressurized equipment which falls within the requirements of the OHS and SANS requirement.Provide for functional location codes, description together with serial numbers where applicable. | D13: 4 – Fully compliant to CWA 15740 and/or EN16991, SANS 347 and PER 2 – Not fully compliant but tolerable 1 - Deficient to meet requirements of CWA15740 and/or EN16991, SANS 347 and PER 0 - No submission/ could not demonstrate the requirements | F13: 4 | I13: 0 | M13: 0 | Q13: 0 | U13: 0 | Y13: 0
A14: 16.6 | B14: Demonstrate functionality to cater for equipment deployment status i.e. installed, removed, de-commissioned together with history tracking for where previously installed. (Establish if item is installed and requires monitoring). | D14: 4 – Fully compliant 2 – Not fully compliant but tolerable 1 - Deficient to meet requirements 0 - Not demonstrated | F14: 4 | I14: 0 | M14: 0 | Q14: 0 | U14: 0 | Y14: 0
B15: Plant criticality and inspections (Note: SAP Plant Maintenance (SAP PM) is available in Eskom)
A16: 16.7 | B16: Classify equipment based on plant criticality. | D16: 4 – Fully compliant 2 – Not fully compliant but tolerable 1 - Deficient to meet requirements 0 - Not demonstrated | F16: 4 | I16: 0 | M16: 0 | Q16: 0 | U16: 0 | Y16: 0
A17: 16.8 | B17: Demonstrate how inspections are standarsised per equipment type. | D17: 4 – Fully compliant 2 – Not fully compliant but tolerable 1 - Deficient to meet requirements 0 - Not demonstrated | F17: 4 | I17: 0 | M17: 0 | Q17: 0 | U17: 0 | Y17: 0
A18: 16.9 | B18: Demonstrate the automation of inspections (triggering of inspections, monitoring or maintenance interventions which will generate work orders as and when required) | D18: 4 – Fully compliant 2 – Not fully compliant but tolerable 1 - Deficient to meet requirements 0 - Not demonstrated | F18: 4 | I18: 0 | M18: 0 | Q18: 0 | U18: 0 | Y18: 0
A19: 16.10 | B19: Cater for the scheduling of work – surveys by assigning resources, dates plant access etc. (Schedule resources and work). | D19: 4 – Fully compliant 2 – Not fully compliant but tolerable 1 - Deficient to meet requirements 0 - Not demonstrated | F19: 4 | I19: 0 | M19: 0 | Q19: 0 | U19: 0 | Y19: 0
A20: 16.11 | B20: Analyse equipment status utilising information captured, comparing to previous results and rendering images associated with surveys conducted against unique plant items. | D20: 4 – Fully compliant 2 – Not fully compliant but tolerable 1 - Deficient to meet requirements 0 - Not demonstrated | F20: 4 | I20: 0 | M20: 0 | Q20: 0 | U20: 0 | Y20: 0
A21: 16.12 | B21: Send the inspection maintenance and testing information to SAP PM | D21: 4 – Fully compliant 2 – Not fully compliant but tolerable 1 - Deficient to meet requirements 0 - Not demonstrated | F21: 4 | I21: 0 | M21: 0 | Q21: 0 | U21: 0 | Y21: 0
A22: 16.13 | B22: The tool must cater for the requirement to define and schedule inspection interventions required to determine the plant condition using RBI principles. | D22: 4 – Fully compliant 2 – Not fully compliant but tolerable 1 - Deficient to meet requirements 0 - Not demonstrated | F22: 4 | I22: 0 | M22: 0 | Q22: 0 | U22: 0 | Y22: 0
B23: RBI reporting
A24: 16.14 | B24: Generate an RBI report scorecard detailing the findings of applying the RBI process | D24: 4 – Fully compliant 2 – Not fully compliant but tolerable 1 - Deficient to meet requirements 0 - Not demonstrated | F24: 4 | I24: 0 | M24: 0 | Q24: 0 | U24: 0 | Y24: 0
A25: 16.15 | B25: View the results of Level 1 level 2 and level 3 Risks assessment in a matrix form | D25: 4 – Fully compliant 2 – Not fully compliant but tolerable 1 - Deficient to meet requirements 0 - Not demonstrated | F25: 4 | I25: 0 | M25: 0 | Q25: 0 | U25: 0 | Y25: 0
A26: 16.16 | B26: Generate a view of the plant components subjected to risk assessment, e.g. boiler components, turbine components | D26: 4 – Fully compliant 2 – Not fully compliant but tolerable 1 - Deficient to meet requirements 0 - Not demonstrated | F26: 4 | I26: 0 | M26: 0 | Q26: 0 | U26: 0 | Y26: 0
A27: 16.17 | B27: The ability to trend and simulate the escalation of risk through the assessed period. To flag the specific equipment which escalates to high risk 12 months before the escalation for e. g. by sending out a notification if no new inspection data has been added for the specific piece of equipment. | D27: 4 – Fully compliant 2 – Not fully compliant but tolerable 1 - Deficient to meet requirements 0 - Not demonstrated | F27: 4 | I27: 0 | M27: 0 | Q27: 0 | U27: 0 | Y27: 0
A28: 16.18 | B28: Trend and simulate the escalation of risk through the assessed period. To flag the specific equipment which escalates to high risk 12 months before the escalation for e. g. by sending out a notification if no new inspection data has been added for the specific piece of equipment. | D28: 4 – Fully compliant 2 – Not fully compliant but tolerable 1 - Deficient to meet requirements 0 - Not demonstrated | F28: 4 | I28: 0 | M28: 0 | Q28: 0 | U28: 0 | Y28: 0
A29: 16.19 | B29: If possible, demonstrate how an end user may customize his/her own reports based on a power plant hierachical structure | D29: 4 – Fully compliant 2 – Not fully compliant but tolerable 1 - Deficient to meet requirements 0 - Not demonstrated | F29: 4 | I29: 0 | M29: 0 | Q29: 0 | U29: 0 | Y29: 0
B30: Mobile devices
A31: 16.20 | B31: Demonstrate how your mobile app accesses the core infrastructure/ application capabilities by using a mobile device such as a tablet and / or mobile phone | D31: 4 – Fully compliant 2 – Not fully compliant but tolerable 1 - Deficient to meet requirements 0 - Not demonstrated | F31: 4 | I31: 0 | M31: 0 | Q31: 0 | U31: 0 | Y31: 0
B32: Data output
A33: 16.21 | B33: Demonstrate how data may be exported into different electronic formats for the purpose of further analysis such as in MS Excel or Power BI | D33: 4 – Fully compliant 2 – Not fully compliant but tolerable 1 - Deficient to meet requirements 0 - Not demonstrated | F33: 4 | I33: 0 | M33: 0 | Q33: 0 | U33: 0 | Y33: 0
A34: 16.22 | B34: If possible, demonstrate how the tool could possibly support sharing and collaboration regarding RBI data e.g. on SharePoint, Power BI Pro, Open Text etc | D34: 4 – Fully compliant 2 – Not fully compliant but tolerable 1 - Deficient to meet requirements 0 - Not demonstrated | F34: 4 | I34: 0 | M34: 0 | Q34: 0 | U34: 0 | Y34: 0
B35: Other
A36: 16.23 | B36: A search capability that will enable management to easily access and compare components data between stations | D36: 4 – Fully compliant 2 – Not fully compliant but tolerable 1 - Deficient to meet requirements 0 - Not demonstrated | F36: 4 | I36: 0 | M36: 0 | Q36: 0 | U36: 0 | Y36: 0
A37: 16.24 | B37: Demonstrate the use of hyperlinks to facilitate access to RBI reports, operating and design documents/ data | D37: 4 – Fully compliant 2 – Not fully compliant but tolerable 1 - Deficient to meet requirements 0 - Not demonstrated | F37: 4 | I37: 0 | M37: 0 | Q37: 0 | U37: 0 | Y37: 0
B38: DEMONSTRATE NON-FUNCTIONAL REQUIREMENTS
B39: Easy of use interface
A40: 16.25 | B40: Demonstrate your end user navigational strategy? How difficult / easy can an end user use the system? Is it web-based (accssed via a browser)? | D40: 4 - Very user-friendly, excellent user interface and navigational capabilities 2 - Good user interface and navigational capbilities 1 - Tolerable user interface and navigational capbilities 0 - Not user-friendly | F40: 4 | I40: 0 | M40: 0 | Q40: 0 | U40: 0 | Y40: 0
B41: Operating systems
...
