Workbook
Name \A: [1]Sched2!#REF!
Name \A: [1]Sched2!#REF!
Name \A: [1]Sched2!#REF!
Name \A: [1]Sched2!#REF!
Name \A: [1]Sched2!#REF!
Name \A: [1]Sched2!#REF!
Name \A: [1]Sched2!#REF!
Name \B: [1]Sched2!#REF!
Name \B: [1]Sched2!#REF!
Name \C: [1]Sched2!#REF!
Name \C: [1]Sched2!#REF!
Name \D: [1]Sched2!#REF!
Name \D: [1]Sched2!#REF!
Name \E: [1]Sched2!#REF!
Name \E: [1]Sched2!#REF!
Name \F: [1]Sched2!#REF!
Name \G: [1]Sched2!#REF!
Name \H: [1]Sched2!#REF!
Name \J: [1]Sched2!#REF!
Name \K: [1]Sched2!#REF!
Name \Q: [1]Sched2!#REF!
Name __SEC1200: #REF!
Name __SEC1200: #REF!
Name __SEC1200: #REF!
Name __SEC1200: #REF!
Name __SEC1200: #REF!
Name __SEC1200: #REF!
Name __SEC1200: #REF!
Name _1SCHEDULE_1: #REF!
Name _1SCHEDULE_1: #REF!
Name _1SCHEDULE_1: #REF!
Name _1SCHEDULE_1: #REF!
Name _1SCHEDULE_1: #REF!
Name _1SCHEDULE_1: #REF!
Name _1SCHEDULE_1: #REF!
Name _2SCHEDULE_2: #REF!
Name _2SCHEDULE_2: #REF!
Name _2SCHEDULE_2: #REF!
Name _2SCHEDULE_2: #REF!
Name _2SCHEDULE_2: #REF!
Name _2SCHEDULE_2: #REF!
Name _2SCHEDULE_2: #REF!
Name _SEC1200: #REF!
Name _SEC1200: #REF!
Name _SEC1200: #REF!
Name _SEC1200: #REF!
Name _SEC1200: #REF!
Name _SEC1200: #REF!
Name _SEC1200: #REF!
Name _tax1: #REF!
Name _tax1: #REF!
Name _tax1: #REF!
Name _tax1: #REF!
Name _tax1: #REF!
Name _tax1: #REF!
Name _tax1: #REF!
Name _tax2: #REF!
Name _tax3: #REF!
Name _tax4: #REF!
Name Address: '[6]Contract Info'!$F$29

Sheet Checklist
A1: CHECKLIST FOR PAYMENT CERTIFICATES
A2: INFRASTRUCTURE DEVELOPMENT
A4: SUPPLIER: | C4: BAGAPHALA PROJECTS TRADING
A6: PROJECT DESCRIPTION: | C6: UPGRADING OF GRAVEL ROADS TO SURFACE STANDARDS IN WARD 4 AND 131, ORANGE FARM FOR TWO FINANCIAL YEARS
A8: CERTIFICATE NUMBER: | C8: 8 | E8: AMOUNT (EXCL VAT): | G8: ='JRA CERTIFICATE'!J38 -> #REF!
A10: Item Checked | E10: Yes | F10: No | G10: Comments
A11: Name and Address of Contractor / Consultant | E11: ü
A13: Contractor / Consultant VAT Number | E13: ü
A15: "Tax Invoice" clearly Indicated | E15: ü
A17: Statement attached | E17: ü
A19: Tax Invoice Number | E19: ü
A21: Tax Invoice Date | E21: ü
A23: Full Name & Address of JRA | E23: ü
A25: JRA VAT Number (4370192314) | E25: ü
A27: Amount | E27: ü
A29: VAT Charged | E29: ü
A31: Total Amount | E31: ü
A33: Evidence of Work
D34: Project Managers Report | E34: ü
D35: Consultant/Contractors Report | E35: ü
A37: BOQ (where necessary)
A39: Appointment Letter (where necessary) | E39: ü
A41: Vote Number | E41: ü
A43: Current invoice is within the contract value | E43: ü
A45: Signed by Project Manager | E45: ü | F45: SIGNATURE
F46: DATE
F47: SIGNATURE
A48: Signed by Ops Manager | F48: DATE

Sheet RECONCILIATION
A1: RECONCILIATION OF CONTRACTOR PAYMENTS
A3: Contract No. : | C3: JRA/20/133B
A5: Project Name : | C5: Upgrading Of Gravel Roads To Surface Standards Inclusive of Associated Stormwater In Ward 4 and Ward 131 in Orange Farm Phase 3B For 2020/21 and 2021/22 Financial Years
A7: Contractor : | C7: BAGAPHALA PROJECTS TRADING CC
A9: Appointment Value : | C9: =[13]SUMMARY!G30 -> 29939811
A11: Cert. No. | B11: Month / Date | C11: Invoice No. | D11: Certificate Amount (Excl VAT) | E11: Retention (Excl VAT) | F11: Total (Excl VAT) | G11: Cumulative Certificate (Excl VAT) | H11: Cumulative Retention (Excl VAT) | I11: Cumulative Total (Excl VAT)
A12: 1 | B12: 44322 | C12: INAJRA00001 | D12: 2846377.9 | E12: 116160.84 | F12: =D12+E12 -> 2962538.8 | G12: =D12 -> 2846377.9 | H12: =E12 -> 116160.84 | I12: =F12 -> 2962538.8
A13: 2 | B13: 44357 | C13: INAJRA00002 | D13: 2962140.4 | E13: 403289.05 | F13: =D13+E13 -> 3365429.4 | G13: =G12+D13 -> 5808518.3 | H13: =H12+E13 -> 519449.89 | I13: =I12+F13 -> 6327968.2
A14: 3 | B14: 44370 | C14: INAJRA00003 | D14: 2838319.5 | E14: 230819.66 | F14: =D14+E14 -> 3069139.2 | G14: =G13+D14 -> 8646837.8 | H14: =H13+E14 -> 750269.55 | I14: =I13+F14 -> 9397107.4 | K14: =C9-I14 -> 20542704
A15: 4 | B15: 44412 | C15: INAJRA00004 | D15: 972830.49 | E15: 108092.28 | F15: =D15+E15 -> 1080922.8 | G15: =G14+D15 -> 9619668.3 | H15: =H14+E15 -> 858361.83 | I15: =I14+F15 -> 10478030
A16: =A15+1 -> 5 | B16: 44428 | C16: INAJRA00005 | D16: 1784778.7 | E16: 211468.74 | F16: =D16+E16 -> 1996247.4 | G16: =G15+D16 -> 11404447 | H16: =H15+E16 -> 1069830.6 | I16: =I15+F16 -> 12474278
A17: =A16+1 -> 6 | B17: 44468 | C17: INAJRA00006 | D17: 2538018.3 | E17: 428632.25 | F17: 2966650.5 | G17: =G16+D17 -> 13942465 | H17: =H16+E17 -> 1498462.8 | I17: =I16+F17 -> 15440928
A18: =A17+1 -> 7 | B18: 44497 | C18: INAJRA00007 | D18: 1520032.5 | E18: 168892.5 | F18: =D18+E18 -> 1688925 | G18: =G17+D18 -> 15462498 | H18: =H17+E18 -> 1667355.3 | I18: =I17+F18 -> 17129853
A19: =A18+1 -> 8 | B19: 44522 | C19: INAJRA00008 | D19: 2660318.5 | E19: 295590.94 | F19: =D19+E19 -> 2955909.4 | G19: =G18+D19 -> 18122816 | H19: =H18+E19 -> 1962946.3 | I19: =I18+F19 -> 20085763
A20: =A19+1 -> 9 | B20: 44540 | C20: INAJRA00009 | D20: 2013619.7 | E20: 223735.53 | F20: =D20+E20 -> 2237355.2 | G20: =G19+D20 -> 20136436 | H20: =H19+E20 -> 2186681.8 | I20: =I19+F20 -> 22323118
A21: =A20+1 -> 10 | B21: ='JRA CERTIFICATE'!F11 -> 44620 | C21: INAJRA00009 | D21: ='JRA CERTIFICATE'!J38 -> #REF! | E21: ='JRA CERTIFICATE'!G36 -> #REF! | F21: =D21+E21 -> #REF! | G21: =G20+D21 -> #REF! | H21: =H20+E21 -> #REF! | I21: =I20+F21 -> #REF!
A22: =A21+1 -> 11 | F22: =D22+E22 -> 0 | G22: =G21+D22 -> #REF! | H22: =H21+E22 -> #REF! | I22: =I21+F22 -> #REF!
A23: =A22+1 -> 12 | F23: =D23+E23 -> 0 | G23: =G22+D23 -> #REF! | H23: =H22+E23 -> #REF! | I23: =I22+F23 -> #REF!
A24: =A23+1 -> 13 | F24: =D24+E24 -> 0 | G24: =G23+D24 -> #REF! | H24: =H23+E24 -> #REF! | I24: =I23+F24 -> #REF!
A25: =A24+1 -> 14 | F25: =D25+E25 -> 0 | G25: =G24+D25 -> #REF! | H25: =H24+E25 -> #REF! | I25: =I24+F25 -> #REF!
A26: =A25+1 -> 15 | F26: =D26+E26 -> 0 | G26: =G25+D26 -> #REF! | H26: =H25+E26 -> #REF! | I26: =I25+F26 -> #REF!
A27: =A26+1 -> 16 | F27: =D27+E27 -> 0 | G27: =G26+D27 -> #REF! | H27: =H26+E27 -> #REF! | I27: =I26+F27 -> #REF!
A28: =A27+1 -> 17 | F28: =D28+E28 -> 0 | G28: =G27+D28 -> #REF! | H28: =H27+E28 -> #REF! | I28: =I27+F28 -> #REF!
A29: =A28+1 -> 18 | F29: =D29+E29 -> 0 | G29: =G28+D29 -> #REF! | H29: =H28+E29 -> #REF! | I29: =I28+F29 -> #REF!
A30: =A29+1 -> 19 | F30: =D30+E30 -> 0 | G30: =G29+D30 -> #REF! | H30: =H29+E30 -> #REF! | I30: =I29+F30 -> #REF!
A31: =A30+1 -> 20 | F31: =D31+E31 -> 0 | G31: =G30+D31 -> #REF! | H31: =H30+E31 -> #REF! | I31: =I30+F31 -> #REF!
A32: =A31+1 -> 21 | F32: =D32+E32 -> 0 | G32: =G31+D32 -> #REF! | H32: =H31+E32 -> #REF! | I32: =I31+F32 -> #REF!
A33: =A32+1 -> 22 | F33: =D33+E33 -> 0 | G33: =G32+D33 -> #REF! | H33: =H32+E33 -> #REF! | I33: =I32+F33 -> #REF!
... A40: =A39+1 -> 29 | F40: =D40+E40 -> 0 | G40: =G39+D40 -> #REF! | H40: =H39+E40 -> #REF! | I40: =I39+F40 -> #REF!
A41: Totals | D41: =SUM(D12:D40) -> #REF! | E41: =SUM(E12:E40) -> #REF! | F41: =SUM(F12:F40) -> #REF! | G41: =G40 -> #REF! | H41: =H40 -> #REF! | I41: =G41+H41 -> #REF!
A42: BALANCE (OVER(-)/ UNDER(+) APPOINTMENT VALUE) | I42: =C9-I41 -> #REF!

Sheet JRA CERTIFICATE
D2: JOHANNESBURG ROADS AGENCY
D4: INFRASTRUCTURE DEVELOPMENT 2021/2022 FINANCIAL YEAR
F5: Payment Certificate
E6: Contract no: | F6: JRA/20/133B
E7: Payment Cert.no: | F7: 10
E8: Contractor: | F8: BAGAPHALA PROJECTS TRADING CC
E9: Description of work: | F9: Upgrading Of Gravel Roads To Surface Standards Inclusive of Associated Stormwater
E11: Date: | F11: 44620 | I11: Company Reg. No.: 2000/028993/07
C13: C a p i t a l B u d g e t A l l o c a t i o n
C14: Item No | D14: Description | J14: Amount
D15: Description on budget: Previous Financial Year (Excld VAT) | J15: 20000000
D16: Description on budget: Current Financial Year (Excld VAT) | J16: 74946000
I18: Total | J18: =SUM(J15:J17) -> 94946000
C19: V a l u e o f t h i s c o n t r a c t
D20: Description | J20: Amount
C21: Value of assignment in previous financial year (Excld VAT) | J21: 9397107.4
C22: Value of appointment in current financial year (Excld VAT) | J22: 20542704
I24: Total | J24: =SUM(J21:J23) -> 29939811
C25: V a l u e o f t h i s C e r t i f i c a t e
D26: Description | I26: % Complete | J26: Amount
C27: Value of Work Completed | J27: =SUMMARY!#REF! -> #REF!
C28: Escalation
I31: Sub total | J31: =SUM(J27:J30) -> #REF!
C32: Retention Limit | E32: 0.1 | F32: of Contract value Excl VAT | H32: Discount | I32: 0 | J32: =+J31*I32 -> #REF!
C33: D e d u c t i o n s | H33: Penalties | J33: 0
C34: Details | E34: Cumulative Retention Amount | F34: Previous Certificate Cumulative Amount | G34: This Certtificate Amount | H34: Less Retention | I34: 0.1 | J34: =+J31*I34 -> #REF!
I35: 80% Materials on site | J35: ='Material on Site'!N66 -> 0
C36: Retention @ | D36: =+I34 -> 0.1 | E36: =+J34 -> #REF! | F36: 2186681.8 | G36: =+E36-F36 -> #REF! | I36: Sub total | J36: =J31-J32-J33-J34+J35 -> #REF!
C37: VAT | D37: 0.15 | E37: =+E36*D37 -> #REF! | F37: =+F36*D37 -> 328002.27 | G37: =+G36*D37 -> #REF! | I37: Less previous payments (VAT excluded) | J37: 20136136
D38: Total | E38: =SUM(E35:E37) -> #REF! | F38: =SUM(F36:F37) -> 2514684.1 | G38: =SUM(G35:G37) -> #REF! | I38: Value of work: Subtotal | J38: =J36-J37 -> #REF!
I39: Plus 15% VAT | J39: =(+J38*0.15) -> #REF!
C40: A l l o c a t i o n s | I40: Amount due ( This certificate) | J40: =J38+J39 -> #REF!
C41: Allocations | D41: Job or Vote Numbers | G41: Amount
C42: Contractor | D42: 31082022.24100.315 | G42: =+J40 -> #REF!
C43: Contractor
C44: Retention | G44: =+G38 -> #REF!
F45: Total | G45: =SUM(G42:G44) -> #REF! | H45: Recommended :
I46: JRA PROJECT MANAGER
C47: I hereby certify that this account is in order,that the goods or services have been supplied, or that the
C48: work had been carried out in an efficient manner,that the price is fair and reasonable and in accordance
...

Sheet SUNDRY
A3: JOHANNESBURG ROADS AGENCY (PTY) LTD
A4: REGISTRATION NUMBER 2000/028993/07
A6: SUNDRY PAYMENT REQUEST
B7: DESIGNATION | D7: NAME | F7: SIGNATURE | H7: DATE | N7: COMMENTS
A8: 1 | B8: RECOMMENDED : PROJECT MANAGER | D8: S MAKATU
A10: 2 | B10: CAPTURED ON PSFT
A12: 3 | B12: MANAGER : FINANCE | D12: T NGOBENI
A15: DETAIL | H15: JOB NUMBER | X15: AMOUNT
X16: R
A17: AMOUNT PAYABLE TO CONTRACTOR
A18: Bagaphala Projects Trading CC | H18: 3 | I18: 1 | J18: 0 | K18: 8 | L18: 2 | M18: 0 | N18: 2 | O18: 2 | P18: 2 | Q18: 4 | R18: 1 | S18: 0 | T18: 0 | U18: 3 | V18: 1 | W18: 5 | X18: ='JRA CERTIFICATE'!J40 -> #REF! | AA18: =FIXED('[14]Contractor Payment Cert'!G42,2,TRUE) -> 0.00
A20: Retention on this Certificate | H20: =MID('[14]Contractor Payment Cert'!D44,1,1) | I20: =MID('[14]Contractor Payment Cert'!D44,2,1) | J20: =MID('[14]Contractor Payment Cert'!D44,3,1) | K20: =MID('[14]Contractor Payment Cert'!D44,4,1) | L20: =MID('[14]Contractor Payment Cert'!D44,5,1) | M20: =MID('[14]Contractor Payment Cert'!D44,6,1) | N20: =MID('[14]Contractor Payment Cert'!D44,7,1) | O20: =MID('[14]Contractor Payment Cert'!D44,8,1) | P20: =MID('[14]Contractor Payment Cert'!D44,9,1) | Q20: =MID('[14]Contractor Payment Cert'!D44,10,1) | R20: =MID('[14]Contractor Payment Cert'!D44,11,1) | S20: =MID('[14]Contractor Payment Cert'!D44,12,1) | T20: =MID('[14]Contractor Payment Cert'!D44,13,1) | U20: =MID('[14]Contractor Payment Cert'!D44,14,1) | V20: =MID('[14]Contractor Payment Cert'!D44,15,1) | W20: =MID('[14]Contractor Payment Cert'!D44,16,1) | X20: ='JRA CERTIFICATE'!G44 -> #REF!
A22: Total of this Certificate | X22: =SUM(X17:Y21) -> #REF!
A23: DESCRIPTION OF PROJECT
A24: Upgrading Of Gravel Roads To Surface Standards Inclusive of Associated Stormwater
A25: In Ward 4 and Ward 131 in Orange Farm Phase 3B For 2020/21 and 2021/22 Financial Years
A27: RECOMMENDED BY | D27: AUTHORISED BY | F27: AUTHORISED BY | I27: AUTHORISED BY | R27: AUTHORISED BY
A28: DESIGNATION | C28: ACCOUNTANT | D28: DESIGNATION | E28: OPS MANAGER : INFRASTRUCTURE DEVELOPMENT | F28: DESIGNATION | G28: HEAD : INFRASTRUCTURE DEVELOPMENT | I28: DESIGNATION | M28: A/CFO : FINANCE | R28: DESIGNATION | W28: CHIEF EXECUTIVE OFFICER | AB28: Managing Director
A29: NAME | D29: NAME | E29: J WHITE | F29: NAME | G29: S GENU | I29: NAME | M29: H NDIWENI | R29: NAME | W29: RS MONAKEDI
A30: DATE | D30: DATE | F30: DATE | I30: DATE | R30: DATE
G32: BUDGET PROVISION: OPS MANAGER : CORPORATE FINANCE

Sheet STATEMENT
F2: Bagaphala Projects Trading CC
F3: VAT NO: 4840262564
F4: Plot 143 Tulip Road, Mnandi, Centurion
F5: Tel: 012 - 111 1974
F6: Mobile Fax : 086 692 8746
F7: Mobile: 0824770223
F8: e-mail: maduker@bagaphala.co.za
A10: Date: | B10: ='JRA CERTIFICATE'!F11 -> 44620
A13: Our Ref: | B13: =RECONCILIATION!C21 -> INAJRA00009
A16: Your Ref: | B16: JRA/20/133B
A18: STATEMENT OF PAYMENTS
A19: Project name | B19: UPGRADING OF GRAVEL ROADS TO SURFACE STANDARDS INCLUSIVE OF ASSOCIATED STORMWATER IN ORANGE FARM
B20: WARD 4 AND WARD 131 PHASE 3B
A21: Invoice Date | B21: Paid Date | C21: Age (days) | D21: Invoice Number | E21: Invoice Value (Including VAT) | F21: Paid Value (Including VAT) | G21: Balance Owing (Including VAT)
A22: 44322 | B22: 44350 | D22: =[13]RECONCILIATION!C12 -> INAJRA00001 | E22: 3273334.6 | F22: 3273334.6 | G22: =E22-F22 -> 0 | I22: =E22/1.15 -> 2846377.9
A23: 44357 | C23: Paid | D23: =[13]RECONCILIATION!C13 -> INAJRA00002 | E23: 3406461.4 | F23: 3406461.4 | G23: =E23-F23 -> 0 | I23: =E23/1.15 -> 2962140.4
A24: 44370 | C24: Paid | D24: =[13]RECONCILIATION!C14 -> INAJRA00003 | E24: 3264067.5 | F24: =E24 -> 3264067.5 | G24: =E24-F24 -> 0 | I24: =E24/1.15 -> 2838319.5
A25: 44412 | B25: 44489 | C25: Paid | D25: INAJRA00004 | E25: 1118755.1 | F25: =E25 -> 1118755.1 | G25: =E25-F25 -> 0 | I25: =E25/1.15 -> 972830.49 | K25: =E22+E23+E24 -> 9943863.5
A26: 44428 | C26: Paid | D26: INAJRA00005 | E26: 2052495.5 | F26: =E26 -> 2052495.5 | G26: =E26-F26 -> 0 | I26: =E26/1.15 -> 1784778.7 | J26: =I25+I26 -> 2757609.2
A27: 44462 | C27: Paid | D27: INAJRA00006 | E27: 2918721 | F27: =E27 -> 2918721 | G27: =E27-F27 -> 0
A28: 44497 | C28: Paid | D28: INAJRA00007 | E28: 1748037.4 | F28: 1748037.4 | G28: =E28-F28 -> 0
A29: 44522 | C29: Paid | D29: INAJRA00008 | E29: 3059366.2 | F29: 3059366.2 | G29: =E29-F29 -> 0
A30: =RECONCILIATION!B20 -> 44540 | C30: Paid | D30: INAJRA00009 | E30: 2315662.6 | F30: 2315662.6 | G30: 0
A31: ='JRA CERTIFICATE'!F11 -> 44620 | C31: Not paid | D31: INAJRA00010 | E31: ='JRA CERTIFICATE'!J40 -> #REF! | G31: =E31 -> #REF! | I31: =E31/1.15 -> #REF!
K35: =K25/1.15 -> 8646837.8
A38: Total | E38: =SUM(E22:E37) -> #REF! | F38: =SUM(F22:F37) -> 23156901 | G38: =SUM(G22:G37) -> #REF!

Sheet Material on Site
A1: =Revision_Date -> Rev 3: 18 August 2020
D4: Johannesburg Road Agency
D5: Materials on Site
E8: CERTIFICATE NO: | F8: {='JRA CERTIFICATE'!F7:H7} -> 10 | G8: 0 | H8: 0
E10: DATE: | F10: ='JRA CERTIFICATE'!F11 -> 44620
E12: CONTRACT NO: | F12: JRA/20/133B
E14: CONTRACT: | F14: Upgrading Of Gravel Roads To Surface Standards Inclusive of Associated Stormwater Ward 4 and Ward 131 Phase 3B
I17: TOTAL MATERIAL ONSITE | L17: CURRENT | O17: PREVIOUS - USED
D18: Item number | E18: Description | H18: Unit | I18: Quanity | J18: Rate | K18: Value | L18: Quantity | M18: Rate | N18: Value | O18: Quantity | P18: Rate | Q18: Value
D19: 1 | E19: Bagaphala Projects Trading cc -450mm Dia IJ Class Class 100D per meter | H19: m | I19: 325 | J19: 758.52 | K19: =I19*J19 -> 246519 | L19: 0 | M19: 758.52 | N19: =L19*M19 -> 0 | O19: 325 | P19: 758.52 | Q19: =O19*P19 -> 246519 | U19: =1662765.9/11340 -> 146.63
D20: 2 | E20: Bagaphala Projects Trading cc -600mm Dia IJ Class Class 100D per meter | H20: m | I20: 680 | J20: 1212.96 | K20: =I20*J20 -> 824812.8 | L20: 0 | M20: 1212.96 | N20: =L20*M20 -> 0 | O20: 680 | P20: 1212.96 | Q20: =O20*P20 -> 824812.8
D21: 3 | E21: Bagaphala Projects Trading cc -525mm Dia IJ Class Class 100D per meter | H21: m | I21: 160 | J21: 969.18 | K21: =I21*J21 -> 155068.8 | L21: 0 | M21: 969.18 | N21: =L21*M21 -> 0 | O21: 160 | P21: 969.18 | Q21: =O21*P21 -> 155068.8
D22: 4 | E22: Bagaphala Projects Trading cc -675mm Dia IJ Class Class 100D per meter | H22: m | I22: 40 | J22: 1638.06 | K22: =I22*J22 -> 65522.4 | L22: =I22-O22 -> 0 | M22: 1638.06 | N22: =L22*M22 -> 0 | O22: 40 | P22: 1638.06 | Q22: =O22*P22 -> 65522.4
D23: 5 | E23: Bagaphala Projects Trading cc -Ker001 Kerb 1000mm | H23: No. | I23: 3400 | J23: 210 | K23: =I23*J23 -> 714000 | L23: 0 | M23: 210 | N23: =L23*M23 -> 0 | O23: =3200+200 -> 3400 | P23: 210 | Q23: =O23*P23 -> 714000
D24: 6 | E24: Bagaphala Projects Trading cc -Ker001 Kerb 330mm | H24: No. | I24: 350 | J24: 210 | K24: =I24*J24 -> 73500 | L24: =I24-O24 -> 0 | M24: 210 | N24: =L24*M24 -> 0 | O24: 350 | P24: 210 | Q24: =O24*P24 -> 73500
D25: 7 | E25: Bagaphala Projects Trading cc -G5 Material | H25: No. | I25: 2218.5 | J25: 700 | K25: =I25*J25 -> 1552950 | L25: =I25-O25 -> 0 | M25: 700 | N25: =L25*M25 -> 0 | O25: 2218.5 | P25: 700 | Q25: =O25*P25 -> 1552950
D26: 8 | E26: Bagaphala Projects Trading cc -G2 Material | H26: No. | I26: 2200 | J26: 750 | K26: =I26*J26 -> 1650000 | L26: =I26-O26 -> 0 | M26: 750 | N26: =SUM(L26*M26) -> 0 | O26: =1496+704 -> 2200 | P26: 750 | Q26: =SUM(O26*P26) -> 1650000
D27: 9 | N27: =SUM(L27*M27) -> 0 | Q27: =SUM(O27*P27) -> 0
D28: 10 | N28: =SUM(L28*M28) -> 0 | Q28: =SUM(O28*P28) -> 0
D29: 11 | N29: =SUM(L29*M29) -> 0 | Q29: =SUM(O29*P29) -> 0
D30: 12 | N30: =SUM(L30*M30) -> 0 | Q30: =SUM(O30*P30) -> 0
D31: 13 | N31: =SUM(L31*M31) -> 0 | Q31: =SUM(O31*P31) -> 0
D32: 14 | N32: =SUM(L32*M32) -> 0 | Q32: =SUM(O32*P32) -> 0
D33: 15 | N33: =SUM(L33*M33) -> 0 | Q33: =SUM(O33*P33) -> 0
D34: 16 | N34: =SUM(L34*M34) -> 0 | Q34: =SUM(O34*P34) -> 0
D35: 17 | N35: =SUM(L35*M35) -> 0 | Q35: =SUM(O35*P35) -> 0
D36: 18 | N36: =SUM(L36*M36) -> 0 | Q36: =SUM(O36*P36) -> 0
D37: 19 | N37: =SUM(L37*M37) -> 0 | Q37: =SUM(O37*P37) -> 0
D38: 20 | N38: =SUM(L38*M38) -> 0 | Q38: =SUM(O38*P38) -> 0
... D63: 45 | N63: =SUM(L63*M63) -> 0 | Q63: =SUM(O63*P63) -> 0
D64: 46
K65: =SUM(K19:K64) -> 5282373 | M65: R | N65: =ROUND(SUM(N19:N64),2) -> 0 | P65: R | Q65: =ROUND(SUM(Q19:Q64),2) -> 5282373
E66: TOTAL VALUE OF MATERIALS ON SITE | H66: ='[6]Contract Info'!J63 -> 0.8 | K66: =K65*H66 -> 4225898.4 | M66: R | N66: =SUM(N65*H66) -> 0 | P66: R | Q66: =Q65*H66 -> 4225898.4
N69: =N65-N66 -> 0

Sheet SECTION 1200
B2: Contract No. 9/3/1/424
B3: Construction of Road Paving and Stormwater in Rapotokwane
G4: SECTION 1200
B5: Number | C5: Item Description | D5: Unit | E5: Quantity | F5: Rate | G5: Amount R
B7: 1200 | C7: GENERAL REQUIREMENTS AND PROVISIONS
B9: B12.01 | C9: PROVISION OF STRUCTURED TRAINING
C11: CETA accredited training (As specified in the standard
C12: specifications)
C14: (a) Generic skills | D14: Prov.sum | E14: 1 | F14: 60000 | G14: =E14*F14 -> 60000
B17: B12.02 | C17: Excavation for existing services
C19: (a) Excavating soft material situated within the following depth ranges below the surface level:
C21: (i) 0m up to 2m | D21: m3 | E21: 100 | F21: 0 | G21: =F21*E21 -> 0
C23: (b) Extra over subitem 12.02(a) for excavation in hard material, irrespective of depth | D23: m3 | E23: 50 | F23: 0 | G23: =F23*E23 -> 0
B26: B12.03 | C26: Relocation and/or protection of existing services:
C28: (a) By the contractor | D28: Prov.sum | E28: 1 | F28: 50000 | G28: =F28*E28 -> 50000
C30: (b) By the service provider | D30: Prov.sum | E30: 1 | F30: 200000 | G30: =F30*E30 -> 200000
C32: (c) Handling cost in respect of B13.05 (b) | D32: % | E32: =SUM(G28:G30) -> 250000 | G32: =SUM(E32*F32) -> 0
B34: B12.04 | C34: Services for Community Liaison
C36: (a) Remuneration for community liaison officer | D36: Prov.sum | E36: 1 | F36: 66000 | G36: =F36*E36 -> 66000
C38: (b) Remuneration of PSC members | D38: Prov.sum | E38: 1 | F38: 50000 | G38: =SUM(E38*F38) -> 50000
C40: (c) Handling cost and profit in respect of sub-items B13.03(a) and (b) | D40: % | E40: =G36+G38 -> 116000 | F40: 0 | G40: =F40*E40 -> 0
B42: B12.07 | C42: Compensation to house and land owners
C44: (a) Allow a Prime Cost Sum as compensation to owner/authority for royalties for land used for gravel borrowpits and relocated home owners | D44: PC Sum | E44: 1 | F44: 100000 | G44: =SUM(E44*F44) -> 100000
C46: (b) Handling costs and profit in respect of subitem B31.04(a) above | D46: % | E46: =G44 -> 100000 | F46: 0 | G46: =F46*E46 -> 0
B48: B12.09 | C48: Supply, transport to site and erect contract signboards
C49: a) As shown on the drawings | D49: No. | E49: 2 | F49: 0 | G49: =F49*E49 -> 0
B51: B12.09 | C51: Monthly site meetings | D51: No. | E51: 11 | F51: 0 | G51: =F51*E51 -> 0
B67: TOTAL CARRIED FORWARD TO SUMMARY | G67: 0

Sheet SECTION 1300
B2: Contract No. 9/3/1/424
B3: Construction of Road Paving and Stormwater in Rapotokwane
G4: SECTION 1300
B5: Number | C5: Item Description | D5: Unit | E5: Quantity | F5: Rate | G5: Amount R | H5: Final Quantity | I5: Final Amount | J5: Savings
B7: 1300 | C7: CONTRACTOR'S ESTABLISHMENT ON SITE AND GENERAL OBLIGATIONS
B9: 13.01 | C9: Contractor's general obligations
C11: (a) Fixed obligations | D11: L/sum | E11: 1 | F11: 0 | G11: =F11*E11 -> 0 | H11: 1 | I11: =F11*H11 -> 0 | J11: =G11-I11 -> 0
C12: (b) Value-related obligations | D12: L/sum | E12: 1 | F12: 0 | G12: =F12*E12 -> 0 | H12: 1 | I12: =F12*H12 -> 0 | J12: =G12-I12 -> 0
C13: (c) Time-related obligations | D13: Month | E13: 11 | F13: 0 | G13: =F13*E13 -> 0 | H13: 10 | I13: =F13*H13 -> 0 | J13: =G13-I13 -> 0
L14: =(G11+G13)/SUMMARY!G37 -> #DIV/0!
C15: The Contractor's General obligations: Items (a) to (c ) as a percentage of Tender Sum as stated below: | D15: %
C17: NOTE: The combined total tendered for subitems (a), (b) and (c ) should not exceed 15% of the Tender Sum (Excl. CPA, contigencies and VAT)
B19: B13.02 | C19: The Contractor's general obligations: Items (a) to c)
C21: (d) Health and Safety Obligations | D21: Monthly | E21: 11 | F21: 0 | G21: =E21*F21 -> 0 | H21: 10 | I21: =F21*H21 -> 0 | J21: =G21-I21 -> 0
C23: (e ) Environmental Management Obligations | D23: Monthly | E23: 11 | F23: 0 | G23: =E23*F23 -> 0
C25: (f) Contractor's full time Health and Safety Officer | D25: Monthly | E25: 11 | F25: 0 | G25: =E25*F25 -> 0
C27: (g) Contractor's Environmental Control Officer | D27: Monthly | E27: 11 | F27: 0 | G27: =E27*F27 -> 0
C29: (h) Provision of security services | D29: Monthly | E29: 11 | F29: 0 | G29: =E29*F29 -> 0
B38: Total Carried Forward To Summary | G38: =SUM(G6:G37) -> 0 | I38: =SUM(I11:I37) -> 0 | J38: =SUM(J11:J37) -> 0

Sheet SECTION 1400 
B2: Contract No. 9/3/1/424
B3: Construction of Road Paving and Stormwater in Rapotokwane
G4: SECTION 1400
B5: Number | C5: Item Description | D5: Unit | E5: Quantity | F5: Rate | G5: Amount R
B7: 1400 | C7: HOUSING, OFFICES AND LABORATORY FOR THE ENGINEER'S SITE PERSONNEL
B9: 14,01 | C9: Office and laboratory accommodation
C11: (a) Offices (interior floor space only) | D11: m² | E11: 40 | F11: 0 | G11: =E11*F11 -> 0
C13: (e) Ablution units (flushable toilets, waterborne) | D13: m² | E13: 10 | F13: 0 | G13: =E13*F13 -> 0
B15: 14,02 | C15: Office and laboratory furniture
C17: (a) Chairs | D17: No | E17: 2 | F17: 0 | G17: =E17*F17 -> 0
C19: (d) Desks, complete with drawers and locks | D19: No | E19: 2 | F19: 0 | G19: =E19*F19 -> 0
C21: (e) Drawing tables | D21: No | E21: 1 | F21: 0 | G21: =E21*F21 -> 0
C23: (f) Conference tables | D23: No | E23: 1 | F23: 0 | G23: =E23*F23 -> 0
B25: 14,03 | C25: Office and laboratory fittings Installations and equipment
C27: (a) Items measured by number
C29: (i) 220/250 volt power points | D29: No | E29: 3 | F29: 0 | G29: =E29*F29 -> 0
C31: (ii) 400/231 volt 3-phase power points | D31: No | E31: 3 | F31: 0 | G31: =E31*F31 -> 0
C33: (iii) Double 80 watt fluorescent light fittings complete with ballast and tubes | D33: No | E33: 2 | F33: 0 | G33: =E33*F33 -> 0
C35: (iv) Double 55 watt fluorescent light fittings complete with ballast and tubes | D35: No | E35: 2 | F35: 0 | G35: =E35*F35 -> 0
C37: (v) Single incandescent light fittings complete with 100 watt globes | D37: No | E37: 2 | F37: 0 | G37: =E37*F37 -> 0
C39: (x) Fire extinguishers, 9,0 kg,all purpose dry powder type, complete, mounted on wall with brackets | D39: No | E39: 2 | F39: 0 | G39: =E39*F39 -> 0
C41: (xi) Air conditioning units with 2,2 kW minimum capacity, mounted and with own power connection | D41: No | E41: 1 | F41: 0 | G41: =E41*F41 -> 0
C43: (xiv) General-purpose steel cupboards with shelves | D43: No | E43: 1 | F43: 0 | G43: =E43*F43 -> 0
C45: (xv) Steel filing cabinets with drawers | D45: No | E45: 1 | F45: 0 | G45: =E45*F45 -> 0
C47: xvi) Bookcases | D47: No | E47: 1 | F47: 0 | G47: =E47*F47 -> 0
C49: (b) Prime-cost items and items paid for in a lump sum:
C51: (i) Provision of telephone service, including the cost of calls in connection with contract administration and telephone rental | D51: PC sum | E51: 1 | F51: 24000 | G51: =E51*F51 -> 24000
C52: (ii) Handling costs and profit in respect of subsubitem 14.03(b)(1) above | D52: % | E52: =G51 -> 24000 | F52: 0 | G52: =E52*F52 -> 0
C54: (c) Items measured by area
B56: 14,04 | C56: Car ports
C57: (a) Car ports, as specified, at offices and laboratory buildings | D57: No | E57: 2 | F57: 0 | G57: =E57*F57 -> 0
B59: 14,08 | C59: Services
C61: (a) Services at office and laboratories
C63: (1) Fixed costs | D63: L/sum | E63: 1 | F63: 0 | G63: =E63*F63 -> 0
C65: 2) Running costs | D65: month | E65: 11 | F65: 0 | G65: =E65*F65 -> 0
B67: 14,10 | C67: Provision of photostat facilities | D67: month | E67: 11 | F67: 0 | G67: =E67*F67 -> 0
B85: Total Carried Forward | G85: 0

Sheet SECTION 1500 
B2: Contract No. 9/3/1/424
B3: Construction of Road Paving and Stormwater in Rapotokwane
G4: SECTION 1500
B5: Number | C5: Item Description | D5: Unit | E5: Quantity | F5: Rate | G5: Amount R | H5: Final Quantity | I5: Final Amount | J5: Savings
B7: 1500 | C7: ACCOMODATION OF TRAFFIC
B9: 15.01 | C9: Accommodating traffic and maintaining temporary deviations | D9: km | E9: 5 | F9: 0 | G9: =E9*F9 -> 0 | H9: 1.7 | I9: =F9*H9 -> 0 | J9: =G9-I9 -> 0
B11: 15.02 | C11: Earthworks for temporary deviations
C13: (a) Shaping of temporary deviations | D13: km | E13: 5 | F13: 0 | G13: =E13*F13 -> 0 | H13: 1.7 | I13: =F13*H13 -> 0 | J13: =G13-I13 -> 0
C15: (b) Cut and borrow to fill | D15: m³ | E15: 500 | F15: 0 | G15: =E15*F15 -> 0 | H15: 1761.5 | I15: =F15*H15 -> 0 | J15: =G15-I15 -> 0
B17: 15.03 | C17: Temporary traffic-control facilities:
C19: (a) Flagmen | D19: man-day | E19: =22*6*12 -> 1584 | F19: 0 | G19: =E19*F19 -> 0 | H19: 2184 | I19: =F19*H19 -> 0 | J19: =G19-I19 -> 0
C21: (b) Portable STOP and GO-RY signs | D21: No | E21: 4 | F21: 0 | G21: =E21*F21 -> 0 | H21: 12 | I21: =F21*H21 -> 0 | J21: =G21-I21 -> 0
C23: (c) Temporary traffic-control signals as specified or as shown on the drawings | D23: No | E23: 2 | F23: 0 | G23: =E23*F23 -> 0 | H23: 12 | I23: =F23*H23 -> 0 | J23: =G23-I23 -> 0
C25: (e) Road signs, R- and TR-series, (size indicated) | D25: No | E25: 6 | F25: 0 | G25: =E25*F25 -> 0 | H25: 12 | I25: =F25*H25 -> 0 | J25: =G25-I25 -> 0
C27: (f) Road signs, TW-series, (size indicated) | D27: No | E27: 6 | F27: 0 | G27: =E27*F27 -> 0 | H27: 12 | I27: =F27*H27 -> 0 | J27: =G27-I27 -> 0
C29: (g) Road signs, STW-, DTG-, TGS- AND TG-series (excluding delineators and barricades) | D29: m² | E29: 6 | F29: 0 | G29: =E29*F29 -> 0 | H29: 12 | I29: =F29*H29 -> 0 | J29: =G29-I29 -> 0
C31: (h) Delineators (DTG50J) (size indicated):
C33: (1) Single | D33: No | E33: 40 | F33: 0 | G33: =E33*F33 -> 0 | H33: 25 | I33: =F33*H33 -> 0 | J33: =G33-I33 -> 0
C35: (j) Traffic cones (size indicated) | D35: No | E35: 20 | F35: 0 | G35: =E35*F35 -> 0 | H35: 30 | I35: =F35*H35 -> 0 | J35: =G35-I35 -> 0
B37: 15.05 | C37: Gravelling and repair of temporary deviations and existing gravel shoulders used as temporary deviations:
C39: (a) Temporary deviations | D39: m³ | E39: 500 | F39: 0 | G39: =E39*F39 -> 0 | H39: 1214.3 | I39: =F39*H39 -> 0 | J39: =G39-I39 -> 0
B41: 15.06 | C41: Watering of temporary deviations | D41: kℓ | E41: =2.5*2.9*21*6 -> 913.5 | F41: 0 | G41: =E41*F41 -> 0 | H41: 1473.9 | I41: =F41*H41 -> 0 | J41: =G41-I41 -> 0
B43: 15.07 | C43: Blading by road grader of:
C45: (a) Temporary deviations | D45: km-pass | E45: =5*2*12 -> 120 | F45: 0 | G45: =E45*F45 -> 0 | H45: 1.7 | I45: =F45*H45 -> 0 | J45: =G45-I45 -> 0 | L45: 5km by-pass, kilometer pass twice a month, for 12 months
C47: (b) Existing roads used as temporary deviations | D47: km-pass | E47: =E45 -> 120 | F47: 0 | G47: =E47*F47 -> 0 | H47: 1.7 | I47: =F47*H47 -> 0 | J47: =G47-I47 -> 0
B48: 15.08 | C48: Repairs, alterations and/or additions to existing roads used as temporary deviations | D48: Prov sum | E48: 1 | F48: 50000 | G48: =E48*F48 -> 50000 | H48: 1 | I48: =F48*H48 -> 50000 | J48: =G48-I48 -> 0
B51: Total Carried Forward to Summary | G51: 0 | I51: =SUM(I7:I50) -> 50000 | J51: =SUM(J7:J50) -> 0

Sheet SECTION 1700  
B2: Contract No. 9/3/1/424
B3: Construction of Road Paving and Stormwater in Rapotokwane
H4: SECTION 1700
B5: Number | C5: LIC | D5: Item Description | E5: Unit | F5: Quantity | G5: Rate | H5: Amount R | I5: Final Quantity | J5: Final Amount | K5: Savings
B8: 1700 | D8: CLEARING AND GRUBBING
B10: 17.01 | D10: Clearing and grubbing | E10: ha | F10: =1 -> 1 | G10: 0 | H10: =F10*G10 -> 0 | I10: 22100 | J10: =G10*I10 -> 0 | K10: =H10-J10 -> 0
B12: 17.02 | C12: LI | D12: Removal and grubbing of large trees and tree stumps:
D14: (a) Girth exceeding 1m up to and including 2m | E14: No | F14: 5 | G14: 0 | H14: =F14*G14 -> 0 | I14: 2 | J14: =G14*I14 -> 0 | K14: =H14-J14 -> 0
D16: (b) Girth exceeding 2m up to and including 3m | E16: No | F16: 2 | G16: 0 | H16: =F16*G16 -> 0 | I16: 2 | J16: =G16*I16 -> 0 | K16: =H16-J16 -> 0
B18: 17.03 | D18: Re-clearing of surfaces (on the written instructions of the Engineer only) | E18: ha | F18: =F10 -> 1 | G18: =G10 -> 0 | H18: =F18*G18 -> 0 | I18: 0.2 | J18: =G18*I18 -> 0 | K18: =H18-J18 -> 0
B20: 17.04 | C20: LI | D20: Clearing and grubbing at inlets and outlets of hydraulic structures | E20: m² | F20: 90 | G20: 0 | H20: =F20*G20 -> 0 | I20: 21.3 | J20: =G20*I20 -> 0 | K20: =H20-J20 -> 0
B22: 17.05 | C22: LI | D22: Cleaning out of hydraulic structures
C24: LI | D24: (a) Pipes with an internal diameter up to and including 750 mm | E24: m³ | F24: 22 | G24: 0 | H24: =F24*G24 -> 0 | I24: 0 | J24: =G24*I24 -> 0 | K24: =H24-J24 -> 0
B41: Total Carried Forward to Summary | H41: =SUM(H8:H40) -> 0 | J41: =SUM(J6:J40) -> 0 | K41: =SUM(K6:K40) -> 0

Sheet SECTION 1800
B2: Contract No. 9/3/1/424
B3: Construction of Road Paving and Stormwater in Rapotokwane
G4: SECTION 1800
B5: Number | C5: Item Description | D5: Unit | E5: Quantity | F5: Rate | G5: Amount R | H5: Final Quantity | I5: Final Amount | J5: Savings
B8: 1800 | C8: DAYWORKS
B10: B18.01 | C10: Personnel
C12: (a) Unskilled labour | D12: hr | E12: 40 | F12: 0 | G12: =E12*F12 -> 0 | H12: 40 | I12: =F12*H12 -> 0 | J12: =G12-I12 -> 0
C14: (b) Semi-skilled labour | D14: hr | E14: 10 | F14: 0 | G14: =E14*F14 -> 0 | H14: 10 | I14: =F14*H14 -> 0 | J14: =G14-I14 -> 0
C16: (c) Skilled labour | D16: hr | E16: 10 | F16: 0 | G16: =E16*F16 -> 0 | H16: 10 | I16: =F16*H16 -> 0 | J16: =G16-I16 -> 0
C18: (d) Ganger | D18: hr | E18: 10 | F18: 0 | G18: =E18*F18 -> 0 | H18: 10 | I18: =F18*H18 -> 0 | J18: =G18-I18 -> 0
C20: (e) Flagmen | D20: hr | E20: 10 | F20: 0 | G20: =E20*F20 -> 0 | H20: 10 | I20: =F20*H20 -> 0 | J20: =G20-I20 -> 0
B22: B18.02 | C22: Equipment
C24: (a) Bulldozer with rippers (minimum 125kW) | D24: hr | E24: 6 | F24: 0 | G24: =E24*F24 -> 0 | H24: 6 | I24: =F24*H24 -> 0 | J24: =G24-I24 -> 0
C26: (b) Front end loader (minimum 60kW) | D26: hr | E26: 6 | F26: 0 | G26: =E26*F26 -> 0 | H26: 6 | I26: =F26*H26 -> 0 | J26: =G26-I26 -> 0
C28: (c) Tractor loader backhoe 4 x 4 (50kW) | D28: hr | E28: 6 | F28: 0 | G28: =E28*F28 -> 0 | H28: 6 | I28: =F28*H28 -> 0 | J28: =G28-I28 -> 0
C30: (d) Track excavator (125kW) | D30: hr | E30: 6 | F30: 0 | G30: =E30*F30 -> 0 | H30: 6 | I30: =F30*H30 -> 0 | J30: =G30-I30 -> 0
C32: (e) Smooth drum roller (12 ton) | D32: hr | E32: 8 | F32: 0 | G32: =E32*F32 -> 0 | H32: 8 | I32: =F32*H32 -> 0 | J32: =G32-I32 -> 0
C34: (f) Water bowser (10 000 litre) | D34: hr | E34: 6 | F34: 0 | G34: =E34*F34 -> 0 | H34: 6 | I34: =F34*H34 -> 0 | J34: =G34-I34 -> 0
C36: (g) Tip truck 6 m³ capacity | D36: hr | E36: 6 | F36: 0 | G36: =E36*F36 -> 0 | H36: 6 | I36: =F36*H36 -> 0 | J36: =G36-I36 -> 0
C38: (h) Tip truck 10 m³ capacity | D38: hr | E38: 6 | F38: 0 | G38: =E38*F38 -> 0 | H38: 6 | I38: =F38*H38 -> 0 | J38: =G38-I38 -> 0
C40: (j) Water pump (75mm diameter with 50m hose) | D40: hr | E40: 60 | F40: 0 | G40: =E40*F40 -> 0 | H40: 60 | I40: =F40*H40 -> 0 | J40: =G40-I40 -> 0
B42: B18,03 | C42: Materials | D42: Prov | E42: 1 | F42: 43600 | G42: =E42*F42 -> 43600 | H42: 1 | I42: =F42*H42 -> 43600 | J42: =G42-I42 -> 0
C44: Contractor's handling cost | D44: % | E44: =1.2*SUM(G12:G40) -> 0 | F44: 0 | G44: =E44*F44 -> 0 | H44: 136000 | I44: =F44*H44 -> 0 | J44: =G44-I44 -> 0
B46: B18,04 | C46: Transport
C48: (a) LDV (1 tonne) | D48: km | E48: 2300 | F48: 0 | G48: =E48*F48 -> 0 | H48: 600 | I48: =F48*H48 -> 0 | J48: =G48-I48 -> 0
B59: Total Carried Forward to Summary | G59: 0 | I59: =SUM(I10:I58) -> 43600 | J59: =SUM(J10:J58) -> 0

Sheet SECTION 2100 (LIC)  
B3: Contract No. 9/3/1/424
B4: Construction of Road Paving and Stormwater in Rapotokwane
G5: SECTION 2100 | H5: Final Quantity | I5: Final Amount | J5: Savings
B7: 2100 | C7: DRAINS
B9: 2102 | C9: OPEN DRAINS
B11: 21.01 | C11: Excavation for open drains
C13: (a) Excavating soft material situated within the following depth ranges below the surface level:
C15: (i) 0 m up to 1,5 m | D15: m³ | E15: =(1600*1.2*0.2+0.5*(2+1)*0.2*(510+140))*1.1 -> 636.9 | F15: 0 | G15: =E15*F15 -> 0 | L15: v-drain = 1530m, trapezoidal drain = 510m, swale = 140m
C17: (ii) Exceeding 1,5 m and up to 3,0 m | D17: m³ | E17: =10%*E15 -> 63.69 | F17: 0 | G17: =E17*F17 -> 0
N18: =0.5*(2.75+0.5)*0.5*500 -> 406.25
C19: (b) Extra over subitem 21.01(a) for excavation in hard material irrespective of depth | D19: m³ | E19: =(E15+E17) *0.05 -> 35.03 | F19: 0 | G19: =E19*F19 -> 0 | N19: =(70*1.62*1.2) -> 136.08
B21: 21.02 | C21: Clearing and shaping existing open drains | D21: m³ | E21: 100 | F21: 0 | G21: =F21*E21 -> 0
B23: 21.03 | C23: Excavation for subsoil drainage systems:
C25: (i) 0m up to 1,5m | D25: m³ | E25: =1.5*1*700 -> 1050 | F25: 0 | G25: =E25*F25 -> 0
B27: 21.05 | C27: Banks and dykes | D27: m³ | E27: =1.095*700 -> 766.5 | F27: 0 | G27: =F27*E27 -> 0 | K27: Area of the Berm = 1,095m2 for 700m
B29: B21.06 | C29: Natural permeable material in subsoil drainage systems (Gravel)
C31: (a) Gravel obtained from approved sources on the site (3mm uniformly graded gravel) | D31: m³ | E31: =1.5*1*700-(3.1*(55/1000)^2) -> 1049.99 | F31: 0 | G31: =F31*E31 -> 0 | K31: =3.14*(55/1000)^2 -> 0.0094985
B33: 21.09 | C33: Polyethylene sheeting,0.15mm thick, or similar approved material, for lining subsoil drainage systems | D33: m2 | E33: =700*0.03 -> 21 | F33: 0 | G33: =F33*E33 -> 0
B35: 21.12 | C35: Concrete outlet structures, manhole boxes, junction boxes and cleaning eyes for subsoil drainage systems:
C37: (a) Outlet structures | D37: No | E37: 4 | F37: 0 | G37: =E37*F37 -> 0
B39: 21.14 | C39: Repairing or replacing existing drainage systems | D39: Prov sum | E39: 1 | F39: 50000 | G39: =E39*F39 -> 50000
B41: 21.15 | C41: Overhaul for material hauled in excess of 1,0 km free-haul (normal overhaul) | D41: m³-km | E41: =E15+E17+E19 -> 735.62 | F41: 0 | G41: =E41*F41 -> 0 | H41: 106.3 | I41: =F41*H41 -> 0 | J41: =G41-I41 -> 0
B43: 21.18 | C43: Excavation for the clearing of existing drainage system:
C45: (a) Inlet and outlet structures | D45: m³ | E45: 15 | F45: 0 | G45: =E45*F45 -> 0
C47: (b) Culverts barrels | D47: m³ | E47: 5 | F47: 0 | G47: =E47*F47 -> 0 | H47: 175.3 | I47: =F47*H47 -> 0 | J47: =G47-I47 -> 0
C49: (c) Concrete side drains | D49: m³ | E49: 25 | F49: 0 | G49: =E49*F49 -> 0 | H49: 18.6 | I49: =F49*H49 -> 0 | J49: =G49-I49 -> 0
B53: Total Carried Forward to Summary | G53: =SUM(G7:G52) -> 50000 | I53: =SUM(I41:I52) -> 0 | J53: =SUM(J41:J52) -> 0

Sheet SECTION 2200 (LIC)    
B2: Contract No. 9/3/1/340
B3: Construction of Road Paving and Stormwater in Rapotokwane
G4: SECTION 2200
B5: Number | C5: Item Description | D5: Unit | E5: Quantity | F5: Rate | G5: Amount R | H5: Final Quantity | I5: Final Amount | J5: Savings
B7: 2200 | C7: PREFABRICATED CULVERTS
B9: 22.01 | C9: Excavation
C11: (a) Excavating soft material situated within the following depth ranges below the surface level:
C13: (1) 0 m up to 1.5 m | D13: m³ | E13: =1.62*1.4*11*14+18 -> 367 | F13: 0 | G13: =F13*E13 -> 0 | H13: 1156.5 | I13: =F13*H13 -> 0 | J13: =G13-I13 -> 0
C15: (2) Exceeding 1,5 m and up to 3,0 m | D15: m³ | E15: 1 | F15: 0 | G15: =F15*E15 -> 0 | H15: 1407.9 | I15: =F15*H15 -> 0 | J15: =G15-I15 -> 0
C17: (3) Exceeding 3,0 m and up to 4,5 m | D17: m³ | E17: 1 | F17: 0 | G17: =F17*E17 -> 0 | H17: 80 | I17: =F17*H17 -> 0 | J17: =G17-I17 -> 0
C19: (b) Extra over subitem 22.01(a) for excavation in hard material, irrespective of depth | D19: m³ | E19: =0.05*(E13+E15+E17) -> 18 | F19: 0 | G19: =F19*E19 -> 0 | H19: 0 | I19: =F19*H19 -> 0 | J19: =G19-I19 -> 0
B21: 22.02 | C21: Backfilling:
C23: (a) Using the excavated material | D23: m³ | E23: =E13+E15+E17 -> 369 | F23: 0 | G23: 0 | H23: 940 | I23: =F23*H23 -> 0 | J23: =G23-I23 -> 0
C25: (b) Using imported selected material | D25: m³ | E25: =0.5*E23 -> 185 | F25: 0 | G25: =F25*E25 -> 0 | H25: 600 | I25: =F25*H25 -> 0 | J25: =G25-I25 -> 0
B27: 22.03 | C27: Concrete pipe culverts:
C29: (4) 600mm dia 100D. Spigot and Socket | D29: m | E29: =(20+10+20+10+12*2+12*2+12*2+20+30+22*2+20)*1.1 -> 270.6 | F29: 0 | G29: =F29*E29 -> 0 | H29: 940 | I29: =F29*H29 -> 0 | J29: =G29-I29 -> 0
B33: 22.07 | C33: Cast in situ concrete and formwork
C35: (c) In inlet and outlet structures, skewed ends, catchpits, manholes, thrust and anchor blocks, excluding formwork but including class U2 surface finish
C37: (1) Class 30/19 | D37: m³ | E37: =2.2*1.5*0.15*2*14 -> 14 | F37: 0 | G37: =E37*F37 -> 0 | H37: 40.2 | I37: =F37*H37 -> 0 | J37: =G37-I37 -> 0
C39: (d) Formwork of concrete under subitem 22,07 (c) above | D39: m2 | E39: 100 | F39: 0 | G39: =E39*F39 -> 0 | H39: 40.2 | I39: =F39*H39 -> 0 | J39: =G39-I39 -> 0
B41: 22.18 | C41: Brickwork
C43: (b) 230 mm thick | D43: m² | E43: =2.5*2*4*9*110% -> 198 | F43: 0 | G43: =F43*E43 -> 0 | M43: =20+10+20+10+12*2+12*2+12*2+20+30+22*2+20 -> 246
C45: ( c) 345mm thick | D45: m² | E45: 10 | F45: 0 | G45: =F45*E45 -> 0
B47: Total Carried Forward | G47: 0 | I47: =SUM(I13:I46) -> 0 | J47: =SUM(J13:J46) -> 0

Sheet SECTION 2300 (LIC)   
C2: Contract No. 9/3/1/340
C3: Construction of Road Paving and Stormwater in Rapotokwane
H4: SECTION 2300
C5: Number | D5: Item Description | E5: Unit | F5: Quantity | G5: Rate | H5: Amount R | I5: Final Quantity | J5: Final Amount | K5: Savings
A7: 2087 | C7: 2300 | D7: CONCRETE KERBING, CONCRETE CHANNELLING, CHUTES AND DOWNPIPES, AND CONCRETE LININGS FOR OPEN DRAINS
C9: 23,01 | D9: Concrete kerbing: | Q9: =(75+200)/2 -> 137.5
D11: (a) Precast kerbing to SABS 927 Figure 8c | E11: m | F11: 3500 | G11: 0 | H11: =F11*G11 -> 0 | M11: =(2900+28+31+46+29+25+45+35)*1.1 -> 3452.9 | N11: street 2a | O11: =520+20*2 -> 560
D13: (b)Precast kerbing to SABS 927 Figure 10 Edge Beam | E13: m | F13: 3300 | G13: 0 | H13: =G13*F13 -> 0 | M13: =(2900+30+15)*1.1 -> 3239.5
C15: 23.07 | D15: Trimming of excavations for concrete-lined open drains:
D17: (a) In soft material | E17: m² | F17: =1600*1.238*1.1 -> 2178.88 | G17: 0 | H17: =F17*G17 -> 0 | I17: 10 | J17: =G17*I17 -> 0 | K17: =H17-J17 -> 0 | L17: Bottom widths are 605mm and 633mm | N17: street 2b | O17: =191*2 -> 382
D19: (b) In hard material | E19: m² | F19: =10%*F17 -> 217.89 | G19: 0 | H19: =F19*G19 -> 0 | I19: 10 | J19: =G19*I19 -> 0 | K19: =H19-J19 -> 0
C21: 23.08 | D21: Concrete lining for open drains:
D23: (a) Cast in situ concrete lining ( 20/19 Mpa ) | E23: m³ | F23: =F17*0.1+3.5*6*4 -> 301.89 | G23: 0 | H23: =F23*G23 -> 0 | I23: 27 | J23: =G23*I23 -> 0 | K23: =H23-J23 -> 0
D25: (b) Class U2 surface finish to cast in situ concrete | E25: m² | F25: =F17 -> 2178.88 | G25: 0 | H25: =F25*G25 -> 0 | I25: 27 | J25: =G25*I25 -> 0 | K25: =H25-J25 -> 0
C27: 23.09 | D27: Formwork to cast in situ concrete for open drains (class F2 surface finish):
D29: (a) To sides with formwork on internal face only | E29: m² | F29: =1425*2*0.2*1.1 -> 627 | G29: 0 | H29: =F29*G29 -> 0
D31: (c) To ends of slabs | E31: m² | F31: =1.2*0.2*715 -> 171.6 | G31: 0 | H31: =F31*G31 -> 0 | I31: 11 | J31: =G31*I31 -> 0 | K31: =H31-J31 -> 0
C33: 23.10 | D33: Sealed joints in concrete linings of open drains | E33: m | F33: =715*1.2 -> 858 | G33: 0 | H33: =F33*G33 -> 0 | I33: 285 | J33: =G33*I33 -> 0 | K33: =H33-J33 -> 0
C35: 23.12 | D35: Steel reinforcement:
D37: (c) Welded steel fabric (REF395) | E37: kg | F37: =F17*3.95 -> 8606.58 | G37: 0 | H37: =F37*G37 -> 0 | I37: 106 | J37: =G37*I37 -> 0 | K37: =H37-J37 -> 0
C39: 23.13 | D39: Polyethylene sheeting (0,15mm thick) for concrete-lined open drains | E39: m² | F39: =F17 -> 2178.88 | G39: 0 | H39: =F39*G39 -> 0 | I39: 393 | J39: =G39*I39 -> 0 | K39: =H39-J39 -> 0
C49: Total Carried Forward to Summary | H49: =SUM(H8:H48) -> 0 | J49: =SUM(J12:J48) -> 0 | K49: =SUM(K12:K48) -> 0

Sheet SECTION 3100 
B2: Contract No. 9/3/1/424
B3: Construction of Road Paving and Stormwater in Rapotokwane
G4: SECTION 2300
B5: Number | C5: Item Description | D5: Unit | E5: Quantity | F5: Rate | G5: Amount R | H5: Final Quantity | I5: Final Amount | J5: Savings
B7: 3100 | C7: BORROW MATERIALS
B9: 31.01 | C9: Excess overburden
B11: B31.01 | C11: (a) From identified borrow pit | D11: m³ | E11: =100*100*0.5 -> 5000 | F11: 0 | G11: =E11*F11 -> 0 | L11: Assumed 100m x 100m x 0,5m borrow pit
B13: B31.03 | C13: Reinstatement of borrow pit | D13: Prov. Sum | E13: 1 | F13: 50000 | G13: =E13*F13 -> 50000 | H13: 2493.3 | I13: =F13*H13 -> 124665000 | J13: =G13-I13 -> -124615000
B15: B31.03 | C15: Testing of borrow pit | D15: Prov. Sum | E15: 1 | F15: 50000 | G15: =E15*F15 -> 50000
H17: 10 | I17: =F17*H17 -> 0 | J17: =G17-I17 -> 0
H19: 10 | I19: =F19*H19 -> 0 | J19: =G19-I19 -> 0
B33: Total Carried Forward to Summary | G33: 0 | I33: =SUM(I13:I32) -> 124665000 | J33: =SUM(J13:J32) -> -124615000

Sheet SECTION 3300   
B2: Contract No. 9/3/1/424
B3: Construction of Road Paving and Stormwater in Rapotokwane
G4: SECTION 3300
B5: Number | C5: Item Description | D5: Unit | E5: Quantity | F5: Rate | G5: Amount R | H5: Final Quantity | I5: Final Amount | J5: Savings
B8: 3300 | C8: MASS EARTHWORKS
B10: 33.01 | C10: Cut and borrow to fill, including free-haul up to 0.5km
C12: (a) Gravel material in compacted layer thickness of 200 mm and less:
C14: (ii)Compacted to 93% Modified AASHTO Density. | D14: m³ | E14: =(5000+5450*0.2)*1.1 -> 6699 | F14: 0 | G14: =E14*F14 -> 0 | I14: =F14*H14 -> 0 | J14: =G14-I14 -> 0 | M14: Length = 2900m, width = 7m, average thickness = 200mm
B16: 33.03 | C16: Extra over item 33.01 for excavating and breaking down material in:
C18: (a) Intermediate excavation | D18: m³ | E18: =0.1*E14 -> 669.9 | F18: 0 | G18: =E18*F18 -> 0 | H18: 212.5 | I18: =F18*H18 -> 0 | J18: =G18-I18 -> 0 | O18: Street 5a | P18: street 5b | Q18: street 1 | R18: street2a | S18: street 2b | T18: street 3 | U18: street 4
O19: =994.105-992.601 -> 1.504 | P19: =993.41-992.947 -> 0.463 | Q19: =999.542-1000.095 -> -0.553 | R19: =991.636-992.116 -> -0.48 | S19: =995.927-996.304 -> -0.377 | T19: =995.254-995.773 -> -0.519 | U19: =991.877-992.27 -> -0.393
C20: (b) Hard excavation | D20: m³ | E20: =10%*E14 -> 669.9 | F20: 0 | G20: =E20*F20 -> 0 | H20: 106.3 | I20: =F20*H20 -> 0 | J20: =G20-I20 -> 0 | O20: =993.508-993.187 -> 0.321 | P20: =993.06-992.754 -> 0.306
O21: =AVERAGE(O19:O20) -> 0.9125 | P21: =AVERAGE(P19:P20) -> 0.3845 | Q21: =AVERAGE(Q19:Q20) -> -0.553 | R21: =AVERAGE(R19:R20) -> -0.48 | S21: =AVERAGE(S19:S20) -> -0.377 | T21: =AVERAGE(T19:T20) -> -0.519 | U21: =AVERAGE(U19:U20) -> -0.393
B22: 33.04 | C22: Cut to spoil, including free-haul up to 0,5 km. Material obtained from: | O22: =600*O21*7*1.1 -> 4215.75 | P22: =500*(P21-0.15-0.08)*7 -> 540.75 | Q22: =710*(Q21)*7 -> -2748.41 | R22: =530*(R21)*7 -> -1780.8 | S22: =190*(S21)*7 -> -501.41 | T22: =95*(T21)*7 -> -345.135 | U22: =120*(U21)*7 -> -330.12
O23: fill | P23: fill | Q23: cut | R23: cut | S23: cut | T23: cut | U23: cut
C24: (a) Soft excavation | D24: m³ | E24: =(5800+5450*0.5) -> 8525 | F24: 0 | G24: =E24*F24 -> 0 | H24: 5941.5 | I24: =F24*H24 -> 0 | J24: =G24-I24 -> 0
O25: Total fill | P25: =O22+P22 -> 4756.5
C26: (b) Intermediate excavation | D26: m³ | E26: =0.3*2860*0.05 -> 42.9 | F26: 0 | G26: =E26*F26 -> 0 | H26: 1188.3 | I26: =F26*H26 -> 0 | J26: =G26-I26 -> 0 | O26: Total cut | P26: =SUM(Q22:U22) -> -5705.875
C28: (c) Hard excavation | D28: m³ | E28: =0.1*2860*0.02 -> 5.72 | F28: 0 | G28: =E28*F28 -> 0 | H28: 396.1 | I28: =F28*H28 -> 0 | J28: =G28-I28 -> 0
B31: 33.07 | C31: Removal of unsuitable material (including free-haul of 0.5 km):
C33: (a) In layer thicknesses of 200mm and less:
C35: (i) Stable material | D35: m³ | E35: 100 | F35: 0 | G35: =E35*F35 -> 0 | H35: 0 | I35: =F35*H35 -> 0 | J35: =G35-I35 -> 0
C37: (ii) Unstable material | D37: m³ | E37: 100 | F37: 0 | G37: =E37*F37 -> 0 | H37: 0 | I37: =F37*H37 -> 0 | J37: =G37-I37 -> 0
B39: 33.10 | C39: Roadbed preparation and compacton of materials
C41: a) Compaction to 93% of modified AASHTO density | D41: m³ | E41: =(2900*0.15*7+5450*0.15)*1.1 -> 4248.75 | F41: 0 | G41: =E41*F41 -> 0
B43: 33.11 | C43: Three-roller-passes compaction:
C45: (a) Vibratory roller | D45: m² | E45: =(2900*7+5450)*1.1 -> 28325 | F45: 0 | G45: =E45*F45 -> 0 | H45: 10200 | I45: =F45*H45 -> 0 | J45: =G45-I45 -> 0
B47: 33.12 | C47: In situ treatment of roadbed:
C49: (a) In situ treatment by ripping | D49: m³ | E49: =E41*10% -> 424.88 | F49: 0 | G49: =E49*F49 -> 0
B52: Total Carried Forward | G52: =SUM(G8:G51) -> 0 | I52: =SUM(I8:I51) -> 0 | J52: =SUM(J8:J51) -> 0
B55: =B2 -> Contract No. 9/3/1/424
B56: =B3 -> Construction of Road Paving and Stormwater in Rapotokwane
G58: SECTION 3300
B59: Number | C59: Item Description | D59: Unit | E59: Quantity | F59: Rate | G59: Amount R | H59: Final Quantity | I59: Final Amount | J59: Savings
B60: Total Brought Forward | G60: =G52 -> 0 | I60: =I52 -> 0 | J60: =J52 -> 0
B62: 33.18 | C62: Extra over items 33.11 and 33.12 for preparing and/or treating the roadbed and compacting material in restricted areas:
C64: (a) Item 33.10 for roadbed preparation and the compaction of material | D64: m³ | E64: 100 | F64: 0 | G64: =E64*F64 -> 0 | H64: 106.3 | I64: =F64*H64 -> 0 | J64: =G64-I64 -> 0
C66: (b) Item 33.11 for three roller passes compaction | D66: m³ | E66: =(E64/0.15)*3 -> 2000 | F66: 0 | G66: =E66*F66 -> 0 | H66: 76.5 | I66: =F66*H66 -> 0 | J66: =G66-I66 -> 0
C68: (c) Item 33.12 for in situ treatment of roadbed | D68: m³ | E68: =E64 -> 100 | F68: 0 | G68: =E68*F68 -> 0 | H68: 76.5 | I68: =F68*H68 -> 0 | J68: =G68-I68 -> 0
B70: 33/16,01 | C70: Overhaul on material hauled in excess of a free-haul distanceof 0,5km, for haul up to or through 1,0km (restricted overhaul) | D70: m³ | E70: =(E14+E24)*2 -> 30448 | F70: 0 | G70: =E70*F70 -> 0 | M70: Assumed 2km haul distance
...

Sheet SECTION 3400    
B2: Contract No. 9/3/1/424
B3: Construction of Road Paving and Stormwater in Rapotokwane
G4: SECTION 3400
B5: Number | C5: Item Description | D5: Unit | E5: Quantity | F5: Rate | G5: Amount R | H5: Final Quantity | I5: Final Amount | J5: Savings
B8: 3400 | C8: PAVEMENT LAYERS OF GRAVEL MATERIAL
B10: 34.01 | C10: Pavement layers constructed from gravel taken from cut or borrow, including free-haul up to 1,0km
C12: (c) Gravel subbase (unstabilised gravel) compacted to:
C14: (ii) 97% of modified AASHTO density (150mm G5 Subbase material): street 1,2 and 4 (commercially sourced material including all halus). | D14: m³ | E14: =(6.5*1635*0.15+5450*0.15)*1.1 -> 2653 | F14: 0 | G14: =E14*F14 -> 0
C16: (d) Gravel subbase ( chemically stabilized) compacted to:
C18: (i) 95% of modified AASHTO density (150mm C4 Subbase material): street 3 and 5 | D18: m³ | E18: =(6.5*1225*0.15+5450*0.15)*1.1 -> 2213 | F18: 0 | G18: =E18*F18 -> 0
B39: Total Carried Forward to Summary | G39: =SUM(G7:G38) -> 0 | I39: =SUM(I20:I38) -> 0 | J39: =SUM(J20:J38) -> 0

Sheet SECTION 3500 
B2: Contract No. 9/3/1/424
B3: Construction of Road Paving and Stormwater in Rapotokwane
G4: SECTION 3500
B5: Number | C5: Item Description | D5: Unit | E5: Quantity | F5: Rate | G5: Amount R | H5: Final Quantity | I5: Final Amount | J5: Savings
B7: 3500 | C7: STABILIZATION
B9: 35.01 | C9: Chemical stabilization (150mm layer) extra over unstabilized compacted layers (C4 subbase )
C11: (a) Base layer:
C13: (i) 150mm thickness | D13: m³ | E13: ='SECTION 3400 '!E18 -> 2213 | F13: =0.7*'SECTION 3400 '!F18 -> 0 | G13: =E13*F13 -> 0 | H13: 2218.5 | I13: =F13*H13 -> 0 | J13: =G13-I13 -> 0
B15: 35.02 | C15: Chemical stabilizing agent:
C17: (a) Ordinary portland cement | D17: t | E17: =(E13*2100*3%/1000)*1.1 -> 153.4 | F17: 0 | G17: =E17*F17 -> 0 | H17: 177.5 | I17: =F17*H17 -> 0 | J17: =G17-I17 -> 0
B19: 35.04 | C19: Provision and application of water for curing | D19: kl | E19: 140 | F19: 0 | G19: =E19*F19 -> 0 | H19: 366.0525 | I19: =F19*H19 -> 0 | J19: =G19-I19 -> 0
B21: 35.08 | C21: Extra over item 35.01 for chemical stabilization in restricted areas:
C23: (b) In situ mixing | D23: m³ | E23: =E13*0.1 -> 221.3 | F23: 0 | G23: =E23*F23 -> 0 | H23: 665.6 | I23: =F23*H23 -> 0 | J23: =G23-I23 -> 0
B25: 35.13 | C25: Extra over items 35.01 for trial sections | D25: m³ | E25: =2000*0.15 -> 300 | F25: 0 | G25: =E25*F25 -> 0 | H25: 66.6 | I25: =F25*H25 -> 0 | J25: =G25-I25 -> 0
B42: Total Carried Forward to Summary | G42: =SUM(G7:G41) -> 0 | I42: =SUM(I13:I41) -> 0 | J42: =SUM(J13:J41) -> 0

Sheet SECTION 4100
A1: Contract No. 9/3/1/424
A2: Construction of Road Paving and Stormwater in Rapotokwane
G3: SECTION 3500
A4: ITEM | C4: DESCRIPTION | D4: UNIT | E4: QTY | F4: RATE | G4: AMOUNT
A7: 4100 | C7: PRIME COAT
A9: 41.01 | C9: Prime coat
I10: Area to be upgraded
C11: (c) MC-30 cut-back bitumen | D11: l | E11: =(1900+1200+1200+1150)*0.8 -> 4360 | F11: 0 | G11: =E11*F11 -> 0 | I11: =(1900+1200+1200+1150) -> 5450
B29: Total Carried to Summary | G29: =SUM(G9:G28) -> 0

Sheet SECTION 4500
A4: Contract No. 9/3/1/424
A5: Construction of Road Paving and Stormwater in Rapotokwane
G6: SECTION 4500
A8: 4500 | C8: DOUBLE SEALS
A10: 45.01 | C10: Double seals using:
C12: (a) 19,0mm and 9,5mm aggregate (Grade 1 aggregate - Bitumen pen grade 80/100 on both application) | D12: m2 | E12: =(1900+1200+1200+1150)*1.1 -> 5995 | F12: 0 | G12: =E12*F12 -> 0
A14: 45.02 | C14: Bituminous binder variations:
C16: (b) B8 road grade bitumen or 80/100 Penetration grade bitumen | D16: l | E16: 100 | F16: 0 | G16: =E16*F16 -> 0
A18: 45.03 | C18: Aggregate variations
C20: (a) 19,0mm aggregate | D20: m3 | E20: 100 | F20: 0 | G20: =E20*F20 -> 0
C22: ( c) 9,5mm aggregate | D22: m3 | E22: 100 | F22: 0 | G22: =E22*F22 -> 0
A24: 45.04 | C24: Application of fogspray consisting of:
C26: (a) 60% spray grade emulsion | D26: l | E26: =(1900+1200+1200+1150)*60%*1.1 -> 3597 | F26: 0 | G26: =E26*F26 -> 0
B31: Total Carried to Summary | G31: =SUM(G10:G30) -> 0

Sheet SECTION 5100 (LIC)    
B2: Contract No. 9/3/1/424
B3: Construction of Road Paving and Stormwater in Rapotokwane
G4: SECTION 5100
B5: Number | C5: Item Description | D5: Unit | E5: Quantity | F5: Rate | G5: Amount R | H5: Final Quantity | I5: Final Amount | J5: Savings
B7: 5100 | C7: PITCHING, STONEWORK AND PROTECTION AGAINST EROSION
B9: 51.01 | C9: Stone pitching:
C11: (b) Grouted stone pitching | D11: m² | E11: 100 | F11: 0 | G11: =E11*F11 -> 0 | H11: 15 | I11: =F11*H11 -> 0 | J11: =G11-I11 -> 0
B13: 51.05 | C13: Concrete edge beams
H14: 25.5 | I14: =#REF!*H14 -> #REF! | J14: =#REF!-I14 -> #REF!
C15: (a) Class 20/19 | D15: m³ | E15: 10 | F15: 0 | G15: =E15*F15 -> 0 | H15: 25.5 | I15: =F15*H15 -> 0 | J15: =G15-I15 -> 0
B25: Total Carried Forward to Summary | G25: =SUM(G11:G24) -> 0
I28: =SUM(I7:I18) -> #REF! | J28: =SUM(J7:J18) -> #REF!

Sheet SECTION 5400 (LIC)
B2: Contract No. 9/3/1/424
B3: Construction of Road Paving and Stormwater in Rapotokwane
G4: SECTION 5400
B5: Number | C5: Item Description | D5: Unit | E5: Quantity | F5: Rate | G5: Amount R | H5: Final Quantity | I5: Final Amount | J5: Savings
B7: 5400 | C7: GUARDRAILS
B9: 54.01 | C9: Guardrails on timber posts
C11: (a) Galvanized | D11: m | E11: 300 | F11: 0 | G11: =E11*F11 -> 0 | H11: 15 | I11: =F11*H11 -> 0 | J11: =G11-I11 -> 0
B13: 54.03 | C13: Extra over items 54.01 for horizontally curved guardrails factory bent to a radius of less than 45m | D13: m | E13: 10 | F13: 0 | G13: =E13*F13 -> 0
B15: 54.04 | C15: End treatments
C17: d) End treatments in accordance with the drawings where | D17: No. | E17: 4 | F17: 0 | G17: =E17*F17 -> 0
C18: single guardrail sections are used
B20: 54.05 | C20: Additional guardrail posts
C22: a) Timber | D22: No. | E22: 6 | F22: 0 | G22: =E22*F22 -> 0
B24: 54.06 | C24: Reflective plates | D24: No | E24: =300/5 -> 60 | F24: 0 | G24: =E24*F24 -> 0
B26: 54.12 | C26: Extra over items 54,01 and 54,02 for drilling and blasting holes for guardrail posts | D26: No | E26: 50 | F26: 0 | G26: =E26*F26 -> 0 | L26: =(E11/3.81)*60% -> 47.244094
B32: Total Carried Forward to Summary | G32: =SUM(G11:G26) -> 0 | I32: =SUM(I7:I24) -> 0 | J32: =SUM(J7:J24) -> 0

Sheet SECTION 5600 (LIC)    
B2: Contract No. 9/3/1/424
B3: Construction of Road Paving and Stormwater in Rapotokwane
G4: SECTION 5600
B5: Number | C5: Item Description | D5: Unit | E5: Quantity | F5: Rate | G5: Amount R | H5: Final Quantity | I5: Final Amount | J5: Savings
B8: 5600 | C8: ROAD SIGNS
B10: 56.01 | C10: Road sign boards with painted or coloured semi-matt background. Symbols, lettering and borders in semi-matt black or in Class 1 retro-reflective material, where the sign board is constructed from:
C12: (a) Aluminium sheet (2,0 mm thick)
C14: (ii) Area exceeding 2m² but not 10m² | D14: m² | E14: 160 | F14: 0 | G14: =E14*F14 -> 0
C16: (iii) Area exceeding 10 m² | D16: m² | E16: 10 | F16: 0 | G16: =E16*F16 -> 0 | H16: 215 | I16: =F16*H16 -> 0 | J16: =G16-I16 -> 0
B18: 56.02 | C18: Extra over item 56.01 for using:
C20: (a) Background of retro-reflective material:
C22: (ii) Class II | D22: m² | E22: 10 | F22: 0 | G22: =E22*F22 -> 0
C24: (b) Lettering, symbol, numbers, arrows, emblems and boarders of retro-reflective material:
C26: (ii) Class II | D26: m² | E26: 10 | F26: 0 | G26: =E26*F26 -> 0
B28: 56.03 | C28: Road sign supports (overhead road sign structures excluded):
C30: (a) Steel tubing poles shall be D shaped 76mm OD x 2mm wall thickness galvanised treated poles, capped with 12mm hole drilled 300mm from bottom for a safety pin (300mm long).
C32: (i) 76mm dia. | D32: ton | E32: 1 | F32: 0 | G32: =E32*F32 -> 0 | H32: 970 | I32: =F32*H32 -> 0 | J32: =G32-I32 -> 0
C34: (b) Timber 75mm round poles | D34: m | E34: 1 | F34: 0 | G34: =F34*E34 -> 0
B36: 56.05 | C36: Excavation and backfilling for road sign supports (not applicable to kilometre posts) | D36: m³ | E36: 20 | F36: 0 | G36: =E36*F36 -> 0 | H36: 36 | I36: =F36*H36 -> 0 | J36: =G36-I36 -> 0
B38: 56.06 | C38: Extra over item 56.05 for cement-treated soil backfill | D38: m³ | E38: =E36 -> 20 | F38: 0 | G38: =E38*F38 -> 0 | H38: 12 | I38: =F38*H38 -> 0 | J38: =G38-I38 -> 0
B40: 56.07 | C40: Extra over item 56.05 for rock excavation | D40: m³ | E40: 10 | F40: 0 | G40: =E40*F40 -> 0 | H40: 12 | I40: =F40*H40 -> 0 | J40: =G40-I40 -> 0
B51: Total Carried Forward to Summary | G51: =SUM(G16:G41) -> 0 | I51: =SUM(I8:I48) -> 0 | J51: =SUM(J8:J48) -> 0

Sheet SECTION 5700     
B2: ='SECTION 5600 (LIC) '!B2 -> Contract No. 9/3/1/424
B3: Construction of Road Paving and Stormwater in Rapotokwane
G4: SECTION 5700
B5: Number | C5: Item Description | D5: Unit | E5: Quantity | F5: Rate | G5: Amount R | H5: Final Quantity | I5: Final Amount | J5: Savings
B7: 5700 | C7: ROAD MARKINGS
B9: 57.01 | C9: Road marking paint:
C11: (a) White lines (broken or unbroken)
C13: (i) 100 mm wide | D13: km | E13: 2.9 | F13: 0 | G13: =E13*F13 -> 0 | H13: 3.4 | I13: =F13*H13 -> 0 | J13: =G13-I13 -> 0
C15: (ii) 150 mm wide | D15: km | E15: 0.1 | F15: 0 | G15: =E15*F15 -> 0 | H15: 2 | I15: =F15*H15 -> 0 | J15: =G15-I15 -> 0
C17: (iii) 300mm wide | D17: km | E17: 0.2 | F17: 0 | G17: =E17*F17 -> 0 | L17: =(5*4+10*3+20*5)/1000 -> 0.15
C19: (b) Yellow lines (broken or uinbroken)
C21: (i) 150mm wide | D21: km | E21: 1 | F21: 0 | G21: =E21*F21 -> 0 | L21: =(180*2+180*2)*1.1/1000 -> 0.792
C23: (iii) 200mm wide | D23: km | E23: 0.1 | F23: 0 | G23: =E23*F23 -> 0
M24: WHITE | N24: YELLOW
C25: (d) White lettering and symbols | D25: m² | E25: =200*1.1 -> 220 | F25: 0 | G25: =E25*F25 -> 0 | H25: 300 | I25: =F25*H25 -> 0 | J25: =G25-I25 -> 0 | L25: 27 stops lettering | M25: =6.9*27 -> 186.3
L26: Straight ahead -RM 8,3/WM7,3 | M26: =1.06*2 -> 2.12 | N26: =1.06*2 -> 2.12
C27: (e) Yellow lettering and symbols | D27: m² | E27: 20 | F27: 0 | G27: =E27*F27 -> 0 | L27: Straigh ahead with turn - rm8,4/wm7,4 | M27: =1.43*6 -> 8.58 | N27: =1.43*6 -> 8.58
L28: TOTAL | M28: =SUM(M25:M27) -> 197 | N28: =SUM(N25:N27) -> 10.7
C29: (f) Transverse lines, painted island and arrestor bed markings (any colour) | D29: m² | E29: 100 | F29: 0 | G29: =E29*F29 -> 0
B31: 57,06 | C31: Setting out and premarking the lines (Excluding traffic-island markings, lettering and symbols) | D31: km | E31: =E13 -> 2.9 | F31: 0 | G31: =E31*F31 -> 0 | H31: 3.8 | I31: =F31*H31 -> 0 | J31: =G31-I31 -> 0
B33: 57.07 | C33: Re-establishing the painting unit at the end of the maintenance period | D33: L/Sum | E33: 1 | F33: 0 | G33: =E33*F33 -> 0 | H33: 1 | I33: =F33*H33 -> 0 | J33: =G33-I33 -> 0
B65: Total Carried Forward to Summary | G65: 0 | I65: =SUM(I7:I57) -> 0 | J65: =SUM(J7:J57) -> 0

Sheet SECTION 5900
B2: ='SECTION 5600 (LIC) '!B2 -> Contract No. 9/3/1/424
B3: Construction of Road Paving and Stormwater in Rapotokwane
G4: SECTION 5900
B5: Number | C5: Item Description | D5: Unit | E5: Quantity | F5: Rate | G5: Amount R | H5: Final Quantity | I5: Final Amount | J5: Savings
B7: 5900 | C7: FINISHING THE ROAD AND ROAD RESERVE AND TREATING OLD ROADS
B9: 59.01 | C9: Finishing the road and road reserve:
C11: (b) Single carriageway road | D11: km | E11: 2.9 | F11: 0 | G11: =E11*F11 -> 0 | H11: 3.4 | I11: =F11*H11 -> 0 | J11: =G11-I11 -> 0
B38: Total Carried Forward to Summary | G38: =SUM(G3:G37) -> 0 | I38: =SUM(I7:I30) -> 0 | J38: =SUM(J7:J30) -> 0

Sheet SECTION 7300 (LIC)       
B2: Contract No. 9/3/1/424
B3: Construction of Road Paving and Stormwater in Rapotokwane
G4: SECTION 7300
B5: Number | C5: Item Description | D5: Unit | E5: Quantity | F5: Rate | G5: Amount R | H5: Final Quantity | I5: Final Amount | J5: Savings
B7: 7300 | C7: CONCRETE BLOCK PAVING FOR ROADS
B9: 73.01 | C9: (a)Concrete block paving (221 x 110 x 60mm thick "Infraset Crazy E G Block" or similar approved) | D9: m² | E9: =(5.5*2900+30+10)*1.1 -> 17589 | F9: 0 | G9: =E9*F9 -> 0 | H9: 6800 | I9: =F9*H9 -> 0 | J9: =G9-I9 -> 0 | L9: On the new road and excisting island
B11: 73.03 | C11: Provision of approved herbicide and ant poison:
C13: (a) Provision of materials | D13: PC Sum | E13: 1 | F13: 50000 | G13: =E13*F13 -> 50000 | H13: 1 | I13: =F13*H13 -> 50000 | J13: =G13-I13 -> 0
C15: (b) Contractor's charges and profit added to the prime cost sum | D15: % | E15: =F13 -> 50000 | F15: 0 | G15: =E15*F15 -> 0 | H15: 25000 | I15: =F15*H15 -> 0 | J15: =G15-I15 -> 0
B60: Total Carried Forward to Summary | G60: 0 | H60: =SUM(H9:H16) -> 31801 | I60: =SUM(I9:I16) -> 50000 | J60: =SUM(J9:J16) -> 0

Sheet SECTION 8100     
B2: Contract No. 9/3/1/424
B3: Construction of Road Paving and Stormwater in Rapotokwane
G4: SECTION 8100
B5: Number | C5: Item Description | D5: Unit | E5: Quantity | F5: Rate | G5: Amount R
