{"text_format":"3","workbook":"xlsx","n_sheets":13,"sheets":["1. P&G","2. Prov Sum","3. Dayworks","4. BPT","5. Valve Chambers","6. Buffer Tank","7. Medium Pipes","8. Earthworks ","9. Joint Sealing","10. Spoil Repair","BoQ SUMMARY","SUMMARY -Report","SUMMARY -Report (Excl Tank)"],"not_rendered":{"images":4,"external_links":1,"defined_names":36,"comments":2},"read":"whole","date_system":"1900"}

{"sheet":"1. P&G","index":0,"n_rows":163,"n_cols":13,"rows_kept":163,"merged":[[0,0,1,0],[0,1,1,1],[0,2,1,6],[0,7,1,7],[0,8,1,8],[0,9,1,9],[0,10,1,10],[0,11,1,11],[0,12,1,12],[5,2,5,6],[46,2,46,6]]}
["Item","Ref","Description",{"$nulls":4},"Unit","Qty","Rate","Amount"]
[]
[null,"SANS","Schedule 1",null,1,{"$nulls":7},1]
[null,"1200 A","Preliminary and General",{"$nulls":9},2]
[null,"PSA",{"$nulls":10},3]
[null,null,"FIXED-CHARGE ITEMS",{"$nulls":9},4]
[{"$nulls":12},5]
[{"$f":"IF(ISBLANK(H8),\"\",($E$3&\".\"&+(COUNTA(H$3:H8))))","v":"1.1"},"8.3.1",".1","Contractual Requirements",{"$nulls":3},"sum",1,{"$nulls":3},6]
[{"$f":"IF(ISBLANK(H9),\"\",($E$3&\".\"&+(COUNTA(H$3:H9))))","v":""},{"$nulls":11},7]
[{"$f":"IF(ISBLANK(H10),\"\",($E$3&\".\"&+(COUNTA(H$3:H10))))","v":""},null,"Establishment of Facilities on Site",{"$nulls":9},8]
[{"$f":"IF(ISBLANK(H11),\"\",($E$3&\".\"&+(COUNTA(H$3:H11))))","v":""},"PSAB",{"$nulls":10},9]
[{"$f":"IF(ISBLANK(H12),\"\",($E$3&\".\"&+(COUNTA(H$3:H12))))","v":""},"8.3.2",".2","Facilities for the Engineer",{"$nulls":8},10]
[{"$f":"IF(ISBLANK(H13),\"\",($E$3&\".\"&+(COUNTA(H$3:H13))))","v":""},{"$nulls":11},11]
[{"$f":"IF(ISBLANK(H14),\"\",($E$3&\".\"&+(COUNTA(H$3:H14))))","v":"1.2"},null,null,"(a)","Furnished Offices, Latrines and Carports",null,null,"sum",1,{"$nulls":3},12]
[{"$f":"IF(ISBLANK(H15),\"\",($E$3&\".\"&+(COUNTA(H$3:H15))))","v":"1.3"},null,null,"(b)","Telephone",null,null,"sum",1,{"$nulls":3},13]
[{"$f":"IF(ISBLANK(H16),\"\",($E$3&\".\"&+(COUNTA(H$3:H16))))","v":"1.4"},null,null,"(c)","Nameboards",null,null,"No",1,{"$nulls":3},14]
[{"$f":"IF(ISBLANK(H17),\"\",($E$3&\".\"&+(COUNTA(H$3:H17))))","v":"1.5"},null,null,"(d)","Survey Assistant",null,null,"sum",1,{"$nulls":3},15]
[{"$f":"IF(ISBLANK(H18),\"\",($E$3&\".\"&+(COUNTA(H$3:H18))))","v":"1.6"},null,null,"(e)","Survey Equipment",null,null,"sum",1,{"$nulls":3},16]
[{"$f":"IF(ISBLANK(H19),\"\",($E$3&\".\"&+(COUNTA(H$3:H19))))","v":""},{"$nulls":11},17]
[{"$f":"IF(ISBLANK(H20),\"\",($E$3&\".\"&+(COUNTA(H$3:H20))))","v":""},"8.3.2",".3","Facilities for the Contractor",{"$nulls":8},18]
[{"$f":"IF(ISBLANK(H21),\"\",($E$3&\".\"&+(COUNTA(H$3:H21))))","v":""},{"$nulls":11},19]
[{"$f":"IF(ISBLANK(H22),\"\",($E$3&\".\"&+(COUNTA(H$3:H22))))","v":"1.7"},null,null,"(a)","Offices and storage sheds",null,null,"sum",1,{"$nulls":3},20]
[{"$f":"IF(ISBLANK(H23),\"\",($E$3&\".\"&+(COUNTA(H$3:H23))))","v":"1.8"},null,null,"(b)","Workshops",null,null,"sum",1,{"$nulls":3},21]
[{"$f":"IF(ISBLANK(H24),\"\",($E$3&\".\"&+(COUNTA(H$3:H24))))","v":"1.9"},null,null,"(c)","Laboratories",null,null,"sum",1,{"$nulls":3},22]
[{"$f":"IF(ISBLANK(H25),\"\",($E$3&\".\"&+(COUNTA(H$3:H25))))","v":"1.10"},null,null,"(d)","Living accommodation",null,null,"sum",1,{"$nulls":3},23]
[{"$f":"IF(ISBLANK(H26),\"\",($E$3&\".\"&+(COUNTA(H$3:H26))))","v":"1.11"},null,null,"(e)","Ablution and latrine facilities",null,null,"sum",1,{"$nulls":3},24]
[{"$f":"IF(ISBLANK(H27),\"\",($E$3&\".\"&+(COUNTA(H$3:H27))))","v":"1.12"},null,null,"(f)","Tools and equipment",null,null,"sum",1,{"$nulls":3},25]
[{"$f":"IF(ISBLANK(H28),\"\",($E$3&\".\"&+(COUNTA(H$3:H28))))","v":"1.13"},null,null,"(g)","Water supplies, power and communication",null,null,"sum",1,{"$nulls":3},26]
[{"$f":"IF(ISBLANK(H29),\"\",($E$3&\".\"&+(COUNTA(H$3:H29))))","v":"1.14"},null,null,"(h)","Dealing with water (Sub-clause 5.5)",null,null,"sum",1,{"$nulls":3},27]
[{"$f":"IF(ISBLANK(H30),\"\",($E$3&\".\"&+(COUNTA(H$3:H30))))","v":"1.15"},null,null,"(i)","Access (Sub-clause 5.8)",null,null,"sum",1,{"$nulls":3},28]
[{"$f":"IF(ISBLANK(H31),\"\",($E$3&\".\"&+(COUNTA(H$3:H31))))","v":"1.16"},null,null,"(j)","Construction Equipment ",null,null,"sum",1,{"$nulls":3},29]
[{"$f":"IF(ISBLANK(H32),\"\",($E$3&\".\"&+(COUNTA(H$3:H32))))","v":""},{"$nulls":11},30]
[{"$f":"IF(ISBLANK(H33),\"\",($E$3&\".\"&+(COUNTA(H$3:H33))))","v":"1.17"},"8.3.3",".4","Other fixed-charge Obligations",{"$nulls":3},"sum",1,{"$nulls":3},31]
[{"$f":"IF(ISBLANK(H34),\"\",($E$3&\".\"&+(COUNTA(H$3:H34))))","v":""},{"$nulls":11},32]
[{"$f":"IF(ISBLANK(H35),\"\",($E$3&\".\"&+(COUNTA(H$3:H35))))","v":"1.18"},"8.3.4",".5","Removal of Contractors and Engineers site on completion",{"$nulls":3},"sum",1,{"$nulls":3},33]
[{"$f":"IF(ISBLANK(H36),\"\",($E$3&\".\"&+(COUNTA(H$3:H36))))","v":""},{"$nulls":11},34]
[{"$f":"IF(ISBLANK(H37),\"\",($E$3&\".\"&+(COUNTA(H$3:H37))))","v":""},null,"Occupational Health and Safety",{"$nulls":9},35]
[{"$f":"IF(ISBLANK(H38),\"\",($E$3&\".\"&+(COUNTA(H$3:H38))))","v":""},{"$nulls":11},36]
[{"$f":"IF(ISBLANK(H39),\"\",($E$3&\".\"&+(COUNTA(H$3:H39))))","v":"1.19"},"8.3.5",".6","Compliance with Occupational Health and Safety Act",{"$nulls":3},"sum",1,{"$nulls":3},37]
[{"$f":"IF(ISBLANK(H40),\"\",($E$3&\".\"&+(COUNTA(H$3:H40))))","v":""},null,null,"(Act 85 of 1993) and its regulations and with the",{"$nulls":8},38]
[{"$f":"IF(ISBLANK(H41),\"\",($E$3&\".\"&+(COUNTA(H$3:H41))))","v":""},null,null,"Employers Health and Safety Specification",{"$nulls":8},39]
[{"$f":"IF(ISBLANK(H42),\"\",($E$3&\".\"&+(COUNTA(H$3:H42))))","v":""},{"$nulls":11},40]
[{"$f":"IF(ISBLANK(H43),\"\",($E$3&\".\"&+(COUNTA(H$3:H43))))","v":""},null,"Environmental Management",{"$nulls":9},41]
[{"$f":"IF(ISBLANK(H44),\"\",($E$3&\".\"&+(COUNTA(H$3:H44))))","v":""},{"$nulls":11},42]
[{"$f":"IF(ISBLANK(H45),\"\",($E$3&\".\"&+(COUNTA(H$3:H45))))","v":"1.20"},"8.3.6",".7","Compliance with Environmental Management plan",{"$nulls":3},"sum",{"v":1,"d":"1.0"},null,"R/O",null,43]
[{"$f":"IF(ISBLANK(H46),\"\",($E$3&\".\"&+(COUNTA(H$3:H46))))","v":""},{"$nulls":11},44]
[{"$f":"IF(ISBLANK(H47),\"\",($E$3&\".\"&+(COUNTA(H$3:H47))))","v":""},null,"TIME-RELATED ITEMS",{"$nulls":9},45]
[{"$f":"IF(ISBLANK(H48),\"\",($E$3&\".\"&+(COUNTA(H$3:H48))))","v":""},{"$nulls":11},46]
[{"$f":"IF(ISBLANK(H49),\"\",($E$3&\".\"&+(COUNTA(H$3:H49))))","v":"1.21"},"8.4.1",".1","Contractual requirements",{"$nulls":3},"month",12,{"$nulls":3},47]
[{"$f":"IF(ISBLANK(H50),\"\",($E$3&\".\"&+(COUNTA(H$3:H50))))","v":""},{"$nulls":11},48]
[{"$f":"IF(ISBLANK(H51),\"\",($E$3&\".\"&+(COUNTA(H$3:H51))))","v":""},null,"Operation and maintenance of facilities on the Site for",{"$nulls":9},49]
[{"$f":"IF(ISBLANK(H52),\"\",($E$3&\".\"&+(COUNTA(H$3:H52))))","v":""},null,"the duration of construction",{"$nulls":9},50]
[{"$f":"IF(ISBLANK(H53),\"\",($E$3&\".\"&+(COUNTA(H$3:H53))))","v":""},{"$nulls":11},51]
[{"$f":"IF(ISBLANK(H54),\"\",($E$3&\".\"&+(COUNTA(H$3:H54))))","v":""},"8.4.2",".2","Facilities for the Engineer",{"$nulls":8},52]
[{"$f":"IF(ISBLANK(H55),\"\",($E$3&\".\"&+(COUNTA(H$3:H55))))","v":""},{"$nulls":11},53]
[{"$f":"IF(ISBLANK(H56),\"\",($E$3&\".\"&+(COUNTA(H$3:H56))))","v":"1.22"},null,null,"(a)","Furnished Offices, Latrines and Carports",null,null,"month",12,{"$nulls":3},54]
[{"$f":"IF(ISBLANK(H57),\"\",($E$3&\".\"&+(COUNTA(H$3:H57))))","v":""},{"$nulls":11},55]
[{"$f":"IF(ISBLANK(H58),\"\",($E$3&\".\"&+(COUNTA(H$3:H58))))","v":"1.23"},null,null,"(b)","Telephone",null,null,"month",{"$f":"I56","v":12},{"$nulls":3},56]
[{"$f":"IF(ISBLANK(H59),\"\",($E$3&\".\"&+(COUNTA(H$3:H59))))","v":""},{"$nulls":11},57]
[{"$f":"IF(ISBLANK(H60),\"\",($E$3&\".\"&+(COUNTA(H$3:H60))))","v":"1.24"},null,null,"(c)","Nameboards",null,null,"month",{"$f":"I58","v":12},{"$nulls":3},58]
[{"$f":"IF(ISBLANK(H61),\"\",($E$3&\".\"&+(COUNTA(H$3:H61))))","v":""},{"$nulls":11},59]
[{"$f":"IF(ISBLANK(H62),\"\",($E$3&\".\"&+(COUNTA(H$3:H62))))","v":"1.25"},null,null,"(d)","Survey Assistant",null,null,"month",{"$f":"I60","v":12},{"$nulls":3},60]
[{"$f":"IF(ISBLANK(H63),\"\",($E$3&\".\"&+(COUNTA(H$3:H63))))","v":""},{"$nulls":11},61]
[{"$f":"IF(ISBLANK(H64),\"\",($E$3&\".\"&+(COUNTA(H$3:H64))))","v":"1.26"},null,null,"(e)","Survey Equipment",null,null,"month",{"$f":"I62","v":12},{"$nulls":3},62]
[{"$nulls":12},63]
[{"$f":"IF(ISBLANK(H66),\"\",($E$3&\".\"&+(COUNTA(H$3:H66))))","v":""},"8.4.2",".3","Facilities for the Contractor",{"$nulls":8},64]
[{"$f":"IF(ISBLANK(H67),\"\",($E$3&\".\"&+(COUNTA(H$3:H67))))","v":""},{"$nulls":11},65]
[{"$f":"IF(ISBLANK(H68),\"\",($E$3&\".\"&+(COUNTA(H$3:H68))))","v":"1.27"},null,null,"(a)","Offices and storage sheds",null,null,"month",{"$f":"I56","v":{"v":12,"d":"12.00"}},{"$nulls":3},66]
[{"$f":"IF(ISBLANK(H69),\"\",($E$3&\".\"&+(COUNTA(H$3:H69))))","v":""},{"$nulls":11},67]
[{"$f":"IF(ISBLANK(H70),\"\",($E$3&\".\"&+(COUNTA(H$3:H70))))","v":"1.28"},null,null,"(b)","Workshops",null,null,"month",{"$f":"I68","v":{"v":12,"d":"12.00"}},{"$nulls":3},68]
[{"$f":"IF(ISBLANK(H71),\"\",($E$3&\".\"&+(COUNTA(H$3:H71))))","v":""},{"$nulls":11},69]
[{"$f":"IF(ISBLANK(H72),\"\",($E$3&\".\"&+(COUNTA(H$3:H72))))","v":"1.29"},null,null,"(c)","Laboratories",null,null,"month",{"$f":"I70","v":{"v":12,"d":"12.00"}},{"$nulls":3},70]
[{"$f":"IF(ISBLANK(H73),\"\",($E$3&\".\"&+(COUNTA(H$3:H73))))","v":""},{"$nulls":11},71]
[{"$f":"IF(ISBLANK(H74),\"\",($E$3&\".\"&+(COUNTA(H$3:H74))))","v":"1.30"},null,null,"(d)","Living accommodation",null,null,"month",{"$f":"I72","v":{"v":12,"d":"12.00"}},{"$nulls":3},72]
[{"$f":"IF(ISBLANK(H75),\"\",($E$3&\".\"&+(COUNTA(H$3:H75))))","v":""},{"$nulls":11},73]
[{"$f":"IF(ISBLANK(H76),\"\",($E$3&\".\"&+(COUNTA(H$3:H76))))","v":"1.31"},null,null,"(e)","Ablution and latrine facilities",null,null,"month",{"$f":"I74","v":{"v":12,"d":"12.00"}},{"$nulls":3},74]
[{"$nulls":9},"Carried forward",null,null,75]
[{"$nulls":9},"Brought forward"]
[{"$nulls":12},77]
[{"$f":"IF(ISBLANK(H80),\"\",($E$3&\".\"&+(COUNTA(H$3:H80))))","v":"1.32"},null,null,"(f)","Tools and equipment",null,null,"month",{"$f":"I76","v":{"v":12,"d":"12.00"}},{"$nulls":3},78]
[{"$f":"IF(ISBLANK(H81),\"\",($E$3&\".\"&+(COUNTA(H$3:H81))))","v":""},{"$nulls":11},79]
[{"$f":"IF(ISBLANK(H82),\"\",($E$3&\".\"&+(COUNTA(H$3:H82))))","v":"1.33"},null,null,"(g)","Water supplies, power and communication",null,null,"month",{"$f":"I80","v":{"v":12,"d":"12.00"}}]
[{"$nulls":12},80]
[{"$f":"IF(ISBLANK(H84),\"\",($E$3&\".\"&+(COUNTA(H$3:H84))))","v":"1.34"},null,null,"(h)","Dealing with water (Sub-clause 5.5)",null,null,"month",{"$f":"I82","v":{"v":12,"d":"12.00"}}]
[{"$f":"IF(ISBLANK(H85),\"\",($E$3&\".\"&+(COUNTA(H$3:H85))))","v":""}]
[{"$f":"IF(ISBLANK(H86),\"\",($E$3&\".\"&+(COUNTA(H$3:H86))))","v":"1.35"},null,null,"(i)","Access (Sub-clause 5.8)",null,null,"month",{"$f":"I84","v":{"v":12,"d":"12.00"}},{"$nulls":3},1]
[{"$f":"IF(ISBLANK(H87),\"\",($E$3&\".\"&+(COUNTA(H$3:H87))))","v":""},{"$nulls":11},2]
[{"$f":"IF(ISBLANK(H88),\"\",($E$3&\".\"&+(COUNTA(H$3:H88))))","v":"1.36"},null,null,"(j)","Construction Equipment ",null,null,"month",{"$f":"I86","v":{"v":12,"d":"12.00"}},{"$nulls":3},3]
[{"$f":"IF(ISBLANK(H89),\"\",($E$3&\".\"&+(COUNTA(H$3:H89))))","v":""},{"$nulls":11},4]
[{"$f":"IF(ISBLANK(H90),\"\",($E$3&\".\"&+(COUNTA(H$3:H90))))","v":"1.37"},"8.4.3",".4","Supervision for duration of construction",{"$nulls":3},"month",{"$f":"I88","v":{"v":12,"d":"12.00"}},{"$nulls":3},5]
[{"$f":"IF(ISBLANK(H91),\"\",($E$3&\".\"&+(COUNTA(H$3:H91))))","v":""},{"$nulls":11},6]
[{"$f":"IF(ISBLANK(H92),\"\",($E$3&\".\"&+(COUNTA(H$3:H92))))","v":"1.38"},"8.4.4",".5","Company and Head Office Overheads",{"$nulls":3},"month",{"$f":"I90","v":{"v":12,"d":"12.00"}},{"$nulls":3},7]
[{"$f":"IF(ISBLANK(H93),\"\",($E$3&\".\"&+(COUNTA(H$3:H93))))","v":""},{"$nulls":11},8]
[{"$f":"IF(ISBLANK(H94),\"\",($E$3&\".\"&+(COUNTA(H$3:H94))))","v":"1.39"},"8.4.5",".6","Other time-related Obligations",{"$nulls":3},"month",{"$f":"I92","v":{"v":12,"d":"12.00"}},{"$nulls":3},9]
[{"$f":"IF(ISBLANK(H95),\"\",($E$3&\".\"&+(COUNTA(H$3:H95))))","v":""},{"$nulls":11},10]
[{"$f":"IF(ISBLANK(H96),\"\",($E$3&\".\"&+(COUNTA(H$3:H96))))","v":""},null,"Occupational Health and Safety",{"$nulls":9},11]
[{"$f":"IF(ISBLANK(H97),\"\",($E$3&\".\"&+(COUNTA(H$3:H97))))","v":""},{"$nulls":11},12]
[{"$f":"IF(ISBLANK(H98),\"\",($E$3&\".\"&+(COUNTA(H$3:H98))))","v":"1.40"},"8.4.6",".7","Compliance with Occupational Health and Safety Act",{"$nulls":3},"month",{"$f":"I94","v":{"v":12,"d":"12.00"}},{"$nulls":3},13]
[{"$f":"IF(ISBLANK(H99),\"\",($E$3&\".\"&+(COUNTA(H$3:H99))))","v":""},null,null,"(Act 85 of 1993) and its regulations and with the",{"$nulls":8},14]
[{"$f":"IF(ISBLANK(H100),\"\",($E$3&\".\"&+(COUNTA(H$3:H100))))","v":""},null,null,"Employers Health and Safety Specification",{"$nulls":8},15]
[{"$f":"IF(ISBLANK(H101),\"\",($E$3&\".\"&+(COUNTA(H$3:H101))))","v":""},{"$nulls":11},16]
[{"$f":"IF(ISBLANK(H102),\"\",($E$3&\".\"&+(COUNTA(H$3:H102))))","v":""},null,"Environmental Management",{"$nulls":9},17]
[{"$f":"IF(ISBLANK(H103),\"\",($E$3&\".\"&+(COUNTA(H$3:H103))))","v":""},{"$nulls":11},18]
[{"$f":"IF(ISBLANK(H104),\"\",($E$3&\".\"&+(COUNTA(H$3:H104))))","v":"1.41"},"8.4.7",".8","Compliance with Environmental Management plan",{"$nulls":3},"month",{"$f":"I98","v":{"v":12,"d":"12.00"}},null,"R/O",null,19]
[{"$f":"IF(ISBLANK(H105),\"\",($E$3&\".\"&+(COUNTA(H$3:H105))))","v":""},{"$nulls":11},20]
[{"$f":"IF(ISBLANK(H106),\"\",($E$3&\".\"&+(COUNTA(H$3:H106))))","v":""},{"$nulls":11},21]
[{"$nulls":12},22]
[{"$nulls":12},23]
[{"$nulls":12},24]
[{"$nulls":12},25]
[{"$nulls":12},26]
[{"$nulls":12},27]
[{"$nulls":12},28]
[{"$nulls":12},29]
[{"$nulls":12},30]
[{"$nulls":12},31]
[{"$nulls":12},32]
[{"$nulls":12},33]
[{"$nulls":12},34]
[{"$nulls":12},35]
[{"$nulls":12},36]
[{"$nulls":12},37]
[{"$nulls":12},38]
[{"$nulls":12},39]
[{"$nulls":12},40]
[{"$nulls":12},41]
[{"$nulls":12},42]
[{"$nulls":12},43]
[{"$nulls":12},44]
[{"$nulls":12},45]
[{"$nulls":12},46]
[{"$nulls":12},47]
[{"$nulls":12},48]
[{"$nulls":12},49]
[{"$nulls":12},50]
[{"$nulls":12},51]
[{"$nulls":12},52]
[{"$nulls":12},53]
[{"$nulls":12},54]
[{"$nulls":12},55]
[{"$nulls":12},56]
[{"$nulls":12},57]
[{"$nulls":12},58]
[{"$nulls":12},59]
[{"$nulls":12},60]
[{"$nulls":12},61]
[{"$nulls":12},62]
[{"$nulls":12},63]
[{"$nulls":12},64]
[null,null,{"$f":"C3","v":"Schedule 1"},{"$nulls":9},65]
[null,null,{"$f":"C4","v":"Preliminary and General"},{"$nulls":9},68]
[{"$nulls":12},69]
[{"$nulls":9},"Carried forward to summary of schedules",null,null,70]
[{"$nulls":12},71]
[{"$nulls":12},72]
[{"$nulls":12},73]
[{"$nulls":12},74]
[{"$nulls":12},75]
[{"$nulls":12},76]
[{"$nulls":12},77]
[{"$nulls":12},78]
[{"$nulls":12},79]
[{"$nulls":12},80]

{"sheet":"2. Prov Sum","index":1,"n_rows":159,"n_cols":23,"rows_kept":159,"merged":[[0,0,1,0],[0,1,1,1],[0,2,1,6],[0,7,1,7],[0,8,1,8],[0,9,1,9],[0,10,1,10],[0,11,1,11],[0,12,1,12],[5,2,5,6],[81,2,81,6],[89,242,89,243],[89,244,89,245],[89,246,89,247],[89,249,89,250],[89,498,89,499],[89,500,89,501],[89,502,89,503],[89,505,89,506],[89,754,89,755],[89,756,89,757],[89,758,89,759],[89,761,89,762],[89,1010,89,1011],[89,1012,89,1013],[89,1014,89,1015],[89,1017,89,1018],[89,1266,89,1267],[89,1268,89,1269],[89,1270,89,1271],[89,1273,89,1274],[89,1522,89,1523],[89,1524,89,1525],[89,1526,89,1527],[89,1529,89,1530],[89,1778,89,1779],[89,1780,89,1781],[89,1782,89,1783],[89,1785,89,1786],[89,2034,89,2035],[89,2036,89,2037],[89,2038,89,2039],[89,2041,89,2042],[89,2290,89,2291],[89,2292,89,2293],[89,2294,89,2295],[89,2297,89,2298],[89,2546,89,2547],[89,2548,89,2549],[89,2550,89,2551],[89,2553,89,2554],[89,2802,89,2803],[89,2804,89,2805],[89,2806,89,2807],[89,2809,89,2810],[89,3058,89,3059],[89,3060,89,3061],[89,3062,89,3063],[89,3065,89,3066],[89,3314,89,3315],[89,3316,89,3317],[89,3318,89,3319],[89,3321,89,3322],[89,3570,89,3571],[89,3572,89,3573],[89,3574,89,3575],[89,3577,89,3578],[89,3826,89,3827],[89,3828,89,3829],[89,3830,89,3831],[89,3833,89,3834],[89,4082,89,4083],[89,4084,89,4085],[89,4086,89,4087],[89,4089,89,4090],[89,4338,89,4339],[89,4340,89,4341],[89,4342,89,4343],[89,4345,89,4346],[89,4594,89,4595],[89,4596,89,4597],[89,4598,89,4599],[89,4601,89,4602],[89,4850,89,4851],[89,4852,89,4853],[89,4854,89,4855],[89,4857,89,4858],[89,5106,89,5107],[89,5108,89,5109],[89,5110,89,5111],[89,5113,89,5114],[89,5362,89,5363],[89,5364,89,5365],[89,5366,89,5367],[89,5369,89,5370],[89,5618,89,5619],[89,5620,89,5621],[89,5622,89,5623],[89,5625,89,5626],[89,5874,89,5875],[89,5876,89,5877],[89,5878,89,5879],[89,5881,89,5882],[89,6130,89,6131],[89,6132,89,6133],[89,6134,89,6135],[89,6137,89,6138],[89,6386,89,6387],[89,6388,89,6389],[89,6390,89,6391],[89,6393,89,6394],[89,6642,89,6643],[89,6644,89,6645],[89,6646,89,6647],[89,6649,89,6650],[89,6898,89,6899],[89,6900,89,6901],[89,6902,89,6903],[89,6905,89,6906],[89,7154,89,7155],[89,7156,89,7157],[89,7158,89,7159],[89,7161,89,7162],[89,7410,89,7411],[89,7412,89,7413],[89,7414,89,7415],[89,7417,89,7418],[89,7666,89,7667],[89,7668,89,7669],[89,7670,89,7671],[89,7673,89,7674],[89,7922,89,7923],[89,7924,89,7925],[89,7926,89,7927],[89,7929,89,7930],[89,8178,89,8179],[89,8180,89,8181],[89,8182,89,8183],[89,8185,89,8186],[89,8434,89,8435],[89,8436,89,8437],[89,8438,89,8439],[89,8441,89,8442],[89,8690,89,8691],[89,8692,89,8693],[89,8694,89,8695],[89,8697,89,8698],[89,8946,89,8947],[89,8948,89,8949],[89,8950,89,8951],[89,8953,89,8954],[89,9202,89,9203],[89,9204,89,9205],[89,9206,89,9207],[89,9209,89,9210],[89,9458,89,9459],[89,9460,89,9461],[89,9462,89,9463],[89,9465,89,9466],[89,9714,89,9715],[89,9716,89,9717],[89,9718,89,9719],[89,9721,89,9722],[89,9970,89,9971],[89,9972,89,9973],[89,9974,89,9975],[89,9977,89,9978],[89,10226,89,10227],[89,10228,89,10229],[89,10230,89,10231],[89,10233,89,10234],[89,10482,89,10483],[89,10484,89,10485],[89,10486,89,10487],[89,10489,89,10490],[89,10738,89,10739],[89,10740,89,10741],[89,10742,89,10743],[89,10745,89,10746],[89,10994,89,10995],[89,10996,89,10997],[89,10998,89,10999],[89,11001,89,11002],[89,11250,89,11251],[89,11252,89,11253],[89,11254,89,11255],[89,11257,89,11258],[89,11506,89,11507],[89,11508,89,11509],[89,11510,89,11511],[89,11513,89,11514],[89,11762,89,11763],[89,11764,89,11765],[89,11766,89,11767],[89,11769,89,11770],[89,12018,89,12019],[89,12020,89,12021],[89,12022,89,12023],[89,12025,89,12026],[89,12274,89,12275],[89,12276,89,12277],[89,12278,89,12279],[89,12281,89,12282],[89,12530,89,12531],[89,12532,89,12533],[89,12534,89,12535],[89,12537,89,12538],[89,12786,89,12787],[89,12788,89,12789],[89,12790,89,12791],[89,12793,89,12794],[89,13042,89,13043],[89,13044,89,13045],[89,13046,89,13047],[89,13049,89,13050],[89,13298,89,13299],[89,13300,89,13301],[89,13302,89,13303],[89,13305,89,13306],[89,13554,89,13555],[89,13556,89,13557],[89,13558,89,13559],[89,13561,89,13562],[89,13810,89,13811],[89,13812,89,13813],[89,13814,89,13815],[89,13817,89,13818],[89,14066,89,14067],[89,14068,89,14069],[89,14070,89,14071],[89,14073,89,14074],[89,14322,89,14323],[89,14324,89,14325],[89,14326,89,14327],[89,14329,89,14330],[89,14578,89,14579],[89,14580,89,14581],[89,14582,89,14583],[89,14585,89,14586],[89,14834,89,14835],[89,14836,89,14837],[89,14838,89,14839],[89,14841,89,14842],[89,15090,89,15091],[89,15092,89,15093],[89,15094,89,15095],[89,15097,89,15098],[89,15346,89,15347],[89,15348,89,15349],[89,15350,89,15351],[89,15353,89,15354],[89,15602,89,15603],[89,15604,89,15605],[89,15606,89,15607],[89,15609,89,15610],[89,15858,89,15859],[89,15860,89,15861],[89,15862,89,15863],[89,15865,89,15866],[89,16114,89,16115],[89,16116,89,16117],[89,16118,89,16119],[89,16121,89,16122],[90,242,90,243],[90,244,90,245],[90,246,90,247],[90,249,90,250],[90,498,90,499],[90,500,90,501],[90,502,90,503],[90,505,90,506],[90,754,90,755],[90,756,90,757],[90,758,90,759],[90,761,90,762],[90,1010,90,1011],[90,1012,90,1013],[90,1014,90,1015],[90,1017,90,1018],[90,1266,90,1267],[90,1268,90,1269],[90,1270,90,1271],[90,1273,90,1274],[90,1522,90,1523],[90,1524,90,1525],[90,1526,90,1527],[90,1529,90,1530],[90,1778,90,1779],[90,1780,90,1781],[90,1782,90,1783],[90,1785,90,1786],[90,2034,90,2035],[90,2036,90,2037],[90,2038,90,2039],[90,2041,90,2042],[90,2290,90,2291],[90,2292,90,2293],[90,2294,90,2295],[90,2297,90,2298],[90,2546,90,2547],[90,2548,90,2549],[90,2550,90,2551],[90,2553,90,2554],[90,2802,90,2803],[90,2804,90,2805],[90,2806,90,2807],[90,2809,90,2810],[90,3058,90,3059],[90,3060,90,3061],[90,3062,90,3063],[90,3065,90,3066],[90,3314,90,3315],[90,3316,90,3317],[90,3318,90,3319],[90,3321,90,3322],[90,3570,90,3571],[90,3572,90,3573],[90,3574,90,3575],[90,3577,90,3578],[90,3826,90,3827],[90,3828,90,3829],[90,3830,90,3831],[90,3833,90,3834],[90,4082,90,4083],[90,4084,90,4085],[90,4086,90,4087],[90,4089,90,4090],[90,4338,90,4339],[90,4340,90,4341],[90,4342,90,4343],[90,4345,90,4346],[90,4594,90,4595],[90,4596,90,4597],[90,4598,90,4599],[90,4601,90,4602],[90,4850,90,4851],[90,4852,90,4853],[90,4854,90,4855],[90,4857,90,4858],[90,5106,90,5107],[90,5108,90,5109],[90,5110,90,5111],[90,5113,90,5114],[90,5362,90,5363],[90,5364,90,5365],[90,5366,90,5367],[90,5369,90,5370],[90,5618,90,5619],[90,5620,90,5621],[90,5622,90,5623],[90,5625,90,5626],[90,5874,90,5875],[90,5876,90,5877],[90,5878,90,5879],[90,5881,90,5882],[90,6130,90,6131],[90,6132,90,6133],[90,6134,90,6135],[90,6137,90,6138],[90,6386,90,6387],[90,6388,90,6389],[90,6390,90,6391],[90,6393,90,6394],[90,6642,90,6643],[90,6644,90,6645],[90,6646,90,6647],[90,6649,90,6650],[90,6898,90,6899],[90,6900,90,6901],[90,6902,90,6903],[90,6905,90,6906],[90,7154,90,7155],[90,7156,90,7157],[90,7158,90,7159],[90,7161,90,7162],[90,7410,90,7411],[90,7412,90,7413],[90,7414,90,7415],[90,7417,90,7418],[90,7666,90,7667],[90,7668,90,7669],[90,7670,90,7671],[90,7673,90,7674],[90,7922,90,7923],[90,7924,90,7925],[90,7926,90,7927],[90,7929,90,7930],[90,8178,90,8179],[90,8180,90,8181],[90,8182,90,8183],[90,8185,90,8186],[90,8434,90,8435],[90,8436,90,8437],[90,8438,90,8439],[90,8441,90,8442],[90,8690,90,8691],[90,8692,90,8693],[90,8694,90,8695],[90,8697,90,8698],[90,8946,90,8947],[90,8948,90,8949],[90,8950,90,8951],[90,8953,90,8954],[90,9202,90,9203],[90,9204,90,9205],[90,9206,90,9207],[90,9209,90,9210],[90,9458,90,9459],[90,9460,90,9461],[90,9462,90,9463],[90,9465,90,9466],[90,9714,90,9715],[90,9716,90,9717],[90,9718,90,9719],[90,9721,90,9722],[90,9970,90,9971],[90,9972,90,9973],[90,9974,90,9975],[90,9977,90,9978],[90,10226,90,10227],[90,10228,90,10229],[90,10230,90,10231],[90,10233,90,10234],[90,10482,90,10483],[90,10484,90,10485],[90,10486,90,10487],[90,10489,90,10490],[90,10738,90,10739],[90,10740,90,10741],[90,10742,90,10743],[90,10745,90,10746],[90,10994,90,10995],[90,10996,90,10997],[90,10998,90,10999],[90,11001,90,11002],[90,11250,90,11251],[90,11252,90,11253],[90,11254,90,11255],[90,11257,90,11258],[90,11506,90,11507],[90,11508,90,11509],[90,11510,90,11511],[90,11513,90,11514],[90,11762,90,11763],[90,11764,90,11765],[90,11766,90,11767],[90,11769,90,11770],[90,12018,90,12019],[90,12020,90,12021],[90,12022,90,12023],[90,12025,90,12026],[90,12274,90,12275],[90,12276,90,12277],[90,12278,90,12279],[90,12281,90,12282],[90,12530,90,12531],[90,12532,90,12533],[90,12534,90,12535],[90,12537,90,12538],[90,12786,90,12787],[90,12788,90,12789],[90,12790,90,12791],[90,12793,90,12794],[90,13042,90,13043],[90,13044,90,13045],[90,13046,90,13047],[90,13049,90,13050],[90,13298,90,13299],[90,13300,90,13301],[90,13302,90,13303],[90,13305,90,13306],[90,13554,90,13555],[90,13556,90,13557],[90,13558,90,13559],[90,13561,90,13562],[90,13810,90,13811],[90,13812,90,13813],[90,13814,90,13815],[90,13817,90,13818],[90,14066,90,14067],[90,14068,90,14069],[90,14070,90,14071],[90,14073,90,14074],[90,14322,90,14323],[90,14324,90,14325],[90,14326,90,14327],[90,14329,90,14330],[90,14578,90,14579],[90,14580,90,14581],[90,14582,90,14583],[90,14585,90,14586],[90,14834,90,14835],[90,14836,90,14837],[90,14838,90,14839],[90,14841,90,14842],[90,15090,90,15091],[90,15092,90,15093],[90,15094,90,15095],[90,15097,90,15098],[90,15346,90,15347],[90,15348,90,15349],[90,15350,90,15351],[90,15353,90,15354],[90,15602,90,15603],[90,15604,90,15605],[90,15606,90,15607],[90,15609,90,15610],[90,15858,90,15859],[90,15860,90,15861],[90,15862,90,15863],[90,15865,90,15866],[90,16114,90,16115],[90,16116,90,16117],[90,16118,90,16119],[90,16121,90,16122],[96,242,96,243],[96,244,96,245],[96,246,96,247],[96,249,96,250],[96,498,96,499],[96,500,96,501],[96,502,96,503],[96,505,96,506],[96,754,96,755],[96,756,96,757],[96,758,96,759],[96,761,96,762],[96,1010,96,1011],[96,1012,96,1013],[96,1014,96,1015],[96,1017,96,1018],[96,1266,96,1267],[96,1268,96,1269],[96,1270,96,1271],[96,1273,96,1274],[96,1522,96,1523],[96,1524,96,1525],[96,1526,96,1527],[96,1529,96,1530],[96,1778,96,1779],[96,1780,96,1781],[96,1782,96,1783],[96,1785,96,1786],[96,2034,96,2035],[96,2036,96,2037],[96,2038,96,2039],[96,2041,96,2042],[96,2290,96,2291],[96,2292,96,2293],[96,2294,96,2295],[96,2297,96,2298],[96,2546,96,2547],[96,2548,96,2549],[96,2550,96,2551],[96,2553,96,2554],[96,2802,96,2803],[96,2804,96,2805],[96,2806,96,2807],[96,2809,96,2810],[96,3058,96,3059],[96,3060,96,3061],[96,3062,96,3063],[96,3065,96,3066],[96,3314,96,3315],[96,3316,96,3317],[96,3318,96,3319],[96,3321,96,3322],[96,3570,96,3571],[96,3572,96,3573],[96,3574,96,3575],[96,3577,96,3578],[96,3826,96,3827],[96,3828,96,3829],[96,3830,96,3831],[96,3833,96,3834],[96,4082,96,4083],[96,4084,96,4085],[96,4086,96,4087],[96,4089,96,4090],[96,4338,96,4339],[96,4340,96,4341],[96,4342,96,4343],[96,4345,96,4346],[96,4594,96,4595],[96,4596,96,4597],[96,4598,96,4599],[96,4601,96,4602],[96,4850,96,4851],[96,4852,96,4853],[96,4854,96,4855],[96,4857,96,4858],[96,5106,96,5107],[96,5108,96,5109],[96,5110,96,5111],[96,5113,96,5114],[96,5362,96,5363],[96,5364,96,5365],[96,5366,96,5367],[96,5369,96,5370],[96,5618,96,5619],[96,5620,96,5621],[96,5622,96,5623],[96,5625,96,5626],[96,5874,96,5875],[96,5876,96,5877],[96,5878,96,5879],[96,5881,96,5882],[96,6130,96,6131],[96,6132,96,6133],[96,6134,96,6135],[96,6137,96,6138],[96,6386,96,6387],[96,6388,96,6389],[96,6390,96,6391],[96,6393,96,6394],[96,6642,96,6643],[96,6644,96,6645],[96,6646,96,6647],[96,6649,96,6650],[96,6898,96,6899],[96,6900,96,6901],[96,6902,96,6903],[96,6905,96,6906],[96,7154,96,7155],[96,7156,96,7157],[96,7158,96,7159],[96,7161,96,7162],[96,7410,96,7411],[96,7412,96,7413],[96,7414,96,7415],[96,7417,96,7418],[96,7666,96,7667],[96,7668,96,7669],[96,7670,96,7671],[96,7673,96,7674],[96,7922,96,7923],[96,7924,96,7925],[96,7926,96,7927],[96,7929,96,7930],[96,8178,96,8179],[96,8180,96,8181],[96,8182,96,8183],[96,8185,96,8186],[96,8434,96,8435],[96,8436,96,8437],[96,8438,96,8439],[96,8441,96,8442],[96,8690,96,8691],[96,8692,96,8693],[96,8694,96,8695],[96,8697,96,8698],[96,8946,96,8947],[96,8948,96,8949],[96,8950,96,8951],[96,8953,96,8954],[96,9202,96,9203],[96,9204,96,9205],[96,9206,96,9207],[96,9209,96,9210],[96,9458,96,9459],[96,9460,96,9461],[96,9462,96,9463],[96,9465,96,9466],[96,9714,96,9715],[96,9716,96,9717],[96,9718,96,9719],[96,9721,96,9722],[96,9970,96,9971],[96,9972,96,9973],[96,9974,96,9975],[96,9977,96,9978],[96,10226,96,10227],[96,10228,96,10229],[96,10230,96,10231],[96,10233,96,10234],[96,10482,96,10483],[96,10484,96,10485],[96,10486,96,10487],[96,10489,96,10490],[96,10738,96,10739],[96,10740,96,10741],[96,10742,96,10743],[96,10745,96,10746],[96,10994,96,10995],[96,10996,96,10997],[96,10998,96,10999],[96,11001,96,11002],[96,11250,96,11251],[96,11252,96,11253],[96,11254,96,11255],[96,11257,96,11258],[96,11506,96,11507],[96,11508,96,11509],[96,11510,96,11511],[96,11513,96,11514],[96,11762,96,11763],[96,11764,96,11765],[96,11766,96,11767],[96,11769,96,11770],[96,12018,96,12019],[96,12020,96,12021],[96,12022,96,12023],[96,12025,96,12026],[96,12274,96,12275],[96,12276,96,12277],[96,12278,96,12279],[96,12281,96,12282],[96,12530,96,12531],[96,12532,96,12533],[96,12534,96,12535],[96,12537,96,12538],[96,12786,96,12787],[96,12788,96,12789],[96,12790,96,12791],[96,12793,96,12794],[96,13042,96,13043],[96,13044,96,13045],[96,13046,96,13047],[96,13049,96,13050],[96,13298,96,13299],[96,13300,96,13301],[96,13302,96,13303],[96,13305,96,13306],[96,13554,96,13555],[96,13556,96,13557],[96,13558,96,13559],[96,13561,96,13562],[96,13810,96,13811],[96,13812,96,13813],[96,13814,96,13815],[96,13817,96,13818],[96,14066,96,14067],[96,14068,96,14069],[96,14070,96,14071],[96,14073,96,14074],[96,14322,96,14323],[96,14324,96,14325],[96,14326,96,14327],[96,14329,96,14330],[96,14578,96,14579],[96,14580,96,14581],[96,14582,96,14583],[96,14585,96,14586],[96,14834,96,14835],[96,14836,96,14837],[96,14838,96,14839],[96,14841,96,14842],[96,15090,96,15091],[96,15092,96,15093],[96,15094,96,15095],[96,15097,96,15098],[96,15346,96,15347],[96,15348,96,15349],[96,15350,96,15351],[96,15353,96,15354],[96,15602,96,15603],[96,15604,96,15605],[96,15606,96,15607],[96,15609,96,15610],[96,15858,96,15859],[96,15860,96,15861],[96,15862,96,15863],[96,15865,96,15866],[96,16114,96,16115],[96,16116,96,16117],[96,16118,96,16119],[96,16121,96,16122],[97,2,97,6],[98,2,98,3],[98,4,98,5],[104,3,104,4],[104,5,104,6]]}
["Item","Ref","Description",{"$nulls":4},"Unit","Qty","Rate","Amount"]
[]
[2,"SANS","Schedule No.: 2",null,null,2,{"$nulls":5},1]
[null,"1200 A","Provisional Sums and Prime Cost Items",{"$nulls":8},2]
[{"$nulls":11},3]
[{"$f":"IF(ISBLANK(H6),\"\",($F$3&\".\"&+(COUNTA(H$3:H6))))","v":""},null,"PROVISIONAL SUMS",{"$nulls":8},4]
[{"$f":"IF(ISBLANK(H7),\"\",($F$3&\".\"&+(COUNTA(H$3:H7))))","v":""},{"$nulls":10},5]
[{"$f":"IF(ISBLANK(H8),\"\",($F$3&\".\"&+(COUNTA(H$3:H8))))","v":""},null,"SUMS STATED PROVISIONALLY BY THE ENGINEER",{"$nulls":8},6]
[{"$f":"IF(ISBLANK(H9),\"\",($F$3&\".\"&+(COUNTA(H$3:H9))))","v":""},{"$nulls":10},7]
[{"$f":"IF(ISBLANK(H10),\"\",($F$3&\".\"&+(COUNTA(H$3:H10))))","v":""},null,"Bypass Pipeline and Associated Works",{"$nulls":8},8]
[{"$f":"IF(ISBLANK(H11),\"\",($F$3&\".\"&+(COUNTA(H$3:H11))))","v":""},{"$nulls":10},9]
[{"$f":"IF(ISBLANK(H12),\"\",($F$3&\".\"&+(COUNTA(H$3:H12))))","v":""},null,"Eployer Requirements",{"$nulls":8},10]
[{"$f":"IF(ISBLANK(H13),\"\",($F$3&\".\"&+(COUNTA(H$3:H13))))","v":""},{"$nulls":10},11]
[{"$f":"IF(ISBLANK(H14),\"\",($F$3&\".\"&+(COUNTA(H$3:H14))))","v":""},8.5,".1","Eployer Requirements",{"$nulls":7},12]
[{"$f":"IF(ISBLANK(H15),\"\",($F$3&\".\"&+(COUNTA(H$3:H15))))","v":""},{"$nulls":10},13]
[{"$f":"IF(ISBLANK(H16),\"\",($F$3&\".\"&+(COUNTA(H$3:H16))))","v":""},null,null,"(a)","Remuneration",{"$nulls":6},14]
[{"$f":"IF(ISBLANK(H17),\"\",($F$3&\".\"&+(COUNTA(H$3:H17))))","v":"2.1"},{"$nulls":3},"  i)  CLO/LDO remuneration",null,null,"Prov. Sum",1,{"v":120000,"d":"120,000.00"},{"$f":"$I17*J17","v":{"v":120000,"d":"120,000.00"}},15]
[{"$nulls":11},16,10000,{"$f":"L18*M18","v":{"v":160000,"d":"R160,000.00"}}]
[{"$f":"IF(ISBLANK(H19),\"\",($F$3&\".\"&+(COUNTA(H$3:H19))))","v":"2.2"},null,null,"(b)","Overheads, Charges & Profit on Above  ",null,null,"%",{"$nulls":3},17]
[{"$f":"IF(ISBLANK(H20),\"\",($F$3&\".\"&+(COUNTA(H$3:H20))))","v":""},{"$nulls":10},18]
[{"$f":"IF(ISBLANK(H21),\"\",($F$3&\".\"&+(COUNTA(H$3:H21))))","v":"2.3"},null,null,"(c)","Artisans and Skills Training",null,null,"Prov. Sum",1,{"v":100000,"d":"100,000.00"},{"$f":"$I21*J21","v":{"v":100000,"d":"100,000.00"}},19]
[{"$nulls":11},20]
[{"$f":"IF(ISBLANK(H23),\"\",($F$3&\".\"&+(COUNTA(H$3:H23))))","v":"2.4"},null,null,"(d)","Overheads, Charges & Profit on Above",null,null,"%",{"$nulls":3},21]
[{"$f":"IF(ISBLANK(H24),\"\",($F$3&\".\"&+(COUNTA(H$3:H24))))","v":""},{"$nulls":10},22]
[{"$f":"IF(ISBLANK(H25),\"\",($F$3&\".\"&+(COUNTA(H$3:H25))))","v":"2.5"},null,null,"(e)","Maintenance Spares",null,null,"Prov. Sum",1,{"v":100000,"d":"100,000.00"},{"$f":"$I25*J25","v":{"v":100000,"d":"100,000.00"}},23]
[{"$nulls":11},24]
[{"$f":"IF(ISBLANK(H27),\"\",($F$3&\".\"&+(COUNTA(H$3:H27))))","v":"2.6"},null,null,"(f)","Overheads, Charges & Profit on Above",null,null,"%",{"$nulls":3},25]
[{"$f":"IF(ISBLANK(H28),\"\",($F$3&\".\"&+(COUNTA(H$3:H28))))","v":""},{"$nulls":10},26]
[{"$f":"IF(ISBLANK(H29),\"\",($F$3&\".\"&+(COUNTA(H$3:H29))))","v":""},null,"Engineers Requirements",{"$nulls":8},27]
[{"$f":"IF(ISBLANK(H30),\"\",($F$3&\".\"&+(COUNTA(H$3:H30))))","v":""},{"$nulls":10},28]
[{"$f":"IF(ISBLANK(H31),\"\",($F$3&\".\"&+(COUNTA(H$3:H31))))","v":""},8.5,".2","Engineers Requirements",{"$nulls":7},29]
[{"$f":"IF(ISBLANK(H32),\"\",($F$3&\".\"&+(COUNTA(H$3:H32))))","v":""},{"$nulls":10},30]
[{"$f":"IF(ISBLANK(H33),\"\",($F$3&\".\"&+(COUNTA(H$3:H33))))","v":"2.7"},null,null,"(a)","Cellular phone costs",null,null,"Prov. Sum",1,{"v":12000,"d":"12,000.00"},{"$f":"$I33*J33","v":{"v":12000,"d":"12,000.00"}},31]
[{"$nulls":11},32]
[{"$f":"IF(ISBLANK(H35),\"\",($F$3&\".\"&+(COUNTA(H$3:H35))))","v":"2.8"},null,null,"(b)","Overheads, Charges & Profit on Above",null,null,"%",{"$nulls":3},33]
[{"$f":"IF(ISBLANK(H36),\"\",($F$3&\".\"&+(COUNTA(H$3:H36))))","v":""},{"$nulls":10},34]
[{"$f":"IF(ISBLANK(H37),\"\",($F$3&\".\"&+(COUNTA(H$3:H37))))","v":"2.9"},null,null,"(c)","Acceptance control testing",null,null,"Prov. Sum",1,{"v":250000,"d":"250,000.00"},{"$f":"$I37*J37","v":{"v":250000,"d":"250,000.00"}},35]
[{"$nulls":11},36]
[{"$f":"IF(ISBLANK(H39),\"\",($F$3&\".\"&+(COUNTA(H$3:H39))))","v":"2.10"},null,null,"(d)","Overheads, Charges & Profit on Above",null,null,"%",{"$nulls":3},37]
[{"$f":"IF(ISBLANK(H40),\"\",($F$3&\".\"&+(COUNTA(H$3:H40))))","v":""},{"$nulls":10},38]
[{"$f":"IF(ISBLANK(H41),\"\",($F$3&\".\"&+(COUNTA(H$3:H41))))","v":"2.11"},null,null,"(e)","Site Office Consumables & PPE",null,null,"Prov. Sum",1,{"v":32000,"d":"32,000.00"},{"$f":"$I41*J41","v":{"v":32000,"d":"32,000.00"}},39]
[{"$nulls":11},40]
[{"$f":"IF(ISBLANK(H43),\"\",($F$3&\".\"&+(COUNTA(H$3:H43))))","v":"2.12"},null,null,"(f)","Overheads, Charges & Profit on Above",null,null,"%",{"$nulls":3},41]
[{"$f":"IF(ISBLANK(H44),\"\",($F$3&\".\"&+(COUNTA(H$3:H44))))","v":""},{"$nulls":10},42]
[{"$f":"IF(ISBLANK(H45),\"\",($F$3&\".\"&+(COUNTA(H$3:H45))))","v":"2.13"},null,null,"(g)","Electronic Office Equipment",null,null,"Prov. Sum",1,{"v":15000,"d":"15,000.00"},{"$f":"$I45*J45","v":{"v":15000,"d":"15,000.00"}},43]
[{"$nulls":11},44]
[{"$f":"IF(ISBLANK(H47),\"\",($F$3&\".\"&+(COUNTA(H$3:H47))))","v":"2.14"},null,null,"(h)","Overheads, Charges & Profit on Above",null,null,"%",{"$nulls":3},45]
[{"$f":"IF(ISBLANK(H48),\"\",($F$3&\".\"&+(COUNTA(H$3:H48))))","v":""},{"$nulls":10},46]
[{"$f":"IF(ISBLANK(H49),\"\",($F$3&\".\"&+(COUNTA(H$3:H49))))","v":""},null,"Work to Existing Services",{"$nulls":8},47]
[{"$f":"IF(ISBLANK(H50),\"\",($F$3&\".\"&+(COUNTA(H$3:H50))))","v":""},{"$nulls":10},48]
[{"$f":"IF(ISBLANK(H51),\"\",($F$3&\".\"&+(COUNTA(H$3:H51))))","v":""},null,".3","Existing Services",{"$nulls":7},49]
[{"$f":"IF(ISBLANK(H52),\"\",($F$3&\".\"&+(COUNTA(H$3:H52))))","v":""},{"$nulls":10},50]
[{"$f":"IF(ISBLANK(H53),\"\",($F$3&\".\"&+(COUNTA(H$3:H53))))","v":"2.15"},null,null,"(a)","Locating Existing Services",null,null,"Prov. Sum",1,{"v":15000,"d":"15,000.00"},{"$f":"$I53*J53","v":{"v":15000,"d":"15,000.00"}},51]
[{"$nulls":11},52]
[{"$f":"IF(ISBLANK(H55),\"\",($F$3&\".\"&+(COUNTA(H$3:H55))))","v":"2.16"},null,null,"(b)","Overheads, Charges & Profit on Above",null,null,"%",{"$nulls":3},53]
[{"$f":"IF(ISBLANK(H56),\"\",($F$3&\".\"&+(COUNTA(H$3:H56))))","v":""},{"$nulls":10},54]
[{"$f":"IF(ISBLANK(H57),\"\",($F$3&\".\"&+(COUNTA(H$3:H57))))","v":"2.17"},null,null,"(c)","Relocating Existing Services",null,null,"Prov. Sum",1,{"v":50000,"d":"50,000.00"},{"$f":"$I57*J57","v":{"v":50000,"d":"50,000.00"}},55]
[{"$nulls":11},56]
[{"$f":"IF(ISBLANK(H59),\"\",($F$3&\".\"&+(COUNTA(H$3:H59))))","v":"2.18"},null,null,"(d)","Overheads, Charges & Profit on Above",null,null,"%",{"$nulls":3},57]
[{"$f":"IF(ISBLANK(H60),\"\",($F$3&\".\"&+(COUNTA(H$3:H60))))","v":""},{"$nulls":10},58]
[{"$f":"IF(ISBLANK(H61),\"\",($F$3&\".\"&+(COUNTA(H$3:H61))))","v":""},null,"Professional or Specialist Services",{"$nulls":8},59]
[{"$f":"IF(ISBLANK(H62),\"\",($F$3&\".\"&+(COUNTA(H$3:H62))))","v":""},{"$nulls":10},60]
[{"$f":"IF(ISBLANK(H63),\"\",($F$3&\".\"&+(COUNTA(H$3:H63))))","v":""},null,".4","Specialist Services",{"$nulls":7},61]
[{"$f":"IF(ISBLANK(H64),\"\",($F$3&\".\"&+(COUNTA(H$3:H64))))","v":""},{"$nulls":10},62]
[{"$f":"IF(ISBLANK(H65),\"\",($F$3&\".\"&+(COUNTA(H$3:H65))))","v":""},null,null,"(a)","Specialist surge analysis, testing and commissioning of",{"$nulls":6},63]
[{"$f":"IF(ISBLANK(H66),\"\",($F$3&\".\"&+(COUNTA(H$3:H66))))","v":"2.19"},{"$nulls":3},"altitude valves and pressure relief system ",null,null,"Prov. Sum",1,{"v":50000,"d":"50,000.00"},{"$f":"$I66*J66","v":{"v":50000,"d":"50,000.00"}},64]
[{"$nulls":11},65]
[{"$f":"IF(ISBLANK(H68),\"\",($F$3&\".\"&+(COUNTA(H$3:H68))))","v":"2.20"},null,null,"(b)","Overheads, Charges & Profit on Above",null,null,"%",{"$nulls":3},66]
[{"$f":"IF(ISBLANK(H69),\"\",($F$3&\".\"&+(COUNTA(H$3:H69))))","v":""},{"$nulls":10},67]
[{"$f":"IF(ISBLANK(H70),\"\",($F$3&\".\"&+(COUNTA(H$3:H70))))","v":"2.21"},null,null,"(c)","SCADA integration, calibration and commissioning",null,null,"Prov. Sum",1,{"v":150000,"d":"150,000.00"},{"$f":"$I70*J70","v":{"v":150000,"d":"150,000.00"}},68]
[{"$nulls":11},69]
[{"$f":"IF(ISBLANK(H72),\"\",($F$3&\".\"&+(COUNTA(H$3:H72))))","v":"2.22"},null,null,"(d)","Overheads, Charges & Profit on Above",null,null,"%",{"$nulls":3},70]
[{"$nulls":11},71]
[{"$nulls":11},75]
[{"$nulls":11},76]
[{"$nulls":11},77]
[{"$nulls":11},78]
[{"$nulls":11},79]
[{"$nulls":9},"Carried forward",null,80]
[{"$nulls":9},"Brought forward"]
[{"$f":"IF(ISBLANK(H81),\"\",($F$3&\".\"&+(COUNTA(H$3:H81))))","v":""},{"$nulls":10},1]
[{"$f":"IF(ISBLANK(H82),\"\",($F$3&\".\"&+(COUNTA(H$3:H82))))","v":""},null,"PRIME COST ITEMS",{"$nulls":8},2]
[{"$f":"IF(ISBLANK(H83),\"\",($F$3&\".\"&+(COUNTA(H$3:H83))))","v":""},{"$nulls":10},3,"Altitude valves Cost / Each"]
[{"$f":"IF(ISBLANK(H84),\"\",($F$3&\".\"&+(COUNTA(H$3:H84))))","v":""},8.6,"Prime Cost Items",{"$nulls":8},4,{"v":625000,"d":"R625,000.00"},{"$f":"M84*3","v":{"v":1875000,"d":"R1,875,000.00"}}]
[{"$f":"IF(ISBLANK(H85),\"\",($F$3&\".\"&+(COUNTA(H$3:H85))))","v":""},{"$nulls":10},5]
[{"$f":"IF(ISBLANK(H86),\"\",($F$3&\".\"&+(COUNTA(H$3:H86))))","v":""},null,null,"Prime Cost Items",{"$nulls":7},6]
[{"$f":"IF(ISBLANK(H87),\"\",($F$3&\".\"&+(COUNTA(H$3:H87))))","v":""},{"$nulls":10},7]
[{"$f":"IF(ISBLANK(H88),\"\",($F$3&\".\"&+(COUNTA(H$3:H88))))","v":"2.23"},null,".1","(a)","Materials Used in the Execution of Dayworks",null,null,"Prov. Sum",1,{"v":50000,"d":"50,000.00"},{"$f":"J88*I88","v":{"v":50000,"d":"50,000.00"}},8]
[{"$nulls":11},9]
[{"$f":"IF(ISBLANK(H90),\"\",($F$3&\".\"&+(COUNTA(H$3:H90))))","v":"2.24"},null,null,"(b)","Overheads, Charges & Profit on (a)  above",null,null,"%",{"$nulls":3},10,{"$nulls":3},"  ",21]
[{"$f":"IF(ISBLANK(H91),\"\",($F$3&\".\"&+(COUNTA(H$3:H91))))","v":""},{"$nulls":10},11,null,"  ",null,"  ",22]
[{"$f":"IF(ISBLANK(H92),\"\",($F$3&\".\"&+(COUNTA(H$3:H92))))","v":"2.25"},null,".2","(a)","Materials Used in the Altitude Valves",null,null,"Prov. Sum",1,{"v":2000000,"d":"2,000,000.00"},{"$f":"J92*I92","v":{"v":2000000,"d":"2,000,000.00"}},12,36142.14,"  ",1,36142.14,23,{"$nulls":4},"Item 1.4.3"]
[{"$nulls":11},13,null,"  ",null,"  ",24,{"$nulls":5},0.6515]
[{"$f":"IF(ISBLANK(H94),\"\",($F$3&\".\"&+(COUNTA(H$3:H94))))","v":"2.26"},null,null,"(b)","Overheads, Charges & Profit on (a) above",null,null,"%",{"$nulls":3},14,18781.73,"  ",1,18781.73,25,{"$nulls":4},"Pipetech",97725]
[{"$nulls":11},15,null,"  ",null,"  ",26,{"$nulls":4},"IN 11722",4560]
[{"$f":"IF(ISBLANK(H96),\"\",($F$3&\".\"&+(COUNTA(H$3:H96))))","v":"2.27"},null,null,"(c)","Transport and labour to handle and install (a) above",null,null,"Sum",1,null,null,16,17766.5,"  ",1,17766.5,27,{"$nulls":4},"IN 11748",1915]
[{"$f":"IF(ISBLANK(H97),\"\",($F$3&\".\"&+(COUNTA(H$3:H97))))","v":""},{"$nulls":10},17,null,"  ",null,"  ",28,{"$nulls":4},"IN 11766",{"v":13995,"d":"13,995.00"}]
[{"$f":"IF(ISBLANK(H98),\"\",($F$3&\".\"&+(COUNTA(H$3:H98))))","v":""},null,"OTHER GENERAL CHARGES",{"$nulls":8},18]
[{"$f":"IF(ISBLANK(H99),\"\",($F$3&\".\"&+(COUNTA(H$3:H99))))","v":""},{"$nulls":10},19]
[{"$f":"IF(ISBLANK(H100),\"\",($F$3&\".\"&+(COUNTA(H$3:H100))))","v":"2.28"},"PPG 8.3.2",".1","Provision of as-built drawings and details",{"$nulls":3},"Sum",1,null,null,20]
[{"$f":"IF(ISBLANK(H101),\"\",($F$3&\".\"&+(COUNTA(H$3:H101))))","v":""},{"$nulls":10},21]
[{"$f":"IF(ISBLANK(H102),\"\",($F$3&\".\"&+(COUNTA(H$3:H102))))","v":"2.29"},"PPG 8.3.3",".2","Provide Operation and Maintenance Manuals",{"$nulls":3},"Sum",1,null,null,22]
[{"$f":"IF(ISBLANK(H103),\"\",($F$3&\".\"&+(COUNTA(H$3:H103))))","v":""},{"$nulls":10},23]
[{"$f":"IF(ISBLANK(H104),\"\",($F$3&\".\"&+(COUNTA(H$3:H104))))","v":"2.30"},"PPG 8.3.4",".3","Training",{"$nulls":3},"Sum",1,null,null,24]
[{"$f":"IF(ISBLANK(H105),\"\",($F$3&\".\"&+(COUNTA(H$3:H105))))","v":""},{"$nulls":10},25]
[{"$f":"IF(ISBLANK(H106),\"\",($F$3&\".\"&+(COUNTA(H$3:H106))))","v":""},{"$nulls":10},26]
[{"$f":"IF(ISBLANK(H107),\"\",($F$3&\".\"&+(COUNTA(H$3:H107))))","v":""},{"$nulls":10},27]
[{"$f":"IF(ISBLANK(H108),\"\",($F$3&\".\"&+(COUNTA(H$3:H108))))","v":""},{"$nulls":10},28]
[{"$f":"IF(ISBLANK(H109),\"\",($F$3&\".\"&+(COUNTA(H$3:H109))))","v":""},{"$nulls":10},29]
[{"$f":"IF(ISBLANK(H110),\"\",($F$3&\".\"&+(COUNTA(H$3:H110))))","v":""},{"$nulls":10},30]
[{"$f":"IF(ISBLANK(H111),\"\",($F$3&\".\"&+(COUNTA(H$3:H111))))","v":""},{"$nulls":10},31]
[{"$f":"IF(ISBLANK(H112),\"\",($F$3&\".\"&+(COUNTA(H$3:H112))))","v":""},{"$nulls":10},32]
[{"$f":"IF(ISBLANK(H113),\"\",($F$3&\".\"&+(COUNTA(H$3:H113))))","v":""},{"$nulls":10},33]
[{"$f":"IF(ISBLANK(H114),\"\",($F$3&\".\"&+(COUNTA(H$3:H114))))","v":""},{"$nulls":10},34]
[{"$f":"IF(ISBLANK(H115),\"\",($F$3&\".\"&+(COUNTA(H$3:H115))))","v":""},{"$nulls":10},35]
[{"$f":"IF(ISBLANK(H116),\"\",($F$3&\".\"&+(COUNTA(H$3:H116))))","v":""},{"$nulls":10},36]
[{"$f":"IF(ISBLANK(H117),\"\",($F$3&\".\"&+(COUNTA(H$3:H117))))","v":""},{"$nulls":10},37]
[{"$f":"IF(ISBLANK(H118),\"\",($F$3&\".\"&+(COUNTA(H$3:H118))))","v":""},{"$nulls":10},38]
[{"$f":"IF(ISBLANK(H119),\"\",($F$3&\".\"&+(COUNTA(H$3:H119))))","v":""},{"$nulls":10},39]
[{"$f":"IF(ISBLANK(H120),\"\",($F$3&\".\"&+(COUNTA(H$3:H120))))","v":""},{"$nulls":10},40]
[{"$f":"IF(ISBLANK(H121),\"\",($F$3&\".\"&+(COUNTA(H$3:H121))))","v":""},{"$nulls":10},41]
[{"$f":"IF(ISBLANK(H122),\"\",($F$3&\".\"&+(COUNTA(H$3:H122))))","v":""},{"$nulls":10},42]
[{"$f":"IF(ISBLANK(H123),\"\",($F$3&\".\"&+(COUNTA(H$3:H123))))","v":""},{"$nulls":10},43]
[{"$f":"IF(ISBLANK(H124),\"\",($F$3&\".\"&+(COUNTA(H$3:H124))))","v":""},{"$nulls":10},44]
[{"$f":"IF(ISBLANK(H125),\"\",($F$3&\".\"&+(COUNTA(H$3:H125))))","v":""},{"$nulls":10},45]
[{"$f":"IF(ISBLANK(H126),\"\",($F$3&\".\"&+(COUNTA(H$3:H126))))","v":""},{"$nulls":10},46]
[{"$f":"IF(ISBLANK(H127),\"\",($F$3&\".\"&+(COUNTA(H$3:H127))))","v":""},{"$nulls":10},47]
[{"$f":"IF(ISBLANK(H128),\"\",($F$3&\".\"&+(COUNTA(H$3:H128))))","v":""},{"$nulls":10},48]
[{"$f":"IF(ISBLANK(H129),\"\",($F$3&\".\"&+(COUNTA(H$3:H129))))","v":""},{"$nulls":10},49]
[{"$f":"IF(ISBLANK(H130),\"\",($F$3&\".\"&+(COUNTA(H$3:H130))))","v":""},{"$nulls":10},50]
[{"$f":"IF(ISBLANK(H131),\"\",($F$3&\".\"&+(COUNTA(H$3:H131))))","v":""},{"$nulls":10},51]
[{"$f":"IF(ISBLANK(H132),\"\",($F$3&\".\"&+(COUNTA(H$3:H132))))","v":""},{"$nulls":10},52]
[{"$nulls":11},53]
[{"$nulls":11},54]
[{"$nulls":11},55]
[{"$nulls":11},56]
[{"$nulls":11},57]
[{"$nulls":11},58]
[{"$nulls":11},59]
[{"$nulls":11},60]
[{"$nulls":11},61]
[{"$nulls":11},62]
[{"$nulls":11},63]
[{"$nulls":11},64]
[{"$f":"IF(ISBLANK(H145),\"\",($F$3&\".\"&+(COUNTA(H$3:H145))))","v":""},{"$nulls":10},65]
[{"$f":"IF(ISBLANK(H146),\"\",($F$3&\".\"&+(COUNTA(H$3:H146))))","v":""},{"$nulls":10},66]
[{"$f":"IF(ISBLANK(H147),\"\",($F$3&\".\"&+(COUNTA(H$3:H147))))","v":""},{"$nulls":10},67]
[{"$f":"IF(ISBLANK(H148),\"\",($F$3&\".\"&+(COUNTA(H$3:H148))))","v":""},{"$nulls":10},68]
[{"$f":"IF(ISBLANK(H149),\"\",($F$3&\".\"&+(COUNTA(H$3:H149))))","v":""},{"$nulls":10},69]
[{"$f":"IF(ISBLANK(H150),\"\",($F$3&\".\"&+(COUNTA(H$3:H150))))","v":""},{"$nulls":10},70]
[{"$f":"IF(ISBLANK(H151),\"\",($F$3&\".\"&+(COUNTA(H$3:H151))))","v":""},{"$nulls":10},71]
[{"$f":"IF(ISBLANK(H152),\"\",($F$3&\".\"&+(COUNTA(H$3:H152))))","v":""},{"$nulls":10},72]
[{"$f":"IF(ISBLANK(H153),\"\",($F$3&\".\"&+(COUNTA(H$3:H153))))","v":""},{"$nulls":10},73]
[{"$f":"IF(ISBLANK(H154),\"\",($F$3&\".\"&+(COUNTA(H$3:H154))))","v":""},{"$nulls":10},76]
[{"$nulls":11},77]
[null,null,{"$f":"C3","v":"Schedule No.: 2"},{"$nulls":8},78]
[null,null,{"$f":"C4","v":"Provisional Sums and Prime Cost Items"},{"$nulls":8},79]
[{"$nulls":11},80]
[{"$nulls":9},"Carried forward to summary of schedules"]

{"sheet":"3. Dayworks","index":2,"n_rows":158,"n_cols":8,"rows_kept":158,"merged":[[0,0,1,0],[0,1,1,1],[0,2,1,2],[0,3,1,3],[0,4,1,4],[0,5,1,5],[0,6,1,6],[157,0,157,5]]}
["Item","Ref","Description","Unit","Qty","Rate","Amount"]
[]
[3,"SANS \n1200 A","Schedule No.: 3",{"$nulls":3},{"$f":"IF(E3=\"\",\"\",E3*F3)","v":""},1]
[null,null,"DAYWORKS",{"$nulls":4},2]
[{"$nulls":6},{"$f":"IF(E5=\"\",\"\",E5*F5)","v":""},3]
[{"$f":"IF(ISBLANK(D6),\"\",($A$3&\".\"&+(COUNTA(D$4:D6))))","v":""},8.7,"LABOUR",{"$nulls":3},{"$f":"IF(E6=\"\",\"\",E6*F6)","v":""},4]
[{"$f":"IF(ISBLANK(D7),\"\",($A$3&\".\"&+(COUNTA(D$4:D7))))","v":""},{"$nulls":6},5]
[{"$f":"IF(ISBLANK(D8),\"\",($A$3&\".\"&+(COUNTA(D$4:D8))))","v":"3.1"},null,"a) Qualified Artisan","hr",1,null,null,6]
[{"$f":"IF(ISBLANK(D9),\"\",($A$3&\".\"&+(COUNTA(D$4:D9))))","v":""},{"$nulls":6},7]
[{"$f":"IF(ISBLANK(D10),\"\",($A$3&\".\"&+(COUNTA(D$4:D10))))","v":"3.2"},null,"b) Skilled","hr",1,null,null,8]
[{"$f":"IF(ISBLANK(D11),\"\",($A$3&\".\"&+(COUNTA(D$4:D11))))","v":""},{"$nulls":6},9]
[{"$f":"IF(ISBLANK(D12),\"\",($A$3&\".\"&+(COUNTA(D$4:D12))))","v":"3.3"},null,"c) Semi-skilled","hr",1,null,null,10]
[{"$f":"IF(ISBLANK(D13),\"\",($A$3&\".\"&+(COUNTA(D$4:D13))))","v":""},{"$nulls":6},11]
[{"$f":"IF(ISBLANK(D14),\"\",($A$3&\".\"&+(COUNTA(D$4:D14))))","v":"3.4"},null,"d) Unskilled","hr",1,null,null,12]
[{"$f":"IF(ISBLANK(D15),\"\",($A$3&\".\"&+(COUNTA(D$4:D15))))","v":""},{"$nulls":6},13]
[{"$f":"IF(ISBLANK(D16),\"\",($A$3&\".\"&+(COUNTA(D$4:D16))))","v":"3.5"},null,"e) Welder","hr",1,null,null,14]
[{"$f":"IF(ISBLANK(D17),\"\",($A$3&\".\"&+(COUNTA(D$4:D17))))","v":""},{"$nulls":6},15]
[{"$f":"IF(ISBLANK(D18),\"\",($A$3&\".\"&+(COUNTA(D$4:D18))))","v":""},null,"PLANT HIRE: WORK RATES ON SITE",{"$nulls":4},16]
[{"$f":"IF(ISBLANK(D19),\"\",($A$3&\".\"&+(COUNTA(D$4:D19))))","v":""},{"$nulls":6},17]
[{"$f":"IF(ISBLANK(D20),\"\",($A$3&\".\"&+(COUNTA(D$4:D20))))","v":""},null,"Tipper truck (specify capacity)",{"$nulls":4},18]
[{"$f":"IF(ISBLANK(D21),\"\",($A$3&\".\"&+(COUNTA(D$4:D21))))","v":""},{"$nulls":6},19]
[{"$f":"IF(ISBLANK(D22),\"\",($A$3&\".\"&+(COUNTA(D$4:D22))))","v":"3.6"},null,"a) ..........m³ (small)","hr",1,null,null,20]
[{"$f":"IF(ISBLANK(D23),\"\",($A$3&\".\"&+(COUNTA(D$4:D23))))","v":""},{"$nulls":6},21]
[{"$f":"IF(ISBLANK(D24),\"\",($A$3&\".\"&+(COUNTA(D$4:D24))))","v":"3.7"},null,"b) ..........m³ (large)","hr",1,null,null,22]
[{"$f":"IF(ISBLANK(D25),\"\",($A$3&\".\"&+(COUNTA(D$4:D25))))","v":""},{"$nulls":6},23]
[{"$f":"IF(ISBLANK(D26),\"\",($A$3&\".\"&+(COUNTA(D$4:D26))))","v":""},null,"Tractor Loader Backhoe (TLB)",{"$nulls":4},24]
[{"$f":"IF(ISBLANK(D27),\"\",($A$3&\".\"&+(COUNTA(D$4:D27))))","v":""},{"$nulls":6},25]
[{"$f":"IF(ISBLANK(D28),\"\",($A$3&\".\"&+(COUNTA(D$4:D28))))","v":"3.8"},null,"a) ..........m³ bucket","hr",1,null,null,26]
[{"$f":"IF(ISBLANK(D29),\"\",($A$3&\".\"&+(COUNTA(D$4:D29))))","v":""},{"$nulls":6},27]
[{"$f":"IF(ISBLANK(D30),\"\",($A$3&\".\"&+(COUNTA(D$4:D30))))","v":"3.9"},null,"Specify type .....................................","hr",1,null,null,28]
[{"$f":"IF(ISBLANK(D31),\"\",($A$3&\".\"&+(COUNTA(D$4:D31))))","v":""},{"$nulls":6},29]
[{"$f":"IF(ISBLANK(D32),\"\",($A$3&\".\"&+(COUNTA(D$4:D32))))","v":""},null,"Compactor",{"$nulls":4},30]
[{"$f":"IF(ISBLANK(D33),\"\",($A$3&\".\"&+(COUNTA(D$4:D33))))","v":""},{"$nulls":6},31]
[{"$f":"IF(ISBLANK(D34),\"\",($A$3&\".\"&+(COUNTA(D$4:D34))))","v":""},null,"Plate compactor (Specify model)",{"$nulls":4},32]
[{"$f":"IF(ISBLANK(D35),\"\",($A$3&\".\"&+(COUNTA(D$4:D35))))","v":""},{"$nulls":6},33]
[{"$f":"IF(ISBLANK(D36),\"\",($A$3&\".\"&+(COUNTA(D$4:D36))))","v":""},null,"Model type .......................................",{"$nulls":4},34]
[{"$f":"IF(ISBLANK(D37),\"\",($A$3&\".\"&+(COUNTA(D$4:D37))))","v":""},{"$nulls":6},35]
[{"$f":"IF(ISBLANK(D38),\"\",($A$3&\".\"&+(COUNTA(D$4:D38))))","v":"3.10"},null,"a) .........( 3000 kg applied force)","hr",1,null,null,36]
[{"$f":"IF(ISBLANK(D39),\"\",($A$3&\".\"&+(COUNTA(D$4:D39))))","v":""},{"$nulls":6},37]
[{"$f":"IF(ISBLANK(D40),\"\",($A$3&\".\"&+(COUNTA(D$4:D40))))","v":""},null,"Concrete mixer (Specify capacity)",{"$nulls":4},38]
[{"$f":"IF(ISBLANK(D41),\"\",($A$3&\".\"&+(COUNTA(D$4:D41))))","v":""},{"$nulls":6},39]
[{"$f":"IF(ISBLANK(D42),\"\",($A$3&\".\"&+(COUNTA(D$4:D42))))","v":"3.11"},null,"a) .........(small towable)","hr",1,null,null,40]
[{"$f":"IF(ISBLANK(D43),\"\",($A$3&\".\"&+(COUNTA(D$4:D43))))","v":""},{"$nulls":6},41]
[{"$f":"IF(ISBLANK(D44),\"\",($A$3&\".\"&+(COUNTA(D$4:D44))))","v":""},null,"Miscellaneous",{"$nulls":4},42]
[{"$f":"IF(ISBLANK(D45),\"\",($A$3&\".\"&+(COUNTA(D$4:D45))))","v":""},{"$nulls":6},43]
[{"$f":"IF(ISBLANK(D46),\"\",($A$3&\".\"&+(COUNTA(D$4:D46))))","v":"3.12"},null,"a) Compressor with capacity of 10m³/min","hr",1,null,null,44]
[{"$f":"IF(ISBLANK(D47),\"\",($A$3&\".\"&+(COUNTA(D$4:D47))))","v":""},{"$nulls":6},45]
[{"$f":"IF(ISBLANK(D48),\"\",($A$3&\".\"&+(COUNTA(D$4:D48))))","v":"3.13"},null,"b) Water pump with 25 l/s capacity","hr",1,null,null,46]
[{"$f":"IF(ISBLANK(D49),\"\",($A$3&\".\"&+(COUNTA(D$4:D49))))","v":""},{"$nulls":6},47]
[{"$f":"IF(ISBLANK(D50),\"\",($A$3&\".\"&+(COUNTA(D$4:D50))))","v":"3.14"},null,"c) Welding unit (300 Amp)","hr",1,null,null,48]
[{"$f":"IF(ISBLANK(D51),\"\",($A$3&\".\"&+(COUNTA(D$4:D51))))","v":""},{"$nulls":6},49]
[{"$f":"IF(ISBLANK(D52),\"\",($A$3&\".\"&+(COUNTA(D$4:D52))))","v":"3.15"},null,"d) 4 kVA Diesel driven generating set","hr",1,null,null,50]
[{"$f":"IF(ISBLANK(D53),\"\",($A$3&\".\"&+(COUNTA(D$4:D53))))","v":""},{"$nulls":6},51]
[{"$f":"IF(ISBLANK(D54),\"\",($A$3&\".\"&+(COUNTA(D$4:D54))))","v":"3.16"},null,"e) Other (Specify)","hr",1,null,null,52]
[{"$nulls":7},53]
[{"$f":"IF(ISBLANK(D56),\"\",($A$3&\".\"&+(COUNTA(D$4:D56))))","v":""},null,"PLANT HIRE: TRANSPORT COST TO AND FROM SITE",{"$nulls":4},54]
[{"$f":"IF(ISBLANK(D57),\"\",($A$3&\".\"&+(COUNTA(D$4:D57))))","v":""},{"$nulls":6},55]
[{"$f":"IF(ISBLANK(D58),\"\",($A$3&\".\"&+(COUNTA(D$4:D58))))","v":""},null,"(Distance shall be measured one way only.  Tendered rates shall ",{"$nulls":4},56]
[{"$f":"IF(ISBLANK(D59),\"\",($A$3&\".\"&+(COUNTA(D$4:D59))))","v":""},null,"include for transport both to and from site)",{"$nulls":4},57]
[{"$f":"IF(ISBLANK(D60),\"\",($A$3&\".\"&+(COUNTA(D$4:D60))))","v":""},{"$nulls":6},58]
[{"$f":"IF(ISBLANK(D61),\"\",($A$3&\".\"&+(COUNTA(D$4:D61))))","v":"3.17"},null,"Low bed (suitable for the largest piece of equipment above)","km",50,null,null,59]
[{"$f":"IF(ISBLANK(D62),\"\",($A$3&\".\"&+(COUNTA(D$4:D62))))","v":""},{"$nulls":6},60]
[{"$f":"IF(ISBLANK(D63),\"\",($A$3&\".\"&+(COUNTA(D$4:D63))))","v":""},null,"Tipper truck",{"$nulls":4},61]
[{"$f":"IF(ISBLANK(D64),\"\",($A$3&\".\"&+(COUNTA(D$4:D64))))","v":""},{"$nulls":6},62]
[{"$f":"IF(ISBLANK(D65),\"\",($A$3&\".\"&+(COUNTA(D$4:D65))))","v":"3.18"},null,"a) Small","km",20,null,null,63]
[{"$f":"IF(ISBLANK(D66),\"\",($A$3&\".\"&+(COUNTA(D$4:D66))))","v":""},{"$nulls":6},64]
[{"$f":"IF(ISBLANK(D67),\"\",($A$3&\".\"&+(COUNTA(D$4:D67))))","v":"3.19"},null,"b) Large","km",20,null,null,65]
[{"$f":"IF(ISBLANK(D68),\"\",($A$3&\".\"&+(COUNTA(D$4:D68))))","v":""},{"$nulls":6},66]
[{"$f":"IF(ISBLANK(D69),\"\",($A$3&\".\"&+(COUNTA(D$4:D69))))","v":""},null,"Water Tanker",{"$nulls":4},67]
[{"$f":"IF(ISBLANK(D70),\"\",($A$3&\".\"&+(COUNTA(D$4:D70))))","v":""},{"$nulls":6},68]
[{"$f":"IF(ISBLANK(D71),\"\",($A$3&\".\"&+(COUNTA(D$4:D71))))","v":"3.20"},null,"a) Small (towable)","km",20,null,null,69]
[{"$f":"IF(ISBLANK(D72),\"\",($A$3&\".\"&+(COUNTA(D$4:D72))))","v":""},{"$nulls":6},70]
[{"$f":"IF(ISBLANK(D73),\"\",($A$3&\".\"&+(COUNTA(D$4:D73))))","v":"3.21"},null,"b) Large","km",20,null,null,71]
[{"$f":"IF(ISBLANK(D74),\"\",($A$3&\".\"&+(COUNTA(D$4:D74))))","v":""},{"$nulls":6},72]
[{"$f":"IF(ISBLANK(D75),\"\",($A$3&\".\"&+(COUNTA(D$4:D75))))","v":""},null,"Concrete mixer",{"$nulls":4},73]
[{"$f":"IF(ISBLANK(D76),\"\",($A$3&\".\"&+(COUNTA(D$4:D76))))","v":""},{"$nulls":6},74]
[{"$f":"IF(ISBLANK(D77),\"\",($A$3&\".\"&+(COUNTA(D$4:D77))))","v":"3.22"},null,"a) Small","km",20,null,null,75]
[{"$f":"IF(ISBLANK(D78),\"\",($A$3&\".\"&+(COUNTA(D$4:D78))))","v":""},{"$nulls":6},76]
[{"$f":"IF(ISBLANK(D79),\"\",($A$3&\".\"&+(COUNTA(D$4:D79))))","v":"3.23"},null,"b) Large","km",20,null,null,77]
[{"$nulls":5},"Carried Forward"]
[{"$nulls":5},"Brought Forward"]
[{"$f":"IF(ISBLANK(D82),\"\",($A$3&\".\"&+(COUNTA(D$4:D82))))","v":""},{"$nulls":6},1]
[{"$f":"IF(ISBLANK(D83),\"\",($A$3&\".\"&+(COUNTA(D$4:D83))))","v":""},null,"LABOUR BASED EQUIPMENT",{"$nulls":4},2]
[{"$f":"IF(ISBLANK(D84),\"\",($A$3&\".\"&+(COUNTA(D$4:D84))))","v":""},{"$nulls":6},3]
[{"$f":"IF(ISBLANK(D85),\"\",($A$3&\".\"&+(COUNTA(D$4:D85))))","v":"3.24"},null,"a) Pick","day",1,null,null,4]
[{"$f":"IF(ISBLANK(D86),\"\",($A$3&\".\"&+(COUNTA(D$4:D86))))","v":""},{"$nulls":6},5]
[{"$f":"IF(ISBLANK(D87),\"\",($A$3&\".\"&+(COUNTA(D$4:D87))))","v":"3.25"},null,"b) \"Gwalas\"","day",1,null,null,6]
[{"$f":"IF(ISBLANK(D88),\"\",($A$3&\".\"&+(COUNTA(D$4:D88))))","v":""},{"$nulls":6},7]
[{"$f":"IF(ISBLANK(D89),\"\",($A$3&\".\"&+(COUNTA(D$4:D89))))","v":"3.26"},null,"c) Shovel","day",1,null,null,8]
[{"$f":"IF(ISBLANK(D90),\"\",($A$3&\".\"&+(COUNTA(D$4:D90))))","v":""},{"$nulls":6},9]
[{"$f":"IF(ISBLANK(D91),\"\",($A$3&\".\"&+(COUNTA(D$4:D91))))","v":"3.27"},null,"d) Wheelbarrow","day",1,null,null,10]
[{"$f":"IF(ISBLANK(D92),\"\",($A$3&\".\"&+(COUNTA(D$4:D92))))","v":""},{"$nulls":6},11]
[{"$f":"IF(ISBLANK(D93),\"\",($A$3&\".\"&+(COUNTA(D$4:D93))))","v":"3.28"},null,"e) Bucket (20l)","day",1,null,null,12]
[{"$f":"IF(ISBLANK(D94),\"\",($A$3&\".\"&+(COUNTA(D$4:D94))))","v":""},{"$nulls":6},13]
[{"$nulls":7},14]
[{"$nulls":7},15]
[{"$nulls":7},16]
[{"$nulls":7},17]
[{"$nulls":7},18]
[{"$nulls":7},19]
[{"$nulls":7},20]
[{"$nulls":7},21]
[{"$nulls":7},22]
[{"$nulls":7},23]
[{"$f":"IF(ISBLANK(D105),\"\",($A$3&\".\"&+(COUNTA(D$4:D105))))","v":""},{"$nulls":6},24]
[{"$f":"IF(ISBLANK(D106),\"\",($A$3&\".\"&+(COUNTA(D$4:D106))))","v":""},{"$nulls":6},25]
[{"$f":"IF(ISBLANK(D107),\"\",($A$3&\".\"&+(COUNTA(D$4:D107))))","v":""},{"$nulls":6},26]
[{"$f":"IF(ISBLANK(D108),\"\",($A$3&\".\"&+(COUNTA(D$4:D108))))","v":""},{"$nulls":6},27]
[{"$f":"IF(ISBLANK(D109),\"\",($A$3&\".\"&+(COUNTA(D$4:D109))))","v":""},{"$nulls":6},28]
[{"$f":"IF(ISBLANK(D110),\"\",($A$3&\".\"&+(COUNTA(D$4:D110))))","v":""},{"$nulls":6},29]
[{"$f":"IF(ISBLANK(D111),\"\",($A$3&\".\"&+(COUNTA(D$4:D111))))","v":""},{"$nulls":6},30]
[{"$f":"IF(ISBLANK(D112),\"\",($A$3&\".\"&+(COUNTA(D$4:D112))))","v":""},{"$nulls":6},31]
[{"$f":"IF(ISBLANK(D113),\"\",($A$3&\".\"&+(COUNTA(D$4:D113))))","v":""},{"$nulls":6},32]
[{"$f":"IF(ISBLANK(D114),\"\",($A$3&\".\"&+(COUNTA(D$4:D114))))","v":""},{"$nulls":6},33]
[{"$f":"IF(ISBLANK(D115),\"\",($A$3&\".\"&+(COUNTA(D$4:D115))))","v":""},{"$nulls":6},34]
[{"$f":"IF(ISBLANK(D116),\"\",($A$3&\".\"&+(COUNTA(D$4:D116))))","v":""},{"$nulls":6},35]
[{"$nulls":7},36]
[{"$nulls":7},37]
[{"$nulls":7},38]
[{"$nulls":7},39]
[{"$nulls":7},40]
[{"$nulls":7},41]
[{"$nulls":7},42]
[{"$nulls":7},43]
[{"$nulls":7},44]
[{"$nulls":7},45]
[{"$nulls":7},46]
[{"$nulls":7},47]
[{"$nulls":7},48]
[{"$nulls":7},49]
[{"$nulls":7},50]
[{"$nulls":7},51]
[{"$nulls":7},52]
[{"$nulls":7},53]
[{"$nulls":7},54]
[{"$nulls":7},55]
[{"$nulls":7},56]
[{"$nulls":7},57]
[{"$nulls":7},58]
[{"$f":"IF(ISBLANK(D140),\"\",($A$3&\".\"&+(COUNTA(D$4:D140))))","v":""},{"$nulls":6},59]
[{"$f":"IF(ISBLANK(D141),\"\",($A$3&\".\"&+(COUNTA(D$4:D141))))","v":""},{"$nulls":6},60]
[{"$f":"IF(ISBLANK(D142),\"\",($A$3&\".\"&+(COUNTA(D$4:D142))))","v":""},{"$nulls":6},61]
[{"$f":"IF(ISBLANK(D143),\"\",($A$3&\".\"&+(COUNTA(D$4:D143))))","v":""},{"$nulls":6},62]
[{"$f":"IF(ISBLANK(D144),\"\",($A$3&\".\"&+(COUNTA(D$4:D144))))","v":""},{"$nulls":6},63]
[{"$f":"IF(ISBLANK(D145),\"\",($A$3&\".\"&+(COUNTA(D$4:D145))))","v":""},{"$nulls":6},64]
[{"$f":"IF(ISBLANK(D146),\"\",($A$3&\".\"&+(COUNTA(D$4:D146))))","v":""},{"$nulls":6},65]
[{"$f":"IF(ISBLANK(D147),\"\",($A$3&\".\"&+(COUNTA(D$4:D147))))","v":""},{"$nulls":6},66]
[{"$f":"IF(ISBLANK(D148),\"\",($A$3&\".\"&+(COUNTA(D$4:D148))))","v":""},{"$nulls":6},67]
[{"$f":"IF(ISBLANK(D149),\"\",($A$3&\".\"&+(COUNTA(D$4:D149))))","v":""},{"$nulls":6},68]
[{"$f":"IF(ISBLANK(D150),\"\",($A$3&\".\"&+(COUNTA(D$4:D150))))","v":""},{"$nulls":6},69]
[{"$f":"IF(ISBLANK(D151),\"\",($A$3&\".\"&+(COUNTA(D$4:D151))))","v":""},{"$nulls":6},70]
[{"$f":"IF(ISBLANK(D152),\"\",($A$3&\".\"&+(COUNTA(D$4:D152))))","v":""},{"$nulls":6},71]
[{"$f":"IF(ISBLANK(D153),\"\",($A$3&\".\"&+(COUNTA(D$4:D153))))","v":""},{"$nulls":6},72]
[{"$f":"IF(ISBLANK(D154),\"\",($A$3&\".\"&+(COUNTA(D$4:D154))))","v":""},{"$nulls":6},73]
[{"$f":"IF(ISBLANK(D155),\"\",($A$3&\".\"&+(COUNTA(D$4:D155))))","v":""},{"$nulls":6},77]
[{"$f":"IF(ISBLANK(D156),\"\",($A$3&\".\"&+(COUNTA(D$4:D156))))","v":""},null,{"$f":"C3","v":"Schedule No.: 3"},{"$nulls":4},78]
[{"$f":"IF(ISBLANK(D157),\"\",($A$3&\".\"&+(COUNTA(D$4:D157))))","v":""},null,{"$f":"C4","v":"DAYWORKS"},{"$nulls":4},79]
["Total Carried forward to Summary of Schedules",{"$nulls":6},80]

{"sheet":"4. BPT","index":3,"n_rows":487,"n_cols":26,"rows_kept":487,"merged":[[0,0,1,0],[0,2,1,6],[0,7,1,7],[0,8,1,8],[0,9,1,9],[0,10,1,10],[3,2,3,6],[5,2,5,6],[9,2,9,6],[24,2,24,6],[38,2,38,6],[40,2,40,6],[53,2,53,6],[61,2,61,6],[80,2,80,6],[98,2,98,6],[121,2,121,6],[141,2,141,6],[147,2,147,6],[171,2,171,6],[183,2,183,6],[222,2,222,6],[238,2,238,6],[265,2,265,6],[312,2,312,6],[328,2,328,6],[335,2,335,6],[344,2,344,6],[425,2,425,6]]}
["Item","Pay","Description",{"$nulls":4},"Unit","Qty","Rate","Amount",{"$nulls":3},"L",9.15,null,"L",{"$f":"2*0.35+3.57","v":4.27}]
[null,"Ref.",{"$nulls":12},"B",5.7,null,"B",{"$f":"2.4+0.35","v":2.75}]
[{"$f":"IF(ISBLANK(H3),\"\",($E$3&\".\"&+(COUNTA(H$4:H5))))","v":""},null,"Schedule No:",null,4,{"$nulls":5},{"$f":"IF(I3<>0,I3*J3,\"\")","v":""},1,null,null,"H",9.05,null,"H",9.05]
[null,null,"NEW BREAK PRESSURE TANK (BPT) AND ADJOINING VALVE CHAMBER",{"$nulls":7},{"$f":"IF(I4<>0,I4*J4,\"\")","v":""},2,null,{"$f":"IF(ISBLANK($I4),\"\",$K4/$K$463)","v":""}]
[{"$f":"IF(ISBLANK(H5),\"\",($E$3&\".\"&+(COUNTA(H$4:H5))))","v":""},{"$nulls":9},"",3,null,{"$f":"IF(ISBLANK($I5),\"\",$K5/$K$463)","v":""}]
[null,"SANS","BREAK PRESSURE TANK (BPT) ",{"$nulls":7},{"$f":"IF(I6<>0,I6*J6,\"\")","v":""},4,null,{"$f":"IF(ISBLANK($I3),\"\",$K3/$K$463)","v":""}]
[null,"1200 C",{"$nulls":9},5,null,{"$f":"IF(ISBLANK($I8),\"\",$K8/$K$463)","v":""},"Excavation footprint",null,{"$f":"(($P$1+1.2)*($P$2+1.2))+(($S$1+1.2)*($S$2+1.2))","v":93.0215},"m²"]
[{"$f":"IF(ISBLANK(H8),\"\",($E$3&\".\"&+(COUNTA(H$4:H8))))","v":""},"PSC","SITE CLEARANCE",{"$nulls":7},"",6,null,"","Allow for:"]
[{"$f":"IF(ISBLANK(H9),\"\",($E$3&\".\"&+(COUNTA(H$4:H9))))","v":""},{"$nulls":9},"",7,null,"","BPT: 9.15 × 5.7 + valve chamber"]
[{"$f":"IF(ISBLANK(H10),\"\",($E$3&\".\"&+(COUNTA(H$4:H10))))","v":""},null,"CLEAR SITE",{"$nulls":8},8,null,"","Working space: +0.6 m all round "]
[{"$f":"IF(ISBLANK(H11),\"\",($E$3&\".\"&+(COUNTA(H$4:H11))))","v":""},{"$nulls":10},9,null,""]
[{"$f":"IF(ISBLANK(H12),\"\",($E$3&\".\"&+(COUNTA(H$4:H12))))","v":""},null,"CLEAR AND GRUB SITE",{"$nulls":8},10,null,""]
[{"$f":"IF(ISBLANK(H13),\"\",($E$3&\".\"&+(COUNTA(H$4:H13))))","v":""},{"$nulls":10},11,null,"","Volume",null,{"$f":"Q7*$P$3","v":841.8445750000001},"m³"]
[{"$f":"IF(ISBLANK(H14),\"\",($E$3&\".\"&+(COUNTA(H$4:H14))))","v":""},"8.2.1",".1","Clear and grub area for",{"$nulls":7},12]
[{"$f":"IF(ISBLANK(H15),\"\",($E$3&\".\"&+(COUNTA(H$4:H15))))","v":""},{"$nulls":10},13]
[{"$f":"IF(ISBLANK(H16),\"\",($E$3&\".\"&+(COUNTA(H$4:H16))))","v":"4.1"},null,null,"(a)","Platforms",null,null,"m²",{"$f":"ROUNDUP($Q$7,0)","v":94},null,null,14,null,{"$f":"IF(ISBLANK($I17),\"\",$K17/$K$463)","v":""}]
[{"$f":"IF(ISBLANK(H17),\"\",($E$3&\".\"&+(COUNTA(H$4:H17))))","v":""},{"$nulls":10},15,null,""]
[{"$f":"IF(ISBLANK(H18),\"\",($E$3&\".\"&+(COUNTA(H$4:H18))))","v":""},null,"REMOVE LARGE TREES AND STUMPS",{"$nulls":8},16,null,""]
[{"$f":"IF(ISBLANK(H19),\"\",($E$3&\".\"&+(COUNTA(H$4:H19))))","v":""},{"$nulls":10},17,null,""]
[{"$f":"IF(ISBLANK(H20),\"\",($E$3&\".\"&+(COUNTA(H$4:H20))))","v":""},"8.2.2",".2","Remove and grub large trees and tree stumps of girth",{"$nulls":7},18,null,""]
[{"$f":"IF(ISBLANK(H21),\"\",($E$3&\".\"&+(COUNTA(H$4:H21))))","v":""},{"$nulls":10},19,null,{"$error":"#DIV/0!"}]
[{"$f":"IF(ISBLANK(H22),\"\",($E$3&\".\"&+(COUNTA(H$4:H22))))","v":"4.2"},null,null,"(a)","Exceeding 1m and up to and including 2m",null,null,"no",1,null,null,20,null,""]
[{"$f":"IF(ISBLANK(H23),\"\",($E$3&\".\"&+(COUNTA(H$4:H23))))","v":""},{"$nulls":10},21,null,""]
[{"$f":"IF(ISBLANK(H24),\"\",($E$3&\".\"&+(COUNTA(H$4:H24))))","v":""},{"$nulls":10},22,null,""]
[{"$f":"IF(ISBLANK(H25),\"\",($E$3&\".\"&+(COUNTA(H$4:H25))))","v":""},"SANS","TOPSOIL AND LANDSCAPING",{"$nulls":8},23,null,""]
[{"$f":"IF(ISBLANK(H26),\"\",($E$3&\".\"&+(COUNTA(H$4:H26))))","v":""},"1200 DM",{"$nulls":9},24,null,""]
[{"$f":"IF(ISBLANK(H27),\"\",($E$3&\".\"&+(COUNTA(H$4:H27))))","v":""},null,"REMOVE TOPSOIL",{"$nulls":8},25,null,""]
[{"$f":"IF(ISBLANK(H28),\"\",($E$3&\".\"&+(COUNTA(H$4:H28))))","v":""},{"$nulls":10},26,null,""]
[{"$f":"IF(ISBLANK(H29),\"\",($E$3&\".\"&+(COUNTA(H$4:H29))))","v":""},"8.3.2",".1","Remove topsoil to a depth of 150mm and",{"$nulls":7},27,null,""]
[{"$f":"IF(ISBLANK(H30),\"\",($E$3&\".\"&+(COUNTA(H$4:H30))))","v":""},{"$nulls":10},28,null,{"$error":"#DIV/0!"}]
[{"$f":"IF(ISBLANK(H31),\"\",($E$3&\".\"&+(COUNTA(H$4:H31))))","v":"4.3"},null,null,"(a)","Stockpile on site and maintain",null,null,"m³",{"$f":"ROUNDUP($Q$7*0.15,0)","v":14},null,null,29,null,""]
[{"$f":"IF(ISBLANK(H32),\"\",($E$3&\".\"&+(COUNTA(H$4:H32))))","v":""},{"$nulls":9},"",30,null,""]
[{"$f":"IF(ISBLANK(H33),\"\",($E$3&\".\"&+(COUNTA(H$4:H33))))","v":""},null,"FINISHING, TOPSOILING AND GRASSING",{"$nulls":7},"",31,null,""]
[{"$f":"IF(ISBLANK(H34),\"\",($E$3&\".\"&+(COUNTA(H$4:H34))))","v":""},{"$nulls":9},"",32,null,""]
[{"$f":"IF(ISBLANK(H35),\"\",($E$3&\".\"&+(COUNTA(H$4:H35))))","v":""},"8.3.10",".2","Topsoiling with material from stockpiles on site",{"$nulls":7},33,null,""]
[{"$f":"IF(ISBLANK(H36),\"\",($E$3&\".\"&+(COUNTA(H$4:H36))))","v":""},{"$nulls":10},34,null,{"$error":"#DIV/0!"}]
[{"$f":"IF(ISBLANK(H37),\"\",($E$3&\".\"&+(COUNTA(H$4:H37))))","v":"4.4"},null,null,"(a)","Spread over site",null,null,"m³",{"$f":"I31","v":14},null,null,35,null,""]
[{"$f":"IF(ISBLANK(H38),\"\",($E$3&\".\"&+(COUNTA(H$4:H38))))","v":""},{"$nulls":10},36,null,{"$f":"IF(ISBLANK(#REF!),\"\",#REF!/$K$463)","v":{"$error":"#REF!"}}]
[{"$f":"IF(ISBLANK(H39),\"\",($E$3&\".\"&+(COUNTA(H$4:H39))))","v":""},"SANS","EARTHWORKS ",{"$nulls":7},{"$f":"IF(I39<>0,I39*J39,\"\")","v":""},37,null,{"$f":"IF(ISBLANK($I40),\"\",$K40/$K$463)","v":""}]
[{"$f":"IF(ISBLANK(H40),\"\",($E$3&\".\"&+(COUNTA(H$4:H40))))","v":""},"1200 D",{"$nulls":8},"",38,null,{"$f":"IF(ISBLANK($I41),\"\",$K41/$K$463)","v":""}]
[{"$f":"IF(ISBLANK(H41),\"\",($E$3&\".\"&+(COUNTA(H$4:H41))))","v":""},null,"BULK EXCAVATION",{"$nulls":7},"",39,null,{"$f":"IF(ISBLANK($I42),\"\",$K42/$K$463)","v":""}]
[{"$f":"IF(ISBLANK(H42),\"\",($E$3&\".\"&+(COUNTA(H$4:H42))))","v":""},{"$nulls":9},"",40]
[{"$f":"IF(ISBLANK(H43),\"\",($E$3&\".\"&+(COUNTA(H$4:H43))))","v":""},"8.3.2",".1","Bulk excavation in all materials and place ",{"$nulls":7},41]
[{"$f":"IF(ISBLANK(H44),\"\",($E$3&\".\"&+(COUNTA(H$4:H44))))","v":"4.5"},null,null,"material on site",{"$nulls":3},"m³",null,null,"R/O",42]
[{"$f":"IF(ISBLANK(H45),\"\",($E$3&\".\"&+(COUNTA(H$4:H45))))","v":""},{"$nulls":10},43,null,{"$f":"IF(ISBLANK($I46),\"\",$K46/$K$463)","v":""}]
[{"$f":"IF(ISBLANK(H46),\"\",($E$3&\".\"&+(COUNTA(H$4:H46))))","v":""},"8.3.2",".2","Extra over reference  8.3.2 (a) for",{"$nulls":6},{"$f":"IF(I46<>0,I46*J46,\"\")","v":""},44,null,""]
[{"$f":"IF(ISBLANK(H47),\"\",($E$3&\".\"&+(COUNTA(H$4:H47))))","v":""},{"$nulls":9},{"$f":"IF(I47<>0,I47*J47,\"\")","v":""},45,null,""]
[{"$f":"IF(ISBLANK(H48),\"\",($E$3&\".\"&+(COUNTA(H$4:H48))))","v":"4.6"},null,null,"(a)","Hard rock excavation ",null,null,"m³",null,null,"R/O",46,null,""]
[{"$f":"IF(ISBLANK(H49),\"\",($E$3&\".\"&+(COUNTA(H$4:H49))))","v":""},{"$nulls":9},{"$f":"IF(I49<>0,I49*J49,\"\")","v":""},47,null,""]
[{"$f":"IF(ISBLANK(H50),\"\",($E$3&\".\"&+(COUNTA(H$4:H50))))","v":"4.7"},null,null,"(b)","Boulder excavation, Class A",null,null,"m³",null,null,"R/O",48,null,""]
[{"$f":"IF(ISBLANK(H51),\"\",($E$3&\".\"&+(COUNTA(H$4:H51))))","v":""},{"$nulls":9},{"$f":"IF(I51<>0,I51*J51,\"\")","v":""},49,null,""]
[{"$f":"IF(ISBLANK(H52),\"\",($E$3&\".\"&+(COUNTA(H$4:H52))))","v":"4.8"},null,null,"(c)","Boulder excavation, Class B",null,null,"m³",null,null,"R/O",50,null,""]
[{"$f":"IF(ISBLANK(H53),\"\",($E$3&\".\"&+(COUNTA(H$4:H53))))","v":""},{"$nulls":9},{"$f":"IF(I53<>0,I53*J53,\"\")","v":""},51,null,""]
[{"$f":"IF(ISBLANK(H54),\"\",($E$3&\".\"&+(COUNTA(H$4:H54))))","v":""},null,"RESTRICTED EARTHWORKS",{"$nulls":7},{"$f":"IF(I54<>0,I54*J54,\"\")","v":""},52,null,""]
[{"$f":"IF(ISBLANK(H55),\"\",($E$3&\".\"&+(COUNTA(H$4:H55))))","v":""},{"$nulls":9},"",53]
[{"$f":"IF(ISBLANK(H56),\"\",($E$3&\".\"&+(COUNTA(H$4:H56))))","v":""},"8.3.3",".1","Restricted excavation in all materials and place ",{"$nulls":6},"",54]
[{"$f":"IF(ISBLANK(H57),\"\",($E$3&\".\"&+(COUNTA(H$4:H57))))","v":""},null,null,"material on site",{"$nulls":7},55]
[{"$f":"IF(ISBLANK(H58),\"\",($E$3&\".\"&+(COUNTA(H$4:H58))))","v":""},{"$nulls":10},56]
[{"$f":"IF(ISBLANK(H59),\"\",($E$3&\".\"&+(COUNTA(H$4:H59))))","v":"4.9"},null,null,"(a)","Excavation for break pressure tank and adjoining ",null,null,"m³",{"$f":"ROUNDUP($Q$13,0)","v":842},null,null,57]
[{"$f":"IF(ISBLANK(H60),\"\",($E$3&\".\"&+(COUNTA(H$4:H60))))","v":""},{"$nulls":3},"valve chamber ",{"$nulls":6},58]
[{"$f":"IF(ISBLANK(H61),\"\",($E$3&\".\"&+(COUNTA(H$4:H61))))","v":""},{"$nulls":10},59,null,{"$f":"IF(ISBLANK($I62),\"\",$K62/$K$463)","v":""}]
[{"$f":"IF(ISBLANK(H62),\"\",($E$3&\".\"&+(COUNTA(H$4:H62))))","v":""},null,"RESTRICTED EXCAVATION",{"$nulls":8},60,null,""]
[{"$f":"IF(ISBLANK(H63),\"\",($E$3&\".\"&+(COUNTA(H$4:H63))))","v":""},{"$nulls":10},61,null,""]
[{"$f":"IF(ISBLANK(H64),\"\",($E$3&\".\"&+(COUNTA(H$4:H64))))","v":""},"8.3.3",".1","Extra over reference  8.3.3 (a)  for",{"$nulls":7},62,null,""]
[{"$f":"IF(ISBLANK(H65),\"\",($E$3&\".\"&+(COUNTA(H$4:H65))))","v":""},{"$nulls":10},63,null,{"$error":"#DIV/0!"}]
[{"$f":"IF(ISBLANK(H66),\"\",($E$3&\".\"&+(COUNTA(H$4:H66))))","v":"4.10"},null,null,"(a)","Hard rock excavation (No high velocity explosives",null,null,"m³",{"$f":"ROUNDUP(I59*10%,0)","v":85},null,null,64,null,""]
[{"$f":"IF(ISBLANK(H67),\"\",($E$3&\".\"&+(COUNTA(H$4:H67))))","v":""},{"$nulls":3},"allowed)",{"$nulls":6},65]
[{"$f":"IF(ISBLANK(H68),\"\",($E$3&\".\"&+(COUNTA(H$4:H68))))","v":""},{"$nulls":10},66]
[{"$f":"IF(ISBLANK(H69),\"\",($E$3&\".\"&+(COUNTA(H$4:H69))))","v":""},{"$nulls":10},67]
[{"$f":"IF(ISBLANK(H70),\"\",($E$3&\".\"&+(COUNTA(H$4:H70))))","v":""},{"$nulls":10},68]
[{"$f":"IF(ISBLANK(H71),\"\",($E$3&\".\"&+(COUNTA(H$4:H71))))","v":""},{"$nulls":10},69]
[{"$nulls":11},70,null,{"$f":"IF(ISBLANK(#REF!),\"\",#REF!/$K$463)","v":{"$error":"#REF!"}}]
[{"$nulls":11},71]
[{"$nulls":11},72,null,{"$f":"IF(ISBLANK($I78),\"\",$K78/$K$463)","v":""}]
[{"$nulls":11},76,null,{"$f":"IF(ISBLANK($I81),\"\",$K81/$K$463)","v":""}]
[{"$nulls":11},77,null,""]
[{"$f":"IF(ISBLANK(H77),\"\",($E$3&\".\"&+(COUNTA(H$4:H77))))","v":""},{"$nulls":10},78,null,""]
[{"$f":"IF(ISBLANK(H78),\"\",($E$3&\".\"&+(COUNTA(H$4:H78))))","v":""},{"$nulls":9},"",79,null,""]
[{"$nulls":9},"Carried Forward",{"$f":"IF(I79<>0,I79*J79,\"\")","v":""},80,null,""]
[{"$nulls":9},"Brought Forward",{"$f":"IF(I80<>0,I80*J80,\"\")","v":""},null,null,""]
[{"$f":"IF(ISBLANK(H81),\"\",($E$3&\".\"&+(COUNTA(H$4:H81))))","v":""},null,"IMPORTING OF MATERIALS",{"$nulls":7},"",2,null,{"$f":"IF(ISBLANK($I88),\"\",$K88/$K$463)","v":""}]
[{"$f":"IF(ISBLANK(H82),\"\",($E$3&\".\"&+(COUNTA(H$4:H82))))","v":""},{"$nulls":9},"",3,null,""]
[{"$f":"IF(ISBLANK(H83),\"\",($E$3&\".\"&+(COUNTA(H$4:H83))))","v":""},null,"NOTE: The rates for imported materials shall also cater ",{"$nulls":7},"",4,null,""]
[{"$f":"IF(ISBLANK(H84),\"\",($E$3&\".\"&+(COUNTA(H$4:H84))))","v":""},null,"for the same volume of spoiling of unsuitable material. ",{"$nulls":7},"",5,null,""]
[{"$f":"IF(ISBLANK(H85),\"\",($E$3&\".\"&+(COUNTA(H$4:H85))))","v":""},{"$nulls":9},"",6,null,""]
[{"$f":"IF(ISBLANK(H86),\"\",($E$3&\".\"&+(COUNTA(H$4:H86))))","v":""},null,"COMMERCIAL MATERIAL PROVIDED BY THE",{"$nulls":7},{"$f":"IF(I86<>0,I86*J86,\"\")","v":""},7,null,""]
[{"$f":"IF(ISBLANK(H87),\"\",($E$3&\".\"&+(COUNTA(H$4:H87))))","v":""},null,"CONTRACTOR",{"$nulls":7},"",8,null,""]
[{"$f":"IF(ISBLANK(H88),\"\",($E$3&\".\"&+(COUNTA(H$4:H88))))","v":""},{"$nulls":9},"",9,null,""]
[{"$f":"IF(ISBLANK(H89),\"\",($E$3&\".\"&+(COUNTA(H$4:H89))))","v":""},"8.3.4",".1","Extra over reference 8.3.2 (a) .3 & .4 for importation ",{"$nulls":6},"",10,null,""]
[{"$f":"IF(ISBLANK(H90),\"\",($E$3&\".\"&+(COUNTA(H$4:H90))))","v":""},null,null,"of materials",{"$nulls":6},"",11,null,{"$error":"#DIV/0!"}]
[{"$f":"IF(ISBLANK(H91),\"\",($E$3&\".\"&+(COUNTA(H$4:H91))))","v":""},{"$nulls":9},"",12,null,""]
[{"$f":"IF(ISBLANK(H92),\"\",($E$3&\".\"&+(COUNTA(H$4:H92))))","v":""},null,"NOTE:",null,"Rate to include for bulking factor to ",{"$nulls":5},"",13]
[{"$f":"IF(ISBLANK(H93),\"\",($E$3&\".\"&+(COUNTA(H$4:H93))))","v":""},{"$nulls":3},"accommodate for a minimum of 95% mod ",{"$nulls":5},"",14]
[{"$f":"IF(ISBLANK(H94),\"\",($E$3&\".\"&+(COUNTA(H$4:H94))))","v":""},{"$nulls":3},"AASHTO density. Addditional volume will not be ",{"$nulls":5},"",15]
[{"$f":"IF(ISBLANK(H95),\"\",($E$3&\".\"&+(COUNTA(H$4:H95))))","v":""},{"$nulls":3},"paid for shortfall of material due to bulking.",{"$nulls":6},16]
[{"$f":"IF(ISBLANK(H96),\"\",($E$3&\".\"&+(COUNTA(H$4:H96))))","v":""},{"$nulls":10},17]
[{"$f":"IF(ISBLANK(H97),\"\",($E$3&\".\"&+(COUNTA(H$4:H97))))","v":"4.11"},null,null,"(a)","G5 material - Mass fill material for platform",null,null,"m³",30,null,null,18]
[{"$f":"IF(ISBLANK(H98),\"\",($E$3&\".\"&+(COUNTA(H$4:H98))))","v":""},{"$nulls":10},19]
[{"$f":"IF(ISBLANK(H99),\"\",($E$3&\".\"&+(COUNTA(H$4:H99))))","v":""},"SANS","SHORING OF EXCAVATIONS",{"$nulls":8},21,null,null,"Shoring",null,{"$f":"Q100+Q101","v":196.94690000000003},"m²"]
[{"$f":"IF(ISBLANK(H100),\"\",($E$3&\".\"&+(COUNTA(H$4:H100))))","v":""},"1200 DB",{"$nulls":9},22,null,null,"BPT",null,{"$f":"(4.964*(2.6+0.25))+(5.7*(2.6+0.25))+(9.15*9.05)+(5.7*(2.6+0.25+2.61+0.5))","v":147.17190000000002}]
[{"$f":"IF(ISBLANK(H101),\"\",($E$3&\".\"&+(COUNTA(H$4:H101))))","v":""},null,"Temporary support to sides of excavations",{"$nulls":8},23,null,null,"Valve Chamber *",null,{"$f":"((2.4+0.35)*9.05)*2","v":49.775000000000006}]
[{"$f":"IF(ISBLANK(H102),\"\",($E$3&\".\"&+(COUNTA(H$4:H102))))","v":""},{"$nulls":10},24,null,null,"* Shared wall included in BPT"]
[{"$f":"IF(ISBLANK(H103),\"\",($E$3&\".\"&+(COUNTA(H$4:H103))))","v":""},"8.3.4",".1","Shore sides of excavation for structures",{"$nulls":7},25]
[{"$f":"IF(ISBLANK(H104),\"\",($E$3&\".\"&+(COUNTA(H$4:H104))))","v":""},{"$nulls":10},26]
[{"$f":"IF(ISBLANK(H105),\"\",($E$3&\".\"&+(COUNTA(H$4:H105))))","v":""},null,null,"(a)","Support to sides of BPT and adjoining valve ",{"$nulls":6},27]
[{"$f":"IF(ISBLANK(H106),\"\",($E$3&\".\"&+(COUNTA(H$4:H106))))","v":"4.12"},{"$nulls":3},"chamber excavation",null,null,"m²",{"$f":"ROUNDUP($Q$99,0)","v":197},null,null,28]
[{"$f":"IF(ISBLANK(H107),\"\",($E$3&\".\"&+(COUNTA(H$4:H107))))","v":""},{"$nulls":10},29]
[{"$f":"IF(ISBLANK(H108),\"\",($E$3&\".\"&+(COUNTA(H$4:H108))))","v":""},null,"NOTE:",null,"Measurement for support to sides of excavations",{"$nulls":6},30]
[{"$f":"IF(ISBLANK(H109),\"\",($E$3&\".\"&+(COUNTA(H$4:H109))))","v":""},{"$nulls":3},"for structures shall be based on the exposed area",{"$nulls":6},31]
[{"$f":"IF(ISBLANK(H110),\"\",($E$3&\".\"&+(COUNTA(H$4:H110))))","v":""},{"$nulls":3},"of excavation faces requiring support.",{"$nulls":6},32]
[{"$f":"IF(ISBLANK(H111),\"\",($E$3&\".\"&+(COUNTA(H$4:H111))))","v":""},{"$nulls":10},33]
[{"$f":"IF(ISBLANK(H112),\"\",($E$3&\".\"&+(COUNTA(H$4:H112))))","v":""},{"$nulls":3},"The Contractor shall be deemed to have ",{"$nulls":6},34]
[{"$f":"IF(ISBLANK(H113),\"\",($E$3&\".\"&+(COUNTA(H$4:H113))))","v":""},{"$nulls":3},"allowed for all necessary temporary works and ",{"$nulls":6},35]
[{"$f":"IF(ISBLANK(H114),\"\",($E$3&\".\"&+(COUNTA(H$4:H114))))","v":""},{"$nulls":3},"shoring required to ensure excavation ",{"$nulls":6},36,null,{"$f":"IF(ISBLANK($I121),\"\",$K121/$K$463)","v":""}]
[{"$f":"IF(ISBLANK(H115),\"\",($E$3&\".\"&+(COUNTA(H$4:H115))))","v":""},{"$nulls":3},"stability, including in embankment conditions.",{"$nulls":6},37,null,""]
[{"$f":"IF(ISBLANK(H116),\"\",($E$3&\".\"&+(COUNTA(H$4:H116))))","v":""},{"$nulls":10},38,null,""]
[{"$f":"IF(ISBLANK(H117),\"\",($E$3&\".\"&+(COUNTA(H$4:H117))))","v":""},{"$nulls":3},"Shoring is measured only to excavation faces",{"$nulls":6},39,null,""]
[{"$f":"IF(ISBLANK(H118),\"\",($E$3&\".\"&+(COUNTA(H$4:H118))))","v":""},{"$nulls":3},"requiring support, as per SANS 1200 DB 8.3.4, and ",{"$nulls":6},40,null,""]
[{"$f":"IF(ISBLANK(H119),\"\",($E$3&\".\"&+(COUNTA(H$4:H119))))","v":""},{"$nulls":3},"excludes sides open to atmosphere or constructed",{"$nulls":6},41,null,""]
[{"$f":"IF(ISBLANK(H120),\"\",($E$3&\".\"&+(COUNTA(H$4:H120))))","v":""},{"$nulls":3},"above ground.",{"$nulls":6},42,null,""]
[{"$f":"IF(ISBLANK(H121),\"\",($E$3&\".\"&+(COUNTA(H$4:H121))))","v":""},{"$nulls":9},"",43,null,""]
[{"$f":"IF(ISBLANK(H122),\"\",($E$3&\".\"&+(COUNTA(H$4:H122))))","v":""},null,"BACKFILLING RESTRICTED EXCAVATIONS",{"$nulls":7},"",44,null,""]
[{"$f":"IF(ISBLANK(H123),\"\",($E$3&\".\"&+(COUNTA(H$4:H123))))","v":""},{"$nulls":9},"",45,null,""]
[{"$f":"IF(ISBLANK(H124),\"\",($E$3&\".\"&+(COUNTA(H$4:H124))))","v":""},null,"Extra over reference  8.3.2 (a) and 8.3.3 (a) for backfill ",{"$nulls":7},"",46,null,""]
[{"$f":"IF(ISBLANK(H125),\"\",($E$3&\".\"&+(COUNTA(H$4:H125))))","v":""},null,"or for fill material against structures",{"$nulls":7},"",47,null,{"$error":"#DIV/0!"}]
[{"$f":"IF(ISBLANK(H126),\"\",($E$3&\".\"&+(COUNTA(H$4:H126))))","v":""},{"$nulls":9},"",48]
[{"$f":"IF(ISBLANK(H127),\"\",($E$3&\".\"&+(COUNTA(H$4:H127))))","v":""},"8.3.9",".1","Selected material compacted to 93% mod",{"$nulls":6},"",49,"Shoring",{"$f":"IF(ISBLANK($I134),\"\",$K134/$K$463)","v":""}]
[{"$f":"IF(ISBLANK(H128),\"\",($E$3&\".\"&+(COUNTA(H$4:H128))))","v":""},null,null,"AASHTO density",{"$nulls":6},"",50,null,{"$f":"IF(ISBLANK($I135),\"\",$K135/$K$463)","v":""}]
[{"$f":"IF(ISBLANK(H129),\"\",($E$3&\".\"&+(COUNTA(H$4:H129))))","v":""},{"$nulls":10},51,null,{"$f":"IF(ISBLANK($I136),\"\",$K136/$K$463)","v":""}]
[{"$f":"IF(ISBLANK(H130),\"\",($E$3&\".\"&+(COUNTA(H$4:H130))))","v":""},null,null,"(a)","Alongside outer reservoir walls, sloping of ",{"$nulls":6},52,null,{"$f":"IF(ISBLANK($I137),\"\",$K137/$K$463)","v":""}]
[{"$f":"IF(ISBLANK(H131),\"\",($E$3&\".\"&+(COUNTA(H$4:H131))))","v":""},{"$nulls":3},"platform embankment & filling chambers in ",{"$nulls":6},53]
[{"$f":"IF(ISBLANK(H132),\"\",($E$3&\".\"&+(COUNTA(H$4:H132))))","v":"4.13"},{"$nulls":3},"foundations ",null,null,"m³",{"$f":"ROUNDUP($Q$13-$Q$200-$Q$208-$Q$215-$Q$220-$Q$195,0)","v":{"v":629,"d":"629.00"}},null,null,54,null,{"$f":"IF(ISBLANK(#REF!),\"\",#REF!/$K$463)","v":{"$error":"#REF!"}}]
[{"$f":"IF(ISBLANK(H133),\"\",($E$3&\".\"&+(COUNTA(H$4:H133))))","v":""},{"$nulls":10},55]
[{"$f":"IF(ISBLANK(H134),\"\",($E$3&\".\"&+(COUNTA(H$4:H134))))","v":""},null,null,"(b)","Permanent protective soil cover to pipelines",{"$nulls":6},56]
[{"$f":"IF(ISBLANK(H135),\"\",($E$3&\".\"&+(COUNTA(H$4:H135))))","v":""},{"$nulls":3},"supported on pedestals adjacent to reservoir",{"$nulls":6},57]
[{"$f":"IF(ISBLANK(H136),\"\",($E$3&\".\"&+(COUNTA(H$4:H136))))","v":""},{"$nulls":3},"embankment, placed to exclude soil ingress",{"$nulls":6},58]
[{"$f":"IF(ISBLANK(H137),\"\",($E$3&\".\"&+(COUNTA(H$4:H137))))","v":""},{"$nulls":3},"and protect pipework. No structural function",{"$nulls":6},59]
[{"$f":"IF(ISBLANK(H138),\"\",($E$3&\".\"&+(COUNTA(H$4:H138))))","v":"4.14"},{"$nulls":3},"intended. ",null,null,"m³",15,null,null,60]
[{"$nulls":11},61,null,{"$f":"IF(ISBLANK(#REF!),\"\",#REF!/$K$463)","v":{"$error":"#REF!"}}]
[{"$f":"IF(ISBLANK(H140),\"\",($E$3&\".\"&+(COUNTA(H$4:H140))))","v":""},null,"CONCRETE (STRUCTURAL)",{"$nulls":7},"",62,null,{"$f":"IF(ISBLANK(#REF!),\"\",#REF!/$K$463)","v":{"$error":"#REF!"}}]
[{"$f":"IF(ISBLANK(H141),\"\",($E$3&\".\"&+(COUNTA(H$4:H141))))","v":""},"SANS",{"$nulls":8},"",63,null,{"$f":"IF(ISBLANK($I156),\"\",$K156/$K$463)","v":""}]
[{"$f":"IF(ISBLANK(H142),\"\",($E$3&\".\"&+(COUNTA(H$4:H142))))","v":""},"1200 G","ROUGH FORMWORK",{"$nulls":8},64,null,{"$f":"IF(ISBLANK($I157),\"\",$K157/$K$463)","v":""}]
[{"$f":"IF(ISBLANK(H143),\"\",($E$3&\".\"&+(COUNTA(H$4:H143))))","v":""},{"$nulls":10},65,null,{"$f":"IF(ISBLANK(#REF!),\"\",#REF!/$K$463)","v":{"$error":"#REF!"}}]
[{"$f":"IF(ISBLANK(H144),\"\",($E$3&\".\"&+(COUNTA(H$4:H144))))","v":""},"8.2.5",".1","Rough formwork to narrow widths",{"$nulls":7},66,null,{"$f":"IF(ISBLANK(#REF!),\"\",#REF!/$K$463)","v":{"$error":"#REF!"}}]
[{"$f":"IF(ISBLANK(H145),\"\",($E$3&\".\"&+(COUNTA(H$4:H145))))","v":""},{"$nulls":10},67,null,{"$f":"IF(ISBLANK($I140),\"\",$K140/$K$463)","v":""}]
[{"$f":"IF(ISBLANK(H146),\"\",($E$3&\".\"&+(COUNTA(H$4:H146))))","v":"4.15"},null,null,"(a)","Edges, risers, etc not exceeding 300mm wide",null,null,"m",150,null,null,68,null,""]
[{"$f":"IF(ISBLANK(H147),\"\",($E$3&\".\"&+(COUNTA(H$4:H147))))","v":""},{"$nulls":10},69,null,""]
[{"$f":"IF(ISBLANK(H148),\"\",($E$3&\".\"&+(COUNTA(H$4:H148))))","v":""},null,"SMOOTH FORMWORK",{"$nulls":8},70,null,""]
[{"$f":"IF(ISBLANK(H149),\"\",($E$3&\".\"&+(COUNTA(H$4:H149))))","v":""},{"$nulls":10},71,null,""]
[{"$f":"IF(ISBLANK(H150),\"\",($E$3&\".\"&+(COUNTA(H$4:H150))))","v":""},null,"SMOOTH FORMWORK",{"$nulls":8},72,null,""]
[{"$f":"IF(ISBLANK(H151),\"\",($E$3&\".\"&+(COUNTA(H$4:H151))))","v":""},{"$nulls":10},73,null,{"$error":"#DIV/0!"}]
[{"$f":"IF(ISBLANK(H152),\"\",($E$3&\".\"&+(COUNTA(H$4:H152))))","v":""},"8.2.2",".1","Plane horizontal",{"$nulls":7},74,null,""]
[{"$f":"IF(ISBLANK(H153),\"\",($E$3&\".\"&+(COUNTA(H$4:H153))))","v":""},{"$nulls":10},75,null,""]
[{"$f":"IF(ISBLANK(H154),\"\",($E$3&\".\"&+(COUNTA(H$4:H154))))","v":"4.16"},null,null,"(a)","Soffit of Roof Slab ",null,null,"m²",{"$f":"ROUNDUP(Q195/0.3,0)","v":69},null,null,76,null,""]
[{"$nulls":11},78,null,{"$f":"IF(ISBLANK($I151),\"\",$K151/$K$463)","v":""}]
[{"$nulls":9},"Carried Forward",{"$f":"IF(I156<>0,I156*J156,\"\")","v":""},79,null,{"$f":"IF(ISBLANK($I152),\"\",$K152/$K$463)","v":""}]
[{"$nulls":9},"Brought Forward",{"$f":"IF(I157<>0,I157*J157,\"\")","v":""},80,null,{"$f":"IF(ISBLANK($I153),\"\",$K153/$K$463)","v":""}]
[{"$f":"IF(ISBLANK(H158),\"\",($E$3&\".\"&+(COUNTA(H$4:H158))))","v":""},"8.2.2",".2","Plane vertical",{"$nulls":9},{"$f":"IF(ISBLANK($I154),\"\",$K154/$K$463)","v":{"$error":"#DIV/0!"}}]
[{"$f":"IF(ISBLANK(H159),\"\",($E$3&\".\"&+(COUNTA(H$4:H159))))","v":""},{"$nulls":10},1,null,{"$f":"IF(ISBLANK(#REF!),\"\",#REF!/$K$463)","v":{"$error":"#REF!"}}]
[{"$f":"IF(ISBLANK(H160),\"\",($E$3&\".\"&+(COUNTA(H$4:H160))))","v":""},null,null,"(a)","Sides of BPT and adjoining chamber walls",{"$nulls":6},2,null,{"$f":"IF(ISBLANK($I158),\"\",$K158/$K$463)","v":""}]
[{"$f":"IF(ISBLANK(H161),\"\",($E$3&\".\"&+(COUNTA(H$4:H161))))","v":"4.17"},{"$nulls":3},"(internal & external)",null,null,"m²",{"$f":"ROUNDUP(($Q$208+$Q$215+$Q$220)/0.35,0)","v":415},null,null,3,null,{"$f":"IF(ISBLANK($I159),\"\",$K159/$K$463)","v":""}]
[{"$f":"IF(ISBLANK(H162),\"\",($E$3&\".\"&+(COUNTA(H$4:H162))))","v":""},{"$nulls":10},4,null,{"$f":"IF(ISBLANK($I160),\"\",$K160/$K$463)","v":""}]
[{"$f":"IF(ISBLANK(H163),\"\",($E$3&\".\"&+(COUNTA(H$4:H163))))","v":""},"8.2.5",".3","Smooth formwork to narrow widths",{"$nulls":7},5]
[{"$f":"IF(ISBLANK(H164),\"\",($E$3&\".\"&+(COUNTA(H$4:H164))))","v":""},{"$nulls":10},6,null,{"$f":"IF(ISBLANK($I162),\"\",$K162/$K$463)","v":""}]
[{"$f":"IF(ISBLANK(H165),\"\",($E$3&\".\"&+(COUNTA(H$4:H165))))","v":"4.18"},null,null,"(a)","Edges, risers, etc. ",null,null,"m",150,null,null,7,null,""]
[{"$f":"IF(ISBLANK(H166),\"\",($E$3&\".\"&+(COUNTA(H$4:H166))))","v":""},{"$nulls":10},8,null,""]
[{"$f":"IF(ISBLANK(H167),\"\",($E$3&\".\"&+(COUNTA(H$4:H167))))","v":""},"8.1.1.2",".4","Smooth formwork to chamfers, grooves, rebates, etc. ",{"$nulls":7},9,null,{"$error":"#DIV/0!"}]
[{"$f":"IF(ISBLANK(H168),\"\",($E$3&\".\"&+(COUNTA(H$4:H168))))","v":""},null,null,"exceeding 20x20mm in size",{"$nulls":7},10,null,""]
[{"$f":"IF(ISBLANK(H169),\"\",($E$3&\".\"&+(COUNTA(H$4:H169))))","v":""},{"$nulls":10},11,null,""]
[{"$f":"IF(ISBLANK(H170),\"\",($E$3&\".\"&+(COUNTA(H$4:H170))))","v":"4.19"},null,null,"(a)","Drip groove 25mm halfround",null,null,"m",5.7,null,null,12,null,""]
[{"$f":"IF(ISBLANK(H171),\"\",($E$3&\".\"&+(COUNTA(H$4:H171))))","v":""},{"$nulls":10},14,null,{"$f":"IF(ISBLANK($I170),\"\",$K170/$K$463)","v":{"$error":"#DIV/0!"}}]
[{"$f":"IF(ISBLANK(H172),\"\",($E$3&\".\"&+(COUNTA(H$4:H172))))","v":""},null,"REINFORCEMENT",{"$nulls":8},15,null,{"$f":"IF(ISBLANK(#REF!),\"\",#REF!/$K$463)","v":{"$error":"#REF!"}}]
[{"$f":"IF(ISBLANK(H173),\"\",($E$3&\".\"&+(COUNTA(H$4:H173))))","v":""},{"$nulls":10},16,null,{"$f":"IF(ISBLANK($I171),\"\",$K171/$K$463)","v":""}]
[{"$f":"IF(ISBLANK(H174),\"\",($E$3&\".\"&+(COUNTA(H$4:H174))))","v":""},"8.3.1","Steel bars",{"$nulls":8},17,null,""]
[{"$f":"IF(ISBLANK(H175),\"\",($E$3&\".\"&+(COUNTA(H$4:H175))))","v":""},{"$nulls":10},18,null,""]
[{"$f":"IF(ISBLANK(H176),\"\",($E$3&\".\"&+(COUNTA(H$4:H176))))","v":""},null,".1","Mild steel",{"$nulls":6},{"$f":"IF(I176<>0,I176*J176,\"\")","v":""},19,null,""]
[{"$f":"IF(ISBLANK(H177),\"\",($E$3&\".\"&+(COUNTA(H$4:H177))))","v":""},{"$nulls":9},"",20,null,""]
[{"$f":"IF(ISBLANK(H178),\"\",($E$3&\".\"&+(COUNTA(H$4:H178))))","v":"4.20"},null,null,"(a)","All sizes",null,null,"ton",null,null,"R/O",21,null,""]
[{"$f":"IF(ISBLANK(H179),\"\",($E$3&\".\"&+(COUNTA(H$4:H179))))","v":""},{"$nulls":9},{"$f":"IF(I179<>0,I179*J179,\"\")","v":""},22,null,""]
[{"$f":"IF(ISBLANK(H180),\"\",($E$3&\".\"&+(COUNTA(H$4:H180))))","v":""},null,".2","High tensile steel",{"$nulls":6},"",23,null,"",null,"150kg/m3",{"$f":"150*($Q$195+$Q$200+SUM($Q$208,$Q$215,$Q$220,))","v":{"v":31937.63849999996,"d":"31937.64"}},"kg"]
[{"$f":"IF(ISBLANK(H181),\"\",($E$3&\".\"&+(COUNTA(H$4:H181))))","v":""},{"$nulls":10},24,null,"",null,null,{"$f":"Q180/1000","v":{"v":31.93763849999996,"d":"31.94"}},"ton"]
[{"$f":"IF(ISBLANK(H182),\"\",($E$3&\".\"&+(COUNTA(H$4:H182))))","v":"4.21"},null,null,"(a)","All sizes",null,null,"ton",{"$f":"ROUNDUP($Q$181,0)","v":{"v":32,"d":"32.0"}},null,null,25,null,"",null,"Reinforcement measured provisionally and subject to re-measurement"]
[{"$f":"IF(ISBLANK(H183),\"\",($E$3&\".\"&+(COUNTA(H$4:H183))))","v":""},{"$nulls":10},26,null,""]
[{"$f":"IF(ISBLANK(H184),\"\",($E$3&\".\"&+(COUNTA(H$4:H184))))","v":""},null,"CONCRETE",{"$nulls":7},"",27,null,{"$error":"#DIV/0!"}]
[{"$f":"IF(ISBLANK(H185),\"\",($E$3&\".\"&+(COUNTA(H$4:H185))))","v":""},null,"STRENGTH CONCRETE",{"$nulls":7},"",29,null,{"$f":"IF(ISBLANK($I184),\"\",$K184/$K$463)","v":""}]
[{"$f":"IF(ISBLANK(H186),\"\",($E$3&\".\"&+(COUNTA(H$4:H186))))","v":""},{"$nulls":9},"",30,null,{"$f":"IF(ISBLANK(#REF!),\"\",#REF!/$K$463)","v":{"$error":"#REF!"}}]
[{"$f":"IF(ISBLANK(H187),\"\",($E$3&\".\"&+(COUNTA(H$4:H187))))","v":""},"8.4.2",".1","Strength concrete 15Mpa/20mm",{"$nulls":6},"",31,null,{"$f":"IF(ISBLANK($I185),\"\",$K185/$K$463)","v":""}]
[{"$f":"IF(ISBLANK(H188),\"\",($E$3&\".\"&+(COUNTA(H$4:H188))))","v":""},{"$nulls":10},32,null,{"$f":"IF(ISBLANK($I186),\"\",$K186/$K$463)","v":""}]
[{"$f":"IF(ISBLANK(H189),\"\",($E$3&\".\"&+(COUNTA(H$4:H189))))","v":"4.22"},null,null,"(a)","Blinding layer 50mm thick",null,null,"m³",{"$f":"ROUNDUP(Q192,0)","v":{"v":2,"d":"2.00"}},null,null,33,null,{"$f":"IF(ISBLANK($I187),\"\",$K187/$K$463)","v":""}]
[{"$f":"IF(ISBLANK(H190),\"\",($E$3&\".\"&+(COUNTA(H$4:H190))))","v":""},{"$nulls":10},34,null,{"$f":"IF(ISBLANK($I188),\"\",$K188/$K$463)","v":""}]
[{"$f":"IF(ISBLANK(H191),\"\",($E$3&\".\"&+(COUNTA(H$4:H191))))","v":"4.23"},null,null,"(b)","Blinding layer 100mm thick",null,null,"m³",{"$f":"ROUNDUP(Q193,0)","v":{"v":6,"d":"6.00"}},null,null,35,null,{"$f":"IF(ISBLANK($I189),\"\",$K189/$K$463)","v":{"$error":"#DIV/0!"}},"Blinding"]
[{"$f":"IF(ISBLANK(H192),\"\",($E$3&\".\"&+(COUNTA(H$4:H192))))","v":""},{"$nulls":10},36,null,{"$f":"IF(ISBLANK(#REF!),\"\",#REF!/$K$463)","v":{"$error":"#REF!"}},"50mm",null,{"$f":"4.964 * 5.7 * 0.05","v":{"v":1.41474,"d":"1.41"}},"m³"]
[{"$f":"IF(ISBLANK(H193),\"\",($E$3&\".\"&+(COUNTA(H$4:H193))))","v":"4.24"},null,null,"(c)","Mass concrete thrust blocks",null,null,"m³",3,null,null,37,null,{"$f":"IF(ISBLANK(#REF!),\"\",#REF!/$K$463)","v":{"$error":"#REF!"}},"100mm",null,{"$f":"9.15 * 5.7 * 0.1","v":{"v":5.2155000000000005,"d":"5.22"}},"m³"]
[{"$f":"IF(ISBLANK(H194),\"\",($E$3&\".\"&+(COUNTA(H$4:H194))))","v":""},{"$nulls":10},38,null,{"$f":"IF(ISBLANK($I190),\"\",$K190/$K$463)","v":""}]
[{"$f":"IF(ISBLANK(H195),\"\",($E$3&\".\"&+(COUNTA(H$4:H195))))","v":""},"8.4.3",".2","Strength concrete 30Mpa/20mm",{"$nulls":6},{"$f":"IF(I195<>0,I195*J195,\"\")","v":""},39,null,null,"Roof slab",null,{"$f":"SUM(Q196:Q197)","v":{"v":20.525875,"d":"20.53"}},"m³"]
[{"$f":"IF(ISBLANK(H196),\"\",($E$3&\".\"&+(COUNTA(H$4:H196))))","v":""},{"$nulls":9},"",40,null,{"$f":"IF(ISBLANK($I192),\"\",$K192/$K$463)","v":""},"BPT",null,{"$f":"((9.6*5.7*0.3))","v":{"v":16.416,"d":"16.42"}}]
[{"$f":"IF(ISBLANK(H197),\"\",($E$3&\".\"&+(COUNTA(H$4:H197))))","v":"4.25"},null,null,"(a)","BPT and adjoining valve chamber base slab",null,null,"m³",null,null,"R/O",41,null,{"$f":"IF(ISBLANK(#REF!),\"\",#REF!/$K$463)","v":{"$error":"#REF!"}},"Valve Chamber",null,{"$f":"2.75*(3.57+0.35+0.35)*0.35","v":{"v":4.109875,"d":"4.11"}}]
[{"$f":"IF(ISBLANK(H198),\"\",($E$3&\".\"&+(COUNTA(H$4:H198))))","v":""},{"$nulls":9},"",42,null,{"$f":"IF(ISBLANK($I193),\"\",$K193/$K$463)","v":{"$error":"#DIV/0!"}}]
[{"$f":"IF(ISBLANK(H199),\"\",($E$3&\".\"&+(COUNTA(H$4:H199))))","v":"4.26"},null,null,"(b)","BPT and adjoining valve chamber walls",null,null,"m³",null,null,"R/O",43]
[{"$f":"IF(ISBLANK(H200),\"\",($E$3&\".\"&+(COUNTA(H$4:H200))))","v":""},{"$nulls":9},"",44,null,{"$f":"IF(ISBLANK(#REF!),\"\",#REF!/$K$463)","v":{"$error":"#REF!"}},"Base slab",null,{"$f":"SUM(Q204:Q205)","v":{"v":47.30410000000001,"d":"47.30"}},"m³"]
[{"$f":"IF(ISBLANK(H201),\"\",($E$3&\".\"&+(COUNTA(H$4:H201))))","v":"4.27"},null,null,"(c)","BPT and adjoining valve chamber roof slab",null,null,"m³",null,null,"R/O",45,null,{"$f":"IF(ISBLANK(#REF!),\"\",#REF!/$K$463)","v":{"$error":"#REF!"}}]
[{"$f":"IF(ISBLANK(H202),\"\",($E$3&\".\"&+(COUNTA(H$4:H202))))","v":""},{"$nulls":9},"",46,null,{"$f":"IF(ISBLANK($I233),\"\",$K233/$K$463)","v":""}]
[{"$f":"IF(ISBLANK(H203),\"\",($E$3&\".\"&+(COUNTA(H$4:H203))))","v":""},"8.4.3",".3","Strength concrete 30Mpa/20mm with \"Penetron ",{"$nulls":6},"",47,null,{"$f":"IF(ISBLANK($I234),\"\",$K234/$K$463)","v":""}]
[{"$f":"IF(ISBLANK(H204),\"\",($E$3&\".\"&+(COUNTA(H$4:H204))))","v":""},null,null,"add mix\" to engineers specification",{"$nulls":7},48,null,{"$f":"IF(ISBLANK($I195),\"\",$K195/$K$463)","v":""},"BPT",null,{"$f":"(($P$1-2.05-0.35-0.25+0.15)*($P$2+0.15+0.15)*0.5)+((2.05+0.35+0.25)*($P$2+0.15+0.15)*0.35)+((0.25+4.464+0.25)*$P$2*0.25)","v":{"v":32.58870000000001,"d":"32.59"}}]
[{"$f":"IF(ISBLANK(H205),\"\",($E$3&\".\"&+(COUNTA(H$4:H205))))","v":""},{"$nulls":10},49,null,"","Valve Chamber",null,{"$f":"($S$1+0.15+0.15)*($S$3+0.15)*0.35","v":{"v":14.7154,"d":"14.72"}}]
[{"$f":"IF(ISBLANK(H206),\"\",($E$3&\".\"&+(COUNTA(H$4:H206))))","v":"4.28"},null,null,"(a)","BPT and adjoining valve chamber Floor slab",null,null,"m³",{"$f":"$Q$200","v":{"v":47.30410000000001,"d":"47.30"}},null,null,50,null,""]
[{"$f":"IF(ISBLANK(H207),\"\",($E$3&\".\"&+(COUNTA(H$4:H207))))","v":""},{"$nulls":10},51,null,"","WALLS"]
[{"$f":"IF(ISBLANK(H208),\"\",($E$3&\".\"&+(COUNTA(H$4:H208))))","v":"4.29"},null,null,"(b)","BPT and adjoining valve chamber Walls",null,null,"m³",{"$f":"$Q$208+$Q$215+$Q$220","v":{"v":145.08761499999972,"d":"145.09"}},null,null,52,null,"","External walls",null,{"$f":"SUM($P$209:$P$212)","v":{"v":98.76798999999994,"d":"98.77"}},"m³"]
[{"$f":"IF(ISBLANK(H209),\"\",($E$3&\".\"&+(COUNTA(H$4:H209))))","v":""},{"$nulls":10},53,null,"","Longest spans",{"$f":"2*(9.15*0.35*(9.05-0.3-0.5))","v":{"v":52.84125,"d":"52.84"}}]
[{"$f":"IF(ISBLANK(H210),\"\",($E$3&\".\"&+(COUNTA(H$4:H210))))","v":"4.30"},null,null,"(c)","BPT and adjoining valve chamber Roof Slab",null,null,"m³",{"$f":"$Q$195","v":{"v":20.525875,"d":"20.53"}},null,null,54,null,"","Shorter spans",{"$f":"2*(5*0.35*(9.05-0.3-0.5))","v":{"v":28.875,"d":"28.88"}}]
[{"$f":"IF(ISBLANK(H211),\"\",($E$3&\".\"&+(COUNTA(H$4:H211))))","v":""},{"$nulls":10},55,null,"","Thicker part of Inlet wall",{"$f":"2*(5*(0.5-0.35)*((1490.69-1485.64)))","v":{"v":7.574999999999933,"d":"7.57"}}]
[{"$f":"IF(ISBLANK(H212),\"\",($E$3&\".\"&+(COUNTA(H$4:H212))))","v":""},"8.4.3",".4","Strength concrete 40Mpa/20mm with \"Penetron",{"$nulls":7},56,null,"","Retaining wall",{"$f":"(0.35*2.6*5.7)+(0.35*4.714*2.6)","v":{"v":9.47674,"d":"9.48"}}]
[{"$f":"IF(ISBLANK(H213),\"\",($E$3&\".\"&+(COUNTA(H$4:H213))))","v":""},null,null,"add mix\" to engineers specification",{"$nulls":6},{"$f":"IF(I213<>0,I213*J213,\"\")","v":""},57,null,""]
[{"$f":"IF(ISBLANK(H214),\"\",($E$3&\".\"&+(COUNTA(H$4:H214))))","v":""},{"$nulls":9},"",58,null,""]
[{"$f":"IF(ISBLANK(H215),\"\",($E$3&\".\"&+(COUNTA(H$4:H215))))","v":"4.31"},null,null,"(a)","BPT and adjoining valve chamber Walls",null,null,"m³",null,null,"R/O",59,null,{"$error":"#DIV/0!"},"Internal Walls",null,{"$f":"$P$216+$P$217","v":{"v":20.129999999999768,"d":"20.13"}},"m³",null,null,"VOLUME",{"$f":"V216*V217*V218","v":9.254999999999768},null,null,"VOLUME",{"$f":"Z216*Z217*Z218","v":10.875}]
[{"$f":"IF(ISBLANK(H216),\"\",($E$3&\".\"&+(COUNTA(H$4:H216))))","v":""},{"$nulls":9},"",60,null,"","Chamber 1",{"$f":"$V$215","v":9.254999999999768},{"$nulls":3},"Chamber 1","L",5,null,"Chamber 2","L",5]
[{"$f":"IF(ISBLANK(H217),\"\",($E$3&\".\"&+(COUNTA(H$4:H217))))","v":""},"8.4.3",".5","Strength concrete 10Mpa",{"$nulls":6},"",61,null,{"$error":"#DIV/0!"},"Chamber 2",{"$f":"$Z$215","v":{"v":10.875,"d":"10.88"}},{"$nulls":4},"W",0.3,null,null,"W",0.3]
[{"$f":"IF(ISBLANK(H218),\"\",($E$3&\".\"&+(COUNTA(H$4:H218))))","v":""},{"$nulls":9},"",62,null,"",{"$nulls":6},"H",{"$f":"1491.81-1485.64","v":6.169999999999845},null,null,"H",{"$f":"1492.89-1485.64","v":7.25}]
[{"$f":"IF(ISBLANK(H219),\"\",($E$3&\".\"&+(COUNTA(H$4:H219))))","v":""},null,null,"(a)","Leveling screed 10mm thick to top of no fines concrete ",{"$nulls":5},"",63,null,{"$error":"#DIV/0!"}]
[{"$f":"IF(ISBLANK(H220),\"\",($E$3&\".\"&+(COUNTA(H$4:H220))))","v":""},{"$nulls":3},"(wastage shall be included in",{"$nulls":6},64,null,"","Valve Chamber Walls",null,{"$f":"$P$221+$P$222","v":{"v":26.189624999999996,"d":"26.19"}},"m³"]
[{"$f":"IF(ISBLANK(H221),\"\",($E$3&\".\"&+(COUNTA(H$4:H221))))","v":"4.32"},{"$nulls":3},"the rate) including steel float finish",null,null,"m²",{"$f":"ROUNDUP($Q$200,0)","v":{"v":48,"d":"48.00"}},null,null,65,null,"","Wall 1 & 2",{"$f":"2*(2.75*0.35*(9.05-0.3-0.5))","v":{"v":15.881249999999998,"d":"15.88"}}]
[{"$f":"IF(ISBLANK(H222),\"\",($E$3&\".\"&+(COUNTA(H$4:H222))))","v":""},{"$nulls":10},66,null,"","Wall 3",{"$f":"3.57*0.35*(9.05-0.3-0.5)","v":{"v":10.308374999999998,"d":"10.31"}}]
[{"$f":"IF(ISBLANK(H223),\"\",($E$3&\".\"&+(COUNTA(H$4:H223))))","v":""},null,"SURFACE FINISHING",{"$nulls":8},67,null,""]
[{"$f":"IF(ISBLANK(H224),\"\",($E$3&\".\"&+(COUNTA(H$4:H224))))","v":""},null,"Unformed surface finishes",{"$nulls":8},69,null,{"$f":"IF(ISBLANK($I216),\"\",$K216/$K$463)","v":""}]
[{"$f":"IF(ISBLANK(H225),\"\",($E$3&\".\"&+(COUNTA(H$4:H225))))","v":""},{"$nulls":10},70,null,""]
[{"$f":"IF(ISBLANK(H226),\"\",($E$3&\".\"&+(COUNTA(H$4:H226))))","v":""},"8.2.6",".1","Wood floated finish",{"$nulls":7},71,null,""]
[{"$f":"IF(ISBLANK(H227),\"\",($E$3&\".\"&+(COUNTA(H$4:H227))))","v":""},{"$nulls":10},72,null,""]
[{"$f":"IF(ISBLANK(H228),\"\",($E$3&\".\"&+(COUNTA(H$4:H228))))","v":"4.33"},null,null,"(a)","Internal floor surfaces",null,null,"m²",{"$f":"I221","v":{"v":48,"d":"48.00"}},null,null,73,null,""]
[{"$nulls":11},74,null,{"$error":"#DIV/0!"}]
[{"$f":"IF(ISBLANK(H230),\"\",($E$3&\".\"&+(COUNTA(H$4:H230))))","v":""},null,".2","Steel floated finish",{"$nulls":7},75,null,""]
[{"$f":"IF(ISBLANK(H231),\"\",($E$3&\".\"&+(COUNTA(H$4:H231))))","v":""},{"$nulls":10},76,null,""]
[{"$f":"IF(ISBLANK(H232),\"\",($E$3&\".\"&+(COUNTA(H$4:H232))))","v":"4.34"},null,null,"(a)","Top of walls, plinths, slabs (where exposed)",null,null,"m²",{"$f":"ROUNDUP($Q$215+$Q$220,0)","v":{"v":47,"d":"47.00"}},null,null,77,null,{"$f":"IF(ISBLANK(#REF!),\"\",#REF!/$K$463)","v":{"$error":"#REF!"}}]
[{"$nulls":9},"Carried Forward",{"$f":"IF(I233<>0,I233*J233,\"\")","v":""},78,null,{"$f":"IF(ISBLANK($I224),\"\",$K224/$K$463)","v":""}]
[{"$nulls":9},"Brought Forward",{"$f":"IF(I234<>0,I234*J234,\"\")","v":""},79,null,{"$f":"IF(ISBLANK($I225),\"\",$K225/$K$463)","v":""}]
[{"$f":"IF(ISBLANK(H235),\"\",($E$3&\".\"&+(COUNTA(H$4:H235))))","v":""},"8.2.6",".3","Power floated finish",{"$nulls":7},80,null,{"$f":"IF(ISBLANK($I226),\"\",$K226/$K$463)","v":""}]
[{"$f":"IF(ISBLANK(H236),\"\",($E$3&\".\"&+(COUNTA(H$4:H236))))","v":""},{"$nulls":12},{"$f":"IF(ISBLANK($I227),\"\",$K227/$K$463)","v":""}]
[{"$f":"IF(ISBLANK(H237),\"\",($E$3&\".\"&+(COUNTA(H$4:H237))))","v":"4.35"},null,null,"(a)","Internal floor slab ",null,null,"m²",{"$f":"$Q$200","v":{"v":47.30410000000001,"d":"47.30"}},null,null,1,null,{"$f":"IF(ISBLANK($I228),\"\",$K228/$K$463)","v":{"$error":"#DIV/0!"}}]
[{"$f":"IF(ISBLANK(H238),\"\",($E$3&\".\"&+(COUNTA(H$4:H238))))","v":""},{"$nulls":10},2]
[{"$f":"IF(ISBLANK(H239),\"\",($E$3&\".\"&+(COUNTA(H$4:H239))))","v":""},null,"EXPANSION JOINTS",{"$nulls":7},{"$f":"IF(I239<>0,I239*J239,\"\")","v":""},3,null,{"$f":"IF(ISBLANK(#REF!),\"\",#REF!/$K$463)","v":{"$error":"#REF!"}}]
[{"$f":"IF(ISBLANK(H240),\"\",($E$3&\".\"&+(COUNTA(H$4:H240))))","v":""},{"$nulls":9},"",4,null,{"$f":"IF(ISBLANK($I230),\"\",$K230/$K$463)","v":""}]
[{"$f":"IF(ISBLANK(H241),\"\",($E$3&\".\"&+(COUNTA(H$4:H241))))","v":""},null,"CONSTRUCTION JOINTS",{"$nulls":7},"",5,null,{"$f":"IF(ISBLANK($I231),\"\",$K231/$K$463)","v":""}]
[{"$f":"IF(ISBLANK(H242),\"\",($E$3&\".\"&+(COUNTA(H$4:H242))))","v":""},null,"DWG 3890.00.00.SQA.14.D001",{"$nulls":8},6,null,{"$f":"IF(ISBLANK($I232),\"\",$K232/$K$463)","v":{"$error":"#DIV/0!"}}]
[{"$f":"IF(ISBLANK(H243),\"\",($E$3&\".\"&+(COUNTA(H$4:H243))))","v":""},{"$nulls":10},7,null,{"$f":"IF(ISBLANK(#REF!),\"\",#REF!/$K$463)","v":{"$error":"#REF!"}}]
[{"$f":"IF(ISBLANK(H244),\"\",($E$3&\".\"&+(COUNTA(H$4:H244))))","v":"4.36"},8.5,".1","Construction joint at floor slab",{"$nulls":3},"m",30,null,null,8,null,{"$f":"IF(ISBLANK(#REF!),\"\",#REF!/$K$463)","v":{"$error":"#REF!"}}]
[{"$f":"IF(ISBLANK(H245),\"\",($E$3&\".\"&+(COUNTA(H$4:H245))))","v":""},{"$nulls":10},9,null,{"$f":"IF(ISBLANK($I235),\"\",$K235/$K$463)","v":""}]
[{"$f":"IF(ISBLANK(H246),\"\",($E$3&\".\"&+(COUNTA(H$4:H246))))","v":"4.37"},8.5,".2","Construction joint at walls",{"$nulls":3},"m",60,null,null,10,null,{"$f":"IF(ISBLANK($I236),\"\",$K236/$K$463)","v":""}]
[{"$f":"IF(ISBLANK(H247),\"\",($E$3&\".\"&+(COUNTA(H$4:H247))))","v":""},{"$nulls":10},11,null,{"$f":"IF(ISBLANK($I237),\"\",$K237/$K$463)","v":{"$error":"#DIV/0!"}}]
[{"$f":"IF(ISBLANK(H248),\"\",($E$3&\".\"&+(COUNTA(H$4:H248))))","v":"4.38"},8.5,".3","Construction joint at roof slab",{"$nulls":3},"m",30,null,null,12,null,{"$f":"IF(ISBLANK($I238),\"\",$K238/$K$463)","v":""}]
[{"$f":"IF(ISBLANK(H249),\"\",($E$3&\".\"&+(COUNTA(H$4:H249))))","v":""},{"$nulls":10},13,null,{"$f":"IF(ISBLANK(#REF!),\"\",#REF!/$K$463)","v":{"$error":"#REF!"}}]
[{"$f":"IF(ISBLANK(H250),\"\",($E$3&\".\"&+(COUNTA(H$4:H250))))","v":""},"8.2.8",".4","Joint sealer",{"$nulls":6},{"$f":"IF(I250<>0,I250*J250,\"\")","v":""},14,null,{"$f":"IF(ISBLANK($I239),\"\",$K239/$K$463)","v":""}]
[{"$f":"IF(ISBLANK(H251),\"\",($E$3&\".\"&+(COUNTA(H$4:H251))))","v":""},{"$nulls":9},"",15,null,""]
[{"$f":"IF(ISBLANK(H252),\"\",($E$3&\".\"&+(COUNTA(H$4:H252))))","v":""},null,null,"(a)","Remove tear off strip, prime with an approved ",{"$nulls":5},"",16,null,""]
[{"$f":"IF(ISBLANK(H253),\"\",($E$3&\".\"&+(COUNTA(H$4:H253))))","v":""},{"$nulls":3},"primer and fill joint with 50 x 25mm thick ultra low ",{"$nulls":5},"",17,null,""]
[{"$f":"IF(ISBLANK(H254),\"\",($E$3&\".\"&+(COUNTA(H$4:H254))))","v":""},{"$nulls":3},"modulus silicone/ hybrid sealant (including ",{"$nulls":6},18,null,""]
[{"$f":"IF(ISBLANK(H255),\"\",($E$3&\".\"&+(COUNTA(H$4:H255))))","v":""},{"$nulls":3},"backing cord), after waterproof testing has been ",{"$nulls":6},19,null,{"$error":"#DIV/0!"}]
[{"$f":"IF(ISBLANK(H256),\"\",($E$3&\".\"&+(COUNTA(H$4:H256))))","v":"4.39"},{"$nulls":3},"successfully completed",null,null,"m",{"$f":"SUM(I243:I248)","v":120},null,null,20,null,""]
[{"$f":"IF(ISBLANK(H257),\"\",($E$3&\".\"&+(COUNTA(H$4:H257))))","v":""},{"$nulls":10},21,null,{"$error":"#DIV/0!"}]
[{"$f":"IF(ISBLANK(H258),\"\",($E$3&\".\"&+(COUNTA(H$4:H258))))","v":""},8.5,".5","Waterstops",{"$nulls":7},22,null,""]
[{"$f":"IF(ISBLANK(H259),\"\",($E$3&\".\"&+(COUNTA(H$4:H259))))","v":""},{"$nulls":10},23,null,{"$error":"#DIV/0!"}]
[{"$f":"IF(ISBLANK(H260),\"\",($E$3&\".\"&+(COUNTA(H$4:H260))))","v":"4.40"},null,null,"(a)","\"Sika\" waterbar (AR-20) or similar approved",null,null,"m",{"$f":"I256","v":120},null,null,24,null,""]
[{"$f":"IF(ISBLANK(H261),\"\",($E$3&\".\"&+(COUNTA(H$4:H261))))","v":""},{"$nulls":9},"",25,null,{"$f":"IF(ISBLANK(#REF!),\"\",#REF!/$K$463)","v":{"$error":"#REF!"}}]
[{"$f":"IF(ISBLANK(H262),\"\",($E$3&\".\"&+(COUNTA(H$4:H262))))","v":"4.41"},null,null,"(b)","\"Sika\" waterbar (AR-25) or similar approved",null,null,"m",null,null,"R/O",26,null,{"$f":"IF(ISBLANK(#REF!),\"\",#REF!/$K$463)","v":{"$error":"#REF!"}}]
[{"$f":"IF(ISBLANK(H263),\"\",($E$3&\".\"&+(COUNTA(H$4:H263))))","v":""},{"$nulls":9},"",27,null,{"$f":"IF(ISBLANK(#REF!),\"\",#REF!/$K$463)","v":{"$error":"#REF!"}}]
[{"$f":"IF(ISBLANK(H264),\"\",($E$3&\".\"&+(COUNTA(H$4:H264))))","v":"4.42"},null,null,"(c)","\"Sikaswell P-2005M\" or similar approved ",null,null,"m",null,null,"R/O",28]
[{"$f":"IF(ISBLANK(H265),\"\",($E$3&\".\"&+(COUNTA(H$4:H265))))","v":""},{"$nulls":9},"",29]
[{"$f":"IF(ISBLANK(H266),\"\",($E$3&\".\"&+(COUNTA(H$4:H266))))","v":""},null,"MEMBRANES AND BANDAGES",{"$nulls":7},"",30,null,{"$f":"IF(ISBLANK(#REF!),\"\",#REF!/$K$463)","v":{"$error":"#REF!"}}]
[{"$f":"IF(ISBLANK(H267),\"\",($E$3&\".\"&+(COUNTA(H$4:H267))))","v":""},{"$nulls":9},"",31,null,{"$f":"IF(ISBLANK(#REF!),\"\",#REF!/$K$463)","v":{"$error":"#REF!"}}]
[{"$f":"IF(ISBLANK(H268),\"\",($E$3&\".\"&+(COUNTA(H$4:H268))))","v":""},null,"SLIP MEMBRANES",{"$nulls":7},"",32,null,{"$f":"IF(ISBLANK(#REF!),\"\",#REF!/$K$463)","v":{"$error":"#REF!"}}]
[{"$f":"IF(ISBLANK(H269),\"\",($E$3&\".\"&+(COUNTA(H$4:H269))))","v":""},{"$nulls":9},"",33,null,{"$f":"IF(ISBLANK(#REF!),\"\",#REF!/$K$463)","v":{"$error":"#REF!"}}]
[{"$f":"IF(ISBLANK(H270),\"\",($E$3&\".\"&+(COUNTA(H$4:H270))))","v":""},8.5,".1","2 layers x 250 micron PVC sheeting",{"$nulls":6},"",34,null,{"$f":"IF(ISBLANK(#REF!),\"\",#REF!/$K$463)","v":{"$error":"#REF!"}}]
[{"$f":"IF(ISBLANK(H271),\"\",($E$3&\".\"&+(COUNTA(H$4:H271))))","v":""},{"$nulls":10},35,null,{"$f":"IF(ISBLANK($I250),\"\",$K250/$K$463)","v":""}]
[{"$f":"IF(ISBLANK(H272),\"\",($E$3&\".\"&+(COUNTA(H$4:H272))))","v":"4.43"},null,null,"(a)","Slip membrane under blinding / base slab",null,null,"m²",{"$f":"I206","v":{"v":47.30410000000001,"d":"47.30"}},null,null,36,null,""]
[{"$f":"IF(ISBLANK(H273),\"\",($E$3&\".\"&+(COUNTA(H$4:H273))))","v":""},{"$nulls":10},37,null,""]
[{"$f":"IF(ISBLANK(H274),\"\",($E$3&\".\"&+(COUNTA(H$4:H274))))","v":""},{"$nulls":10},38,null,""]
[{"$f":"IF(ISBLANK(H275),\"\",($E$3&\".\"&+(COUNTA(H$4:H275))))","v":""},null,"TRIANGULAR FILLETS",{"$nulls":8},39,null,""]
[{"$f":"IF(ISBLANK(H276),\"\",($E$3&\".\"&+(COUNTA(H$4:H276))))","v":""},{"$nulls":10},40,null,""]
[{"$f":"IF(ISBLANK(H277),\"\",($E$3&\".\"&+(COUNTA(H$4:H277))))","v":""},null,".2","\"Sondor SPX 120\" or similar approved triangular ",{"$nulls":7},41,null,{"$error":"#DIV/0!"}]
[{"$f":"IF(ISBLANK(H278),\"\",($E$3&\".\"&+(COUNTA(H$4:H278))))","v":""},null,null,"corner fillets",{"$nulls":7},42,null,""]
[{"$f":"IF(ISBLANK(H279),\"\",($E$3&\".\"&+(COUNTA(H$4:H279))))","v":""},{"$nulls":10},43,null,""]
[{"$f":"IF(ISBLANK(H280),\"\",($E$3&\".\"&+(COUNTA(H$4:H280))))","v":""},null,null,"(a)","100 x 100 mm triangular fillets at floor–wall ",{"$nulls":6},44,null,""]
[{"$f":"IF(ISBLANK(H281),\"\",($E$3&\".\"&+(COUNTA(H$4:H281))))","v":"4.44"},{"$nulls":3},"junctions",null,null,"m",50,null,null,45,null,{"$error":"#DIV/0!"}]
[{"$f":"IF(ISBLANK(H282),\"\",($E$3&\".\"&+(COUNTA(H$4:H282))))","v":""},{"$nulls":10},46,null,""]
[{"$f":"IF(ISBLANK(H283),\"\",($E$3&\".\"&+(COUNTA(H$4:H283))))","v":""},null,"BANDAGES",{"$nulls":8},47,null,""]
[{"$f":"IF(ISBLANK(H284),\"\",($E$3&\".\"&+(COUNTA(H$4:H284))))","v":""},{"$nulls":10},48,null,""]
[{"$f":"IF(ISBLANK(H285),\"\",($E$3&\".\"&+(COUNTA(H$4:H285))))","v":""},null,".3","\"Sikadur-combiflex SG-20M\" or similar product ",{"$nulls":7},49,null,""]
[{"$f":"IF(ISBLANK(H286),\"\",($E$3&\".\"&+(COUNTA(H$4:H286))))","v":""},null,null,"approved) sealing strip bonded 75mm on each ",{"$nulls":7},50,null,""]
[{"$f":"IF(ISBLANK(H287),\"\",($E$3&\".\"&+(COUNTA(H$4:H287))))","v":""},null,null,"side onto concrete with 40 x 2.5mm bond ",{"$nulls":7},51,null,""]
[{"$f":"IF(ISBLANK(H288),\"\",($E$3&\".\"&+(COUNTA(H$4:H288))))","v":""},null,null,"breaker PVC backing strip over joint, fixing to ",{"$nulls":7},52,null,""]
[{"$f":"IF(ISBLANK(H289),\"\",($E$3&\".\"&+(COUNTA(H$4:H289))))","v":""},null,null,"manufacturers instructions ",{"$nulls":7},53,null,""]
[{"$f":"IF(ISBLANK(H290),\"\",($E$3&\".\"&+(COUNTA(H$4:H290))))","v":""},{"$nulls":10},54,null,""]
[{"$f":"IF(ISBLANK(H291),\"\",($E$3&\".\"&+(COUNTA(H$4:H291))))","v":""},null,null,"(a)","200mm wide sealing strip to floor ",{"$nulls":6},55,null,""]
[{"$f":"IF(ISBLANK(H292),\"\",($E$3&\".\"&+(COUNTA(H$4:H292))))","v":"4.45"},{"$nulls":3},"construction joint",null,null,"m",80,null,null,56,null,""]
[{"$f":"IF(ISBLANK(H293),\"\",($E$3&\".\"&+(COUNTA(H$4:H293))))","v":""},{"$nulls":10},57,null,{"$error":"#DIV/0!"}]
[{"$f":"IF(ISBLANK(H294),\"\",($E$3&\".\"&+(COUNTA(H$4:H294))))","v":""},{"$nulls":10},58,null,""]
[{"$f":"IF(ISBLANK(H295),\"\",($E$3&\".\"&+(COUNTA(H$4:H295))))","v":""},{"$nulls":9},{"$f":"IF(I295<>0,I295*J295,\"\")","v":""},59,null,""]
[{"$f":"IF(ISBLANK(H296),\"\",($E$3&\".\"&+(COUNTA(H$4:H296))))","v":""},null,".4","\"Sikadur-combiflex SG-20M\" or similar approved",{"$nulls":6},{"$f":"IF(I296<>0,I296*J296,\"\")","v":""},60,null,""]
[{"$f":"IF(ISBLANK(H297),\"\",($E$3&\".\"&+(COUNTA(H$4:H297))))","v":""},null,null,"sealing strip bonded 50mm on each side onto",{"$nulls":6},"",61,null,""]
[{"$f":"IF(ISBLANK(H298),\"\",($E$3&\".\"&+(COUNTA(H$4:H298))))","v":""},null,null,"concrete with 100mm centre portion left unbonded, ",{"$nulls":6},"",62,null,""]
[{"$f":"IF(ISBLANK(H299),\"\",($E$3&\".\"&+(COUNTA(H$4:H299))))","v":""},null,null,"fixing to manufacturers instructions",{"$nulls":6},"",63,null,""]
[{"$f":"IF(ISBLANK(H300),\"\",($E$3&\".\"&+(COUNTA(H$4:H300))))","v":""},{"$nulls":9},"",64,null,""]
[{"$f":"IF(ISBLANK(H301),\"\",($E$3&\".\"&+(COUNTA(H$4:H301))))","v":""},null,null,"(a)","200mm wide sealing strip to floor & wall ",{"$nulls":6},65,null,""]
[{"$f":"IF(ISBLANK(H302),\"\",($E$3&\".\"&+(COUNTA(H$4:H302))))","v":"4.46"},{"$nulls":3},"corner joint",null,null,"m",3,null,null,66,null,{"$error":"#DIV/0!"}]
[{"$f":"IF(ISBLANK(H303),\"\",($E$3&\".\"&+(COUNTA(H$4:H303))))","v":""},{"$nulls":10},67,null,""]
[{"$f":"IF(ISBLANK(H304),\"\",($E$3&\".\"&+(COUNTA(H$4:H304))))","v":""},{"$nulls":10},68,null,""]
[{"$f":"IF(ISBLANK(H305),\"\",($E$3&\".\"&+(COUNTA(H$4:H305))))","v":""},{"$nulls":9},"",72,null,{"$f":"IF(ISBLANK($I287),\"\",$K287/$K$463)","v":""}]
[{"$f":"IF(ISBLANK(H306),\"\",($E$3&\".\"&+(COUNTA(H$4:H306))))","v":""},{"$nulls":9},"",73,null,""]
[{"$nulls":11},74,null,""]
[{"$nulls":11},75,null,""]
[{"$f":"IF(ISBLANK(H309),\"\",($E$3&\".\"&+(COUNTA(H$4:H309))))","v":""},{"$nulls":9},{"$f":"IF(I309<>0,I309*J309,\"\")","v":""},76,null,""]
[{"$nulls":9},"Carried Forward",{"$f":"IF(I310<>0,I310*J310,\"\")","v":""},77,null,{"$error":"#DIV/0!"}]
[{"$nulls":9},"Brought Forward",{"$f":"IF(I311<>0,I311*J311,\"\")","v":""},78,null,""]
[{"$f":"IF(ISBLANK(H312),\"\",($E$3&\".\"&+(COUNTA(H$4:H312))))","v":""},{"$nulls":9},{"$f":"IF(I312<>0,I312*J312,\"\")","v":""},79]
[{"$f":"IF(ISBLANK(H313),\"\",($E$3&\".\"&+(COUNTA(H$4:H313))))","v":""},null,"SUNDRIES",{"$nulls":7},"",80,null,{"$f":"IF(ISBLANK($I295),\"\",$K295/$K$463)","v":""}]
[{"$f":"IF(ISBLANK(H314),\"\",($E$3&\".\"&+(COUNTA(H$4:H314))))","v":""},{"$nulls":9},"",null,null,""]
[{"$f":"IF(ISBLANK(H315),\"\",($E$3&\".\"&+(COUNTA(H$4:H315))))","v":""},null,"VENTILATION",{"$nulls":7},"",1,null,""]
[{"$f":"IF(ISBLANK(H316),\"\",($E$3&\".\"&+(COUNTA(H$4:H316))))","v":""},{"$nulls":9},"",2,null,""]
[{"$f":"IF(ISBLANK(H317),\"\",($E$3&\".\"&+(COUNTA(H$4:H317))))","v":""},null,".1","Supply, deliver and fix vermin-proof cover to side ",{"$nulls":6},"",3,null,""]
[{"$f":"IF(ISBLANK(H318),\"\",($E$3&\".\"&+(COUNTA(H$4:H318))))","v":""},null,null,"ventilation opening of Break Pressure Tank, ",{"$nulls":6},"",4,null,""]
[{"$f":"IF(ISBLANK(H319),\"\",($E$3&\".\"&+(COUNTA(H$4:H319))))","v":""},null,null,"manufactured from stainless steel or hot-dip ",{"$nulls":6},"",5,null,""]
[{"$f":"IF(ISBLANK(H320),\"\",($E$3&\".\"&+(COUNTA(H$4:H320))))","v":""},null,null,"galvanised steel mesh, securely fixed to concrete,",{"$nulls":6},{"$f":"IF(I320<>0,I320*J320,\"\")","v":""},6,null,{"$error":"#DIV/0!"}]
[{"$f":"IF(ISBLANK(H321),\"\",($E$3&\".\"&+(COUNTA(H$4:H321))))","v":""},null,null,"including all frames, fixings and making good, complete.",{"$nulls":6},{"$f":"IF(I321<>0,I321*J321,\"\")","v":""},7,null,""]
[{"$f":"IF(ISBLANK(H322),\"\",($E$3&\".\"&+(COUNTA(H$4:H322))))","v":""},{"$nulls":9},{"$f":"IF(I322<>0,I322*J322,\"\")","v":""},8]
[{"$f":"IF(ISBLANK(H323),\"\",($E$3&\".\"&+(COUNTA(H$4:H323))))","v":""},null,null,"Note: Vent cover to prevent ingress of vermin, ",{"$nulls":7},9]
[{"$f":"IF(ISBLANK(H324),\"\",($E$3&\".\"&+(COUNTA(H$4:H324))))","v":""},null,null,"insects and debris while allowing free airflow.",{"$nulls":7},10]
[{"$f":"IF(ISBLANK(H325),\"\",($E$3&\".\"&+(COUNTA(H$4:H325))))","v":""},{"$nulls":10},11]
[{"$f":"IF(ISBLANK(H326),\"\",($E$3&\".\"&+(COUNTA(H$4:H326))))","v":"4.47"},null,null,"(a)","120 x 1200 mm Air Vent",null,null,"No",1,null,null,12,null,{"$f":"IF(ISBLANK($I305),\"\",$K305/$K$463)","v":""}]
[{"$f":"IF(ISBLANK(H327),\"\",($E$3&\".\"&+(COUNTA(H$4:H327))))","v":""},{"$nulls":10},13,null,{"$f":"IF(ISBLANK($I306),\"\",$K306/$K$463)","v":""}]
[{"$f":"IF(ISBLANK(H328),\"\",($E$3&\".\"&+(COUNTA(H$4:H328))))","v":""},{"$nulls":10},14]
[{"$f":"IF(ISBLANK(H329),\"\",($E$3&\".\"&+(COUNTA(H$4:H329))))","v":""},null,"TESTING",{"$nulls":8},15]
[{"$f":"IF(ISBLANK(H330),\"\",($E$3&\".\"&+(COUNTA(H$4:H330))))","v":""},{"$nulls":10},16,null,{"$f":"IF(ISBLANK($I309),\"\",$K309/$K$463)","v":""}]
[{"$f":"IF(ISBLANK(H331),\"\",($E$3&\".\"&+(COUNTA(H$4:H331))))","v":"4.48"},null,".1","Testing the Break Pressure Tank (BPT) for water",{"$nulls":3},"Sum",1,null,null,17,null,{"$f":"IF(ISBLANK($I310),\"\",$K310/$K$463)","v":""}]
[{"$f":"IF(ISBLANK(H332),\"\",($E$3&\".\"&+(COUNTA(H$4:H332))))","v":""},null,null," tightness, including filling, monitoring, inspection, ",{"$nulls":7},18,null,{"$f":"IF(ISBLANK($I311),\"\",$K311/$K$463)","v":""}]
[{"$f":"IF(ISBLANK(H333),\"\",($E$3&\".\"&+(COUNTA(H$4:H333))))","v":""},null,null,"rectification of leaks and emptying on completion.",{"$nulls":7},19,null,{"$f":"IF(ISBLANK(#REF!),\"\",#REF!/$K$463)","v":{"$error":"#REF!"}}]
[{"$f":"IF(ISBLANK(H334),\"\",($E$3&\".\"&+(COUNTA(H$4:H334))))","v":""},{"$nulls":10},20,null,{"$f":"IF(ISBLANK($I312),\"\",$K312/$K$463)","v":""}]
[{"$f":"IF(ISBLANK(H335),\"\",($E$3&\".\"&+(COUNTA(H$4:H335))))","v":""},{"$nulls":10},21,null,""]
[{"$f":"IF(ISBLANK(H336),\"\",($E$3&\".\"&+(COUNTA(H$4:H336))))","v":""},null,"STERILIZATION",{"$nulls":8},22,null,""]
[{"$f":"IF(ISBLANK(H337),\"\",($E$3&\".\"&+(COUNTA(H$4:H337))))","v":""},{"$nulls":10},23,null,""]
[{"$f":"IF(ISBLANK(H338),\"\",($E$3&\".\"&+(COUNTA(H$4:H338))))","v":"4.49"},null,".1","Sterilization and disinfection of the Break Pressure Tank",{"$nulls":3},"Sum",1,null,null,24,null,""]
[{"$f":"IF(ISBLANK(H339),\"\",($E$3&\".\"&+(COUNTA(H$4:H339))))","v":""},null,null,"(BPT) in accordance with the project specifications ",{"$nulls":7},25,null,""]
[{"$f":"IF(ISBLANK(H340),\"\",($E$3&\".\"&+(COUNTA(H$4:H340))))","v":""},null,null,"and applicable water authority requirements.",{"$nulls":7},26,null,""]
[{"$f":"IF(ISBLANK(H341),\"\",($E$3&\".\"&+(COUNTA(H$4:H341))))","v":""},{"$nulls":10},27,null,""]
[{"$f":"IF(ISBLANK(H342),\"\",($E$3&\".\"&+(COUNTA(H$4:H342))))","v":""},{"$nulls":10},28,null,""]
[{"$f":"IF(ISBLANK(H343),\"\",($E$3&\".\"&+(COUNTA(H$4:H343))))","v":""},null,"STRUCTURAL STEELWORK",{"$nulls":7},{"$f":"IF(I343<>0,I343*J343,\"\")","v":""},29,null,""]
[{"$f":"IF(ISBLANK(H344),\"\",($E$3&\".\"&+(COUNTA(H$4:H344))))","v":""},"SANS",{"$nulls":8},"",30,null,""]
[{"$f":"IF(ISBLANK(H345),\"\",($E$3&\".\"&+(COUNTA(H$4:H345))))","v":""},"1200 H","SUPPLY, FABRICATE AND ERECT STEELWORK - ALL INCLUSIVE",{"$nulls":7},"",31,null,""]
[{"$f":"IF(ISBLANK(H346),\"\",($E$3&\".\"&+(COUNTA(H$4:H346))))","v":""},{"$nulls":9},"",32]
[{"$f":"IF(ISBLANK(H347),\"\",($E$3&\".\"&+(COUNTA(H$4:H347))))","v":""},null,"HANDRAILS",{"$nulls":7},"",33,null,{"$f":"IF(ISBLANK($I325),\"\",$K325/$K$463)","v":""}]
[{"$f":"IF(ISBLANK(H348),\"\",($E$3&\".\"&+(COUNTA(H$4:H348))))","v":""},{"$nulls":10},34,null,{"$f":"IF(ISBLANK($I326),\"\",$K326/$K$463)","v":{"$error":"#DIV/0!"}}]
[{"$f":"IF(ISBLANK(H349),\"\",($E$3&\".\"&+(COUNTA(H$4:H349))))","v":""},null,"Supply, fabricate and install continuous handrail system",{"$nulls":8},35,null,{"$f":"IF(ISBLANK($I327),\"\",$K327/$K$463)","v":""}]
[{"$f":"IF(ISBLANK(H350),\"\",($E$3&\".\"&+(COUNTA(H$4:H350))))","v":""},null,"to perimeter of Break Pressure Tank (BPT) roof slab,",{"$nulls":8},36]
[{"$f":"IF(ISBLANK(H351),\"\",($E$3&\".\"&+(COUNTA(H$4:H351))))","v":""},null,"minimum 1 000 mm high, including posts, top rail,",{"$nulls":8},37,null,{"$f":"IF(ISBLANK($I329),\"\",$K329/$K$463)","v":""}]
[{"$f":"IF(ISBLANK(H352),\"\",($E$3&\".\"&+(COUNTA(H$4:H352))))","v":""},null,"intermediate rail(s) and toe board where required,",{"$nulls":8},38,null,""]
[{"$f":"IF(ISBLANK(H353),\"\",($E$3&\".\"&+(COUNTA(H$4:H353))))","v":""},null,"manufactured from hot-dip galvanised mild steel,",{"$nulls":8},39,null,{"$error":"#DIV/0!"}]
[{"$f":"IF(ISBLANK(H354),\"\",($E$3&\".\"&+(COUNTA(H$4:H354))))","v":""},null,"fixed to concrete, installed complete in accordance",{"$nulls":8},40,null,""]
[{"$f":"IF(ISBLANK(H355),\"\",($E$3&\".\"&+(COUNTA(H$4:H355))))","v":""},null,"with applicable SANS standards and occupational",{"$nulls":8},41,null,""]
[{"$f":"IF(ISBLANK(H356),\"\",($E$3&\".\"&+(COUNTA(H$4:H356))))","v":""},null,"health and safety requirements. ",{"$nulls":8},42,null,""]
[{"$f":"IF(ISBLANK(H357),\"\",($E$3&\".\"&+(COUNTA(H$4:H357))))","v":""},{"$nulls":9},{"$f":"IF(I357<>0,I357*J357,\"\")","v":""},43,null,""]
[{"$f":"IF(ISBLANK(H358),\"\",($E$3&\".\"&+(COUNTA(H$4:H358))))","v":""},"8.3.7",".1","\"Mentis\" or similar approved standard galvanised",{"$nulls":6},"",44,null,""]
[{"$f":"IF(ISBLANK(H359),\"\",($E$3&\".\"&+(COUNTA(H$4:H359))))","v":""},null,null,"handrail system, installed complete including posts,",{"$nulls":6},"",45,null,""]
[{"$f":"IF(ISBLANK(H360),\"\",($E$3&\".\"&+(COUNTA(H$4:H360))))","v":""},null,null,"rails, fixings and anchorage to concrete, as detailed",{"$nulls":6},"",46,null,{"$error":"#DIV/0!"}]
[{"$f":"IF(ISBLANK(H361),\"\",($E$3&\".\"&+(COUNTA(H$4:H361))))","v":""},null,null,"on the drawings and to the Engineer’s approval.",{"$nulls":6},"",47,null,""]
[{"$f":"IF(ISBLANK(H362),\"\",($E$3&\".\"&+(COUNTA(H$4:H362))))","v":""},null,null,"DWG 3890.00.00.SQA.14.D001",{"$nulls":7},48,null,""]
[{"$f":"IF(ISBLANK(H363),\"\",($E$3&\".\"&+(COUNTA(H$4:H363))))","v":""},{"$nulls":10},49]
[{"$f":"IF(ISBLANK(H364),\"\",($E$3&\".\"&+(COUNTA(H$4:H364))))","v":"4.50"},null,null,"(a)","Continuous handrail system to BPT roof perimeter",null,null,"m",{"$f":"$O$386","v":30.6},null,null,50,null,{"$f":"IF(ISBLANK(#REF!),\"\",#REF!/$K$463)","v":{"$error":"#REF!"}}]
[{"$f":"IF(ISBLANK(H365),\"\",($E$3&\".\"&+(COUNTA(H$4:H365))))","v":""},{"$nulls":10},51,null,{"$f":"IF(ISBLANK($I343),\"\",$K343/$K$463)","v":""}]
[{"$f":"IF(ISBLANK(H366),\"\",($E$3&\".\"&+(COUNTA(H$4:H366))))","v":""},{"$nulls":10},52,null,{"$f":"IF(ISBLANK($I344),\"\",$K344/$K$463)","v":""}]
[{"$f":"IF(ISBLANK(H367),\"\",($E$3&\".\"&+(COUNTA(H$4:H367))))","v":""},null,"LADDERS",{"$nulls":8},53,null,{"$f":"IF(ISBLANK($I345),\"\",$K345/$K$463)","v":""}]
[{"$f":"IF(ISBLANK(H368),\"\",($E$3&\".\"&+(COUNTA(H$4:H368))))","v":""},null,"Including all necessary design, detailing, fabrication, ",{"$nulls":8},54,null,{"$f":"IF(ISBLANK(#REF!),\"\",#REF!/$K$463)","v":{"$error":"#REF!"}}]
[{"$f":"IF(ISBLANK(H369),\"\",($E$3&\".\"&+(COUNTA(H$4:H369))))","v":""},null,"corrosion protection, transport and installation complete",{"$nulls":8},55,null,{"$f":"IF(ISBLANK($I346),\"\",$K346/$K$463)","v":""}]
[{"$f":"IF(ISBLANK(H370),\"\",($E$3&\".\"&+(COUNTA(H$4:H370))))","v":""},{"$nulls":10},56,null,{"$f":"IF(ISBLANK($I347),\"\",$K347/$K$463)","v":""}]
[{"$f":"IF(ISBLANK(H371),\"\",($E$3&\".\"&+(COUNTA(H$4:H371))))","v":""},"8.3.8",".2","Hot dip galvanised mild steel vertical access ladders ",{"$nulls":7},57]
[{"$f":"IF(ISBLANK(H372),\"\",($E$3&\".\"&+(COUNTA(H$4:H372))))","v":""},null,null,"installed complete, including fixing bolts, etc. as per",{"$nulls":7},58]
[{"$f":"IF(ISBLANK(H373),\"\",($E$3&\".\"&+(COUNTA(H$4:H373))))","v":""},null,null,"DWG 3890.00.00.SQA.14.D001",{"$nulls":7},59]
[{"$f":"IF(ISBLANK(H374),\"\",($E$3&\".\"&+(COUNTA(H$4:H374))))","v":""},{"$nulls":10},60]
[{"$f":"IF(ISBLANK(H375),\"\",($E$3&\".\"&+(COUNTA(H$4:H375))))","v":""},null,null,"(a)","External access ladder with ",{"$nulls":6},61]
[{"$f":"IF(ISBLANK(H376),\"\",($E$3&\".\"&+(COUNTA(H$4:H376))))","v":""},{"$nulls":3},"safety cage and bolted to reservoir walls",{"$nulls":6},62]
[{"$f":"IF(ISBLANK(H377),\"\",($E$3&\".\"&+(COUNTA(H$4:H377))))","v":""},{"$nulls":3},"with M16 \"Hilti HVU  M16 x 125\" adhesive ",{"$nulls":6},63]
[{"$f":"IF(ISBLANK(H378),\"\",($E$3&\".\"&+(COUNTA(H$4:H378))))","v":""},{"$nulls":3},"anchors and \"HAS-E-R M16 x 125/20\" rods, ",{"$nulls":6},64]
[{"$f":"IF(ISBLANK(H379),\"\",($E$3&\".\"&+(COUNTA(H$4:H379))))","v":"4.51"},{"$nulls":3},"installed complete",null,null,"No",1,null,null,65]
[{"$f":"IF(ISBLANK(H380),\"\",($E$3&\".\"&+(COUNTA(H$4:H380))))","v":""},{"$nulls":10},66,null,{"$f":"IF(ISBLANK($I357),\"\",$K357/$K$463)","v":""}]
[{"$nulls":11},70,null,{"$f":"IF(ISBLANK($I361),\"\",$K361/$K$463)","v":""}]
[{"$f":"IF(ISBLANK(H382),\"\",($E$3&\".\"&+(COUNTA(H$4:H382))))","v":""},{"$nulls":10},71,null,{"$f":"IF(ISBLANK($I362),\"\",$K362/$K$463)","v":""}]
[{"$f":"IF(ISBLANK(H383),\"\",($E$3&\".\"&+(COUNTA(H$4:H383))))","v":""},{"$nulls":10},72,null,"Handrail"]
[{"$f":"IF(ISBLANK(H384),\"\",($E$3&\".\"&+(COUNTA(H$4:H384))))","v":""},{"$nulls":9},{"$f":"IF(I384<>0,I384*J384,\"\")","v":""},73,null,"L",{"$f":"9.6*2","v":19.2}]
[{"$f":"IF(ISBLANK(H385),\"\",($E$3&\".\"&+(COUNTA(H$4:H385))))","v":""},{"$nulls":9},{"$f":"IF(I385<>0,I385*J385,\"\")","v":""},74,null,"B",{"$f":"5.7*2","v":11.4}]
[{"$nulls":9},"Carried Forward","",75,null,{"$f":"IF(ISBLANK($I366),\"\",$K366/$K$463)","v":""},{"$f":"SUM(O384:O385)","v":30.6}]
[{"$nulls":9},"Brought Forward","",76,null,{"$f":"IF(ISBLANK($I367),\"\",$K367/$K$463)","v":""}]
[{"$f":"IF(ISBLANK(H388),\"\",($E$3&\".\"&+(COUNTA(H$4:H388))))","v":""},{"$nulls":9},{"$f":"IF(I388<>0,I388*J388,\"\")","v":""},77]
[{"$f":"IF(ISBLANK(H389),\"\",($E$3&\".\"&+(COUNTA(H$4:H389))))","v":""},"8.3.8",".3","Stainless steel internal vertical access ladder",{"$nulls":6},"",78]
[{"$f":"IF(ISBLANK(H390),\"\",($E$3&\".\"&+(COUNTA(H$4:H390))))","v":""},null,null,"(cat ladder) inside Break Pressure Tank (BPT), ",{"$nulls":6},{"$f":"IF(I390<>0,I390*J390,\"\")","v":""},79,null,{"$f":"IF(ISBLANK($I370),\"\",$K370/$K$463)","v":""}]
[{"$f":"IF(ISBLANK(H391),\"\",($E$3&\".\"&+(COUNTA(H$4:H391))))","v":""},null,null,"manufactured from Grade 304 (minimum) stainless steel, ",{"$nulls":6},"",80,null,""]
[{"$f":"IF(ISBLANK(H392),\"\",($E$3&\".\"&+(COUNTA(H$4:H392))))","v":""},null,null,"including brackets and fixings, installed complete as per",{"$nulls":6},{"$f":"IF(I392<>0,I392*J392,\"\")","v":""},null,null,""]
[{"$f":"IF(ISBLANK(H393),\"\",($E$3&\".\"&+(COUNTA(H$4:H393))))","v":""},null,null,"DWG 3890.00.00.SQA.14.D001",{"$nulls":6},"",1,null,""]
[{"$f":"IF(ISBLANK(H394),\"\",($E$3&\".\"&+(COUNTA(H$4:H394))))","v":""},{"$nulls":9},"",2,null,""]
[{"$f":"IF(ISBLANK(H395),\"\",($E$3&\".\"&+(COUNTA(H$4:H395))))","v":""},null,null,"(a)","Camber 1, 2 and 3 Internal access ladder with ",{"$nulls":6},3,null,"",{"$nulls":4},"8550mm high external access ladder with "]
[{"$f":"IF(ISBLANK(H396),\"\",($E$3&\".\"&+(COUNTA(H$4:H396))))","v":""},{"$nulls":3},"safety cage and bolted to reservoir walls",{"$nulls":6},4,null,"",{"$nulls":4},"safety cage and bolted to reservoir walls"]
[{"$f":"IF(ISBLANK(H397),\"\",($E$3&\".\"&+(COUNTA(H$4:H397))))","v":""},{"$nulls":3},"with M16 \"Hilti HVU  M16 x 125\" adhesive ",{"$nulls":6},5,null,"",{"$nulls":4},"with M16 \"Hilti HVU  M16 x 125\" adhesive "]
[{"$f":"IF(ISBLANK(H398),\"\",($E$3&\".\"&+(COUNTA(H$4:H398))))","v":""},{"$nulls":3},"anchors and \"HAS-E-R M16 x 125/20\" rods, ",{"$nulls":6},6,null,"",{"$nulls":4},"anchors and \"HAS-E-R M16 x 125/20\" rods, "]
[{"$f":"IF(ISBLANK(H399),\"\",($E$3&\".\"&+(COUNTA(H$4:H399))))","v":"4.52"},{"$nulls":3},"installed complete",null,null,"No",3,null,null,7,null,"External Ladder",null,{"$f":"6.41+0.3+1.84","v":8.55},"m",null,"installed complete"]
[{"$f":"IF(ISBLANK(H400),\"\",($E$3&\".\"&+(COUNTA(H$4:H400))))","v":""},{"$nulls":10},8]
[{"$f":"IF(ISBLANK(H401),\"\",($E$3&\".\"&+(COUNTA(H$4:H401))))","v":""},null,null,"(b)","Valve Chamber internal access ladder with ",{"$nulls":6},9]
[{"$f":"IF(ISBLANK(H402),\"\",($E$3&\".\"&+(COUNTA(H$4:H402))))","v":""},{"$nulls":3},"safety cage and bolted to reservoir walls",{"$nulls":6},10]
[{"$f":"IF(ISBLANK(H403),\"\",($E$3&\".\"&+(COUNTA(H$4:H403))))","v":""},{"$nulls":3},"with M16 \"Hilti HVU  M16 x 125\" adhesive ",{"$nulls":6},11,null,{"$f":"IF(ISBLANK($I384),\"\",$K384/$K$463)","v":""}]
[{"$f":"IF(ISBLANK(H404),\"\",($E$3&\".\"&+(COUNTA(H$4:H404))))","v":""},{"$nulls":3},"anchors and \"HAS-E-R M16 x 125/20\" rods, ",{"$nulls":6},12,null,""]
[{"$f":"IF(ISBLANK(H405),\"\",($E$3&\".\"&+(COUNTA(H$4:H405))))","v":"4.53"},{"$nulls":3},"installed complete",null,null,"No",1,null,null,13,null,""]
[{"$f":"IF(ISBLANK(H406),\"\",($E$3&\".\"&+(COUNTA(H$4:H406))))","v":""},{"$nulls":10},14,null,""]
[{"$f":"IF(ISBLANK(H407),\"\",($E$3&\".\"&+(COUNTA(H$4:H407))))","v":""},null,null,"(c)","Extra over item above for external access ",{"$nulls":6},15,null,""]
[{"$f":"IF(ISBLANK(H408),\"\",($E$3&\".\"&+(COUNTA(H$4:H408))))","v":""},{"$nulls":3},"ladder locking device installed complete as per",{"$nulls":6},16,null,""]
[{"$f":"IF(ISBLANK(H409),\"\",($E$3&\".\"&+(COUNTA(H$4:H409))))","v":"4.54"},{"$nulls":3},"DWG 3890.00.00.SQA.14.D001",null,null,"No",1,null,null,17,null,""]
[{"$f":"IF(ISBLANK(H410),\"\",($E$3&\".\"&+(COUNTA(H$4:H410))))","v":""},{"$nulls":10},18,null,""]
[{"$f":"IF(ISBLANK(H411),\"\",($E$3&\".\"&+(COUNTA(H$4:H411))))","v":""},null,"ACCESS COVERS",{"$nulls":7},{"$f":"IF(I411<>0,I411*J411,\"\")","v":""},19,null,""]
[{"$f":"IF(ISBLANK(H412),\"\",($E$3&\".\"&+(COUNTA(H$4:H412))))","v":""},{"$nulls":9},"",20,null,""]
[{"$f":"IF(ISBLANK(H413),\"\",($E$3&\".\"&+(COUNTA(H$4:H413))))","v":""},null,".4","Stainless steel access cover, support frame and ",{"$nulls":6},"",21,null,""]
[{"$f":"IF(ISBLANK(H414),\"\",($E$3&\".\"&+(COUNTA(H$4:H414))))","v":""},null,null,"locking device, hinges, etc. installed complete as per",{"$nulls":6},"",22,null,""]
[{"$f":"IF(ISBLANK(H415),\"\",($E$3&\".\"&+(COUNTA(H$4:H415))))","v":""},null,null,"DWG 3890.00.00.SQA.14.D001",{"$nulls":6},"",23,null,""]
[{"$f":"IF(ISBLANK(H416),\"\",($E$3&\".\"&+(COUNTA(H$4:H416))))","v":""},{"$nulls":9},"",24,null,""]
[{"$f":"IF(ISBLANK(H417),\"\",($E$3&\".\"&+(COUNTA(H$4:H417))))","v":""},null,null,"(a)","1200 x 2400mm Roof manhole cover, support ",{"$nulls":5},"",25,null,""]
[{"$f":"IF(ISBLANK(H418),\"\",($E$3&\".\"&+(COUNTA(H$4:H418))))","v":""},{"$nulls":3},"frame, locking device, hinges, etc. installed ",{"$nulls":5},"",26,null,"Internal Ladder",null,{"$f":"9-0.5-0.3-0.3-0.6","v":7.3},"m"]
[{"$f":"IF(ISBLANK(H419),\"\",($E$3&\".\"&+(COUNTA(H$4:H419))))","v":"4.55"},{"$nulls":3},"complete",null,null,"No",2,null,null,27,null,{"$f":"IF(ISBLANK($I400),\"\",$K400/$K$463)","v":""}]
[{"$f":"IF(ISBLANK(H420),\"\",($E$3&\".\"&+(COUNTA(H$4:H420))))","v":""},{"$nulls":10},28,null,{"$f":"IF(ISBLANK($I401),\"\",$K401/$K$463)","v":""}]
[{"$f":"IF(ISBLANK(H421),\"\",($E$3&\".\"&+(COUNTA(H$4:H421))))","v":""},null,null,"(b)","900mm x 600mm STANDARD",{"$nulls":6},29,null,{"$f":"IF(ISBLANK($I402),\"\",$K402/$K$463)","v":""}]
[{"$f":"IF(ISBLANK(H422),\"\",($E$3&\".\"&+(COUNTA(H$4:H422))))","v":""},{"$nulls":3},"SMARTLOCK NON-METALLIC",{"$nulls":6},30,null,{"$f":"IF(ISBLANK($I403),\"\",$K403/$K$463)","v":""}]
[{"$f":"IF(ISBLANK(H423),\"\",($E$3&\".\"&+(COUNTA(H$4:H423))))","v":"4.56"},{"$nulls":3},"ACCESS LID",null,null,"No",4,null,null,31,null,{"$f":"IF(ISBLANK($I404),\"\",$K404/$K$463)","v":""}]
[{"$f":"IF(ISBLANK(H424),\"\",($E$3&\".\"&+(COUNTA(H$4:H424))))","v":""},{"$nulls":10},32,null,"Internal Ladder",null,{"$f":"9-0.5-0.3-0.3-0.6-1.84-0.7","v":4.76},"m"]
[{"$f":"IF(ISBLANK(H425),\"\",($E$3&\".\"&+(COUNTA(H$4:H425))))","v":""},{"$nulls":10},33,null,{"$f":"IF(ISBLANK($I406),\"\",$K406/$K$463)","v":""}]
[{"$f":"IF(ISBLANK(H426),\"\",($E$3&\".\"&+(COUNTA(H$4:H426))))","v":""},"SANS","VALVES AND APPURTENANCES (BPT)",{"$nulls":8},34,null,{"$f":"IF(ISBLANK(#REF!),\"\",#REF!/$K$463)","v":{"$error":"#REF!"}}]
[{"$f":"IF(ISBLANK(H427),\"\",($E$3&\".\"&+(COUNTA(H$4:H427))))","v":""},"1200 L",{"$nulls":9},35,null,{"$f":"IF(ISBLANK(#REF!),\"\",#REF!/$K$463)","v":{"$error":"#REF!"}}]
[{"$f":"IF(ISBLANK(H428),\"\",($E$3&\".\"&+(COUNTA(H$4:H428))))","v":""},{"$nulls":10},36,null,{"$f":"IF(ISBLANK($I407),\"\",$K407/$K$463)","v":""}]
[{"$f":"IF(ISBLANK(H429),\"\",($E$3&\".\"&+(COUNTA(H$4:H429))))","v":""},{"$nulls":10},37,null,{"$f":"IF(ISBLANK($I408),\"\",$K408/$K$463)","v":""}]
[{"$f":"IF(ISBLANK(H430),\"\",($E$3&\".\"&+(COUNTA(H$4:H430))))","v":""},null,"Supply, install and commission gate valve complete with",{"$nulls":8},38,null,{"$f":"IF(ISBLANK($I409),\"\",$K409/$K$463)","v":{"$error":"#DIV/0!"}}]
[{"$f":"IF(ISBLANK(H431),\"\",($E$3&\".\"&+(COUNTA(H$4:H431))))","v":""},null,"all flanges, bolts, nuts, gaskets,  fixings and extended spindle and penstock",{"$nulls":8},39,null,{"$f":"IF(ISBLANK($I410),\"\",$K410/$K$463)","v":""}]
[{"$f":"IF(ISBLANK(H432),\"\",($E$3&\".\"&+(COUNTA(H$4:H432))))","v":""},{"$nulls":10},40,null,{"$f":"IF(ISBLANK(#REF!),\"\",#REF!/$K$463)","v":{"$error":"#REF!"}}]
[{"$f":"IF(ISBLANK(H433),\"\",($E$3&\".\"&+(COUNTA(H$4:H433))))","v":""},null,".1","NB300 gate valve (Class 10) located in 3rd compartment",{"$nulls":7},41,null,{"$f":"IF(ISBLANK($I411),\"\",$K411/$K$463)","v":""}]
[{"$f":"IF(ISBLANK(H434),\"\",($E$3&\".\"&+(COUNTA(H$4:H434))))","v":"4.57"},null,null,"of Break Pressure Tank for drainage to overflow system",{"$nulls":3},"no",1,null,null,42,null,""]
[{"$f":"IF(ISBLANK(H435),\"\",($E$3&\".\"&+(COUNTA(H$4:H435))))","v":""},{"$nulls":10},43,null,""]
[{"$f":"IF(ISBLANK(H436),\"\",($E$3&\".\"&+(COUNTA(H$4:H436))))","v":""},null,"NOTE:",null,"Valve shall be installed within BPT chamber and ",{"$nulls":6},44,null,""]
[{"$f":"IF(ISBLANK(H437),\"\",($E$3&\".\"&+(COUNTA(H$4:H437))))","v":""},{"$nulls":3},"include all necessary supports, connections to ",{"$nulls":6},45,null,""]
[{"$f":"IF(ISBLANK(H438),\"\",($E$3&\".\"&+(COUNTA(H$4:H438))))","v":""},{"$nulls":3},"pipework and sealing arrangements.",{"$nulls":6},46,null,""]
[{"$f":"IF(ISBLANK(H439),\"\",($E$3&\".\"&+(COUNTA(H$4:H439))))","v":""},{"$nulls":10},47,null,""]
[{"$f":"IF(ISBLANK(H440),\"\",($E$3&\".\"&+(COUNTA(H$4:H440))))","v":""},{"$nulls":10},48,null,""]
[{"$f":"IF(ISBLANK(H441),\"\",($E$3&\".\"&+(COUNTA(H$4:H441))))","v":""},{"$nulls":10},49,null,{"$error":"#DIV/0!"}]
[{"$f":"IF(ISBLANK(H442),\"\",($E$3&\".\"&+(COUNTA(H$4:H442))))","v":""},{"$nulls":10},50,null,""]
[{"$f":"IF(ISBLANK(H443),\"\",($E$3&\".\"&+(COUNTA(H$4:H443))))","v":""},{"$nulls":10},51]
[{"$f":"IF(ISBLANK(H444),\"\",($E$3&\".\"&+(COUNTA(H$4:H444))))","v":""},{"$nulls":10},52]
[{"$f":"IF(ISBLANK(H445),\"\",($E$3&\".\"&+(COUNTA(H$4:H445))))","v":""},{"$nulls":10},53]
[{"$f":"IF(ISBLANK(H446),\"\",($E$3&\".\"&+(COUNTA(H$4:H446))))","v":""},{"$nulls":10},54,null,{"$f":"IF(ISBLANK($I424),\"\",$K424/$K$463)","v":""}]
[{"$f":"IF(ISBLANK(H447),\"\",($E$3&\".\"&+(COUNTA(H$4:H447))))","v":""},{"$nulls":10},55,null,{"$f":"IF(ISBLANK($I425),\"\",$K425/$K$463)","v":""}]
[{"$f":"IF(ISBLANK(H448),\"\",($E$3&\".\"&+(COUNTA(H$4:H448))))","v":""},{"$nulls":9},{"$f":"IF(I448<>0,I448*J448,\"\")","v":""},56,null,{"$f":"IF(ISBLANK($I426),\"\",$K426/$K$463)","v":""}]
[{"$nulls":11},57,null,{"$f":"IF(ISBLANK($I427),\"\",$K427/$K$463)","v":""}]
[{"$nulls":11},58]
[{"$nulls":11},59]
[{"$nulls":11},60]
[{"$nulls":11},61]
[{"$nulls":11},62]
[{"$nulls":11},63]
[{"$nulls":11},64]
[{"$f":"IF(ISBLANK(H457),\"\",($E$3&\".\"&+(COUNTA(H$4:H457))))","v":""},{"$nulls":9},"",65]
[{"$f":"IF(ISBLANK(H458),\"\",($E$3&\".\"&+(COUNTA(H$4:H458))))","v":""},{"$nulls":9},"",66]
[{"$f":"IF(ISBLANK(H459),\"\",($E$3&\".\"&+(COUNTA(H$4:H459))))","v":""},{"$nulls":9},{"$f":"IF(I459<>0,I459*J459,\"\")","v":""},70]
[{"$f":"IF(ISBLANK(H460),\"\",($E$3&\".\"&+(COUNTA(H$4:H460))))","v":""},null,{"$f":"C3","v":"Schedule No:"},{"$nulls":7},"",71]
[{"$f":"IF(ISBLANK(H461),\"\",($E$3&\".\"&+(COUNTA(H$4:H461))))","v":""},null,{"$f":"C4","v":"NEW BREAK PRESSURE TANK (BPT) AND ADJOINING VALVE CHAMBER"},{"$nulls":7},"",72]
[{"$f":"IF(ISBLANK(H462),\"\",($E$3&\".\"&+(COUNTA(H$4:H462))))","v":""},{"$nulls":9},{"$f":"IF(I462<>0,I462*J462,\"\")","v":""},73]
[null,null,"Carried forward to Summary of Bills",{"$nulls":6},"Total",null,74]
[{"$nulls":11},75]
[{"$nulls":11},76]
[{"$nulls":11},77]
[{"$nulls":11},78]
[{"$nulls":11},79,null,{"$f":"IF(ISBLANK($I448),\"\",$K448/$K$463)","v":""}]
[{"$nulls":11},80,null,{"$f":"IF(ISBLANK($I457),\"\",$K457/$K$463)","v":""}]
[{"$nulls":13},{"$f":"IF(ISBLANK($I458),\"\",$K458/$K$463)","v":""}]
[{"$nulls":13},{"$f":"IF(ISBLANK(#REF!),\"\",#REF!/$K$463)","v":{"$error":"#REF!"}}]
[{"$nulls":13},{"$f":"IF(ISBLANK(#REF!),\"\",#REF!/$K$463)","v":{"$error":"#REF!"}}]
[{"$nulls":13},{"$f":"IF(ISBLANK(#REF!),\"\",#REF!/$K$463)","v":{"$error":"#REF!"}}]
[{"$nulls":13},{"$f":"IF(ISBLANK($I459),\"\",$K459/$K$463)","v":""}]
[{"$nulls":13},{"$f":"IF(ISBLANK($I460),\"\",$K460/$K$463)","v":""}]
[{"$nulls":13},{"$f":"IF(ISBLANK($I461),\"\",$K461/$K$463)","v":""}]
[{"$nulls":13},{"$f":"IF(ISBLANK($I462),\"\",$K462/$K$463)","v":""}]
[{"$nulls":13},{"$f":"IF(ISBLANK($I463),\"\",$K463/$K$463)","v":""}]
[]
[]
[]
[{"$nulls":15},"Average reinf. kg/m3"]
[{"$nulls":11},"Reinforced Concrete:","m3","=",{"$f":"SUM(I197:I215)","v":212.91758999999973},{"$f":"O483/O487","v":{"$error":"#REF!"}}]
[]
[{"$nulls":11},"Rebar","ton","=",{"$f":"SUM(I178:I182)","v":{"v":32,"d":"32.0"}}]
[{"$nulls":11},"Welded mesh","ton","=",{"$f":"(#REF!*2.45)/1000","v":{"$error":"#REF!"}},"(2.45 kg/m2)"]
[{"$nulls":11},"Total Reinforcement","ton","=",{"$f":"SUM(O485:O486)","v":{"$error":"#REF!"}}]

{"sheet":"5. Valve Chambers","index":4,"n_rows":244,"n_cols":22,"rows_kept":244,"merged":[[0,0,1,0],[0,2,1,6],[0,7,1,7],[0,8,1,8],[0,9,1,9],[0,10,1,10],[5,2,5,6],[10,2,10,6],[21,2,21,6],[33,2,33,6],[50,2,50,6],[64,2,64,6],[79,2,79,6],[95,2,95,6],[101,2,101,6],[113,2,113,6],[134,2,134,6],[146,2,146,6],[158,2,158,6],[159,2,159,3],[159,4,159,5],[161,2,161,3],[161,4,161,5],[162,3,162,6],[163,3,163,6],[164,3,164,6],[165,3,165,4],[165,5,165,6],[166,3,166,6],[171,2,171,6],[173,3,173,6],[174,3,174,6],[175,3,175,6],[176,4,176,6],[178,2,178,6],[186,2,186,6]]}
["Item","Pay","Description",{"$nulls":4},"Unit","Qty","Rate","Amount"]
[null,"Ref.",{"$nulls":11},"GRP Connection Floor",null,null,"GRP Connection roof",null,null,"GRP Connection walls"]
[null,null,"Schedule",null,5,{"$nulls":5},{"$f":"IF(I3<>0,I3*J3,\"\")","v":""},1,null,"L",4.45,null,"L",3.95,null,"L1",{"$f":"3.95+0.35+0.35","v":4.6499999999999995},"x2"]
[null,null,"VALVE / PIPE CHAMBERS",{"$nulls":7},"",2,null,"B",5.1,null,"B",4,null,"L2",{"$f":"4","v":4},"x2"]
[{"$nulls":10},"",3,null,"H",0.3,null,"H",0.35,null,"t",0.35]
[null,null,"Cross‑Connection Chamber (US) and Hydropower Connection Chamber (DS)",{"$nulls":7},{"$f":"IF(I6<>0,I6*J6,\"\")","v":""},4,null,"Volume",{"$f":"O3*O4*O5","v":{"v":6.8084999999999996,"d":"6.81"}},null,"Volume",{"$f":"R3*R4*R5","v":5.53},null,"H",{"$f":"1.2+0.45+0.7+0.7","v":3.05},"minimum"]
[{"$nulls":10},"",5,{"$nulls":7},"Volume",{"$f":"(U3*U5*U6)*2+(U4*U5*U6)*2","v":{"v":18.467749999999995,"d":"18.47"}}]
[{"$f":"IF(ISBLANK(H8),\"\",($E$8&\".\"&+(COUNTA(H$8:H8))))","v":""},"SANS",{"$nulls":9},6]
[{"$f":"IF(ISBLANK(H9),\"\",($E$8&\".\"&+(COUNTA(H$8:H9))))","v":""},"1200 D","EARTHWORKS ",{"$nulls":8},7,null,"Hydropower Chamber Floor",null,null,"Hydropower Chamber Roof",null,null,"Hydropower Chamber walls"]
[{"$f":"IF(ISBLANK(H10),\"\",($E$8&\".\"&+(COUNTA(H$8:H10))))","v":""},{"$nulls":10},8,null,"L",4,null,"L",3.95,null,"L1",{"$f":"3.95+0.35+0.35","v":4.6499999999999995},"x2"]
[{"$f":"IF(ISBLANK(H11),\"\",($E$8&\".\"&+(COUNTA(H$8:H11))))","v":""},null,"RESTRICTED EARTHWORKS",{"$nulls":8},9,null,"B",4.1,null,"B",2.9,null,"L2",{"$f":"4","v":4},"x2"]
[{"$f":"IF(ISBLANK(H12),\"\",($E$8&\".\"&+(COUNTA(H$8:H12))))","v":""},{"$nulls":10},10,null,"H",0.3,null,"H",0.35,null,"t",0.35]
[{"$f":"IF(ISBLANK(H13),\"\",($E$8&\".\"&+(COUNTA(H$8:H13))))","v":""},"8.3.3",".1","Restricted excavation in all materials and place ",{"$nulls":7},11,null,"Volume",{"$f":"O10*O11*O12","v":{"v":4.919999999999999,"d":"4.92"}},null,"Volume",{"$f":"R10*R11*R12","v":4.00925},null,"H",1.5,"minimum"]
[{"$f":"IF(ISBLANK(H14),\"\",($E$8&\".\"&+(COUNTA(H$8:H14))))","v":""},null,null,"material on site",{"$nulls":7},12,{"$nulls":7},"Volume",{"$f":"(U10*U12*U13)*2+(U11*U12*U13)*2","v":{"v":9.0825,"d":"9.08"}}]
[{"$nulls":11},13]
[{"$f":"IF(ISBLANK(H16),\"\",($E$3&\".\"&+(COUNTA(H$8:H16))))","v":"5.1"},null,null,"(a)","Excavation for cross‑connection valve",null,null,"m³",{"$f":"ROUNDUP(O17,0)","v":88},null,null,14]
[{"$f":"IF(ISBLANK(H17),\"\",($E$3&\".\"&+(COUNTA(H$8:H17))))","v":""},{"$nulls":3},"chamber ",{"$nulls":6},15,null,"GRP",{"$f":"($O$3+0.6)*($O$4+0.6)*$U$6","v":87.79424999999999},"m³"]
[{"$f":"IF(ISBLANK(H18),\"\",($E$3&\".\"&+(COUNTA(H$8:H18))))","v":""},{"$nulls":10},16]
[{"$f":"IF(ISBLANK(H19),\"\",($E$3&\".\"&+(COUNTA(H$8:H19))))","v":"5.2"},null,null,"(b)","Excavation for valve chamber downstream of    ",null,null,"m³",{"$f":"ROUNDUP(O20,0)","v":33},null,null,17]
[{"$f":"IF(ISBLANK(H20),\"\",($E$3&\".\"&+(COUNTA(H$8:H20))))","v":""},{"$nulls":3},"hydropower connection",{"$nulls":6},18,null,"Hydro",{"$f":"($O$10+0.6)*($O$11+0.6)*$U$13","v":32.42999999999999},"m³"]
[{"$f":"IF(ISBLANK(H21),\"\",($E$3&\".\"&+(COUNTA(H$8:H21))))","v":""},{"$nulls":10},19]
[{"$f":"IF(ISBLANK(H22),\"\",($E$3&\".\"&+(COUNTA(H$8:H22))))","v":""},null,"WORKING SPACE",{"$nulls":8},20]
[{"$f":"IF(ISBLANK(H23),\"\",($E$3&\".\"&+(COUNTA(H$8:H23))))","v":""},{"$nulls":9},{"$f":"IF(I22<>0,I22*J22,\"\")","v":""},21]
[{"$f":"IF(ISBLANK(H24),\"\",($E$3&\".\"&+(COUNTA(H$8:H24))))","v":""},"8.3.5",".1","Extra excavation and backfilling in all materials to ",{"$nulls":6},{"$f":"IF(I23<>0,I23*J23,\"\")","v":""},22]
[{"$f":"IF(ISBLANK(H25),\"\",($E$3&\".\"&+(COUNTA(H$8:H25))))","v":""},null,null,"provide working space around structures",{"$nulls":6},{"$f":"IF(I24<>0,I24*J24,\"\")","v":""},23]
[{"$f":"IF(ISBLANK(H26),\"\",($E$3&\".\"&+(COUNTA(H$8:H26))))","v":""},{"$nulls":9},"",24]
[{"$f":"IF(ISBLANK(H27),\"\",($E$3&\".\"&+(COUNTA(H$8:H27))))","v":""},null,null,"(a)","Excavate for working space (previously excavated",{"$nulls":5},"",25]
[{"$f":"IF(ISBLANK(H28),\"\",($E$3&\".\"&+(COUNTA(H$8:H28))))","v":""},{"$nulls":3},"face +- 300mm away from perimeter of structure) ",{"$nulls":5},"",26]
[{"$f":"IF(ISBLANK(H29),\"\",($E$3&\".\"&+(COUNTA(H$8:H29))))","v":""},{"$nulls":3},"for the placing and removal of external formwork",{"$nulls":5},"",27]
[{"$f":"IF(ISBLANK(H30),\"\",($E$3&\".\"&+(COUNTA(H$8:H30))))","v":""},{"$nulls":3},"to foundation footings & walls. Average depth of ",{"$nulls":5},"",28]
[{"$f":"IF(ISBLANK(H31),\"\",($E$3&\".\"&+(COUNTA(H$8:H31))))","v":""},{"$nulls":3},"excavation 3m deep, including backfilling and ",{"$nulls":6},29]
[{"$f":"IF(ISBLANK(H32),\"\",($E$3&\".\"&+(COUNTA(H$8:H32))))","v":"5.3"},{"$nulls":3},"compaction to 90% mod AASHTO density",null,null,"m²",{"$f":"ROUNDUP($O$35,0)","v":9},null,null,30]
[{"$f":"IF(ISBLANK(H33),\"\",($E$3&\".\"&+(COUNTA(H$8:H33))))","v":""},{"$nulls":10},31,null,"GRP",{"$f":"O3*1","v":4.45},"m²"]
[{"$f":"IF(ISBLANK(H34),\"\",($E$3&\".\"&+(COUNTA(H$8:H34))))","v":""},"SANS","SHORING OF EXCAVATIONS",{"$nulls":8},32,null,"Hydro",{"$f":"O10*1","v":4},"m²"]
[{"$f":"IF(ISBLANK(H35),\"\",($E$3&\".\"&+(COUNTA(H$8:H35))))","v":""},"1200 DB",{"$nulls":9},33,null,"TOTAL",{"$f":"SUM(O33:O34)","v":8.45}]
[{"$f":"IF(ISBLANK(H36),\"\",($E$3&\".\"&+(COUNTA(H$8:H36))))","v":""},null,"Temporary support to sides of excavations",{"$nulls":8},34]
[{"$f":"IF(ISBLANK(H37),\"\",($E$3&\".\"&+(COUNTA(H$8:H37))))","v":""},{"$nulls":10},35]
[{"$f":"IF(ISBLANK(H38),\"\",($E$3&\".\"&+(COUNTA(H$8:H38))))","v":""},null,".1","Shore sides of excavation for structures",{"$nulls":7},36]
[{"$f":"IF(ISBLANK(H39),\"\",($E$3&\".\"&+(COUNTA(H$8:H39))))","v":""},{"$nulls":10},37]
[{"$f":"IF(ISBLANK(H40),\"\",($E$3&\".\"&+(COUNTA(H$8:H40))))","v":"5.4"},null,null,"(a)","Cross-connection valve chamber excavation",null,null,"m²",{"$f":"ROUNDUP($O$3*$U$6,0)","v":14},null,null,38]
[{"$f":"IF(ISBLANK(H41),\"\",($E$3&\".\"&+(COUNTA(H$8:H41))))","v":""},{"$nulls":10},39]
[{"$f":"IF(ISBLANK(H42),\"\",($E$3&\".\"&+(COUNTA(H$8:H42))))","v":""},null,"NOTE:",null,"Measurement for support to sides of excavations",{"$nulls":6},40]
[{"$f":"IF(ISBLANK(H43),\"\",($E$3&\".\"&+(COUNTA(H$8:H43))))","v":""},{"$nulls":3},"for structures shall be based on the exposed area",{"$nulls":6},41]
[{"$f":"IF(ISBLANK(H44),\"\",($E$3&\".\"&+(COUNTA(H$8:H44))))","v":""},{"$nulls":3},"of excavation faces requiring support.",{"$nulls":5},"",42]
[{"$f":"IF(ISBLANK(H45),\"\",($E$3&\".\"&+(COUNTA(H$8:H45))))","v":""},{"$nulls":9},"",43]
[{"$f":"IF(ISBLANK(H46),\"\",($E$3&\".\"&+(COUNTA(H$8:H46))))","v":""},{"$nulls":3},"The Contractor shall be deemed to have ",{"$nulls":5},"",44]
[{"$f":"IF(ISBLANK(H47),\"\",($E$3&\".\"&+(COUNTA(H$8:H47))))","v":""},{"$nulls":3},"allowed for all necessary temporary works and ",{"$nulls":5},"",45]
[{"$f":"IF(ISBLANK(H48),\"\",($E$3&\".\"&+(COUNTA(H$8:H48))))","v":""},{"$nulls":3},"shoring required to ensure excavation ",{"$nulls":5},"",46]
[{"$f":"IF(ISBLANK(H49),\"\",($E$3&\".\"&+(COUNTA(H$8:H49))))","v":""},{"$nulls":3},"stability, including in embankment conditions.",{"$nulls":6},47]
[{"$f":"IF(ISBLANK(H50),\"\",($E$3&\".\"&+(COUNTA(H$8:H50))))","v":""},{"$nulls":10},48]
[{"$f":"IF(ISBLANK(H51),\"\",($E$3&\".\"&+(COUNTA(H$8:H51))))","v":""},null,"BACKFILLING RESTRICTED EXCAVATIONS",{"$nulls":7},"",49]
[{"$f":"IF(ISBLANK(H52),\"\",($E$3&\".\"&+(COUNTA(H$8:H52))))","v":""},{"$nulls":9},"",50]
[{"$f":"IF(ISBLANK(H53),\"\",($E$3&\".\"&+(COUNTA(H$8:H53))))","v":""},"8.3.9","Extra over reference  8.3.2 (a) and 8.3.3 (a) for backfill ",{"$nulls":7},"",51]
[{"$f":"IF(ISBLANK(H54),\"\",($E$3&\".\"&+(COUNTA(H$8:H54))))","v":""},null,"or for fill material against structures",{"$nulls":7},"",52]
[{"$f":"IF(ISBLANK(H55),\"\",($E$3&\".\"&+(COUNTA(H$8:H55))))","v":""},{"$nulls":9},"",53]
[{"$f":"IF(ISBLANK(H56),\"\",($E$3&\".\"&+(COUNTA(H$8:H56))))","v":""},null,".1","Selected material compacted to 93% mod",{"$nulls":6},"",54]
[{"$f":"IF(ISBLANK(H57),\"\",($E$3&\".\"&+(COUNTA(H$8:H57))))","v":""},null,null,"AASHTO density",{"$nulls":6},"",55]
[{"$f":"IF(ISBLANK(H58),\"\",($E$3&\".\"&+(COUNTA(H$8:H58))))","v":""},{"$nulls":9},"",56]
[{"$f":"IF(ISBLANK(H59),\"\",($E$3&\".\"&+(COUNTA(H$8:H59))))","v":""},null,null,"(a)","Alongside outer valve chamber walls",{"$nulls":6},57]
[{"$f":"IF(ISBLANK(H60),\"\",($E$3&\".\"&+(COUNTA(H$8:H60))))","v":"5.5"},{"$nulls":3},"in foundations ",null,null,"m³",{"$f":"ROUNDUP($U$6*((2*U3)+(2*U4))*0.5,0)","v":27},null,null,58]
[{"$f":"IF(ISBLANK(H61),\"\",($E$3&\".\"&+(COUNTA(H$8:H61))))","v":""},{"$nulls":10},59]
[{"$f":"IF(ISBLANK(H62),\"\",($E$3&\".\"&+(COUNTA(H$8:H62))))","v":""},"SANS",{"$nulls":9},60]
[{"$f":"IF(ISBLANK(H63),\"\",($E$3&\".\"&+(COUNTA(H$8:H63))))","v":""},"1200 G","CONCRETE (STRUCTURAL)",{"$nulls":8},61]
[{"$f":"IF(ISBLANK(H64),\"\",($E$3&\".\"&+(COUNTA(H$8:H64))))","v":""},{"$nulls":10},62]
[{"$f":"IF(ISBLANK(H65),\"\",($E$3&\".\"&+(COUNTA(H$8:H65))))","v":""},null,"ROUGH FORMWORK",{"$nulls":8},63]
[{"$f":"IF(ISBLANK(H66),\"\",($E$3&\".\"&+(COUNTA(H$8:H66))))","v":""},{"$nulls":10},64]
[{"$f":"IF(ISBLANK(H67),\"\",($E$3&\".\"&+(COUNTA(H$8:H67))))","v":""},"8.2.5",".1","Rough formwork to narrow widths not exceeding",{"$nulls":7},65]
[{"$f":"IF(ISBLANK(H68),\"\",($E$3&\".\"&+(COUNTA(H$8:H68))))","v":""},null,null,"300mm wide",{"$nulls":7},66]
[{"$f":"IF(ISBLANK(H69),\"\",($E$3&\".\"&+(COUNTA(H$8:H69))))","v":""},{"$nulls":10},67]
[{"$f":"IF(ISBLANK(H70),\"\",($E$3&\".\"&+(COUNTA(H$8:H70))))","v":"5.6"},null,null,"(a)","Edges, risers, etc.",null,null,"m",{"v":52,"d":"52.0"},null,null,68]
[{"$nulls":11},69]
[{"$nulls":11},70,null,"Cross Connection Chamber Perimeter",{"$nulls":3},{"$f":"$O$3*2+$O$4*2","v":19.1},"m"]
[{"$nulls":11},71,null,"Area",{"$nulls":3},{"$f":"(U3+U4)*4*U6","v":105.52999999999997},"m²"]
[{"$nulls":11},72]
[{"$nulls":11},73,null,"Hydro Chamber Perimeter",{"$nulls":3},{"$f":"$O$10*2+$O$11*2","v":16.2},"m"]
[{"$nulls":11},74,null,"Area",{"$nulls":3},{"$f":"(U10+U11)*4*U13","v":51.89999999999999},"m²"]
[{"$f":"IF(ISBLANK(H77),\"\",($E$3&\".\"&+(COUNTA(H$8:H77))))","v":""},{"$nulls":10},75]
[{"$nulls":9},"Carried Forward",null,76]
[{"$nulls":9},"Brought Forward",null,77]
[{"$f":"IF(ISBLANK(H80),\"\",($E$3&\".\"&+(COUNTA(H$8:H80))))","v":""},null,"SMOOTH FORMWORK",{"$nulls":7},{"$f":"IF(I79<>0,I79*J79,\"\")","v":""},78]
[{"$f":"IF(ISBLANK(H81),\"\",($E$3&\".\"&+(COUNTA(H$8:H81))))","v":""},{"$nulls":9},{"$f":"IF(I80<>0,I80*J80,\"\")","v":""},79]
[{"$f":"IF(ISBLANK(H82),\"\",($E$3&\".\"&+(COUNTA(H$8:H82))))","v":""},null,"(To include for drip grooves and chamfers on all",{"$nulls":7},{"$f":"IF(I81<>0,I81*J81,\"\")","v":""},80]
[{"$f":"IF(ISBLANK(H83),\"\",($E$3&\".\"&+(COUNTA(H$8:H83))))","v":""},null,"exposed edges as shown)",{"$nulls":7},{"$f":"IF(I82<>0,I82*J82,\"\")","v":""}]
[{"$f":"IF(ISBLANK(H84),\"\",($E$3&\".\"&+(COUNTA(H$8:H84))))","v":""},{"$nulls":9},{"$f":"IF(I83<>0,I83*J83,\"\")","v":""},1]
[{"$f":"IF(ISBLANK(H85),\"\",($E$3&\".\"&+(COUNTA(H$8:H85))))","v":""},"8.2.2",".1","Plane vertical",{"$nulls":7},2]
[{"$f":"IF(ISBLANK(H86),\"\",($E$3&\".\"&+(COUNTA(H$8:H86))))","v":""},{"$nulls":10},3]
[{"$f":"IF(ISBLANK(H87),\"\",($E$3&\".\"&+(COUNTA(H$8:H87))))","v":"5.7"},null,null,"(a)","Chamber walls - Internal & External",null,null,"m²",{"$f":"ROUNDUP($R$73+$R$76*2,0)","v":{"v":210,"d":"210.0"}},null,null,4]
[{"$f":"IF(ISBLANK(H88),\"\",($E$3&\".\"&+(COUNTA(H$8:H88))))","v":""},{"$nulls":10},5]
[{"$f":"IF(ISBLANK(H89),\"\",($E$3&\".\"&+(COUNTA(H$8:H89))))","v":"5.8"},null,null,"(b)","Thrust blocks/plinths inside chamber",null,null,"m²",{"v":1,"d":"1.0"},null,null,6]
[{"$f":"IF(ISBLANK(H90),\"\",($E$3&\".\"&+(COUNTA(H$8:H90))))","v":""},{"$nulls":10},7]
[{"$f":"IF(ISBLANK(H91),\"\",($E$3&\".\"&+(COUNTA(H$8:H91))))","v":""},"8.2.5",".2","Smooth formwork to narrow widths not exceeding",{"$nulls":7},8]
[{"$f":"IF(ISBLANK(H92),\"\",($E$3&\".\"&+(COUNTA(H$8:H92))))","v":""},null,null,"300mm wide",{"$nulls":7},9]
[{"$f":"IF(ISBLANK(H93),\"\",($E$3&\".\"&+(COUNTA(H$8:H93))))","v":""},{"$nulls":10},10]
[{"$f":"IF(ISBLANK(H94),\"\",($E$3&\".\"&+(COUNTA(H$8:H94))))","v":"5.9"},null,null,"(a)","Edges, risers, etc.",null,null,"m",50,null,null,11]
[{"$f":"IF(ISBLANK(H95),\"\",($E$3&\".\"&+(COUNTA(H$8:H95))))","v":""},{"$nulls":10},12]
[{"$f":"IF(ISBLANK(H96),\"\",($E$3&\".\"&+(COUNTA(H$8:H96))))","v":""},null,"BOXING IN FOR HOLES AND VOIDS",{"$nulls":8},13]
[{"$f":"IF(ISBLANK(H97),\"\",($E$3&\".\"&+(COUNTA(H$8:H97))))","v":""},{"$nulls":10},14]
[{"$f":"IF(ISBLANK(H98),\"\",($E$3&\".\"&+(COUNTA(H$8:H98))))","v":""},"8.2.6",".1","Large, circular, of a diameter over 0.35m and up to and including 0,7m",{"$nulls":7},15]
[{"$f":"IF(ISBLANK(H99),\"\",($E$3&\".\"&+(COUNTA(H$8:H99))))","v":""},{"$nulls":10},16]
[{"$f":"IF(ISBLANK(H100),\"\",($E$3&\".\"&+(COUNTA(H$8:H100))))","v":"5.10"},null,null,"(a)","up to 0,5m",null,null,"no",9,null,null,17]
[{"$f":"IF(ISBLANK(H101),\"\",($E$3&\".\"&+(COUNTA(H$8:H101))))","v":""},{"$nulls":10},18]
[{"$f":"IF(ISBLANK(H102),\"\",($E$3&\".\"&+(COUNTA(H$8:H102))))","v":""},null,"REINFORCEMENT",{"$nulls":8},19]
[{"$f":"IF(ISBLANK(H103),\"\",($E$3&\".\"&+(COUNTA(H$8:H103))))","v":""},{"$nulls":9},{"$f":"IF(I102<>0,I102*J102,\"\")","v":""},20]
[{"$f":"IF(ISBLANK(H104),\"\",($E$3&\".\"&+(COUNTA(H$8:H104))))","v":""},null,"Steel bars",{"$nulls":7},"",21]
[{"$f":"IF(ISBLANK(H105),\"\",($E$3&\".\"&+(COUNTA(H$8:H105))))","v":""},{"$nulls":9},"",22]
[{"$f":"IF(ISBLANK(H106),\"\",($E$3&\".\"&+(COUNTA(H$8:H106))))","v":""},"8.3.1",".1","Mild steel",{"$nulls":6},"",23]
[{"$f":"IF(ISBLANK(H107),\"\",($E$3&\".\"&+(COUNTA(H$8:H107))))","v":""},{"$nulls":9},"",24]
[{"$f":"IF(ISBLANK(H108),\"\",($E$3&\".\"&+(COUNTA(H$8:H108))))","v":"5.11"},null,null,"(a)","All sizes",null,null,"ton",1,null,"R/O",25,null,"150 kg/m³",{"$f":"SUM(R6,U7,O6,O13*2,R13*2,U14*2)","v":{"v":66.82974999999999,"d":"66.83"}},"m³"]
[{"$f":"IF(ISBLANK(H109),\"\",($E$3&\".\"&+(COUNTA(H$8:H109))))","v":""},{"$nulls":10},26,null,null,{"$f":"O108*150","v":10024.462499999998},"kg"]
[{"$f":"IF(ISBLANK(H110),\"\",($E$3&\".\"&+(COUNTA(H$8:H110))))","v":""},"8.3.1",".2","High tensile steel",{"$nulls":6},{"$f":"IF(I109<>0,I109*J109,\"\")","v":""},27,null,null,{"$f":"O109/1000","v":10.024462499999998},"ton"]
[{"$f":"IF(ISBLANK(H111),\"\",($E$3&\".\"&+(COUNTA(H$8:H111))))","v":""},{"$nulls":9},{"$f":"IF(I110<>0,I110*J110,\"\")","v":""},28]
[{"$f":"IF(ISBLANK(H112),\"\",($E$3&\".\"&+(COUNTA(H$8:H112))))","v":"5.12"},null,null,"(a)","All sizes",null,null,"ton",{"$f":"ROUNDUP($O$110,0)","v":{"v":11,"d":"11.00"}},null,null,29]
[{"$f":"IF(ISBLANK(H113),\"\",($E$3&\".\"&+(COUNTA(H$8:H113))))","v":""},{"$nulls":10},30]
[{"$f":"IF(ISBLANK(H114),\"\",($E$3&\".\"&+(COUNTA(H$8:H114))))","v":""},null,"CONCRETE",{"$nulls":8},31]
[{"$f":"IF(ISBLANK(H115),\"\",($E$3&\".\"&+(COUNTA(H$8:H115))))","v":""},{"$nulls":10},32]
[{"$f":"IF(ISBLANK(H116),\"\",($E$3&\".\"&+(COUNTA(H$8:H116))))","v":""},"8.4.2",".1","Strength concrete 15Mpa/19mm",{"$nulls":7},33]
[{"$f":"IF(ISBLANK(H117),\"\",($E$3&\".\"&+(COUNTA(H$8:H117))))","v":""},{"$nulls":10},34]
[{"$f":"IF(ISBLANK(H118),\"\",($E$3&\".\"&+(COUNTA(H$8:H118))))","v":"5.13"},null,null,"(a)","Blinding layer 50mm thick",null,null,"m³",{"$f":"ROUNDUP(($O$6/$O$5)*0.05,0)*3","v":{"v":6,"d":"6.00"}},null,null,35]
[{"$f":"IF(ISBLANK(H119),\"\",($E$3&\".\"&+(COUNTA(H$8:H119))))","v":""},{"$nulls":10},36]
[{"$f":"IF(ISBLANK(H120),\"\",($E$3&\".\"&+(COUNTA(H$8:H120))))","v":""},"8.4.3",".2","Strength concrete 25Mpa/19mm",{"$nulls":7},37]
[{"$f":"IF(ISBLANK(H121),\"\",($E$3&\".\"&+(COUNTA(H$8:H121))))","v":""},{"$nulls":10},38]
[{"$f":"IF(ISBLANK(H122),\"\",($E$3&\".\"&+(COUNTA(H$8:H122))))","v":"5.14"},null,null,"(a)","Mass filling as pipe/valve support",null,null,"m³",{"v":0.1,"d":"0.10"},null,null,39]
[{"$f":"IF(ISBLANK(H123),\"\",($E$3&\".\"&+(COUNTA(H$8:H123))))","v":""},{"$nulls":10},40]
[{"$f":"IF(ISBLANK(H124),\"\",($E$3&\".\"&+(COUNTA(H$8:H124))))","v":""},"8.4.3",".3","Strength concrete 40Mpa/19mm",{"$nulls":7},41]
[{"$f":"IF(ISBLANK(H125),\"\",($E$3&\".\"&+(COUNTA(H$8:H125))))","v":""},{"$nulls":10},42]
[{"$f":"IF(ISBLANK(H126),\"\",($E$3&\".\"&+(COUNTA(H$8:H126))))","v":"5.15"},null,null,"(a)","Floor slabs",null,null,"m³",{"$f":"ROUNDUP($O$6+$O$13*2,0)","v":{"v":17,"d":"17.00"}},null,null,43]
[{"$f":"IF(ISBLANK(H127),\"\",($E$3&\".\"&+(COUNTA(H$8:H127))))","v":""},{"$nulls":10},44]
[{"$f":"IF(ISBLANK(H128),\"\",($E$3&\".\"&+(COUNTA(H$8:H128))))","v":"5.16"},null,null,"(b)","Walls",null,null,"m³",{"$f":"ROUNDUP($U$7+$U$14*2,0)","v":{"v":37,"d":"37.00"}},null,null,45]
[{"$f":"IF(ISBLANK(H129),\"\",($E$3&\".\"&+(COUNTA(H$8:H129))))","v":""},{"$nulls":10},46]
[{"$f":"IF(ISBLANK(H130),\"\",($E$3&\".\"&+(COUNTA(H$8:H130))))","v":""},"8.4.3",".4","Strength concrete 25Mpa/13mm",{"$nulls":7},47]
[{"$f":"IF(ISBLANK(H131),\"\",($E$3&\".\"&+(COUNTA(H$8:H131))))","v":""},{"$nulls":10},48]
[{"$f":"IF(ISBLANK(H132),\"\",($E$3&\".\"&+(COUNTA(H$8:H132))))","v":""},null,null,"(a)","Benching to floors including steel floated",{"$nulls":5},{"$f":"IF(I130<>0,I130*J130,\"\")","v":""},49]
[{"$f":"IF(ISBLANK(H133),\"\",($E$3&\".\"&+(COUNTA(H$8:H133))))","v":"5.17"},{"$nulls":3},"surface finish",null,null,"m³",null,null,"R/O",50]
[{"$f":"IF(ISBLANK(H134),\"\",($E$3&\".\"&+(COUNTA(H$8:H134))))","v":""},{"$nulls":9},{"$f":"IF(I132<>0,I132*J132,\"\")","v":""},51]
[{"$f":"IF(ISBLANK(H135),\"\",($E$3&\".\"&+(COUNTA(H$8:H135))))","v":""},null,"SURFACE FINISHES",{"$nulls":7},{"$f":"IF(I156<>0,I156*J156,\"\")","v":""},52]
[{"$f":"IF(ISBLANK(H136),\"\",($E$3&\".\"&+(COUNTA(H$8:H136))))","v":""},{"$nulls":9},{"$f":"IF(I157<>0,I157*J157,\"\")","v":""},53]
[{"$f":"IF(ISBLANK(H137),\"\",($E$3&\".\"&+(COUNTA(H$8:H137))))","v":""},null,"Unformed surface finishes",{"$nulls":7},{"$f":"IF(I135<>0,I135*J135,\"\")","v":""},54]
[{"$f":"IF(ISBLANK(H138),\"\",($E$3&\".\"&+(COUNTA(H$8:H138))))","v":""},{"$nulls":9},"",55]
[{"$f":"IF(ISBLANK(H139),\"\",($E$3&\".\"&+(COUNTA(H$8:H139))))","v":""},"8.4.4",".1","Wood floated finish",{"$nulls":6},{"$f":"IF(I137<>0,I137*J137,\"\")","v":""},56]
[{"$f":"IF(ISBLANK(H140),\"\",($E$3&\".\"&+(COUNTA(H$8:H140))))","v":""},{"$nulls":9},{"$f":"IF(I138<>0,I138*J138,\"\")","v":""},57]
[{"$f":"IF(ISBLANK(H141),\"\",($E$3&\".\"&+(COUNTA(H$8:H141))))","v":"5.18"},null,null,"(a)","Floor",null,null,"m²",{"$f":"ROUNDUP($O$3*$O$4+(O10*O11)*2,0)","v":{"v":56,"d":"56.0"}},null,null,58]
[{"$f":"IF(ISBLANK(H142),\"\",($E$3&\".\"&+(COUNTA(H$8:H142))))","v":""},{"$nulls":10},59]
[{"$f":"IF(ISBLANK(H143),\"\",($E$3&\".\"&+(COUNTA(H$8:H143))))","v":""},"8.4.4",".2","Steel floated finish",{"$nulls":7},60]
[{"$f":"IF(ISBLANK(H144),\"\",($E$3&\".\"&+(COUNTA(H$8:H144))))","v":""},{"$nulls":10},61]
[{"$f":"IF(ISBLANK(H145),\"\",($E$3&\".\"&+(COUNTA(H$8:H145))))","v":"5.19"},null,null,"(a)","Top of walls, beams, plinths, etc",null,null,"m²",{"$f":"ROUNDUP($O$3*$O$4,0)","v":{"v":23,"d":"23.0"}},null,null,62]
[{"$f":"IF(ISBLANK(H146),\"\",($E$3&\".\"&+(COUNTA(H$8:H146))))","v":""},{"$nulls":10},63]
[{"$f":"IF(ISBLANK(H147),\"\",($E$3&\".\"&+(COUNTA(H$8:H147))))","v":""}," ","JOINTS",{"$nulls":8},64]
[{"$f":"IF(ISBLANK(H148),\"\",($E$3&\".\"&+(COUNTA(H$8:H148))))","v":""},{"$nulls":10},65]
[{"$f":"IF(ISBLANK(H149),\"\",($E$3&\".\"&+(COUNTA(H$8:H149))))","v":""},8.5,".1","Cold placed bitumen or mastic sealant to all",{"$nulls":7},66]
[{"$f":"IF(ISBLANK(H150),\"\",($E$3&\".\"&+(COUNTA(H$8:H150))))","v":""},null,null,"joints between each precast roof slab panel and ",{"$nulls":7},67]
[{"$f":"IF(ISBLANK(H151),\"\",($E$3&\".\"&+(COUNTA(H$8:H151))))","v":"5.20"},null,null,"the chamber walls",{"$nulls":3},"m",{"$f":"U6*4+U13*4+O3*2+O4*2+2+O11*2","v":47.5},null,null,68]
[{"$nulls":11},69]
[{"$nulls":11},70]
[{"$nulls":11},71]
[{"$f":"IF(ISBLANK(H155),\"\",($E$3&\".\"&+(COUNTA(H$8:H155))))","v":""},{"$nulls":10},72]
[{"$nulls":9},"Carried Forward",null,73]
[{"$nulls":9},"Brought Forward",null,74]
[{"$f":"IF(ISBLANK(H158),\"\",($E$3&\".\"&+(COUNTA(H$8:H158))))","v":""},{"$nulls":10},75]
[{"$f":"IF(ISBLANK(H159),\"\",($E$3&\".\"&+(COUNTA(H$8:H159))))","v":""},null,"PRECAST CONCRETE",{"$nulls":8},76]
[{"$f":"IF(ISBLANK(H160),\"\",($E$3&\".\"&+(COUNTA(H$8:H160))))","v":""},{"$nulls":10},77]
[{"$f":"IF(ISBLANK(H161),\"\",($E$3&\".\"&+(COUNTA(H$8:H161))))","v":""},null,"REMOVABLE COVER SLAB PANELS",{"$nulls":8},78]
[{"$f":"IF(ISBLANK(H162),\"\",($E$3&\".\"&+(COUNTA(H$8:H162))))","v":""},{"$nulls":9},{"$f":"IF(I160<>0,I160*J160,\"\")","v":""},79]
[{"$f":"IF(ISBLANK(H163),\"\",($E$3&\".\"&+(COUNTA(H$8:H163))))","v":""},8.6,".1","250mm thick concrete (35/19 strength) cover panels.",{"$nulls":6},{"$f":"IF(I161<>0,I161*J161,\"\")","v":""},80]
[{"$f":"IF(ISBLANK(H164),\"\",($E$3&\".\"&+(COUNTA(H$8:H164))))","v":""},null,null,"Complete with reinforcing, lifting hooks, openings, etc.",{"$nulls":6},{"$f":"IF(I162<>0,I162*J162,\"\")","v":""}]
[{"$f":"IF(ISBLANK(H165),\"\",($E$3&\".\"&+(COUNTA(H$8:H165))))","v":"5.21"},null,null,"Refer Dwg 3890.00.00.GZA.05.D004",{"$nulls":3},"no",6,null,{"$f":"IF(I163<>0,I163*J163,\"\")","v":""},1]
[{"$f":"IF(ISBLANK(H166),\"\",($E$3&\".\"&+(COUNTA(H$8:H166))))","v":""},{"$nulls":10},2]
[{"$f":"IF(ISBLANK(H167),\"\",($E$3&\".\"&+(COUNTA(H$8:H167))))","v":"5.22"},null,".2","Extra over for casting in lifting hooks (Hooks included)",{"$nulls":3},"no",{"$f":"6*2*2","v":24},null,null,3]
[{"$f":"IF(ISBLANK(H168),\"\",($E$3&\".\"&+(COUNTA(H$8:H168))))","v":""},{"$nulls":10},4]
[{"$f":"IF(ISBLANK(H169),\"\",($E$3&\".\"&+(COUNTA(H$8:H169))))","v":""},"SANS",{"$nulls":9},5]
[{"$f":"IF(ISBLANK(H170),\"\",($E$3&\".\"&+(COUNTA(H$8:H170))))","v":""},"1200 G","SUNDRIES",{"$nulls":8},6]
[{"$f":"IF(ISBLANK(H171),\"\",($E$3&\".\"&+(COUNTA(H$8:H171))))","v":""},{"$nulls":10},7]
[{"$f":"IF(ISBLANK(H172),\"\",($E$3&\".\"&+(COUNTA(H$8:H172))))","v":""},null,"ACCESS LIDS AND COVERS",{"$nulls":8},8]
[{"$f":"IF(ISBLANK(H173),\"\",($E$3&\".\"&+(COUNTA(H$8:H173))))","v":""},{"$nulls":10},9]
[{"$f":"IF(ISBLANK(H174),\"\",($E$3&\".\"&+(COUNTA(H$8:H174))))","v":""},null,".1","Supply, deliver to site and casting of Non-metallic,",{"$nulls":7},10]
[{"$f":"IF(ISBLANK(H175),\"\",($E$3&\".\"&+(COUNTA(H$8:H175))))","v":""},null,null,"polymer Clear opening access cover and frame.",{"$nulls":7},11]
[{"$f":"IF(ISBLANK(H176),\"\",($E$3&\".\"&+(COUNTA(H$8:H176))))","v":""},{"$nulls":10},12]
[{"$f":"IF(ISBLANK(H177),\"\",($E$3&\".\"&+(COUNTA(H$8:H177))))","v":"5.23"},null,null,"(a)","SmartLock MHL-001 Type (700mm Lid)",null,null,"no",3,null,null,13]
[{"$f":"IF(ISBLANK(H178),\"\",($E$3&\".\"&+(COUNTA(H$8:H178))))","v":""},{"$nulls":10},14]
[{"$f":"IF(ISBLANK(H179),\"\",($E$3&\".\"&+(COUNTA(H$8:H179))))","v":""},"8.3.8","HOT DIP GALVANISED MILD STEEL LADDERS ",{"$nulls":8},15,null,{"$f":"$U$6-0.5-0.4","v":2.15}]
[{"$f":"IF(ISBLANK(H180),\"\",($E$3&\".\"&+(COUNTA(H$8:H180))))","v":""},{"$nulls":10},16]
[{"$f":"IF(ISBLANK(H181),\"\",($E$3&\".\"&+(COUNTA(H$8:H181))))","v":""},null,".1","Ladder 2200mm long, including grab bar, supply and",{"$nulls":7},17]
[{"$f":"IF(ISBLANK(H182),\"\",($E$3&\".\"&+(COUNTA(H$8:H182))))","v":"5.24"},null,null," install",{"$nulls":3},"no",1,null,null,18,null,{"$f":"$U$13-0.5-0.4","v":0.6}]
[{"$f":"IF(ISBLANK(H183),\"\",($E$3&\".\"&+(COUNTA(H$8:H183))))","v":""},{"$nulls":10},19]
[{"$f":"IF(ISBLANK(H184),\"\",($E$3&\".\"&+(COUNTA(H$8:H184))))","v":""},null,".2","Ladder 1000mm long, including grab bar, supply and",{"$nulls":7},20]
[{"$f":"IF(ISBLANK(H185),\"\",($E$3&\".\"&+(COUNTA(H$8:H185))))","v":"5.25"},null,null," install",{"$nulls":3},"no",2,null,null,21]
[{"$f":"IF(ISBLANK(H186),\"\",($E$3&\".\"&+(COUNTA(H$8:H186))))","v":""},{"$nulls":10},22]
[{"$f":"IF(ISBLANK(H187),\"\",($E$3&\".\"&+(COUNTA(H$8:H187))))","v":""},null,"VENTILATORS",{"$nulls":8},23]
[{"$f":"IF(ISBLANK(H188),\"\",($E$3&\".\"&+(COUNTA(H$8:H188))))","v":""},{"$nulls":10},24]
[{"$f":"IF(ISBLANK(H189),\"\",($E$3&\".\"&+(COUNTA(H$8:H189))))","v":""},"8.3.12","Galvanised mild steel ventilator installed complete",{"$nulls":7},{"$f":"IF(I187<>0,I187*J187,\"\")","v":""},25]
[{"$f":"IF(ISBLANK(H190),\"\",($E$3&\".\"&+(COUNTA(H$8:H190))))","v":""},null,"Refer Dwg 3890.00.00.GZA.05.D004",{"$nulls":7},"",26]
[{"$f":"IF(ISBLANK(H191),\"\",($E$3&\".\"&+(COUNTA(H$8:H191))))","v":""},{"$nulls":9},"",27]
[{"$f":"IF(ISBLANK(H192),\"\",($E$3&\".\"&+(COUNTA(H$8:H192))))","v":"5.26"},null,".1","100mmx75mm ventilator complete with vermin proof ",{"$nulls":3},"no",3,null,null,28]
[{"$f":"IF(ISBLANK(H193),\"\",($E$3&\".\"&+(COUNTA(H$8:H193))))","v":""},{"$nulls":10},29]
[{"$nulls":11},30]
[{"$nulls":11},31]
[{"$nulls":11},32]
[{"$nulls":11},33]
[{"$nulls":11},34]
[{"$nulls":11},35]
[{"$nulls":11},36]
[{"$nulls":11},37]
[{"$nulls":11},38]
[{"$nulls":11},39]
[{"$nulls":11},40]
[{"$nulls":11},41]
[{"$nulls":11},42]
[{"$nulls":11},43]
[{"$nulls":11},44]
[{"$nulls":11},45]
[{"$nulls":11},46]
[{"$nulls":11},47]
[{"$nulls":11},48]
[{"$nulls":11},49]
[{"$nulls":11},50]
[{"$nulls":11},51]
[{"$nulls":11},52]
[{"$nulls":11},53]
[{"$nulls":11},54]
[{"$nulls":11},55]
[{"$nulls":11},56]
[{"$nulls":11},57]
[{"$nulls":11},58]
[{"$nulls":11},59]
[{"$nulls":11},60]
[{"$nulls":11},61]
[{"$nulls":11},62]
[{"$nulls":11},63]
[{"$nulls":11},64]
[{"$f":"IF(ISBLANK(H229),\"\",($E$3&\".\"&+(COUNTA(H$8:H229))))","v":""},{"$nulls":10},65]
[{"$f":"IF(ISBLANK(H230),\"\",($E$3&\".\"&+(COUNTA(H$8:H230))))","v":""},{"$nulls":10},66]
[{"$f":"IF(ISBLANK(H231),\"\",($E$3&\".\"&+(COUNTA(H$8:H231))))","v":""},null,{"$f":"C3","v":"Schedule"},null,{"$f":"E3","v":5},{"$nulls":6},67]
[{"$f":"IF(ISBLANK(H232),\"\",($E$3&\".\"&+(COUNTA(H$8:H232))))","v":""},null,{"$f":"C4","v":"VALVE / PIPE CHAMBERS"},{"$nulls":8},68]
[{"$f":"IF(ISBLANK(H233),\"\",($E$8&\".\"&+(COUNTA(H$8:H233))))","v":""},{"$nulls":9},"",69]
[null,null,"Carried forward to Summary of Bills",{"$nulls":6},"Total",null,70]
[{"$nulls":11},71]
[{"$nulls":11},72]
[{"$nulls":11},73]
[{"$nulls":11},74]
[{"$nulls":11},75]
[{"$nulls":11},76]
[{"$nulls":11},77]
[{"$nulls":11},78]
[{"$nulls":11},79]
[{"$nulls":11},80]

{"sheet":"6. Buffer Tank","index":5,"n_rows":326,"n_cols":17,"rows_kept":326,"merged":[[0,0,1,0],[0,1,1,1],[0,2,1,6],[0,7,1,7],[0,8,1,8],[0,9,1,9],[0,10,1,10],[4,2,4,6],[8,2,8,6],[23,2,23,6],[39,2,39,6],[52,2,52,6],[59,2,59,6],[65,2,65,6],[84,2,84,6],[91,2,91,6],[105,2,105,6],[111,2,111,6],[124,2,124,6],[134,2,134,6],[148,2,148,6],[160,2,160,6],[203,2,203,6],[280,2,280,6],[291,2,291,6]]}
["Item","Ref","Description",{"$nulls":4},"Unit","Qty","Rate","Amount",null,null,"Buffer Tank"]
[{"$nulls":13},"L",12]
[{"$f":"IF(ISBLANK(H3),\"\",(#REF!&\".\"&+(COUNTA(H3:H$4))))","v":""},null,"Schedule ",null,6,{"$nulls":5},{"$f":"IF(I3<>0,I3*J3,\"\")","v":""},1,null,"B",12]
[null,null,"BUFFER TANK",{"$nulls":7},"",2,null,"H",4]
[null,"SANS","500kl pressed steel buffer tank with isolation ",{"$nulls":7},"",3]
[{"$f":"IF(ISBLANK(H6),\"\",(#REF!&\".\"&+(COUNTA(H$4:H6))))","v":""},"1200 C",{"$nulls":8},"",4]
[{"$f":"IF(ISBLANK(H7),\"\",(#REF!&\".\"&+(COUNTA(H$4:H7))))","v":""},null,"SITE CLEARANCE",{"$nulls":7},"",5]
[{"$f":"IF(ISBLANK(H8),\"\",(#REF!&\".\"&+(COUNTA(H$4:H8))))","v":""},{"$nulls":9},"",6]
[{"$f":"IF(ISBLANK(H9),\"\",(#REF!&\".\"&+(COUNTA(H$4:H9))))","v":""},null,"CLEAR SITE",{"$nulls":7},"",7]
[{"$f":"IF(ISBLANK(H10),\"\",(#REF!&\".\"&+(COUNTA(H$4:H10))))","v":""},{"$nulls":9},"",8]
[{"$f":"IF(ISBLANK(H11),\"\",($E$6&\".\"&+(COUNTA(H$4:H11))))","v":""},null,"CLEAR AND GRUB SITE",{"$nulls":7},{"$f":"IF(I10<>0,I10*J10,\"\")","v":""},9]
[{"$f":"IF(ISBLANK(H12),\"\",($E$3&\".\"&+(COUNTA(H$4:H12))))","v":""},{"$nulls":9},{"$f":"IF(I11<>0,I11*J11,\"\")","v":""},10]
[{"$f":"IF(ISBLANK(H13),\"\",($E$3&\".\"&+(COUNTA(H$4:H13))))","v":""},"8.2.1",".1","Clear and grub area for",{"$nulls":7},11]
[{"$f":"IF(ISBLANK(H14),\"\",($E$3&\".\"&+(COUNTA(H$4:H14))))","v":""},{"$nulls":10},12]
[{"$f":"IF(ISBLANK(H15),\"\",($E$3&\".\"&+(COUNTA(H$4:H15))))","v":"6.1"},null,null,"(a)","Platforms",null,null,"m²",{"$f":"O2*O3","v":144},null,null,13]
[{"$f":"IF(ISBLANK(H16),\"\",($E$3&\".\"&+(COUNTA(H$4:H16))))","v":""},{"$nulls":10},14]
[{"$f":"IF(ISBLANK(H17),\"\",($E$3&\".\"&+(COUNTA(H$4:H17))))","v":""},null,"REMOVE LARGE TREES AND STUMPS",{"$nulls":8},15]
[{"$f":"IF(ISBLANK(H18),\"\",($E$3&\".\"&+(COUNTA(H$4:H18))))","v":""},{"$nulls":10},16]
[{"$f":"IF(ISBLANK(H19),\"\",($E$3&\".\"&+(COUNTA(H$4:H19))))","v":""},"8.2.2",".2","Remove and grub large trees and tree stumps of girth",{"$nulls":7},17]
[{"$f":"IF(ISBLANK(H20),\"\",($E$3&\".\"&+(COUNTA(H$4:H20))))","v":""},{"$nulls":10},18]
[{"$f":"IF(ISBLANK(H21),\"\",($E$3&\".\"&+(COUNTA(H$4:H21))))","v":"6.2"},null,null,"(a)","Exceeding 1m and up to and including 2m",null,null,"no",5,null,null,19]
[{"$f":"IF(ISBLANK(H22),\"\",($E$3&\".\"&+(COUNTA(H$4:H22))))","v":""},{"$nulls":10},20]
[{"$f":"IF(ISBLANK(H23),\"\",($E$3&\".\"&+(COUNTA(H$4:H23))))","v":""},{"$nulls":10},21]
[{"$f":"IF(ISBLANK(H24),\"\",($E$3&\".\"&+(COUNTA(H$4:H24))))","v":""},"SANS","TOPSOIL AND LANDSCAPING",{"$nulls":8},22]
[{"$f":"IF(ISBLANK(H25),\"\",($E$3&\".\"&+(COUNTA(H$4:H25))))","v":""},"1200 DM",{"$nulls":9},23]
[{"$f":"IF(ISBLANK(H26),\"\",($E$3&\".\"&+(COUNTA(H$4:H26))))","v":""},null,"REMOVE TOPSOIL",{"$nulls":7},{"$f":"IF(I25<>0,I25*J25,\"\")","v":""},24]
[{"$f":"IF(ISBLANK(H27),\"\",($E$3&\".\"&+(COUNTA(H$4:H27))))","v":""},{"$nulls":9},{"$f":"IF(I26<>0,I26*J26,\"\")","v":""},25]
[{"$f":"IF(ISBLANK(H28),\"\",($E$3&\".\"&+(COUNTA(H$4:H28))))","v":""},"8.3.2",".1","Remove topsoil to a depth of 150mm and",{"$nulls":7},26]
[{"$f":"IF(ISBLANK(H29),\"\",($E$3&\".\"&+(COUNTA(H$4:H29))))","v":""},{"$nulls":10},27]
[{"$f":"IF(ISBLANK(H30),\"\",($E$3&\".\"&+(COUNTA(H$4:H30))))","v":"6.3"},null,null,"(a)","Stockpile on site and maintain",null,null,"m³",{"$f":"MROUND((I15*0.15),1)","v":22},null,null,28]
[{"$f":"IF(ISBLANK(H31),\"\",($E$3&\".\"&+(COUNTA(H$4:H31))))","v":""},{"$nulls":10},29]
[{"$f":"IF(ISBLANK(H32),\"\",($E$3&\".\"&+(COUNTA(H$4:H32))))","v":""},null,"FINISHING, TOPSOILING AND GRASSING",{"$nulls":8},30]
[{"$f":"IF(ISBLANK(H33),\"\",($E$3&\".\"&+(COUNTA(H$4:H33))))","v":""},{"$nulls":10},31]
[{"$f":"IF(ISBLANK(H34),\"\",($E$3&\".\"&+(COUNTA(H$4:H34))))","v":""},"8.3.10",".2","Topsoiling with material from stockpiles on site",{"$nulls":7},32]
[{"$f":"IF(ISBLANK(H35),\"\",($E$3&\".\"&+(COUNTA(H$4:H35))))","v":""},{"$nulls":10},33]
[{"$f":"IF(ISBLANK(H36),\"\",($E$3&\".\"&+(COUNTA(H$4:H36))))","v":"6.4"},null,null,"(a)","Spread over site",null,null,"m³",{"$f":"I30","v":22},null,null,34]
[{"$f":"IF(ISBLANK(H37),\"\",($E$3&\".\"&+(COUNTA(H$4:H37))))","v":""},{"$nulls":10},35]
[{"$f":"IF(ISBLANK(H38),\"\",($E$3&\".\"&+(COUNTA(H$4:H38))))","v":""},null,"EARTHWORKS ",{"$nulls":8},36]
[{"$f":"IF(ISBLANK(H39),\"\",($E$3&\".\"&+(COUNTA(H$4:H39))))","v":""},"SANS",{"$nulls":9},37]
[{"$f":"IF(ISBLANK(H40),\"\",($E$3&\".\"&+(COUNTA(H$4:H40))))","v":""},"1200 D","BULK EXCAVATION",{"$nulls":8},38]
[{"$f":"IF(ISBLANK(H41),\"\",($E$3&\".\"&+(COUNTA(H$4:H41))))","v":""},{"$nulls":10},39]
[{"$f":"IF(ISBLANK(H42),\"\",($E$3&\".\"&+(COUNTA(H$4:H42))))","v":""},"8.3.2",".1","Bulk excavation in all materials and place ",{"$nulls":6},{"$f":"IF(I41<>0,I41*J41,\"\")","v":""},40]
[{"$f":"IF(ISBLANK(H43),\"\",($E$3&\".\"&+(COUNTA(H$4:H43))))","v":"6.5"},null,null,"material on site",{"$nulls":3},"m³",{"$f":"MROUND((I15*0.3),1)","v":43},null,"R/O",41]
[{"$f":"IF(ISBLANK(H44),\"\",($E$3&\".\"&+(COUNTA(H$4:H44))))","v":""},{"$nulls":10},42]
[{"$f":"IF(ISBLANK(H45),\"\",($E$3&\".\"&+(COUNTA(H$4:H45))))","v":""},"8.3.2",".2","Extra over reference  8.3.2 (a) for",{"$nulls":7},43]
[{"$f":"IF(ISBLANK(H46),\"\",($E$3&\".\"&+(COUNTA(H$4:H46))))","v":""},{"$nulls":9},{"$f":"IF(I45<>0,I45*J45,\"\")","v":""},44]
[{"$f":"IF(ISBLANK(H47),\"\",($E$3&\".\"&+(COUNTA(H$4:H47))))","v":"6.6"},null,null,"(a)","Hard rock excavation ",null,null,"m³",null,null,"R/O",45]
[{"$f":"IF(ISBLANK(H48),\"\",($E$3&\".\"&+(COUNTA(H$4:H48))))","v":""},{"$nulls":9},{"$f":"IF(I48<>0,I48*J48,\"\")","v":""},46]
[{"$f":"IF(ISBLANK(H49),\"\",($E$3&\".\"&+(COUNTA(H$4:H49))))","v":"6.7"},null,null,"(b)","Boulder excavation, Class A",null,null,"m³",null,null,"R/O",47]
[{"$f":"IF(ISBLANK(H50),\"\",($E$3&\".\"&+(COUNTA(H$4:H50))))","v":""},{"$nulls":10},48]
[{"$f":"IF(ISBLANK(H51),\"\",($E$3&\".\"&+(COUNTA(H$4:H51))))","v":"6.8"},null,null,"(c)","Boulder excavation, Class B",null,null,"m³",30,null,null,49]
[{"$f":"IF(ISBLANK(H52),\"\",($E$3&\".\"&+(COUNTA(H$4:H52))))","v":""},{"$nulls":10},50]
[{"$f":"IF(ISBLANK(H53),\"\",($E$3&\".\"&+(COUNTA(H$4:H53))))","v":""},null,"RESTRICTED EARTHWORKS",{"$nulls":8},51]
[{"$f":"IF(ISBLANK(H54),\"\",($E$3&\".\"&+(COUNTA(H$4:H54))))","v":""},{"$nulls":9},{"$f":"IF(I53<>0,I53*J53,\"\")","v":""},52]
[{"$f":"IF(ISBLANK(H55),\"\",($E$3&\".\"&+(COUNTA(H$4:H55))))","v":""},"8.3.3",".1","Restricted excavation in all materials and place ",{"$nulls":6},{"$f":"IF(I54<>0,I54*J54,\"\")","v":""},53]
[{"$f":"IF(ISBLANK(H56),\"\",($E$3&\".\"&+(COUNTA(H$4:H56))))","v":""},null,null,"material on site",{"$nulls":7},54]
[{"$f":"IF(ISBLANK(H57),\"\",($E$3&\".\"&+(COUNTA(H$4:H57))))","v":""},{"$nulls":10},55,null,"Buffer Tank"]
[{"$f":"IF(ISBLANK(H58),\"\",($E$3&\".\"&+(COUNTA(H$4:H58))))","v":"6.9"},null,null,"(a)","Excavation for buffer tank footings",null,null,"m³",{"$f":"MROUND(((O58*O59*O60*P59)*O61),1)","v":259},null,null,56,null,"L",12,"width"]
[{"$f":"IF(ISBLANK(H59),\"\",($E$3&\".\"&+(COUNTA(H$4:H59))))","v":""},{"$nulls":10},57,null,"B",12,0.6]
[{"$f":"IF(ISBLANK(H60),\"\",($E$3&\".\"&+(COUNTA(H$4:H60))))","v":""},null,"RESTRICTED EXCAVATION",{"$nulls":8},58,null,"H",0.3,"Depth"]
[{"$f":"IF(ISBLANK(H61),\"\",($E$3&\".\"&+(COUNTA(H$4:H61))))","v":""},{"$nulls":10},59,null,"No",{"$f":"O59/1.2","v":10},0.6]
[{"$f":"IF(ISBLANK(H62),\"\",($E$3&\".\"&+(COUNTA(H$4:H62))))","v":""},"8.3.3",".1","Extra over reference  8.3.3 (a)  for",{"$nulls":7},60]
[{"$f":"IF(ISBLANK(H63),\"\",($E$3&\".\"&+(COUNTA(H$4:H63))))","v":""},{"$nulls":10},61]
[{"$f":"IF(ISBLANK(H64),\"\",($E$3&\".\"&+(COUNTA(H$4:H64))))","v":"6.10"},null,null,"(a)","Hard rock excavation (No high velocity explosives allowed)",null,null,"m³",{"$f":"ROUNDUP(I58*10%,0)","v":26},null,null,62]
[{"$f":"IF(ISBLANK(H65),\"\",($E$3&\".\"&+(COUNTA(H$4:H65))))","v":""},{"$nulls":10},63]
[{"$f":"IF(ISBLANK(H66),\"\",($E$3&\".\"&+(COUNTA(H$4:H66))))","v":""},null,"BACKFILLING RESTRICTED EXCAVATIONS",{"$nulls":8},64]
[{"$f":"IF(ISBLANK(H67),\"\",($E$3&\".\"&+(COUNTA(H$4:H67))))","v":""},{"$nulls":9},{"$f":"IF(I81<>0,I81*J81,\"\")","v":""},65]
[{"$f":"IF(ISBLANK(H68),\"\",($E$3&\".\"&+(COUNTA(H$4:H68))))","v":""},"8.3.9","Extra over reference  8.3.2 (a) and 8.3.3 (a) for backfill ",{"$nulls":7},{"$f":"IF(I66<>0,I66*J66,\"\")","v":""},66]
[{"$f":"IF(ISBLANK(H69),\"\",($E$3&\".\"&+(COUNTA(H$4:H69))))","v":""},null,"or for fill material against structures",{"$nulls":7},"",67]
[{"$f":"IF(ISBLANK(H70),\"\",($E$3&\".\"&+(COUNTA(H$4:H70))))","v":""},{"$nulls":9},"",68]
[{"$f":"IF(ISBLANK(H71),\"\",($E$3&\".\"&+(COUNTA(H$4:H71))))","v":""},null,".1","Selected material compacted to 93% mod",{"$nulls":6},"",69]
[{"$f":"IF(ISBLANK(H72),\"\",($E$3&\".\"&+(COUNTA(H$4:H72))))","v":""},null,null,"AASHTO density",{"$nulls":6},"",70]
[{"$f":"IF(ISBLANK(H73),\"\",($E$3&\".\"&+(COUNTA(H$4:H73))))","v":""},{"$nulls":10},71]
[{"$f":"IF(ISBLANK(H74),\"\",($E$3&\".\"&+(COUNTA(H$4:H74))))","v":"6.11"},null,null,"(a)","Alongside support walls below tank in all foundations\\",null,null,"m³",{"$f":"I58","v":259},null,null,72]
[{"$nulls":11},73]
[{"$nulls":11},74]
[{"$nulls":11},75]
[{"$nulls":11},76]
[{"$nulls":11},77]
[{"$nulls":9},"Carried Forward",null,78]
[{"$nulls":9},"Brought Forward",null,79]
[{"$f":"IF(ISBLANK(H82),\"\",($E$3&\".\"&+(COUNTA(H$4:H82))))","v":""},{"$nulls":10},80]
[{"$f":"IF(ISBLANK(H83),\"\",($E$3&\".\"&+(COUNTA(H$4:H83))))","v":""},null,"CONCRETE (STRUCTURAL)"]
[{"$f":"IF(ISBLANK(H84),\"\",($E$3&\".\"&+(COUNTA(H$4:H84))))","v":""},"SANS"]
[{"$f":"IF(ISBLANK(H85),\"\",($E$3&\".\"&+(COUNTA(H$4:H85))))","v":""},"1200 G","ROUGH FORMWORK",{"$nulls":8},1]
[{"$f":"IF(ISBLANK(H86),\"\",($E$3&\".\"&+(COUNTA(H$4:H86))))","v":""},{"$nulls":10},2]
[{"$f":"IF(ISBLANK(H87),\"\",($E$3&\".\"&+(COUNTA(H$4:H87))))","v":""},"8.2.5",".1","Rough formwork to narrow widths not exceeding",{"$nulls":7},3]
[{"$f":"IF(ISBLANK(H88),\"\",($E$3&\".\"&+(COUNTA(H$4:H88))))","v":""},null,null,"300mm wide",{"$nulls":7},4]
[{"$f":"IF(ISBLANK(H89),\"\",($E$3&\".\"&+(COUNTA(H$4:H89))))","v":""},{"$nulls":10},5]
[{"$f":"IF(ISBLANK(H90),\"\",($E$3&\".\"&+(COUNTA(H$4:H90))))","v":"6.12"},null,null,"(a)","Edges, risers, etc.",null,null,"m",{"$f":"(O58*2)*O61","v":{"v":240,"d":"240.0"}},null,null,6]
[{"$f":"IF(ISBLANK(H91),\"\",($E$3&\".\"&+(COUNTA(H$4:H91))))","v":""},{"$nulls":10},7]
[{"$f":"IF(ISBLANK(H92),\"\",($E$3&\".\"&+(COUNTA(H$4:H92))))","v":""},null,"SMOOTH FORMWORK",{"$nulls":8},8]
[{"$f":"IF(ISBLANK(H93),\"\",($E$3&\".\"&+(COUNTA(H$4:H93))))","v":""},{"$nulls":10},9]
[{"$f":"IF(ISBLANK(H94),\"\",($E$3&\".\"&+(COUNTA(H$4:H94))))","v":""},null,"(To include for drip grooves and chamfers on all",{"$nulls":8},10]
[{"$f":"IF(ISBLANK(H95),\"\",($E$3&\".\"&+(COUNTA(H$4:H95))))","v":""},null,"exposed edges as shown)",{"$nulls":8},11]
[{"$f":"IF(ISBLANK(H96),\"\",($E$3&\".\"&+(COUNTA(H$4:H96))))","v":""},{"$nulls":10},12]
[{"$f":"IF(ISBLANK(H97),\"\",($E$3&\".\"&+(COUNTA(H$4:H97))))","v":""},"8.2.2",".1","Plane vertical",{"$nulls":7},13]
[{"$f":"IF(ISBLANK(H98),\"\",($E$3&\".\"&+(COUNTA(H$4:H98))))","v":""},{"$nulls":10},14]
[{"$f":"IF(ISBLANK(H99),\"\",($E$3&\".\"&+(COUNTA(H$4:H99))))","v":"6.13"},null,null,"(a)","Tank supports including corners and edges",null,null,"m²",{"$f":"MROUND(((O58*2*P61*O61)+(O58*2*P61*O60)),1)","v":{"v":148,"d":"148.0"}},null,null,15]
[{"$f":"IF(ISBLANK(H100),\"\",($E$3&\".\"&+(COUNTA(H$4:H100))))","v":""},{"$nulls":10},16]
[{"$f":"IF(ISBLANK(H101),\"\",($E$3&\".\"&+(COUNTA(H$4:H101))))","v":""},"8.2.5",".2","Smooth formwork to narrow widths not exceeding",{"$nulls":7},17]
[{"$f":"IF(ISBLANK(H102),\"\",($E$3&\".\"&+(COUNTA(H$4:H102))))","v":""},null,null,"300mm wide",{"$nulls":7},18]
[{"$f":"IF(ISBLANK(H103),\"\",($E$3&\".\"&+(COUNTA(H$4:H103))))","v":""},{"$nulls":10},19]
[{"$f":"IF(ISBLANK(H104),\"\",($E$3&\".\"&+(COUNTA(H$4:H104))))","v":"6.14"},null,null,"(a)","Edges, risers, etc.",null,null,"m",null,null,"R/O",20]
[{"$f":"IF(ISBLANK(H105),\"\",($E$3&\".\"&+(COUNTA(H$4:H105))))","v":""},{"$nulls":9},{"$f":"IF(I105<>0,I105*J105,\"\")","v":""},21]
[{"$f":"IF(ISBLANK(H106),\"\",($E$3&\".\"&+(COUNTA(H$4:H106))))","v":""},null,"BOXING IN FOR HOLES AND VOIDS",{"$nulls":7},{"$f":"IF(I106<>0,I106*J106,\"\")","v":""},22]
[{"$f":"IF(ISBLANK(H107),\"\",($E$3&\".\"&+(COUNTA(H$4:H107))))","v":""},{"$nulls":9},{"$f":"IF(I107<>0,I107*J107,\"\")","v":""},23]
[{"$f":"IF(ISBLANK(H108),\"\",($E$3&\".\"&+(COUNTA(H$4:H108))))","v":""},"8.2.6",".1","Large, circular, of a diameter over 0.35m and up to and including 0,7m",{"$nulls":6},{"$f":"IF(I108<>0,I108*J108,\"\")","v":""},24]
[{"$f":"IF(ISBLANK(H109),\"\",($E$3&\".\"&+(COUNTA(H$4:H109))))","v":""},{"$nulls":9},{"$f":"IF(I109<>0,I109*J109,\"\")","v":""},25]
[{"$f":"IF(ISBLANK(H110),\"\",($E$3&\".\"&+(COUNTA(H$4:H110))))","v":"6.15"},null,null,"(a)","up to 0,5m",null,null,"no",null,null,"R/O",26]
[{"$f":"IF(ISBLANK(H111),\"\",($E$3&\".\"&+(COUNTA(H$4:H111))))","v":""},{"$nulls":9},{"$f":"IF(I111<>0,I111*J111,\"\")","v":""},27]
[{"$f":"IF(ISBLANK(H112),\"\",($E$3&\".\"&+(COUNTA(H$4:H112))))","v":""},null,"REINFORCEMENT",{"$nulls":7},"",28]
[{"$f":"IF(ISBLANK(H113),\"\",($E$3&\".\"&+(COUNTA(H$4:H113))))","v":""},{"$nulls":9},"",29]
[{"$f":"IF(ISBLANK(H114),\"\",($E$3&\".\"&+(COUNTA(H$4:H114))))","v":""},null,"Steel bars",{"$nulls":7},"",30]
[{"$f":"IF(ISBLANK(H115),\"\",($E$3&\".\"&+(COUNTA(H$4:H115))))","v":""},{"$nulls":9},"",31]
[{"$f":"IF(ISBLANK(H116),\"\",($E$3&\".\"&+(COUNTA(H$4:H116))))","v":""},"8.3.1",".1","Mild steel",{"$nulls":6},"",32]
[{"$f":"IF(ISBLANK(H117),\"\",($E$3&\".\"&+(COUNTA(H$4:H117))))","v":""},{"$nulls":9},"",33]
[{"$f":"IF(ISBLANK(H118),\"\",($E$3&\".\"&+(COUNTA(H$4:H118))))","v":"6.16"},null,null,"(a)","All sizes",null,null,"ton",1,null,"R/O",34,null,null,"150kg/m3",{"$f":"I133*150","v":3300},"kg"]
[{"$f":"IF(ISBLANK(H119),\"\",($E$3&\".\"&+(COUNTA(H$4:H119))))","v":""},{"$nulls":10},35,{"$nulls":3},{"$f":"P118/1000","v":3.3},"ton"]
[{"$f":"IF(ISBLANK(H120),\"\",($E$3&\".\"&+(COUNTA(H$4:H120))))","v":""},"8.3.1",".2","High tensile steel",{"$nulls":7},36,null,null,"Reinforcement measured provisionally and subject to re-measurement"]
[{"$f":"IF(ISBLANK(H121),\"\",($E$3&\".\"&+(COUNTA(H$4:H121))))","v":""},{"$nulls":9},{"$f":"IF(I119<>0,I119*J119,\"\")","v":""},37]
[{"$f":"IF(ISBLANK(H122),\"\",($E$3&\".\"&+(COUNTA(H$4:H122))))","v":"6.17"},null,null,"(a)","All sizes",null,null,"ton",{"v":3.3,"d":"3.30"},null,"",38]
[{"$f":"IF(ISBLANK(H123),\"\",($E$3&\".\"&+(COUNTA(H$4:H123))))","v":""},{"$nulls":10},39]
[{"$f":"IF(ISBLANK(H124),\"\",($E$3&\".\"&+(COUNTA(H$4:H124))))","v":""},{"$nulls":10},40]
[{"$f":"IF(ISBLANK(H125),\"\",($E$3&\".\"&+(COUNTA(H$4:H125))))","v":""},null,"CONCRETE",{"$nulls":8},41]
[{"$f":"IF(ISBLANK(H126),\"\",($E$3&\".\"&+(COUNTA(H$4:H126))))","v":""},{"$nulls":10},42]
[{"$f":"IF(ISBLANK(H127),\"\",($E$3&\".\"&+(COUNTA(H$4:H127))))","v":""},"8.4.2",".1","Strength concrete 15Mpa/19mm",{"$nulls":7},43]
[{"$f":"IF(ISBLANK(H128),\"\",($E$3&\".\"&+(COUNTA(H$4:H128))))","v":""},{"$nulls":9},"",44]
[{"$f":"IF(ISBLANK(H129),\"\",($E$3&\".\"&+(COUNTA(H$4:H129))))","v":"6.18"},null,null,"(a)","Blinding layer 50mm thick",null,null,"m³",null,null,"R/O",45]
[{"$f":"IF(ISBLANK(H130),\"\",($E$3&\".\"&+(COUNTA(H$4:H130))))","v":""},{"$nulls":9},"",46]
[{"$f":"IF(ISBLANK(H131),\"\",($E$3&\".\"&+(COUNTA(H$4:H131))))","v":""},"8.4.3",".2","Strength concrete 25Mpa/19mm",{"$nulls":7},47]
[{"$f":"IF(ISBLANK(H132),\"\",($E$3&\".\"&+(COUNTA(H$4:H132))))","v":""},{"$nulls":9},"",48]
[{"$f":"IF(ISBLANK(H133),\"\",($E$3&\".\"&+(COUNTA(H$4:H133))))","v":"6.19"},null,null,"(a)","Tank supports including corners and edges",null,null,"m³",{"$f":"MROUND((O58*O60*P61*O61),1)","v":{"v":22,"d":"22.00"}},null,"",49]
[{"$f":"IF(ISBLANK(H134),\"\",($E$3&\".\"&+(COUNTA(H$4:H134))))","v":""},{"$nulls":10},50]
[{"$f":"IF(ISBLANK(H135),\"\",($E$3&\".\"&+(COUNTA(H$4:H135))))","v":""},null,"SURFACE FINISHES",{"$nulls":8},51]
[{"$f":"IF(ISBLANK(H136),\"\",($E$3&\".\"&+(COUNTA(H$4:H136))))","v":""},{"$nulls":10},52]
[{"$f":"IF(ISBLANK(H137),\"\",($E$3&\".\"&+(COUNTA(H$4:H137))))","v":""},null,"Unformed surface finishes",{"$nulls":7},"",53]
[{"$f":"IF(ISBLANK(H138),\"\",($E$3&\".\"&+(COUNTA(H$4:H138))))","v":""},{"$nulls":9},"",54]
[{"$f":"IF(ISBLANK(H139),\"\",($E$3&\".\"&+(COUNTA(H$4:H139))))","v":""},"8.4.4",".1","Wood floated finish",{"$nulls":6},"",55]
[{"$f":"IF(ISBLANK(H140),\"\",($E$3&\".\"&+(COUNTA(H$4:H140))))","v":""},{"$nulls":9},"",56]
[{"$f":"IF(ISBLANK(H141),\"\",($E$3&\".\"&+(COUNTA(H$4:H141))))","v":"6.20"},null,null,"(a)","Floor",null,null,"m²",{"$f":"MROUND(((O58*(2*O60))*O61),1)","v":{"v":72,"d":"72.0"}},null,"",57]
[{"$f":"IF(ISBLANK(H142),\"\",($E$3&\".\"&+(COUNTA(H$4:H142))))","v":""},{"$nulls":10},58]
[{"$f":"IF(ISBLANK(H143),\"\",($E$3&\".\"&+(COUNTA(H$4:H143))))","v":""},"8.4.4",".2","Steel floated finish",{"$nulls":7},59]
[{"$f":"IF(ISBLANK(H144),\"\",($E$3&\".\"&+(COUNTA(H$4:H144))))","v":""},{"$nulls":10},60]
[{"$f":"IF(ISBLANK(H145),\"\",($E$3&\".\"&+(COUNTA(H$4:H145))))","v":"6.21"},null,null,"(a)","Top of walls, beams, plinths, etc",null,null,"m²",{"$f":"MROUND(((O58*O60)*O61),1)","v":{"v":36,"d":"36.0"}},null,null,61]
[{"$f":"IF(ISBLANK(H146),\"\",($E$3&\".\"&+(COUNTA(H$4:H146))))","v":""},{"$nulls":10},62]
[{"$f":"IF(ISBLANK(H147),\"\",($E$3&\".\"&+(COUNTA(H$4:H147))))","v":""},"SANS","SUNDRIES",{"$nulls":8},63]
[{"$f":"IF(ISBLANK(H148),\"\",($E$3&\".\"&+(COUNTA(H$4:H148))))","v":""},"1200 G",{"$nulls":9},64]
[{"$f":"IF(ISBLANK(H149),\"\",($E$3&\".\"&+(COUNTA(H$4:H149))))","v":""},null,"HOT DIP GALVANISED MILD STEEL PANEL TANK INCLUDING LADDERS, ETC ",{"$nulls":8},65]
[{"$f":"IF(ISBLANK(H150),\"\",($E$3&\".\"&+(COUNTA(H$4:H150))))","v":""},"8.3.8",{"$nulls":9},66]
[{"$f":"IF(ISBLANK(H151),\"\",($E$3&\".\"&+(COUNTA(H$4:H151))))","v":""},null,".1","Supply, deliver and errect 500kl pressed steel tank with roof",{"$nulls":7},67]
[{"$f":"IF(ISBLANK(H152),\"\",($E$3&\".\"&+(COUNTA(H$4:H152))))","v":"6.22"},null,null,"rectangular, complete with all fasteners, ladders, latches, etc.",{"$nulls":3},"no",1,null,null,68]
[{"$nulls":11},69]
[{"$nulls":11},70,null,null,"65kl",{"$f":"276800/65","v":4258.461538461538},"R/kl"]
[{"$nulls":11},71]
[{"$f":"IF(ISBLANK(H156),\"\",($E$3&\".\"&+(COUNTA(H$4:H156))))","v":""},{"$nulls":10},72]
[{"$nulls":11},73]
[{"$nulls":9},"Carried Forward",null,74]
[{"$nulls":9},"Brought Forward",null,75]
[{"$nulls":11},76]
[{"$f":"IF(ISBLANK(H161),\"\",($E$3&\".\"&+(COUNTA(H$4:H161))))","v":""},"SANS","MEDIUM PRESSURE PIPELINES",{"$nulls":8},77]
[{"$f":"IF(ISBLANK(H162),\"\",($E$3&\".\"&+(COUNTA(H$4:H162))))","v":""},"1200 DB",{"$nulls":9},78,null,null,"510kl",{"$f":"P154*510","v":2171815.3846153845},"Rand"]
[{"$f":"IF(ISBLANK(H163),\"\",($E$3&\".\"&+(COUNTA(H$4:H163))))","v":""},{"$nulls":10},79,null,null,"Reinforcement measured provisionally and subject to re-measurement"]
[{"$f":"IF(ISBLANK(H164),\"\",($E$3&\".\"&+(COUNTA(H$4:H164))))","v":""},null,"EARTHWORKS ( PIPE TRENCHES )",{"$nulls":8},80]
[{"$f":"IF(ISBLANK(H165),\"\",($E$3&\".\"&+(COUNTA(H$4:H165))))","v":""},{"$nulls":9},{"$f":"IF(I163<>0,I163*J163,\"\")","v":""}]
[{"$f":"IF(ISBLANK(H166),\"\",($E$3&\".\"&+(COUNTA(H$4:H166))))","v":""},null,"CLEAR AND GRUB SITE",{"$nulls":7},"",1]
[{"$f":"IF(ISBLANK(H167),\"\",($E$3&\".\"&+(COUNTA(H$4:H167))))","v":""},{"$nulls":9},"",2]
[{"$f":"IF(ISBLANK(H168),\"\",($E$3&\".\"&+(COUNTA(H$4:H168))))","v":""},"8.3.1",".1","Clear and grub strips for (where not cleared",{"$nulls":6},"",3]
[{"$f":"IF(ISBLANK(H169),\"\",($E$3&\".\"&+(COUNTA(H$4:H169))))","v":""},null,null,"within other clear and grub areas)",{"$nulls":6},"",4]
[{"$f":"IF(ISBLANK(H170),\"\",($E$3&\".\"&+(COUNTA(H$4:H170))))","v":""},{"$nulls":9},"",5]
[{"$f":"IF(ISBLANK(H171),\"\",($E$3&\".\"&+(COUNTA(H$4:H171))))","v":"6.23"},null,null,"(a)","Pipeline 3m wide",null,null,"m",20,null,null,6]
[{"$f":"IF(ISBLANK(H172),\"\",($E$3&\".\"&+(COUNTA(H$4:H172))))","v":""},{"$nulls":10},7]
[{"$f":"IF(ISBLANK(H173),\"\",($E$3&\".\"&+(COUNTA(H$4:H173))))","v":""},null,"EXCAVATION AND BACKFILLING",{"$nulls":8},8]
[{"$f":"IF(ISBLANK(H174),\"\",($E$3&\".\"&+(COUNTA(H$4:H174))))","v":""},{"$nulls":10},9]
[{"$f":"IF(ISBLANK(H175),\"\",($E$3&\".\"&+(COUNTA(H$4:H175))))","v":""},null,"Excavate in all materials, backfill and compact to 90%",{"$nulls":8},10]
[{"$f":"IF(ISBLANK(H176),\"\",($E$3&\".\"&+(COUNTA(H$4:H176))))","v":""},null,"mod AASHTO density, and dispose of surplus and",{"$nulls":8},11]
[{"$f":"IF(ISBLANK(H177),\"\",($E$3&\".\"&+(COUNTA(H$4:H177))))","v":""},null,"unsuitable materials within the freehaul distance for",{"$nulls":8},12]
[{"$f":"IF(ISBLANK(H178),\"\",($E$3&\".\"&+(COUNTA(H$4:H178))))","v":""},null,"trenches",{"$nulls":8},13]
[{"$f":"IF(ISBLANK(H179),\"\",($E$3&\".\"&+(COUNTA(H$4:H179))))","v":""},{"$nulls":10},14]
[{"$f":"IF(ISBLANK(H180),\"\",($E$3&\".\"&+(COUNTA(H$4:H180))))","v":""},"8.3.2",".1","Up to 1m wide",{"$nulls":7},15]
[{"$f":"IF(ISBLANK(H181),\"\",($E$3&\".\"&+(COUNTA(H$4:H181))))","v":""},{"$nulls":10},16]
[{"$f":"IF(ISBLANK(H182),\"\",($E$3&\".\"&+(COUNTA(H$4:H182))))","v":"6.24"},null,null,"(a)","Over 1m and up to 2m deep",null,null,"m³",null,null,"R/O",17]
[{"$f":"IF(ISBLANK(H183),\"\",($E$3&\".\"&+(COUNTA(H$4:H183))))","v":""},{"$nulls":10},18]
[{"$f":"IF(ISBLANK(H184),\"\",($E$3&\".\"&+(COUNTA(H$4:H184))))","v":"6.25"},null,null,"(b)","Over 2m and up to 3m deep",null,null,"m³",{"$f":"ROUNDUP((I171*1*3),0)","v":{"v":60,"d":"60.0"}},null,null,19]
[{"$f":"IF(ISBLANK(H185),\"\",($E$3&\".\"&+(COUNTA(H$4:H185))))","v":""},{"$nulls":10},20]
[{"$f":"IF(ISBLANK(H186),\"\",($E$3&\".\"&+(COUNTA(H$4:H186))))","v":""},{"$nulls":10},21]
[{"$f":"IF(ISBLANK(H187),\"\",($E$3&\".\"&+(COUNTA(H$4:H187))))","v":""},"8.3.2",".2","Extra over items 8.3.2 (a) for",{"$nulls":7},22]
[{"$f":"IF(ISBLANK(H188),\"\",($E$3&\".\"&+(COUNTA(H$4:H188))))","v":""},{"$nulls":10},23]
[{"$f":"IF(ISBLANK(H189),\"\",($E$3&\".\"&+(COUNTA(H$4:H189))))","v":"6.26"},null,null,"(a)","Hard rock excavation",null,null,"m³",{"$f":"I184*0.5","v":30},null,null,24]
[{"$f":"IF(ISBLANK(H190),\"\",($E$3&\".\"&+(COUNTA(H$4:H190))))","v":""},{"$nulls":10},25]
[{"$f":"IF(ISBLANK(H191),\"\",($E$3&\".\"&+(COUNTA(H$4:H191))))","v":"6.27"},null,null,"(b)","Hand excavation to expose existing services",null,null,"m³",3,null,null,26]
[{"$f":"IF(ISBLANK(H192),\"\",($E$3&\".\"&+(COUNTA(H$4:H192))))","v":""},{"$nulls":10},27]
[{"$f":"IF(ISBLANK(H193),\"\",($E$3&\".\"&+(COUNTA(H$4:H193))))","v":""},"8.3.2",".3","Excavate unsuitable material from trench bottom, ",{"$nulls":7},28]
[{"$f":"IF(ISBLANK(H194),\"\",($E$3&\".\"&+(COUNTA(H$4:H194))))","v":""},null,null,"dispose within the freehaul distance, and re-fill ",{"$nulls":7},29]
[{"$f":"IF(ISBLANK(H195),\"\",($E$3&\".\"&+(COUNTA(H$4:H195))))","v":""},null,null,"with suitable imported material compacted to ",{"$nulls":7},30]
[{"$f":"IF(ISBLANK(H196),\"\",($E$3&\".\"&+(COUNTA(H$4:H196))))","v":"6.28"},null,null,"90% mod AASHTO density",{"$nulls":3},"m³",null,null,"",31]
[{"$f":"IF(ISBLANK(H197),\"\",($E$3&\".\"&+(COUNTA(H$4:H197))))","v":""},{"$nulls":10},32]
[{"$f":"IF(ISBLANK(H198),\"\",($E$3&\".\"&+(COUNTA(H$4:H198))))","v":""},"8.3.3.1",null,"Make up deficiancy in backfill material (Provisional)",{"$nulls":6},"",33]
[{"$f":"IF(ISBLANK(H199),\"\",($E$3&\".\"&+(COUNTA(H$4:H199))))","v":""},"8.3.2",".4","Excavate from stockpile material on site and place over ",{"$nulls":7},34]
[{"$f":"IF(ISBLANK(H200),\"\",($E$3&\".\"&+(COUNTA(H$4:H200))))","v":""},null,null,"pipeline to form berm, including placement, compacting",{"$nulls":6},"",35]
[{"$f":"IF(ISBLANK(H201),\"\",($E$3&\".\"&+(COUNTA(H$4:H201))))","v":"6.29"},null,null,"and shaping of embankments to 90% mod AASHTO density",{"$nulls":3},"m³",null,null,"R/O",36]
[{"$f":"IF(ISBLANK(H202),\"\",($E$3&\".\"&+(COUNTA(H$4:H202))))","v":""},{"$nulls":9},"",37]
[{"$f":"IF(ISBLANK(H203),\"\",($E$3&\".\"&+(COUNTA(H$4:H203))))","v":""},{"$nulls":10},38]
[{"$f":"IF(ISBLANK(H204),\"\",($E$3&\".\"&+(COUNTA(H$4:H204))))","v":""},"SANS","EXISTING SERVICES",{"$nulls":7},{"$f":"IF(I202<>0,I202*J202,\"\")","v":""},39]
[{"$f":"IF(ISBLANK(H205),\"\",($E$3&\".\"&+(COUNTA(H$4:H205))))","v":""},"1200 DB",{"$nulls":8},"",40]
[{"$f":"IF(ISBLANK(H206),\"\",($E$3&\".\"&+(COUNTA(H$4:H206))))","v":""},null,"EXISTING SERVICES",{"$nulls":8},41]
[{"$f":"IF(ISBLANK(H207),\"\",($E$3&\".\"&+(COUNTA(H$4:H207))))","v":""},{"$nulls":9},{"$f":"IF(I205<>0,I205*J205,\"\")","v":""},42]
[{"$f":"IF(ISBLANK(H208),\"\",($E$3&\".\"&+(COUNTA(H$4:H208))))","v":""},null,"Existing services that intersect or adjoin pipe trench",{"$nulls":7},"",43]
[{"$f":"IF(ISBLANK(H209),\"\",($E$3&\".\"&+(COUNTA(H$4:H209))))","v":""},null,"excavations",{"$nulls":7},"",44]
[{"$f":"IF(ISBLANK(H210),\"\",($E$3&\".\"&+(COUNTA(H$4:H210))))","v":""},{"$nulls":9},{"$f":"IF(I209<>0,I209*J209,\"\")","v":""},45]
[{"$f":"IF(ISBLANK(H211),\"\",($E$3&\".\"&+(COUNTA(H$4:H211))))","v":""},"8.3.5",".1","Services that intersect a trench",{"$nulls":6},{"$f":"IF(I210<>0,I210*J210,\"\")","v":""},46]
[{"$f":"IF(ISBLANK(H212),\"\",($E$3&\".\"&+(COUNTA(H$4:H212))))","v":""},{"$nulls":9},{"$f":"IF(I211<>0,I211*J211,\"\")","v":""},47]
[{"$f":"IF(ISBLANK(H213),\"\",($E$3&\".\"&+(COUNTA(H$4:H213))))","v":"6.30"},null,null,"(a)","Electric cable",null,null,"no",1,null,"R/O",48]
[{"$f":"IF(ISBLANK(H214),\"\",($E$3&\".\"&+(COUNTA(H$4:H214))))","v":""},{"$nulls":9},{"$f":"IF(I214<>0,I214*J214,\"\")","v":""},49]
[{"$f":"IF(ISBLANK(H215),\"\",($E$3&\".\"&+(COUNTA(H$4:H215))))","v":"6.31"},null,null,"(b)","Water main exceeding 300mm diabut not 1000mm",null,null,"no",1,null,"R/O",50]
[{"$f":"IF(ISBLANK(H216),\"\",($E$3&\".\"&+(COUNTA(H$4:H216))))","v":""},{"$nulls":9},{"$f":"IF(I216<>0,I216*J216,\"\")","v":""},51]
[{"$f":"IF(ISBLANK(H217),\"\",($E$3&\".\"&+(COUNTA(H$4:H217))))","v":""},"8.3.5",".2","Services that adjoin a trench",{"$nulls":6},{"$f":"IF(I217<>0,I217*J217,\"\")","v":""},52]
[{"$f":"IF(ISBLANK(H218),\"\",($E$3&\".\"&+(COUNTA(H$4:H218))))","v":""},{"$nulls":9},{"$f":"IF(I218<>0,I218*J218,\"\")","v":""},53]
[{"$f":"IF(ISBLANK(H219),\"\",($E$3&\".\"&+(COUNTA(H$4:H219))))","v":"6.32"},null,null,"(a)","Electric cable",null,null,"m",1,null,"R/O",54]
[{"$f":"IF(ISBLANK(H220),\"\",($E$3&\".\"&+(COUNTA(H$4:H220))))","v":""},{"$nulls":9},{"$f":"IF(I220<>0,I220*J220,\"\")","v":""},55]
[{"$f":"IF(ISBLANK(H221),\"\",($E$3&\".\"&+(COUNTA(H$4:H221))))","v":"6.33"},null,null,"(b)","Water main not exceeding 300mm dia",null,null,"m",1,null,"R/O",56]
[{"$f":"IF(ISBLANK(H222),\"\",($E$3&\".\"&+(COUNTA(H$4:H222))))","v":""},{"$nulls":10},57]
[{"$f":"IF(ISBLANK(H223),\"\",($E$3&\".\"&+(COUNTA(H$4:H223))))","v":""},"SANS",{"$nulls":8},{"$f":"IF(I222<>0,I222*J222,\"\")","v":""},58]
[{"$f":"IF(ISBLANK(H224),\"\",($E$3&\".\"&+(COUNTA(H$4:H224))))","v":""},"1200 LB","BEDDING (PIPES)",{"$nulls":7},"",59]
[{"$f":"IF(ISBLANK(H225),\"\",($E$3&\".\"&+(COUNTA(H$4:H225))))","v":""},{"$nulls":9},"",60]
[{"$f":"IF(ISBLANK(H226),\"\",($E$3&\".\"&+(COUNTA(H$4:H226))))","v":""},null,"BEDDING FROM TRENCH EXCAVATIONS",{"$nulls":7},"",61]
[{"$f":"IF(ISBLANK(H227),\"\",($E$3&\".\"&+(COUNTA(H$4:H227))))","v":""},{"$nulls":9},"",62]
[{"$f":"IF(ISBLANK(H228),\"\",($E$3&\".\"&+(COUNTA(H$4:H228))))","v":""},"8.2.1",".1","Provision of bedding material from trench excavations",{"$nulls":6},"",63]
[{"$f":"IF(ISBLANK(H229),\"\",($E$3&\".\"&+(COUNTA(H$4:H229))))","v":""},{"$nulls":9},"",64]
[{"$f":"IF(ISBLANK(H230),\"\",($E$3&\".\"&+(COUNTA(H$4:H230))))","v":"6.34"},null,null,"(a)","Selected granular material ",null,null,"m³",1,null,"R/O",65]
[{"$f":"IF(ISBLANK(H231),\"\",($E$3&\".\"&+(COUNTA(H$4:H231))))","v":""},{"$nulls":9},{"$f":"IF(I231<>0,I231*J231,\"\")","v":""},66]
[{"$f":"IF(ISBLANK(H232),\"\",($E$3&\".\"&+(COUNTA(H$4:H232))))","v":"6.35"},null,null,"(b)","Selected fill material (sieved)",null,null,"m³",1,null,"R/O",67]
[{"$nulls":11},68]
[{"$nulls":11},69]
[{"$nulls":11},70]
[{"$nulls":9},"Carried Forward",null,71]
[{"$nulls":9},"Brought Forward",null,72]
[{"$nulls":11},73]
[{"$f":"IF(ISBLANK(H239),\"\",($E$3&\".\"&+(COUNTA(H$4:H239))))","v":""},null,"BEDDING BY IMPORTATION",{"$nulls":8},74]
[{"$f":"IF(ISBLANK(H240),\"\",($E$3&\".\"&+(COUNTA(H$4:H240))))","v":""},{"$nulls":10},75]
[{"$f":"IF(ISBLANK(H241),\"\",($E$3&\".\"&+(COUNTA(H$4:H241))))","v":""},"8.2.2",".2","Provision of bedding material by importation from",{"$nulls":6},{"$f":"IF(I239<>0,I239*J239,\"\")","v":""},76]
[{"$f":"IF(ISBLANK(H242),\"\",($E$3&\".\"&+(COUNTA(H$4:H242))))","v":""},null,null,"other necessary excavations within the freehaul ",{"$nulls":7},77]
[{"$f":"IF(ISBLANK(H243),\"\",($E$3&\".\"&+(COUNTA(H$4:H243))))","v":""},null,null,"distance",{"$nulls":7},78]
[{"$f":"IF(ISBLANK(H244),\"\",($E$3&\".\"&+(COUNTA(H$4:H244))))","v":""},{"$nulls":10},79]
[{"$f":"IF(ISBLANK(H245),\"\",($E$3&\".\"&+(COUNTA(H$4:H245))))","v":"6.36"},null,null,"(a)","Selected granular material ",null,null,"m³",{"$f":"ROUNDUP((I171*1.2*0.9)-(0.282),0)","v":22},null,null,80]
[{"$f":"IF(ISBLANK(H246),\"\",($E$3&\".\"&+(COUNTA(H$4:H246))))","v":""}]
[{"$f":"IF(ISBLANK(H247),\"\",($E$3&\".\"&+(COUNTA(H$4:H247))))","v":"6.37"},null,null,"(b)","Selected fill material",null,null,"m³",{"$f":"ROUNDUP((I171*1.2*0.3),0)","v":8},null,null,1]
[{"$f":"IF(ISBLANK(H248),\"\",($E$3&\".\"&+(COUNTA(H$4:H248))))","v":""},{"$nulls":10},2]
[{"$f":"IF(ISBLANK(H249),\"\",($E$3&\".\"&+(COUNTA(H$4:H249))))","v":""},"SANS",{"$nulls":9},3]
[{"$f":"IF(ISBLANK(H250),\"\",($E$3&\".\"&+(COUNTA(H$4:H250))))","v":""},"1200 L","MEDIUM PRESSURE PIPELINES",{"$nulls":8},4]
[{"$f":"IF(ISBLANK(H251),\"\",($E$3&\".\"&+(COUNTA(H$4:H251))))","v":""},{"$nulls":10},5]
[{"$f":"IF(ISBLANK(H252),\"\",($E$3&\".\"&+(COUNTA(H$4:H252))))","v":""},null,"STEEL PIPES",{"$nulls":8},6]
[{"$f":"IF(ISBLANK(H253),\"\",($E$3&\".\"&+(COUNTA(H$4:H253))))","v":""},{"$nulls":9},"",7]
[{"$f":"IF(ISBLANK(H254),\"\",($E$3&\".\"&+(COUNTA(H$4:H254))))","v":""},"8.2.1","Supply, lay, joint, (bevel ended for fieldwelding) and bed and test ",{"$nulls":7},"",8]
[{"$f":"IF(ISBLANK(H255),\"\",($E$3&\".\"&+(COUNTA(H$4:H255))))","v":""},null,"steel water pipes ",{"$nulls":7},"",9]
[{"$f":"IF(ISBLANK(H256),\"\",($E$3&\".\"&+(COUNTA(H$4:H256))))","v":""},{"$nulls":9},"",10]
[{"$f":"IF(ISBLANK(H257),\"\",($E$3&\".\"&+(COUNTA(H$4:H257))))","v":""},null,"STRAIGHT STEEL PIPES",{"$nulls":7},"",11]
[{"$f":"IF(ISBLANK(H258),\"\",($E$3&\".\"&+(COUNTA(H$4:H258))))","v":""},{"$nulls":9},"",12]
[{"$f":"IF(ISBLANK(H259),\"\",($E$3&\".\"&+(COUNTA(H$4:H259))))","v":""},null,"Supply and deliver flanged steel water pipes",{"$nulls":7},"",13]
[{"$f":"IF(ISBLANK(H260),\"\",($E$3&\".\"&+(COUNTA(H$4:H260))))","v":""},null,"complete with solvent‑free epoxy internal lining",{"$nulls":7},"",14]
[{"$f":"IF(ISBLANK(H261),\"\",($E$3&\".\"&+(COUNTA(H$4:H261))))","v":""},null,"and 3‑layer polyethylene (3LPE) external coating.",{"$nulls":7},"",15]
[{"$f":"IF(ISBLANK(H262),\"\",($E$3&\".\"&+(COUNTA(H$4:H262))))","v":""},{"$nulls":9},"",16]
[{"$f":"IF(ISBLANK(H263),\"\",($E$3&\".\"&+(COUNTA(H$4:H263))))","v":""},null,"All pipes shall be suitable for a PN25 pressure rating",{"$nulls":7},"",17]
[{"$f":"IF(ISBLANK(H264),\"\",($E$3&\".\"&+(COUNTA(H$4:H264))))","v":""},null,"and shall be supplied with EN 1092‑1 PN25 weld‑neck",{"$nulls":7},"",18]
[{"$f":"IF(ISBLANK(H265),\"\",($E$3&\".\"&+(COUNTA(H$4:H265))))","v":""},null,"flanges factory‑welded to the pipe ends.",{"$nulls":7},"",19]
[{"$f":"IF(ISBLANK(H266),\"\",($E$3&\".\"&+(COUNTA(H$4:H266))))","v":""},{"$nulls":9},"",20]
[{"$f":"IF(ISBLANK(H267),\"\",($E$3&\".\"&+(COUNTA(H$4:H267))))","v":""},null,"Note: Cutting and welding of pipe mitres up to 3°",{"$nulls":7},"",21]
[{"$f":"IF(ISBLANK(H268),\"\",($E$3&\".\"&+(COUNTA(H$4:H268))))","v":""},null,"are included in the price for pipe installation below",{"$nulls":7},"",22]
[{"$f":"IF(ISBLANK(H269),\"\",($E$3&\".\"&+(COUNTA(H$4:H269))))","v":""},null,"(only mitres exceeding 3° are measured elsewhere).",{"$nulls":7},"",23]
[{"$f":"IF(ISBLANK(H270),\"\",($E$3&\".\"&+(COUNTA(H$4:H270))))","v":""},{"$nulls":9},"",24]
[{"$f":"IF(ISBLANK(H271),\"\",($E$3&\".\"&+(COUNTA(H$4:H271))))","v":""},null,".1","Grade X42 steel pipe (8mm)",{"$nulls":7},25]
[{"$f":"IF(ISBLANK(H272),\"\",($E$3&\".\"&+(COUNTA(H$4:H272))))","v":""},{"$nulls":10},26]
[{"$f":"IF(ISBLANK(H273),\"\",($E$3&\".\"&+(COUNTA(H$4:H273))))","v":"6.38"},null,null,"(a)","ND600 steel pipeline",null,null,"m",2.5,null,null,27]
[{"$f":"IF(ISBLANK(H274),\"\",($E$3&\".\"&+(COUNTA(H$4:H274))))","v":""},{"$nulls":10},28]
[{"$f":"IF(ISBLANK(H275),\"\",($E$3&\".\"&+(COUNTA(H$4:H275))))","v":""},null,"DISINFECT PIPES",{"$nulls":8},29]
[{"$f":"IF(ISBLANK(H276),\"\",($E$3&\".\"&+(COUNTA(H$4:H276))))","v":""},{"$nulls":10},30]
[{"$f":"IF(ISBLANK(H277),\"\",($E$3&\".\"&+(COUNTA(H$4:H277))))","v":""},"8.2.1",".2","Disinfect pipes",{"$nulls":7},31]
[{"$f":"IF(ISBLANK(H278),\"\",($E$3&\".\"&+(COUNTA(H$4:H278))))","v":""},{"$nulls":10},32]
[{"$f":"IF(ISBLANK(H279),\"\",($E$3&\".\"&+(COUNTA(H$4:H279))))","v":"6.39"},null,null,"(a)","600mm Diameter",null,null,"m",{"$f":"I273","v":2.5},null,null,33]
[{"$f":"IF(ISBLANK(H280),\"\",($E$3&\".\"&+(COUNTA(H$4:H280))))","v":""},{"$nulls":10},34]
[{"$f":"IF(ISBLANK(H281),\"\",($E$3&\".\"&+(COUNTA(H$4:H281))))","v":""},null,"PIPE FITTINGS",{"$nulls":8},35]
[{"$f":"IF(ISBLANK(H282),\"\",($E$3&\".\"&+(COUNTA(H$4:H282))))","v":""},{"$nulls":10},36]
[{"$f":"IF(ISBLANK(H283),\"\",($E$3&\".\"&+(COUNTA(H$4:H283))))","v":""},null,"PIPE FITTINGS",{"$nulls":8},37]
[{"$f":"IF(ISBLANK(H284),\"\",($E$3&\".\"&+(COUNTA(H$4:H284))))","v":""},null,"Extra over items 8.2.1(a) for supply, install, bed and",{"$nulls":8},38]
[{"$f":"IF(ISBLANK(H285),\"\",($E$3&\".\"&+(COUNTA(H$4:H285))))","v":""},null,"test the following Grade X42 steel fittings, including cutting of pipes,",{"$nulls":8},39]
[{"$f":"IF(ISBLANK(H286),\"\",($E$3&\".\"&+(COUNTA(H$4:H286))))","v":""},null,"couplings or welding, etc (linging and coating included)",{"$nulls":8},40]
[{"$f":"IF(ISBLANK(H287),\"\",($E$3&\".\"&+(COUNTA(H$4:H287))))","v":""},{"$nulls":10},41]
[{"$f":"IF(ISBLANK(H288),\"\",($E$3&\".\"&+(COUNTA(H$4:H288))))","v":""},null,".1","Spool Pieces",{"$nulls":7},42]
[{"$f":"IF(ISBLANK(H289),\"\",($E$3&\".\"&+(COUNTA(H$4:H289))))","v":""},{"$nulls":10},43]
[{"$f":"IF(ISBLANK(H290),\"\",($E$3&\".\"&+(COUNTA(H$4:H290))))","v":"6.40"},null,null,"(a)","SS puddle pipe ND600 (one end plain) (PS5)",null,null,"no",1,null,null,44]
[{"$f":"IF(ISBLANK(H291),\"\",($E$3&\".\"&+(COUNTA(H$4:H291))))","v":""},{"$nulls":10},45]
[{"$f":"IF(ISBLANK(H292),\"\",($E$3&\".\"&+(COUNTA(H$4:H292))))","v":""},null,"VALVES AND APPURTENANCES",{"$nulls":8},46]
[{"$f":"IF(ISBLANK(H293),\"\",($E$3&\".\"&+(COUNTA(H$4:H293))))","v":""},{"$nulls":9},{"$f":"IF(I291<>0,I291*J291,\"\")","v":""},47]
[{"$f":"IF(ISBLANK(H294),\"\",($E$3&\".\"&+(COUNTA(H$4:H294))))","v":""},null,"New valves (AVK or similar approved by Engineer), including ",{"$nulls":7},"",48]
[{"$f":"IF(ISBLANK(H295),\"\",($E$3&\".\"&+(COUNTA(H$4:H295))))","v":""},null,"supply, installation and tetsing",{"$nulls":7},{"$f":"IF(I293<>0,I293*J293,\"\")","v":""},49]
[{"$f":"IF(ISBLANK(H296),\"\",($E$3&\".\"&+(COUNTA(H$4:H296))))","v":""},{"$nulls":9},{"$f":"IF(I293<>0,I293*J293,\"\")","v":""},50]
[{"$f":"IF(ISBLANK(H297),\"\",($E$3&\".\"&+(COUNTA(H$4:H297))))","v":"6.41"},null,".1","NB600 RSV Gate valve (Class 10)",{"$nulls":3},"no",1,null,null,51]
[{"$f":"IF(ISBLANK(H298),\"\",($E$3&\".\"&+(COUNTA(H$4:H298))))","v":""},{"$nulls":10},52]
[{"$f":"IF(ISBLANK(H299),\"\",($E$3&\".\"&+(COUNTA(H$4:H299))))","v":""},{"$nulls":10},53]
[{"$f":"IF(ISBLANK(H300),\"\",($E$3&\".\"&+(COUNTA(H$4:H300))))","v":""},{"$nulls":10},54]
[{"$f":"IF(ISBLANK(H301),\"\",($E$3&\".\"&+(COUNTA(H$4:H301))))","v":""},{"$nulls":10},55]
[{"$f":"IF(ISBLANK(H302),\"\",($E$3&\".\"&+(COUNTA(H$4:H302))))","v":""},{"$nulls":10},56]
[{"$nulls":11},57]
[{"$nulls":11},58]
[{"$nulls":11},59]
[{"$nulls":11},60]
[{"$nulls":11},61]
[{"$f":"IF(ISBLANK(H308),\"\",($E$3&\".\"&+(COUNTA(H$4:H308))))","v":""},{"$nulls":10},62]
[{"$f":"IF(ISBLANK(H309),\"\",($E$3&\".\"&+(COUNTA(H$4:H309))))","v":""},{"$nulls":10},63]
[{"$f":"IF(ISBLANK(H310),\"\",($E$3&\".\"&+(COUNTA(H$4:H310))))","v":""},{"$nulls":10},64]
[{"$f":"IF(ISBLANK(H311),\"\",($E$3&\".\"&+(COUNTA(H$4:H311))))","v":""},null,{"$f":"C3","v":"Schedule "},null,{"$f":"E3","v":6},{"$nulls":6},65]
[{"$f":"IF(ISBLANK(H312),\"\",($E$3&\".\"&+(COUNTA(H$4:H312))))","v":""},null,{"$f":"C4","v":"BUFFER TANK"},{"$nulls":7},"",66]
[{"$f":"IF(ISBLANK(H313),\"\",($E$6&\".\"&+(COUNTA(H$4:H313))))","v":""},{"$nulls":9},"",67]
[null,null,"Carried forward to Summary of Bills",{"$nulls":6},"Total",null,68]
[{"$nulls":11},69]
[{"$nulls":11},70]
[{"$nulls":11},71]
[{"$nulls":11},72]
[{"$nulls":11},73]
[{"$nulls":11},74]
[{"$nulls":11},75]
[{"$nulls":11},76]
[{"$nulls":11},77]
[{"$nulls":11},78]
[{"$nulls":11},79]
[{"$nulls":11},80]

{"sheet":"7. Medium Pipes","index":6,"n_rows":492,"n_cols":22,"rows_kept":492,"merged":[[0,0,1,0],[0,1,1,1],[0,2,1,6],[0,7,1,7],[0,8,1,8],[0,9,1,9],[0,10,1,10],[5,2,5,6],[57,2,57,6],[80,2,80,6],[101,2,101,6],[118,2,118,6],[138,2,138,6],[145,2,145,6],[197,2,197,6],[238,2,238,6],[260,2,260,6],[323,2,323,6],[345,2,345,6],[356,2,356,6],[357,2,357,3],[357,4,357,5],[358,2,358,6],[359,2,359,6],[360,2,360,6],[361,2,361,6],[362,2,362,6],[363,2,363,3],[363,4,363,5],[365,2,365,3],[365,4,365,5],[366,4,366,6],[367,2,367,3],[367,4,367,5],[368,2,368,6],[369,2,369,6],[370,2,370,6],[371,2,371,6],[372,2,372,6],[373,2,373,3],[373,4,373,5],[375,2,375,3],[375,4,375,5],[376,4,376,6],[378,4,378,6],[380,4,380,6],[382,2,382,6],[399,2,399,6]]}
["Item","Ref.","Description",{"$nulls":4},"Unit","Qty","Rate","Amount",{"$nulls":9},"Check","Check"]
[{"$nulls":14},"Bypass Pipeline",140.997,0.3,{"$f":"$P$2*IF($Q$2>2,2,$Q$2)*1","v":{"v":42.2991,"d":"42.3"}},{"$f":"$P$2*IF($Q$2>2,$Q$2-2,0)*1","v":{"v":0,"d":"0.0"}},null,{"$f":"SUM(R2:S2)","v":{"v":42.2991,"d":"42.3"}},{"$f":"P2*Q2*1","v":{"v":42.2991,"d":"42.3"}}]
[null,"SANS","Schedule",null,7,{"$nulls":5},{"$f":"IF(I3<>0,I3*J3,\"\")","v":""},1,null,null,"Cross-connection",17.72,{"$f":"AVERAGE(1.969,1.984,2.757,)","v":1.6775000000000002},{"$f":"$P$3*IF($Q$3>2,2,$Q$3)*1","v":{"v":29.7253,"d":"29.7"}},{"$f":"$P$3*IF($Q$3>2,$Q$3-2,0)*1","v":{"v":0,"d":"0.0"}},null,{"$f":"SUM(R3:S3)","v":{"v":29.7253,"d":"29.7"}},{"$f":"P3*Q3*1","v":{"v":29.7253,"d":"29.7"}}]
[null,"1200 DB","MEDIUM PRESSURE PIPELINES",{"$nulls":7},{"$f":"IF(I4<>0,I4*J4,\"\")","v":""},2,null,null,"BPT Outlet",20,{"$f":"1490.5-1485.64","v":4.8599999999999},{"$f":"$P$4*IF($Q$4>2,2,$Q$4)*1","v":{"v":40,"d":"40.0"}},{"$f":"$P$4*IF($Q$4>2,$Q$4-2,0)*1","v":{"v":57.199999999998,"d":"57.2"}},null,{"$f":"SUM(R4:S4)","v":{"v":97.199999999998,"d":"97.2"}},{"$f":"P4*Q4*1","v":{"v":97.199999999998,"d":"97.2"}}]
[{"$nulls":10},"",3,null,null,"BPT Overflow",25,{"$f":"1487.5-1485.59","v":1.9100000000000819},{"$f":"$P$5*IF($Q$5>2,2,$Q$5)*1","v":{"v":47.750000000002046,"d":"47.8"}},{"$f":"$P$5*IF($Q$5>2,$Q$5-2,0)*1","v":{"v":0,"d":"0.0"}},null,{"$f":"SUM(R5:S5)","v":{"v":47.750000000002046,"d":"47.8"}},{"$f":"P5*Q5*1","v":{"v":47.750000000002046,"d":"47.8"}}]
[{"$f":"IF(ISBLANK(H6),\"\",($E$3&\".\"&+(COUNTA(H$3:H6))))","v":""},null,"EARTHWORKS ( PIPE TRENCHES )",{"$nulls":7},"",4,null,null,"TOTAL",{"$f":"SUM(P2:P5)","v":203.717},null,{"$f":"SUM(R2:R5)","v":{"v":159.77440000000206,"d":"159.8"}},{"v":57.199999999998,"d":"57.2"}]
[{"$f":"IF(ISBLANK(H7),\"\",($E$3&\".\"&+(COUNTA(H$3:H7))))","v":""},{"$nulls":9},"",5]
[{"$f":"IF(ISBLANK(H8),\"\",($E$3&\".\"&+(COUNTA(H$3:H8))))","v":""},null,"CLEAR AND GRUB SITE",{"$nulls":8},6]
[{"$f":"IF(ISBLANK(H9),\"\",($E$3&\".\"&+(COUNTA(H$3:H9))))","v":""},{"$nulls":10},7]
[{"$f":"IF(ISBLANK(H10),\"\",($E$3&\".\"&+(COUNTA(H$3:H10))))","v":""},"8.3.1",".1","Clear and grub strips for (where not cleared",{"$nulls":7},8]
[{"$f":"IF(ISBLANK(H11),\"\",($E$3&\".\"&+(COUNTA(H$3:H11))))","v":""},null,null,"within other clear and grub areas)",{"$nulls":7},9]
[{"$f":"IF(ISBLANK(H12),\"\",($E$3&\".\"&+(COUNTA(H$3:H12))))","v":""},{"$nulls":10},10]
[{"$f":"IF(ISBLANK(H13),\"\",($E$3&\".\"&+(COUNTA(H$3:H13))))","v":"7.1"},null,null,"(a)","Pipeline 3m wide",null,null,"m",{"$f":"ROUNDUP($P$6,0)","v":204},null,null,11]
[{"$f":"IF(ISBLANK(H14),\"\",($E$3&\".\"&+(COUNTA(H$3:H14))))","v":""},{"$nulls":10},12]
[{"$f":"IF(ISBLANK(H15),\"\",($E$3&\".\"&+(COUNTA(H$3:H15))))","v":""},null,"EXCAVATION AND BACKFILLING",{"$nulls":8},13]
[{"$f":"IF(ISBLANK(H16),\"\",($E$3&\".\"&+(COUNTA(H$3:H16))))","v":""},{"$nulls":10},14]
[{"$f":"IF(ISBLANK(H17),\"\",($E$3&\".\"&+(COUNTA(H$3:H17))))","v":""},null,"Excavate in all materials, backfill and compact to 90%",{"$nulls":8},15]
[{"$f":"IF(ISBLANK(H18),\"\",($E$3&\".\"&+(COUNTA(H$3:H18))))","v":""},null,"mod AASHTO density, and dispose of surplus and",{"$nulls":8},16]
[{"$f":"IF(ISBLANK(H19),\"\",($E$3&\".\"&+(COUNTA(H$3:H19))))","v":""},null,"unsuitable materials within the freehaul distance for",{"$nulls":8},17]
[{"$f":"IF(ISBLANK(H20),\"\",($E$3&\".\"&+(COUNTA(H$3:H20))))","v":""},null,"trenches",{"$nulls":8},18]
[{"$f":"IF(ISBLANK(H21),\"\",($E$3&\".\"&+(COUNTA(H$3:H21))))","v":""},{"$nulls":10},19]
[{"$f":"IF(ISBLANK(H22),\"\",($E$3&\".\"&+(COUNTA(H$3:H22))))","v":""},"8.3.2",".1","Up to 1m wide",{"$nulls":7},20]
[{"$f":"IF(ISBLANK(H23),\"\",($E$3&\".\"&+(COUNTA(H$3:H23))))","v":""},{"$nulls":10},21]
[{"$f":"IF(ISBLANK(H24),\"\",($E$3&\".\"&+(COUNTA(H$3:H24))))","v":"7.2"},null,null,"(a)","Over 1m and up to 2m deep",null,null,"m³",{"$f":"ROUNDUP($R$6,0)","v":{"v":160,"d":"160.0"}},null,null,22]
[{"$f":"IF(ISBLANK(H25),\"\",($E$3&\".\"&+(COUNTA(H$3:H25))))","v":""},{"$nulls":10},23]
[{"$f":"IF(ISBLANK(H26),\"\",($E$3&\".\"&+(COUNTA(H$3:H26))))","v":"7.3"},null,null,"(b)","Over 2m and up to 3m deep",null,null,"m³",{"$f":"ROUNDUP($S$6,0)","v":{"v":58,"d":"58.0"}},null,null,24]
[{"$f":"IF(ISBLANK(H27),\"\",($E$3&\".\"&+(COUNTA(H$3:H27))))","v":""},{"$nulls":10},25]
[{"$f":"IF(ISBLANK(H28),\"\",($E$3&\".\"&+(COUNTA(H$3:H28))))","v":""},"8.3.2",".2","Over 1m and up to 2m wide",{"$nulls":6},{"$f":"IF(I28<>0,I28*J28,\"\")","v":""},26]
[{"$f":"IF(ISBLANK(H29),\"\",($E$3&\".\"&+(COUNTA(H$3:H29))))","v":""},{"$nulls":9},"",27]
[{"$f":"IF(ISBLANK(H30),\"\",($E$3&\".\"&+(COUNTA(H$3:H30))))","v":"7.4"},null,null,"(a)","Over 1m and up to 2m deep",null,null,"m³",1,null,"R/O",28]
[{"$f":"IF(ISBLANK(H31),\"\",($E$3&\".\"&+(COUNTA(H$3:H31))))","v":""},{"$nulls":9},"",29]
[{"$f":"IF(ISBLANK(H32),\"\",($E$3&\".\"&+(COUNTA(H$3:H32))))","v":"7.5"},null,null,"(b)","Over 2m and up to 3m deep",null,null,"m³",1,null,"R/O",30]
[{"$f":"IF(ISBLANK(H33),\"\",($E$3&\".\"&+(COUNTA(H$3:H33))))","v":""},{"$nulls":9},"",31]
[{"$f":"IF(ISBLANK(H34),\"\",($E$3&\".\"&+(COUNTA(H$3:H34))))","v":""},"8.3.2",".3","Over 2m and up to 3m wide",{"$nulls":6},"",32]
[{"$f":"IF(ISBLANK(H35),\"\",($E$3&\".\"&+(COUNTA(H$3:H35))))","v":""},{"$nulls":9},"",33]
[{"$f":"IF(ISBLANK(H36),\"\",($E$3&\".\"&+(COUNTA(H$3:H36))))","v":"7.6"},null,null,"(a)","Over 1m and up to 2m deep",null,null,"m³",1,null,"R/O",34]
[{"$f":"IF(ISBLANK(H37),\"\",($E$3&\".\"&+(COUNTA(H$3:H37))))","v":""},{"$nulls":10},35]
[{"$f":"IF(ISBLANK(H38),\"\",($E$3&\".\"&+(COUNTA(H$3:H38))))","v":"7.7"},null,null,"(b)","Over 2m and up to 3m deep",null,null,"m³",1,null,"R/O",36]
[{"$f":"IF(ISBLANK(H39),\"\",($E$3&\".\"&+(COUNTA(H$3:H39))))","v":""},{"$nulls":10},37]
[{"$f":"IF(ISBLANK(H40),\"\",($E$3&\".\"&+(COUNTA(H$3:H40))))","v":"7.8"},null,null,"(c)","Over 3m and up to 4m deep",null,null,"m³",1,null,"R/O",38]
[{"$f":"IF(ISBLANK(H41),\"\",($E$3&\".\"&+(COUNTA(H$3:H41))))","v":""},{"$nulls":9},"",39]
[{"$f":"IF(ISBLANK(H42),\"\",($E$3&\".\"&+(COUNTA(H$3:H42))))","v":""},"8.3.2",".4","Extra over items 8.3.2 (a) for",{"$nulls":6},"",40]
[{"$f":"IF(ISBLANK(H43),\"\",($E$3&\".\"&+(COUNTA(H$3:H43))))","v":""},{"$nulls":10},41]
[{"$f":"IF(ISBLANK(H44),\"\",($E$3&\".\"&+(COUNTA(H$3:H44))))","v":"7.9"},null,null,"(a)","Hard rock excavation",null,null,"m³",{"$f":"ROUNDUP($Q$50,0)","v":63},null,null,42]
[{"$f":"IF(ISBLANK(H45),\"\",($E$3&\".\"&+(COUNTA(H$3:H45))))","v":""},{"$nulls":10},43,null,"Hard rock excavation"]
[{"$f":"IF(ISBLANK(H46),\"\",($E$3&\".\"&+(COUNTA(H$3:H46))))","v":"7.10"},null,null,"(b)","Hand excavation to expose existing services",null,null,"m³",{"$f":"ROUNDUP(10%*$R$6,0)","v":16},null,null,44,null,null,"Length","Tench Xsection","Volume"]
[{"$f":"IF(ISBLANK(H47),\"\",($E$3&\".\"&+(COUNTA(H$3:H47))))","v":""},{"$nulls":10},45,null,"Bypass",30,{"$f":"1*$Q$2","v":0.3},{"$f":"O47*P47","v":9}]
[{"$f":"IF(ISBLANK(H48),\"\",($E$3&\".\"&+(COUNTA(H$3:H48))))","v":""},"8.3.2",".5","Excavate unsuitable material from trench bottom, ",{"$nulls":7},46,null,"BPT Outlet",{"$f":"P4","v":20},{"$f":"1*1.2","v":1.2},{"$f":"O48*P48","v":24}]
[{"$f":"IF(ISBLANK(H49),\"\",($E$3&\".\"&+(COUNTA(H$3:H49))))","v":""},null,null,"dispose within the freehaul distance, and re-fill ",{"$nulls":7},47,null,"BPT Overflow",{"$f":"P5","v":25},{"$f":"1*1.2","v":1.2},{"$f":"O49*P49","v":30}]
[{"$f":"IF(ISBLANK(H50),\"\",($E$3&\".\"&+(COUNTA(H$3:H50))))","v":""},null,null,"with suitable imported material compacted to ",{"$nulls":7},48,{"$nulls":3},"TOTAL",{"$f":"SUM(Q47:Q49)","v":63}]
[{"$f":"IF(ISBLANK(H51),\"\",($E$3&\".\"&+(COUNTA(H$3:H51))))","v":"7.11"},null,null,"90% mod AASHTO density",{"$nulls":3},"m³",{"$f":"ROUNDUP(10%*$R$6,0)","v":16},null,null,49]
[{"$f":"IF(ISBLANK(H52),\"\",($E$3&\".\"&+(COUNTA(H$3:H52))))","v":""},{"$nulls":10},50]
[{"$f":"IF(ISBLANK(H53),\"\",($E$3&\".\"&+(COUNTA(H$3:H53))))","v":""},"8.3.3.1",null,"Make up deficiancy in backfill material (Provisional)",{"$nulls":7},51]
[{"$f":"IF(ISBLANK(H54),\"\",($E$3&\".\"&+(COUNTA(H$3:H54))))","v":""},"8.3.2",".6","Excavate from stockpile material on site and place over ",{"$nulls":7},52]
[{"$f":"IF(ISBLANK(H55),\"\",($E$3&\".\"&+(COUNTA(H$3:H55))))","v":""},null,null,"pipeline to form berm, including placement, compacting",{"$nulls":7},53]
[{"$f":"IF(ISBLANK(H56),\"\",($E$3&\".\"&+(COUNTA(H$3:H56))))","v":"7.12"},null,null,"and shaping of embankments to 90% mod AASHTO density",{"$nulls":3},"m³",500,null,null,54,null,"Hard rock excavation"]
[{"$f":"IF(ISBLANK(H57),\"\",($E$3&\".\"&+(COUNTA(H$3:H57))))","v":""},{"$nulls":10},55]
[{"$f":"IF(ISBLANK(H58),\"\",($E$3&\".\"&+(COUNTA(H$3:H58))))","v":""},"SANS","SHORING OF EXCAVATIONS",{"$nulls":7},{"$f":"IF(I58<>0,I58*J58,\"\")","v":""},56]
[{"$f":"IF(ISBLANK(H59),\"\",($E$3&\".\"&+(COUNTA(H$3:H59))))","v":""},"1200 DB",{"$nulls":8},"",57,null,"Terrace filling over pipe"]
[{"$f":"IF(ISBLANK(H60),\"\",($E$3&\".\"&+(COUNTA(H$3:H60))))","v":""},null,"Temporary support to sides of excavations",{"$nulls":7},"",58,null,null,"Length","Terrace Xsection","Volume"]
[{"$f":"IF(ISBLANK(H61),\"\",($E$3&\".\"&+(COUNTA(H$3:H61))))","v":""},{"$nulls":9},"",59,null,"Bypass",{"$f":"141-12","v":129},{"$f":"(1.6*1.6)+(1.6*1.6*0.5)","v":3.8400000000000007},{"$f":"O61*P61","v":495.36000000000007}]
[{"$f":"IF(ISBLANK(H62),\"\",($E$3&\".\"&+(COUNTA(H$3:H62))))","v":""},"8.3.4",".1","Shore trench opposite structure or service",{"$nulls":6},"",60,{"$nulls":3},"TOTAL",{"$f":"SUM(Q61:Q61)","v":495.36000000000007}]
[{"$f":"IF(ISBLANK(H63),\"\",($E$3&\".\"&+(COUNTA(H$3:H63))))","v":""},{"$nulls":10},61]
[{"$f":"IF(ISBLANK(H64),\"\",($E$3&\".\"&+(COUNTA(H$3:H64))))","v":"7.13"},null,null,"(a)","Pipeline excavations (both sides) ",null,null,"m",{"$f":"P6","v":203.717},null,null,62]
[{"$f":"IF(ISBLANK(H65),\"\",($E$3&\".\"&+(COUNTA(H$3:H65))))","v":""},{"$nulls":10},63]
[{"$f":"IF(ISBLANK(H66),\"\",($E$3&\".\"&+(COUNTA(H$3:H66))))","v":""},null,"NOTE:",null,"The Contractor shall be deemed to have ",{"$nulls":6},64]
[{"$f":"IF(ISBLANK(H67),\"\",($E$3&\".\"&+(COUNTA(H$3:H67))))","v":""},{"$nulls":3},"allowed for all necessary temporary works and ",{"$nulls":6},65]
[{"$f":"IF(ISBLANK(H68),\"\",($E$3&\".\"&+(COUNTA(H$3:H68))))","v":""},{"$nulls":3},"shoring required to ensure excavation ",{"$nulls":6},66]
[{"$f":"IF(ISBLANK(H69),\"\",($E$3&\".\"&+(COUNTA(H$3:H69))))","v":""},{"$nulls":3},"stability, including in embankment conditions.",{"$nulls":6},67]
[{"$f":"IF(ISBLANK(H70),\"\",($E$3&\".\"&+(COUNTA(H$3:H70))))","v":""},{"$nulls":10},68]
[{"$f":"IF(ISBLANK(H71),\"\",($E$3&\".\"&+(COUNTA(H$3:H71))))","v":""},null,"ADDITIONAL COMPACTION",{"$nulls":8},69]
[{"$f":"IF(ISBLANK(H72),\"\",($E$3&\".\"&+(COUNTA(H$3:H72))))","v":""},{"$nulls":10},70]
[{"$f":"IF(ISBLANK(H73),\"\",($E$3&\".\"&+(COUNTA(H$3:H73))))","v":""},"8.3.3",".1","Additional compaction in road reserves",{"$nulls":7},71]
[{"$f":"IF(ISBLANK(H74),\"\",($E$3&\".\"&+(COUNTA(H$3:H74))))","v":""},{"$nulls":10},72]
[{"$f":"IF(ISBLANK(H75),\"\",($E$3&\".\"&+(COUNTA(H$3:H75))))","v":""},null,null,"(a)","Additional compaction (90% compaction ",{"$nulls":6},73]
[{"$f":"IF(ISBLANK(H76),\"\",($E$3&\".\"&+(COUNTA(H$3:H76))))","v":""},{"$nulls":3},"included elsewhere) to obtain 93% mod",{"$nulls":6},74]
[{"$f":"IF(ISBLANK(H77),\"\",($E$3&\".\"&+(COUNTA(H$3:H77))))","v":"7.14"},{"$nulls":3},"AASHTO density",null,null,"m³",8,null,null,75]
[{"$f":"IF(ISBLANK(H78),\"\",($E$3&\".\"&+(COUNTA(H$3:H78))))","v":""},{"$nulls":10},76,null,"Roadcrossing by pipe"]
[{"$nulls":9},"Carried Forward",null,77,null,null,"Length","Road Xsection","Volume"]
[{"$nulls":9},"Brought Forward",null,78]
[{"$f":"IF(ISBLANK(H81),\"\",($E$3&\".\"&+(COUNTA(H$3:H81))))","v":""},"SANS","WORK TO EXISTING SERVICES",{"$nulls":8},79]
[{"$f":"IF(ISBLANK(H82),\"\",($E$3&\".\"&+(COUNTA(H$3:H82))))","v":""},"1200 L",{"$nulls":9},80,null,"Bypass",6,{"$f":"(1.6*1.6*0.5)","v":1.2800000000000002},{"$f":"O82*P82","v":7.6800000000000015}]
[{"$f":"IF(ISBLANK(H83),\"\",($E$3&\".\"&+(COUNTA(H$3:H83))))","v":""},null,"WORK TO EXISTING PIPELINES"]
[{"$f":"IF(ISBLANK(H84),\"\",($E$3&\".\"&+(COUNTA(H$3:H84))))","v":""}]
[{"$f":"IF(ISBLANK(H85),\"\",($E$3&\".\"&+(COUNTA(H$3:H85))))","v":""},"8.2.8",".1","Cutting into existing pipelines",{"$nulls":7},1,{"$nulls":3},"TOTAL",{"$f":"SUM(Q82:Q82)","v":7.6800000000000015}]
[{"$f":"IF(ISBLANK(H86),\"\",($E$3&\".\"&+(COUNTA(H$3:H86))))","v":""},{"$nulls":10},2]
[{"$f":"IF(ISBLANK(H87),\"\",($E$3&\".\"&+(COUNTA(H$3:H87))))","v":"7.15"},null,null,"(a) ","Existing ND700 steel pipeline (P1) – cut-in / connection",null,null,"no",2,null,null,3]
[{"$nulls":11},4]
[{"$f":"IF(ISBLANK(H89),\"\",($E$3&\".\"&+(COUNTA(H$3:H89))))","v":"7.16"},null,null,"(b)","Existing ND1200 steel pipeline (P2) – cut-in / connection",null,null,"no",1,null,null,5]
[{"$f":"IF(ISBLANK(H90),\"\",($E$3&\".\"&+(COUNTA(H$3:H90))))","v":""},{"$nulls":9},"",6]
[{"$f":"IF(ISBLANK(H91),\"\",($E$3&\".\"&+(COUNTA(H$3:H91))))","v":""},null,".2","Preparation and repairs",{"$nulls":6},"",7]
[{"$f":"IF(ISBLANK(H92),\"\",($E$3&\".\"&+(COUNTA(H$3:H92))))","v":""},{"$nulls":9},"",8]
[{"$f":"IF(ISBLANK(H93),\"\",($E$3&\".\"&+(COUNTA(H$3:H93))))","v":"7.17"},null,null,"(a) ","Surface preparation, coating repair and wrapping to existing pipes",null,null,"m²",null,null,"R/O",9]
[{"$nulls":11},10]
[{"$f":"IF(ISBLANK(H95),\"\",($E$3&\".\"&+(COUNTA(H$3:H95))))","v":"7.18"},null,null,"(b)","Repair of internal cement mortar lining at cuts and joints",null,null,"m",null,null,"R/O",11]
[{"$f":"IF(ISBLANK(H96),\"\",($E$3&\".\"&+(COUNTA(H$3:H96))))","v":""},{"$nulls":9},"",12]
[{"$f":"IF(ISBLANK(H97),\"\",($E$3&\".\"&+(COUNTA(H$3:H97))))","v":""},null,".3","General connection item",{"$nulls":6},"",13]
[{"$f":"IF(ISBLANK(H98),\"\",($E$3&\".\"&+(COUNTA(H$3:H98))))","v":""},{"$nulls":9},"",14]
[{"$f":"IF(ISBLANK(H99),\"\",($E$3&\".\"&+(COUNTA(H$3:H99))))","v":""},null,null,"(a) ","Cutting into and connection to existing pipelines, including",{"$nulls":5},"",15]
[{"$f":"IF(ISBLANK(H100),\"\",($E$3&\".\"&+(COUNTA(H$3:H100))))","v":"7.19"},{"$nulls":3},"welding, coating, testing and reinstatement",null,null,"no",1,null,"R/O",16]
[{"$f":"IF(ISBLANK(H101),\"\",($E$3&\".\"&+(COUNTA(H$3:H101))))","v":""},{"$nulls":9},"",17]
[{"$f":"IF(ISBLANK(H102),\"\",($E$3&\".\"&+(COUNTA(H$3:H102))))","v":""},"SANS","EXISTING SERVICES",{"$nulls":8},18]
[{"$f":"IF(ISBLANK(H103),\"\",($E$3&\".\"&+(COUNTA(H$3:H103))))","v":""},"1200 DB",{"$nulls":8},{"$f":"IF(I103<>0,I103*J103,\"\")","v":""},19]
[{"$f":"IF(ISBLANK(H104),\"\",($E$3&\".\"&+(COUNTA(H$3:H104))))","v":""},null,"Existing services that intersect or adjoin pipe trench",{"$nulls":7},"",20]
[{"$f":"IF(ISBLANK(H105),\"\",($E$3&\".\"&+(COUNTA(H$3:H105))))","v":""},null,"excavations",{"$nulls":7},{"$f":"IF(I105<>0,I105*J105,\"\")","v":""},21]
[{"$f":"IF(ISBLANK(H106),\"\",($E$3&\".\"&+(COUNTA(H$3:H106))))","v":""},{"$nulls":9},"",22]
[{"$f":"IF(ISBLANK(H107),\"\",($E$3&\".\"&+(COUNTA(H$3:H107))))","v":""},"8.3.5",".1","Services that intersect a trench",{"$nulls":6},"",23]
[{"$f":"IF(ISBLANK(H108),\"\",($E$3&\".\"&+(COUNTA(H$3:H108))))","v":""},{"$nulls":9},"",24]
[{"$f":"IF(ISBLANK(H109),\"\",($E$3&\".\"&+(COUNTA(H$3:H109))))","v":"7.20"},null,null,"(a) ","Electric cable",null,null,"no",1,null,"R/O",25]
[{"$f":"IF(ISBLANK(H110),\"\",($E$3&\".\"&+(COUNTA(H$3:H110))))","v":""},{"$nulls":9},"",26]
[{"$f":"IF(ISBLANK(H111),\"\",($E$3&\".\"&+(COUNTA(H$3:H111))))","v":"7.21"},null,null,"(b)","Water main exceeding 300mm diabut not 1000mm",null,null,"no",1,null,"R/O",27]
[{"$f":"IF(ISBLANK(H112),\"\",($E$3&\".\"&+(COUNTA(H$3:H112))))","v":""},{"$nulls":9},"",28]
[{"$f":"IF(ISBLANK(H113),\"\",($E$3&\".\"&+(COUNTA(H$3:H113))))","v":""},"8.3.5",".2","Services that adjoin a trench",{"$nulls":6},"",29]
[{"$f":"IF(ISBLANK(H114),\"\",($E$3&\".\"&+(COUNTA(H$3:H114))))","v":""},{"$nulls":9},"",30]
[{"$f":"IF(ISBLANK(H115),\"\",($E$3&\".\"&+(COUNTA(H$3:H115))))","v":"7.22"},null,null,"(a) ","Electric cable",null,null,"m",1,null,"R/O",31]
[{"$f":"IF(ISBLANK(H116),\"\",($E$3&\".\"&+(COUNTA(H$3:H116))))","v":""},{"$nulls":9},"",32]
[{"$f":"IF(ISBLANK(H117),\"\",($E$3&\".\"&+(COUNTA(H$3:H117))))","v":"7.23"},null,null,"(b)","Water main not exceeding 300mm dia",null,null,"m",1,null,"R/O",33]
[{"$f":"IF(ISBLANK(H118),\"\",($E$3&\".\"&+(COUNTA(H$3:H118))))","v":""},{"$nulls":9},{"$f":"IF(I118<>0,I118*J118,\"\")","v":""},34]
[{"$f":"IF(ISBLANK(H119),\"\",($E$3&\".\"&+(COUNTA(H$3:H119))))","v":""},"SANS","BEDDING (PIPES)",{"$nulls":7},{"$f":"IF(I119<>0,I119*J119,\"\")","v":""},35]
[{"$f":"IF(ISBLANK(H120),\"\",($E$3&\".\"&+(COUNTA(H$3:H120))))","v":""},"1200 LB",{"$nulls":8},"",36]
[{"$f":"IF(ISBLANK(H121),\"\",($E$3&\".\"&+(COUNTA(H$3:H121))))","v":""},null,"BEDDING FROM TRENCH EXCAVATIONS",{"$nulls":7},"",37]
[{"$f":"IF(ISBLANK(H122),\"\",($E$3&\".\"&+(COUNTA(H$3:H122))))","v":""},{"$nulls":9},"",38]
[{"$f":"IF(ISBLANK(H123),\"\",($E$3&\".\"&+(COUNTA(H$3:H123))))","v":""},"8.2.1",".1","Provision of bedding material from trench excavations",{"$nulls":6},"",39]
[{"$f":"IF(ISBLANK(H124),\"\",($E$3&\".\"&+(COUNTA(H$3:H124))))","v":""},{"$nulls":9},"",40]
[{"$f":"IF(ISBLANK(H125),\"\",($E$3&\".\"&+(COUNTA(H$3:H125))))","v":"7.24"},null,null,"(a)","Selected granular material ",null,null,"m³",{"$f":"ROUNDUP($R$148,0)","v":21},null,"R/O",41]
[{"$f":"IF(ISBLANK(H126),\"\",($E$3&\".\"&+(COUNTA(H$3:H126))))","v":""},{"$nulls":9},"",42]
[{"$f":"IF(ISBLANK(H127),\"\",($E$3&\".\"&+(COUNTA(H$3:H127))))","v":"7.25"},null,null,"(b)","Selected fill material (sieved)",null,null,"m³",{"$f":"ROUNDUP($R$149,0)","v":62},null,"R/O",43]
[{"$f":"IF(ISBLANK(H128),\"\",($E$3&\".\"&+(COUNTA(H$3:H128))))","v":""},{"$nulls":9},"",44]
[{"$f":"IF(ISBLANK(H129),\"\",($E$3&\".\"&+(COUNTA(H$3:H129))))","v":""},null,"BEDDING BY IMPORTATION",{"$nulls":7},"",45]
[{"$f":"IF(ISBLANK(H130),\"\",($E$3&\".\"&+(COUNTA(H$3:H130))))","v":""},{"$nulls":9},"",46]
[{"$f":"IF(ISBLANK(H131),\"\",($E$3&\".\"&+(COUNTA(H$3:H131))))","v":""},"8.2.2",".1","Provision of bedding material by importation from",{"$nulls":6},"",47]
[{"$f":"IF(ISBLANK(H132),\"\",($E$3&\".\"&+(COUNTA(H$3:H132))))","v":""},null,null,"other necessary excavations within the freehaul ",{"$nulls":6},{"$f":"IF(I132<>0,I132*J132,\"\")","v":""},48]
[{"$f":"IF(ISBLANK(H133),\"\",($E$3&\".\"&+(COUNTA(H$3:H133))))","v":""},null,null,"distance",{"$nulls":7},49]
[{"$f":"IF(ISBLANK(H134),\"\",($E$3&\".\"&+(COUNTA(H$3:H134))))","v":""},{"$nulls":10},50]
[{"$f":"IF(ISBLANK(H135),\"\",($E$3&\".\"&+(COUNTA(H$3:H135))))","v":"7.26"},null,null,"(a)","Selected granular material ",null,null,"m³",{"$f":"ROUNDUP($R$148,0)","v":21},null,null,51]
[{"$f":"IF(ISBLANK(H136),\"\",($E$3&\".\"&+(COUNTA(H$3:H136))))","v":""},{"$nulls":10},52]
[{"$f":"IF(ISBLANK(H137),\"\",($E$3&\".\"&+(COUNTA(H$3:H137))))","v":"7.27"},null,null,"(b)","Selected fill material",null,null,"m³",{"$f":"ROUNDUP($R$149,0)","v":62},null,null,53]
[{"$f":"IF(ISBLANK(H138),\"\",($E$3&\".\"&+(COUNTA(H$3:H138))))","v":""},{"$nulls":10},54]
[null,"SANS","MEDIUM PRESSURE PIPELINES",{"$nulls":8},55]
[null,"1200 L",{"$nulls":9},56]
[null,null,"STEEL PIPES",{"$nulls":8},57]
[{"$nulls":11},58]
[null,"8.2.1","Supply, lay, joint, (bevel ended for fieldwelding) and bed and test ",{"$nulls":8},59]
[null,null,"steel water pipes ",{"$nulls":8},60]
[{"$nulls":11},61,null,null,"t","L","W"]
[{"$f":"IF(ISBLANK(H146),\"\",($E$3&\".\"&+(COUNTA(H$3:H146))))","v":""},null,"STRAIGHT STEEL PIPES",{"$nulls":7},"",62,null,"Granular Layer",0.1,{"$f":"$P$6","v":203.717},1]
[{"$f":"IF(ISBLANK(H147),\"\",($E$3&\".\"&+(COUNTA(H$3:H147))))","v":""},{"$nulls":9},"",63,null,"Fill Layer",0.3,{"$f":"$P$6","v":203.717},1,"Volume"]
[{"$f":"IF(ISBLANK(H148),\"\",($E$3&\".\"&+(COUNTA(H$3:H148))))","v":""},null,"Supply and deliver steel pipe with butt welded joints with",{"$nulls":7},"",64,{"$nulls":4},"TOTAL",{"$f":"O146*P146*Q146","v":20.371700000000004}]
[{"$f":"IF(ISBLANK(H149),\"\",($E$3&\".\"&+(COUNTA(H$3:H149))))","v":""},null,"solvent free epoxy internal lining and 3LPE external coating",{"$nulls":7},"",65,{"$nulls":5},{"$f":"O147*P147*Q147","v":61.1151}]
[{"$f":"IF(ISBLANK(H150),\"\",($E$3&\".\"&+(COUNTA(H$3:H150))))","v":""},{"$nulls":9},"",66,{"$nulls":5},{"$f":"SUM(R148:R149)","v":81.4868}]
[{"$f":"IF(ISBLANK(H151),\"\",($E$3&\".\"&+(COUNTA(H$3:H151))))","v":""},null,"Note: Cutting and welding of pipe mitres up to 3°",{"$nulls":7},{"$f":"IF(I151<>0,I151*J151,\"\")","v":""},67]
[{"$f":"IF(ISBLANK(H152),\"\",($E$3&\".\"&+(COUNTA(H$3:H152))))","v":""},null,"are included in the price for pipe installation below",{"$nulls":7},"",68]
[{"$f":"IF(ISBLANK(H153),\"\",($E$3&\".\"&+(COUNTA(H$3:H153))))","v":""},null,"(only mitres exceeding 3° are measured elsewhere).",{"$nulls":7},"",69]
[{"$f":"IF(ISBLANK(H154),\"\",($E$3&\".\"&+(COUNTA(H$3:H154))))","v":""},{"$nulls":9},"",70]
[{"$f":"IF(ISBLANK(H155),\"\",($E$3&\".\"&+(COUNTA(H$3:H155))))","v":""},null,".1","Grade X52 steel pipe (t=8mm)",{"$nulls":7},71]
[{"$f":"IF(ISBLANK(H156),\"\",($E$3&\".\"&+(COUNTA(H$3:H156))))","v":""},{"$nulls":10},72]
[{"$f":"IF(ISBLANK(H157),\"\",($E$3&\".\"&+(COUNTA(H$3:H157))))","v":"7.28"},null,null,"(a)","ND700 steel pipeline (cross-connection)",null,null,"m",{"$f":"ROUNDUP($P$3,0)","v":18},null,null,73]
[{"$nulls":9},"Carried Forward",null,74]
[{"$nulls":9},"Brought Forward",null,75]
[{"$nulls":11},76]
[{"$f":"IF(ISBLANK(H161),\"\",($E$3&\".\"&+(COUNTA(H$3:H161))))","v":"7.29"},null,null,"(b)","ND750 steel pipeline (cross-connection)",null,null,"m",12,null,null,77]
[{"$f":"IF(ISBLANK(H162),\"\",($E$3&\".\"&+(COUNTA(H$3:H162))))","v":""},{"$nulls":10},78]
[{"$f":"IF(ISBLANK(H163),\"\",($E$3&\".\"&+(COUNTA(H$3:H163))))","v":"7.30"},null,null,"(c)","ND1016 mm steel pipeline (bypass pipeline)",null,null,"m",129,null,null,79]
[{"$f":"IF(ISBLANK(H164),\"\",($E$3&\".\"&+(COUNTA(H$3:H164))))","v":""},{"$nulls":10},80]
[{"$f":"IF(ISBLANK(H165),\"\",($E$3&\".\"&+(COUNTA(H$3:H165))))","v":"7.31"},null,null,"(d)","ND1200 steel pipeline (downstream of BPT)",null,null,"m",{"$f":"ROUNDUP($P$4,0)","v":20}]
[{"$f":"IF(ISBLANK(H166),\"\",($E$3&\".\"&+(COUNTA(H$3:H166))))","v":""}]
[{"$f":"IF(ISBLANK(H167),\"\",($E$3&\".\"&+(COUNTA(H$3:H167))))","v":""},null,"Use from site, lay, joint, bed and test steel pipe with ",{"$nulls":8},1]
[{"$f":"IF(ISBLANK(H168),\"\",($E$3&\".\"&+(COUNTA(H$3:H168))))","v":""},null,"butt welded joints with solvent free epoxy internal lining",{"$nulls":7},{"$f":"IF(I168<>0,I168*J168,\"\")","v":""},2]
[{"$f":"IF(ISBLANK(H169),\"\",($E$3&\".\"&+(COUNTA(H$3:H169))))","v":""},null,"and 3LPE external coating as specified in the",{"$nulls":7},"",3]
[{"$f":"IF(ISBLANK(H170),\"\",($E$3&\".\"&+(COUNTA(H$3:H170))))","v":""},null,"project specification including repair of internal linning ",{"$nulls":7},"",4]
[{"$f":"IF(ISBLANK(H171),\"\",($E$3&\".\"&+(COUNTA(H$3:H171))))","v":""},null,"and external coating after welding",{"$nulls":7},"",5]
[{"$f":"IF(ISBLANK(H172),\"\",($E$3&\".\"&+(COUNTA(H$3:H172))))","v":""},{"$nulls":9},"",6]
[{"$f":"IF(ISBLANK(H173),\"\",($E$3&\".\"&+(COUNTA(H$3:H173))))","v":""},null,".1","Grade X52 steel pipe (t=8mm)",{"$nulls":6},"",7]
[{"$f":"IF(ISBLANK(H174),\"\",($E$3&\".\"&+(COUNTA(H$3:H174))))","v":""},{"$nulls":10},8]
[{"$f":"IF(ISBLANK(H175),\"\",($E$3&\".\"&+(COUNTA(H$3:H175))))","v":"7.32"},null,null,"(a)","ND700 steel pipeline (cross-connection)",null,null,"m",{"$f":"ROUNDUP($P$3,0)","v":18},null,null,9]
[{"$f":"IF(ISBLANK(H176),\"\",($E$3&\".\"&+(COUNTA(H$3:H176))))","v":""},{"$nulls":10},10]
[{"$f":"IF(ISBLANK(H177),\"\",($E$3&\".\"&+(COUNTA(H$3:H177))))","v":"7.33"},null,null,"(b)","ND750 steel pipeline (cross-connection)",null,null,"m",12,null,null,11]
[{"$f":"IF(ISBLANK(H178),\"\",($E$3&\".\"&+(COUNTA(H$3:H178))))","v":""},{"$nulls":10},12]
[{"$f":"IF(ISBLANK(H179),\"\",($E$3&\".\"&+(COUNTA(H$3:H179))))","v":"7.34"},null,null,"(c)","ND1016 mm steel pipeline (bypass pipeline)",null,null,"m",129,null,null,13]
[{"$f":"IF(ISBLANK(H180),\"\",($E$3&\".\"&+(COUNTA(H$3:H180))))","v":""},{"$nulls":10},14]
[{"$f":"IF(ISBLANK(H181),\"\",($E$3&\".\"&+(COUNTA(H$3:H181))))","v":"7.35"},null,null,"(d)","ND1200 steel pipeline (downstream of BPT)",null,null,"m",{"$f":"ROUNDUP($P$4,0)","v":20},null,null,15,"Calculator Tool - "]
[{"$f":"IF(ISBLANK(H182),\"\",($E$3&\".\"&+(COUNTA(H$3:H182))))","v":""},{"$nulls":10},16,"Rate"]
[{"$f":"IF(ISBLANK(H183),\"\",($E$3&\".\"&+(COUNTA(H$3:H183))))","v":""},{"$nulls":9},"",17,7702]
[{"$f":"IF(ISBLANK(H184),\"\",($E$3&\".\"&+(COUNTA(H$3:H184))))","v":""},null,"Extra-over item 7.28 to7.31 for cutting of the pipe and the supplying",{"$nulls":7},{"$f":"IF(I184<>0,I184*J184,\"\")","v":""},18]
[{"$f":"IF(ISBLANK(H185),\"\",($E$3&\".\"&+(COUNTA(H$3:H185))))","v":""},null,"and fixing of rated flanges including installation and making good",{"$nulls":7},"",19,8079]
[{"$f":"IF(ISBLANK(H186),\"\",($E$3&\".\"&+(COUNTA(H$3:H186))))","v":""},null,"for the protection against corrosion",{"$nulls":7},"",20]
[{"$f":"IF(ISBLANK(H187),\"\",($E$3&\".\"&+(COUNTA(H$3:H187))))","v":""},{"$nulls":9},"",21,12355]
[{"$f":"IF(ISBLANK(H188),\"\",($E$3&\".\"&+(COUNTA(H$3:H188))))","v":""},null,".2","For all grades of steel pipes",{"$nulls":7},22]
[{"$f":"IF(ISBLANK(H189),\"\",($E$3&\".\"&+(COUNTA(H$3:H189))))","v":""},{"$nulls":10},23,15061]
[{"$f":"IF(ISBLANK(H190),\"\",($E$3&\".\"&+(COUNTA(H$3:H190))))","v":"7.36"},null,null,"(a)","ND700 steel pipeline (cross-connection)",null,null,"no",3,null,null,24]
[{"$f":"IF(ISBLANK(H191),\"\",($E$3&\".\"&+(COUNTA(H$3:H191))))","v":""},{"$nulls":10},25]
[{"$f":"IF(ISBLANK(H192),\"\",($E$3&\".\"&+(COUNTA(H$3:H192))))","v":"7.37"},null,null,"(b)","ND750 steel pipeline (cross-connection)",null,null,"no",2,null,null,26]
[{"$f":"IF(ISBLANK(H193),\"\",($E$3&\".\"&+(COUNTA(H$3:H193))))","v":""},{"$nulls":10},27]
[{"$f":"IF(ISBLANK(H194),\"\",($E$3&\".\"&+(COUNTA(H$3:H194))))","v":"7.38"},null,null,"(c)","ND1016 mm steel pipeline (bypass pipeline)",null,null,"no",2,null,null,28]
[{"$f":"IF(ISBLANK(H195),\"\",($E$3&\".\"&+(COUNTA(H$3:H195))))","v":""},{"$nulls":10},29]
[{"$f":"IF(ISBLANK(H196),\"\",($E$3&\".\"&+(COUNTA(H$3:H196))))","v":"7.39"},null,null,"(d)","ND1200 steel pipeline (downstream of BPT)",null,null,"no",2,null,null,30]
[{"$f":"IF(ISBLANK(H197),\"\",($E$3&\".\"&+(COUNTA(H$3:H197))))","v":""},{"$nulls":10},31]
[{"$f":"IF(ISBLANK(H198),\"\",($E$3&\".\"&+(COUNTA(H$3:H198))))","v":""},null,"PIPE BENDS AND SPECIALS",{"$nulls":8},32]
[{"$f":"IF(ISBLANK(H199),\"\",($E$3&\".\"&+(COUNTA(H$3:H199))))","v":""},null,"All pipe specials to be lined and coated with solvent free epoxy",{"$nulls":8},33]
[{"$f":"IF(ISBLANK(H200),\"\",($E$3&\".\"&+(COUNTA(H$3:H200))))","v":""},null,"and taped wrapped as per as per Particular Specification PLQ.",{"$nulls":7},{"$f":"IF(I200<>0,I200*J200,\"\")","v":""},34]
[{"$f":"IF(ISBLANK(H201),\"\",($E$3&\".\"&+(COUNTA(H$3:H201))))","v":""},{"$nulls":9},"",35]
[{"$f":"IF(ISBLANK(H202),\"\",($E$3&\".\"&+(COUNTA(H$3:H202))))","v":""},null,"Pipe Mitres",{"$nulls":7},"",36]
[{"$f":"IF(ISBLANK(H203),\"\",($E$3&\".\"&+(COUNTA(H$3:H203))))","v":""},{"$nulls":9},"",37]
[{"$f":"IF(ISBLANK(H204),\"\",($E$3&\".\"&+(COUNTA(H$3:H204))))","v":""},null,"Extra over reference 8.2.1(a) for supply, install, bed and",{"$nulls":7},"",38]
[{"$f":"IF(ISBLANK(H205),\"\",($E$3&\".\"&+(COUNTA(H$3:H205))))","v":""},null,"test the following fittings, including cutting of pipes,",{"$nulls":7},"",39]
[{"$f":"IF(ISBLANK(H206),\"\",($E$3&\".\"&+(COUNTA(H$3:H206))))","v":""},null,"couplings, etc.",{"$nulls":7},"",40]
[{"$f":"IF(ISBLANK(H207),\"\",($E$3&\".\"&+(COUNTA(H$3:H207))))","v":""},{"$nulls":9},"",41]
[{"$f":"IF(ISBLANK(H208),\"\",($E$3&\".\"&+(COUNTA(H$3:H208))))","v":""},null,".1","Mitre Cut and Welded Joints",{"$nulls":6},"",42]
[{"$nulls":10},{"$f":"IF(I209<>0,I209*J209,\"\")","v":""},43]
[{"$f":"IF(ISBLANK(#REF!),\"\",($E$3&\".\"&+(COUNTA(H$3:H210))))","v":"7.40"},null,null,"(a)","ND700mm Diameter (>3°- 12°)",null,null,"no",1,null,"R/O",44]
[{"$nulls":11},45]
[{"$f":"IF(ISBLANK(H212),\"\",($E$3&\".\"&+(COUNTA(H$3:H212))))","v":"7.41"},null,null,"(b)","ND750mm Diameter (>3°- 12°)",null,null,"no",2,null,null,46]
[{"$nulls":11},47]
[{"$f":"IF(ISBLANK(#REF!),\"\",($E$3&\".\"&+(COUNTA(H$3:H214))))","v":"7.42"},null,null,"(c)","ND1016mm Diameter (>3°- 12°)",null,null,"no",1,null,"R/O",48]
[{"$nulls":11},49]
[{"$f":"IF(ISBLANK(#REF!),\"\",($E$3&\".\"&+(COUNTA(H$3:H216))))","v":"7.43"},null,null,"(d)","ND1200mm Diameter (>3°- 12°)",null,null,"no",1,null,"R/O",50]
[{"$f":"IF(ISBLANK(H217),\"\",($E$3&\".\"&+(COUNTA(H$3:H217))))","v":""},{"$nulls":10},51]
[null,null,"Purpose Made Bends",{"$nulls":8},52]
[{"$nulls":11},53]
[null,null,"Extra over reference 8.2.1(a) for supply, install, bed and",{"$nulls":8},54]
[null,null,"test the following fittings, including cutting of pipes,",{"$nulls":8},55]
[null,null,"couplings, etc.",{"$nulls":8},56]
[{"$nulls":11},57]
[null,null,".2","Purpose made steel bends",{"$nulls":7},58]
[{"$nulls":11},59]
[{"$f":"IF(ISBLANK(#REF!),\"\",($E$3&\".\"&+(COUNTA(H$3:H226))))","v":"7.44"},null,null,"(a)","ND700mm Diameter (13°- 45°)",null,null,"no",2,null,null,60]
[{"$nulls":11},61]
[{"$f":"IF(ISBLANK(#REF!),\"\",($E$3&\".\"&+(COUNTA(H$3:H228))))","v":"7.45"},null,null,"(b)","ND750mm Diameter (13°- 45°)",null,null,"no",2,null,"R/O",62]
[{"$nulls":11},63]
[{"$f":"IF(ISBLANK(#REF!),\"\",($E$3&\".\"&+(COUNTA(H$3:H230))))","v":"7.46"},null,null,"(c)","ND1016mm Diameter (13°- 45°)",null,null,"no",2,null,"R/O",64]
[{"$nulls":11},65]
[{"$f":"IF(ISBLANK(#REF!),\"\",($E$3&\".\"&+(COUNTA(H$3:H232))))","v":"7.47"},null,null,"(d)","ND1200mm Diameter (13°- 45°)",null,null,"no",2,null,"R/O",66]
[{"$nulls":11},67]
[{"$nulls":11},68]
[{"$nulls":11},69]
[{"$nulls":11},70]
[{"$nulls":9},"Carried Forward",null,71]
[{"$nulls":9},"Brought Forward",null,72]
[{"$f":"IF(ISBLANK(H239),\"\",($E$3&\".\"&+(COUNTA(H$3:H239))))","v":""},null,"DISINFECT PIPES",{"$nulls":7},"",73]
[{"$f":"IF(ISBLANK(H240),\"\",($E$3&\".\"&+(COUNTA(H$3:H240))))","v":""},{"$nulls":9},"",74,"Calculator Tool - "]
[{"$f":"IF(ISBLANK(H241),\"\",($E$3&\".\"&+(COUNTA(H$3:H241))))","v":""},"8.2.1",".1","Disinfect pipes",{"$nulls":6},"",75,"Rate"]
[{"$f":"IF(ISBLANK(H242),\"\",($E$3&\".\"&+(COUNTA(H$3:H242))))","v":""},{"$nulls":10},76]
[{"$f":"IF(ISBLANK(H243),\"\",($E$3&\".\"&+(COUNTA(H$3:H243))))","v":"7.48"},null,null,"(a)","700mm Diameter",null,null,"m",{"$f":"ROUNDUP($P$3,0)","v":18},null,null,77,7702]
[{"$nulls":11},78]
[{"$f":"IF(ISBLANK(H245),\"\",($E$3&\".\"&+(COUNTA(H$3:H245))))","v":"7.49"},null,null,"(b)","750mm Diameter",null,null,"m",12,null,null,79]
[{"$nulls":11},80]
[{"$f":"IF(ISBLANK(H247),\"\",($E$3&\".\"&+(COUNTA(H$3:H247))))","v":"7.50"},null,null,"(c)","1000mm Diameter",null,null,"m",129,{"$nulls":3},8079]
[]
[{"$f":"IF(ISBLANK(H249),\"\",($E$3&\".\"&+(COUNTA(H$3:H249))))","v":"7.51"},null,null,"(d)","1200mm Diameter",null,null,"m",{"$f":"ROUNDUP($P$4,0)","v":20},null,null,1,12355]
[{"$f":"IF(ISBLANK(H250),\"\",($E$3&\".\"&+(COUNTA(H$3:H250))))","v":""},{"$nulls":10},2]
[{"$f":"IF(ISBLANK(H251),\"\",($E$3&\".\"&+(COUNTA(H$3:H251))))","v":""},null,".2","Hydraulic pressure test pipes",{"$nulls":7},3,15061]
[{"$f":"IF(ISBLANK(H252),\"\",($E$3&\".\"&+(COUNTA(H$3:H252))))","v":""},{"$nulls":10},4]
[{"$f":"IF(ISBLANK(H253),\"\",($E$3&\".\"&+(COUNTA(H$3:H253))))","v":"7.52"},null,null,"(a)","700mm Diameter",null,null,"m",{"$f":"ROUNDUP($P$3,0)","v":18},null,null,5]
[{"$nulls":11},6]
[{"$f":"IF(ISBLANK(H255),\"\",($E$3&\".\"&+(COUNTA(H$3:H255))))","v":"7.53"},null,null,"(b)","750mm Diameter",null,null,"m",12,null,null,7]
[{"$nulls":11},8]
[{"$f":"IF(ISBLANK(H257),\"\",($E$3&\".\"&+(COUNTA(H$3:H257))))","v":"7.54"},null,null,"(c)","1000mm Diameter",null,null,"m",129,null,null,9]
[{"$nulls":11},10]
[{"$f":"IF(ISBLANK(H259),\"\",($E$3&\".\"&+(COUNTA(H$3:H259))))","v":"7.55"},null,null,"(d)","1200mm Diameter",null,null,"m",{"$f":"ROUNDUP($P$4,0)","v":20},null,null,11]
[{"$f":"IF(ISBLANK(H260),\"\",($E$3&\".\"&+(COUNTA(H$3:H260))))","v":""},{"$nulls":10},12]
[{"$f":"IF(ISBLANK(H261),\"\",($E$3&\".\"&+(COUNTA(H$3:H261))))","v":""},null,"PIPE FITTINGS",{"$nulls":8},13]
[{"$f":"IF(ISBLANK(H262),\"\",($E$3&\".\"&+(COUNTA(H$3:H262))))","v":""},null,"PIPE FITTINGS",{"$nulls":7},"",14]
[{"$f":"IF(ISBLANK(H263),\"\",($E$3&\".\"&+(COUNTA(H$3:H263))))","v":""},null,"Extra over items 8.2.1(a) for supply, install, bed and",{"$nulls":7},"",15]
[{"$f":"IF(ISBLANK(H264),\"\",($E$3&\".\"&+(COUNTA(H$3:H264))))","v":""},null,"test the following Grade X42 steel fittings, including cutting of pipes,",{"$nulls":7},"",16]
[{"$f":"IF(ISBLANK(H265),\"\",($E$3&\".\"&+(COUNTA(H$3:H265))))","v":""},null,"couplings or welding, etc (linging and coating included)",{"$nulls":7},"",17]
[{"$f":"IF(ISBLANK(H266),\"\",($E$3&\".\"&+(COUNTA(H$3:H266))))","v":""},{"$nulls":9},"",18]
[{"$f":"IF(ISBLANK(H267),\"\",($E$3&\".\"&+(COUNTA(H$3:H267))))","v":""},null,".1","Reducers",{"$nulls":6},"",19]
[{"$f":"IF(ISBLANK(H268),\"\",($E$3&\".\"&+(COUNTA(H$3:H268))))","v":""},{"$nulls":10},20]
[{"$f":"IF(ISBLANK(H269),\"\",($E$3&\".\"&+(COUNTA(H$3:H269))))","v":"7.56"},null,null,"(a)","Flanged reducer ND900–ND750 (R1)",null,null,"no",1,null,null,21]
[{"$nulls":11},22]
[{"$f":"IF(ISBLANK(H271),\"\",($E$3&\".\"&+(COUNTA(H$3:H271))))","v":"7.57"},null,null,"(b)","Flanged reducer ND750–ND1000 (R2)",null,null,"no",1,null,null,23]
[{"$nulls":11},24]
[{"$f":"IF(ISBLANK(H273),\"\",($E$3&\".\"&+(COUNTA(H$3:H273))))","v":"7.58"},null,null,"(c)","Flanged reducer ND750–ND1000 (R3) ",null,null,"no",1,null,null,25]
[{"$nulls":11},26]
[{"$f":"IF(ISBLANK(H275),\"\",($E$3&\".\"&+(COUNTA(H$3:H275))))","v":"7.59"},null,null,"(d)","Flanged reducer ND750–ND500 (R4)",null,null,"no",1,null,null,27]
[{"$f":"IF(ISBLANK(H276),\"\",($E$3&\".\"&+(COUNTA(H$3:H276))))","v":""},{"$nulls":10},28]
[{"$f":"IF(ISBLANK(H277),\"\",($E$3&\".\"&+(COUNTA(H$3:H277))))","v":""},null,".2","Tees",{"$nulls":7},29]
[{"$f":"IF(ISBLANK(H278),\"\",($E$3&\".\"&+(COUNTA(H$3:H278))))","v":""},null,null,"(All Tees to be gussated)",{"$nulls":7},30]
[{"$nulls":11},31]
[{"$f":"IF(ISBLANK(H280),\"\",($E$3&\".\"&+(COUNTA(H$3:H280))))","v":"7.60"},null,null,"(a)","Unequal flanged tee ND900 × ND450 (T1)",null,null,"no",1,null,null,32]
[{"$nulls":11},33]
[{"$f":"IF(ISBLANK(H282),\"\",($E$3&\".\"&+(COUNTA(H$3:H282))))","v":"7.61"},null,null,"(b)","Unequal flanged tee ND900 × ND750 (T1)",null,null,"no",1,null,null,34]
[{"$f":"IF(ISBLANK(H283),\"\",($E$3&\".\"&+(COUNTA(H$3:H283))))","v":""},{"$nulls":10},35]
[{"$f":"IF(ISBLANK(H284),\"\",($E$3&\".\"&+(COUNTA(H$3:H284))))","v":""},null,".3","Cross-connection fittings (ND700 PN25)",{"$nulls":7},36]
[{"$f":"IF(ISBLANK(H285),\"\",($E$3&\".\"&+(COUNTA(H$3:H285))))","v":""},{"$nulls":10},37]
[{"$f":"IF(ISBLANK(H286),\"\",($E$3&\".\"&+(COUNTA(H$3:H286))))","v":"7.62"},null,null,"(a)","Loose PN25 flange welded onto existing ND711 pipe",null,null,"no",1,null,null,38]
[{"$nulls":11},39]
[{"$f":"IF(ISBLANK(H288),\"\",($E$3&\".\"&+(COUNTA(H$3:H288))))","v":"7.63"},null,null,"(b)","Equal gusseted flanged tee ND700 PN25",null,null,"no",1,null,null,40]
[{"$nulls":11},41]
[{"$f":"IF(ISBLANK(H290),\"\",($E$3&\".\"&+(COUNTA(H$3:H290))))","v":"7.64"},null,null,"(c)","Unequal gusseted flanged tee ND700 PN25",null,null,"no",1,null,null,42]
[{"$nulls":11},43]
[{"$f":"IF(ISBLANK(H292),\"\",($E$3&\".\"&+(COUNTA(H$3:H292))))","v":"7.65"},null,null,"(d)","ND700 PN25 dismantling joint (Viking Johnson)",null,null,"no",1,null,null,44]
[{"$nulls":11},45]
[{"$f":"IF(ISBLANK(H294),\"\",($E$3&\".\"&+(COUNTA(H$3:H294))))","v":"7.66"},null,null,"(e)","Puddle flange PN25 welded in halves onto existing pipe",null,null,"no",1,null,null,46]
[{"$nulls":11},47]
[{"$f":"IF(ISBLANK(H296),\"\",($E$3&\".\"&+(COUNTA(H$3:H296))))","v":"7.67"},null,null,"(f)","Pipe special with puddle flange (flanged/plain ends)",null,null,"no",1,null,null,48]
[{"$nulls":11},49]
[{"$f":"IF(ISBLANK(H298),\"\",($E$3&\".\"&+(COUNTA(H$3:H298))))","v":"7.68"},null,null,"(g)","13° bend ND700 PN25",null,null,"no",1,null,null,50]
[{"$nulls":11},51]
[{"$f":"IF(ISBLANK(H300),\"\",($E$3&\".\"&+(COUNTA(H$3:H300))))","v":"7.69"},null,null,"(h)","15° bend ND700 PN25",null,null,"no",1,null,null,52]
[{"$nulls":11},53]
[{"$f":"IF(ISBLANK(H302),\"\",($E$3&\".\"&+(COUNTA(H$3:H302))))","v":""},null,".4","Pipe specials / spools",{"$nulls":7},54]
[{"$nulls":11},55]
[{"$f":"IF(ISBLANK(H304),\"\",($E$3&\".\"&+(COUNTA(H$3:H304))))","v":"7.70"},null,null,"(a)","Flanged ND750 main branch with ND450 branches (PS1)",null,null,"no",1,null,null,56]
[{"$nulls":11},57]
[{"$f":"IF(ISBLANK(H306),\"\",($E$3&\".\"&+(COUNTA(H$3:H306))))","v":"7.71"},null,null,"(b)","Flanged 90° bend ND450 (PS2)",null,null,"no",1,null,null,58]
[{"$nulls":11},59]
[{"$f":"IF(ISBLANK(H308),\"\",($E$3&\".\"&+(COUNTA(H$3:H308))))","v":"7.72"},null,null,"(c)","Flanged ND500 pipe piece (PS3)",null,null,"no",1,null,null,60]
[{"$nulls":11},61]
[{"$f":"IF(ISBLANK(H310),\"\",($E$3&\".\"&+(COUNTA(H$3:H310))))","v":"7.73"},null,null,"(d)","SS puddle pipe ND450 (one end plain) (PS4)",null,null,"no",1,null,null,62]
[{"$nulls":11},63]
[{"$f":"IF(ISBLANK(H312),\"\",($E$3&\".\"&+(COUNTA(H$3:H312))))","v":"7.74"},null,null,"(e)","SS puddle pipe ND500 (one end plain) (PS5)",null,null,"no",1,null,null,64]
[{"$nulls":11},65]
[{"$f":"IF(ISBLANK(H314),\"\",($E$3&\".\"&+(COUNTA(H$3:H314))))","v":"7.75"},null,null,"(f)","SS puddle pipe ND1200 (one end plain) (PS6)",null,null,"no",1,null,null,66]
[{"$nulls":11},67]
[{"$f":"IF(ISBLANK(H316),\"\",($E$3&\".\"&+(COUNTA(H$3:H316))))","v":"7.76"},null,null,"(g)","Flanged ND1200 pipe piece (PS7)",null,null,"no",1,null,null,68]
[{"$nulls":9},"Carried Forward",null,69]
[{"$nulls":9},"Brought Forward",null,70]
[{"$f":"IF(ISBLANK(H319),\"\",($E$3&\".\"&+(COUNTA(H$3:H319))))","v":""},{"$nulls":9},"",71]
[{"$f":"IF(ISBLANK(H320),\"\",($E$3&\".\"&+(COUNTA(H$3:H320))))","v":""},null,".5","Flanges",{"$nulls":6},"",72]
[{"$f":"IF(ISBLANK(H321),\"\",($E$3&\".\"&+(COUNTA(H$3:H321))))","v":""},{"$nulls":10},73]
[{"$f":"IF(ISBLANK(H322),\"\",($E$3&\".\"&+(COUNTA(H$3:H322))))","v":"7.77"},null,null,"(a)","Blank flange PN25 (B1)  ",null,null,"no",1,null,null,74]
[{"$f":"IF(ISBLANK(H323),\"\",($E$3&\".\"&+(COUNTA(H$3:H323))))","v":""},{"$nulls":10},75]
[{"$f":"IF(ISBLANK(H324),\"\",($E$3&\".\"&+(COUNTA(H$3:H324))))","v":""},null,"VALVES AND APPURTENANCES",{"$nulls":8},76]
[{"$f":"IF(ISBLANK(H325),\"\",($E$3&\".\"&+(COUNTA(H$3:H325))))","v":""},{"$nulls":10},77]
[{"$f":"IF(ISBLANK(H326),\"\",($E$3&\".\"&+(COUNTA(H$3:H326))))","v":""},null,"VALVES AND APPURTENANCES",{"$nulls":8},78]
[{"$f":"IF(ISBLANK(H327),\"\",($E$3&\".\"&+(COUNTA(H$3:H327))))","v":""},{"$nulls":10},79]
[{"$f":"IF(ISBLANK(H328),\"\",($E$3&\".\"&+(COUNTA(H$3:H328))))","v":""},null,".1","Existing valve",{"$nulls":7},80]
[{"$f":"IF(ISBLANK(H329),\"\",($E$3&\".\"&+(COUNTA(H$3:H329))))","v":""}]
[{"$f":"IF(ISBLANK(H330),\"\",($E$3&\".\"&+(COUNTA(H$3:H330))))","v":""},null,null,"(a)","Existing ND700 butterfly valve PN25 (remove, refurbish,"]
[{"$f":"IF(ISBLANK(H331),\"\",($E$3&\".\"&+(COUNTA(H$3:H331))))","v":"7.78"},{"$nulls":3},"and reinstall)",null,null,"no",1,null,null,1]
[{"$f":"IF(ISBLANK(H332),\"\",($E$3&\".\"&+(COUNTA(H$3:H332))))","v":""},{"$nulls":10},2]
[{"$f":"IF(ISBLANK(H333),\"\",($E$3&\".\"&+(COUNTA(H$3:H333))))","v":""},null,".2","New valves (AVK or similar approved by Engineer)",{"$nulls":7},3]
[{"$f":"IF(ISBLANK(H334),\"\",($E$3&\".\"&+(COUNTA(H$3:H334))))","v":""},{"$nulls":10},4]
[{"$f":"IF(ISBLANK(H335),\"\",($E$3&\".\"&+(COUNTA(H$3:H335))))","v":"7.79"},null,null,"(a)","NB750 eccentric flanged butterfly valve (Class 25)",null,null,"no",1,null,null,5]
[{"$nulls":11},6]
[{"$f":"IF(ISBLANK(H337),\"\",($E$3&\".\"&+(COUNTA(H$3:H337))))","v":"7.80"},null,null,"(b)","NB900 eccentric flanged butterfly valve (Class 25)",null,null,"no",1,null,null,7]
[{"$nulls":11},8]
[{"$f":"IF(ISBLANK(H339),\"\",($E$3&\".\"&+(COUNTA(H$3:H339))))","v":"7.81"},null,null,"(c)","NB1200 eccentric flanged butterfly valve (Class 10) ",null,null,"no",1,null,null,9]
[{"$f":"IF(ISBLANK(H340),\"\",($E$3&\".\"&+(COUNTA(H$3:H340))))","v":""},{"$nulls":10},10]
[{"$f":"IF(ISBLANK(H341),\"\",($E$3&\".\"&+(COUNTA(H$3:H341))))","v":""},null,".3","Flow meter",{"$nulls":6},"",11]
[{"$f":"IF(ISBLANK(H342),\"\",($E$3&\".\"&+(COUNTA(H$3:H342))))","v":""},{"$nulls":9},"",12]
[{"$f":"IF(ISBLANK(H343),\"\",($E$3&\".\"&+(COUNTA(H$3:H343))))","v":""},null,null,"(a)","Clamp-on ultrasonic flow meter on ND1016 pipeline (M1),",{"$nulls":6},13]
[{"$f":"IF(ISBLANK(H344),\"\",($E$3&\".\"&+(COUNTA(H$3:H344))))","v":"7.82"},{"$nulls":3}," including installation, calibration and commissioning",null,null,"no",1,null,null,14]
[{"$f":"IF(ISBLANK(H345),\"\",($E$3&\".\"&+(COUNTA(H$3:H345))))","v":""},{"$nulls":10},15]
[{"$f":"IF(ISBLANK(H346),\"\",($E$3&\".\"&+(COUNTA(H$3:H346))))","v":""},"SANS","STORMWATER DRAINAGE",{"$nulls":8},16]
[{"$f":"IF(ISBLANK(H347),\"\",($E$3&\".\"&+(COUNTA(H$3:H347))))","v":""},"1200 LE",{"$nulls":9},17]
[{"$f":"IF(ISBLANK(H348),\"\",($E$3&\".\"&+(COUNTA(H$3:H348))))","v":""},null,"BPT OVERFLOW OUTLET PIPELINE AND MANHOLE",{"$nulls":8},18]
[{"$f":"IF(ISBLANK(H349),\"\",($E$3&\".\"&+(COUNTA(H$3:H349))))","v":""},{"$nulls":10},19]
[{"$f":"IF(ISBLANK(H350),\"\",($E$3&\".\"&+(COUNTA(H$3:H350))))","v":""},"8.2.1","Supply, lay, bed (class B bedding) and test concrete ",{"$nulls":8},20]
[{"$f":"IF(ISBLANK(H351),\"\",($E$3&\".\"&+(COUNTA(H$3:H351))))","v":""},null,"pipe culverts to SABS 677. Excavation measured elsewhere.",{"$nulls":8},21]
[{"$f":"IF(ISBLANK(H352),\"\",($E$3&\".\"&+(COUNTA(H$3:H352))))","v":""},{"$nulls":10},22]
[{"$f":"IF(ISBLANK(H353),\"\",($E$3&\".\"&+(COUNTA(H$3:H353))))","v":""},"8.2.1",".1","Interlocking Joint Pipes Class 50D",{"$nulls":7},23]
[{"$f":"IF(ISBLANK(H354),\"\",($E$3&\".\"&+(COUNTA(H$3:H354))))","v":""},{"$nulls":10},24]
[{"$f":"IF(ISBLANK(H355),\"\",($E$3&\".\"&+(COUNTA(H$3:H355))))","v":"7.83"},null,null,"(a)","1200mm Diameter",null,null,"m",{"$f":"ROUNDUP($P$5,0)","v":25},null,null,25]
[{"$f":"IF(ISBLANK(H356),\"\",($E$3&\".\"&+(COUNTA(H$3:H356))))","v":""},{"$nulls":10},26]
[{"$f":"IF(ISBLANK(H357),\"\",($E$3&\".\"&+(COUNTA(H$3:H357))))","v":""},null,"NEW MANHOLE AT STORMWATER CONNECTION",{"$nulls":8},27]
[{"$f":"IF(ISBLANK(H358),\"\",($E$3&\".\"&+(COUNTA(H$3:H358))))","v":""},{"$nulls":9},{"$f":"IF(I358<>0,I358*J358,\"\")","v":""},28]
[{"$f":"IF(ISBLANK(H359),\"\",($E$3&\".\"&+(COUNTA(H$3:H359))))","v":""},null,"Reinforced Concrete Base",{"$nulls":7},"",29]
[{"$f":"IF(ISBLANK(H360),\"\",($E$3&\".\"&+(COUNTA(H$3:H360))))","v":""},{"$nulls":9},"",30]
[{"$f":"IF(ISBLANK(H361),\"\",($E$3&\".\"&+(COUNTA(H$3:H361))))","v":""},null,"New stormwater outlet concrete base in strength ",{"$nulls":7},"",31]
[{"$f":"IF(ISBLANK(H362),\"\",($E$3&\".\"&+(COUNTA(H$3:H362))))","v":""},null,"concrete 25Mpa/19mm, including all formwork, , reinforcement,",{"$nulls":7},"",32]
[{"$f":"IF(ISBLANK(H363),\"\",($E$3&\".\"&+(COUNTA(H$3:H363))))","v":""},null," benching to invert level and making good, complete",{"$nulls":7},"",33]
[{"$f":"IF(ISBLANK(H364),\"\",($E$3&\".\"&+(COUNTA(H$3:H364))))","v":""},{"$nulls":9},"",34]
[{"$f":"IF(ISBLANK(H365),\"\",($E$3&\".\"&+(COUNTA(H$3:H365))))","v":""},"8.2.11",".1","Measured per m³ ",{"$nulls":7},35]
[{"$f":"IF(ISBLANK(H366),\"\",($E$3&\".\"&+(COUNTA(H$3:H366))))","v":""},{"$nulls":10},36]
[{"$f":"IF(ISBLANK(H367),\"\",($E$3&\".\"&+(COUNTA(H$3:H367))))","v":"7.84"},null,null,"(a)","Manhole Base Footings (Incl. reinforcing)",null,null,"m³",3,null,null,37]
[{"$f":"IF(ISBLANK(H368),\"\",($E$3&\".\"&+(COUNTA(H$3:H368))))","v":""},{"$nulls":10},38]
[{"$f":"IF(ISBLANK(H369),\"\",($E$3&\".\"&+(COUNTA(H$3:H369))))","v":""},null,"Supply, deliver to site and installation of new concrete ring",{"$nulls":8},39]
[{"$f":"IF(ISBLANK(H370),\"\",($E$3&\".\"&+(COUNTA(H$3:H370))))","v":""},null,"manholes (1800mmND) complete with custom SmartLock,",{"$nulls":8},40]
[{"$f":"IF(ISBLANK(H371),\"\",($E$3&\".\"&+(COUNTA(H$3:H371))))","v":""},null,"no-metallic lid and frame cast into cover slab, cover slab and ",{"$nulls":7},{"$f":"IF(I371<>0,I371*J371,\"\")","v":""},41]
[{"$f":"IF(ISBLANK(H372),\"\",($E$3&\".\"&+(COUNTA(H$3:H372))))","v":""},null,"step irons, vents, etc. Concrete footing measured elsewhere.",{"$nulls":7},"",42]
[{"$f":"IF(ISBLANK(H373),\"\",($E$3&\".\"&+(COUNTA(H$3:H373))))","v":""},null,"Refer Dwg 3338.00.00.GZA.05.D004 & D005",{"$nulls":7},"",43]
[{"$f":"IF(ISBLANK(H374),\"\",($E$3&\".\"&+(COUNTA(H$3:H374))))","v":""},{"$nulls":9},"",44]
[{"$f":"IF(ISBLANK(H375),\"\",($E$3&\".\"&+(COUNTA(H$3:H375))))","v":""},null,".1","For total chamber depths of:",{"$nulls":6},"",45]
[{"$f":"IF(ISBLANK(H376),\"\",($E$3&\".\"&+(COUNTA(H$3:H376))))","v":""},{"$nulls":9},"",46]
[{"$f":"IF(ISBLANK(H377),\"\",($E$3&\".\"&+(COUNTA(H$3:H377))))","v":"7.85"},null,null,"(a)","0 to 2m",null,null,"no",null,null,"R/O",47]
[{"$nulls":11},48]
[{"$f":"IF(ISBLANK(H379),\"\",($E$3&\".\"&+(COUNTA(H$3:H379))))","v":"7.86"},null,null,"(b)","2 to 2.5m",null,null,"no",1,null,null,49]
[{"$nulls":11},50]
[{"$f":"IF(ISBLANK(H381),\"\",($E$3&\".\"&+(COUNTA(H$3:H381))))","v":"7.87"},null,null,"(a)","2.5 to 3.5m",null,null,"no",null,null,"R/O",51]
[{"$f":"IF(ISBLANK(H382),\"\",($E$3&\".\"&+(COUNTA(H$3:H382))))","v":""},{"$nulls":10},52]
[{"$f":"IF(ISBLANK(H383),\"\",($E$3&\".\"&+(COUNTA(H$3:H383))))","v":""},null,"CONNECTION TO EXISTING STORMWATER PIPELINE",{"$nulls":7},{"$f":"IF(I383<>0,I383*J383,\"\")","v":""},53]
[{"$f":"IF(ISBLANK(H384),\"\",($E$3&\".\"&+(COUNTA(H$3:H384))))","v":""},{"$nulls":9},"",54]
[{"$f":"IF(ISBLANK(H385),\"\",($E$3&\".\"&+(COUNTA(H$3:H385))))","v":""},"8.2.1","Breaking into existing stormwater manhole or pipeline and making ",{"$nulls":7},"",55]
[{"$f":"IF(ISBLANK(H386),\"\",($E$3&\".\"&+(COUNTA(H$3:H386))))","v":""},null,"good, including all cutting of existing pipe or structure, preparation of ",{"$nulls":7},"",56]
[{"$f":"IF(ISBLANK(H387),\"\",($E$3&\".\"&+(COUNTA(H$3:H387))))","v":""},null,"surfaces, installation of connector or saddle fitting, sealing of joint, ",{"$nulls":8},57]
[{"$f":"IF(ISBLANK(H388),\"\",($E$3&\".\"&+(COUNTA(H$3:H388))))","v":""},null,"and making good all disturbed surfaces, complete",{"$nulls":8},58]
[{"$f":"IF(ISBLANK(H389),\"\",($E$3&\".\"&+(COUNTA(H$3:H389))))","v":""},{"$nulls":10},59]
[{"$f":"IF(ISBLANK(H390),\"\",($E$3&\".\"&+(COUNTA(H$3:H390))))","v":""},"8.2.1","(a)","Connection of 600mm diameter BPT overflow outlet pipe to ",{"$nulls":7},60]
[{"$f":"IF(ISBLANK(H391),\"\",($E$3&\".\"&+(COUNTA(H$3:H391))))","v":"7.88"},null,null,"existing stormwater infrastructure",{"$nulls":3},"no",1,null,null,61]
[{"$nulls":11},62]
[{"$nulls":11},63]
[{"$f":"IF(ISBLANK(H394),\"\",($E$3&\".\"&+(COUNTA(H$3:H394))))","v":""},{"$nulls":10},64]
[{"$nulls":9},"Carried Forward",null,65]
[{"$nulls":9},"Brought Forward",null,66]
[{"$f":"IF(ISBLANK(H397),\"\",($E$3&\".\"&+(COUNTA(H$3:H397))))","v":""},{"$nulls":10},67]
[{"$f":"IF(ISBLANK(H398),\"\",($E$3&\".\"&+(COUNTA(H$3:H398))))","v":""},"SABS","CONCRETE ENCASEMENT AND THRUST BLOCKS",{"$nulls":8},68]
[{"$f":"IF(ISBLANK(H399),\"\",($E$3&\".\"&+(COUNTA(H$3:H399))))","v":""},"1200L",{"$nulls":9},69]
[{"$f":"IF(ISBLANK(H400),\"\",($E$3&\".\"&+(COUNTA(H$3:H400))))","v":""},null,"CONCRETE ENCASEMENT AND THRUST BLOCKS",{"$nulls":8},70]
[{"$f":"IF(ISBLANK(H401),\"\",($E$3&\".\"&+(COUNTA(H$3:H401))))","v":""},{"$nulls":10},71]
[{"$f":"IF(ISBLANK(H402),\"\",($E$3&\".\"&+(COUNTA(H$3:H402))))","v":""},null,"Anchor/thrust blocks and pedestals in strength ",{"$nulls":8},72]
[{"$f":"IF(ISBLANK(H403),\"\",($E$3&\".\"&+(COUNTA(H$3:H403))))","v":""},null,"concrete 25Mpa/19mm, including all formwork,",{"$nulls":8},73]
[{"$f":"IF(ISBLANK(H404),\"\",($E$3&\".\"&+(COUNTA(H$3:H404))))","v":""},null,"reinforcement, etc",{"$nulls":8},74]
[{"$f":"IF(ISBLANK(H405),\"\",($E$3&\".\"&+(COUNTA(H$3:H405))))","v":""},{"$nulls":10},75]
[{"$f":"IF(ISBLANK(H406),\"\",($E$3&\".\"&+(COUNTA(H$3:H406))))","v":""},"8.2.11",".1","Measured per m³ ",{"$nulls":7},76]
[{"$f":"IF(ISBLANK(H407),\"\",($E$3&\".\"&+(COUNTA(H$3:H407))))","v":""},{"$nulls":10},77]
[{"$f":"IF(ISBLANK(H408),\"\",($E$3&\".\"&+(COUNTA(H$3:H408))))","v":"7.89"},null,null,"(a)","Thrust blocks",null,null,"m³",2,null,null,78]
[{"$f":"IF(ISBLANK(H409),\"\",($E$3&\".\"&+(COUNTA(H$3:H409))))","v":""},{"$nulls":10},79]
[{"$f":"IF(ISBLANK(H410),\"\",($E$3&\".\"&+(COUNTA(H$3:H410))))","v":"7.90"},null,null,"(b)","Bypass pipeline pedestals (no reinforcement), 6m intervals (Approx 0.7m3 each)",null,null,"no",{"$f":"ROUNDUP(P2/6,0)","v":24},null,null,80]
[{"$f":"IF(ISBLANK(H411),\"\",($E$3&\".\"&+(COUNTA(H$3:H411))))","v":""}]
[{"$f":"IF(ISBLANK(H412),\"\",($E$3&\".\"&+(COUNTA(H$3:H412))))","v":""},"8.2.12","Encasement of pipes in strength concrete 25Mpa/19mm",{"$nulls":7},{"$f":"IF(I412<>0,I412*J412,\"\")","v":""}]
[{"$f":"IF(ISBLANK(H413),\"\",($E$3&\".\"&+(COUNTA(H$3:H413))))","v":""},null,"including all formwork, reinforcement, etc",{"$nulls":7},"",1]
[{"$f":"IF(ISBLANK(H414),\"\",($E$3&\".\"&+(COUNTA(H$3:H414))))","v":""},{"$nulls":9},"",2]
[{"$f":"IF(ISBLANK(H415),\"\",($E$3&\".\"&+(COUNTA(H$3:H415))))","v":"7.91"},null,".2","Casing around pipes",{"$nulls":3},"m³",null,null,"R/O",3]
[{"$f":"IF(ISBLANK(H416),\"\",($E$3&\".\"&+(COUNTA(H$3:H416))))","v":""},{"$nulls":9},{"$f":"IF(I416<>0,I416*J416,\"\")","v":""},4]
[{"$f":"IF(ISBLANK(H417),\"\",($E$3&\".\"&+(COUNTA(H$3:H417))))","v":""},null,"SOILCRETE",{"$nulls":7},"",5]
[{"$f":"IF(ISBLANK(H418),\"\",($E$3&\".\"&+(COUNTA(H$3:H418))))","v":""},{"$nulls":10},6]
[{"$f":"IF(ISBLANK(H419),\"\",($E$3&\".\"&+(COUNTA(H$3:H419))))","v":""},null,".1","Soilcrete (5% OPC) ",{"$nulls":7},7]
[{"$f":"IF(ISBLANK(H420),\"\",($E$3&\".\"&+(COUNTA(H$3:H420))))","v":"7.92"},null,null,"(a)","Backfilling around pipes",null,null,"m³",8,null,null,8]
[{"$f":"IF(ISBLANK(H421),\"\",($E$3&\".\"&+(COUNTA(H$3:H421))))","v":""},{"$nulls":10},9]
[{"$nulls":11},10]
[{"$nulls":11},11]
[{"$nulls":11},12]
[{"$nulls":11},13]
[{"$nulls":11},14]
[{"$nulls":11},15]
[{"$nulls":11},16]
[{"$nulls":11},17]
[{"$nulls":11},18]
[{"$nulls":11},19]
[{"$nulls":11},20]
[{"$nulls":11},21]
[{"$nulls":11},22]
[{"$nulls":11},23]
[{"$nulls":11},24]
[{"$nulls":11},25]
[{"$nulls":11},26]
[{"$nulls":11},27]
[{"$nulls":11},28]
[{"$nulls":11},29]
[{"$nulls":11},30]
[{"$nulls":11},31]
[{"$nulls":11},32]
[{"$nulls":11},33]
[{"$nulls":11},34]
[{"$nulls":11},35]
[{"$nulls":11},36]
[{"$nulls":11},37]
[{"$nulls":11},38]
[{"$nulls":11},39]
[{"$nulls":11},40]
[{"$nulls":11},41]
[{"$nulls":11},42]
[{"$nulls":11},43]
[{"$nulls":11},44]
[{"$f":"IF(ISBLANK(H457),\"\",($E$3&\".\"&+(COUNTA(H$3:H457))))","v":""},{"$nulls":10},45]
[{"$f":"IF(ISBLANK(H458),\"\",($E$3&\".\"&+(COUNTA(H$3:H458))))","v":""},{"$nulls":10},46]
[{"$f":"IF(ISBLANK(H459),\"\",($E$3&\".\"&+(COUNTA(H$3:H459))))","v":""},{"$nulls":9},"",47]
[{"$f":"IF(ISBLANK(H460),\"\",($E$3&\".\"&+(COUNTA(H$3:H460))))","v":""},{"$nulls":9},"",48]
[{"$f":"IF(ISBLANK(H461),\"\",($E$3&\".\"&+(COUNTA(H$3:H461))))","v":""},{"$nulls":9},"",49]
[{"$f":"IF(ISBLANK(H462),\"\",($E$3&\".\"&+(COUNTA(H$3:H462))))","v":""},{"$nulls":9},"",50]
[{"$f":"IF(ISBLANK(H463),\"\",($E$3&\".\"&+(COUNTA(H$3:H463))))","v":""},{"$nulls":9},"",51]
[{"$f":"IF(ISBLANK(H464),\"\",($E$3&\".\"&+(COUNTA(H$3:H464))))","v":""},{"$nulls":10},52]
[{"$f":"IF(ISBLANK(H465),\"\",($E$3&\".\"&+(COUNTA(H$3:H465))))","v":""},{"$nulls":10},53]
[{"$f":"IF(ISBLANK(H466),\"\",($E$3&\".\"&+(COUNTA(H$3:H466))))","v":""},{"$nulls":10},54]
[{"$f":"IF(ISBLANK(H467),\"\",($E$3&\".\"&+(COUNTA(H$3:H467))))","v":""},{"$nulls":9},"",55]
[{"$f":"IF(ISBLANK(H468),\"\",($E$3&\".\"&+(COUNTA(H$3:H468))))","v":""},{"$nulls":9},"",56]
[{"$f":"IF(ISBLANK(H469),\"\",($E$3&\".\"&+(COUNTA(H$3:H469))))","v":""},{"$nulls":9},"",57]
[{"$f":"IF(ISBLANK(H470),\"\",($E$3&\".\"&+(COUNTA(H$3:H470))))","v":""},null,{"$f":"C3","v":"Schedule"},null,{"$f":"E3","v":7},{"$nulls":5},"",58]
[{"$f":"IF(ISBLANK(H471),\"\",($E$3&\".\"&+(COUNTA(H$3:H471))))","v":""},null,{"$f":"C4","v":"MEDIUM PRESSURE PIPELINES"},{"$nulls":7},"",59]
[{"$f":"IF(ISBLANK(H472),\"\",($E$3&\".\"&+(COUNTA(H$3:H472))))","v":""},{"$nulls":9},"",60]
[null,null,"Carried forward to Summary of Bills",{"$nulls":6},"Total",null,61]
[{"$nulls":11},62]
[{"$nulls":11},63]
[{"$nulls":11},64]
[{"$nulls":11},65]
[{"$nulls":11},66]
[{"$nulls":11},67]
[{"$nulls":11},68]
[{"$nulls":11},69]
[{"$nulls":11},70]
[{"$nulls":11},71]
[{"$nulls":11},72]
[{"$nulls":11},73]
[{"$nulls":11},74]
[{"$nulls":11},75]
[{"$nulls":11},76]
[{"$nulls":11},77]
[{"$nulls":11},78]
[{"$nulls":11},79]
[{"$nulls":11},80]

{"sheet":"8. Earthworks ","index":7,"n_rows":164,"n_cols":16,"rows_kept":164,"merged":[[0,0,1,0],[0,1,1,1],[0,2,1,6],[0,7,1,7],[0,8,1,8],[0,9,1,9],[0,10,1,10],[5,2,5,6],[27,2,27,6],[47,2,47,6],[61,2,61,6],[66,2,66,6],[70,2,70,6],[75,2,75,6],[82,2,82,6]]}
["Item","Ref.","Description",{"$nulls":4},"Unit","Qty","Rate","Amount"]
[]
[{"$f":"IF(ISBLANK(H3),\"\",($E$3&\".\"&+(COUNTA(H3:H$3))))","v":""},null,"Schedule",null,8,{"$nulls":5},{"$f":"IF(I3<>0,I3*J3,\"\")","v":""},null,1]
[{"$f":"IF(ISBLANK(H4),\"\",($E$3&\".\"&+(COUNTA(H$3:H4))))","v":""},null,"EARTHWORKS (ACCESS ROADS & DIVERSION)",{"$nulls":7},{"$f":"IF(I4<>0,I4*J4,\"\")","v":""},null,2]
[{"$nulls":10},{"$f":"IF(I5<>0,I5*J5,\"\")","v":""},null,3]
[null,"SANS","ACCESS ROAD, TEMPORARY DIVERSION AND CROSSING WORKS",{"$nulls":7},"",null,4]
[null,"1200 C",{"$nulls":8},{"$f":"IF(I7<>0,I7*J7,\"\")","v":""},null,5]
[{"$f":"IF(ISBLANK(H8),\"\",($E$3&\".\"&+(COUNTA(H$3:H8))))","v":""},null,".1"," Clear and grub",{"$nulls":6},"",null,6]
[{"$f":"IF(ISBLANK(H9),\"\",($E$3&\".\"&+(COUNTA(H$3:H9))))","v":""},{"$nulls":9},"",null,7]
[{"$f":"IF(ISBLANK(H10),\"\",($E$3&\".\"&+(COUNTA(H$3:H10))))","v":""},"8.2.1",null,"(a)","Clear and grub areas for temporary access ",{"$nulls":7},8]
[{"$f":"IF(ISBLANK(H11),\"\",($E$3&\".\"&+(COUNTA(H$3:H11))))","v":"8.1"},{"$nulls":3},"tracks and deviations",null,null,"m²",{"$f":"300*3","v":900},{"$nulls":3},9]
[{"$nulls":12},10]
[{"$f":"IF(ISBLANK(H13),\"\",($E$3&\".\"&+(COUNTA(H$3:H13))))","v":""},"8.2.2",".2","Remove and grub trees and tree stumps",{"$nulls":8},11]
[{"$f":"IF(ISBLANK(H14),\"\",($E$3&\".\"&+(COUNTA(H$3:H14))))","v":""},{"$nulls":11},12]
[{"$f":"IF(ISBLANK(H15),\"\",($E$3&\".\"&+(COUNTA(H$3:H15))))","v":"8.2"},null,null,"(a)","Exceeding 300 mm girth up to 1 m girth",null,null,"no",15,{"$nulls":3},13]
[{"$f":"IF(ISBLANK(H16),\"\",($E$3&\".\"&+(COUNTA(H$3:H16))))","v":""},{"$nulls":11},14]
[{"$f":"IF(ISBLANK(H17),\"\",($E$3&\".\"&+(COUNTA(H$3:H17))))","v":"8.3"},null,null,"(b)","Exceeding 1 m girth and up to 2 m girth",null,null,"no",10,{"$nulls":3},15]
[{"$f":"IF(ISBLANK(H18),\"\",($E$3&\".\"&+(COUNTA(H$3:H18))))","v":""},{"$nulls":11},16]
[{"$f":"IF(ISBLANK(H19),\"\",($E$3&\".\"&+(COUNTA(H$3:H19))))","v":""},null,"NOTE:",null,"Rates for tree removal shall include cutting, ",{"$nulls":7},17]
[{"$f":"IF(ISBLANK(H20),\"\",($E$3&\".\"&+(COUNTA(H$3:H20))))","v":""},{"$nulls":3},"grubbing of roots, backfilling, compaction ",{"$nulls":7},18]
[{"$f":"IF(ISBLANK(H21),\"\",($E$3&\".\"&+(COUNTA(H$3:H21))))","v":""},{"$nulls":3},"and disposal of material off site.",{"$nulls":7},19]
[{"$f":"IF(ISBLANK(H22),\"\",($E$3&\".\"&+(COUNTA(H$3:H22))))","v":""},{"$nulls":11},20]
[{"$f":"IF(ISBLANK(H23),\"\",($E$3&\".\"&+(COUNTA(H$3:H23))))","v":""},null,".3","Disposal of vegetation",{"$nulls":8},21]
[{"$f":"IF(ISBLANK(H24),\"\",($E$3&\".\"&+(COUNTA(H$3:H24))))","v":""},{"$nulls":11},22]
[{"$f":"IF(ISBLANK(H25),\"\",($E$3&\".\"&+(COUNTA(H$3:H25))))","v":""},null,null,"(a)","Disposal of cleared vegetation, trees and stumps off ",{"$nulls":7},23]
[{"$f":"IF(ISBLANK(H26),\"\",($E$3&\".\"&+(COUNTA(H$3:H26))))","v":"8.4"},{"$nulls":3},"site or at an approved area",null,null,"sum",1,{"$nulls":3},24]
[{"$f":"IF(ISBLANK(H27),\"\",($E$3&\".\"&+(COUNTA(H$3:H27))))","v":""},{"$nulls":11},25]
[{"$f":"IF(ISBLANK(H28),\"\",($E$3&\".\"&+(COUNTA(H$3:H28))))","v":""},"SANS","EARTHWORKS (ACCESS ROADS/TRACKS)",{"$nulls":9},26]
[{"$f":"IF(ISBLANK(H29),\"\",($E$3&\".\"&+(COUNTA(H$3:H29))))","v":""},"1200 DM",{"$nulls":10},27]
[{"$f":"IF(ISBLANK(H30),\"\",($E$3&\".\"&+(COUNTA(H$3:H30))))","v":""},null,".1","Formation of tracks",{"$nulls":8},28]
[{"$f":"IF(ISBLANK(H31),\"\",($E$3&\".\"&+(COUNTA(H$3:H31))))","v":""},{"$nulls":11},29]
[{"$f":"IF(ISBLANK(H32),\"\",($E$3&\".\"&+(COUNTA(H$3:H32))))","v":""},"8.3.3",null,"(a)","Shape and prepare formation for access tracks ",{"$nulls":7},30]
[{"$f":"IF(ISBLANK(H33),\"\",($E$3&\".\"&+(COUNTA(H$3:H33))))","v":"8.5"},{"$nulls":3},"including trimming and compaction",null,null,"m²",{"$f":"2*300","v":600},{"$nulls":3},31]
[{"$f":"IF(ISBLANK(H34),\"\",($E$3&\".\"&+(COUNTA(H$3:H34))))","v":""},{"$nulls":11},32]
[{"$f":"IF(ISBLANK(H35),\"\",($E$3&\".\"&+(COUNTA(H$3:H35))))","v":""},"8.3.4",".2","Localised cut to fill to form access tracks",{"$nulls":8},33]
[{"$f":"IF(ISBLANK(H36),\"\",($E$3&\".\"&+(COUNTA(H$3:H36))))","v":""},{"$nulls":11},34]
[{"$f":"IF(ISBLANK(H37),\"\",($E$3&\".\"&+(COUNTA(H$3:H37))))","v":"8.6"},null,null,"(a)","Compacted to 90% mod AASHTO density",null,null,"m³",150,{"$nulls":3},35]
[{"$f":"IF(ISBLANK(H38),\"\",($E$3&\".\"&+(COUNTA(H$3:H38))))","v":""},{"$nulls":11},36]
[{"$f":"IF(ISBLANK(H39),\"\",($E$3&\".\"&+(COUNTA(H$3:H39))))","v":""},null,".3","Removal of unsafe material",{"$nulls":6},{"$f":"IF(I39<>0,I39*J39,\"\")","v":""},null,37]
[{"$f":"IF(ISBLANK(H40),\"\",($E$3&\".\"&+(COUNTA(H$3:H40))))","v":""},{"$nulls":11},38]
[{"$f":"IF(ISBLANK(H41),\"\",($E$3&\".\"&+(COUNTA(H$3:H41))))","v":"8.7"},"8.3.7",null,"(a)","Excavate and dispose unsuitable material",null,null,"m³",100,{"$nulls":3},39]
[{"$f":"IF(ISBLANK(H42),\"\",($E$3&\".\"&+(COUNTA(H$3:H42))))","v":""},{"$nulls":11},40]
[{"$f":"IF(ISBLANK(H43),\"\",($E$3&\".\"&+(COUNTA(H$3:H43))))","v":""},null,".4","Selected gravel",{"$nulls":8},41]
[{"$f":"IF(ISBLANK(H44),\"\",($E$3&\".\"&+(COUNTA(H$3:H44))))","v":""},"8.3.4",{"$nulls":10},42]
[{"$f":"IF(ISBLANK(H45),\"\",($E$3&\".\"&+(COUNTA(H$3:H45))))","v":"8.8"},null,null,"(a)","Provide selected gravel material for access ",null,null,"m³",150,{"$nulls":3},43]
[{"$f":"IF(ISBLANK(H46),\"\",($E$3&\".\"&+(COUNTA(H$3:H46))))","v":""},{"$nulls":3},"tracks from on-site or imported sources",{"$nulls":5},{"$f":"IF(I46<>0,I46*J46,\"\")","v":""},null,44]
[{"$f":"IF(ISBLANK(H47),\"\",($E$3&\".\"&+(COUNTA(H$3:H47))))","v":""},{"$nulls":9},"",null,45]
[{"$f":"IF(ISBLANK(H48),\"\",($E$3&\".\"&+(COUNTA(H$3:H48))))","v":""},null,"TEMPORARY ACCESS MANAGEMENT",{"$nulls":7},"",null,46]
[{"$f":"IF(ISBLANK(H49),\"\",($E$3&\".\"&+(COUNTA(H$3:H49))))","v":""},{"$nulls":9},"",null,47]
[{"$f":"IF(ISBLANK(H50),\"\",($E$3&\".\"&+(COUNTA(H$3:H50))))","v":""},null,".1","Management of tracks",{"$nulls":6},"",null,48]
[{"$f":"IF(ISBLANK(H51),\"\",($E$3&\".\"&+(COUNTA(H$3:H51))))","v":""},{"$nulls":9},"",null,49]
[{"$f":"IF(ISBLANK(H52),\"\",($E$3&\".\"&+(COUNTA(H$3:H52))))","v":""},null,null,"(a)","Maintain access tracks including grading and ",{"$nulls":7},50]
[{"$f":"IF(ISBLANK(H53),\"\",($E$3&\".\"&+(COUNTA(H$3:H53))))","v":"8.9"},{"$nulls":3},"repair for the duration of construction",null,null,"month",12,{"$nulls":3},51]
[{"$f":"IF(ISBLANK(H54),\"\",($E$3&\".\"&+(COUNTA(H$3:H54))))","v":""},{"$nulls":11},52]
[{"$f":"IF(ISBLANK(H55),\"\",($E$3&\".\"&+(COUNTA(H$3:H55))))","v":""},null,".2","Relocation of tracks",{"$nulls":8},53]
[{"$f":"IF(ISBLANK(H56),\"\",($E$3&\".\"&+(COUNTA(H$3:H56))))","v":""},{"$nulls":11},54]
[{"$f":"IF(ISBLANK(H57),\"\",($E$3&\".\"&+(COUNTA(H$3:H57))))","v":""},null,null,"(a)","Allow for relocation and regrading of access tracks ",{"$nulls":7},55]
[{"$f":"IF(ISBLANK(H58),\"\",($E$3&\".\"&+(COUNTA(H$3:H58))))","v":"8.10"},{"$nulls":3},"as construction progresses (by instruction of Engineer only)",null,null,"sum",1,{"$nulls":3},56]
[{"$nulls":12},57]
[{"$f":"IF(ISBLANK(H60),\"\",($E$3&\".\"&+(COUNTA(H$3:H60))))","v":""},null,"PIPELINE ROAD CROSSING",{"$nulls":9},58]
[{"$f":"IF(ISBLANK(H61),\"\",($E$3&\".\"&+(COUNTA(H$3:H61))))","v":""},{"$nulls":11},59]
[{"$f":"IF(ISBLANK(H62),\"\",($E$3&\".\"&+(COUNTA(H$3:H62))))","v":""},"SANS","EXCAVATION",{"$nulls":9},60]
[{"$f":"IF(ISBLANK(H63),\"\",($E$3&\".\"&+(COUNTA(H$3:H63))))","v":""},"1200 DB",{"$nulls":10},61]
[{"$f":"IF(ISBLANK(H64),\"\",($E$3&\".\"&+(COUNTA(H$3:H64))))","v":"8.11"},"8.3.2",".1","Excavate trench for pipeline crossing under",{"$nulls":3},"m³",{"$f":"ROUNDUP(P79,0)","v":4},{"$nulls":3},62]
[{"$f":"IF(ISBLANK(H65),\"\",($E$3&\".\"&+(COUNTA(H$3:H65))))","v":""},null,null,"access track",{"$nulls":8},63]
[{"$f":"IF(ISBLANK(H66),\"\",($E$3&\".\"&+(COUNTA(H$3:H66))))","v":""},{"$nulls":11},64]
[{"$f":"IF(ISBLANK(H67),\"\",($E$3&\".\"&+(COUNTA(H$3:H67))))","v":""},"SANS","BEDDING",{"$nulls":9},65]
[{"$f":"IF(ISBLANK(H68),\"\",($E$3&\".\"&+(COUNTA(H$3:H68))))","v":""},"1200 LB",{"$nulls":10},66]
[{"$f":"IF(ISBLANK(H69),\"\",($E$3&\".\"&+(COUNTA(H$3:H69))))","v":"8.12"},"8.2.1",".1","Provide selected granular bedding material to pipeline",{"$nulls":3},"m³",{"$f":"$P$76*$P$77*0.2","v":1.2000000000000002},{"$nulls":3},67]
[{"$nulls":12},68]
[{"$f":"IF(ISBLANK(H71),\"\",($E$3&\".\"&+(COUNTA(H$3:H71))))","v":""},"SANS","CONCRETE ENCASEMENT",{"$nulls":9},69]
[{"$f":"IF(ISBLANK(H72),\"\",($E$3&\".\"&+(COUNTA(H$3:H72))))","v":""},"1200 G",{"$nulls":8},{"$f":"IF(I72<>0,I72*J72,\"\")","v":""},null,70]
[{"$f":"IF(ISBLANK(H73),\"\",($E$3&\".\"&+(COUNTA(H$3:H73))))","v":"8.13"},null,".1","Concrete encasement to pipeline from CH 7.374 ",{"$nulls":3},"m³",{"$f":"$P$76*$P$77*1","v":6.000000000000001},{"$nulls":3},71]
[{"$f":"IF(ISBLANK(H74),\"\",($E$3&\".\"&+(COUNTA(H$3:H74))))","v":""},null,null,"to CH 13.374 of bypass pipeline complete",{"$nulls":8},72]
[{"$f":"IF(ISBLANK(H75),\"\",($E$3&\".\"&+(COUNTA(H$3:H75))))","v":""},{"$nulls":11},73]
[{"$f":"IF(ISBLANK(H76),\"\",($E$3&\".\"&+(COUNTA(H$3:H76))))","v":""},null,"TEMPORARY ACCESS DURING CROSSING",{"$nulls":9},74,null,"Length",{"$f":"13.374-7.374","v":6.000000000000001}]
[{"$f":"IF(ISBLANK(H77),\"\",($E$3&\".\"&+(COUNTA(H$3:H77))))","v":""},{"$nulls":11},75,null,"Width",1]
[{"$f":"IF(ISBLANK(H78),\"\",($E$3&\".\"&+(COUNTA(H$3:H78))))","v":""},null,".1","Provide temporary deviation during crossing",{"$nulls":8},76,null,"Depth",0.6]
[{"$f":"IF(ISBLANK(H79),\"\",($E$3&\".\"&+(COUNTA(H$3:H79))))","v":"8.14"},null,null,"construction",{"$nulls":3},"SUM",1,{"$nulls":3},77,null,"VOLUME",{"$f":"P76*P77*P78","v":3.6000000000000005}]
[{"$nulls":9},"Carried Forward",null,null,78]
[{"$nulls":9},"Brought Forward",null,null,79]
[{"$f":"IF(ISBLANK(H82),\"\",($E$3&\".\"&+(COUNTA(H$3:H82))))","v":""},{"$nulls":11},80]
[{"$f":"IF(ISBLANK(H83),\"\",($E$3&\".\"&+(COUNTA(H$3:H83))))","v":""},"SANS","REINSTATEMENT"]
[{"$f":"IF(ISBLANK(H84),\"\",($E$3&\".\"&+(COUNTA(H$3:H84))))","v":""},"1200 DM"]
[{"$f":"IF(ISBLANK(H85),\"\",($E$3&\".\"&+(COUNTA(H$3:H85))))","v":""},null,".1","Remove temporary tracks",{"$nulls":8},1]
[{"$f":"IF(ISBLANK(H86),\"\",($E$3&\".\"&+(COUNTA(H$3:H86))))","v":""},{"$nulls":11},2]
[{"$f":"IF(ISBLANK(H87),\"\",($E$3&\".\"&+(COUNTA(H$3:H87))))","v":"8.15"},null,null,"(a)","Scarify and remove temporary access tracks",null,null," m² ",{"$f":"I33","v":600},{"$nulls":3},3]
[{"$f":"IF(ISBLANK(H88),\"\",($E$3&\".\"&+(COUNTA(H$3:H88))))","v":""},{"$nulls":11},4]
[{"$f":"IF(ISBLANK(H89),\"\",($E$3&\".\"&+(COUNTA(H$3:H89))))","v":""},null,".2","Reinstate original condition",{"$nulls":8},5]
[{"$f":"IF(ISBLANK(H90),\"\",($E$3&\".\"&+(COUNTA(H$3:H90))))","v":""},{"$nulls":11},6]
[{"$f":"IF(ISBLANK(H91),\"\",($E$3&\".\"&+(COUNTA(H$3:H91))))","v":"8.16"},null,null,"(a)","Reinstate ground and access tracks to original",null,null," m² ",{"$f":"I33","v":600},{"$nulls":3},7]
[{"$f":"IF(ISBLANK(H92),\"\",($E$3&\".\"&+(COUNTA(H$3:H92))))","v":""},{"$nulls":3},"condition",{"$nulls":5},"",null,8]
[{"$nulls":12},9]
[{"$nulls":12},10]
[{"$nulls":12},11]
[{"$nulls":12},12]
[{"$nulls":12},13]
[{"$nulls":12},14]
[{"$nulls":12},15]
[{"$nulls":12},16]
[{"$nulls":12},17]
[{"$nulls":12},18]
[{"$nulls":12},19]
[{"$nulls":12},20]
[{"$nulls":12},21]
[{"$nulls":12},22]
[{"$nulls":12},23]
[{"$nulls":12},24]
[{"$nulls":12},25]
[{"$nulls":12},26]
[{"$nulls":12},27]
[{"$nulls":12},28]
[{"$nulls":12},29]
[{"$nulls":12},30]
[{"$nulls":12},31]
[{"$nulls":12},32]
[{"$nulls":12},33]
[{"$nulls":12},34]
[{"$nulls":12},35]
[{"$nulls":12},36]
[{"$nulls":12},37]
[{"$nulls":12},38]
[{"$nulls":12},39]
[{"$nulls":12},40]
[{"$nulls":12},41]
[{"$nulls":12},42]
[{"$nulls":12},43]
[{"$nulls":12},44]
[{"$nulls":12},45]
[{"$nulls":12},46]
[{"$nulls":12},47]
[{"$nulls":12},48]
[{"$nulls":12},49]
[{"$nulls":12},50]
[{"$nulls":12},51]
[{"$nulls":12},52]
[{"$nulls":12},53]
[{"$nulls":12},54]
[{"$nulls":12},55]
[{"$nulls":12},56]
[{"$nulls":12},57]
[{"$nulls":12},58]
[{"$nulls":12},59]
[{"$nulls":12},60]
[{"$nulls":12},61]
[{"$nulls":12},62]
[{"$nulls":12},63]
[{"$nulls":12},64]
[{"$nulls":12},65]
[{"$nulls":12},66]
[{"$nulls":12},67]
[{"$nulls":12},68]
[{"$f":"IF(ISBLANK(H153),\"\",($E$3&\".\"&+(COUNTA(H$3:H153))))","v":""},{"$nulls":9},"",null,69]
[{"$f":"IF(ISBLANK(H154),\"\",($E$3&\".\"&+(COUNTA(H$3:H154))))","v":""},null,{"$f":"C3","v":"Schedule"},null,{"$f":"E3","v":8},{"$nulls":5},"",null,70]
[{"$f":"IF(ISBLANK(H155),\"\",($E$3&\".\"&+(COUNTA(H$3:H155))))","v":""},null,{"$f":"C6","v":"ACCESS ROAD, TEMPORARY DIVERSION AND CROSSING WORKS"},{"$nulls":7},"",null,71]
[{"$f":"IF(ISBLANK(H156),\"\",($E$3&\".\"&+(COUNTA(H$3:H156))))","v":""},{"$nulls":9},"",null,72]
[null,null,"Carried forward to Summary of Bills",{"$nulls":6},"Total",null,null,73]
[{"$nulls":12},74]
[{"$nulls":12},75]
[{"$nulls":12},76]
[{"$nulls":12},77]
[{"$nulls":12},78]
[{"$nulls":12},79]
[{"$nulls":12},80]

{"sheet":"9. Joint Sealing","index":8,"n_rows":81,"n_cols":13,"rows_kept":81,"merged":[[0,0,1,0],[0,1,1,1],[0,2,1,6],[0,7,1,7],[0,8,1,8],[0,9,1,9],[0,10,1,10],[5,2,5,6],[39,2,39,6],[59,2,59,6],[60,2,60,3],[60,4,60,5],[61,2,61,6],[62,2,62,3],[62,4,62,5]]}
["Item","Ref","Description",{"$nulls":4},"Unit","Qty","Rate","Amount"]
[]
[null,"PSJS","Schedule",null,9,{"$nulls":7},1]
[null,null,"JOINT SEALING",{"$nulls":9},2]
[{"$nulls":12},3]
[null,null,"EXPANSION JOINTS",{"$nulls":9},4]
[{"$nulls":12},5]
[{"$f":"IF(ISBLANK(H8),\"\",($E$3&\".\"&+(COUNTA(H$3:H7))))","v":""},4.2,".1","Cleaning of surfaces",{"$nulls":8},6]
[{"$f":"IF(ISBLANK(H9),\"\",($E$3&\".\"&+(COUNTA(H$3:H8))))","v":""},{"$nulls":11},7]
[{"$f":"IF(ISBLANK(H10),\"\",($E$3&\".\"&+(COUNTA(H$3:H10))))","v":"9.1"},"5.1.1 a)",null,"(a)","Concrete surfaces on floor",null,null,"m2",500,{"$nulls":3},8]
[{"$f":"IF(ISBLANK(H11),\"\",($E$3&\".\"&+(COUNTA(H$3:H11))))","v":""},{"$nulls":11},9]
[{"$f":"IF(ISBLANK(H12),\"\",($E$3&\".\"&+(COUNTA(H$3:H12))))","v":"9.2"},"5.1.1 a)",null,"(b)","Concrete surfaces on walls",null,null,"m2",35,{"$nulls":3},10]
[{"$f":"IF(ISBLANK(H13),\"\",($E$3&\".\"&+(COUNTA(H$3:H13))))","v":""},{"$nulls":11},11]
[{"$f":"IF(ISBLANK(H14),\"\",($E$3&\".\"&+(COUNTA(H$3:H14))))","v":"9.3"},"5.1.1 b)",null,"(c)","Steel surfaces on any plane and angle",null,null,"m2",10,{"$nulls":3},12]
[{"$f":"IF(ISBLANK(H15),\"\",($E$3&\".\"&+(COUNTA(H$3:H15))))","v":""},{"$nulls":11},13]
[{"$f":"IF(ISBLANK(H16),\"\",($E$3&\".\"&+(COUNTA(H$3:H16))))","v":""},4.3,".2","Joint Sealing (Sika range or similar approved)",{"$nulls":8},14]
[{"$f":"IF(ISBLANK(H17),\"\",($E$3&\".\"&+(COUNTA(H$3:H17))))","v":""},{"$nulls":11},15]
[{"$f":"IF(ISBLANK(H18),\"\",($E$3&\".\"&+(COUNTA(H$3:H18))))","v":"9.4"},"5.2.1 a)",null,"(a)","Sikadur - Combiflex® SG System complete",null,null,"m",1375,{"$nulls":3},16]
[{"$f":"IF(ISBLANK(H19),\"\",($E$3&\".\"&+(COUNTA(H$3:H19))))","v":""},{"$nulls":3},"(250mm wide, 2mm thick)",{"$nulls":7},17]
[{"$f":"IF(ISBLANK(H20),\"\",($E$3&\".\"&+(COUNTA(H$3:H20))))","v":""},{"$nulls":3},"(on floor)",{"$nulls":7},18]
[{"$f":"IF(ISBLANK(H21),\"\",($E$3&\".\"&+(COUNTA(H$3:H21))))","v":""},{"$nulls":11},19]
[{"$f":"IF(ISBLANK(H22),\"\",($E$3&\".\"&+(COUNTA(H$3:H22))))","v":"9.5"},"5.2.1 a)",null,"(b)","Sikadur - Combiflex® SG System complete",null,null,"m",100,{"$nulls":3},20]
[{"$f":"IF(ISBLANK(H23),\"\",($E$3&\".\"&+(COUNTA(H$3:H23))))","v":""},{"$nulls":3},"(250mm wide, 2mm thick)",{"$nulls":7},21]
[{"$f":"IF(ISBLANK(H24),\"\",($E$3&\".\"&+(COUNTA(H$3:H24))))","v":""},{"$nulls":3},"(on walls)",{"$nulls":7},22]
[{"$f":"IF(ISBLANK(H25),\"\",($E$3&\".\"&+(COUNTA(H$3:H25))))","v":""},{"$nulls":11},23]
[{"$f":"IF(ISBLANK(H26),\"\",($E$3&\".\"&+(COUNTA(H$3:H26))))","v":"9.6"},"5.2.1 a)",null,"(c)","Sikadur - Combiflex® SG System complete",null,null,"m",null,null,"R/O",null,24]
[{"$f":"IF(ISBLANK(H27),\"\",($E$3&\".\"&+(COUNTA(H$3:H27))))","v":""},{"$nulls":3},"(250mm wide, 2mm thick)",{"$nulls":7},25]
[{"$f":"IF(ISBLANK(H28),\"\",($E$3&\".\"&+(COUNTA(H$3:H28))))","v":""},{"$nulls":3},"(on wall/floor joints)",{"$nulls":7},26]
[{"$f":"IF(ISBLANK(H29),\"\",($E$3&\".\"&+(COUNTA(H$3:H29))))","v":""},{"$nulls":11},27]
[{"$f":"IF(ISBLANK(H30),\"\",($E$3&\".\"&+(COUNTA(H$3:H30))))","v":"9.7"},"5.2.1 b)",null,"(d)","Thermal joint welding",null,null,"No",{"$f":"SUM(I18:I22)/25","v":59},{"$nulls":3},28]
[{"$f":"IF(ISBLANK(H31),\"\",($E$3&\".\"&+(COUNTA(H$3:H31))))","v":""},{"$nulls":11},29]
[{"$f":"IF(ISBLANK(H32),\"\",($E$3&\".\"&+(COUNTA(H$3:H32))))","v":""},3.3,".3","Waterstopping through cracks and joints (Sika range or similar approved)",{"$nulls":8},30]
[{"$f":"IF(ISBLANK(H33),\"\",($E$3&\".\"&+(COUNTA(H$3:H33))))","v":""},{"$nulls":11},31]
[{"$f":"IF(ISBLANK(H34),\"\",($E$3&\".\"&+(COUNTA(H$3:H34))))","v":"9.8"},"5.3.1 a)",null,"(a)","Temporary waterstopping with injected",null,null,"m",10,{"$nulls":3},32]
[{"$f":"IF(ISBLANK(H35),\"\",($E$3&\".\"&+(COUNTA(H$3:H35))))","v":""},{"$nulls":3},"Sika® Injection - 101 RC",{"$nulls":7},33]
[{"$f":"IF(ISBLANK(H36),\"\",($E$3&\".\"&+(COUNTA(H$3:H36))))","v":""},{"$nulls":11},34]
[{"$f":"IF(ISBLANK(H37),\"\",($E$3&\".\"&+(COUNTA(H$3:H37))))","v":"9.9"},"5.3.1 b)",null,"(b)","Perminant waterstopping with injected",null,null,"m",10,{"$nulls":3},35]
[{"$f":"IF(ISBLANK(H38),\"\",($E$3&\".\"&+(COUNTA(H$3:H38))))","v":""},{"$nulls":3},"Sika® Injection - 203",{"$nulls":7},36]
[{"$f":"IF(ISBLANK(H39),\"\",($E$3&\".\"&+(COUNTA(H$3:H39))))","v":""},{"$nulls":11},37]
[{"$f":"IF(ISBLANK(H40),\"\",($E$3&\".\"&+(COUNTA(H$3:H40))))","v":""},"PSG","REFILL AND TESTING PHASE",{"$nulls":7},{"$f":"IF(ISBLANK($I40),\"\",J40*$I40)","v":""},null,38]
[{"$f":"IF(ISBLANK(H41),\"\",($E$3&\".\"&+(COUNTA(H$3:H41))))","v":""},8.12,"Facilitate & monitor refilling of reservoir (Water supplied free)",{"$nulls":7},"",null,39]
[{"$f":"IF(ISBLANK(H42),\"\",($E$3&\".\"&+(COUNTA(H$3:H42))))","v":""},null,".1","For each reservoir compartment:",{"$nulls":8},40]
[{"$f":"IF(ISBLANK(H43),\"\",($E$3&\".\"&+(COUNTA(H$3:H43))))","v":""},{"$nulls":11},41]
[{"$f":"IF(ISBLANK(H44),\"\",($E$3&\".\"&+(COUNTA(H$3:H44))))","v":"9.10"},null,null,"(a)","65 Mℓ reservoir compartment 1",null,null,"sum",1,{"$nulls":3},42]
[{"$nulls":12},43]
[{"$f":"IF(ISBLANK(H46),\"\",($E$3&\".\"&+(COUNTA(H$3:H46))))","v":"9.11"},null,null,"(b)","65 Mℓ reservoir compartment 2",null,null,"sum",1,{"$nulls":3},44]
[{"$f":"IF(ISBLANK(H47),\"\",($E$3&\".\"&+(COUNTA(H$3:H47))))","v":""},{"$nulls":11},45]
[{"$f":"IF(ISBLANK(H48),\"\",($E$3&\".\"&+(COUNTA(H$3:H48))))","v":""},null,"Test water quality post-filling of the reservoir",{"$nulls":9},46]
[{"$f":"IF(ISBLANK(H49),\"\",($E$3&\".\"&+(COUNTA(H$3:H49))))","v":""},null,".2","For each reservoir:",{"$nulls":8},47]
[{"$f":"IF(ISBLANK(H50),\"\",($E$3&\".\"&+(COUNTA(H$3:H50))))","v":"9.12"},null,null,"(a)","65 Mℓ reservoir compartment 1",null,null,"sum",1,{"$nulls":3},48]
[{"$nulls":12},49]
[{"$f":"IF(ISBLANK(H52),\"\",($E$3&\".\"&+(COUNTA(H$3:H52))))","v":"9.13"},null,null,"(b)","65 Mℓ reservoir compartment 2",null,null,"sum",1,{"$nulls":3},50]
[{"$f":"IF(ISBLANK(H53),\"\",($E$3&\".\"&+(COUNTA(H$3:H53))))","v":""},{"$nulls":11},51]
[{"$f":"IF(ISBLANK(H54),\"\",($E$3&\".\"&+(COUNTA(H$3:H54))))","v":""},null,"Facilitate and monitor water level drop test",{"$nulls":9},52]
[{"$f":"IF(ISBLANK(H55),\"\",($E$3&\".\"&+(COUNTA(H$3:H55))))","v":""},null,".3","For each reservoir:",{"$nulls":8},53]
[{"$f":"IF(ISBLANK(H56),\"\",($E$3&\".\"&+(COUNTA(H$3:H56))))","v":"9.14"},null,null,"(a)","65 Mℓ reservoir compartment 1",null,null,"sum",1,{"$nulls":3},54]
[{"$nulls":12},55]
[{"$f":"IF(ISBLANK(H58),\"\",($E$3&\".\"&+(COUNTA(H$3:H58))))","v":"9.15"},null,null,"(b)","65 Mℓ reservoir compartment 2",null,null,"sum",1,{"$nulls":3},56]
[{"$nulls":12},57]
[{"$f":"IF(ISBLANK(H60),\"\",($E$3&\".\"&+(COUNTA(H$3:H60))))","v":""},null,"SUNDRIES",{"$nulls":9},58]
[{"$f":"IF(ISBLANK(H61),\"\",($E$3&\".\"&+(COUNTA(H$3:H61))))","v":""},{"$nulls":11},59]
[{"$f":"IF(ISBLANK(H62),\"\",($E$3&\".\"&+(COUNTA(H$3:H62))))","v":""},null,"Access Ladders",{"$nulls":9},60]
[{"$f":"IF(ISBLANK(H63),\"\",($E$3&\".\"&+(COUNTA(H$3:H63))))","v":""},{"$nulls":11},61]
[{"$f":"IF(ISBLANK(H64),\"\",($E$3&\".\"&+(COUNTA(H$3:H64))))","v":""},null,".1","Stainless steel internal vertical access ladder",{"$nulls":8},62]
[{"$f":"IF(ISBLANK(H65),\"\",($E$3&\".\"&+(COUNTA(H$3:H65))))","v":""},null,null,"(cat ladder) inside Reservoir",{"$nulls":8},63]
[{"$f":"IF(ISBLANK(H66),\"\",($E$3&\".\"&+(COUNTA(H$3:H66))))","v":""},null,null,"manufactured from Grade 304 (minimum) stainless steel, ",{"$nulls":8},64]
[{"$f":"IF(ISBLANK(H67),\"\",($E$3&\".\"&+(COUNTA(H$3:H67))))","v":""},null,null,"including brackets and fixings, installed complete",{"$nulls":8},65]
[{"$f":"IF(ISBLANK(H68),\"\",($E$3&\".\"&+(COUNTA(H$3:H68))))","v":"9.16"},null,null,"(a)","9400 mm Height",null,null,"no",4,{"$nulls":3},66]
[{"$f":"IF(ISBLANK(H69),\"\",($E$3&\".\"&+(COUNTA(H$3:H69))))","v":""},{"$nulls":11},67]
[{"$f":"IF(ISBLANK(H70),\"\",($E$3&\".\"&+(COUNTA(H$3:H70))))","v":""},null,null,"ALTERNATIVE",{"$nulls":8},68]
[{"$f":"IF(ISBLANK(H71),\"\",($E$3&\".\"&+(COUNTA(H$3:H71))))","v":""},{"$nulls":11},69]
[{"$f":"IF(ISBLANK(H72),\"\",($E$3&\".\"&+(COUNTA(H$3:H72))))","v":""},null,".2","Aluminium internal vertical access ladder",{"$nulls":8},70]
[{"$f":"IF(ISBLANK(H73),\"\",($E$3&\".\"&+(COUNTA(H$3:H73))))","v":""},null,null,"inside Reservoir with safety cage",{"$nulls":6},{"$f":"IF(ISBLANK($I73),\"\",J73*$I73)","v":""},null,71]
[{"$f":"IF(ISBLANK(H74),\"\",($E$3&\".\"&+(COUNTA(H$3:H74))))","v":""},null,null,"including brackets and fixings, installed complete",{"$nulls":8},72]
[{"$f":"IF(ISBLANK(H75),\"\",($E$3&\".\"&+(COUNTA(H$3:H75))))","v":"9.17"},null,null,"(a)","9400 mm Height",null,null,"no",4,null,"R/O",null,73]
[{"$nulls":12},74]
[{"$f":"IF(ISBLANK(H77),\"\",($E$3&\".\"&+(COUNTA(H$3:H77))))","v":""},null,{"$f":"C3","v":"Schedule"},null,{"$f":"E3","v":9},{"$nulls":7},75]
[{"$f":"IF(ISBLANK(H78),\"\",($E$3&\".\"&+(COUNTA(H$3:H78))))","v":""},null,{"$f":"C4","v":"JOINT SEALING"},{"$nulls":9},76]
[null,null,"Carried forward to Summary of Bills",{"$nulls":6},"Total",null,null,77]
[{"$nulls":12},78]
[{"$nulls":12},79]

{"sheet":"10. Spoil Repair","index":9,"n_rows":163,"n_cols":13,"rows_kept":163,"merged":[[0,0,1,0],[0,1,1,1],[0,2,1,6],[0,7,1,7],[0,8,1,8],[0,9,1,9],[0,10,1,10],[15,2,15,3],[16,2,16,6],[35,2,35,3],[56,2,56,3],[102,2,102,3],[113,2,113,3]]}
["Item","Ref","Description",{"$nulls":4},"Unit","Qty","Rate","Amount"]
[]
[null,"PSG","Schedule",null,10,{"$nulls":7},1]
[null,null,"CONCRETE SPOIL REPAIR",{"$nulls":9},2]
[{"$nulls":12},3]
[null,null,".1","Pressure wash all concrete surfaces to remove loose material and ",{"$nulls":8},4]
[{"$nulls":3},"leave an open pore structure, including removal of waste from reservoir",{"$nulls":8},5]
[{"$f":"IF(ISBLANK(H8),\"\",($E$3&\".\"&+(COUNTA(H$3:H8))))","v":""},{"$nulls":11},6]
[{"$f":"IF(ISBLANK(H9),\"\",($E$3&\".\"&+(COUNTA(H$3:H9))))","v":"10.1"},null,null,"(a)","Floor and inclined surfaces less than 45 degrees",null,null,"m2",24500,{"$nulls":3},7]
[{"$f":"IF(ISBLANK(H10),\"\",($E$3&\".\"&+(COUNTA(H$3:H10))))","v":""},{"$nulls":11},8]
[{"$f":"IF(ISBLANK(H11),\"\",($E$3&\".\"&+(COUNTA(H$3:H11))))","v":"10.2"},null,null,"(b)","Walls/Inclined surfaces from 45 degrees and greater",null,null,"m2",6600,{"$nulls":3},9]
[{"$f":"IF(ISBLANK(H12),\"\",($E$3&\".\"&+(COUNTA(H$3:H12))))","v":""},{"$nulls":11},10]
[{"$f":"IF(ISBLANK(H13),\"\",($E$3&\".\"&+(COUNTA(H$3:H13))))","v":"10.3"},null,null,"(c)","Roof Soffit",null,null,"m2",25000,{"$nulls":3},11]
[{"$f":"IF(ISBLANK(H14),\"\",($E$3&\".\"&+(COUNTA(H$3:H14))))","v":""},{"$nulls":11},12]
[{"$f":"IF(ISBLANK(H15),\"\",($E$3&\".\"&+(COUNTA(H$3:H15))))","v":"10.4"},null,null,"(d)","Columns and column heads",null,null,"m2",10200,{"$nulls":3},13]
[{"$f":"IF(ISBLANK(H16),\"\",($E$3&\".\"&+(COUNTA(H$3:H16))))","v":""},{"$nulls":11},14]
[{"$f":"IF(ISBLANK(H17),\"\",($E$3&\".\"&+(COUNTA(H$3:H17))))","v":""},null,"Minor concrete spalls",{"$nulls":9},15]
[{"$f":"IF(ISBLANK(H18),\"\",($E$3&\".\"&+(COUNTA(H$3:H18))))","v":""},{"$nulls":11},16]
[{"$f":"IF(ISBLANK(H19),\"\",($E$3&\".\"&+(COUNTA(H$3:H19))))","v":"10.5"},null,"Cut max 20mm deep with a grinder around the area to be removed. ",{"$nulls":4},"m2",90,{"$nulls":3},17]
[{"$f":"IF(ISBLANK(H20),\"\",($E$3&\".\"&+(COUNTA(H$3:H20))))","v":""},null,"Cut at a slight angle to create a dovetail/mechanical key for repair. ",{"$nulls":9},18]
[{"$f":"IF(ISBLANK(H21),\"\",($E$3&\".\"&+(COUNTA(H$3:H21))))","v":""},null,"Break out concrete to depth of spalled reinforcement. ",{"$nulls":9},19]
[{"$f":"IF(ISBLANK(H22),\"\",($E$3&\".\"&+(COUNTA(H$3:H22))))","v":""},null,"Remove any corroded material  from rebar by mechanical means. ",{"$nulls":9},20]
[{"$f":"IF(ISBLANK(H23),\"\",($E$3&\".\"&+(COUNTA(H$3:H23))))","v":""},null,"Ensure concrete  is acceptably clean with an open pore structure and ",{"$nulls":9},21]
[{"$f":"IF(ISBLANK(H24),\"\",($E$3&\".\"&+(COUNTA(H$3:H24))))","v":""},null,"meets the product supplier's requirements.",{"$nulls":9},22]
[{"$f":"IF(ISBLANK(H25),\"\",($E$3&\".\"&+(COUNTA(H$3:H25))))","v":""},{"$nulls":11},23]
[{"$f":"IF(ISBLANK(H26),\"\",($E$3&\".\"&+(COUNTA(H$3:H26))))","v":""},null,".2","Apply Penecrete mortar in layers all strictly in accordance ",{"$nulls":8},24]
[{"$f":"IF(ISBLANK(H27),\"\",($E$3&\".\"&+(COUNTA(H$3:H27))))","v":""},null,null,"with the manufacturer's specifications:",{"$nulls":8},25]
[{"$f":"IF(ISBLANK(H28),\"\",($E$3&\".\"&+(COUNTA(H$3:H28))))","v":""},{"$nulls":11},26]
[{"$f":"IF(ISBLANK(H29),\"\",($E$3&\".\"&+(COUNTA(H$3:H29))))","v":"10.6"},null,null,"(a)","floor and inclined surface less than 45 degrees",null,null,"litre",50,{"$nulls":3},27]
[{"$f":"IF(ISBLANK(H30),\"\",($E$3&\".\"&+(COUNTA(H$3:H30))))","v":""},{"$nulls":11},28]
[{"$f":"IF(ISBLANK(H31),\"\",($E$3&\".\"&+(COUNTA(H$3:H31))))","v":"10.7"},null,null,"(b)","walls and inclined surfaces 45 degrees and greater",null,null,"litre",50,{"$nulls":3},29]
[{"$f":"IF(ISBLANK(H32),\"\",($E$3&\".\"&+(COUNTA(H$3:H32))))","v":""},{"$nulls":11},30]
[{"$f":"IF(ISBLANK(H33),\"\",($E$3&\".\"&+(COUNTA(H$3:H33))))","v":"10.8"},null,null,"(c)","columns and column heads",null,null,"litre",1040,{"$nulls":3},31]
[{"$f":"IF(ISBLANK(H34),\"\",($E$3&\".\"&+(COUNTA(H$3:H34))))","v":""},{"$nulls":11},32]
[{"$f":"IF(ISBLANK(H35),\"\",($E$3&\".\"&+(COUNTA(H$3:H35))))","v":"10.9"},null,null,"(d)","roof soffit",null,null,"litre",1560,{"$nulls":3},33]
[{"$f":"IF(ISBLANK(H36),\"\",($E$3&\".\"&+(COUNTA(H$3:H36))))","v":""},{"$nulls":11},34]
[{"$f":"IF(ISBLANK(H37),\"\",($E$3&\".\"&+(COUNTA(H$3:H37))))","v":""},null,".3","Severe concrete spalls but where reinforcing loss due to corrosion is",{"$nulls":8},35]
[{"$f":"IF(ISBLANK(H38),\"\",($E$3&\".\"&+(COUNTA(H$3:H38))))","v":""},null,null,"limited (to be evaluated on site)",{"$nulls":8},36]
[{"$f":"IF(ISBLANK(H39),\"\",($E$3&\".\"&+(COUNTA(H$3:H39))))","v":""},{"$nulls":11},37]
[{"$f":"IF(ISBLANK(H40),\"\",($E$3&\".\"&+(COUNTA(H$3:H40))))","v":"10.10"},null,null,"a)","Cut max 20mm deep with a grinder around the area to be",null,null,"m2",105,{"$nulls":3},38]
[{"$f":"IF(ISBLANK(H41),\"\",($E$3&\".\"&+(COUNTA(H$3:H41))))","v":""},{"$nulls":3},"removed. Break out concrete to approximately 50mm deep ",{"$nulls":7},39]
[{"$f":"IF(ISBLANK(H42),\"\",($E$3&\".\"&+(COUNTA(H$3:H42))))","v":""},{"$nulls":3},"beyond spalled reinforcement. Remove any corroded material ",{"$nulls":7},40]
[{"$f":"IF(ISBLANK(H43),\"\",($E$3&\".\"&+(COUNTA(H$3:H43))))","v":""},{"$nulls":3},"from rebar by mechanical means. Ensure concrete is ",{"$nulls":7},41]
[{"$f":"IF(ISBLANK(H44),\"\",($E$3&\".\"&+(COUNTA(H$3:H44))))","v":""},{"$nulls":3},"acceptably clean with an open pore structure and meets the ",{"$nulls":7},42]
[{"$f":"IF(ISBLANK(H45),\"\",($E$3&\".\"&+(COUNTA(H$3:H45))))","v":""},{"$nulls":3},"product supplier's requirements.",{"$nulls":7},43]
[{"$f":"IF(ISBLANK(H46),\"\",($E$3&\".\"&+(COUNTA(H$3:H46))))","v":""},{"$nulls":11},44]
[{"$f":"IF(ISBLANK(H47),\"\",($E$3&\".\"&+(COUNTA(H$3:H47))))","v":""},null,null,"b)","Apply Penecrete mortar in layers all strictly in accordance",{"$nulls":7},45]
[{"$f":"IF(ISBLANK(H48),\"\",($E$3&\".\"&+(COUNTA(H$3:H48))))","v":""},{"$nulls":3}," with the manufacturer's specifications:",{"$nulls":7},46]
[{"$f":"IF(ISBLANK(H49),\"\",($E$3&\".\"&+(COUNTA(H$3:H49))))","v":""},{"$nulls":11},47]
[{"$f":"IF(ISBLANK(H50),\"\",($E$3&\".\"&+(COUNTA(H$3:H50))))","v":"10.11"},{"$nulls":3},"(a)","floor and inclined surface less than 45 degrees",null,"litre",60,{"$nulls":3},48]
[{"$f":"IF(ISBLANK(H51),\"\",($E$3&\".\"&+(COUNTA(H$3:H51))))","v":""},{"$nulls":11},49]
[{"$f":"IF(ISBLANK(H52),\"\",($E$3&\".\"&+(COUNTA(H$3:H52))))","v":"10.12"},{"$nulls":3},"(b)","walls and inclined surfaces 45 degrees and greater",null,"litre",240,{"$nulls":3},50]
[{"$f":"IF(ISBLANK(H53),\"\",($E$3&\".\"&+(COUNTA(H$3:H53))))","v":""},{"$nulls":11},51]
[{"$f":"IF(ISBLANK(H54),\"\",($E$3&\".\"&+(COUNTA(H$3:H54))))","v":"10.13"},{"$nulls":3},"(c)","columns and column heads",null,"litre",3400,{"$nulls":3},52]
[{"$f":"IF(ISBLANK(H55),\"\",($E$3&\".\"&+(COUNTA(H$3:H55))))","v":""},{"$nulls":11},53]
[{"$f":"IF(ISBLANK(H56),\"\",($E$3&\".\"&+(COUNTA(H$3:H56))))","v":"10.14"},{"$nulls":3},"(d)","roof soffit",null,"litre",3600,{"$nulls":3},54]
[{"$f":"IF(ISBLANK(H57),\"\",($E$3&\".\"&+(COUNTA(H$3:H57))))","v":""},{"$nulls":11},55]
[{"$f":"IF(ISBLANK(H58),\"\",($E$3&\".\"&+(COUNTA(H$3:H58))))","v":""},null,".4","Severe concrete spalls where reinforcing corrosion is significant, ",{"$nulls":8},56]
[{"$f":"IF(ISBLANK(H59),\"\",($E$3&\".\"&+(COUNTA(H$3:H59))))","v":""},null,null,"requiring reinforcing steel replacement (to be evaluated on site)",{"$nulls":8},57]
[{"$f":"IF(ISBLANK(H60),\"\",($E$3&\".\"&+(COUNTA(H$3:H60))))","v":""},{"$nulls":11},58]
[{"$f":"IF(ISBLANK(H61),\"\",($E$3&\".\"&+(COUNTA(H$3:H61))))","v":"10.15"},null,null,"a)","Cut max 20mm deep with a grinder around the area to be ",null,null,"m2",130,{"$nulls":3},59]
[{"$f":"IF(ISBLANK(H62),\"\",($E$3&\".\"&+(COUNTA(H$3:H62))))","v":""},{"$nulls":3},"removed. Break out concrete to approximately 50mm deep",{"$nulls":7},60]
[{"$f":"IF(ISBLANK(H63),\"\",($E$3&\".\"&+(COUNTA(H$3:H63))))","v":""},{"$nulls":3},"beyond spalled reinforcement and 50 x bar diameter beyond ",{"$nulls":7},61]
[{"$f":"IF(ISBLANK(H64),\"\",($E$3&\".\"&+(COUNTA(H$3:H64))))","v":""},{"$nulls":3},"the area where reinforcing must be replaced. ",{"$nulls":7},62]
[{"$f":"IF(ISBLANK(H65),\"\",($E$3&\".\"&+(COUNTA(H$3:H65))))","v":""},{"$nulls":3},"Cut out compromised reinforcing section. ",{"$nulls":7},63]
[{"$f":"IF(ISBLANK(H66),\"\",($E$3&\".\"&+(COUNTA(H$3:H66))))","v":""},{"$nulls":3},"Remove any corroded material from remaining rebar by ",{"$nulls":7},64]
[{"$f":"IF(ISBLANK(H67),\"\",($E$3&\".\"&+(COUNTA(H$3:H67))))","v":""},{"$nulls":3},"mechanical means. Ensure concrete is accepably clean with",{"$nulls":7},65]
[{"$f":"IF(ISBLANK(H68),\"\",($E$3&\".\"&+(COUNTA(H$3:H68))))","v":""},{"$nulls":3},"an open pore structure and meets the product supplier's",{"$nulls":7},66]
[{"$f":"IF(ISBLANK(H69),\"\",($E$3&\".\"&+(COUNTA(H$3:H69))))","v":""},{"$nulls":3},"requirements.",{"$nulls":7},67]
[{"$nulls":12},68]
[{"$nulls":12},69]
[{"$nulls":12},70]
[{"$nulls":12},71]
[{"$nulls":12},72]
[{"$nulls":12},73]
[{"$nulls":12},74]
[{"$f":"IF(ISBLANK(H77),\"\",($E$3&\".\"&+(COUNTA(H$3:H77))))","v":""},{"$nulls":11},75]
[{"$nulls":9},"Carried Forward",null,null,76]
[{"$nulls":9},"Brought Forward",null,null,77]
[{"$nulls":12},78]
[{"$f":"IF(ISBLANK(H81),\"\",($E$3&\".\"&+(COUNTA(H$3:H81))))","v":""},null,".5","Bend existing reinforcing inwards where required to ensure a ",{"$nulls":8},79]
[{"$f":"IF(ISBLANK(H82),\"\",($E$3&\".\"&+(COUNTA(H$3:H82))))","v":""},null,null,"minimum cover of 20mm (roof soffit) or 40mm (walls). ",{"$nulls":8},80]
[{"$f":"IF(ISBLANK(H83),\"\",($E$3&\".\"&+(COUNTA(H$3:H83))))","v":""},null,null,"Bend replacement reinforcement to suit where required and ",{"$nulls":8},2]
[{"$f":"IF(ISBLANK(H84),\"\",($E$3&\".\"&+(COUNTA(H$3:H84))))","v":""},null,null,"splice onto existing exposed reinforcement, securing with tie wire",{"$nulls":8},3]
[{"$f":"IF(ISBLANK(H85),\"\",($E$3&\".\"&+(COUNTA(H$3:H85))))","v":""},null,null,"while maintaining minimum cover requirements. ",{"$nulls":8},4]
[{"$f":"IF(ISBLANK(H86),\"\",($E$3&\".\"&+(COUNTA(H$3:H86))))","v":""},{"$nulls":11},5]
[{"$f":"IF(ISBLANK(H87),\"\",($E$3&\".\"&+(COUNTA(H$3:H87))))","v":"10.16"},null,null,"(a)","Y8 reinforcing bars",null,null,"kg",104,{"$nulls":3},6]
[{"$f":"IF(ISBLANK(H88),\"\",($E$3&\".\"&+(COUNTA(H$3:H88))))","v":""},{"$nulls":11},7]
[{"$f":"IF(ISBLANK(H89),\"\",($E$3&\".\"&+(COUNTA(H$3:H89))))","v":"10.17"},null,null,"(b)","Y12 reinforcing bars",null,null,"kg",1920,{"$nulls":3},8]
[{"$f":"IF(ISBLANK(H90),\"\",($E$3&\".\"&+(COUNTA(H$3:H90))))","v":""},{"$nulls":11},9]
[{"$f":"IF(ISBLANK(H91),\"\",($E$3&\".\"&+(COUNTA(H$3:H91))))","v":"10.18"},null,null,"(c)","Y16 reinforcing bars",null,null,"kg",160,null,{"$f":"IF(ISBLANK($I93),\"\",J91*$I93)","v":""},null,10]
[{"$f":"IF(ISBLANK(H92),\"\",($E$3&\".\"&+(COUNTA(H$3:H92))))","v":""},{"$nulls":11},11]
[{"$f":"IF(ISBLANK(H93),\"\",($E$3&\".\"&+(COUNTA(H$3:H93))))","v":""},null,".6","Apply Penecrete mortar in layers all strictly in accordance with ",{"$nulls":8},12]
[{"$f":"IF(ISBLANK(H94),\"\",($E$3&\".\"&+(COUNTA(H$3:H94))))","v":""},null,null,"the manufacturer's specifications:",{"$nulls":8},13]
[{"$f":"IF(ISBLANK(H95),\"\",($E$3&\".\"&+(COUNTA(H$3:H95))))","v":""},{"$nulls":11},14]
[{"$f":"IF(ISBLANK(H96),\"\",($E$3&\".\"&+(COUNTA(H$3:H96))))","v":"10.19"},null,null,"(a)","floor and inclined surface less than 45 degrees",null,null,"litre",100,{"$nulls":3},15]
[{"$f":"IF(ISBLANK(H97),\"\",($E$3&\".\"&+(COUNTA(H$3:H97))))","v":""},{"$nulls":11},16]
[{"$f":"IF(ISBLANK(H98),\"\",($E$3&\".\"&+(COUNTA(H$3:H98))))","v":"10.20"},null,null,"(b)","walls and inclined surfaces 45 degrees and greater",null,null,"litre",100,{"$nulls":3},17]
[{"$f":"IF(ISBLANK(H99),\"\",($E$3&\".\"&+(COUNTA(H$3:H99))))","v":""},{"$nulls":11},18]
[{"$f":"IF(ISBLANK(H100),\"\",($E$3&\".\"&+(COUNTA(H$3:H100))))","v":"10.21"},null,null,"(c)","columns and column heads",null,null,"litre",1800,{"$nulls":3},19]
[{"$f":"IF(ISBLANK(H101),\"\",($E$3&\".\"&+(COUNTA(H$3:H101))))","v":""},{"$nulls":11},20]
[{"$f":"IF(ISBLANK(H102),\"\",($E$3&\".\"&+(COUNTA(H$3:H102))))","v":"10.22"},null,null,"(d)","roof soffit",null,null,"litre",16200,{"$nulls":3},21]
[{"$f":"IF(ISBLANK(H103),\"\",($E$3&\".\"&+(COUNTA(H$3:H103))))","v":""},{"$nulls":11},22]
[{"$f":"IF(ISBLANK(H104),\"\",($E$3&\".\"&+(COUNTA(H$3:H104))))","v":""},null,".7","Apply Penetron Slurry on prepared surfaces, all in accordance ",{"$nulls":8},23]
[{"$f":"IF(ISBLANK(H105),\"\",($E$3&\".\"&+(COUNTA(H$3:H105))))","v":""},null,null,"with manufacturer's specifications",{"$nulls":8},24]
[{"$f":"IF(ISBLANK(H106),\"\",($E$3&\".\"&+(COUNTA(H$3:H106))))","v":""},{"$nulls":11},25]
[{"$f":"IF(ISBLANK(H107),\"\",($E$3&\".\"&+(COUNTA(H$3:H107))))","v":"10.23"},null,null,"(a)","Floor and inclined surfaces less than 45 degrees",null,null,"m2",24500,{"$nulls":3},26]
[{"$f":"IF(ISBLANK(H108),\"\",($E$3&\".\"&+(COUNTA(H$3:H108))))","v":""},{"$nulls":11},27]
[{"$f":"IF(ISBLANK(H109),\"\",($E$3&\".\"&+(COUNTA(H$3:H109))))","v":"10.24"},null,null,"(b)","Walls/Inclined surfaces from 45 degrees and greater",null,null,"m2",6600,{"$nulls":3},28]
[{"$f":"IF(ISBLANK(H110),\"\",($E$3&\".\"&+(COUNTA(H$3:H110))))","v":""},{"$nulls":11},29]
[{"$f":"IF(ISBLANK(H111),\"\",($E$3&\".\"&+(COUNTA(H$3:H111))))","v":"10.25"},null,null,"(c)","Roof Soffit",null,null,"m2",25000,{"$nulls":3},30]
[{"$f":"IF(ISBLANK(H112),\"\",($E$3&\".\"&+(COUNTA(H$3:H112))))","v":""},{"$nulls":11},31]
[{"$f":"IF(ISBLANK(H113),\"\",($E$3&\".\"&+(COUNTA(H$3:H113))))","v":"10.26"},null,null,"(d)","Columns and column heads",null,null,"m2",10200,{"$nulls":3},32]
[{"$f":"IF(ISBLANK(H114),\"\",($E$3&\".\"&+(COUNTA(H$3:H114))))","v":""},{"$nulls":11},33]
[{"$f":"IF(ISBLANK(H115),\"\",($E$3&\".\"&+(COUNTA(H$3:H115))))","v":""},null,".8","Inlet pipes",{"$nulls":8},34]
[{"$f":"IF(ISBLANK(H116),\"\",($E$3&\".\"&+(COUNTA(H$3:H116))))","v":""},{"$nulls":11},35]
[{"$f":"IF(ISBLANK(H117),\"\",($E$3&\".\"&+(COUNTA(H$3:H117))))","v":"10.27"},null,null,"(a)","4 Inlet pipes: mechanically brush/clean inside of 400mm ",null,null,"P sum",1,{"$nulls":3},36]
[{"$f":"IF(ISBLANK(H118),\"\",($E$3&\".\"&+(COUNTA(H$3:H118))))","v":""},{"$nulls":3},"Diameter pipes to remove corroded material; prepare ",{"$nulls":7},37]
[{"$f":"IF(ISBLANK(H119),\"\",($E$3&\".\"&+(COUNTA(H$3:H119))))","v":""},{"$nulls":3},"internal surface as required and apply internal lining with a",{"$nulls":7},38]
[{"$f":"IF(ISBLANK(H120),\"\",($E$3&\".\"&+(COUNTA(H$3:H120))))","v":""},{"$nulls":3},"trenchless system e.g. AMT trenchless, or similar approved. ",{"$nulls":7},39]
[{"$f":"IF(ISBLANK(H121),\"\",($E$3&\".\"&+(COUNTA(H$3:H121))))","v":""},{"$nulls":3},"Work complete including establishment, access, installation, etc.",{"$nulls":7},40]
[{"$f":"IF(ISBLANK(H122),\"\",($E$3&\".\"&+(COUNTA(H$3:H122))))","v":""},{"$nulls":11},41]
[{"$f":"IF(ISBLANK(H123),\"\",($E$3&\".\"&+(COUNTA(H$3:H123))))","v":""},null,".9","Roof expansion joints",{"$nulls":8},42]
[{"$f":"IF(ISBLANK(H124),\"\",($E$3&\".\"&+(COUNTA(H$3:H124))))","v":""},{"$nulls":11},43]
[{"$f":"IF(ISBLANK(H125),\"\",($E$3&\".\"&+(COUNTA(H$3:H125))))","v":"10.28"},null,null,"(a)","Rake away 100mm stone covering on roof for sufficient ",null,null,"m",1380,{"$nulls":3},44]
[{"$f":"IF(ISBLANK(H126),\"\",($E$3&\".\"&+(COUNTA(H$3:H126))))","v":""},{"$nulls":3},"working space requirements at joints; reinstate upon ",{"$nulls":7},45]
[{"$f":"IF(ISBLANK(H127),\"\",($E$3&\".\"&+(COUNTA(H$3:H127))))","v":""},{"$nulls":3},"completion",{"$nulls":7},46]
[{"$f":"IF(ISBLANK(H128),\"\",($E$3&\".\"&+(COUNTA(H$3:H128))))","v":""},{"$nulls":11},47]
[{"$f":"IF(ISBLANK(H129),\"\",($E$3&\".\"&+(COUNTA(H$3:H129))))","v":"10.29"},null,null,"(b)","Remove existing sealant material and part of filler board ",null,null,"m",1380,{"$nulls":3},48]
[{"$f":"IF(ISBLANK(H130),\"\",($E$3&\".\"&+(COUNTA(H$3:H130))))","v":""},{"$nulls":3},"where required to suit new installation. Prepare internal ",{"$nulls":7},49]
[{"$f":"IF(ISBLANK(H131),\"\",($E$3&\".\"&+(COUNTA(H$3:H131))))","v":""},{"$nulls":3},"surfaces in accordance with new joint seal manufacturer's ",{"$nulls":7},50]
[{"$f":"IF(ISBLANK(H132),\"\",($E$3&\".\"&+(COUNTA(H$3:H132))))","v":""},{"$nulls":3},"specifications",{"$nulls":7},51]
[{"$f":"IF(ISBLANK(H133),\"\",($E$3&\".\"&+(COUNTA(H$3:H133))))","v":""},{"$nulls":11},52]
[{"$f":"IF(ISBLANK(H134),\"\",($E$3&\".\"&+(COUNTA(H$3:H134))))","v":"10.30"},null,null,"(c)","Install primer, backing cord and self-levelling ultra-low ",null,null,"m",1380,{"$nulls":3},53]
[{"$f":"IF(ISBLANK(H135),\"\",($E$3&\".\"&+(COUNTA(H$3:H135))))","v":""},{"$nulls":3},"modulus silicone/hybrid sealant to manufacturer's ",{"$nulls":7},54]
[{"$f":"IF(ISBLANK(H136),\"\",($E$3&\".\"&+(COUNTA(H$3:H136))))","v":""},{"$nulls":3},"specification, joints 20 to 25mm wide",{"$nulls":7},55]
[{"$f":"IF(ISBLANK(H137),\"\",($E$3&\".\"&+(COUNTA(H$3:H137))))","v":""},{"$nulls":11},56]
[{"$f":"IF(ISBLANK(H138),\"\",($E$3&\".\"&+(COUNTA(H$3:H138))))","v":""},null,".10","Swellable waterstop",{"$nulls":8},57]
[{"$f":"IF(ISBLANK(H139),\"\",($E$3&\".\"&+(COUNTA(H$3:H139))))","v":""},{"$nulls":11},58]
[{"$f":"IF(ISBLANK(H140),\"\",($E$3&\".\"&+(COUNTA(H$3:H140))))","v":"10.31"},null,null,"(a)","Install Penebar SW55 swellable waterstop strictly in ",null,null,"m",10,{"$nulls":3},59]
[{"$f":"IF(ISBLANK(H141),\"\",($E$3&\".\"&+(COUNTA(H$3:H141))))","v":""},{"$nulls":3},"accordance with the manufacturer's specifications",{"$nulls":7},60]
[{"$f":"IF(ISBLANK(H142),\"\",($E$3&\".\"&+(COUNTA(H$3:H142))))","v":""},{"$nulls":11},61]
[{"$f":"IF(ISBLANK(H143),\"\",($E$3&\".\"&+(COUNTA(H$3:H143))))","v":""},{"$nulls":11},62]
[{"$f":"IF(ISBLANK(H144),\"\",($E$3&\".\"&+(COUNTA(H$3:H144))))","v":""},{"$nulls":11},63]
[{"$f":"IF(ISBLANK(H145),\"\",($E$3&\".\"&+(COUNTA(H$3:H145))))","v":""},{"$nulls":11},64]
[{"$f":"IF(ISBLANK(H146),\"\",($E$3&\".\"&+(COUNTA(H$3:H146))))","v":""},{"$nulls":11},65]
[{"$f":"IF(ISBLANK(H147),\"\",($E$3&\".\"&+(COUNTA(H$3:H147))))","v":""},{"$nulls":11},66]
[{"$f":"IF(ISBLANK(H148),\"\",($E$3&\".\"&+(COUNTA(H$3:H148))))","v":""},{"$nulls":11},67]
[{"$nulls":12},68]
[{"$nulls":12},69]
[{"$nulls":12},70]
[{"$f":"IF(ISBLANK(H152),\"\",($E$3&\".\"&+(COUNTA(H$3:H152))))","v":""},null,{"$f":"C3","v":"Schedule"},null,{"$f":"E3","v":10},{"$nulls":7},71]
[{"$f":"IF(ISBLANK(H153),\"\",($E$3&\".\"&+(COUNTA(H$3:H153))))","v":""},null,{"$f":"C4","v":"CONCRETE SPOIL REPAIR"},{"$nulls":9},72]
[{"$nulls":12},73]
[null,null,"Carried forward to Summary of Bills",{"$nulls":6},"Total",null,null,74]
[{"$nulls":12},75]
[{"$nulls":12},76]
[{"$nulls":12},77]
[{"$nulls":12},78]
[{"$nulls":12},79]
[{"$nulls":12},80]
[{"$nulls":12},81]
[{"$nulls":12},82]

{"sheet":"BoQ SUMMARY","index":10,"n_rows":49,"n_cols":7,"rows_kept":49,"merged":[[3,0,3,4],[4,0,4,3],[5,0,5,4],[6,0,6,3],[7,0,7,4],[9,0,9,4],[11,1,11,2],[11,3,11,4],[12,1,12,2],[12,3,12,4],[13,1,13,2],[13,3,13,4],[14,1,14,2],[14,3,14,4],[15,1,15,2],[15,3,15,4],[16,1,16,2],[16,3,16,4],[17,1,17,2],[17,3,17,4],[18,1,18,2],[18,3,18,4],[19,1,19,2],[19,3,19,4],[20,1,20,2],[20,3,20,4],[21,1,21,2],[21,3,21,4],[22,1,22,2],[22,3,22,4],[23,1,23,2],[23,3,23,4],[24,1,24,2],[24,3,24,4],[25,0,25,2],[25,3,25,4],[27,0,27,2],[27,3,27,4],[28,0,28,2],[28,3,28,4],[29,0,29,2],[29,3,29,4],[30,0,30,2],[30,3,30,4],[31,0,31,2],[31,3,31,4],[32,0,32,2],[32,3,32,4],[33,0,33,2],[33,3,33,4],[34,0,34,2],[34,3,34,4]]}
[]
[]
[]
["BRANDKOP DAM JOINT SEALING IN THE CRR AND BY-PASS PIPELINE"]
[]
["BID NUMBER: VCW440/STEELBPTB/26"]
[]
["CONSTRUCTION OF A STEEL BY-PASS PIPELINE AND BREAK PRESSURE TANK AT BRANDKOP RESERVOIR INCLUDING RESERVOIR JOINT SEALING AND CONCRETE REPAIRS"]
[]
[" Summary of Bills"]
[]
["Bill No.","Description",null,"Amount ( R )"]
[null,"PORTION 1 - GENERAL"]
[1,"PRELIMINARY AND GENERAL",{"$nulls":4},{"$f":"D14/(SUM(D18:D25))","v":{"$error":"#DIV/0!"}}]
[2,"PROVISIONAL SUMS AND PRIME COST ITEMS"]
[3,"DAYWORKS AND TEMPORARY WORKS"]
[null,"PORTION 2 - BY-PASS"]
[4,{"$f":"'4. BPT'!$C$4","v":"NEW BREAK PRESSURE TANK (BPT) AND ADJOINING VALVE CHAMBER"}]
[5,{"$f":"'5. Valve Chambers'!$C$4","v":"VALVE / PIPE CHAMBERS"}]
[6,"BUFFER TANK"]
[7,{"$f":"'7. Medium Pipes'!$C$4","v":"MEDIUM PRESSURE PIPELINES"}]
[8,{"$f":"'8. Earthworks '!$C$6","v":"ACCESS ROAD, TEMPORARY DIVERSION AND CROSSING WORKS"}]
[null,"PORTION 3 - JOINT SEAL AND CONRETE REPAIR"]
[9,"JOINT REPAIR"]
[10,"SPOIL REPAIR"]
["SUB-TOTAL:"]
[]
["Provisional sum: Allowance for Contingencies (10% of Sub-Total)"]
["SUB-TOTAL:"]
["Provisional sum: Allowance for CPA (3.5% of Sub-Total)"]
["SUB-TOTAL:"]
["Provisional sum: Allowance for Construction Skills Development Goal (CSDG)(0,25% of Sub-Total)"]
["TOTAL CONSTRUCTION COST (EXCL VAT):"]
["Value Added Tax at 15%"]
["TOTAL CONSTRUCTION COST (INCL VAT):"]
[]
[]
["Bankers Details :"]
["Contractor's Name:"]
["Name reflected on bank statement: ___________________________________________"]
["Bank:"]
["Branch:"]
["Account Number:"]
["Cheque Account",null,"                   or                     Savings Account"]
[]
["Signature :"]
["By Tenderer :"]
["Company Name :"]
["Date :"]

{"sheet":"SUMMARY -Report","index":11,"n_rows":54,"n_cols":5,"rows_kept":54,"hidden":true,"merged":[[1,0,1,2],[3,0,3,2],[4,0,4,2],[5,0,5,2],[46,0,46,1],[48,0,48,1],[49,0,49,1],[50,0,50,1],[51,0,51,1],[52,0,52,1],[53,0,53,1]]}
[]
["BRANDKOP DAM JOINT SEALING IN THE CRR AND BY-PASS PIPELINE\n \nCONSTRUCTION OF A STEEL BY-PASS PIPELINE AND BREAK PRESSURE TANK AT BRANDKOP RESERVOIR INCLUDING RESERVOIR JOINT SEALING AND CONCRETE REPAIRS"]
[]
["CONTRACT:"]
[]
["Summary - Detailed Cost Breakdown"]
[]
["Bill No.","Description","Amount ( R )"]
[null,"PORTION 1 - GENERAL"]
[1,"PRELIMINARY AND GENERAL",{"$f":"MROUND(('1. P&G'!$K$153),1000)","v":0},null,{"$f":"C10/(SUM(C14:C42))","v":{"$error":"#REF!"}}]
[2,"PROVISIONAL SUMS AND PRIME COST ITEMS",{"$f":"MROUND(('2. Prov Sum'!$K$159),1000)","v":0}]
[3,"DAYWORKS AND TEMPORARY WORKS",0]
[null,"PORTION 2 - BY-PASS PIPELINE"]
[4,{"$f":"'4. BPT'!$C$4","v":"NEW BREAK PRESSURE TANK (BPT) AND ADJOINING VALVE CHAMBER"},{"$f":"SUM(C15:C18)","v":0}]
[4.1,"Earthworks",{"$f":"MROUND((SUM('4. BPT'!K10:K139)),1000)","v":0}]
[4.2,"Reinforced Concrete",{"$f":"MROUND(SUM('4. BPT'!K141:K341),1000)","v":0}]
[4.3,"Structural Steel",{"$f":"MROUND(SUM('4. BPT'!K345:K424),1000)","v":0}]
[4.4,"Valves and Appurtenances",{"$f":"MROUND(SUM('4. BPT'!K432:K441),1000)","v":0}]
[5,"BUFFER TANK",{"$f":"SUM(C20:C23)","v":{"$error":"#REF!"}}]
[5.1,"Earthworks",{"$f":"MROUND(SUM(#REF!),1000)","v":{"$error":"#REF!"}}]
[5.2,"Reinforced Concrete",{"$f":"MROUND(SUM(#REF!),1000)","v":{"$error":"#REF!"}}]
[5.3,"Pressed Steel Tank (500kl)",{"$f":"MROUND(SUM(#REF!),1000)","v":{"$error":"#REF!"}}]
[5.4,"Pipes, Valves and Appurtenances",{"$f":"MROUND(SUM(#REF!),1000)","v":{"$error":"#REF!"}}]
[6,{"$f":"'5. Valve Chambers'!$C$4","v":"VALVE / PIPE CHAMBERS"},{"$f":"SUM(C25:C27)","v":0}]
[6.1,"Earthworks",{"$f":"MROUND(SUM('5. Valve Chambers'!K12:K62),1000)","v":0}]
[6.2,"Reinforced Concrete",{"$f":"MROUND(SUM('5. Valve Chambers'!K65:K179),1000)","v":0}]
[6.3,"Structural Steel",{"$f":"MROUND(SUM('5. Valve Chambers'!K184:K234),1000)","v":0}]
[7,{"$f":"'7. Medium Pipes'!$C$4","v":"MEDIUM PRESSURE PIPELINES"},{"$f":"SUM(C29:C33)","v":0}]
[7.1,"Earthworks",{"$f":"MROUND(SUM('7. Medium Pipes'!K7:K118),1000)","v":0}]
[7.2,"Bedding and Pedestals",{"$f":"MROUND((SUM('7. Medium Pipes'!K120:K138)+SUM('7. Medium Pipes'!K405:K460)),1000)","v":0}]
[7.3,"Medium Pressure Pipelines",{"$f":"MROUND(SUM('7. Medium Pipes'!K139:K322),1000)","v":0}]
[7.4,"Valves and Appurtenances",{"$f":"MROUND(SUM('7. Medium Pipes'!K327:K345),1000)","v":0}]
[7.5,"Stormwater Drain",{"$f":"MROUND(SUM('7. Medium Pipes'!K349:K394),1000)","v":0}]
[8,{"$f":"'8. Earthworks '!$C$6","v":"ACCESS ROAD, TEMPORARY DIVERSION AND CROSSING WORKS"},{"$f":"C35","v":0}]
[8.1,"Access Road",{"$f":"MROUND(SUM('8. Earthworks '!K3:K154),1000)","v":0}]
[null,"PORTION 3 - JOINT SEAL AND CONRETE REPAIR"]
[9,"JOINT REPAIR",{"$f":"SUM(C38:C41)","v":0}]
[9.1,"Surface Preparation",{"$f":"MROUND(SUM('9. Joint Sealing'!K8:K16),1000)","v":0}]
[9.2,"Joint Repair",{"$f":"MROUND(SUM('9. Joint Sealing'!K17:K39),1000)","v":0}]
[9.3,"Testing",{"$f":"MROUND(SUM('9. Joint Sealing'!K42:K59),1000)","v":0}]
[9.4,"Sundries - Access Ladders",{"$f":"MROUND(SUM('9. Joint Sealing'!K62:K75),1000)","v":0}]
[10,"SPOIL REPAIR",{"$f":"SUM(C43:C46)","v":{"$error":"#REF!"}}]
[10.1,"Surface Preparation",{"$f":"MROUND(SUM(#REF!),1000)","v":{"$error":"#REF!"}}]
[10.2,"Spoil Repair",{"$f":"MROUND(SUM(#REF!),1000)","v":{"$error":"#REF!"}}]
[10.3,"Slurry Seal ",0]
[10.4,"Roof Waterproofing",{"$f":"MROUND(SUM(#REF!),1000)","v":{"$error":"#REF!"}}]
["SUB-TOTAL:",null,{"$f":"C10+C11+C12+C14+C19+C24+C28+C34+C37+C42","v":{"$error":"#REF!"}}]
[]
["Provisional sum: Allowance for Contingencies (10% of Sub-Total)",null,{"$f":"MROUND((C47*0.1),1000)","v":{"$error":"#REF!"}}]
["Sub-Total",null,{"$f":"C49+C47","v":{"$error":"#REF!"}}]
["Provisional sum: Allowance for CPA (3.5% of Sub-Total)",null,{"$f":"MROUND((C50*0.035),1000)","v":{"$error":"#REF!"}}]
["Total Construction Cost",null,{"$f":"C50+C51","v":{"$error":"#REF!"}}]
["Value Added Tax at 15%",null,{"$f":"C52*0.15","v":{"$error":"#REF!"}}]
["TOTAL CONSTRUCTION COST (INCL VAT)",null,{"$f":"MROUND((C52+C53),1000)","v":{"$error":"#REF!"}}]

{"sheet":"SUMMARY -Report (Excl Tank)","index":12,"n_rows":49,"n_cols":5,"rows_kept":49,"hidden":true,"merged":[[1,0,1,2],[3,0,3,2],[4,0,4,2],[5,0,5,2],[41,0,41,1],[43,0,43,1],[44,0,44,1],[45,0,45,1],[46,0,46,1],[47,0,47,1],[48,0,48,1]]}
[]
["BRANDKOP DAM JOINT SEALING IN THE CRR AND BY-PASS PIPELINE\n \nCONSTRUCTION OF A STEEL BY-PASS PIPELINE AND BREAK PRESSURE TANK AT BRANDKOP RESERVOIR INCLUDING RESERVOIR JOINT SEALING AND CONCRETE REPAIRS"]
[]
["CONTRACT:"]
[]
["Summary - Detailed Cost Breakdown"]
[]
["Bill No.","Description","Amount ( R )"]
[null,"PORTION 1 - GENERAL"]
[1,"PRELIMINARY AND GENERAL",{"$f":"MROUND(('1. P&G'!$K$153),1000)","v":0},null,{"$f":"C10/(SUM(C11:C12)+C14+#REF!+#REF!+C24+C27+C32)","v":{"$error":"#REF!"}}]
[2,"PROVISIONAL SUMS AND PRIME COST ITEMS",{"$f":"MROUND(('2. Prov Sum'!$K$159),1000)","v":0}]
[3,"DAYWORKS AND TEMPORARY WORKS",{"v":100000,"d":"R100,000.00"}]
[null,"PORTION 2 - BY-PASS PIPELINE"]
[4,{"$f":"'4. BPT'!$C$4","v":"NEW BREAK PRESSURE TANK (BPT) AND ADJOINING VALVE CHAMBER"},{"$f":"SUM(C15:C18)","v":0}]
[4.1,"Earthworks",{"$f":"MROUND((SUM('4. BPT'!K10:K139)),1000)","v":0}]
[4.2,"Reinforced Concrete",{"$f":"MROUND(SUM('4. BPT'!K141:K341),1000)","v":0}]
[4.3,"Structural Steel",{"$f":"MROUND(SUM('4. BPT'!K345:K424),1000)","v":0}]
[4.4,"Valves and Appurtenances",{"$f":"MROUND(SUM('4. BPT'!K432:K441),1000)","v":0}]
[5,{"$f":"'5. Valve Chambers'!$C$4","v":"VALVE / PIPE CHAMBERS"},{"$f":"SUM(C20:C22)","v":0}]
[5.1,"Earthworks",{"$f":"MROUND(SUM('5. Valve Chambers'!K12:K62),1000)","v":0}]
[5.2,"Reinforced Concrete",{"$f":"MROUND(SUM('5. Valve Chambers'!K65:K179),1000)","v":0}]
[5.3,"Structural Steel",{"$f":"MROUND(SUM('5. Valve Chambers'!K184:K234),1000)","v":0}]
[6,{"$f":"'7. Medium Pipes'!$C$4","v":"MEDIUM PRESSURE PIPELINES"},{"$f":"SUM(C24:C28)","v":0}]
[6.1,"Earthworks",{"$f":"MROUND(SUM('7. Medium Pipes'!K7:K118),1000)","v":0}]
[6.2,"Bedding and Pedestals",{"$f":"MROUND((SUM('7. Medium Pipes'!K120:K138)+SUM('7. Medium Pipes'!K405:K460)),1000)","v":0}]
[6.3,"Medium Pressure Pipelines",{"$f":"MROUND(SUM('7. Medium Pipes'!K139:K322),1000)","v":0}]
[6.4,"Valves and Appurtenances",{"$f":"MROUND(SUM('7. Medium Pipes'!K327:K345),1000)","v":0}]
[6.5,"Stormwater Drain",{"$f":"MROUND(SUM('7. Medium Pipes'!K349:K394),1000)","v":0}]
[7,{"$f":"'8. Earthworks '!$C$6","v":"ACCESS ROAD, TEMPORARY DIVERSION AND CROSSING WORKS"},{"$f":"C30","v":0}]
[7.1,"Access Road",{"$f":"MROUND(SUM('8. Earthworks '!K3:K154),1000)","v":0}]
[null,"PORTION 3 - JOINT SEAL AND CONRETE REPAIR"]
[8,"JOINT REPAIR",{"$f":"SUM(C33:C36)","v":0}]
[8.1,"Surface Preparation",{"$f":"MROUND(SUM('9. Joint Sealing'!K8:K16),1000)","v":0}]
[8.2,"Joint Repair",{"$f":"MROUND(SUM('9. Joint Sealing'!K17:K39),1000)","v":0}]
[8.3,"Testing",{"$f":"MROUND(SUM('9. Joint Sealing'!K42:K59),1000)","v":0}]
[8.4,"Sundries - Access Ladders",{"$f":"MROUND(SUM('9. Joint Sealing'!K62:K75),1000)","v":0}]
[9,"SPOIL REPAIR",{"$f":"SUM(C38:C41)","v":{"$error":"#REF!"}}]
[9.1,"Surface Preparation",{"$f":"MROUND(SUM(#REF!),1000)","v":{"$error":"#REF!"}}]
[9.2,"Spoil Repair",{"$f":"MROUND(SUM(#REF!),1000)","v":{"$error":"#REF!"}}]
[9.3,"Slurry Seal ",{"$f":"MROUND(SUM(#REF!),1000)","v":{"$error":"#REF!"}}]
[9.4,"Roof Waterproofing",{"$f":"MROUND(SUM(#REF!),1000)","v":{"$error":"#REF!"}}]
["SUB-TOTAL:",null,{"$f":"C10+C11+C12+C14+C19+C23+C29+C32+C37","v":{"$error":"#REF!"}}]
[]
["Provisional sum: Allowance for Contingencies (10% of Sub-Total)",null,{"$f":"MROUND((C42*0.1),1000)","v":{"$error":"#REF!"}}]
["Sub-Total",null,{"$f":"C44+C42","v":{"$error":"#REF!"}}]
["Provisional sum: Allowance for CPA (3.5% of Sub-Total)",null,{"$f":"MROUND((C45*0.035),1000)","v":{"$error":"#REF!"}}]
["Total Construction Cost",null,{"$f":"C45+C46","v":{"$error":"#REF!"}}]
["Value Added Tax at 15%",null,{"$f":"C47*0.15","v":{"$error":"#REF!"}}]
["TOTAL CONSTRUCTION COST (INCL VAT)",null,{"$f":"MROUND((C47+C48),1000)","v":{"$error":"#REF!"}}]