Workbook

Sheet Summary
B2: Fleet type | C2: Amount
B3: Nissan NP300 | C3: ='Nissan NP300'!C97 -> 0
B4: UD Croner | C4: ='UD Croner'!C97 -> 0
B5: Ford Bantam 1.3i | C5: ='Ford Bantam 1.3i'!C97 -> 0
B6: Hyundai H1 | C6: ='Hyundai H1'!C97 -> 0
B7: Isuzu F-Series (2024 Model) | C7: ='Isuzu F-Series - 2024'!C97 -> 0
B8: Isuzu F-Series (2025 Model) | C8: ='Isuzu F-Series - 2025'!C97 -> 0
B9: Isuzu KB 250 | C9: ='Isuzu KB 250'!C97 -> 0
B10: Nissan UD90 - 2009 | C10: ='Nissan UD90 - 2009'!C97 -> 0
B11: Nissan UD90 - 2012 | C11: ='Nissan UD90 - 2012'!C97 -> 0
B12: Nissan UD90 - 2013 | C12: ='Nissan UD90 -2013'!C97 -> 0
B13: Nissan XTRAIL | C13: ='Nissan XTRAIL'!C97 -> 0
B14: Toyota Hino | C14: ='Toyota Hino'!C97 -> 0
B15: Total | C15: =SUM(C3:C14) -> 0
B18: Declaration by Bidder
B20: I/We certify that the pricing submitted above includes all labour, equipment, materials, consumables, transport, supervision, spare parts, testing, commissioning, warranties, and all costs necessary to perform the maintenance services as specified.
B22: Authorised Representative:
B23: Signature:
B24: Date:

Sheet Nissan NP300
A2: PRICING SCHEDULE – Fleet Maintenance – Nissan NP300 (2018 Model)
A4: The Bidder must note that the fixed pricing schedule per fleet maintenance category will be used, whilst separately providing for unforeseen repairs and replacement parts identified during the assessment phase. This will ensure that the bidders will price consistently and enables effective evaluation of bids. This Prices MUST include all the costs of Labour, Material and overheads such as disbursements.
A6: Tenderer Details
A8: Description | C8: Information
A9: Bidder Name
A10: Contact Person
A11: Contact Number
A12: Email Address
A13: VAT Registration Number
A15: Schedule A:
A17: 1. PREVENTATIVE MAINTENANCE AND SERVICING
A18: Item | B18: Description | D18: Unit | E18: Qty | F18: Unit Price (ZAR) | G18: Total Price (ZAR)
A19: A1 | B19: Scheduled inspections & servicing (per vehicle) | D19: Service | E19: 1 | G19: =E19*F19 -> 0
A20: A2 | B20: Preventative maintenance (fluid checks, lubrication, filter replacement) | D20: Service | E20: 1 | G20: =E20*F20 -> 0
A21: A3 | B21: Other Disbursements and Costs | G21: =E21*F21 -> 0
A22: Subtotal A | B22: Preventative Maintenance and Servicing | G22: =SUM(G19:G21) -> 0
A23: 2. MECHANICAL REPAIRS
A24: Item | B24: Description | D24: Unit | E24: Qty | F24: Unit Price (ZAR) | G24: Total Price (ZAR)
A25: B1 | B25: Engine diagnostics & repairs | D25: Hour | E25: 1 | G25: =E25*F25 -> 0
A26: B2 | B26: Transmission repairs (fluid changes, clutch replacement, rebuilds) | D26: Job | E26: 1 | G26: =E26*F26 -> 0
A27: B3 | B27: Suspension & steering repairs (shocks, struts, ball joints, tie rods) | D27: Job | E27: 1 | G27: =E27*F27 -> 0
A28: B4 | B28: Other Disbursements and Costs | G28: =E28*F28 -> 0
A29: Subtotal B | B29: Mechanical Repairs | G29: =SUM(G25:G28) -> 0
A30: 3. ELECTRICAL SYSTEMS
A31: Item | B31: Description | D31: Unit | E31: Qty | F31: Unit Price (ZAR) | G31: Total Price (ZAR)
A32: C1 | B32: Electrical diagnostics (modern equipment) | D32: Hour | E32: 1 | G32: =E32*F32 -> 0
A33: C2 | B33: Alternator, starter, wiring repairs | D33: Job | E33: 1 | G33: =E33*F33 -> 0
A34: C3 | B34: Battery testing & replacement | D34: No. | E34: 1 | G34: =E34*F34 -> 0
A35: C4 | B35: Other Disbursements and Costs | G35: =E35*F35 -> 0
A36: Subtotal C | B36: Electrical Systems | G36: =SUM(G32:G35) -> 0
A37: 4. BRAKE SYSTEMS
A38: Item | B38: Description | D38: Unit | E38: Qty | F38: Unit Prize | G38: Amount (ZAR)
A39: D1 | B39: Brake inspections (pads, rotors, calipers) | D39: Service | E39: 1 | G39: =E39*F39 -> 0
A40: D2 | B40: Brake component replacement | D40: Job | E40: 1 | G40: =E40*F40 -> 0
A41: D3 | B41: Other Disbursements and Costs | G41: =E41*F41 -> 0
A42: Subtotal D | B42: Brake Systems | G42: =SUM(G39:G41) -> 0
A43: 5. COOLING AND AIR CONDITIONING SYSTEMS
A44: Item | B44: Description | D44: Unit | E44: Qty | F44: Unit Prize | G44: Amount (ZAR)
A45: E1 | B45: Cooling system repairs | D45: Job | E45: 1 | G45: =E45*F45 -> 0
A46: E2 | B46: Air conditioning servicing & repairs | D46: Job | E46: 1 | G46: =E46*F46 -> 0
...

Sheet UD Croner
A2: PRICING SCHEDULE – Fleet Maintenance – UD Croner (2019 Model)
A4: The Bidder must note that the fixed pricing schedule per fleet maintenance category will be used, whilst separately providing for unforeseen repairs and replacement parts identified during the assessment phase. This will ensure that the bidders will price consistently and enables effective evaluation of bids. This Prices MUST include all the costs of Labour, Material and overheads such as disbursements.
A6: Tenderer Details
A8: Description | C8: Information
A9: Bidder Name
A10: Contact Person
A11: Contact Number
A12: Email Address
A13: VAT Registration Number
A15: Schedule A:
A17: 1. PREVENTATIVE MAINTENANCE AND SERVICING
A18: Item | B18: Description | D18: Unit | E18: Qty | F18: Unit Price (ZAR) | G18: Total Price (ZAR)
A19: A1 | B19: Scheduled inspections & servicing (per vehicle) | D19: Service | E19: 1 | G19: =E19*F19 -> 0
A20: A2 | B20: Preventative maintenance (fluid checks, lubrication, filter replacement) | D20: Service | E20: 1 | G20: =E20*F20 -> 0
A21: A3 | B21: Other Disbursements and Costs | G21: =E21*F21 -> 0
A22: Subtotal A | B22: Preventative Maintenance and Servicing | G22: =SUM(G19:G21) -> 0
A23: 2. MECHANICAL REPAIRS
A24: Item | B24: Description | D24: Unit | E24: Qty | F24: Unit Price (ZAR) | G24: Total Price (ZAR)
A25: B1 | B25: Engine diagnostics & repairs | D25: Hour | E25: 1 | G25: =E25*F25 -> 0
A26: B2 | B26: Transmission repairs (fluid changes, clutch replacement, rebuilds) | D26: Job | E26: 1 | G26: =E26*F26 -> 0
A27: B3 | B27: Suspension & steering repairs (shocks, struts, ball joints, tie rods) | D27: Job | E27: 1 | G27: =E27*F27 -> 0
A28: B4 | B28: Other Disbursements and Costs | G28: =E28*F28 -> 0
A29: Subtotal B | B29: Mechanical Repairs | G29: =SUM(G25:G28) -> 0
A30: 3. ELECTRICAL SYSTEMS
A31: Item | B31: Description | D31: Unit | E31: Qty | F31: Unit Price (ZAR) | G31: Total Price (ZAR)
A32: C1 | B32: Electrical diagnostics (modern equipment) | D32: Hour | E32: 1 | G32: =E32*F32 -> 0
A33: C2 | B33: Alternator, starter, wiring repairs | D33: Job | E33: 1 | G33: =E33*F33 -> 0
A34: C3 | B34: Battery testing & replacement | D34: No. | E34: 1 | G34: =E34*F34 -> 0
A35: C4 | B35: Other Disbursements and Costs | G35: =E35*F35 -> 0
A36: Subtotal C | B36: Electrical Systems | G36: =SUM(G32:G35) -> 0
A37: 4. BRAKE SYSTEMS
A38: Item | B38: Description | D38: Unit | E38: Qty | F38: Unit Prize | G38: Amount (ZAR)
A39: D1 | B39: Brake inspections (pads, rotors, calipers) | D39: Service | E39: 1 | G39: =E39*F39 -> 0
A40: D2 | B40: Brake component replacement | D40: Job | E40: 1 | G40: =E40*F40 -> 0
A41: D3 | B41: Other Disbursements and Costs | G41: =E41*F41 -> 0
A42: Subtotal D | B42: Brake Systems | G42: =SUM(G39:G41) -> 0
A43: 5. COOLING AND AIR CONDITIONING SYSTEMS
A44: Item | B44: Description | D44: Unit | E44: Qty | F44: Unit Prize | G44: Amount (ZAR)
A45: E1 | B45: Cooling system repairs | D45: Job | E45: 1 | G45: =E45*F45 -> 0
A46: E2 | B46: Air conditioning servicing & repairs | D46: Job | E46: 1 | G46: =E46*F46 -> 0
...

Sheet Ford Bantam 1.3i
A2: PRICING SCHEDULE – Fleet Maintenance – Ford Bantam 1.3i (2003 Model)
A4: The Bidder must note that the fixed pricing schedule per fleet maintenance category will be used, whilst separately providing for unforeseen repairs and replacement parts identified during the assessment phase. This will ensure that the bidders will price consistently and enables effective evaluation of bids. This Prices MUST include all the costs of Labour, Material and overheads such as disbursements.
A6: Tenderer Details
A8: Description | C8: Information
A9: Bidder Name
A10: Contact Person
A11: Contact Number
A12: Email Address
A13: VAT Registration Number
A15: Schedule A:
A17: 1. PREVENTATIVE MAINTENANCE AND SERVICING
A18: Item | B18: Description | D18: Unit | E18: Qty | F18: Unit Price (ZAR) | G18: Total Price (ZAR)
A19: A1 | B19: Scheduled inspections & servicing (per vehicle) | D19: Service | E19: 1 | G19: =E19*F19 -> 0
A20: A2 | B20: Preventative maintenance (fluid checks, lubrication, filter replacement) | D20: Service | E20: 1 | G20: =E20*F20 -> 0
A21: A3 | B21: Other Disbursements and Costs | G21: =E21*F21 -> 0
A22: Subtotal A | B22: Preventative Maintenance and Servicing | G22: =SUM(G19:G21) -> 0
A23: 2. MECHANICAL REPAIRS
A24: Item | B24: Description | D24: Unit | E24: Qty | F24: Unit Price (ZAR) | G24: Total Price (ZAR)
A25: B1 | B25: Engine diagnostics & repairs | D25: Hour | E25: 1 | G25: =E25*F25 -> 0
A26: B2 | B26: Transmission repairs (fluid changes, clutch replacement, rebuilds) | D26: Job | E26: 1 | G26: =E26*F26 -> 0
A27: B3 | B27: Suspension & steering repairs (shocks, struts, ball joints, tie rods) | D27: Job | E27: 1 | G27: =E27*F27 -> 0
A28: B4 | B28: Other Disbursements and Costs | G28: =E28*F28 -> 0
A29: Subtotal B | B29: Mechanical Repairs | G29: =SUM(G25:G28) -> 0
A30: 3. ELECTRICAL SYSTEMS
A31: Item | B31: Description | D31: Unit | E31: Qty | F31: Unit Price (ZAR) | G31: Total Price (ZAR)
A32: C1 | B32: Electrical diagnostics (modern equipment) | D32: Hour | E32: 1 | G32: =E32*F32 -> 0
A33: C2 | B33: Alternator, starter, wiring repairs | D33: Job | E33: 1 | G33: =E33*F33 -> 0
A34: C3 | B34: Battery testing & replacement | D34: No. | E34: 1 | G34: =E34*F34 -> 0
A35: C4 | B35: Other Disbursements and Costs | G35: =E35*F35 -> 0
A36: Subtotal C | B36: Electrical Systems | G36: =SUM(G32:G35) -> 0
A37: 4. BRAKE SYSTEMS
A38: Item | B38: Description | D38: Unit | E38: Qty | F38: Unit Prize | G38: Amount (ZAR)
A39: D1 | B39: Brake inspections (pads, rotors, calipers) | D39: Service | E39: 1 | G39: =E39*F39 -> 0
A40: D2 | B40: Brake component replacement | D40: Job | E40: 1 | G40: =E40*F40 -> 0
A41: D3 | B41: Other Disbursements and Costs | G41: =E41*F41 -> 0
A42: Subtotal D | B42: Brake Systems | G42: =SUM(G39:G41) -> 0
A43: 5. COOLING AND AIR CONDITIONING SYSTEMS
A44: Item | B44: Description | D44: Unit | E44: Qty | F44: Unit Prize | G44: Amount (ZAR)
A45: E1 | B45: Cooling system repairs | D45: Job | E45: 1 | G45: =E45*F45 -> 0
A46: E2 | B46: Air conditioning servicing & repairs | D46: Job | E46: 1 | G46: =E46*F46 -> 0
...

Sheet Hyundai H1
A2: PRICING SCHEDULE – Fleet Maintenance – Hyundai H1 (2019 Model)
A4: The Bidder must note that the fixed pricing schedule per fleet maintenance category will be used, whilst separately providing for unforeseen repairs and replacement parts identified during the assessment phase. This will ensure that the bidders will price consistently and enables effective evaluation of bids. This Prices MUST include all the costs of Labour, Material and overheads such as disbursements.
A6: Tenderer Details
A8: Description | C8: Information
A9: Bidder Name
A10: Contact Person
A11: Contact Number
A12: Email Address
A13: VAT Registration Number
A15: Schedule A:
A17: 1. PREVENTATIVE MAINTENANCE AND SERVICING
A18: Item | B18: Description | D18: Unit | E18: Qty | F18: Unit Price (ZAR) | G18: Total Price (ZAR)
A19: A1 | B19: Scheduled inspections & servicing (per vehicle) | D19: Service | E19: 1 | G19: =E19*F19 -> 0
A20: A2 | B20: Preventative maintenance (fluid checks, lubrication, filter replacement) | D20: Service | E20: 1 | G20: =E20*F20 -> 0
A21: A3 | B21: Other Disbursements and Costs | G21: =E21*F21 -> 0
A22: Subtotal A | B22: Preventative Maintenance and Servicing | G22: =SUM(G19:G21) -> 0
A23: 2. MECHANICAL REPAIRS
A24: Item | B24: Description | D24: Unit | E24: Qty | F24: Unit Price (ZAR) | G24: Total Price (ZAR)
A25: B1 | B25: Engine diagnostics & repairs | D25: Hour | E25: 1 | G25: =E25*F25 -> 0
A26: B2 | B26: Transmission repairs (fluid changes, clutch replacement, rebuilds) | D26: Job | E26: 1 | G26: =E26*F26 -> 0
A27: B3 | B27: Suspension & steering repairs (shocks, struts, ball joints, tie rods) | D27: Job | E27: 1 | G27: =E27*F27 -> 0
A28: B4 | B28: Other Disbursements and Costs | G28: =E28*F28 -> 0
A29: Subtotal B | B29: Mechanical Repairs | G29: =SUM(G25:G28) -> 0
A30: 3. ELECTRICAL SYSTEMS
A31: Item | B31: Description | D31: Unit | E31: Qty | F31: Unit Price (ZAR) | G31: Total Price (ZAR)
A32: C1 | B32: Electrical diagnostics (modern equipment) | D32: Hour | E32: 1 | G32: =E32*F32 -> 0
A33: C2 | B33: Alternator, starter, wiring repairs | D33: Job | E33: 1 | G33: =E33*F33 -> 0
A34: C3 | B34: Battery testing & replacement | D34: No. | E34: 1 | G34: =E34*F34 -> 0
A35: C4 | B35: Other Disbursements and Costs | G35: =E35*F35 -> 0
A36: Subtotal C | B36: Electrical Systems | G36: =SUM(G32:G35) -> 0
A37: 4. BRAKE SYSTEMS
A38: Item | B38: Description | D38: Unit | E38: Qty | F38: Unit Prize | G38: Amount (ZAR)
A39: D1 | B39: Brake inspections (pads, rotors, calipers) | D39: Service | E39: 1 | G39: =E39*F39 -> 0
A40: D2 | B40: Brake component replacement | D40: Job | E40: 1 | G40: =E40*F40 -> 0
A41: D3 | B41: Other Disbursements and Costs | G41: =E41*F41 -> 0
A42: Subtotal D | B42: Brake Systems | G42: =SUM(G39:G41) -> 0
A43: 5. COOLING AND AIR CONDITIONING SYSTEMS
A44: Item | B44: Description | D44: Unit | E44: Qty | F44: Unit Prize | G44: Amount (ZAR)
A45: E1 | B45: Cooling system repairs | D45: Job | E45: 1 | G45: =E45*F45 -> 0
A46: E2 | B46: Air conditioning servicing & repairs | D46: Job | E46: 1 | G46: =E46*F46 -> 0
...

Sheet Isuzu F-Series - 2024
A2: PRICING SCHEDULE – Fleet Maintenance – Isuzu F-Series (2024 Model)
A4: The Bidder must note that the fixed pricing schedule per fleet maintenance category will be used, whilst separately providing for unforeseen repairs and replacement parts identified during the assessment phase. This will ensure that the bidders will price consistently and enables effective evaluation of bids. This Prices MUST include all the costs of Labour, Material and overheads such as disbursements.
A6: Tenderer Details
A8: Description | C8: Information
A9: Bidder Name
A10: Contact Person
A11: Contact Number
A12: Email Address
A13: VAT Registration Number
A15: Schedule A:
A17: 1. PREVENTATIVE MAINTENANCE AND SERVICING
A18: Item | B18: Description | D18: Unit | E18: Qty | F18: Unit Price (ZAR) | G18: Total Price (ZAR)
A19: A1 | B19: Scheduled inspections & servicing (per vehicle) | D19: Service | E19: 1 | G19: =E19*F19 -> 0
A20: A2 | B20: Preventative maintenance (fluid checks, lubrication, filter replacement) | D20: Service | E20: 1 | G20: =E20*F20 -> 0
A21: A3 | B21: Other Disbursements and Costs | G21: =E21*F21 -> 0
A22: Subtotal A | B22: Preventative Maintenance and Servicing | G22: =SUM(G19:G21) -> 0
A23: 2. MECHANICAL REPAIRS
A24: Item | B24: Description | D24: Unit | E24: Qty | F24: Unit Price (ZAR) | G24: Total Price (ZAR)
A25: B1 | B25: Engine diagnostics & repairs | D25: Hour | E25: 1 | G25: =E25*F25 -> 0
A26: B2 | B26: Transmission repairs (fluid changes, clutch replacement, rebuilds) | D26: Job | E26: 1 | G26: =E26*F26 -> 0
A27: B3 | B27: Suspension & steering repairs (shocks, struts, ball joints, tie rods) | D27: Job | E27: 1 | G27: =E27*F27 -> 0
A28: B4 | B28: Other Disbursements and Costs | G28: =E28*F28 -> 0
A29: Subtotal B | B29: Mechanical Repairs | G29: =SUM(G25:G28) -> 0
A30: 3. ELECTRICAL SYSTEMS
A31: Item | B31: Description | D31: Unit | E31: Qty | F31: Unit Price (ZAR) | G31: Total Price (ZAR)
A32: C1 | B32: Electrical diagnostics (modern equipment) | D32: Hour | E32: 1 | G32: =E32*F32 -> 0
A33: C2 | B33: Alternator, starter, wiring repairs | D33: Job | E33: 1 | G33: =E33*F33 -> 0
A34: C3 | B34: Battery testing & replacement | D34: No. | E34: 1 | G34: =E34*F34 -> 0
A35: C4 | B35: Other Disbursements and Costs | G35: =E35*F35 -> 0
A36: Subtotal C | B36: Electrical Systems | G36: =SUM(G32:G35) -> 0
A37: 4. BRAKE SYSTEMS
A38: Item | B38: Description | D38: Unit | E38: Qty | F38: Unit Prize | G38: Amount (ZAR)
A39: D1 | B39: Brake inspections (pads, rotors, calipers) | D39: Service | E39: 1 | G39: =E39*F39 -> 0
A40: D2 | B40: Brake component replacement | D40: Job | E40: 1 | G40: =E40*F40 -> 0
A41: D3 | B41: Other Disbursements and Costs | G41: =E41*F41 -> 0
A42: Subtotal D | B42: Brake Systems | G42: =SUM(G39:G41) -> 0
A43: 5. COOLING AND AIR CONDITIONING SYSTEMS
A44: Item | B44: Description | D44: Unit | E44: Qty | F44: Unit Prize | G44: Amount (ZAR)
A45: E1 | B45: Cooling system repairs | D45: Job | E45: 1 | G45: =E45*F45 -> 0
A46: E2 | B46: Air conditioning servicing & repairs | D46: Job | E46: 1 | G46: =E46*F46 -> 0
...

Sheet Isuzu F-Series - 2025
A2: PRICING SCHEDULE – Fleet Maintenance – Isuzu F-Series (2025 Model)
A4: The Bidder must note that the fixed pricing schedule per fleet maintenance category will be used, whilst separately providing for unforeseen repairs and replacement parts identified during the assessment phase. This will ensure that the bidders will price consistently and enables effective evaluation of bids. This Prices MUST include all the costs of Labour, Material and overheads such as disbursements.
A6: Tenderer Details
A8: Description | C8: Information
A9: Bidder Name
A10: Contact Person
A11: Contact Number
A12: Email Address
A13: VAT Registration Number
A15: Schedule A:
A17: 1. PREVENTATIVE MAINTENANCE AND SERVICING
A18: Item | B18: Description | D18: Unit | E18: Qty | F18: Unit Price (ZAR) | G18: Total Price (ZAR)
A19: A1 | B19: Scheduled inspections & servicing (per vehicle) | D19: Service | E19: 1 | G19: =E19*F19 -> 0
A20: A2 | B20: Preventative maintenance (fluid checks, lubrication, filter replacement) | D20: Service | E20: 1 | G20: =E20*F20 -> 0
A21: A3 | B21: Other Disbursements and Costs | G21: =E21*F21 -> 0
A22: Subtotal A | B22: Preventative Maintenance and Servicing | G22: =SUM(G19:G21) -> 0
A23: 2. MECHANICAL REPAIRS
A24: Item | B24: Description | D24: Unit | E24: Qty | F24: Unit Price (ZAR) | G24: Total Price (ZAR)
A25: B1 | B25: Engine diagnostics & repairs | D25: Hour | E25: 1 | G25: =E25*F25 -> 0
A26: B2 | B26: Transmission repairs (fluid changes, clutch replacement, rebuilds) | D26: Job | E26: 1 | G26: =E26*F26 -> 0
A27: B3 | B27: Suspension & steering repairs (shocks, struts, ball joints, tie rods) | D27: Job | E27: 1 | G27: =E27*F27 -> 0
A28: B4 | B28: Other Disbursements and Costs | G28: =E28*F28 -> 0
A29: Subtotal B | B29: Mechanical Repairs | G29: =SUM(G25:G28) -> 0
A30: 3. ELECTRICAL SYSTEMS
A31: Item | B31: Description | D31: Unit | E31: Qty | F31: Unit Price (ZAR) | G31: Total Price (ZAR)
A32: C1 | B32: Electrical diagnostics (modern equipment) | D32: Hour | E32: 1 | G32: =E32*F32 -> 0
A33: C2 | B33: Alternator, starter, wiring repairs | D33: Job | E33: 1 | G33: =E33*F33 -> 0
A34: C3 | B34: Battery testing & replacement | D34: No. | E34: 1 | G34: =E34*F34 -> 0
A35: C4 | B35: Other Disbursements and Costs | G35: =E35*F35 -> 0
A36: Subtotal C | B36: Electrical Systems | G36: =SUM(G32:G35) -> 0
A37: 4. BRAKE SYSTEMS
A38: Item | B38: Description | D38: Unit | E38: Qty | F38: Unit Prize | G38: Amount (ZAR)
A39: D1 | B39: Brake inspections (pads, rotors, calipers) | D39: Service | E39: 1 | G39: =E39*F39 -> 0
A40: D2 | B40: Brake component replacement | D40: Job | E40: 1 | G40: =E40*F40 -> 0
A41: D3 | B41: Other Disbursements and Costs | G41: =E41*F41 -> 0
A42: Subtotal D | B42: Brake Systems | G42: =SUM(G39:G41) -> 0
A43: 5. COOLING AND AIR CONDITIONING SYSTEMS
A44: Item | B44: Description | D44: Unit | E44: Qty | F44: Unit Prize | G44: Amount (ZAR)
A45: E1 | B45: Cooling system repairs | D45: Job | E45: 1 | G45: =E45*F45 -> 0
A46: E2 | B46: Air conditioning servicing & repairs | D46: Job | E46: 1 | G46: =E46*F46 -> 0
...

Sheet Isuzu KB 250
A2: PRICING SCHEDULE – Fleet Maintenance – Isuzu KB 250 (2017 Model)
A4: The Bidder must note that the fixed pricing schedule per fleet maintenance category will be used, whilst separately providing for unforeseen repairs and replacement parts identified during the assessment phase. This will ensure that the bidders will price consistently and enables effective evaluation of bids. This Prices MUST include all the costs of Labour, Material and overheads such as disbursements.
A6: Tenderer Details
A8: Description | C8: Information
A9: Bidder Name
A10: Contact Person
A11: Contact Number
A12: Email Address
A13: VAT Registration Number
A15: Schedule A:
A17: 1. PREVENTATIVE MAINTENANCE AND SERVICING
A18: Item | B18: Description | D18: Unit | E18: Qty | F18: Unit Price (ZAR) | G18: Total Price (ZAR)
A19: A1 | B19: Scheduled inspections & servicing (per vehicle) | D19: Service | E19: 1 | G19: =E19*F19 -> 0
A20: A2 | B20: Preventative maintenance (fluid checks, lubrication, filter replacement) | D20: Service | E20: 1 | G20: =E20*F20 -> 0
A21: A3 | B21: Other Disbursements and Costs | G21: =E21*F21 -> 0
A22: Subtotal A | B22: Preventative Maintenance and Servicing | G22: =SUM(G19:G21) -> 0
A23: 2. MECHANICAL REPAIRS
A24: Item | B24: Description | D24: Unit | E24: Qty | F24: Unit Price (ZAR) | G24: Total Price (ZAR)
A25: B1 | B25: Engine diagnostics & repairs | D25: Hour | E25: 1 | G25: =E25*F25 -> 0
A26: B2 | B26: Transmission repairs (fluid changes, clutch replacement, rebuilds) | D26: Job | E26: 1 | G26: =E26*F26 -> 0
A27: B3 | B27: Suspension & steering repairs (shocks, struts, ball joints, tie rods) | D27: Job | E27: 1 | G27: =E27*F27 -> 0
A28: B4 | B28: Other Disbursements and Costs | G28: =E28*F28 -> 0
A29: Subtotal B | B29: Mechanical Repairs | G29: =SUM(G25:G28) -> 0
A30: 3. ELECTRICAL SYSTEMS
A31: Item | B31: Description | D31: Unit | E31: Qty | F31: Unit Price (ZAR) | G31: Total Price (ZAR)
A32: C1 | B32: Electrical diagnostics (modern equipment) | D32: Hour | E32: 1 | G32: =E32*F32 -> 0
A33: C2 | B33: Alternator, starter, wiring repairs | D33: Job | E33: 1 | G33: =E33*F33 -> 0
A34: C3 | B34: Battery testing & replacement | D34: No. | E34: 1 | G34: =E34*F34 -> 0
A35: C4 | B35: Other Disbursements and Costs | G35: =E35*F35 -> 0
A36: Subtotal C | B36: Electrical Systems | G36: =SUM(G32:G35) -> 0
A37: 4. BRAKE SYSTEMS
A38: Item | B38: Description | D38: Unit | E38: Qty | F38: Unit Prize | G38: Amount (ZAR)
A39: D1 | B39: Brake inspections (pads, rotors, calipers) | D39: Service | E39: 1 | G39: =E39*F39 -> 0
A40: D2 | B40: Brake component replacement | D40: Job | E40: 1 | G40: =E40*F40 -> 0
A41: D3 | B41: Other Disbursements and Costs | G41: =E41*F41 -> 0
A42: Subtotal D | B42: Brake Systems | G42: =SUM(G39:G41) -> 0
A43: 5. COOLING AND AIR CONDITIONING SYSTEMS
A44: Item | B44: Description | D44: Unit | E44: Qty | F44: Unit Prize | G44: Amount (ZAR)
A45: E1 | B45: Cooling system repairs | D45: Job | E45: 1 | G45: =E45*F45 -> 0
A46: E2 | B46: Air conditioning servicing & repairs | D46: Job | E46: 1 | G46: =E46*F46 -> 0
...

Sheet Nissan UD90 - 2009
A2: PRICING SCHEDULE – Fleet Maintenance – Nissan UD90 (2009 Model)
A4: The Bidder must note that the fixed pricing schedule per fleet maintenance category will be used, whilst separately providing for unforeseen repairs and replacement parts identified during the assessment phase. This will ensure that the bidders will price consistently and enables effective evaluation of bids. This Prices MUST include all the costs of Labour, Material and overheads such as disbursements.
A6: Tenderer Details
A8: Description | C8: Information
A9: Bidder Name
A10: Contact Person
A11: Contact Number
A12: Email Address
A13: VAT Registration Number
A15: Schedule A:
A17: 1. PREVENTATIVE MAINTENANCE AND SERVICING
A18: Item | B18: Description | D18: Unit | E18: Qty | F18: Unit Price (ZAR) | G18: Total Price (ZAR)
A19: A1 | B19: Scheduled inspections & servicing (per vehicle) | D19: Service | E19: 1 | G19: =E19*F19 -> 0
A20: A2 | B20: Preventative maintenance (fluid checks, lubrication, filter replacement) | D20: Service | E20: 1 | G20: =E20*F20 -> 0
A21: A3 | B21: Other Disbursements and Costs | G21: =E21*F21 -> 0
A22: Subtotal A | B22: Preventative Maintenance and Servicing | G22: =SUM(G19:G21) -> 0
A23: 2. MECHANICAL REPAIRS
A24: Item | B24: Description | D24: Unit | E24: Qty | F24: Unit Price (ZAR) | G24: Total Price (ZAR)
A25: B1 | B25: Engine diagnostics & repairs | D25: Hour | E25: 1 | G25: =E25*F25 -> 0
A26: B2 | B26: Transmission repairs (fluid changes, clutch replacement, rebuilds) | D26: Job | E26: 1 | G26: =E26*F26 -> 0
A27: B3 | B27: Suspension & steering repairs (shocks, struts, ball joints, tie rods) | D27: Job | E27: 1 | G27: =E27*F27 -> 0
A28: B4 | B28: Other Disbursements and Costs | G28: =E28*F28 -> 0
A29: Subtotal B | B29: Mechanical Repairs | G29: =SUM(G25:G28) -> 0
A30: 3. ELECTRICAL SYSTEMS
A31: Item | B31: Description | D31: Unit | E31: Qty | F31: Unit Price (ZAR) | G31: Total Price (ZAR)
A32: C1 | B32: Electrical diagnostics (modern equipment) | D32: Hour | E32: 1 | G32: =E32*F32 -> 0
A33: C2 | B33: Alternator, starter, wiring repairs | D33: Job | E33: 1 | G33: =E33*F33 -> 0
A34: C3 | B34: Battery testing & replacement | D34: No. | E34: 1 | G34: =E34*F34 -> 0
A35: C4 | B35: Other Disbursements and Costs | G35: =E35*F35 -> 0
A36: Subtotal C | B36: Electrical Systems | G36: =SUM(G32:G35) -> 0
A37: 4. BRAKE SYSTEMS
A38: Item | B38: Description | D38: Unit | E38: Qty | F38: Unit Prize | G38: Amount (ZAR)
A39: D1 | B39: Brake inspections (pads, rotors, calipers) | D39: Service | E39: 1 | G39: =E39*F39 -> 0
A40: D2 | B40: Brake component replacement | D40: Job | E40: 1 | G40: =E40*F40 -> 0
A41: D3 | B41: Other Disbursements and Costs | G41: =E41*F41 -> 0
A42: Subtotal D | B42: Brake Systems | G42: =SUM(G39:G41) -> 0
A43: 5. COOLING AND AIR CONDITIONING SYSTEMS
A44: Item | B44: Description | D44: Unit | E44: Qty | F44: Unit Prize | G44: Amount (ZAR)
A45: E1 | B45: Cooling system repairs | D45: Job | E45: 1 | G45: =E45*F45 -> 0
A46: E2 | B46: Air conditioning servicing & repairs | D46: Job | E46: 1 | G46: =E46*F46 -> 0
...

Sheet Nissan UD90 - 2012
A2: PRICING SCHEDULE – Fleet Maintenance – Nissan UD90 (2012 Model)
A4: The Bidder must note that the fixed pricing schedule per fleet maintenance category will be used, whilst separately providing for unforeseen repairs and replacement parts identified during the assessment phase. This will ensure that the bidders will price consistently and enables effective evaluation of bids. This Prices MUST include all the costs of Labour, Material and overheads such as disbursements.
A6: Tenderer Details
A8: Description | C8: Information
A9: Bidder Name
A10: Contact Person
A11: Contact Number
A12: Email Address
A13: VAT Registration Number
A15: Schedule A:
A17: 1. PREVENTATIVE MAINTENANCE AND SERVICING
A18: Item | B18: Description | D18: Unit | E18: Qty | F18: Unit Price (ZAR) | G18: Total Price (ZAR)
A19: A1 | B19: Scheduled inspections & servicing (per vehicle) | D19: Service | E19: 1 | G19: =E19*F19 -> 0
A20: A2 | B20: Preventative maintenance (fluid checks, lubrication, filter replacement) | D20: Service | E20: 1 | G20: =E20*F20 -> 0
A21: A3 | B21: Other Disbursements and Costs | G21: =E21*F21 -> 0
A22: Subtotal A | B22: Preventative Maintenance and Servicing | G22: =SUM(G19:G21) -> 0
A23: 2. MECHANICAL REPAIRS
A24: Item | B24: Description | D24: Unit | E24: Qty | F24: Unit Price (ZAR) | G24: Total Price (ZAR)
A25: B1 | B25: Engine diagnostics & repairs | D25: Hour | E25: 1 | G25: =E25*F25 -> 0
A26: B2 | B26: Transmission repairs (fluid changes, clutch replacement, rebuilds) | D26: Job | E26: 1 | G26: =E26*F26 -> 0
A27: B3 | B27: Suspension & steering repairs (shocks, struts, ball joints, tie rods) | D27: Job | E27: 1 | G27: =E27*F27 -> 0
A28: B4 | B28: Other Disbursements and Costs | G28: =E28*F28 -> 0
A29: Subtotal B | B29: Mechanical Repairs | G29: =SUM(G25:G28) -> 0
A30: 3. ELECTRICAL SYSTEMS
A31: Item | B31: Description | D31: Unit | E31: Qty | F31: Unit Price (ZAR) | G31: Total Price (ZAR)
A32: C1 | B32: Electrical diagnostics (modern equipment) | D32: Hour | E32: 1 | G32: =E32*F32 -> 0
A33: C2 | B33: Alternator, starter, wiring repairs | D33: Job | E33: 1 | G33: =E33*F33 -> 0
A34: C3 | B34: Battery testing & replacement | D34: No. | E34: 1 | G34: =E34*F34 -> 0
A35: C4 | B35: Other Disbursements and Costs | G35: =E35*F35 -> 0
A36: Subtotal C | B36: Electrical Systems | G36: =SUM(G32:G35) -> 0
A37: 4. BRAKE SYSTEMS
A38: Item | B38: Description | D38: Unit | E38: Qty | F38: Unit Prize | G38: Amount (ZAR)
A39: D1 | B39: Brake inspections (pads, rotors, calipers) | D39: Service | E39: 1 | G39: =E39*F39 -> 0
A40: D2 | B40: Brake component replacement | D40: Job | E40: 1 | G40: =E40*F40 -> 0
A41: D3 | B41: Other Disbursements and Costs | G41: =E41*F41 -> 0
A42: Subtotal D | B42: Brake Systems | G42: =SUM(G39:G41) -> 0
A43: 5. COOLING AND AIR CONDITIONING SYSTEMS
A44: Item | B44: Description | D44: Unit | E44: Qty | F44: Unit Prize | G44: Amount (ZAR)
A45: E1 | B45: Cooling system repairs | D45: Job | E45: 1 | G45: =E45*F45 -> 0
A46: E2 | B46: Air conditioning servicing & repairs | D46: Job | E46: 1 | G46: =E46*F46 -> 0
...

Sheet Nissan UD90 -2013
A2: PRICING SCHEDULE – Fleet Maintenance – Nissan UD90 (2013 Model)
A4: The Bidder must note that the fixed pricing schedule per fleet maintenance category will be used, whilst separately providing for unforeseen repairs and replacement parts identified during the assessment phase. This will ensure that the bidders will price consistently and enables effective evaluation of bids. This Prices MUST include all the costs of Labour, Material and overheads such as disbursements.
A6: Tenderer Details
A8: Description | C8: Information
A9: Bidder Name
A10: Contact Person
A11: Contact Number
A12: Email Address
A13: VAT Registration Number
A15: Schedule A:
A17: 1. PREVENTATIVE MAINTENANCE AND SERVICING
A18: Item | B18: Description | D18: Unit | E18: Qty | F18: Unit Price (ZAR) | G18: Total Price (ZAR)
A19: A1 | B19: Scheduled inspections & servicing (per vehicle) | D19: Service | E19: 1 | G19: =E19*F19 -> 0
A20: A2 | B20: Preventative maintenance (fluid checks, lubrication, filter replacement) | D20: Service | E20: 1 | G20: =E20*F20 -> 0
A21: A3 | B21: Other Disbursements and Costs | G21: =E21*F21 -> 0
A22: Subtotal A | B22: Preventative Maintenance and Servicing | G22: =SUM(G19:G21) -> 0
A23: 2. MECHANICAL REPAIRS
A24: Item | B24: Description | D24: Unit | E24: Qty | F24: Unit Price (ZAR) | G24: Total Price (ZAR)
A25: B1 | B25: Engine diagnostics & repairs | D25: Hour | E25: 1 | G25: =E25*F25 -> 0
A26: B2 | B26: Transmission repairs (fluid changes, clutch replacement, rebuilds) | D26: Job | E26: 1 | G26: =E26*F26 -> 0
A27: B3 | B27: Suspension & steering repairs (shocks, struts, ball joints, tie rods) | D27: Job | E27: 1 | G27: =E27*F27 -> 0
A28: B4 | B28: Other Disbursements and Costs | G28: =E28*F28 -> 0
A29: Subtotal B | B29: Mechanical Repairs | G29: =SUM(G25:G28) -> 0
A30: 3. ELECTRICAL SYSTEMS
A31: Item | B31: Description | D31: Unit | E31: Qty | F31: Unit Price (ZAR) | G31: Total Price (ZAR)
A32: C1 | B32: Electrical diagnostics (modern equipment) | D32: Hour | E32: 1 | G32: =E32*F32 -> 0
A33: C2 | B33: Alternator, starter, wiring repairs | D33: Job | E33: 1 | G33: =E33*F33 -> 0
A34: C3 | B34: Battery testing & replacement | D34: No. | E34: 1 | G34: =E34*F34 -> 0
A35: C4 | B35: Other Disbursements and Costs | G35: =E35*F35 -> 0
A36: Subtotal C | B36: Electrical Systems | G36: =SUM(G32:G35) -> 0
A37: 4. BRAKE SYSTEMS
A38: Item | B38: Description | D38: Unit | E38: Qty | F38: Unit Prize | G38: Amount (ZAR)
A39: D1 | B39: Brake inspections (pads, rotors, calipers) | D39: Service | E39: 1 | G39: =E39*F39 -> 0
A40: D2 | B40: Brake component replacement | D40: Job | E40: 1 | G40: =E40*F40 -> 0
A41: D3 | B41: Other Disbursements and Costs | G41: =E41*F41 -> 0
A42: Subtotal D | B42: Brake Systems | G42: =SUM(G39:G41) -> 0
A43: 5. COOLING AND AIR CONDITIONING SYSTEMS
A44: Item | B44: Description | D44: Unit | E44: Qty | F44: Unit Prize | G44: Amount (ZAR)
A45: E1 | B45: Cooling system repairs | D45: Job | E45: 1 | G45: =E45*F45 -> 0
A46: E2 | B46: Air conditioning servicing & repairs | D46: Job | E46: 1 | G46: =E46*F46 -> 0
...

Sheet Nissan XTRAIL
A2: PRICING SCHEDULE – Fleet Maintenance – Nissan XTRAIL (2003 Model)
A4: The Bidder must note that the fixed pricing schedule per fleet maintenance category will be used, whilst separately providing for unforeseen repairs and replacement parts identified during the assessment phase. This will ensure that the bidders will price consistently and enables effective evaluation of bids. This Prices MUST include all the costs of Labour, Material and overheads such as disbursements.
A6: Tenderer Details
A8: Description | C8: Information
A9: Bidder Name
A10: Contact Person
A11: Contact Number
A12: Email Address
A13: VAT Registration Number
A15: Schedule A:
A17: 1. PREVENTATIVE MAINTENANCE AND SERVICING
A18: Item | B18: Description | D18: Unit | E18: Qty | F18: Unit Price (ZAR) | G18: Total Price (ZAR)
A19: A1 | B19: Scheduled inspections & servicing (per vehicle) | D19: Service | E19: 1 | G19: =E19*F19 -> 0
A20: A2 | B20: Preventative maintenance (fluid checks, lubrication, filter replacement) | D20: Service | E20: 1 | G20: =E20*F20 -> 0
A21: A3 | B21: Other Disbursements and Costs | G21: =E21*F21 -> 0
A22: Subtotal A | B22: Preventative Maintenance and Servicing | G22: =SUM(G19:G21) -> 0
A23: 2. MECHANICAL REPAIRS
A24: Item | B24: Description | D24: Unit | E24: Qty | F24: Unit Price (ZAR) | G24: Total Price (ZAR)
A25: B1 | B25: Engine diagnostics & repairs | D25: Hour | E25: 1 | G25: =E25*F25 -> 0
A26: B2 | B26: Transmission repairs (fluid changes, clutch replacement, rebuilds) | D26: Job | E26: 1 | G26: =E26*F26 -> 0
A27: B3 | B27: Suspension & steering repairs (shocks, struts, ball joints, tie rods) | D27: Job | E27: 1 | G27: =E27*F27 -> 0
A28: B4 | B28: Other Disbursements and Costs | G28: =E28*F28 -> 0
A29: Subtotal B | B29: Mechanical Repairs | G29: =SUM(G25:G28) -> 0
A30: 3. ELECTRICAL SYSTEMS
A31: Item | B31: Description | D31: Unit | E31: Qty | F31: Unit Price (ZAR) | G31: Total Price (ZAR)
A32: C1 | B32: Electrical diagnostics (modern equipment) | D32: Hour | E32: 1 | G32: =E32*F32 -> 0
A33: C2 | B33: Alternator, starter, wiring repairs | D33: Job | E33: 1 | G33: =E33*F33 -> 0
A34: C3 | B34: Battery testing & replacement | D34: No. | E34: 1 | G34: =E34*F34 -> 0
A35: C4 | B35: Other Disbursements and Costs | G35: =E35*F35 -> 0
A36: Subtotal C | B36: Electrical Systems | G36: =SUM(G32:G35) -> 0
A37: 4. BRAKE SYSTEMS
A38: Item | B38: Description | D38: Unit | E38: Qty | F38: Unit Prize | G38: Amount (ZAR)
A39: D1 | B39: Brake inspections (pads, rotors, calipers) | D39: Service | E39: 1 | G39: =E39*F39 -> 0
A40: D2 | B40: Brake component replacement | D40: Job | E40: 1 | G40: =E40*F40 -> 0
A41: D3 | B41: Other Disbursements and Costs | G41: =E41*F41 -> 0
A42: Subtotal D | B42: Brake Systems | G42: =SUM(G39:G41) -> 0
A43: 5. COOLING AND AIR CONDITIONING SYSTEMS
A44: Item | B44: Description | D44: Unit | E44: Qty | F44: Unit Prize | G44: Amount (ZAR)
A45: E1 | B45: Cooling system repairs | D45: Job | E45: 1 | G45: =E45*F45 -> 0
A46: E2 | B46: Air conditioning servicing & repairs | D46: Job | E46: 1 | G46: =E46*F46 -> 0
...

Sheet Toyota Hino
A2: PRICING SCHEDULE – Fleet Maintenance – Toyota Hino (2017 Model)
A4: The Bidder must note that the fixed pricing schedule per fleet maintenance category will be used, whilst separately providing for unforeseen repairs and replacement parts identified during the assessment phase. This will ensure that the bidders will price consistently and enables effective evaluation of bids. This Prices MUST include all the costs of Labour, Material and overheads such as disbursements.
A6: Tenderer Details
A8: Description | C8: Information
A9: Bidder Name
A10: Contact Person
A11: Contact Number
A12: Email Address
A13: VAT Registration Number
A15: Schedule A:
A17: 1. PREVENTATIVE MAINTENANCE AND SERVICING
A18: Item | B18: Description | D18: Unit | E18: Qty | F18: Unit Price (ZAR) | G18: Total Price (ZAR)
A19: A1 | B19: Scheduled inspections & servicing (per vehicle) | D19: Service | E19: 1 | G19: =E19*F19 -> 0
A20: A2 | B20: Preventative maintenance (fluid checks, lubrication, filter replacement) | D20: Service | E20: 1 | G20: =E20*F20 -> 0
A21: A3 | B21: Other Disbursements and Costs | G21: =E21*F21 -> 0
A22: Subtotal A | B22: Preventative Maintenance and Servicing | G22: =SUM(G19:G21) -> 0
A23: 2. MECHANICAL REPAIRS
A24: Item | B24: Description | D24: Unit | E24: Qty | F24: Unit Price (ZAR) | G24: Total Price (ZAR)
A25: B1 | B25: Engine diagnostics & repairs | D25: Hour | E25: 1 | G25: =E25*F25 -> 0
A26: B2 | B26: Transmission repairs (fluid changes, clutch replacement, rebuilds) | D26: Job | E26: 1 | G26: =E26*F26 -> 0
A27: B3 | B27: Suspension & steering repairs (shocks, struts, ball joints, tie rods) | D27: Job | E27: 1 | G27: =E27*F27 -> 0
A28: B4 | B28: Other Disbursements and Costs | G28: =E28*F28 -> 0
A29: Subtotal B | B29: Mechanical Repairs | G29: =SUM(G25:G28) -> 0
A30: 3. ELECTRICAL SYSTEMS
A31: Item | B31: Description | D31: Unit | E31: Qty | F31: Unit Price (ZAR) | G31: Total Price (ZAR)
A32: C1 | B32: Electrical diagnostics (modern equipment) | D32: Hour | E32: 1 | G32: =E32*F32 -> 0
A33: C2 | B33: Alternator, starter, wiring repairs | D33: Job | E33: 1 | G33: =E33*F33 -> 0
A34: C3 | B34: Battery testing & replacement | D34: No. | E34: 1 | G34: =E34*F34 -> 0
A35: C4 | B35: Other Disbursements and Costs | G35: =E35*F35 -> 0
A36: Subtotal C | B36: Electrical Systems | G36: =SUM(G32:G35) -> 0
A37: 4. BRAKE SYSTEMS
A38: Item | B38: Description | D38: Unit | E38: Qty | F38: Unit Prize | G38: Amount (ZAR)
A39: D1 | B39: Brake inspections (pads, rotors, calipers) | D39: Service | E39: 1 | G39: =E39*F39 -> 0
A40: D2 | B40: Brake component replacement | D40: Job | E40: 1 | G40: =E40*F40 -> 0
A41: D3 | B41: Other Disbursements and Costs | G41: =E41*F41 -> 0
A42: Subtotal D | B42: Brake Systems | G42: =SUM(G39:G41) -> 0
A43: 5. COOLING AND AIR CONDITIONING SYSTEMS
A44: Item | B44: Description | D44: Unit | E44: Qty | F44: Unit Prize | G44: Amount (ZAR)
A45: E1 | B45: Cooling system repairs | D45: Job | E45: 1 | G45: =E45*F45 -> 0
A46: E2 | B46: Air conditioning servicing & repairs | D46: Job | E46: 1 | G46: =E46*F46 -> 0
...
