Workbook

Sheet Summary
B2: Fleet type | C2: Amount
B3: Nissan NP300 | C3: ='Nissan NP300'!C97 -> 0
B4: UD Croner | C4: ='UD Croner'!C97 -> 0
B5: Ford Bantam 1.3i | C5: ='Ford Bantam 1.3i'!C97 -> 0
B6: Hyundai H1 | C6: ='Hyundai H1'!C97 -> 0
B7: Isuzu F-Series (2024 Model) | C7: ='Isuzu F-Series - 2024'!C97 -> 0
B8: Isuzu F-Series (2025 Model) | C8: ='Isuzu F-Series - 2025'!C97 -> 0
B9: Isuzu KB 250 | C9: ='Isuzu KB 250'!C97 -> 0
B10: Nissan UD90 - 2009 | C10: ='Nissan UD90 - 2009'!C97 -> 0
B11: Nissan UD90 - 2012 | C11: ='Nissan UD90 - 2012'!C97 -> 0
B12: Nissan UD90 - 2013 | C12: ='Nissan UD90 -2013'!C97 -> 0
B13: Nissan XTRAIL | C13: ='Nissan XTRAIL'!C97 -> 0
B14: Toyota Hino | C14: ='Toyota Hino'!C97 -> 0
B15: Total | C15: =SUM(C3:C14) -> 0
B18: Declaration by Bidder
B20: I/We certify that the pricing submitted above includes all labour, equipment, materials, consumables, transport, supervision, spare parts, testing, commissioning, warranties, and all costs necessary to perform the maintenance services as specified.
B22: Authorised Representative:
B23: Signature:
B24: Date:

Sheet Nissan NP300
A2: PRICING SCHEDULE – Fleet Maintenance – Nissan NP300 (2018 Model)
A4: The Bidder must note that the fixed pricing schedule per fleet maintenance category will be used, whilst separately providing for unforeseen repairs and replacement parts identified during the assessment phase. This will ensure that the bidders will price consistently and enables effective evaluation of bids. This Prices MUST include all the costs of Labour, Material and overheads such as disbursements.
A6: Tenderer Details
A8: Description | C8: Information
A9: Bidder Name
A10: Contact Person
A11: Contact Number
A12: Email Address
A13: VAT Registration Number
A15: Schedule A:
A17: 1. PREVENTATIVE MAINTENANCE AND SERVICING
A18: Item | B18: Description | D18: Unit | E18: Qty | F18: Unit Price (ZAR) | G18: Total Price (ZAR)
A19: A1 | B19: Scheduled inspections & servicing (per vehicle) | D19: Service | E19: 1 | G19: =E19*F19 -> 0
A20: A2 | B20: Preventative maintenance (fluid checks, lubrication, filter replacement) | D20: Service | E20: 1 | G20: =E20*F20 -> 0
A21: A3 | B21: Other Disbursements and Costs | G21: =E21*F21 -> 0
A22: Subtotal A | B22: Preventative Maintenance and Servicing | G22: =SUM(G19:G21) -> 0
A23: 2. MECHANICAL REPAIRS
A24: Item | B24: Description | D24: Unit | E24: Qty | F24: Unit Price (ZAR) | G24: Total Price (ZAR)
A25: B1 | B25: Engine diagnostics & repairs | D25: Hour | E25: 1 | G25: =E25*F25 -> 0
A26: B2 | B26: Transmission repairs (fluid changes, clutch replacement, rebuilds) | D26: Job | E26: 1 | G26: =E26*F26 -> 0
A27: B3 | B27: Suspension & steering repairs (shocks, struts, ball joints, tie rods) | D27: Job | E27: 1 | G27: =E27*F27 -> 0
A28: B4 | B28: Other Disbursements and Costs | G28: =E28*F28 -> 0
A29: Subtotal B | B29: Mechanical Repairs | G29: =SUM(G25:G28) -> 0
A30: 3. ELECTRICAL SYSTEMS
A31: Item | B31: Description | D31: Unit | E31: Qty | F31: Unit Price (ZAR) | G31: Total Price (ZAR)
A32: C1 | B32: Electrical diagnostics (modern equipment) | D32: Hour | E32: 1 | G32: =E32*F32 -> 0
A33: C2 | B33: Alternator, starter, wiring repairs | D33: Job | E33: 1 | G33: =E33*F33 -> 0
A34: C3 | B34: Battery testing & replacement | D34: No. | E34: 1 | G34: =E34*F34 -> 0
A35: C4 | B35: Other Disbursements and Costs | G35: =E35*F35 -> 0
A36: Subtotal C | B36: Electrical Systems | G36: =SUM(G32:G35) -> 0
A37: 4. BRAKE SYSTEMS
A38: Item | B38: Description | D38: Unit | E38: Qty | F38: Unit Prize | G38: Amount (ZAR)
A39: D1 | B39: Brake inspections (pads, rotors, calipers) | D39: Service | E39: 1 | G39: =E39*F39 -> 0
A40: D2 | B40: Brake component replacement | D40: Job | E40: 1 | G40: =E40*F40 -> 0
A41: D3 | B41: Other Disbursements and Costs | G41: =E41*F41 -> 0
A42: Subtotal D | B42: Brake Systems | G42: =SUM(G39:G41) -> 0
A43: 5. COOLING AND AIR CONDITIONING SYSTEMS
A44: Item | B44: Description | D44: Unit | E44: Qty | F44: Unit Prize | G44: Amount (ZAR)
A45: E1 | B45: Cooling system repairs | D45: Job | E45: 1 | G45: =E45*F45 -> 0
A46: E2 | B46: Air conditioning servicing & repairs | D46: Job | E46: 1 | G46: =E46*F46 -> 0
A47: E3 | B47: Other Disbursements and Costs | G47: =E47*F47 -> 0
A48: Subtotal E | B48: Cooling and Air Conditioning Systems | G48: =SUM(G45:G47) -> 0
A49: 6. EXHAUST SYSTEMS
A50: Item | B50: Description | D50: Unit | E50: Qty | F50: Unit Prize | G50: Amount (ZAR)
A51: F1 | B51: Leak detection and repairs | D51: Job | E51: 1 | G51: =E51*F51 -> 0
A52: F2 | B52: Muffler and catalytic converter replacement | D52: No. | E52: 1 | G52: =E52*F52 -> 0
A53: F3 | B53: Other Disbursements and Costs | G53: =E53*F53 -> 0
A54: Subtotal F | B54: Exhaust Systems | G54: =SUM(G51:G53) -> 0
A55: 7. TYRE SERVICES
A56: Item | B56: Description | D56: Unit | E56: Qty | F56: Unit Prize | G56: Amount (ZAR)
A57: G1 | B57: Tyre fitment and replacement | D57: No. | E57: 1 | G57: =E57*F57 -> 0
A58: G2 | B58: Balancing and alignment | D58: Service | E58: 1 | G58: =E58*F58 -> 0
A59: G3 | B59: Rotation and pressure checks | D59: Service | E59: 1 | G59: =E59*F59 -> 0
A60: G4 | B60: Other Disbursements and Costs | G60: =E60*F60 -> 0
A61: Subtotal G | B61: Tyre Services | G61: =SUM(G57:G60) -> 0
A62: 8. BREAKDOWN AND EMERGENCY RESPONSE
A63: Item | B63: Description | D63: Unit | E63: Qty | F63: Unit Prize | G63: Amount (ZAR)
A64: H1 | B64: On‑site breakdown response (airside & landside) | D64: Call-out | E64: 1 | G64: =E64*F64 -> 0
A65: H2 | B65: Recovery services | D65: Job | E65: 1 | G65: =E65*F65 -> 0
A66: H3 | B66: Other Disbursements and Costs | G66: =E66*F66 -> 0
A67: Subtotal H | B67: Breakdown and Emergency Response | G67: =SUM(G64:G66) -> 0
A68: 9. ROADWORTHINESS COMPLIANCE
A69: Item | B69: Description | D69: Unit | E69: Qty | F69: Unit Prize | G69: Amount (ZAR)
A70: I1 | B70: Roadworthy inspections | D70: Service | E70: 1 | G70: =E70*F70 -> 0
A71: I2 | B71: Certification and compliance checks | D71: Service | E71: 1 | G71: =E71*F71 -> 0
A72: I3 | B72: Other Disbursements and Costs | G72: =E72*F72 -> 0
A73: Subtotal I | B73: Roadworthiness Compliance | G73: =SUM(G70:G72) -> 0
A74: 10. Body Structure Repairs
A75: Item | B75: Description | D75: Unit | E75: Qty | F75: Unit Prize | G75: Amount (ZAR)
A76: J1 | B76: Spray painting | D76: m² | E76: 1 | G76: =E76*F76 -> 0
A77: J2 | B77: Structural body repairs | D77: Job | E77: 1 | G77: =E77*F77 -> 0
A78: J3 | B78: Other Disbursements and Costs | G78: =E78*F78 -> 0
A79: Subtotal J | B79: Body Structure Repairs | G79: =SUM(G76:G78) -> 0
A82: Total Cost for Fleet Maintenance
A84: Description | C84: Amount (ZAR)
A85: Subtotal A | C85: =G22 -> 0
A86: Subtotal B | C86: =G29 -> 0
A87: Subtotal C | C87: =G36 -> 0
A88: Subtotal D | C88: =G42 -> 0
A89: Subtotal E | C89: =G48 -> 0
A90: Subtotal F | C90: =G54 -> 0
A91: Subtotal G | C91: =G61 -> 0
A92: Subtotal H | C92: =G67 -> 0
A93: Subtotal I | C93: =G73 -> 0
A94: Subtotal J | C94: =G79 -> 0
A95: Total Excluding VAT | C95: =SUM(C85:C94) -> 0
A96: VAT (15%) | C96: =C95*15% -> 0
A97: Total Including VAT | C97: =SUM(C95:C96) -> 0
A99: Declaration by Bidder
A101: I/We certify that the pricing submitted above includes all labour, equipment, materials, consumables, transport, supervision, spare parts, testing, commissioning, warranties, and all costs necessary to perform the maintenance services as specified.
A103: Authorised Representative:
A104: Signature:
A105: Date:

Sheet UD Croner
A2: PRICING SCHEDULE – Fleet Maintenance – UD Croner (2019 Model)
A4: The Bidder must note that the fixed pricing schedule per fleet maintenance category will be used, whilst separately providing for unforeseen repairs and replacement parts identified during the assessment phase. This will ensure that the bidders will price consistently and enables effective evaluation of bids. This Prices MUST include all the costs of Labour, Material and overheads such as disbursements.
A6: Tenderer Details
A8: Description | C8: Information
A9: Bidder Name
A10: Contact Person
A11: Contact Number
A12: Email Address
A13: VAT Registration Number
A15: Schedule A:
A17: 1. PREVENTATIVE MAINTENANCE AND SERVICING
A18: Item | B18: Description | D18: Unit | E18: Qty | F18: Unit Price (ZAR) | G18: Total Price (ZAR)
A19: A1 | B19: Scheduled inspections & servicing (per vehicle) | D19: Service | E19: 1 | G19: =E19*F19 -> 0
A20: A2 | B20: Preventative maintenance (fluid checks, lubrication, filter replacement) | D20: Service | E20: 1 | G20: =E20*F20 -> 0
A21: A3 | B21: Other Disbursements and Costs | G21: =E21*F21 -> 0
A22: Subtotal A | B22: Preventative Maintenance and Servicing | G22: =SUM(G19:G21) -> 0
A23: 2. MECHANICAL REPAIRS
A24: Item | B24: Description | D24: Unit | E24: Qty | F24: Unit Price (ZAR) | G24: Total Price (ZAR)
A25: B1 | B25: Engine diagnostics & repairs | D25: Hour | E25: 1 | G25: =E25*F25 -> 0
A26: B2 | B26: Transmission repairs (fluid changes, clutch replacement, rebuilds) | D26: Job | E26: 1 | G26: =E26*F26 -> 0
A27: B3 | B27: Suspension & steering repairs (shocks, struts, ball joints, tie rods) | D27: Job | E27: 1 | G27: =E27*F27 -> 0
A28: B4 | B28: Other Disbursements and Costs | G28: =E28*F28 -> 0
A29: Subtotal B | B29: Mechanical Repairs | G29: =SUM(G25:G28) -> 0
A30: 3. ELECTRICAL SYSTEMS
A31: Item | B31: Description | D31: Unit | E31: Qty | F31: Unit Price (ZAR) | G31: Total Price (ZAR)
A32: C1 | B32: Electrical diagnostics (modern equipment) | D32: Hour | E32: 1 | G32: =E32*F32 -> 0
A33: C2 | B33: Alternator, starter, wiring repairs | D33: Job | E33: 1 | G33: =E33*F33 -> 0
A34: C3 | B34: Battery testing & replacement | D34: No. | E34: 1 | G34: =E34*F34 -> 0
A35: C4 | B35: Other Disbursements and Costs | G35: =E35*F35 -> 0
A36: Subtotal C | B36: Electrical Systems | G36: =SUM(G32:G35) -> 0
A37: 4. BRAKE SYSTEMS
A38: Item | B38: Description | D38: Unit | E38: Qty | F38: Unit Prize | G38: Amount (ZAR)
A39: D1 | B39: Brake inspections (pads, rotors, calipers) | D39: Service | E39: 1 | G39: =E39*F39 -> 0
A40: D2 | B40: Brake component replacement | D40: Job | E40: 1 | G40: =E40*F40 -> 0
A41: D3 | B41: Other Disbursements and Costs | G41: =E41*F41 -> 0
A42: Subtotal D | B42: Brake Systems | G42: =SUM(G39:G41) -> 0
A43: 5. COOLING AND AIR CONDITIONING SYSTEMS
A44: Item | B44: Description | D44: Unit | E44: Qty | F44: Unit Prize | G44: Amount (ZAR)
A45: E1 | B45: Cooling system repairs | D45: Job | E45: 1 | G45: =E45*F45 -> 0
A46: E2 | B46: Air conditioning servicing & repairs | D46: Job | E46: 1 | G46: =E46*F46 -> 0
A47: E3 | B47: Other Disbursements and Costs | G47: =E47*F47 -> 0
A48: Subtotal E | B48: Cooling and Air Conditioning Systems | G48: =SUM(G45:G47) -> 0
A49: 6. EXHAUST SYSTEMS
A50: Item | B50: Description | D50: Unit | E50: Qty | F50: Unit Prize | G50: Amount (ZAR)
A51: F1 | B51: Leak detection and repairs | D51: Job | E51: 1 | G51: =E51*F51 -> 0
A52: F2 | B52: Muffler and catalytic converter replacement | D52: No. | E52: 1 | G52: =E52*F52 -> 0
A53: F3 | B53: Other Disbursements and Costs | G53: =E53*F53 -> 0
A54: Subtotal F | B54: Exhaust Systems | G54: =SUM(G51:G53) -> 0
A55: 7. TYRE SERVICES
A56: Item | B56: Description | D56: Unit | E56: Qty | F56: Unit Prize | G56: Amount (ZAR)
A57: G1 | B57: Tyre fitment and replacement | D57: No. | E57: 1 | G57: =E57*F57 -> 0
A58: G2 | B58: Balancing and alignment | D58: Service | E58: 1 | G58: =E58*F58 -> 0
A59: G3 | B59: Rotation and pressure checks | D59: Service | E59: 1 | G59: =E59*F59 -> 0
A60: G4 | B60: Other Disbursements and Costs | G60: =E60*F60 -> 0
A61: Subtotal G | B61: Tyre Services | G61: =SUM(G57:G60) -> 0
A62: 8. BREAKDOWN AND EMERGENCY RESPONSE
A63: Item | B63: Description | D63: Unit | E63: Qty | F63: Unit Prize | G63: Amount (ZAR)
A64: H1 | B64: On‑site breakdown response (airside & landside) | D64: Call-out | E64: 1 | G64: =E64*F64 -> 0
A65: H2 | B65: Recovery services | D65: Job | E65: 1 | G65: =E65*F65 -> 0
A66: H3 | B66: Other Disbursements and Costs | G66: =E66*F66 -> 0
A67: Subtotal H | B67: Breakdown and Emergency Response | G67: =SUM(G64:G66) -> 0
A68: 9. ROADWORTHINESS COMPLIANCE
A69: Item | B69: Description | D69: Unit | E69: Qty | F69: Unit Prize | G69: Amount (ZAR)
A70: I1 | B70: Roadworthy inspections | D70: Service | E70: 1 | G70: =E70*F70 -> 0
A71: I2 | B71: Certification and compliance checks | D71: Service | E71: 1 | G71: =E71*F71 -> 0
A72: I3 | B72: Other Disbursements and Costs | G72: =E72*F72 -> 0
A73: Subtotal I | B73: Roadworthiness Compliance | G73: =SUM(G70:G72) -> 0
A74: 10. Body Structure Repairs
A75: Item | B75: Description | D75: Unit | E75: Qty | F75: Unit Prize | G75: Amount (ZAR)
A76: J1 | B76: Spray painting | D76: m² | E76: 1 | G76: =E76*F76 -> 0
A77: J2 | B77: Structural body repairs | D77: Job | E77: 1 | G77: =E77*F77 -> 0
A78: J3 | B78: Other Disbursements and Costs | G78: =E78*F78 -> 0
A79: Subtotal J | B79: Body Structure Repairs | G79: =SUM(G76:G78) -> 0
A82: Total Cost for Fleet Maintenance
A84: Description | C84: Amount (ZAR)
A85: Subtotal A | C85: =G22 -> 0
A86: Subtotal B | C86: =G29 -> 0
A87: Subtotal C | C87: =G36 -> 0
A88: Subtotal D | C88: =G42 -> 0
A89: Subtotal E | C89: =G48 -> 0
A90: Subtotal F | C90: =G54 -> 0
A91: Subtotal G | C91: =G61 -> 0
A92: Subtotal H | C92: =G67 -> 0
A93: Subtotal I | C93: =G73 -> 0
A94: Subtotal J | C94: =G79 -> 0
A95: Total Excluding VAT | C95: =SUM(C85:C94) -> 0
A96: VAT (15%) | C96: =C95*15% -> 0
A97: Total Including VAT | C97: =SUM(C95:C96) -> 0
A99: Declaration by Bidder
A101: I/We certify that the pricing submitted above includes all labour, equipment, materials, consumables, transport, supervision, spare parts, testing, commissioning, warranties, and all costs necessary to perform the maintenance services as specified.
A103: Authorised Representative:
A104: Signature:
A105: Date:

Sheet Ford Bantam 1.3i
A2: PRICING SCHEDULE – Fleet Maintenance – Ford Bantam 1.3i (2003 Model)
A4: The Bidder must note that the fixed pricing schedule per fleet maintenance category will be used, whilst separately providing for unforeseen repairs and replacement parts identified during the assessment phase. This will ensure that the bidders will price consistently and enables effective evaluation of bids. This Prices MUST include all the costs of Labour, Material and overheads such as disbursements.
A6: Tenderer Details
A8: Description | C8: Information
A9: Bidder Name
A10: Contact Person
A11: Contact Number
A12: Email Address
A13: VAT Registration Number
A15: Schedule A:
A17: 1. PREVENTATIVE MAINTENANCE AND SERVICING
A18: Item | B18: Description | D18: Unit | E18: Qty | F18: Unit Price (ZAR) | G18: Total Price (ZAR)
A19: A1 | B19: Scheduled inspections & servicing (per vehicle) | D19: Service | E19: 1 | G19: =E19*F19 -> 0
A20: A2 | B20: Preventative maintenance (fluid checks, lubrication, filter replacement) | D20: Service | E20: 1 | G20: =E20*F20 -> 0
A21: A3 | B21: Other Disbursements and Costs | G21: =E21*F21 -> 0
A22: Subtotal A | B22: Preventative Maintenance and Servicing | G22: =SUM(G19:G21) -> 0
A23: 2. MECHANICAL REPAIRS
A24: Item | B24: Description | D24: Unit | E24: Qty | F24: Unit Price (ZAR) | G24: Total Price (ZAR)
A25: B1 | B25: Engine diagnostics & repairs | D25: Hour | E25: 1 | G25: =E25*F25 -> 0
A26: B2 | B26: Transmission repairs (fluid changes, clutch replacement, rebuilds) | D26: Job | E26: 1 | G26: =E26*F26 -> 0
A27: B3 | B27: Suspension & steering repairs (shocks, struts, ball joints, tie rods) | D27: Job | E27: 1 | G27: =E27*F27 -> 0
A28: B4 | B28: Other Disbursements and Costs | G28: =E28*F28 -> 0
A29: Subtotal B | B29: Mechanical Repairs | G29: =SUM(G25:G28) -> 0
A30: 3. ELECTRICAL SYSTEMS
A31: Item | B31: Description | D31: Unit | E31: Qty | F31: Unit Price (ZAR) | G31: Total Price (ZAR)
A32: C1 | B32: Electrical diagnostics (modern equipment) | D32: Hour | E32: 1 | G32: =E32*F32 -> 0
A33: C2 | B33: Alternator, starter, wiring repairs | D33: Job | E33: 1 | G33: =E33*F33 -> 0
A34: C3 | B34: Battery testing & replacement | D34: No. | E34: 1 | G34: =E34*F34 -> 0
A35: C4 | B35: Other Disbursements and Costs | G35: =E35*F35 -> 0
A36: Subtotal C | B36: Electrical Systems | G36: =SUM(G32:G35) -> 0
A37: 4. BRAKE SYSTEMS
A38: Item | B38: Description | D38: Unit | E38: Qty | F38: Unit Prize | G38: Amount (ZAR)
A39: D1 | B39: Brake inspections (pads, rotors, calipers) | D39: Service | E39: 1 | G39: =E39*F39 -> 0
A40: D2 | B40: Brake component replacement | D40: Job | E40: 1 | G40: =E40*F40 -> 0
A41: D3 | B41: Other Disbursements and Costs | G41: =E41*F41 -> 0
A42: Subtotal D | B42: Brake Systems | G42: =SUM(G39:G41) -> 0
A43: 5. COOLING AND AIR CONDITIONING SYSTEMS
A44: Item | B44: Description | D44: Unit | E44: Qty | F44: Unit Prize | G44: Amount (ZAR)
A45: E1 | B45: Cooling system repairs | D45: Job | E45: 1 | G45: =E45*F45 -> 0
A46: E2 | B46: Air conditioning servicing & repairs | D46: Job | E46: 1 | G46: =E46*F46 -> 0
A47: E3 | B47: Other Disbursements and Costs | G47: =E47*F47 -> 0
A48: Subtotal E | B48: Cooling and Air Conditioning Systems | G48: =SUM(G45:G47) -> 0
A49: 6. EXHAUST SYSTEMS
A50: Item | B50: Description | D50: Unit | E50: Qty | F50: Unit Prize | G50: Amount (ZAR)
A51: F1 | B51: Leak detection and repairs | D51: Job | E51: 1 | G51: =E51*F51 -> 0
A52: F2 | B52: Muffler and catalytic converter replacement | D52: No. | E52: 1 | G52: =E52*F52 -> 0
A53: F3 | B53: Other Disbursements and Costs | G53: =E53*F53 -> 0
A54: Subtotal F | B54: Exhaust Systems | G54: =SUM(G51:G53) -> 0
A55: 7. TYRE SERVICES
A56: Item | B56: Description | D56: Unit | E56: Qty | F56: Unit Prize | G56: Amount (ZAR)
A57: G1 | B57: Tyre fitment and replacement | D57: No. | E57: 1 | G57: =E57*F57 -> 0
A58: G2 | B58: Balancing and alignment | D58: Service | E58: 1 | G58: =E58*F58 -> 0
A59: G3 | B59: Rotation and pressure checks | D59: Service | E59: 1 | G59: =E59*F59 -> 0
A60: G4 | B60: Other Disbursements and Costs | G60: =E60*F60 -> 0
A61: Subtotal G | B61: Tyre Services | G61: =SUM(G57:G60) -> 0
A62: 8. BREAKDOWN AND EMERGENCY RESPONSE
A63: Item | B63: Description | D63: Unit | E63: Qty | F63: Unit Prize | G63: Amount (ZAR)
A64: H1 | B64: On‑site breakdown response (airside & landside) | D64: Call-out | E64: 1 | G64: =E64*F64 -> 0
A65: H2 | B65: Recovery services | D65: Job | E65: 1 | G65: =E65*F65 -> 0
A66: H3 | B66: Other Disbursements and Costs | G66: =E66*F66 -> 0
A67: Subtotal H | B67: Breakdown and Emergency Response | G67: =SUM(G64:G66) -> 0
A68: 9. ROADWORTHINESS COMPLIANCE
A69: Item | B69: Description | D69: Unit | E69: Qty | F69: Unit Prize | G69: Amount (ZAR)
A70: I1 | B70: Roadworthy inspections | D70: Service | E70: 1 | G70: =E70*F70 -> 0
A71: I2 | B71: Certification and compliance checks | D71: Service | E71: 1 | G71: =E71*F71 -> 0
A72: I3 | B72: Other Disbursements and Costs | G72: =E72*F72 -> 0
A73: Subtotal I | B73: Roadworthiness Compliance | G73: =SUM(G70:G72) -> 0
A74: 10. Body Structure Repairs
A75: Item | B75: Description | D75: Unit | E75: Qty | F75: Unit Prize | G75: Amount (ZAR)
A76: J1 | B76: Spray painting | D76: m² | E76: 1 | G76: =E76*F76 -> 0
A77: J2 | B77: Structural body repairs | D77: Job | E77: 1 | G77: =E77*F77 -> 0
A78: J3 | B78: Other Disbursements and Costs | G78: =E78*F78 -> 0
A79: Subtotal J | B79: Body Structure Repairs | G79: =SUM(G76:G78) -> 0
A82: Total Cost for Fleet Maintenance
A84: Description | C84: Amount (ZAR)
A85: Subtotal A | C85: =G22 -> 0
A86: Subtotal B | C86: =G29 -> 0
A87: Subtotal C | C87: =G36 -> 0
A88: Subtotal D | C88: =G42 -> 0
A89: Subtotal E | C89: =G48 -> 0
A90: Subtotal F | C90: =G54 -> 0
A91: Subtotal G | C91: =G61 -> 0
A92: Subtotal H | C92: =G67 -> 0
A93: Subtotal I | C93: =G73 -> 0
A94: Subtotal J | C94: =G79 -> 0
A95: Total Excluding VAT | C95: =SUM(C85:C94) -> 0
A96: VAT (15%) | C96: =C95*15% -> 0
A97: Total Including VAT | C97: =SUM(C95:C96) -> 0
A99: Declaration by Bidder
A101: I/We certify that the pricing submitted above includes all labour, equipment, materials, consumables, transport, supervision, spare parts, testing, commissioning, warranties, and all costs necessary to perform the maintenance services as specified.
A103: Authorised Representative:
A104: Signature:
A105: Date:

Sheet Hyundai H1
A2: PRICING SCHEDULE – Fleet Maintenance – Hyundai H1 (2019 Model)
A4: The Bidder must note that the fixed pricing schedule per fleet maintenance category will be used, whilst separately providing for unforeseen repairs and replacement parts identified during the assessment phase. This will ensure that the bidders will price consistently and enables effective evaluation of bids. This Prices MUST include all the costs of Labour, Material and overheads such as disbursements.
A6: Tenderer Details
A8: Description | C8: Information
A9: Bidder Name
A10: Contact Person
A11: Contact Number
A12: Email Address
A13: VAT Registration Number
A15: Schedule A:
A17: 1. PREVENTATIVE MAINTENANCE AND SERVICING
A18: Item | B18: Description | D18: Unit | E18: Qty | F18: Unit Price (ZAR) | G18: Total Price (ZAR)
A19: A1 | B19: Scheduled inspections & servicing (per vehicle) | D19: Service | E19: 1 | G19: =E19*F19 -> 0
A20: A2 | B20: Preventative maintenance (fluid checks, lubrication, filter replacement) | D20: Service | E20: 1 | G20: =E20*F20 -> 0
A21: A3 | B21: Other Disbursements and Costs | G21: =E21*F21 -> 0
A22: Subtotal A | B22: Preventative Maintenance and Servicing | G22: =SUM(G19:G21) -> 0
A23: 2. MECHANICAL REPAIRS
A24: Item | B24: Description | D24: Unit | E24: Qty | F24: Unit Price (ZAR) | G24: Total Price (ZAR)
A25: B1 | B25: Engine diagnostics & repairs | D25: Hour | E25: 1 | G25: =E25*F25 -> 0
A26: B2 | B26: Transmission repairs (fluid changes, clutch replacement, rebuilds) | D26: Job | E26: 1 | G26: =E26*F26 -> 0
A27: B3 | B27: Suspension & steering repairs (shocks, struts, ball joints, tie rods) | D27: Job | E27: 1 | G27: =E27*F27 -> 0
A28: B4 | B28: Other Disbursements and Costs | G28: =E28*F28 -> 0
A29: Subtotal B | B29: Mechanical Repairs | G29: =SUM(G25:G28) -> 0
A30: 3. ELECTRICAL SYSTEMS
A31: Item | B31: Description | D31: Unit | E31: Qty | F31: Unit Price (ZAR) | G31: Total Price (ZAR)
A32: C1 | B32: Electrical diagnostics (modern equipment) | D32: Hour | E32: 1 | G32: =E32*F32 -> 0
A33: C2 | B33: Alternator, starter, wiring repairs | D33: Job | E33: 1 | G33: =E33*F33 -> 0
A34: C3 | B34: Battery testing & replacement | D34: No. | E34: 1 | G34: =E34*F34 -> 0
A35: C4 | B35: Other Disbursements and Costs | G35: =E35*F35 -> 0
A36: Subtotal C | B36: Electrical Systems | G36: =SUM(G32:G35) -> 0
A37: 4. BRAKE SYSTEMS
A38: Item | B38: Description | D38: Unit | E38: Qty | F38: Unit Prize | G38: Amount (ZAR)
A39: D1 | B39: Brake inspections (pads, rotors, calipers) | D39: Service | E39: 1 | G39: =E39*F39 -> 0
A40: D2 | B40: Brake component replacement | D40: Job | E40: 1 | G40: =E40*F40 -> 0
A41: D3 | B41: Other Disbursements and Costs | G41: =E41*F41 -> 0
A42: Subtotal D | B42: Brake Systems | G42: =SUM(G39:G41) -> 0
A43: 5. COOLING AND AIR CONDITIONING SYSTEMS
A44: Item | B44: Description | D44: Unit | E44: Qty | F44: Unit Prize | G44: Amount (ZAR)
A45: E1 | B45: Cooling system repairs | D45: Job | E45: 1 | G45: =E45*F45 -> 0
A46: E2 | B46: Air conditioning servicing & repairs | D46: Job | E46: 1 | G46: =E46*F46 -> 0
A47: E3 | B47: Other Disbursements and Costs | G47: =E47*F47 -> 0
A48: Subtotal E | B48: Cooling and Air Conditioning Systems | G48: =SUM(G45:G47) -> 0
A49: 6. EXHAUST SYSTEMS
A50: Item | B50: Description | D50: Unit | E50: Qty | F50: Unit Prize | G50: Amount (ZAR)
A51: F1 | B51: Leak detection and repairs | D51: Job | E51: 1 | G51: =E51*F51 -> 0
A52: F2 | B52: Muffler and catalytic converter replacement | D52: No. | E52: 1 | G52: =E52*F52 -> 0
A53: F3 | B53: Other Disbursements and Costs | G53: =E53*F53 -> 0
A54: Subtotal F | B54: Exhaust Systems | G54: =SUM(G51:G53) -> 0
A55: 7. TYRE SERVICES
A56: Item | B56: Description | D56: Unit | E56: Qty | F56: Unit Prize | G56: Amount (ZAR)
A57: G1 | B57: Tyre fitment and replacement | D57: No. | E57: 1 | G57: =E57*F57 -> 0
A58: G2 | B58: Balancing and alignment | D58: Service | E58: 1 | G58: =E58*F58 -> 0
A59: G3 | B59: Rotation and pressure checks | D59: Service | E59: 1 | G59: =E59*F59 -> 0
A60: G4 | B60: Other Disbursements and Costs | G60: =E60*F60 -> 0
A61: Subtotal G | B61: Tyre Services | G61: =SUM(G57:G60) -> 0
A62: 8. BREAKDOWN AND EMERGENCY RESPONSE
A63: Item | B63: Description | D63: Unit | E63: Qty | F63: Unit Prize | G63: Amount (ZAR)
A64: H1 | B64: On‑site breakdown response (airside & landside) | D64: Call-out | E64: 1 | G64: =E64*F64 -> 0
A65: H2 | B65: Recovery services | D65: Job | E65: 1 | G65: =E65*F65 -> 0
A66: H3 | B66: Other Disbursements and Costs | G66: =E66*F66 -> 0
A67: Subtotal H | B67: Breakdown and Emergency Response | G67: =SUM(G64:G66) -> 0
A68: 9. ROADWORTHINESS COMPLIANCE
A69: Item | B69: Description | D69: Unit | E69: Qty | F69: Unit Prize | G69: Amount (ZAR)
A70: I1 | B70: Roadworthy inspections | D70: Service | E70: 1 | G70: =E70*F70 -> 0
A71: I2 | B71: Certification and compliance checks | D71: Service | E71: 1 | G71: =E71*F71 -> 0
A72: I3 | B72: Other Disbursements and Costs | G72: =E72*F72 -> 0
A73: Subtotal I | B73: Roadworthiness Compliance | G73: =SUM(G70:G72) -> 0
A74: 10. Body Structure Repairs
A75: Item | B75: Description | D75: Unit | E75: Qty | F75: Unit Prize | G75: Amount (ZAR)
A76: J1 | B76: Spray painting | D76: m² | E76: 1 | G76: =E76*F76 -> 0
A77: J2 | B77: Structural body repairs | D77: Job | E77: 1 | G77: =E77*F77 -> 0
A78: J3 | B78: Other Disbursements and Costs | G78: =E78*F78 -> 0
A79: Subtotal J | B79: Body Structure Repairs | G79: =SUM(G76:G78) -> 0
A82: Total Cost for Fleet Maintenance
A84: Description | C84: Amount (ZAR)
A85: Subtotal A | C85: =G22 -> 0
A86: Subtotal B | C86: =G29 -> 0
A87: Subtotal C | C87: =G36 -> 0
A88: Subtotal D | C88: =G42 -> 0
A89: Subtotal E | C89: =G48 -> 0
A90: Subtotal F | C90: =G54 -> 0
A91: Subtotal G | C91: =G61 -> 0
A92: Subtotal H | C92: =G67 -> 0
A93: Subtotal I | C93: =G73 -> 0
A94: Subtotal J | C94: =G79 -> 0
A95: Total Excluding VAT | C95: =SUM(C85:C94) -> 0
A96: VAT (15%) | C96: =C95*15% -> 0
A97: Total Including VAT | C97: =SUM(C95:C96) -> 0
A99: Declaration by Bidder
A101: I/We certify that the pricing submitted above includes all labour, equipment, materials, consumables, transport, supervision, spare parts, testing, commissioning, warranties, and all costs necessary to perform the maintenance services as specified.
A103: Authorised Representative:
A104: Signature:
A105: Date:

Sheet Isuzu F-Series - 2024
A2: PRICING SCHEDULE – Fleet Maintenance – Isuzu F-Series (2024 Model)
A4: The Bidder must note that the fixed pricing schedule per fleet maintenance category will be used, whilst separately providing for unforeseen repairs and replacement parts identified during the assessment phase. This will ensure that the bidders will price consistently and enables effective evaluation of bids. This Prices MUST include all the costs of Labour, Material and overheads such as disbursements.
A6: Tenderer Details
A8: Description | C8: Information
A9: Bidder Name
A10: Contact Person
A11: Contact Number
A12: Email Address
A13: VAT Registration Number
A15: Schedule A:
A17: 1. PREVENTATIVE MAINTENANCE AND SERVICING
A18: Item | B18: Description | D18: Unit | E18: Qty | F18: Unit Price (ZAR) | G18: Total Price (ZAR)
A19: A1 | B19: Scheduled inspections & servicing (per vehicle) | D19: Service | E19: 1 | G19: =E19*F19 -> 0
A20: A2 | B20: Preventative maintenance (fluid checks, lubrication, filter replacement) | D20: Service | E20: 1 | G20: =E20*F20 -> 0
A21: A3 | B21: Other Disbursements and Costs | G21: =E21*F21 -> 0
A22: Subtotal A | B22: Preventative Maintenance and Servicing | G22: =SUM(G19:G21) -> 0
A23: 2. MECHANICAL REPAIRS
A24: Item | B24: Description | D24: Unit | E24: Qty | F24: Unit Price (ZAR) | G24: Total Price (ZAR)
A25: B1 | B25: Engine diagnostics & repairs | D25: Hour | E25: 1 | G25: =E25*F25 -> 0
A26: B2 | B26: Transmission repairs (fluid changes, clutch replacement, rebuilds) | D26: Job | E26: 1 | G26: =E26*F26 -> 0
A27: B3 | B27: Suspension & steering repairs (shocks, struts, ball joints, tie rods) | D27: Job | E27: 1 | G27: =E27*F27 -> 0
A28: B4 | B28: Other Disbursements and Costs | G28: =E28*F28 -> 0
A29: Subtotal B | B29: Mechanical Repairs | G29: =SUM(G25:G28) -> 0
A30: 3. ELECTRICAL SYSTEMS
A31: Item | B31: Description | D31: Unit | E31: Qty | F31: Unit Price (ZAR) | G31: Total Price (ZAR)
A32: C1 | B32: Electrical diagnostics (modern equipment) | D32: Hour | E32: 1 | G32: =E32*F32 -> 0
A33: C2 | B33: Alternator, starter, wiring repairs | D33: Job | E33: 1 | G33: =E33*F33 -> 0
A34: C3 | B34: Battery testing & replacement | D34: No. | E34: 1 | G34: =E34*F34 -> 0
A35: C4 | B35: Other Disbursements and Costs | G35: =E35*F35 -> 0
A36: Subtotal C | B36: Electrical Systems | G36: =SUM(G32:G35) -> 0
A37: 4. BRAKE SYSTEMS
A38: Item | B38: Description | D38: Unit | E38: Qty | F38: Unit Prize | G38: Amount (ZAR)
A39: D1 | B39: Brake inspections (pads, rotors, calipers) | D39: Service | E39: 1 | G39: =E39*F39 -> 0
A40: D2 | B40: Brake component replacement | D40: Job | E40: 1 | G40: =E40*F40 -> 0
A41: D3 | B41: Other Disbursements and Costs | G41: =E41*F41 -> 0
A42: Subtotal D | B42: Brake Systems | G42: =SUM(G39:G41) -> 0
A43: 5. COOLING AND AIR CONDITIONING SYSTEMS
A44: Item | B44: Description | D44: Unit | E44: Qty | F44: Unit Prize | G44: Amount (ZAR)
A45: E1 | B45: Cooling system repairs | D45: Job | E45: 1 | G45: =E45*F45 -> 0
A46: E2 | B46: Air conditioning servicing & repairs | D46: Job | E46: 1 | G46: =E46*F46 -> 0
A47: E3 | B47: Other Disbursements and Costs | G47: =E47*F47 -> 0
A48: Subtotal E | B48: Cooling and Air Conditioning Systems | G48: =SUM(G45:G47) -> 0
A49: 6. EXHAUST SYSTEMS
A50: Item | B50: Description | D50: Unit | E50: Qty | F50: Unit Prize | G50: Amount (ZAR)
A51: F1 | B51: Leak detection and repairs | D51: Job | E51: 1 | G51: =E51*F51 -> 0
A52: F2 | B52: Muffler and catalytic converter replacement | D52: No. | E52: 1 | G52: =E52*F52 -> 0
A53: F3 | B53: Other Disbursements and Costs | G53: =E53*F53 -> 0
A54: Subtotal F | B54: Exhaust Systems | G54: =SUM(G51:G53) -> 0
A55: 7. TYRE SERVICES
A56: Item | B56: Description | D56: Unit | E56: Qty | F56: Unit Prize | G56: Amount (ZAR)
A57: G1 | B57: Tyre fitment and replacement | D57: No. | E57: 1 | G57: =E57*F57 -> 0
A58: G2 | B58: Balancing and alignment | D58: Service | E58: 1 | G58: =E58*F58 -> 0
A59: G3 | B59: Rotation and pressure checks | D59: Service | E59: 1 | G59: =E59*F59 -> 0
A60: G4 | B60: Other Disbursements and Costs | G60: =E60*F60 -> 0
A61: Subtotal G | B61: Tyre Services | G61: =SUM(G57:G60) -> 0
A62: 8. BREAKDOWN AND EMERGENCY RESPONSE
A63: Item | B63: Description | D63: Unit | E63: Qty | F63: Unit Prize | G63: Amount (ZAR)
A64: H1 | B64: On‑site breakdown response (airside & landside) | D64: Call-out | E64: 1 | G64: =E64*F64 -> 0
A65: H2 | B65: Recovery services | D65: Job | E65: 1 | G65: =E65*F65 -> 0
A66: H3 | B66: Other Disbursements and Costs | G66: =E66*F66 -> 0
A67: Subtotal H | B67: Breakdown and Emergency Response | G67: =SUM(G64:G66) -> 0
A68: 9. ROADWORTHINESS COMPLIANCE
A69: Item | B69: Description | D69: Unit | E69: Qty | F69: Unit Prize | G69: Amount (ZAR)
A70: I1 | B70: Roadworthy inspections | D70: Service | E70: 1 | G70: =E70*F70 -> 0
A71: I2 | B71: Certification and compliance checks | D71: Service | E71: 1 | G71: =E71*F71 -> 0
A72: I3 | B72: Other Disbursements and Costs | G72: =E72*F72 -> 0
A73: Subtotal I | B73: Roadworthiness Compliance | G73: =SUM(G70:G72) -> 0
A74: 10. Body Structure Repairs
A75: Item | B75: Description | D75: Unit | E75: Qty | F75: Unit Prize | G75: Amount (ZAR)
A76: J1 | B76: Spray painting | D76: m² | E76: 1 | G76: =E76*F76 -> 0
A77: J2 | B77: Structural body repairs | D77: Job | E77: 1 | G77: =E77*F77 -> 0
A78: J3 | B78: Other Disbursements and Costs | G78: =E78*F78 -> 0
A79: Subtotal J | B79: Body Structure Repairs | G79: =SUM(G76:G78) -> 0
A82: Total Cost for Fleet Maintenance
A84: Description | C84: Amount (ZAR)
A85: Subtotal A | C85: =G22 -> 0
A86: Subtotal B | C86: =G29 -> 0
A87: Subtotal C | C87: =G36 -> 0
A88: Subtotal D | C88: =G42 -> 0
A89: Subtotal E | C89: =G48 -> 0
A90: Subtotal F | C90: =G54 -> 0
A91: Subtotal G | C91: =G61 -> 0
A92: Subtotal H | C92: =G67 -> 0
A93: Subtotal I | C93: =G73 -> 0
A94: Subtotal J | C94: =G79 -> 0
A95: Total Excluding VAT | C95: =SUM(C85:C94) -> 0
A96: VAT (15%) | C96: =C95*15% -> 0
A97: Total Including VAT | C97: =SUM(C95:C96) -> 0
A99: Declaration by Bidder
A101: I/We certify that the pricing submitted above includes all labour, equipment, materials, consumables, transport, supervision, spare parts, testing, commissioning, warranties, and all costs necessary to perform the maintenance services as specified.
A103: Authorised Representative:
A104: Signature:
A105: Date:

Sheet Isuzu F-Series - 2025
A2: PRICING SCHEDULE – Fleet Maintenance – Isuzu F-Series (2025 Model)
A4: The Bidder must note that the fixed pricing schedule per fleet maintenance category will be used, whilst separately providing for unforeseen repairs and replacement parts identified during the assessment phase. This will ensure that the bidders will price consistently and enables effective evaluation of bids. This Prices MUST include all the costs of Labour, Material and overheads such as disbursements.
A6: Tenderer Details
A8: Description | C8: Information
A9: Bidder Name
A10: Contact Person
A11: Contact Number
A12: Email Address
A13: VAT Registration Number
A15: Schedule A:
A17: 1. PREVENTATIVE MAINTENANCE AND SERVICING
A18: Item | B18: Description | D18: Unit | E18: Qty | F18: Unit Price (ZAR) | G18: Total Price (ZAR)
A19: A1 | B19: Scheduled inspections & servicing (per vehicle) | D19: Service | E19: 1 | G19: =E19*F19 -> 0
A20: A2 | B20: Preventative maintenance (fluid checks, lubrication, filter replacement) | D20: Service | E20: 1 | G20: =E20*F20 -> 0
A21: A3 | B21: Other Disbursements and Costs | G21: =E21*F21 -> 0
A22: Subtotal A | B22: Preventative Maintenance and Servicing | G22: =SUM(G19:G21) -> 0
A23: 2. MECHANICAL REPAIRS
A24: Item | B24: Description | D24: Unit | E24: Qty | F24: Unit Price (ZAR) | G24: Total Price (ZAR)
A25: B1 | B25: Engine diagnostics & repairs | D25: Hour | E25: 1 | G25: =E25*F25 -> 0
A26: B2 | B26: Transmission repairs (fluid changes, clutch replacement, rebuilds) | D26: Job | E26: 1 | G26: =E26*F26 -> 0
A27: B3 | B27: Suspension & steering repairs (shocks, struts, ball joints, tie rods) | D27: Job | E27: 1 | G27: =E27*F27 -> 0
A28: B4 | B28: Other Disbursements and Costs | G28: =E28*F28 -> 0
A29: Subtotal B | B29: Mechanical Repairs | G29: =SUM(G25:G28) -> 0
A30: 3. ELECTRICAL SYSTEMS
A31: Item | B31: Description | D31: Unit | E31: Qty | F31: Unit Price (ZAR) | G31: Total Price (ZAR)
A32: C1 | B32: Electrical diagnostics (modern equipment) | D32: Hour | E32: 1 | G32: =E32*F32 -> 0
A33: C2 | B33: Alternator, starter, wiring repairs | D33: Job | E33: 1 | G33: =E33*F33 -> 0
A34: C3 | B34: Battery testing & replacement | D34: No. | E34: 1 | G34: =E34*F34 -> 0
A35: C4 | B35: Other Disbursements and Costs | G35: =E35*F35 -> 0
A36: Subtotal C | B36: Electrical Systems | G36: =SUM(G32:G35) -> 0
A37: 4. BRAKE SYSTEMS
A38: Item | B38: Description | D38: Unit | E38: Qty | F38: Unit Prize | G38: Amount (ZAR)
A39: D1 | B39: Brake inspections (pads, rotors, calipers) | D39: Service | E39: 1 | G39: =E39*F39 -> 0
A40: D2 | B40: Brake component replacement | D40: Job | E40: 1 | G40: =E40*F40 -> 0
A41: D3 | B41: Other Disbursements and Costs | G41: =E41*F41 -> 0
A42: Subtotal D | B42: Brake Systems | G42: =SUM(G39:G41) -> 0
A43: 5. COOLING AND AIR CONDITIONING SYSTEMS
A44: Item | B44: Description | D44: Unit | E44: Qty | F44: Unit Prize | G44: Amount (ZAR)
A45: E1 | B45: Cooling system repairs | D45: Job | E45: 1 | G45: =E45*F45 -> 0
A46: E2 | B46: Air conditioning servicing & repairs | D46: Job | E46: 1 | G46: =E46*F46 -> 0
A47: E3 | B47: Other Disbursements and Costs | G47: =E47*F47 -> 0
A48: Subtotal E | B48: Cooling and Air Conditioning Systems | G48: =SUM(G45:G47) -> 0
A49: 6. EXHAUST SYSTEMS
A50: Item | B50: Description | D50: Unit | E50: Qty | F50: Unit Prize | G50: Amount (ZAR)
A51: F1 | B51: Leak detection and repairs | D51: Job | E51: 1 | G51: =E51*F51 -> 0
A52: F2 | B52: Muffler and catalytic converter replacement | D52: No. | E52: 1 | G52: =E52*F52 -> 0
A53: F3 | B53: Other Disbursements and Costs | G53: =E53*F53 -> 0
A54: Subtotal F | B54: Exhaust Systems | G54: =SUM(G51:G53) -> 0
A55: 7. TYRE SERVICES
A56: Item | B56: Description | D56: Unit | E56: Qty | F56: Unit Prize | G56: Amount (ZAR)
A57: G1 | B57: Tyre fitment and replacement | D57: No. | E57: 1 | G57: =E57*F57 -> 0
A58: G2 | B58: Balancing and alignment | D58: Service | E58: 1 | G58: =E58*F58 -> 0
A59: G3 | B59: Rotation and pressure checks | D59: Service | E59: 1 | G59: =E59*F59 -> 0
A60: G4 | B60: Other Disbursements and Costs | G60: =E60*F60 -> 0
A61: Subtotal G | B61: Tyre Services | G61: =SUM(G57:G60) -> 0
A62: 8. BREAKDOWN AND EMERGENCY RESPONSE
A63: Item | B63: Description | D63: Unit | E63: Qty | F63: Unit Prize | G63: Amount (ZAR)
A64: H1 | B64: On‑site breakdown response (airside & landside) | D64: Call-out | E64: 1 | G64: =E64*F64 -> 0
A65: H2 | B65: Recovery services | D65: Job | E65: 1 | G65: =E65*F65 -> 0
A66: H3 | B66: Other Disbursements and Costs | G66: =E66*F66 -> 0
A67: Subtotal H | B67: Breakdown and Emergency Response | G67: =SUM(G64:G66) -> 0
A68: 9. ROADWORTHINESS COMPLIANCE
A69: Item | B69: Description | D69: Unit | E69: Qty | F69: Unit Prize | G69: Amount (ZAR)
A70: I1 | B70: Roadworthy inspections | D70: Service | E70: 1 | G70: =E70*F70 -> 0
A71: I2 | B71: Certification and compliance checks | D71: Service | E71: 1 | G71: =E71*F71 -> 0
A72: I3 | B72: Other Disbursements and Costs | G72: =E72*F72 -> 0
A73: Subtotal I | B73: Roadworthiness Compliance | G73: =SUM(G70:G72) -> 0
A74: 10. Body Structure Repairs
A75: Item | B75: Description | D75: Unit | E75: Qty | F75: Unit Prize | G75: Amount (ZAR)
A76: J1 | B76: Spray painting | D76: m² | E76: 1 | G76: =E76*F76 -> 0
A77: J2 | B77: Structural body repairs | D77: Job | E77: 1 | G77: =E77*F77 -> 0
A78: J3 | B78: Other Disbursements and Costs | G78: =E78*F78 -> 0
A79: Subtotal J | B79: Body Structure Repairs | G79: =SUM(G76:G78) -> 0
A82: Total Cost for Fleet Maintenance
A84: Description | C84: Amount (ZAR)
A85: Subtotal A | C85: =G22 -> 0
A86: Subtotal B | C86: =G29 -> 0
A87: Subtotal C | C87: =G36 -> 0
A88: Subtotal D | C88: =G42 -> 0
A89: Subtotal E | C89: =G48 -> 0
A90: Subtotal F | C90: =G54 -> 0
A91: Subtotal G | C91: =G61 -> 0
A92: Subtotal H | C92: =G67 -> 0
A93: Subtotal I | C93: =G73 -> 0
A94: Subtotal J | C94: =G79 -> 0
A95: Total Excluding VAT | C95: =SUM(C85:C94) -> 0
A96: VAT (15%) | C96: =C95*15% -> 0
A97: Total Including VAT | C97: =SUM(C95:C96) -> 0
A99: Declaration by Bidder
A101: I/We certify that the pricing submitted above includes all labour, equipment, materials, consumables, transport, supervision, spare parts, testing, commissioning, warranties, and all costs necessary to perform the maintenance services as specified.
A103: Authorised Representative:
A104: Signature:
A105: Date:

Sheet Isuzu KB 250
A2: PRICING SCHEDULE – Fleet Maintenance – Isuzu KB 250 (2017 Model)
A4: The Bidder must note that the fixed pricing schedule per fleet maintenance category will be used, whilst separately providing for unforeseen repairs and replacement parts identified during the assessment phase. This will ensure that the bidders will price consistently and enables effective evaluation of bids. This Prices MUST include all the costs of Labour, Material and overheads such as disbursements.
A6: Tenderer Details
A8: Description | C8: Information
A9: Bidder Name
A10: Contact Person
A11: Contact Number
A12: Email Address
A13: VAT Registration Number
A15: Schedule A:
A17: 1. PREVENTATIVE MAINTENANCE AND SERVICING
A18: Item | B18: Description | D18: Unit | E18: Qty | F18: Unit Price (ZAR) | G18: Total Price (ZAR)
A19: A1 | B19: Scheduled inspections & servicing (per vehicle) | D19: Service | E19: 1 | G19: =E19*F19 -> 0
A20: A2 | B20: Preventative maintenance (fluid checks, lubrication, filter replacement) | D20: Service | E20: 1 | G20: =E20*F20 -> 0
A21: A3 | B21: Other Disbursements and Costs | G21: =E21*F21 -> 0
A22: Subtotal A | B22: Preventative Maintenance and Servicing | G22: =SUM(G19:G21) -> 0
A23: 2. MECHANICAL REPAIRS
A24: Item | B24: Description | D24: Unit | E24: Qty | F24: Unit Price (ZAR) | G24: Total Price (ZAR)
A25: B1 | B25: Engine diagnostics & repairs | D25: Hour | E25: 1 | G25: =E25*F25 -> 0
A26: B2 | B26: Transmission repairs (fluid changes, clutch replacement, rebuilds) | D26: Job | E26: 1 | G26: =E26*F26 -> 0
A27: B3 | B27: Suspension & steering repairs (shocks, struts, ball joints, tie rods) | D27: Job | E27: 1 | G27: =E27*F27 -> 0
A28: B4 | B28: Other Disbursements and Costs | G28: =E28*F28 -> 0
A29: Subtotal B | B29: Mechanical Repairs | G29: =SUM(G25:G28) -> 0
A30: 3. ELECTRICAL SYSTEMS
A31: Item | B31: Description | D31: Unit | E31: Qty | F31: Unit Price (ZAR) | G31: Total Price (ZAR)
A32: C1 | B32: Electrical diagnostics (modern equipment) | D32: Hour | E32: 1 | G32: =E32*F32 -> 0
A33: C2 | B33: Alternator, starter, wiring repairs | D33: Job | E33: 1 | G33: =E33*F33 -> 0
A34: C3 | B34: Battery testing & replacement | D34: No. | E34: 1 | G34: =E34*F34 -> 0
A35: C4 | B35: Other Disbursements and Costs | G35: =E35*F35 -> 0
A36: Subtotal C | B36: Electrical Systems | G36: =SUM(G32:G35) -> 0
A37: 4. BRAKE SYSTEMS
A38: Item | B38: Description | D38: Unit | E38: Qty | F38: Unit Prize | G38: Amount (ZAR)
A39: D1 | B39: Brake inspections (pads, rotors, calipers) | D39: Service | E39: 1 | G39: =E39*F39 -> 0
A40: D2 | B40: Brake component replacement | D40: Job | E40: 1 | G40: =E40*F40 -> 0
A41: D3 | B41: Other Disbursements and Costs | G41: =E41*F41 -> 0
A42: Subtotal D | B42: Brake Systems | G42: =SUM(G39:G41) -> 0
A43: 5. COOLING AND AIR CONDITIONING SYSTEMS
A44: Item | B44: Description | D44: Unit | E44: Qty | F44: Unit Prize | G44: Amount (ZAR)
A45: E1 | B45: Cooling system repairs | D45: Job | E45: 1 | G45: =E45*F45 -> 0
A46: E2 | B46: Air conditioning servicing & repairs | D46: Job | E46: 1 | G46: =E46*F46 -> 0
A47: E3 | B47: Other Disbursements and Costs | G47: =E47*F47 -> 0
A48: Subtotal E | B48: Cooling and Air Conditioning Systems | G48: =SUM(G45:G47) -> 0
A49: 6. EXHAUST SYSTEMS
A50: Item | B50: Description | D50: Unit | E50: Qty | F50: Unit Prize | G50: Amount (ZAR)
A51: F1 | B51: Leak detection and repairs | D51: Job | E51: 1 | G51: =E51*F51 -> 0
A52: F2 | B52: Muffler and catalytic converter replacement | D52: No. | E52: 1 | G52: =E52*F52 -> 0
A53: F3 | B53: Other Disbursements and Costs | G53: =E53*F53 -> 0
A54: Subtotal F | B54: Exhaust Systems | G54: =SUM(G51:G53) -> 0
A55: 7. TYRE SERVICES
A56: Item | B56: Description | D56: Unit | E56: Qty | F56: Unit Prize | G56: Amount (ZAR)
A57: G1 | B57: Tyre fitment and replacement | D57: No. | E57: 1 | G57: =E57*F57 -> 0
A58: G2 | B58: Balancing and alignment | D58: Service | E58: 1 | G58: =E58*F58 -> 0
A59: G3 | B59: Rotation and pressure checks | D59: Service | E59: 1 | G59: =E59*F59 -> 0
A60: G4 | B60: Other Disbursements and Costs | G60: =E60*F60 -> 0
A61: Subtotal G | B61: Tyre Services | G61: =SUM(G57:G60) -> 0
A62: 8. BREAKDOWN AND EMERGENCY RESPONSE
A63: Item | B63: Description | D63: Unit | E63: Qty | F63: Unit Prize | G63: Amount (ZAR)
A64: H1 | B64: On‑site breakdown response (airside & landside) | D64: Call-out | E64: 1 | G64: =E64*F64 -> 0
A65: H2 | B65: Recovery services | D65: Job | E65: 1 | G65: =E65*F65 -> 0
A66: H3 | B66: Other Disbursements and Costs | G66: =E66*F66 -> 0
A67: Subtotal H | B67: Breakdown and Emergency Response | G67: =SUM(G64:G66) -> 0
A68: 9. ROADWORTHINESS COMPLIANCE
A69: Item | B69: Description | D69: Unit | E69: Qty | F69: Unit Prize | G69: Amount (ZAR)
A70: I1 | B70: Roadworthy inspections | D70: Service | E70: 1 | G70: =E70*F70 -> 0
A71: I2 | B71: Certification and compliance checks | D71: Service | E71: 1 | G71: =E71*F71 -> 0
A72: I3 | B72: Other Disbursements and Costs | G72: =E72*F72 -> 0
A73: Subtotal I | B73: Roadworthiness Compliance | G73: =SUM(G70:G72) -> 0
A74: 10. Body Structure Repairs
A75: Item | B75: Description | D75: Unit | E75: Qty | F75: Unit Prize | G75: Amount (ZAR)
A76: J1 | B76: Spray painting | D76: m² | E76: 1 | G76: =E76*F76 -> 0
A77: J2 | B77: Structural body repairs | D77: Job | E77: 1 | G77: =E77*F77 -> 0
A78: J3 | B78: Other Disbursements and Costs | G78: =E78*F78 -> 0
A79: Subtotal J | B79: Body Structure Repairs | G79: =SUM(G76:G78) -> 0
A82: Total Cost for Fleet Maintenance
A84: Description | C84: Amount (ZAR)
A85: Subtotal A | C85: =G22 -> 0
A86: Subtotal B | C86: =G29 -> 0
A87: Subtotal C | C87: =G36 -> 0
A88: Subtotal D | C88: =G42 -> 0
A89: Subtotal E | C89: =G48 -> 0
A90: Subtotal F | C90: =G54 -> 0
A91: Subtotal G | C91: =G61 -> 0
A92: Subtotal H | C92: =G67 -> 0
A93: Subtotal I | C93: =G73 -> 0
A94: Subtotal J | C94: =G79 -> 0
A95: Total Excluding VAT | C95: =SUM(C85:C94) -> 0
A96: VAT (15%) | C96: =C95*15% -> 0
A97: Total Including VAT | C97: =SUM(C95:C96) -> 0
A99: Declaration by Bidder
A101: I/We certify that the pricing submitted above includes all labour, equipment, materials, consumables, transport, supervision, spare parts, testing, commissioning, warranties, and all costs necessary to perform the maintenance services as specified.
A103: Authorised Representative:
A104: Signature:
A105: Date:

Sheet Nissan UD90 - 2009
A2: PRICING SCHEDULE – Fleet Maintenance – Nissan UD90 (2009 Model)
A4: The Bidder must note that the fixed pricing schedule per fleet maintenance category will be used, whilst separately providing for unforeseen repairs and replacement parts identified during the assessment phase. This will ensure that the bidders will price consistently and enables effective evaluation of bids. This Prices MUST include all the costs of Labour, Material and overheads such as disbursements.
A6: Tenderer Details
A8: Description | C8: Information
A9: Bidder Name
A10: Contact Person
A11: Contact Number
A12: Email Address
A13: VAT Registration Number
A15: Schedule A:
A17: 1. PREVENTATIVE MAINTENANCE AND SERVICING
A18: Item | B18: Description | D18: Unit | E18: Qty | F18: Unit Price (ZAR) | G18: Total Price (ZAR)
A19: A1 | B19: Scheduled inspections & servicing (per vehicle) | D19: Service | E19: 1 | G19: =E19*F19 -> 0
A20: A2 | B20: Preventative maintenance (fluid checks, lubrication, filter replacement) | D20: Service | E20: 1 | G20: =E20*F20 -> 0
A21: A3 | B21: Other Disbursements and Costs | G21: =E21*F21 -> 0
A22: Subtotal A | B22: Preventative Maintenance and Servicing | G22: =SUM(G19:G21) -> 0
A23: 2. MECHANICAL REPAIRS
A24: Item | B24: Description | D24: Unit | E24: Qty | F24: Unit Price (ZAR) | G24: Total Price (ZAR)
A25: B1 | B25: Engine diagnostics & repairs | D25: Hour | E25: 1 | G25: =E25*F25 -> 0
A26: B2 | B26: Transmission repairs (fluid changes, clutch replacement, rebuilds) | D26: Job | E26: 1 | G26: =E26*F26 -> 0
A27: B3 | B27: Suspension & steering repairs (shocks, struts, ball joints, tie rods) | D27: Job | E27: 1 | G27: =E27*F27 -> 0
A28: B4 | B28: Other Disbursements and Costs | G28: =E28*F28 -> 0
A29: Subtotal B | B29: Mechanical Repairs | G29: =SUM(G25:G28) -> 0
A30: 3. ELECTRICAL SYSTEMS
A31: Item | B31: Description | D31: Unit | E31: Qty | F31: Unit Price (ZAR) | G31: Total Price (ZAR)
A32: C1 | B32: Electrical diagnostics (modern equipment) | D32: Hour | E32: 1 | G32: =E32*F32 -> 0
A33: C2 | B33: Alternator, starter, wiring repairs | D33: Job | E33: 1 | G33: =E33*F33 -> 0
A34: C3 | B34: Battery testing & replacement | D34: No. | E34: 1 | G34: =E34*F34 -> 0
A35: C4 | B35: Other Disbursements and Costs | G35: =E35*F35 -> 0
A36: Subtotal C | B36: Electrical Systems | G36: =SUM(G32:G35) -> 0
A37: 4. BRAKE SYSTEMS
A38: Item | B38: Description | D38: Unit | E38: Qty | F38: Unit Prize | G38: Amount (ZAR)
A39: D1 | B39: Brake inspections (pads, rotors, calipers) | D39: Service | E39: 1 | G39: =E39*F39 -> 0
A40: D2 | B40: Brake component replacement | D40: Job | E40: 1 | G40: =E40*F40 -> 0
A41: D3 | B41: Other Disbursements and Costs | G41: =E41*F41 -> 0
A42: Subtotal D | B42: Brake Systems | G42: =SUM(G39:G41) -> 0
A43: 5. COOLING AND AIR CONDITIONING SYSTEMS
A44: Item | B44: Description | D44: Unit | E44: Qty | F44: Unit Prize | G44: Amount (ZAR)
A45: E1 | B45: Cooling system repairs | D45: Job | E45: 1 | G45: =E45*F45 -> 0
A46: E2 | B46: Air conditioning servicing & repairs | D46: Job | E46: 1 | G46: =E46*F46 -> 0
A47: E3 | B47: Other Disbursements and Costs | G47: =E47*F47 -> 0
A48: Subtotal E | B48: Cooling and Air Conditioning Systems | G48: =SUM(G45:G47) -> 0
A49: 6. EXHAUST SYSTEMS
A50: Item | B50: Description | D50: Unit | E50: Qty | F50: Unit Prize | G50: Amount (ZAR)
A51: F1 | B51: Leak detection and repairs | D51: Job | E51: 1 | G51: =E51*F51 -> 0
A52: F2 | B52: Muffler and catalytic converter replacement | D52: No. | E52: 1 | G52: =E52*F52 -> 0
A53: F3 | B53: Other Disbursements and Costs | G53: =E53*F53 -> 0
A54: Subtotal F | B54: Exhaust Systems | G54: =SUM(G51:G53) -> 0
A55: 7. TYRE SERVICES
A56: Item | B56: Description | D56: Unit | E56: Qty | F56: Unit Prize | G56: Amount (ZAR)
A57: G1 | B57: Tyre fitment and replacement | D57: No. | E57: 1 | G57: =E57*F57 -> 0
A58: G2 | B58: Balancing and alignment | D58: Service | E58: 1 | G58: =E58*F58 -> 0
A59: G3 | B59: Rotation and pressure checks | D59: Service | E59: 1 | G59: =E59*F59 -> 0
A60: G4 | B60: Other Disbursements and Costs | G60: =E60*F60 -> 0
A61: Subtotal G | B61: Tyre Services | G61: =SUM(G57:G60) -> 0
A62: 8. BREAKDOWN AND EMERGENCY RESPONSE
A63: Item | B63: Description | D63: Unit | E63: Qty | F63: Unit Prize | G63: Amount (ZAR)
A64: H1 | B64: On‑site breakdown response (airside & landside) | D64: Call-out | E64: 1 | G64: =E64*F64 -> 0
A65: H2 | B65: Recovery services | D65: Job | E65: 1 | G65: =E65*F65 -> 0
A66: H3 | B66: Other Disbursements and Costs | G66: =E66*F66 -> 0
A67: Subtotal H | B67: Breakdown and Emergency Response | G67: =SUM(G64:G66) -> 0
A68: 9. ROADWORTHINESS COMPLIANCE
A69: Item | B69: Description | D69: Unit | E69: Qty | F69: Unit Prize | G69: Amount (ZAR)
A70: I1 | B70: Roadworthy inspections | D70: Service | E70: 1 | G70: =E70*F70 -> 0
A71: I2 | B71: Certification and compliance checks | D71: Service | E71: 1 | G71: =E71*F71 -> 0
A72: I3 | B72: Other Disbursements and Costs | G72: =E72*F72 -> 0
A73: Subtotal I | B73: Roadworthiness Compliance | G73: =SUM(G70:G72) -> 0
A74: 10. Body Structure Repairs
A75: Item | B75: Description | D75: Unit | E75: Qty | F75: Unit Prize | G75: Amount (ZAR)
A76: J1 | B76: Spray painting | D76: m² | E76: 1 | G76: =E76*F76 -> 0
A77: J2 | B77: Structural body repairs | D77: Job | E77: 1 | G77: =E77*F77 -> 0
A78: J3 | B78: Other Disbursements and Costs | G78: =E78*F78 -> 0
A79: Subtotal J | B79: Body Structure Repairs | G79: =SUM(G76:G78) -> 0
A82: Total Cost for Fleet Maintenance
A84: Description | C84: Amount (ZAR)
A85: Subtotal A | C85: =G22 -> 0
A86: Subtotal B | C86: =G29 -> 0
A87: Subtotal C | C87: =G36 -> 0
A88: Subtotal D | C88: =G42 -> 0
A89: Subtotal E | C89: =G48 -> 0
A90: Subtotal F | C90: =G54 -> 0
A91: Subtotal G | C91: =G61 -> 0
A92: Subtotal H | C92: =G67 -> 0
A93: Subtotal I | C93: =G73 -> 0
A94: Subtotal J | C94: =G79 -> 0
A95: Total Excluding VAT | C95: =SUM(C85:C94) -> 0
A96: VAT (15%) | C96: =C95*15% -> 0
A97: Total Including VAT | C97: =SUM(C95:C96) -> 0
A99: Declaration by Bidder
A101: I/We certify that the pricing submitted above includes all labour, equipment, materials, consumables, transport, supervision, spare parts, testing, commissioning, warranties, and all costs necessary to perform the maintenance services as specified.
A103: Authorised Representative:
A104: Signature:
A105: Date:

Sheet Nissan UD90 - 2012
A2: PRICING SCHEDULE – Fleet Maintenance – Nissan UD90 (2012 Model)
A4: The Bidder must note that the fixed pricing schedule per fleet maintenance category will be used, whilst separately providing for unforeseen repairs and replacement parts identified during the assessment phase. This will ensure that the bidders will price consistently and enables effective evaluation of bids. This Prices MUST include all the costs of Labour, Material and overheads such as disbursements.
A6: Tenderer Details
A8: Description | C8: Information
A9: Bidder Name
A10: Contact Person
A11: Contact Number
A12: Email Address
A13: VAT Registration Number
A15: Schedule A:
A17: 1. PREVENTATIVE MAINTENANCE AND SERVICING
A18: Item | B18: Description | D18: Unit | E18: Qty | F18: Unit Price (ZAR) | G18: Total Price (ZAR)
A19: A1 | B19: Scheduled inspections & servicing (per vehicle) | D19: Service | E19: 1 | G19: =E19*F19 -> 0
A20: A2 | B20: Preventative maintenance (fluid checks, lubrication, filter replacement) | D20: Service | E20: 1 | G20: =E20*F20 -> 0
A21: A3 | B21: Other Disbursements and Costs | G21: =E21*F21 -> 0
A22: Subtotal A | B22: Preventative Maintenance and Servicing | G22: =SUM(G19:G21) -> 0
A23: 2. MECHANICAL REPAIRS
A24: Item | B24: Description | D24: Unit | E24: Qty | F24: Unit Price (ZAR) | G24: Total Price (ZAR)
A25: B1 | B25: Engine diagnostics & repairs | D25: Hour | E25: 1 | G25: =E25*F25 -> 0
A26: B2 | B26: Transmission repairs (fluid changes, clutch replacement, rebuilds) | D26: Job | E26: 1 | G26: =E26*F26 -> 0
A27: B3 | B27: Suspension & steering repairs (shocks, struts, ball joints, tie rods) | D27: Job | E27: 1 | G27: =E27*F27 -> 0
A28: B4 | B28: Other Disbursements and Costs | G28: =E28*F28 -> 0
A29: Subtotal B | B29: Mechanical Repairs | G29: =SUM(G25:G28) -> 0
A30: 3. ELECTRICAL SYSTEMS
A31: Item | B31: Description | D31: Unit | E31: Qty | F31: Unit Price (ZAR) | G31: Total Price (ZAR)
A32: C1 | B32: Electrical diagnostics (modern equipment) | D32: Hour | E32: 1 | G32: =E32*F32 -> 0
A33: C2 | B33: Alternator, starter, wiring repairs | D33: Job | E33: 1 | G33: =E33*F33 -> 0
A34: C3 | B34: Battery testing & replacement | D34: No. | E34: 1 | G34: =E34*F34 -> 0
A35: C4 | B35: Other Disbursements and Costs | G35: =E35*F35 -> 0
A36: Subtotal C | B36: Electrical Systems | G36: =SUM(G32:G35) -> 0
A37: 4. BRAKE SYSTEMS
A38: Item | B38: Description | D38: Unit | E38: Qty | F38: Unit Prize | G38: Amount (ZAR)
A39: D1 | B39: Brake inspections (pads, rotors, calipers) | D39: Service | E39: 1 | G39: =E39*F39 -> 0
A40: D2 | B40: Brake component replacement | D40: Job | E40: 1 | G40: =E40*F40 -> 0
A41: D3 | B41: Other Disbursements and Costs | G41: =E41*F41 -> 0
A42: Subtotal D | B42: Brake Systems | G42: =SUM(G39:G41) -> 0
A43: 5. COOLING AND AIR CONDITIONING SYSTEMS
A44: Item | B44: Description | D44: Unit | E44: Qty | F44: Unit Prize | G44: Amount (ZAR)
A45: E1 | B45: Cooling system repairs | D45: Job | E45: 1 | G45: =E45*F45 -> 0
A46: E2 | B46: Air conditioning servicing & repairs | D46: Job | E46: 1 | G46: =E46*F46 -> 0
A47: E3 | B47: Other Disbursements and Costs | G47: =E47*F47 -> 0
A48: Subtotal E | B48: Cooling and Air Conditioning Systems | G48: =SUM(G45:G47) -> 0
A49: 6. EXHAUST SYSTEMS
A50: Item | B50: Description | D50: Unit | E50: Qty | F50: Unit Prize | G50: Amount (ZAR)
A51: F1 | B51: Leak detection and repairs | D51: Job | E51: 1 | G51: =E51*F51 -> 0
A52: F2 | B52: Muffler and catalytic converter replacement | D52: No. | E52: 1 | G52: =E52*F52 -> 0
A53: F3 | B53: Other Disbursements and Costs | G53: =E53*F53 -> 0
A54: Subtotal F | B54: Exhaust Systems | G54: =SUM(G51:G53) -> 0
A55: 7. TYRE SERVICES
A56: Item | B56: Description | D56: Unit | E56: Qty | F56: Unit Prize | G56: Amount (ZAR)
A57: G1 | B57: Tyre fitment and replacement | D57: No. | E57: 1 | G57: =E57*F57 -> 0
A58: G2 | B58: Balancing and alignment | D58: Service | E58: 1 | G58: =E58*F58 -> 0
A59: G3 | B59: Rotation and pressure checks | D59: Service | E59: 1 | G59: =E59*F59 -> 0
A60: G4 | B60: Other Disbursements and Costs | G60: =E60*F60 -> 0
A61: Subtotal G | B61: Tyre Services | G61: =SUM(G57:G60) -> 0
A62: 8. BREAKDOWN AND EMERGENCY RESPONSE
A63: Item | B63: Description | D63: Unit | E63: Qty | F63: Unit Prize | G63: Amount (ZAR)
A64: H1 | B64: On‑site breakdown response (airside & landside) | D64: Call-out | E64: 1 | G64: =E64*F64 -> 0
A65: H2 | B65: Recovery services | D65: Job | E65: 1 | G65: =E65*F65 -> 0
A66: H3 | B66: Other Disbursements and Costs | G66: =E66*F66 -> 0
A67: Subtotal H | B67: Breakdown and Emergency Response | G67: =SUM(G64:G66) -> 0
A68: 9. ROADWORTHINESS COMPLIANCE
A69: Item | B69: Description | D69: Unit | E69: Qty | F69: Unit Prize | G69: Amount (ZAR)
A70: I1 | B70: Roadworthy inspections | D70: Service | E70: 1 | G70: =E70*F70 -> 0
A71: I2 | B71: Certification and compliance checks | D71: Service | E71: 1 | G71: =E71*F71 -> 0
A72: I3 | B72: Other Disbursements and Costs | G72: =E72*F72 -> 0
A73: Subtotal I | B73: Roadworthiness Compliance | G73: =SUM(G70:G72) -> 0
A74: 10. Body Structure Repairs
A75: Item | B75: Description | D75: Unit | E75: Qty | F75: Unit Prize | G75: Amount (ZAR)
A76: J1 | B76: Spray painting | D76: m² | E76: 1 | G76: =E76*F76 -> 0
A77: J2 | B77: Structural body repairs | D77: Job | E77: 1 | G77: =E77*F77 -> 0
A78: J3 | B78: Other Disbursements and Costs | G78: =E78*F78 -> 0
A79: Subtotal J | B79: Body Structure Repairs | G79: =SUM(G76:G78) -> 0
A82: Total Cost for Fleet Maintenance
A84: Description | C84: Amount (ZAR)
A85: Subtotal A | C85: =G22 -> 0
A86: Subtotal B | C86: =G29 -> 0
A87: Subtotal C | C87: =G36 -> 0
A88: Subtotal D | C88: =G42 -> 0
A89: Subtotal E | C89: =G48 -> 0
A90: Subtotal F | C90: =G54 -> 0
A91: Subtotal G | C91: =G61 -> 0
A92: Subtotal H | C92: =G67 -> 0
A93: Subtotal I | C93: =G73 -> 0
A94: Subtotal J | C94: =G79 -> 0
A95: Total Excluding VAT | C95: =SUM(C85:C94) -> 0
A96: VAT (15%) | C96: =C95*15% -> 0
A97: Total Including VAT | C97: =SUM(C95:C96) -> 0
A99: Declaration by Bidder
A101: I/We certify that the pricing submitted above includes all labour, equipment, materials, consumables, transport, supervision, spare parts, testing, commissioning, warranties, and all costs necessary to perform the maintenance services as specified.
A103: Authorised Representative:
A104: Signature:
A105: Date:

Sheet Nissan UD90 -2013
A2: PRICING SCHEDULE – Fleet Maintenance – Nissan UD90 (2013 Model)
A4: The Bidder must note that the fixed pricing schedule per fleet maintenance category will be used, whilst separately providing for unforeseen repairs and replacement parts identified during the assessment phase. This will ensure that the bidders will price consistently and enables effective evaluation of bids. This Prices MUST include all the costs of Labour, Material and overheads such as disbursements.
A6: Tenderer Details
A8: Description | C8: Information
A9: Bidder Name
A10: Contact Person
A11: Contact Number
A12: Email Address
A13: VAT Registration Number
A15: Schedule A:
A17: 1. PREVENTATIVE MAINTENANCE AND SERVICING
A18: Item | B18: Description | D18: Unit | E18: Qty | F18: Unit Price (ZAR) | G18: Total Price (ZAR)
A19: A1 | B19: Scheduled inspections & servicing (per vehicle) | D19: Service | E19: 1 | G19: =E19*F19 -> 0
A20: A2 | B20: Preventative maintenance (fluid checks, lubrication, filter replacement) | D20: Service | E20: 1 | G20: =E20*F20 -> 0
A21: A3 | B21: Other Disbursements and Costs | G21: =E21*F21 -> 0
A22: Subtotal A | B22: Preventative Maintenance and Servicing | G22: =SUM(G19:G21) -> 0
A23: 2. MECHANICAL REPAIRS
A24: Item | B24: Description | D24: Unit | E24: Qty | F24: Unit Price (ZAR) | G24: Total Price (ZAR)
A25: B1 | B25: Engine diagnostics & repairs | D25: Hour | E25: 1 | G25: =E25*F25 -> 0
A26: B2 | B26: Transmission repairs (fluid changes, clutch replacement, rebuilds) | D26: Job | E26: 1 | G26: =E26*F26 -> 0
A27: B3 | B27: Suspension & steering repairs (shocks, struts, ball joints, tie rods) | D27: Job | E27: 1 | G27: =E27*F27 -> 0
A28: B4 | B28: Other Disbursements and Costs | G28: =E28*F28 -> 0
A29: Subtotal B | B29: Mechanical Repairs | G29: =SUM(G25:G28) -> 0
A30: 3. ELECTRICAL SYSTEMS
A31: Item | B31: Description | D31: Unit | E31: Qty | F31: Unit Price (ZAR) | G31: Total Price (ZAR)
A32: C1 | B32: Electrical diagnostics (modern equipment) | D32: Hour | E32: 1 | G32: =E32*F32 -> 0
A33: C2 | B33: Alternator, starter, wiring repairs | D33: Job | E33: 1 | G33: =E33*F33 -> 0
A34: C3 | B34: Battery testing & replacement | D34: No. | E34: 1 | G34: =E34*F34 -> 0
A35: C4 | B35: Other Disbursements and Costs | G35: =E35*F35 -> 0
A36: Subtotal C | B36: Electrical Systems | G36: =SUM(G32:G35) -> 0
A37: 4. BRAKE SYSTEMS
A38: Item | B38: Description | D38: Unit | E38: Qty | F38: Unit Prize | G38: Amount (ZAR)
A39: D1 | B39: Brake inspections (pads, rotors, calipers) | D39: Service | E39: 1 | G39: =E39*F39 -> 0
A40: D2 | B40: Brake component replacement | D40: Job | E40: 1 | G40: =E40*F40 -> 0
A41: D3 | B41: Other Disbursements and Costs | G41: =E41*F41 -> 0
A42: Subtotal D | B42: Brake Systems | G42: =SUM(G39:G41) -> 0
A43: 5. COOLING AND AIR CONDITIONING SYSTEMS
A44: Item | B44: Description | D44: Unit | E44: Qty | F44: Unit Prize | G44: Amount (ZAR)
A45: E1 | B45: Cooling system repairs | D45: Job | E45: 1 | G45: =E45*F45 -> 0
A46: E2 | B46: Air conditioning servicing & repairs | D46: Job | E46: 1 | G46: =E46*F46 -> 0
A47: E3 | B47: Other Disbursements and Costs | G47: =E47*F47 -> 0
A48: Subtotal E | B48: Cooling and Air Conditioning Systems | G48: =SUM(G45:G47) -> 0
A49: 6. EXHAUST SYSTEMS
A50: Item | B50: Description | D50: Unit | E50: Qty | F50: Unit Prize | G50: Amount (ZAR)
A51: F1 | B51: Leak detection and repairs | D51: Job | E51: 1 | G51: =E51*F51 -> 0
A52: F2 | B52: Muffler and catalytic converter replacement | D52: No. | E52: 1 | G52: =E52*F52 -> 0
A53: F3 | B53: Other Disbursements and Costs | G53: =E53*F53 -> 0
A54: Subtotal F | B54: Exhaust Systems | G54: =SUM(G51:G53) -> 0
A55: 7. TYRE SERVICES
A56: Item | B56: Description | D56: Unit | E56: Qty | F56: Unit Prize | G56: Amount (ZAR)
A57: G1 | B57: Tyre fitment and replacement | D57: No. | E57: 1 | G57: =E57*F57 -> 0
A58: G2 | B58: Balancing and alignment | D58: Service | E58: 1 | G58: =E58*F58 -> 0
A59: G3 | B59: Rotation and pressure checks | D59: Service | E59: 1 | G59: =E59*F59 -> 0
A60: G4 | B60: Other Disbursements and Costs | G60: =E60*F60 -> 0
A61: Subtotal G | B61: Tyre Services | G61: =SUM(G57:G60) -> 0
A62: 8. BREAKDOWN AND EMERGENCY RESPONSE
A63: Item | B63: Description | D63: Unit | E63: Qty | F63: Unit Prize | G63: Amount (ZAR)
A64: H1 | B64: On‑site breakdown response (airside & landside) | D64: Call-out | E64: 1 | G64: =E64*F64 -> 0
A65: H2 | B65: Recovery services | D65: Job | E65: 1 | G65: =E65*F65 -> 0
A66: H3 | B66: Other Disbursements and Costs | G66: =E66*F66 -> 0
A67: Subtotal H | B67: Breakdown and Emergency Response | G67: =SUM(G64:G66) -> 0
A68: 9. ROADWORTHINESS COMPLIANCE
A69: Item | B69: Description | D69: Unit | E69: Qty | F69: Unit Prize | G69: Amount (ZAR)
A70: I1 | B70: Roadworthy inspections | D70: Service | E70: 1 | G70: =E70*F70 -> 0
A71: I2 | B71: Certification and compliance checks | D71: Service | E71: 1 | G71: =E71*F71 -> 0
A72: I3 | B72: Other Disbursements and Costs | G72: =E72*F72 -> 0
A73: Subtotal I | B73: Roadworthiness Compliance | G73: =SUM(G70:G72) -> 0
A74: 10. Body Structure Repairs
A75: Item | B75: Description | D75: Unit | E75: Qty | F75: Unit Prize | G75: Amount (ZAR)
A76: J1 | B76: Spray painting | D76: m² | E76: 1 | G76: =E76*F76 -> 0
A77: J2 | B77: Structural body repairs | D77: Job | E77: 1 | G77: =E77*F77 -> 0
A78: J3 | B78: Other Disbursements and Costs | G78: =E78*F78 -> 0
A79: Subtotal J | B79: Body Structure Repairs | G79: =SUM(G76:G78) -> 0
A82: Total Cost for Fleet Maintenance
A84: Description | C84: Amount (ZAR)
A85: Subtotal A | C85: =G22 -> 0
A86: Subtotal B | C86: =G29 -> 0
A87: Subtotal C | C87: =G36 -> 0
A88: Subtotal D | C88: =G42 -> 0
A89: Subtotal E | C89: =G48 -> 0
A90: Subtotal F | C90: =G54 -> 0
A91: Subtotal G | C91: =G61 -> 0
A92: Subtotal H | C92: =G67 -> 0
A93: Subtotal I | C93: =G73 -> 0
A94: Subtotal J | C94: =G79 -> 0
A95: Total Excluding VAT | C95: =SUM(C85:C94) -> 0
A96: VAT (15%) | C96: =C95*15% -> 0
A97: Total Including VAT | C97: =SUM(C95:C96) -> 0
A99: Declaration by Bidder
A101: I/We certify that the pricing submitted above includes all labour, equipment, materials, consumables, transport, supervision, spare parts, testing, commissioning, warranties, and all costs necessary to perform the maintenance services as specified.
A103: Authorised Representative:
A104: Signature:
A105: Date:

Sheet Nissan XTRAIL
A2: PRICING SCHEDULE – Fleet Maintenance – Nissan XTRAIL (2003 Model)
A4: The Bidder must note that the fixed pricing schedule per fleet maintenance category will be used, whilst separately providing for unforeseen repairs and replacement parts identified during the assessment phase. This will ensure that the bidders will price consistently and enables effective evaluation of bids. This Prices MUST include all the costs of Labour, Material and overheads such as disbursements.
A6: Tenderer Details
A8: Description | C8: Information
A9: Bidder Name
A10: Contact Person
A11: Contact Number
A12: Email Address
A13: VAT Registration Number
A15: Schedule A:
A17: 1. PREVENTATIVE MAINTENANCE AND SERVICING
A18: Item | B18: Description | D18: Unit | E18: Qty | F18: Unit Price (ZAR) | G18: Total Price (ZAR)
A19: A1 | B19: Scheduled inspections & servicing (per vehicle) | D19: Service | E19: 1 | G19: =E19*F19 -> 0
A20: A2 | B20: Preventative maintenance (fluid checks, lubrication, filter replacement) | D20: Service | E20: 1 | G20: =E20*F20 -> 0
A21: A3 | B21: Other Disbursements and Costs | G21: =E21*F21 -> 0
A22: Subtotal A | B22: Preventative Maintenance and Servicing | G22: =SUM(G19:G21) -> 0
A23: 2. MECHANICAL REPAIRS
A24: Item | B24: Description | D24: Unit | E24: Qty | F24: Unit Price (ZAR) | G24: Total Price (ZAR)
A25: B1 | B25: Engine diagnostics & repairs | D25: Hour | E25: 1 | G25: =E25*F25 -> 0
A26: B2 | B26: Transmission repairs (fluid changes, clutch replacement, rebuilds) | D26: Job | E26: 1 | G26: =E26*F26 -> 0
A27: B3 | B27: Suspension & steering repairs (shocks, struts, ball joints, tie rods) | D27: Job | E27: 1 | G27: =E27*F27 -> 0
A28: B4 | B28: Other Disbursements and Costs | G28: =E28*F28 -> 0
A29: Subtotal B | B29: Mechanical Repairs | G29: =SUM(G25:G28) -> 0
A30: 3. ELECTRICAL SYSTEMS
A31: Item | B31: Description | D31: Unit | E31: Qty | F31: Unit Price (ZAR) | G31: Total Price (ZAR)
A32: C1 | B32: Electrical diagnostics (modern equipment) | D32: Hour | E32: 1 | G32: =E32*F32 -> 0
A33: C2 | B33: Alternator, starter, wiring repairs | D33: Job | E33: 1 | G33: =E33*F33 -> 0
A34: C3 | B34: Battery testing & replacement | D34: No. | E34: 1 | G34: =E34*F34 -> 0
A35: C4 | B35: Other Disbursements and Costs | G35: =E35*F35 -> 0
A36: Subtotal C | B36: Electrical Systems | G36: =SUM(G32:G35) -> 0
A37: 4. BRAKE SYSTEMS
A38: Item | B38: Description | D38: Unit | E38: Qty | F38: Unit Prize | G38: Amount (ZAR)
A39: D1 | B39: Brake inspections (pads, rotors, calipers) | D39: Service | E39: 1 | G39: =E39*F39 -> 0
A40: D2 | B40: Brake component replacement | D40: Job | E40: 1 | G40: =E40*F40 -> 0
A41: D3 | B41: Other Disbursements and Costs | G41: =E41*F41 -> 0
A42: Subtotal D | B42: Brake Systems | G42: =SUM(G39:G41) -> 0
A43: 5. COOLING AND AIR CONDITIONING SYSTEMS
A44: Item | B44: Description | D44: Unit | E44: Qty | F44: Unit Prize | G44: Amount (ZAR)
A45: E1 | B45: Cooling system repairs | D45: Job | E45: 1 | G45: =E45*F45 -> 0
A46: E2 | B46: Air conditioning servicing & repairs | D46: Job | E46: 1 | G46: =E46*F46 -> 0
A47: E3 | B47: Other Disbursements and Costs | G47: =E47*F47 -> 0
A48: Subtotal E | B48: Cooling and Air Conditioning Systems | G48: =SUM(G45:G47) -> 0
A49: 6. EXHAUST SYSTEMS
A50: Item | B50: Description | D50: Unit | E50: Qty | F50: Unit Prize | G50: Amount (ZAR)
A51: F1 | B51: Leak detection and repairs | D51: Job | E51: 1 | G51: =E51*F51 -> 0
A52: F2 | B52: Muffler and catalytic converter replacement | D52: No. | E52: 1 | G52: =E52*F52 -> 0
A53: F3 | B53: Other Disbursements and Costs | G53: =E53*F53 -> 0
A54: Subtotal F | B54: Exhaust Systems | G54: =SUM(G51:G53) -> 0
A55: 7. TYRE SERVICES
A56: Item | B56: Description | D56: Unit | E56: Qty | F56: Unit Prize | G56: Amount (ZAR)
A57: G1 | B57: Tyre fitment and replacement | D57: No. | E57: 1 | G57: =E57*F57 -> 0
A58: G2 | B58: Balancing and alignment | D58: Service | E58: 1 | G58: =E58*F58 -> 0
A59: G3 | B59: Rotation and pressure checks | D59: Service | E59: 1 | G59: =E59*F59 -> 0
A60: G4 | B60: Other Disbursements and Costs | G60: =E60*F60 -> 0
A61: Subtotal G | B61: Tyre Services | G61: =SUM(G57:G60) -> 0
A62: 8. BREAKDOWN AND EMERGENCY RESPONSE
A63: Item | B63: Description | D63: Unit | E63: Qty | F63: Unit Prize | G63: Amount (ZAR)
A64: H1 | B64: On‑site breakdown response (airside & landside) | D64: Call-out | E64: 1 | G64: =E64*F64 -> 0
A65: H2 | B65: Recovery services | D65: Job | E65: 1 | G65: =E65*F65 -> 0
A66: H3 | B66: Other Disbursements and Costs | G66: =E66*F66 -> 0
A67: Subtotal H | B67: Breakdown and Emergency Response | G67: =SUM(G64:G66) -> 0
A68: 9. ROADWORTHINESS COMPLIANCE
A69: Item | B69: Description | D69: Unit | E69: Qty | F69: Unit Prize | G69: Amount (ZAR)
A70: I1 | B70: Roadworthy inspections | D70: Service | E70: 1 | G70: =E70*F70 -> 0
A71: I2 | B71: Certification and compliance checks | D71: Service | E71: 1 | G71: =E71*F71 -> 0
A72: I3 | B72: Other Disbursements and Costs | G72: =E72*F72 -> 0
A73: Subtotal I | B73: Roadworthiness Compliance | G73: =SUM(G70:G72) -> 0
A74: 10. Body Structure Repairs
A75: Item | B75: Description | D75: Unit | E75: Qty | F75: Unit Prize | G75: Amount (ZAR)
A76: J1 | B76: Spray painting | D76: m² | E76: 1 | G76: =E76*F76 -> 0
A77: J2 | B77: Structural body repairs | D77: Job | E77: 1 | G77: =E77*F77 -> 0
A78: J3 | B78: Other Disbursements and Costs | G78: =E78*F78 -> 0
A79: Subtotal J | B79: Body Structure Repairs | G79: =SUM(G76:G78) -> 0
A82: Total Cost for Fleet Maintenance
A84: Description | C84: Amount (ZAR)
A85: Subtotal A | C85: =G22 -> 0
A86: Subtotal B | C86: =G29 -> 0
A87: Subtotal C | C87: =G36 -> 0
A88: Subtotal D | C88: =G42 -> 0
A89: Subtotal E | C89: =G48 -> 0
A90: Subtotal F | C90: =G54 -> 0
A91: Subtotal G | C91: =G61 -> 0
A92: Subtotal H | C92: =G67 -> 0
A93: Subtotal I | C93: =G73 -> 0
A94: Subtotal J | C94: =G79 -> 0
A95: Total Excluding VAT | C95: =SUM(C85:C94) -> 0
A96: VAT (15%) | C96: =C95*15% -> 0
A97: Total Including VAT | C97: =SUM(C95:C96) -> 0
A99: Declaration by Bidder
A101: I/We certify that the pricing submitted above includes all labour, equipment, materials, consumables, transport, supervision, spare parts, testing, commissioning, warranties, and all costs necessary to perform the maintenance services as specified.
A103: Authorised Representative:
A104: Signature:
A105: Date:

Sheet Toyota Hino
A2: PRICING SCHEDULE – Fleet Maintenance – Toyota Hino (2017 Model)
A4: The Bidder must note that the fixed pricing schedule per fleet maintenance category will be used, whilst separately providing for unforeseen repairs and replacement parts identified during the assessment phase. This will ensure that the bidders will price consistently and enables effective evaluation of bids. This Prices MUST include all the costs of Labour, Material and overheads such as disbursements.
A6: Tenderer Details
A8: Description | C8: Information
A9: Bidder Name
A10: Contact Person
A11: Contact Number
A12: Email Address
A13: VAT Registration Number
A15: Schedule A:
A17: 1. PREVENTATIVE MAINTENANCE AND SERVICING
A18: Item | B18: Description | D18: Unit | E18: Qty | F18: Unit Price (ZAR) | G18: Total Price (ZAR)
A19: A1 | B19: Scheduled inspections & servicing (per vehicle) | D19: Service | E19: 1 | G19: =E19*F19 -> 0
A20: A2 | B20: Preventative maintenance (fluid checks, lubrication, filter replacement) | D20: Service | E20: 1 | G20: =E20*F20 -> 0
A21: A3 | B21: Other Disbursements and Costs | G21: =E21*F21 -> 0
A22: Subtotal A | B22: Preventative Maintenance and Servicing | G22: =SUM(G19:G21) -> 0
A23: 2. MECHANICAL REPAIRS
A24: Item | B24: Description | D24: Unit | E24: Qty | F24: Unit Price (ZAR) | G24: Total Price (ZAR)
A25: B1 | B25: Engine diagnostics & repairs | D25: Hour | E25: 1 | G25: =E25*F25 -> 0
A26: B2 | B26: Transmission repairs (fluid changes, clutch replacement, rebuilds) | D26: Job | E26: 1 | G26: =E26*F26 -> 0
A27: B3 | B27: Suspension & steering repairs (shocks, struts, ball joints, tie rods) | D27: Job | E27: 1 | G27: =E27*F27 -> 0
A28: B4 | B28: Other Disbursements and Costs | G28: =E28*F28 -> 0
A29: Subtotal B | B29: Mechanical Repairs | G29: =SUM(G25:G28) -> 0
A30: 3. ELECTRICAL SYSTEMS
A31: Item | B31: Description | D31: Unit | E31: Qty | F31: Unit Price (ZAR) | G31: Total Price (ZAR)
A32: C1 | B32: Electrical diagnostics (modern equipment) | D32: Hour | E32: 1 | G32: =E32*F32 -> 0
A33: C2 | B33: Alternator, starter, wiring repairs | D33: Job | E33: 1 | G33: =E33*F33 -> 0
A34: C3 | B34: Battery testing & replacement | D34: No. | E34: 1 | G34: =E34*F34 -> 0
A35: C4 | B35: Other Disbursements and Costs | G35: =E35*F35 -> 0
A36: Subtotal C | B36: Electrical Systems | G36: =SUM(G32:G35) -> 0
A37: 4. BRAKE SYSTEMS
A38: Item | B38: Description | D38: Unit | E38: Qty | F38: Unit Prize | G38: Amount (ZAR)
A39: D1 | B39: Brake inspections (pads, rotors, calipers) | D39: Service | E39: 1 | G39: =E39*F39 -> 0
A40: D2 | B40: Brake component replacement | D40: Job | E40: 1 | G40: =E40*F40 -> 0
A41: D3 | B41: Other Disbursements and Costs | G41: =E41*F41 -> 0
A42: Subtotal D | B42: Brake Systems | G42: =SUM(G39:G41) -> 0
A43: 5. COOLING AND AIR CONDITIONING SYSTEMS
A44: Item | B44: Description | D44: Unit | E44: Qty | F44: Unit Prize | G44: Amount (ZAR)
A45: E1 | B45: Cooling system repairs | D45: Job | E45: 1 | G45: =E45*F45 -> 0
A46: E2 | B46: Air conditioning servicing & repairs | D46: Job | E46: 1 | G46: =E46*F46 -> 0
A47: E3 | B47: Other Disbursements and Costs | G47: =E47*F47 -> 0
A48: Subtotal E | B48: Cooling and Air Conditioning Systems | G48: =SUM(G45:G47) -> 0
A49: 6. EXHAUST SYSTEMS
A50: Item | B50: Description | D50: Unit | E50: Qty | F50: Unit Prize | G50: Amount (ZAR)
A51: F1 | B51: Leak detection and repairs | D51: Job | E51: 1 | G51: =E51*F51 -> 0
A52: F2 | B52: Muffler and catalytic converter replacement | D52: No. | E52: 1 | G52: =E52*F52 -> 0
A53: F3 | B53: Other Disbursements and Costs | G53: =E53*F53 -> 0
A54: Subtotal F | B54: Exhaust Systems | G54: =SUM(G51:G53) -> 0
A55: 7. TYRE SERVICES
A56: Item | B56: Description | D56: Unit | E56: Qty | F56: Unit Prize | G56: Amount (ZAR)
A57: G1 | B57: Tyre fitment and replacement | D57: No. | E57: 1 | G57: =E57*F57 -> 0
A58: G2 | B58: Balancing and alignment | D58: Service | E58: 1 | G58: =E58*F58 -> 0
A59: G3 | B59: Rotation and pressure checks | D59: Service | E59: 1 | G59: =E59*F59 -> 0
A60: G4 | B60: Other Disbursements and Costs | G60: =E60*F60 -> 0
A61: Subtotal G | B61: Tyre Services | G61: =SUM(G57:G60) -> 0
A62: 8. BREAKDOWN AND EMERGENCY RESPONSE
A63: Item | B63: Description | D63: Unit | E63: Qty | F63: Unit Prize | G63: Amount (ZAR)
A64: H1 | B64: On‑site breakdown response (airside & landside) | D64: Call-out | E64: 1 | G64: =E64*F64 -> 0
A65: H2 | B65: Recovery services | D65: Job | E65: 1 | G65: =E65*F65 -> 0
A66: H3 | B66: Other Disbursements and Costs | G66: =E66*F66 -> 0
A67: Subtotal H | B67: Breakdown and Emergency Response | G67: =SUM(G64:G66) -> 0
A68: 9. ROADWORTHINESS COMPLIANCE
A69: Item | B69: Description | D69: Unit | E69: Qty | F69: Unit Prize | G69: Amount (ZAR)
A70: I1 | B70: Roadworthy inspections | D70: Service | E70: 1 | G70: =E70*F70 -> 0
A71: I2 | B71: Certification and compliance checks | D71: Service | E71: 1 | G71: =E71*F71 -> 0
A72: I3 | B72: Other Disbursements and Costs | G72: =E72*F72 -> 0
A73: Subtotal I | B73: Roadworthiness Compliance | G73: =SUM(G70:G72) -> 0
A74: 10. Body Structure Repairs
A75: Item | B75: Description | D75: Unit | E75: Qty | F75: Unit Prize | G75: Amount (ZAR)
A76: J1 | B76: Spray painting | D76: m² | E76: 1 | G76: =E76*F76 -> 0
A77: J2 | B77: Structural body repairs | D77: Job | E77: 1 | G77: =E77*F77 -> 0
A78: J3 | B78: Other Disbursements and Costs | G78: =E78*F78 -> 0
A79: Subtotal J | B79: Body Structure Repairs | G79: =SUM(G76:G78) -> 0
A82: Total Cost for Fleet Maintenance
A84: Description | C84: Amount (ZAR)
A85: Subtotal A | C85: =G22 -> 0
A86: Subtotal B | C86: =G29 -> 0
A87: Subtotal C | C87: =G36 -> 0
A88: Subtotal D | C88: =G42 -> 0
A89: Subtotal E | C89: =G48 -> 0
A90: Subtotal F | C90: =G54 -> 0
A91: Subtotal G | C91: =G61 -> 0
A92: Subtotal H | C92: =G67 -> 0
A93: Subtotal I | C93: =G73 -> 0
A94: Subtotal J | C94: =G79 -> 0
A95: Total Excluding VAT | C95: =SUM(C85:C94) -> 0
A96: VAT (15%) | C96: =C95*15% -> 0
A97: Total Including VAT | C97: =SUM(C95:C96) -> 0
A99: Declaration by Bidder
A101: I/We certify that the pricing submitted above includes all labour, equipment, materials, consumables, transport, supervision, spare parts, testing, commissioning, warranties, and all costs necessary to perform the maintenance services as specified.
A103: Authorised Representative:
A104: Signature:
A105: Date:
