Workbook

Sheet BOQ
A2: Total Calculation | D2: Price
A3: Small Scissor lift | B3: UPRIGHT | C3: Unit 1 | D3: ='1'!$E$22 -> 0
A4: Medium Scissor lift | B4: JLG | C4: Unit 2 | D4: ='2'!$E$22 -> 0
A5: Big Scissor lift | B5: JLG | C5: Unit 3 | D5: ='3'!$E$22 -> 0
A6: New Scissor lift | B6: JLG | C6: Unit 4 | D6: ='4'!$E$22 -> 0
A7: Trailer mount Boom Lift 12 m | B7: JLG | C7: Unit 5 | D7: ='5'!$E$22 -> 0
A8: Trailer mount Boom Lift 17m | B8: Nifty 170 | C8: Unit 6 | D8: ='6'!$E$22 -> 0
A9: Total RFQ Value (Sum of all 6) Ex VAT | D9: =SUM(D3:D8) -> 0
A10: Total Incl. VAT | D10: =D9+(D9*0.15) -> 0
A11: Kindly fill in the grey block on the 6 tabs below. All lines must be priced and any blank lines will be considered R0.00 and submitted in RFQ as such.

Sheet 1
B2: Unit 1 | C2: Unit | D2: Unit Price | E2: Total Price
B3: Labour per hour | C3: 1 | E3: =D3*C3 -> 0
B4: Transportation of unit to and from site at CTIA (including trailer) | C4: 1 | E4: =D4*C4 -> 0
B5: Paint damage repair (1m sq) | C5: 1 | E5: =D5*C5 -> 0
B6: Joystick | C6: 1 | E6: =D6*C6 -> 0
B7: Hydraulic Pump | C7: 1 | E7: =D7*C7 -> 0
B8: Hydraulic pipes (1m) | C8: 1 | E8: =D8*C8 -> 0
B9: Hydraulic Fluid | C9: 1 | E9: =D9*C9 -> 0
B10: Wheel/Tyre replacement | C10: 1 | E10: =D10*C10 -> 0
B11: Battery replacement | C11: 2 | E11: =D11*C11 -> 0
B12: Battery charger replacement | C12: 1 | E12: =D12*C12 -> 0
B13: Charging Cable replacement | C13: 1 | E13: =D13*C13 -> 0
B14: Electrial wire repairs | C14: 1 | E14: =D14*C14 -> 0
... B21: Annual Service (Include scope) | C21: 1 | E21: =D21*C21 -> 0
B22: SUBTOTAL EX VAT | E22: =SUM(E3:E21) -> 0

Sheet 2
B2: Unit 2 | C2: Unit | D2: Unit Price | E2: Total Price
B3: Labour per hour | C3: 1 | E3: =D3*C3 -> 0
B4: Transportation of unit to and from site at CTIA (including trailer) | C4: 1 | E4: =D4*C4 -> 0
B5: Paint damage repair (1m sq) | C5: 1 | E5: =D5*C5 -> 0
B6: Joystick | C6: 1 | E6: =D6*C6 -> 0
B7: Hydraulic Pump | C7: 1 | E7: =D7*C7 -> 0
B8: Hydraulic pipes (1m) | C8: 1 | E8: =D8*C8 -> 0
B9: Hydraulic Fluid | C9: 1 | E9: =D9*C9 -> 0
B10: Wheel/Tyre replacement | C10: 1 | E10: =D10*C10 -> 0
B11: Battery replacement | C11: 2 | E11: =D11*C11 -> 0
B12: Battery charger replacement | C12: 1 | E12: =D12*C12 -> 0
B13: Charging Cable replacement | C13: 1 | E13: =D13*C13 -> 0
B14: Electrial wire repairs | C14: 1 | E14: =D14*C14 -> 0
... B21: Annual Service (Include scope) | C21: 1 | E21: =D21*C21 -> 0
B22: SUBTOTAL EX VAT | E22: =SUM(E3:E21) -> 0

Sheet 3
B2: Unit 3 | C2: Unit | D2: Unit Price | E2: Total Price
B3: Labour per hour | C3: 1 | E3: =D3*C3 -> 0
B4: Transportation of unit to and from site at CTIA (including trailer) | C4: 1 | E4: =D4*C4 -> 0
B5: Paint damage repair (1m sq) | C5: 1 | E5: =D5*C5 -> 0
B6: Joystick | C6: 1 | E6: =D6*C6 -> 0
B7: Hydraulic Pump | C7: 1 | E7: =D7*C7 -> 0
B8: Hydraulic pipes (1m) | C8: 1 | E8: =D8*C8 -> 0
B9: Hydraulic Fluid | C9: 1 | E9: =D9*C9 -> 0
B10: Wheel/Tyre replacement | C10: 1 | E10: =D10*C10 -> 0
B11: Battery replacement | C11: 2 | E11: =D11*C11 -> 0
B12: Battery charger replacement | C12: 1 | E12: =D12*C12 -> 0
B13: Charging Cable replacement | C13: 1 | E13: =D13*C13 -> 0
B14: Electrial wire repairs | C14: 1 | E14: =D14*C14 -> 0
... B21: Annual Service (Include scope) | C21: 1 | E21: =D21*C21 -> 0
B22: SUBTOTAL EX VAT | E22: =SUM(E3:E21) -> 0

Sheet 4
B2: Unit 4 | C2: Unit | D2: Unit Price | E2: Total Price
B3: Labour per hour | C3: 1 | E3: =D3*C3 -> 0
B4: Transportation of unit to and from site at CTIA (including trailer) | C4: 1 | E4: =D4*C4 -> 0
B5: Paint damage repair (1m sq) | C5: 1 | E5: =D5*C5 -> 0
B6: Joystick | C6: 1 | E6: =D6*C6 -> 0
B7: Hydraulic Pump | C7: 1 | E7: =D7*C7 -> 0
B8: Hydraulic pipes (1m) | C8: 1 | E8: =D8*C8 -> 0
B9: Hydraulic Fluid | C9: 1 | E9: =D9*C9 -> 0
B10: Wheel/Tyre replacement | C10: 1 | E10: =D10*C10 -> 0
B11: Battery replacement | C11: 2 | E11: =D11*C11 -> 0
B12: Battery charger replacement | C12: 1 | E12: =D12*C12 -> 0
B13: Charging Cable replacement | C13: 1 | E13: =D13*C13 -> 0
B14: Electrial wire repairs | C14: 1 | E14: =D14*C14 -> 0
... B21: Annual Service (Include scope) | C21: 1 | E21: =D21*C21 -> 0
B22: SUBTOTAL EX VAT | E22: =SUM(E3:E21) -> 0

Sheet 5
B2: Unit 5 | C2: Unit | D2: Unit Price | E2: Total Price
B3: Labour per hour | C3: 1 | E3: =D3*C3 -> 0
B4: Transportation of unit to and from site at CTIA (including trailer) | C4: 1 | E4: =D4*C4 -> 0
B5: Paint damage repair (1m sq) | C5: 1 | E5: =D5*C5 -> 0
B6: Joystick | C6: 1 | E6: =D6*C6 -> 0
B7: Hydraulic Pump | C7: 1 | E7: =D7*C7 -> 0
B8: Hydraulic pipes (1m) | C8: 1 | E8: =D8*C8 -> 0
B9: Hydraulic Fluid | C9: 1 | E9: =D9*C9 -> 0
B10: Wheel/Tyre replacement | C10: 1 | E10: =D10*C10 -> 0
B11: Battery replacement | C11: 2 | E11: =D11*C11 -> 0
B12: Battery charger replacement | C12: 1 | E12: =D12*C12 -> 0
B13: Charging Cable replacement | C13: 1 | E13: =D13*C13 -> 0
B14: Electrial wire repairs | C14: 1 | E14: =D14*C14 -> 0
... B21: Annual Service (Include scope) | C21: 1 | E21: =D21*C21 -> 0
B22: SUBTOTAL EX VAT | E22: =SUM(E3:E21) -> 0

Sheet 6
B2: Unit 6 | C2: Unit | D2: Unit Price | E2: Total Price
B3: Labour per hour | C3: 1 | E3: =D3*C3 -> 0
B4: Transportation of unit to and from site at CTIA (including trailer) | C4: 1 | E4: =D4*C4 -> 0
B5: Paint damage repair (1m sq) | C5: 1 | E5: =D5*C5 -> 0
B6: Joystick | C6: 1 | E6: =D6*C6 -> 0
B7: Hydraulic Pump | C7: 1 | E7: =D7*C7 -> 0
B8: Hydraulic pipes (1m) | C8: 1 | E8: =D8*C8 -> 0
B9: Hydraulic Fluid | C9: 1 | E9: =D9*C9 -> 0
B10: Wheel/Tyre replacement | C10: 1 | E10: =D10*C10 -> 0
B11: Battery replacement | C11: 2 | E11: =D11*C11 -> 0
B12: Battery charger replacement | C12: 1 | E12: =D12*C12 -> 0
B13: Charging Cable replacement | C13: 1 | E13: =D13*C13 -> 0
B14: Electrial wire repairs | C14: 1 | E14: =D14*C14 -> 0
... B21: Annual Service (Include scope) | C21: 1 | E21: =D21*C21 -> 0
B22: SUBTOTAL EX VAT | E22: =SUM(E3:E21) -> 0
