Workbook

Sheet Annex F - Scope of Work
A1: 1C-29302: ANNEXURE F - PROVISION OF LAND INVASION CONTROL [LIC] SECURITY SERVICES: ARMED SECURITY OFFICERS AND GENERAL WORKERS FOR THE PERIOD OF THIRTY-SIX (36) MONTHS | M1: OPERATING TIMES | Q1: PERSONNEL | CB1: ANCILLARY EQUIPMENT
A2: GENERAL INFORMATION | M2: OPERATING TIMES | Q2: GENERAL GUARDING: UNARMED | W2: GENERAL GUARDING: ARMED | AC2: DOG HANDLING GUARDING: UNARMED | AI2: NATIONAL KEY POINT [NKP] GUARDING: ARMED | AO2: ESCORT GUARDING: ARMED | AU2: ALARM MONITORING & ARMED RESPONSE | BA2: SPECIAL EVENTS GUARDING: UNARMED | BG2: LAND INVASION CONTROL: ARMED | BO2: ELECTRONIC SYSTEMS INSTALLATIONS PRACTICES | BU2: CLOSE PROTECTION GUARDING: ARMED | CB2: MOBILE DEVICES | CH2: GUARD TOOLS | CN2: ABLUTION | CR2: VIHECLES | DB2: PATROL MOBILE TOOLS | DJ2: SECURITY SYSTEMS | DR2: DEMOLISHING HAND TOOLS
Q3: DAY | R3: NIGHT | S3: DAY | T3: NIGHT | U3: DAY | V3: NIGHT | W3: DAY | X3: NIGHT | Y3: DAY | Z3: NIGHT | AA3: DAY | AB3: NIGHT | AC3: DAY | AD3: NIGHT | AE3: DAY | AF3: NIGHT | AG3: DAY | AH3: NIGHT | AI3: DAY | AJ3: NIGHT | AK3: DAY | AL3: NIGHT | AM3: DAY | AN3: NIGHT | AO3: DAY | AP3: NIGHT | AQ3: DAY | AR3: NIGHT | AS3: DAY | AT3: NIGHT | AU3: DAY | AV3: NIGHT | AW3: DAY | AX3: NIGHT | AY3: DAY | AZ3: NIGHT | BA3: DAY | BB3: NIGHT | BC3: DAY | BD3: NIGHT | BE3: DAY | BF3: NIGHT | BG3: DAY | BH3: NIGHT | BI3: DAY | BJ3: NIGHT | BK3: DAY | BL3: NIGHT | BM3: DAY | BN3: NIGHT | BO3: DAY | BP3: NIGHT | BQ3: DAY | BR3: NIGHT | BS3: DAY | BT3: NIGHT | BU3: DAY | BV3: NIGHT | BW3: DAY | BX3: NIGHT | BY3: DAY | BZ3: NIGHT | CB3: DAY | CC3: NIGHT | CD3: DAY | CE3: NIGHT | CF3: DAY | CG3: NIGHT | CH3: DAY | CI3: NIGHT | CJ3: DAY | CK3: NIGHT | CM3: NIGHT | CN3: DAY | CO3: NIGHT | CP3: DAY | CQ3: NIGHT | CR3: DAY | CS3: NIGHT | CT3: DAY | CU3: NIGHT | CV3: DAY | CW3: NIGHT | CX3: DAY | CY3: NIGHT | CZ3: DAY | DA3: NIGHT | DB3: DAY | DC3: NIGHT | DD3: DAY | DE3: NIGHT | DF3: DAY | DG3: NIGHT | DH3: DAY | DI3: NIGHT | DJ3: DAY | DK3: NIGHT | DL3: DAY | DM3: NIGHT | DN3: DAY | DO3: NIGHT | DP3: DAY | DQ3: NIGHT | DR3: DAY | DS3: NIGHT | DT3: DAY | DU3: NIGHT | DV3: DAY | DW3: NIGHT
A4: NO OF SITES | B4: SITE REF | C4: SCHEDULE NO. | D4: SITE TYPE | E4: SITE NAME | F4: REGION | G4: SERVICE TYPE | H4: Armed | I4: PERM/TEMP (P/T) | J4: SERVICE UNIT | K4: SHIFTS PATTERN AND HOURS | L4: EXCEPTION SHIFT PATTERNS: COMMENTS | M4: DAY START TIME | N4: DAY END TIME | O4: NIGHT START TIME | P4: NIGHT END TIME | Q4: GRADE A | R4: GRADE A2 | S4: GRADE B | T4: GRADE B3 | U4: GRADE C | V4: GRADE C4 | W4: GRADE A5 | X4: GRADE A6 | Y4: GRADE B7 | Z4: GRADE B8 | AA4: GRADE C9 | AB4: GRADE C10 | AC4: GRADE A11 | AD4: GRADE A12 | AE4: GRADE B13 | AF4: GRADE B14 | AG4: GRADE C15 | AH4: GRADE C16 | AI4: GRADE A17 | AJ4: GRADE A18 | AK4: GRADE B19 | AL4: GRADE B20 | AM4: GRADE C21 | AN4: GRADE C22 | AO4: GRADE A23 | AP4: GRADE A24 | AQ4: GRADE B25 | AR4: GRADE B26 | AS4: GRADE C27 | AT4: GRADE C28 | AU4: GRADE A29 | AV4: GRADE A30 | AW4: GRADE B31 | AX4: GRADE B32 | AY4: GRADE C33 | AZ4: GRADE C34 | BA4: GRADE A35 | BB4: GRADE A36 | BC4: GRADE B37 | BD4: GRADE B38 | BE4: GRADE C39 | BF4: GRADE C40 | BG4: GRADE A41 | BH4: GRADE A42 | BI4: GRADE B43 | BJ4: GRADE B44 | BK4: GRADE C45 | BL4: GRADE C46 | BM4: GENERAL WORKER | BN4: GENERAL WORKER2 | BO4: GRADE A47 | BP4: GRADE A48 | BQ4: GRADE B49 | BR4: GRADE B50 | BS4: GRADE C51 | BT4: GRADE C52 | BU4: GRADE A53 | BV4: GRADE A54 | BW4: GRADE B55 | BX4: GRADE B56 | BY4: GRADE C57 | BZ4: GRADE C58 | CA4: TOTAL NO OF GUARDS | CB4: 2 WAY RADIO | CC4: 2 WAY RADIO59 | CD4: CELLPHONE | CE4: CELLPHONE61 | CF4: HANDHELD SCANNERS | CG4: HANDHELD SCANNERS62 | CH4: DOGS | CI4: DOGS63 | CJ4: FIREARMS | CK4: FIREARMS64 | CL4: Bullet Proof [SABS Approved - Leve 3] | CM4: Bullet Proof [SABS Approved - Leve 3]68 | CN4: GUARDHUT | CO4: GUARDHUT69 | CP4: PORTABLE TOILET | CQ4: PORTABLE TOILET70 | CR4: 5 SEATER: SEDAN/HATCH BACK | CS4: 5 SEATER: SEDAN/HATCH BACK71 | CT4: 5 SEATER: HIGH PERFORMANCE: SEDAN/HATCHBACK/SUV/DOUBLE CAB 4 X 4 | CU4: 5 SEATER: HIGH PERFORMANCE: SEDAN/HATCHBACK/SUV/DOUBLE CAB 4 X 472 | CV4: DOUBLE CAB 4 x 4 | CW4: DOUBLE CAB 4 x 4 73 | CX4: SINGLE CAB 4 x 4 | CY4: SINGLE CAB 4 x 4 74 | CZ4: 10 SEATER PLUS: MINIBUS | DA4: 10 SEATER PLUS: MINIBUS75 | DB4: TWO WHEEL SAGWAY | DC4: TWO WHEEL SAGWAY76 | DD4: ELECTRIC GOLF CART 2 SEATER | DE4: ELECTRIC GOLF CART 2 SEATER 77 | DF4: ELECTRIC GOLF CART 4 SEATER | DG4: ELECTRIC GOLF CART 4 SEATER 78 | DH4: BICYCLE | DI4: BICYCLE79 | DJ4: PATROL MONITORING SYSTEM | DK4: PATROL MONITORING SYSTEM80 | DL4: ELECTRONIC VEHICLE & LICENCE REGISTERS | DM4: ELECTRONIC VEHICLE & LICENCE REGISTERS81 | DN4: ELECTRONIC SIGN ON & OFF DUTY [BIOMETRIX] | DO4: ELECTRONIC SIGN ON & OFF DUTY [BIOMETRIX]82 | DP4: ALARM | DQ4: ALARM83 | DR4: LONG HANDLE AXE | DS4: LONG HANDLE AXE88 | DT4: HAMMER | DU4: HAMMER89 | DV4: CHAINSAW | DW4: CHAINSAW90
A5: =IF(ISTEXT(B5:B1146)*COUNTIF(B5:B1146,B5:B1146)=1,1,0) -> 0 | D5: LIC | E5: LIC: Northern Areas | F5: Northern | G5: Patrol & Demolish Guards | H5: Armed | I5: UFN | J5: SECURITY MANGEMENT | K5: D7PHHR12 | M5: 0.375 | N5: 0.875 | AG5: 0 | AH5: 0 | BG5: 1 | BI5: 5 | BK5: 15 | BM5: 10 | CA5: =SUM(Q5:BM5) -> 31 | CB5: 12 | CD5: 6 | CJ5: 21 | CL5: 21 | CV5: 5 | CX5: 1 | CZ5: 1 | DR5: 15 | DT5: 9 | DV5: 2
A6: =IF(ISTEXT(B6:B1146)*COUNTIF(B6:B1146,B6:B1146)=1,1,0) -> 0 | D6: LIC | E6: LIC: Southern Areas | F6: Southern | G6: Patrol & Demolish Guards | H6: Armed | I6: UFN | J6: SECURITY MANGEMENT | K6: D7PHHR12 | M6: 0.375 | N6: 0.875 | AG6: 0 | AH6: 0 | BG6: 1 | BI6: 5 | BK6: 15 | BM6: 10 | CA6: =SUM(Q6:BM6) -> 31 | CB6: 12 | CD6: 6 | CJ6: 21 | CL6: 21 | CV6: 5 | CX6: 1 | CZ6: 1 | DR6: 15 | DT6: 9 | DV6: 2
A7: =IF(ISTEXT(B7:B1147)*COUNTIF(B7:B1147,B7:B1147)=1,1,0) -> 0 | D7: LIC | E7: LIC: Western & Central Areas | F7: Western | G7: Patrol & Demolish Guards | H7: Armed | I7: UFN | J7: SECURITY MANGEMENT | K7: D7PHHR12 | M7: 0.375 | N7: 0.875 | AG7: 0 | AH7: 0 | BG7: 1 | BI7: 5 | BK7: 15 | BM7: 10 | CA7: =SUM(Q7:BM7) -> 31 | CB7: 12 | CD7: 6 | CJ7: 21 | CL7: 21 | CV7: 5 | CX7: 1 | CZ7: 1 | DR7: 15 | DT7: 9 | DV7: 2
Q8: =SUM(Q5:Q7) -> 0 | R8: =SUM(R5:R7) -> 0 | S8: =SUM(S5:S7) -> 0 | T8: =SUM(T5:T7) -> 0 | U8: =SUM(U5:U7) -> 0 | V8: =SUM(V5:V7) -> 0 | W8: =SUM(W5:W7) -> 0 | X8: =SUM(X5:X7) -> 0 | ... DW8: =SUM(DW5:DW7) -> 0
A9: Notes
A10: 1. Only Schedules tendered for must be returned with the tender document.
A11: In response to Tender Number : 1C-29302 I / we hereby offer to supply the goods / services detailed hereunder in accordance with the Technical Specification, and subject to the Standard and Special Conditions of Tender (Goods/Services), and General and Special Conditions of Contract, which accompanied your Tender (with which I / we acknowledge myself / ourselves to be fully acquainted) at the scope of work stated above indicated in this annexure.
A12: Bidding Entity
A13: Name of Representative:
A14: Company Registration No.
A15: Designation:
A16: Signature:
A17: Date:

Sheet Annex F - Monthly BOQ
A1: 1C-1502/16: PROVISION OF SECURITY SERVICES FOR ETHEKWINI MUNICIPALITY
A2: ANNEXURE F
A3: PER MONTH
A4: PSIRA AREA ONE | J4: YEAR 1 | O4: YEAR 2 | T4: YEAR 3 | Z4: TOTAL ESTIMATED CONTRACT VALUE
A5: PERSONNEL | B5: Security Grade | C5: Guards Type | D5: Specialised Training | F5: Shift Patterns | G5: Estimated Personnel/s: day shift | H5: Estimated Personnel/s: night shift | I5: Number of months in a year | J5: Cost Per Guard Monthly: Day Shift | K5: Total Guard Cost Per Month: Day Shift | L5: Cost Per Guard Monthly: Night Shift | M5: Total Guard Cost Per Month Night Shift | N5: Total Yearly Cost | O5: Cost Per Guard Monthly: Day Shift | P5: Total Guard Cost Per Month: Day Shift | Q5: Cost Per Guard Monthly: Night Shift | R5: Total Guard Cost Per Month Night Shift | S5: Total Yearly Cost | T5: Cost Per Guard Monthly: Day Shift | U5: Total Guard Cost Per Month: Day Shift | V5: Cost Per Guard Monthly: Night Shift | W5: Total Guard Cost Per Month Night Shift | X5: Total Yearly Cost | Z5: Sub-Total Cost | AA5: Total VAT | AB5: Total Cost
J6: [ZAR] | K6: [ZAR] | L6: [ZAR] | M6: [ZAR] | N6: [ZAR] | O6: [ZAR] | P6: [ZAR] | Q6: [ZAR] | R6: [ZAR] | S6: [ZAR] | T6: [ZAR] | U6: [ZAR] | V6: [ZAR] | W6: [ZAR] | X6: [ZAR] | Z6: [ZAR] | AA6: [ZAR] | AB6: [ZAR]
J7: (VAT Exclusive) | K7: (VAT Exclusive) | L7: (VAT Exclusive) | M7: (VAT Exclusive) | N7: (VAT Exclusive) | O7: (VAT Exclusive) | P7: (VAT Exclusive) | Q7: (VAT Exclusive) | R7: (VAT Exclusive) | S7: (VAT Exclusive) | T7: (VAT Exclusive) | U7: (VAT Exclusive) | V7: (VAT Exclusive) | W7: (VAT Exclusive) | X7: (VAT Exclusive) | Z7: (VAT Exclusive) | AA7: VAT | AB7: (VAT Inclusive)
B8: Grade A | C8: Unarmed | E8: 7(16) | F8: 7 Days a week 16 Hours per day | G8: - | H8: - | I8: 12 | J8: 0 | K8: =G8*J8 -> #VALUE! | L8: 0 | M8: =H8*L8 -> #VALUE! | N8: =M8+K8 -> #VALUE! | O8: 0 | P8: =L8*O8 -> 0 | Q8: 0 | R8: =M8*Q8 -> #VALUE! | S8: =R8+P8 -> #VALUE! | T8: 0 | U8: =Q8*T8 -> 0 | V8: 0 | W8: =R8*V8 -> #VALUE! | X8: =W8+U8 -> #VALUE! | Z8: =N8+S8+X8 -> #VALUE! | AA8: =O8+T8+Y8 -> 0 | AB8: =P8+U8+Z8 -> #VALUE!
B9: Grade B | C9: Unarmed | E9: 7(16) | F9: 7 Days a week 16 Hours per day | G9: - | H9: - | I9: 12 | J9: 0 | K9: =G9*J9 -> #VALUE! | L9: 0 | M9: =H9*L9 -> #VALUE! | N9: 0 | O9: 0 | P9: =L9*O9 -> 0 | Q9: 0 | R9: =M9*Q9 -> #VALUE! | S9: 0 | T9: 0 | U9: =Q9*T9 -> 0 | V9: 0 | W9: =R9*V9 -> #VALUE! | X9: 0 | Z9: =N9+S9+X9 -> 0 | AA9: =O9+T9+Y9 -> 0 | AB9: =P9+U9+Z9 -> 0
B10: Grade C | C10: Unarmed | E10: 7(16) | F10: 7 Days a week 16 Hours per day | G10: - | H10: - | I10: 12 | J10: 0 | K10: =G10*J10 -> #VALUE! | L10: 0 | M10: =H10*L10 -> #VALUE! | N10: 0 | O10: 0 | P10: =L10*O10 -> 0 | Q10: 0 | R10: =M10*Q10 -> #VALUE! | S10: 0 | T10: 0 | U10: =Q10*T10 -> 0 | V10: 0 | W10: =R10*V10 -> #VALUE! | X10: 0 | Z10: =N10+S10+X10 -> 0 | AA10: =O10+T10+Y10 -> 0 | AB10: =P10+U10+Z10 -> 0
G11: - | H11: -
B12: Grade A | C12: Unarmed | E12: 7(12) | F12: 7 Days a week 12 Hours per day | G12: - | H12: - | I12: 12 | J12: 0 | K12: =G12*J12 -> #VALUE! | L12: 0 | M12: =H12*L12 -> #VALUE! | N12: 0 | O12: 0 | P12: =L12*O12 -> 0 | Q12: 0 | R12: =M12*Q12 -> #VALUE! | S12: 0 | T12: 0 | U12: =Q12*T12 -> 0 | V12: 0 | W12: =R12*V12 -> #VALUE! | X12: 0 | Z12: =N12+S12+X12 -> 0 | AA12: =O12+T12+Y12 -> 0 | AB12: =P12+U12+Z12 -> 0
B13: Grade B | C13: Unarmed | E13: 7(12) | F13: 7 Days a week 12 Hours per day | G13: - | H13: - | I13: 12 | J13: 0 | K13: =G13*J13 -> #VALUE! | L13: 0 | M13: =H13*L13 -> #VALUE! | N13: 0 | O13: 0 | P13: =L13*O13 -> 0 | Q13: 0 | R13: =M13*Q13 -> #VALUE! | S13: 0 | T13: 0 | U13: =Q13*T13 -> 0 | V13: 0 | W13: =R13*V13 -> #VALUE! | X13: 0 | Z13: =N13+S13+X13 -> 0 | AA13: =O13+T13+Y13 -> 0 | AB13: =P13+U13+Z13 -> 0
B14: Grade C | C14: Unarmed | E14: 7(12) | F14: 7 Days a week 12 Hours per day | G14: - | H14: - | I14: 12 | J14: 0 | K14: =G14*J14 -> #VALUE! | L14: 0 | M14: =H14*L14 -> #VALUE! | N14: 0 | O14: 0 | P14: =L14*O14 -> 0 | Q14: 0 | R14: =M14*Q14 -> #VALUE! | S14: 0 | T14: 0 | U14: =Q14*T14 -> 0 | V14: 0 | W14: =R14*V14 -> #VALUE! | X14: 0 | Z14: =N14+S14+X14 -> 0 | AA14: =O14+T14+Y14 -> 0 | AB14: =P14+U14+Z14 -> 0
G15: - | H15: -
B16: Grade A | C16: Unarmed | E16: 7(10) | F16: 7 Days a week 10 Hours per day | G16: - | H16: - | I16: 12 | J16: 0 | K16: =G16*J16 -> #VALUE! | L16: 0 | M16: =H16*L16 -> #VALUE! | N16: 0 | O16: 0 | P16: =L16*O16 -> 0 | Q16: 0 | R16: =M16*Q16 -> #VALUE! | S16: 0 | T16: 0 | U16: =Q16*T16 -> 0 | V16: 0 | W16: =R16*V16 -> #VALUE! | X16: 0 | Z16: =N16+S16+X16 -> 0 | AA16: =O16+T16+Y16 -> 0 | AB16: =P16+U16+Z16 -> 0
B17: Grade B | C17: Unarmed | E17: 7(10) | F17: 7 Days a week 10 Hours per day | G17: - | H17: - | I17: 12 | J17: 0 | K17: =G17*J17 -> #VALUE! | L17: 0 | M17: =H17*L17 -> #VALUE! | N17: 0 | O17: 0 | P17: =L17*O17 -> 0 | Q17: 0 | R17: =M17*Q17 -> #VALUE! | S17: 0 | T17: 0 | U17: =Q17*T17 -> 0 | V17: 0 | W17: =R17*V17 -> #VALUE! | X17: 0 | Z17: =N17+S17+X17 -> 0 | AA17: =O17+T17+Y17 -> 0 | AB17: =P17+U17+Z17 -> 0
B18: Grade C | C18: Unarmed | E18: 7(10) | F18: 7 Days a week 10 Hours per day | G18: - | H18: - | I18: 12 | J18: 0 | K18: =G18*J18 -> #VALUE! | L18: 0 | M18: =H18*L18 -> #VALUE! | N18: 0 | O18: 0 | P18: =L18*O18 -> 0 | Q18: 0 | R18: =M18*Q18 -> #VALUE! | S18: 0 | T18: 0 | U18: =Q18*T18 -> 0 | V18: 0 | W18: =R18*V18 -> #VALUE! | X18: 0 | Z18: =N18+S18+X18 -> 0 | AA18: =O18+T18+Y18 -> 0 | AB18: =P18+U18+Z18 -> 0
G19: - | H19: -
B20: Grade A | C20: Unarmed | E20: 7(8) | F20: 7 Days a week 8 Hours per day | G20: - | H20: - | I20: 12 | J20: 0 | K20: =G20*J20 -> #VALUE! | L20: 0 | M20: =H20*L20 -> #VALUE! | N20: 0 | O20: 0 | P20: =L20*O20 -> 0 | Q20: 0 | R20: =M20*Q20 -> #VALUE! | S20: 0 | T20: 0 | U20: =Q20*T20 -> 0 | V20: 0 | W20: =R20*V20 -> #VALUE! | X20: 0 | Z20: =N20+S20+X20 -> 0 | AA20: =O20+T20+Y20 -> 0 | AB20: =P20+U20+Z20 -> 0
B21: Grade B | C21: Unarmed | E21: 7(8) | F21: 7 Days a week 8 Hours per day | G21: - | H21: - | I21: 12 | J21: 0 | K21: =G21*J21 -> #VALUE! | L21: 0 | M21: =H21*L21 -> #VALUE! | N21: 0 | O21: 0 | P21: =L21*O21 -> 0 | Q21: 0 | R21: =M21*Q21 -> #VALUE! | S21: 0 | T21: 0 | U21: =Q21*T21 -> 0 | V21: 0 | W21: =R21*V21 -> #VALUE! | X21: 0 | Z21: =N21+S21+X21 -> 0 | AA21: =O21+T21+Y21 -> 0 | AB21: =P21+U21+Z21 -> 0
B22: Grade C | C22: Unarmed | E22: 7(8) | F22: 7 Days a week 8 Hours per day | G22: - | H22: - | I22: 12 | J22: 0 | K22: =G22*J22 -> #VALUE! | L22: 0 | M22: =H22*L22 -> #VALUE! | N22: 0 | O22: 0 | P22: =L22*O22 -> 0 | Q22: 0 | R22: =M22*Q22 -> #VALUE! | S22: 0 | T22: 0 | U22: =Q22*T22 -> 0 | V22: 0 | W22: =R22*V22 -> #VALUE! | X22: 0 | Z22: =N22+S22+X22 -> 0 | AA22: =O22+T22+Y22 -> 0 | AB22: =P22+U22+Z22 -> 0
G23: - | H23: -
B24: Grade A | C24: Unarmed | E24: 6(16) | F24: 6 Days a week 16 Hours per day | G24: - | H24: - | I24: 12 | J24: 0 | K24: =G24*J24 -> #VALUE! | L24: 0 | M24: =H24*L24 -> #VALUE! | N24: 0 | O24: 0 | P24: =L24*O24 -> 0 | Q24: 0 | R24: =M24*Q24 -> #VALUE! | S24: 0 | T24: 0 | U24: =Q24*T24 -> 0 | V24: 0 | W24: =R24*V24 -> #VALUE! | X24: 0 | Z24: =N24+S24+X24 -> 0 | AA24: =O24+T24+Y24 -> 0 | AB24: =P24+U24+Z24 -> 0
B25: Grade B | C25: Unarmed | E25: 6(16) | F25: 6 Days a week 16 Hours per day | G25: - | H25: - | I25: 12 | J25: 0 | K25: =G25*J25 -> #VALUE! | L25: 0 | M25: =H25*L25 -> #VALUE! | N25: 0 | O25: 0 | P25: =L25*O25 -> 0 | Q25: 0 | R25: =M25*Q25 -> #VALUE! | S25: 0 | T25: 0 | U25: =Q25*T25 -> 0 | V25: 0 | W25: =R25*V25 -> #VALUE! | X25: 0 | Z25: =N25+S25+X25 -> 0 | AA25: =O25+T25+Y25 -> 0 | AB25: =P25+U25+Z25 -> 0
B26: Grade C | C26: Unarmed | E26: 6(16) | F26: 6 Days a week 16 Hours per day | G26: - | H26: - | I26: 12 | J26: 0 | K26: =G26*J26 -> #VALUE! | L26: 0 | M26: =H26*L26 -> #VALUE! | N26: 0 | O26: 0 | P26: =L26*O26 -> 0 | Q26: 0 | R26: =M26*Q26 -> #VALUE! | S26: 0 | T26: 0 | U26: =Q26*T26 -> 0 | V26: 0 | W26: =R26*V26 -> #VALUE! | X26: 0 | Z26: =N26+S26+X26 -> 0 | AA26: =O26+T26+Y26 -> 0 | AB26: =P26+U26+Z26 -> 0
G27: - | H27: -
B28: Grade A | C28: Unarmed | E28: 6(12) | F28: 6 Days a week 12 Hours per day | G28: - | H28: - | I28: 12 | J28: 0 | K28: =G28*J28 -> #VALUE! | L28: 0 | M28: =H28*L28 -> #VALUE! | N28: 0 | O28: 0 | P28: =L28*O28 -> 0 | Q28: 0 | R28: =M28*Q28 -> #VALUE! | S28: 0 | T28: 0 | U28: =Q28*T28 -> 0 | V28: 0 | W28: =R28*V28 -> #VALUE! | X28: 0 | Z28: =N28+S28+X28 -> 0 | AA28: =O28+T28+Y28 -> 0 | AB28: =P28+U28+Z28 -> 0
B29: Grade B | C29: Unarmed | E29: 6(12) | F29: 6 Days a week 12 Hours per day | G29: - | H29: - | I29: 12 | J29: 0 | K29: =G29*J29 -> #VALUE! | L29: 0 | M29: =H29*L29 -> #VALUE! | N29: 0 | O29: 0 | P29: =L29*O29 -> 0 | Q29: 0 | R29: =M29*Q29 -> #VALUE! | S29: 0 | T29: 0 | U29: =Q29*T29 -> 0 | V29: 0 | W29: =R29*V29 -> #VALUE! | X29: 0 | Z29: =N29+S29+X29 -> 0 | AA29: =O29+T29+Y29 -> 0 | AB29: =P29+U29+Z29 -> 0
B30: Grade C | C30: Unarmed | E30: 6(12) | F30: 6 Days a week 12 Hours per day | G30: - | H30: - | I30: 12 | J30: 0 | K30: =G30*J30 -> #VALUE! | L30: 0 | M30: =H30*L30 -> #VALUE! | N30: 0 | O30: 0 | P30: =L30*O30 -> 0 | Q30: 0 | R30: =M30*Q30 -> #VALUE! | S30: 0 | T30: 0 | U30: =Q30*T30 -> 0 | V30: 0 | W30: =R30*V30 -> #VALUE! | X30: 0 | Z30: =N30+S30+X30 -> 0 | AA30: =O30+T30+Y30 -> 0 | AB30: =P30+U30+Z30 -> 0
G31: - | H31: -
B32: Grade A | C32: Unarmed | E32: 6(10) | F32: 6 Days a week 10 Hours per day | G32: - | H32: - | I32: 12 | J32: 0 | K32: =G32*J32 -> #VALUE! | L32: 0 | M32: =H32*L32 -> #VALUE! | N32: 0 | O32: 0 | P32: =L32*O32 -> 0 | Q32: 0 | R32: =M32*Q32 -> #VALUE! | S32: 0 | T32: 0 | U32: =Q32*T32 -> 0 | V32: 0 | W32: =R32*V32 -> #VALUE! | X32: 0 | Z32: =N32+S32+X32 -> 0 | AA32: =O32+T32+Y32 -> 0 | AB32: =P32+U32+Z32 -> 0
B33: Grade B | C33: Unarmed | E33: 6(10) | F33: 6 Days a week 10 Hours per day | G33: - | H33: - | I33: 12 | J33: 0 | K33: =G33*J33 -> #VALUE! | L33: 0 | M33: =H33*L33 -> #VALUE! | N33: 0 | O33: 0 | P33: =L33*O33 -> 0 | Q33: 0 | R33: =M33*Q33 -> #VALUE! | S33: 0 | T33: 0 | U33: =Q33*T33 -> 0 | V33: 0 | W33: =R33*V33 -> #VALUE! | X33: 0 | Z33: =N33+S33+X33 -> 0 | AA33: =O33+T33+Y33 -> 0 | AB33: =P33+U33+Z33 -> 0
B34: Grade C | C34: Unarmed | E34: 6(10) | F34: 6 Days a week 10 Hours per day | G34: - | H34: - | I34: 12 | J34: 0 | K34: =G34*J34 -> #VALUE! | L34: 0 | M34: =H34*L34 -> #VALUE! | N34: 0 | O34: 0 | P34: =L34*O34 -> 0 | Q34: 0 | R34: =M34*Q34 -> #VALUE! | S34: 0 | T34: 0 | U34: =Q34*T34 -> 0 | V34: 0 | W34: =R34*V34 -> #VALUE! | X34: 0 | Z34: =N34+S34+X34 -> 0 | AA34: =O34+T34+Y34 -> 0 | AB34: =P34+U34+Z34 -> 0
G35: - | H35: -
B36: Grade A | C36: Unarmed | E36: 6(8) | F36: 6 Days a week 8 Hours per day | G36: - | H36: - | I36: 12 | J36: 0 | K36: =G36*J36 -> #VALUE! | L36: 0 | M36: =H36*L36 -> #VALUE! | N36: 0 | O36: 0 | P36: =L36*O36 -> 0 | Q36: 0 | R36: =M36*Q36 -> #VALUE! | S36: 0 | T36: 0 | U36: =Q36*T36 -> 0 | V36: 0 | W36: =R36*V36 -> #VALUE! | X36: 0 | Z36: =N36+S36+X36 -> 0 | AA36: =O36+T36+Y36 -> 0 | AB36: =P36+U36+Z36 -> 0
B37: Grade B | C37: Unarmed | E37: 6(8) | F37: 6 Days a week 8 Hours per day | G37: - | H37: - | I37: 12 | J37: 0 | K37: =G37*J37 -> #VALUE! | L37: 0 | M37: =H37*L37 -> #VALUE! | N37: 0 | O37: 0 | P37: =L37*O37 -> 0 | Q37: 0 | R37: =M37*Q37 -> #VALUE! | S37: 0 | T37: 0 | U37: =Q37*T37 -> 0 | V37: 0 | W37: =R37*V37 -> #VALUE! | X37: 0 | Z37: =N37+S37+X37 -> 0 | AA37: =O37+T37+Y37 -> 0 | AB37: =P37+U37+Z37 -> 0
B38: Grade C | C38: Unarmed | E38: 6(8) | F38: 6 Days a week 8 Hours per day | G38: - | H38: - | I38: 12 | J38: 0 | K38: =G38*J38 -> #VALUE! | L38: 0 | M38: =H38*L38 -> #VALUE! | N38: 0 | O38: 0 | P38: =L38*O38 -> 0 | Q38: 0 | R38: =M38*Q38 -> #VALUE! | S38: 0 | T38: 0 | U38: =Q38*T38 -> 0 | V38: 0 | W38: =R38*V38 -> #VALUE! | X38: 0 | Z38: =N38+S38+X38 -> 0 | AA38: =O38+T38+Y38 -> 0 | AB38: =P38+U38+Z38 -> 0
G39: - | H39: -
B40: Grade A | C40: Unarmed | E40: 5(16) | F40: 5 Days a week 16 Hours per day | G40: - | H40: - | I40: 12 | J40: 0 | K40: =G40*J40 -> #VALUE! | L40: 0 | M40: =H40*L40 -> #VALUE! | N40: 0 | O40: 0 | P40: =L40*O40 -> 0 | Q40: 0 | R40: =M40*Q40 -> #VALUE! | S40: 0 | T40: 0 | U40: =Q40*T40 -> 0 | V40: 0 | W40: =R40*V40 -> #VALUE! | X40: 0 | Z40: =N40+S40+X40 -> 0 | AA40: =O40+T40+Y40 -> 0 | AB40: =P40+U40+Z40 -> 0
B41: Grade B | C41: Unarmed | E41: 5(16) | F41: 5 Days a week 16 Hours per day | G41: - | H41: - | I41: 12 | J41: 0 | K41: =G41*J41 -> #VALUE! | L41: 0 | M41: =H41*L41 -> #VALUE! | N41: 0 | O41: 0 | P41: =L41*O41 -> 0 | Q41: 0 | R41: =M41*Q41 -> #VALUE! | S41: 0 | T41: 0 | U41: =Q41*T41 -> 0 | V41: 0 | W41: =R41*V41 -> #VALUE! | X41: 0 | Z41: =N41+S41+X41 -> 0 | AA41: =O41+T41+Y41 -> 0 | AB41: =P41+U41+Z41 -> 0
B42: Grade C | C42: Unarmed | E42: 5(16) | F42: 5 Days a week 16 Hours per day | G42: - | H42: - | I42: 12 | J42: 0 | K42: =G42*J42 -> #VALUE! | L42: 0 | M42: =H42*L42 -> #VALUE! | N42: 0 | O42: 0 | P42: =L42*O42 -> 0 | Q42: 0 | R42: =M42*Q42 -> #VALUE! | S42: 0 | T42: 0 | U42: =Q42*T42 -> 0 | V42: 0 | W42: =R42*V42 -> #VALUE! | X42: 0 | Z42: =N42+S42+X42 -> 0 | AA42: =O42+T42+Y42 -> 0 | AB42: =P42+U42+Z42 -> 0
G43: - | H43: -
B44: Grade A | C44: Unarmed | E44: 5(12) | F44: 5 Days a week 12 Hours per day | G44: - | H44: - | I44: 12 | J44: 0 | K44: =G44*J44 -> #VALUE! | L44: 0 | M44: =H44*L44 -> #VALUE! | N44: 0 | O44: 0 | P44: =L44*O44 -> 0 | Q44: 0 | R44: =M44*Q44 -> #VALUE! | S44: 0 | T44: 0 | U44: =Q44*T44 -> 0 | V44: 0 | W44: =R44*V44 -> #VALUE! | X44: 0 | Z44: =N44+S44+X44 -> 0 | AA44: =O44+T44+Y44 -> 0 | AB44: =P44+U44+Z44 -> 0
B45: Grade B | C45: Unarmed | E45: 5(12) | F45: 5 Days a week 12 Hours per day | G45: - | H45: - | I45: 12 | J45: 0 | K45: =G45*J45 -> #VALUE! | L45: 0 | M45: =H45*L45 -> #VALUE! | N45: 0 | O45: 0 | P45: =L45*O45 -> 0 | Q45: 0 | R45: =M45*Q45 -> #VALUE! | S45: 0 | T45: 0 | U45: =Q45*T45 -> 0 | V45: 0 | W45: =R45*V45 -> #VALUE! | X45: 0 | Z45: =N45+S45+X45 -> 0 | AA45: =O45+T45+Y45 -> 0 | AB45: =P45+U45+Z45 -> 0
B46: Grade C | C46: Unarmed | E46: 5(12) | F46: 5 Days a week 12 Hours per day | G46: - | H46: - | I46: 12 | J46: 0 | K46: =G46*J46 -> #VALUE! | L46: 0 | M46: =H46*L46 -> #VALUE! | N46: 0 | O46: 0 | P46: =L46*O46 -> 0 | Q46: 0 | R46: =M46*Q46 -> #VALUE! | S46: 0 | T46: 0 | U46: =Q46*T46 -> 0 | V46: 0 | W46: =R46*V46 -> #VALUE! | X46: 0 | Z46: =N46+S46+X46 -> 0 | AA46: =O46+T46+Y46 -> 0 | AB46: =P46+U46+Z46 -> 0
G47: - | H47: -
B48: Grade A | C48: Unarmed | E48: 5(10) | F48: 5 Days a week 10 Hours per day | G48: - | H48: - | I48: 12 | J48: 0 | K48: =G48*J48 -> #VALUE! | L48: 0 | M48: =H48*L48 -> #VALUE! | N48: 0 | O48: 0 | P48: =L48*O48 -> 0 | Q48: 0 | R48: =M48*Q48 -> #VALUE! | S48: 0 | T48: 0 | U48: =Q48*T48 -> 0 | V48: 0 | W48: =R48*V48 -> #VALUE! | X48: 0 | Z48: =N48+S48+X48 -> 0 | AA48: =O48+T48+Y48 -> 0 | AB48: =P48+U48+Z48 -> 0
B49: Grade B | C49: Unarmed | E49: 5(10) | F49: 5 Days a week 10 Hours per day | G49: - | H49: - | I49: 12 | J49: 0 | K49: =G49*J49 -> #VALUE! | L49: 0 | M49: =H49*L49 -> #VALUE! | N49: 0 | O49: 0 | P49: =L49*O49 -> 0 | Q49: 0 | R49: =M49*Q49 -> #VALUE! | S49: 0 | T49: 0 | U49: =Q49*T49 -> 0 | V49: 0 | W49: =R49*V49 -> #VALUE! | X49: 0 | Z49: =N49+S49+X49 -> 0 | AA49: =O49+T49+Y49 -> 0 | AB49: =P49+U49+Z49 -> 0
B50: Grade C | C50: Unarmed | E50: 5(10) | F50: 5 Days a week 10 Hours per day | G50: - | H50: - | I50: 12 | J50: 0 | K50: =G50*J50 -> #VALUE! | L50: 0 | M50: =H50*L50 -> #VALUE! | N50: 0 | O50: 0 | P50: =L50*O50 -> 0 | Q50: 0 | R50: =M50*Q50 -> #VALUE! | S50: 0 | T50: 0 | U50: =Q50*T50 -> 0 | V50: 0 | W50: =R50*V50 -> #VALUE! | X50: 0 | Z50: =N50+S50+X50 -> 0 | AA50: =O50+T50+Y50 -> 0 | AB50: =P50+U50+Z50 -> 0
G51: - | H51: -
B52: Grade A | C52: Unarmed | E52: 5(8) | F52: 5 Days a week 8 Hours per day | G52: - | H52: - | I52: 12 | J52: 0 | K52: =G52*J52 -> #VALUE! | L52: 0 | M52: =H52*L52 -> #VALUE! | N52: 0 | O52: 0 | P52: =L52*O52 -> 0 | Q52: 0 | R52: =M52*Q52 -> #VALUE! | S52: 0 | T52: 0 | U52: =Q52*T52 -> 0 | V52: 0 | W52: =R52*V52 -> #VALUE! | X52: 0 | Z52: =N52+S52+X52 -> 0 | AA52: =O52+T52+Y52 -> 0 | AB52: =P52+U52+Z52 -> 0
B53: Grade B | C53: Unarmed | E53: 5(8) | F53: 5 Days a week 8 Hours per day | G53: - | H53: - | I53: 12 | J53: 0 | K53: =G53*J53 -> #VALUE! | L53: 0 | M53: =H53*L53 -> #VALUE! | N53: 0 | O53: 0 | P53: =L53*O53 -> 0 | Q53: 0 | R53: =M53*Q53 -> #VALUE! | S53: 0 | T53: 0 | U53: =Q53*T53 -> 0 | V53: 0 | W53: =R53*V53 -> #VALUE! | X53: 0 | Z53: =N53+S53+X53 -> 0 | AA53: =O53+T53+Y53 -> 0 | AB53: =P53+U53+Z53 -> 0
B54: Grade C | C54: Unarmed | E54: 5(8) | F54: 5 Days a week 8 Hours per day | G54: - | H54: - | I54: 12 | J54: 0 | K54: =G54*J54 -> #VALUE! | L54: 0 | M54: =H54*L54 -> #VALUE! | N54: 0 | O54: 0 | P54: =L54*O54 -> 0 | Q54: 0 | R54: =M54*Q54 -> #VALUE! | S54: 0 | T54: 0 | U54: =Q54*T54 -> 0 | V54: 0 | W54: =R54*V54 -> #VALUE! | X54: 0 | Z54: =N54+S54+X54 -> 0 | AA54: =O54+T54+Y54 -> 0 | AB54: =P54+U54+Z54 -> 0
G55: - | H55: -
B56: Grade A | C56: Unarmed | E56: 3(16) | F56: 3 Days a week 16 Hours per day | G56: - | H56: - | I56: 12 | J56: 0 | K56: =G56*J56 -> #VALUE! | L56: 0 | M56: =H56*L56 -> #VALUE! | N56: 0 | O56: 0 | P56: =L56*O56 -> 0 | Q56: 0 | R56: =M56*Q56 -> #VALUE! | S56: 0 | T56: 0 | U56: =Q56*T56 -> 0 | V56: 0 | W56: =R56*V56 -> #VALUE! | X56: 0 | Z56: =N56+S56+X56 -> 0 | AA56: =O56+T56+Y56 -> 0 | AB56: =P56+U56+Z56 -> 0
B57: Grade B | C57: Unarmed | E57: 3(16) | F57: 3 Days a week 16 Hours per day | G57: - | H57: - | I57: 12 | J57: 0 | K57: =G57*J57 -> #VALUE! | L57: 0 | M57: =H57*L57 -> #VALUE! | N57: 0 | O57: 0 | P57: =L57*O57 -> 0 | Q57: 0 | R57: =M57*Q57 -> #VALUE! | S57: 0 | T57: 0 | U57: =Q57*T57 -> 0 | V57: 0 | W57: =R57*V57 -> #VALUE! | X57: 0 | Z57: =N57+S57+X57 -> 0 | AA57: =O57+T57+Y57 -> 0 | AB57: =P57+U57+Z57 -> 0
B58: Grade C | C58: Unarmed | E58: 3(16) | F58: 3 Days a week 16 Hours per day | G58: - | H58: - | I58: 12 | J58: 0 | K58: =G58*J58 -> #VALUE! | L58: 0 | M58: =H58*L58 -> #VALUE! | N58: 0 | O58: 0 | P58: =L58*O58 -> 0 | Q58: 0 | R58: =M58*Q58 -> #VALUE! | S58: 0 | T58: 0 | U58: =Q58*T58 -> 0 | V58: 0 | W58: =R58*V58 -> #VALUE! | X58: 0 | Z58: =N58+S58+X58 -> 0 | AA58: =O58+T58+Y58 -> 0 | AB58: =P58+U58+Z58 -> 0
G59: - | H59: -
B60: Grade A | C60: Unarmed | E60: 3(12) | F60: 3 Days a week 12 Hours per day [Weekend & Public Holiday] | G60: - | H60: - | I60: 12 | J60: 0 | K60: =G60*J60 -> #VALUE! | L60: 0 | M60: =H60*L60 -> #VALUE! | N60: 0 | O60: 0 | P60: =L60*O60 -> 0 | Q60: 0 | R60: =M60*Q60 -> #VALUE! | S60: 0 | T60: 0 | U60: =Q60*T60 -> 0 | V60: 0 | W60: =R60*V60 -> #VALUE! | X60: 0 | Z60: =N60+S60+X60 -> 0 | AA60: =O60+T60+Y60 -> 0 | AB60: =P60+U60+Z60 -> 0
B61: Grade B | C61: Unarmed | E61: 3(12) | F61: 3 Days a week 12 Hours per day [Weekend & Public Holiday] | G61: - | H61: - | I61: 12 | J61: 0 | K61: =G61*J61 -> #VALUE! | L61: 0 | M61: =H61*L61 -> #VALUE! | N61: 0 | O61: 0 | P61: =L61*O61 -> 0 | Q61: 0 | R61: =M61*Q61 -> #VALUE! | S61: 0 | T61: 0 | U61: =Q61*T61 -> 0 | V61: 0 | W61: =R61*V61 -> #VALUE! | X61: 0 | Z61: =N61+S61+X61 -> 0 | AA61: =O61+T61+Y61 -> 0 | AB61: =P61+U61+Z61 -> 0
B62: Grade C | C62: Unarmed | E62: 3(12) | F62: 3 Days a week 12 Hours per day [Weekend & Public Holiday] | G62: - | H62: - | I62: 12 | J62: 0 | K62: =G62*J62 -> #VALUE! | L62: 0 | M62: =H62*L62 -> #VALUE! | N62: 0 | O62: 0 | P62: =L62*O62 -> 0 | Q62: 0 | R62: =M62*Q62 -> #VALUE! | S62: 0 | T62: 0 | U62: =Q62*T62 -> 0 | V62: 0 | W62: =R62*V62 -> #VALUE! | X62: 0 | Z62: =N62+S62+X62 -> 0 | AA62: =O62+T62+Y62 -> 0 | AB62: =P62+U62+Z62 -> 0
G63: - | H63: -
B64: Grade A | C64: Unarmed | E64: 3(10) | F64: 3 Days a week 10 Hours per day [Weekend & Public Holiday] | G64: - | H64: - | I64: 12 | J64: 0 | K64: =G64*J64 -> #VALUE! | L64: 0 | M64: =H64*L64 -> #VALUE! | N64: 0 | O64: 0 | P64: =L64*O64 -> 0 | Q64: 0 | R64: =M64*Q64 -> #VALUE! | S64: 0 | T64: 0 | U64: =Q64*T64 -> 0 | V64: 0 | W64: =R64*V64 -> #VALUE! | X64: 0 | Z64: =N64+S64+X64 -> 0 | AA64: =O64+T64+Y64 -> 0 | AB64: =P64+U64+Z64 -> 0
B65: Grade B | C65: Unarmed | E65: 3(10) | F65: 3 Days a week 10 Hours per day [Weekend & Public Holiday] | G65: - | H65: - | I65: 12 | J65: 0 | K65: =G65*J65 -> #VALUE! | L65: 0 | M65: =H65*L65 -> #VALUE! | N65: 0 | O65: 0 | P65: =L65*O65 -> 0 | Q65: 0 | R65: =M65*Q65 -> #VALUE! | S65: 0 | T65: 0 | U65: =Q65*T65 -> 0 | V65: 0 | W65: =R65*V65 -> #VALUE! | X65: 0 | Z65: =N65+S65+X65 -> 0 | AA65: =O65+T65+Y65 -> 0 | AB65: =P65+U65+Z65 -> 0
B66: Grade C | C66: Unarmed | E66: 3(10) | F66: 3 Days a week 10 Hours per day [Weekend & Public Holiday] | G66: - | H66: - | I66: 12 | J66: 0 | K66: =G66*J66 -> #VALUE! | L66: 0 | M66: =H66*L66 -> #VALUE! | N66: 0 | O66: 0 | P66: =L66*O66 -> 0 | Q66: 0 | R66: =M66*Q66 -> #VALUE! | S66: 0 | T66: 0 | U66: =Q66*T66 -> 0 | V66: 0 | W66: =R66*V66 -> #VALUE! | X66: 0 | Z66: =N66+S66+X66 -> 0 | AA66: =O66+T66+Y66 -> 0 | AB66: =P66+U66+Z66 -> 0
G67: - | H67: -
B68: Grade A | C68: Unarmed | E68: 3(8) | F68: 3 Days a week 8 Hours per day [Weekend & Public Holiday] | G68: - | H68: - | I68: 12 | J68: 0 | K68: =G68*J68 -> #VALUE! | L68: 0 | M68: =H68*L68 -> #VALUE! | N68: 0 | O68: 0 | P68: =L68*O68 -> 0 | Q68: 0 | R68: =M68*Q68 -> #VALUE! | S68: 0 | T68: 0 | U68: =Q68*T68 -> 0 | V68: 0 | W68: =R68*V68 -> #VALUE! | X68: 0 | Z68: =N68+S68+X68 -> 0 | AA68: =O68+T68+Y68 -> 0 | AB68: =P68+U68+Z68 -> 0
B69: Grade B | C69: Unarmed | E69: 3(8) | F69: 3 Days a week 8 Hours per day [Weekend & Public Holiday] | G69: - | H69: - | I69: 12 | J69: 0 | K69: =G69*J69 -> #VALUE! | L69: 0 | M69: =H69*L69 -> #VALUE! | N69: 0 | O69: 0 | P69: =L69*O69 -> 0 | Q69: 0 | R69: =M69*Q69 -> #VALUE! | S69: 0 | T69: 0 | U69: =Q69*T69 -> 0 | V69: 0 | W69: =R69*V69 -> #VALUE! | X69: 0 | Z69: =N69+S69+X69 -> 0 | AA69: =O69+T69+Y69 -> 0 | AB69: =P69+U69+Z69 -> 0
B70: Grade C | C70: Unarmed | E70: 3(8) | F70: 3 Days a week 8 Hours per day [Weekend & Public Holiday] | G70: - | H70: - | I70: 12 | J70: 0 | K70: =G70*J70 -> #VALUE! | L70: 0 | M70: =H70*L70 -> #VALUE! | N70: 0 | O70: 0 | P70: =L70*O70 -> 0 | Q70: 0 | R70: =M70*Q70 -> #VALUE! | S70: 0 | T70: 0 | U70: =Q70*T70 -> 0 | V70: 0 | W70: =R70*V70 -> #VALUE! | X70: 0 | Z70: =N70+S70+X70 -> 0 | AA70: =O70+T70+Y70 -> 0 | AB70: =P70+U70+Z70 -> 0
G71: - | H71: -
B72: Grade A | C72: Unarmed | D72: Dog Handler | E72: 7(16) | F72: 7 Days a week 16 Hours per day | G72: - | H72: - | I72: 12 | J72: 0 | K72: =G72*J72 -> #VALUE! | L72: 0 | M72: =H72*L72 -> #VALUE! | N72: 0 | O72: 0 | P72: =L72*O72 -> 0 | Q72: 0 | R72: =M72*Q72 -> #VALUE! | S72: 0 | T72: 0 | U72: =Q72*T72 -> 0 | V72: 0 | W72: =R72*V72 -> #VALUE! | X72: 0 | Z72: =N72+S72+X72 -> 0 | AA72: =O72+T72+Y72 -> 0 | AB72: =P72+U72+Z72 -> 0
B73: Grade B | C73: Unarmed | D73: Dog Handler | E73: 7(16) | F73: 7 Days a week 16 Hours per day | G73: - | H73: - | I73: 12 | J73: 0 | K73: =G73*J73 -> #VALUE! | L73: 0 | M73: =H73*L73 -> #VALUE! | N73: 0 | O73: 0 | P73: =L73*O73 -> 0 | Q73: 0 | R73: =M73*Q73 -> #VALUE! | S73: 0 | T73: 0 | U73: =Q73*T73 -> 0 | V73: 0 | W73: =R73*V73 -> #VALUE! | X73: 0 | Z73: =N73+S73+X73 -> 0 | AA73: =O73+T73+Y73 -> 0 | AB73: =P73+U73+Z73 -> 0
B74: Grade C | C74: Unarmed | D74: Dog Handler | E74: 7(16) | F74: 7 Days a week 16 Hours per day | G74: - | H74: - | I74: 12 | J74: 0 | K74: =G74*J74 -> #VALUE! | L74: 0 | M74: =H74*L74 -> #VALUE! | N74: 0 | O74: 0 | P74: =L74*O74 -> 0 | Q74: 0 | R74: =M74*Q74 -> #VALUE! | S74: 0 | T74: 0 | U74: =Q74*T74 -> 0 | V74: 0 | W74: =R74*V74 -> #VALUE! | X74: 0 | Z74: =N74+S74+X74 -> 0 | AA74: =O74+T74+Y74 -> 0 | AB74: =P74+U74+Z74 -> 0
G75: - | H75: -
B76: Grade A | C76: Unarmed | D76: Dog Handler | E76: 7(12) | F76: 7 Days a week 12 Hours per day | G76: - | H76: - | I76: 12 | J76: 0 | K76: =G76*J76 -> #VALUE! | L76: 0 | M76: =H76*L76 -> #VALUE! | N76: 0 | O76: 0 | P76: =L76*O76 -> 0 | Q76: 0 | R76: =M76*Q76 -> #VALUE! | S76: 0 | T76: 0 | U76: =Q76*T76 -> 0 | V76: 0 | W76: =R76*V76 -> #VALUE! | X76: 0 | Z76: =N76+S76+X76 -> 0 | AA76: =O76+T76+Y76 -> 0 | AB76: =P76+U76+Z76 -> 0
B77: Grade B | C77: Unarmed | D77: Dog Handler | E77: 7(12) | F77: 7 Days a week 12 Hours per day | G77: - | H77: - | I77: 12 | J77: 0 | K77: =G77*J77 -> #VALUE! | L77: 0 | M77: =H77*L77 -> #VALUE! | N77: 0 | O77: 0 | P77: =L77*O77 -> 0 | Q77: 0 | R77: =M77*Q77 -> #VALUE! | S77: 0 | T77: 0 | U77: =Q77*T77 -> 0 | V77: 0 | W77: =R77*V77 -> #VALUE! | X77: 0 | Z77: =N77+S77+X77 -> 0 | AA77: =O77+T77+Y77 -> 0 | AB77: =P77+U77+Z77 -> 0
B78: Grade C | C78: Unarmed | D78: Dog Handler | E78: 7(12) | F78: 7 Days a week 12 Hours per day | G78: - | H78: - | I78: 12 | J78: 0 | K78: =G78*J78 -> #VALUE! | L78: 0 | M78: =H78*L78 -> #VALUE! | N78: 0 | O78: 0 | P78: =L78*O78 -> 0 | Q78: 0 | R78: =M78*Q78 -> #VALUE! | S78: 0 | T78: 0 | U78: =Q78*T78 -> 0 | V78: 0 | W78: =R78*V78 -> #VALUE! | X78: 0 | Z78: =N78+S78+X78 -> 0 | AA78: =O78+T78+Y78 -> 0 | AB78: =P78+U78+Z78 -> 0
G79: - | H79: -
B80: Grade A | C80: Unarmed | D80: Dog Handler | E80: 7(10) | F80: 7 Days a week 10 Hours per day | G80: - | H80: - | I80: 12 | J80: 0 | K80: =G80*J80 -> #VALUE! | L80: 0 | M80: =H80*L80 -> #VALUE! | N80: 0 | O80: 0 | P80: =L80*O80 -> 0 | Q80: 0 | R80: =M80*Q80 -> #VALUE! | S80: 0 | T80: 0 | U80: =Q80*T80 -> 0 | V80: 0 | W80: =R80*V80 -> #VALUE! | X80: 0 | Z80: =N80+S80+X80 -> 0 | AA80: =O80+T80+Y80 -> 0 | AB80: =P80+U80+Z80 -> 0
B81: Grade B | C81: Unarmed | D81: Dog Handler | E81: 7(10) | F81: 7 Days a week 10 Hours per day | G81: - | H81: - | I81: 12 | J81: 0 | K81: =G81*J81 -> #VALUE! | L81: 0 | M81: =H81*L81 -> #VALUE! | N81: 0 | O81: 0 | P81: =L81*O81 -> 0 | Q81: 0 | R81: =M81*Q81 -> #VALUE! | S81: 0 | T81: 0 | U81: =Q81*T81 -> 0 | V81: 0 | W81: =R81*V81 -> #VALUE! | X81: 0 | Z81: =N81+S81+X81 -> 0 | AA81: =O81+T81+Y81 -> 0 | AB81: =P81+U81+Z81 -> 0
B82: Grade C | C82: Unarmed | D82: Dog Handler | E82: 7(10) | F82: 7 Days a week 10 Hours per day | G82: - | H82: - | I82: 12 | J82: 0 | K82: =G82*J82 -> #VALUE! | L82: 0 | M82: =H82*L82 -> #VALUE! | N82: 0 | O82: 0 | P82: =L82*O82 -> 0 | Q82: 0 | R82: =M82*Q82 -> #VALUE! | S82: 0 | T82: 0 | U82: =Q82*T82 -> 0 | V82: 0 | W82: =R82*V82 -> #VALUE! | X82: 0 | Z82: =N82+S82+X82 -> 0 | AA82: =O82+T82+Y82 -> 0 | AB82: =P82+U82+Z82 -> 0
G83: - | H83: -
B84: Grade A | C84: Unarmed | D84: Dog Handler | E84: 7(8) | F84: 7 Days a week 8 Hours per day | G84: - | H84: - | I84: 12 | J84: 0 | K84: =G84*J84 -> #VALUE! | L84: 0 | M84: =H84*L84 -> #VALUE! | N84: 0 | O84: 0 | P84: =L84*O84 -> 0 | Q84: 0 | R84: =M84*Q84 -> #VALUE! | S84: 0 | T84: 0 | U84: =Q84*T84 -> 0 | V84: 0 | W84: =R84*V84 -> #VALUE! | X84: 0 | Z84: =N84+S84+X84 -> 0 | AA84: =O84+T84+Y84 -> 0 | AB84: =P84+U84+Z84 -> 0
B85: Grade B | C85: Unarmed | D85: Dog Handler | E85: 7(8) | F85: 7 Days a week 8 Hours per day | G85: - | H85: - | I85: 12 | J85: 0 | K85: =G85*J85 -> #VALUE! | L85: 0 | M85: =H85*L85 -> #VALUE! | N85: 0 | O85: 0 | P85: =L85*O85 -> 0 | Q85: 0 | R85: =M85*Q85 -> #VALUE! | S85: 0 | T85: 0 | U85: =Q85*T85 -> 0 | V85: 0 | W85: =R85*V85 -> #VALUE! | X85: 0 | Z85: =N85+S85+X85 -> 0 | AA85: =O85+T85+Y85 -> 0 | AB85: =P85+U85+Z85 -> 0
B86: Grade C | C86: Unarmed | D86: Dog Handler | E86: 7(8) | F86: 7 Days a week 8 Hours per day | G86: - | H86: - | I86: 12 | J86: 0 | K86: =G86*J86 -> #VALUE! | L86: 0 | M86: =H86*L86 -> #VALUE! | N86: 0 | O86: 0 | P86: =L86*O86 -> 0 | Q86: 0 | R86: =M86*Q86 -> #VALUE! | S86: 0 | T86: 0 | U86: =Q86*T86 -> 0 | V86: 0 | W86: =R86*V86 -> #VALUE! | X86: 0 | Z86: =N86+S86+X86 -> 0 | AA86: =O86+T86+Y86 -> 0 | AB86: =P86+U86+Z86 -> 0
G87: - | H87: -
B88: Grade A | C88: Unarmed | D88: Dog Handler | E88: 6(16) | F88: 6 Days a week 16 Hours per day | G88: - | H88: - | I88: 12 | J88: 0 | K88: =G88*J88 -> #VALUE! | L88: 0 | M88: =H88*L88 -> #VALUE! | N88: 0 | O88: 0 | P88: =L88*O88 -> 0 | Q88: 0 | R88: =M88*Q88 -> #VALUE! | S88: 0 | T88: 0 | U88: =Q88*T88 -> 0 | V88: 0 | W88: =R88*V88 -> #VALUE! | X88: 0 | Z88: =N88+S88+X88 -> 0 | AA88: =O88+T88+Y88 -> 0 | AB88: =P88+U88+Z88 -> 0
B89: Grade B | C89: Unarmed | D89: Dog Handler | E89: 6(16) | F89: 6 Days a week 16 Hours per day | G89: - | H89: - | I89: 12 | J89: 0 | K89: =G89*J89 -> #VALUE! | L89: 0 | M89: =H89*L89 -> #VALUE! | N89: 0 | O89: 0 | P89: =L89*O89 -> 0 | Q89: 0 | R89: =M89*Q89 -> #VALUE! | S89: 0 | T89: 0 | U89: =Q89*T89 -> 0 | V89: 0 | W89: =R89*V89 -> #VALUE! | X89: 0 | Z89: =N89+S89+X89 -> 0 | AA89: =O89+T89+Y89 -> 0 | AB89: =P89+U89+Z89 -> 0
B90: Grade C | C90: Unarmed | D90: Dog Handler | E90: 6(16) | F90: 6 Days a week 16 Hours per day | G90: - | H90: - | I90: 12 | J90: 0 | K90: =G90*J90 -> #VALUE! | L90: 0 | M90: =H90*L90 -> #VALUE! | N90: 0 | O90: 0 | P90: =L90*O90 -> 0 | Q90: 0 | R90: =M90*Q90 -> #VALUE! | S90: 0 | T90: 0 | U90: =Q90*T90 -> 0 | V90: 0 | W90: =R90*V90 -> #VALUE! | X90: 0 | Z90: =N90+S90+X90 -> 0 | AA90: =O90+T90+Y90 -> 0 | AB90: =P90+U90+Z90 -> 0
G91: - | H91: -
B92: Grade A | C92: Unarmed | D92: Dog Handler | E92: 6(12) | F92: 6 Days a week 12 Hours per day | G92: - | H92: - | I92: 12 | J92: 0 | K92: =G92*J92 -> #VALUE! | L92: 0 | M92: =H92*L92 -> #VALUE! | N92: 0 | O92: 0 | P92: =L92*O92 -> 0 | Q92: 0 | R92: =M92*Q92 -> #VALUE! | S92: 0 | T92: 0 | U92: =Q92*T92 -> 0 | V92: 0 | W92: =R92*V92 -> #VALUE! | X92: 0 | Z92: =N92+S92+X92 -> 0 | AA92: =O92+T92+Y92 -> 0 | AB92: =P92+U92+Z92 -> 0
B93: Grade B | C93: Unarmed | D93: Dog Handler | E93: 6(12) | F93: 6 Days a week 12 Hours per day | G93: - | H93: - | I93: 12 | J93: 0 | K93: =G93*J93 -> #VALUE! | L93: 0 | M93: =H93*L93 -> #VALUE! | N93: 0 | O93: 0 | P93: =L93*O93 -> 0 | Q93: 0 | R93: =M93*Q93 -> #VALUE! | S93: 0 | T93: 0 | U93: =Q93*T93 -> 0 | V93: 0 | W93: =R93*V93 -> #VALUE! | X93: 0 | Z93: =N93+S93+X93 -> 0 | AA93: =O93+T93+Y93 -> 0 | AB93: =P93+U93+Z93 -> 0
B94: Grade C | C94: Unarmed | D94: Dog Handler | E94: 6(12) | F94: 6 Days a week 12 Hours per day | G94: - | H94: - | I94: 12 | J94: 0 | K94: =G94*J94 -> #VALUE! | L94: 0 | M94: =H94*L94 -> #VALUE! | N94: 0 | O94: 0 | P94: =L94*O94 -> 0 | Q94: 0 | R94: =M94*Q94 -> #VALUE! | S94: 0 | T94: 0 | U94: =Q94*T94 -> 0 | V94: 0 | W94: =R94*V94 -> #VALUE! | X94: 0 | Z94: =N94+S94+X94 -> 0 | AA94: =O94+T94+Y94 -> 0 | AB94: =P94+U94+Z94 -> 0
G95: - | H95: -
B96: Grade A | C96: Unarmed | D96: Dog Handler | E96: 6(10) | F96: 6 Days a week 10 Hours per day | G96: - | H96: - | I96: 12 | J96: 0 | K96: =G96*J96 -> #VALUE! | L96: 0 | M96: =H96*L96 -> #VALUE! | N96: 0 | O96: 0 | P96: =L96*O96 -> 0 | Q96: 0 | R96: =M96*Q96 -> #VALUE! | S96: 0 | T96: 0 | U96: =Q96*T96 -> 0 | V96: 0 | W96: =R96*V96 -> #VALUE! | X96: 0 | Z96: =N96+S96+X96 -> 0 | AA96: =O96+T96+Y96 -> 0 | AB96: =P96+U96+Z96 -> 0
B97: Grade B | C97: Unarmed | D97: Dog Handler | E97: 6(10) | F97: 6 Days a week 10 Hours per day | G97: - | H97: - | I97: 12 | J97: 0 | K97: =G97*J97 -> #VALUE! | L97: 0 | M97: =H97*L97 -> #VALUE! | N97: 0 | O97: 0 | P97: =L97*O97 -> 0 | Q97: 0 | R97: =M97*Q97 -> #VALUE! | S97: 0 | T97: 0 | U97: =Q97*T97 -> 0 | V97: 0 | W97: =R97*V97 -> #VALUE! | X97: 0 | Z97: =N97+S97+X97 -> 0 | AA97: =O97+T97+Y97 -> 0 | AB97: =P97+U97+Z97 -> 0
B98: Grade C | C98: Unarmed | D98: Dog Handler | E98: 6(10) | F98: 6 Days a week 10 Hours per day | G98: - | H98: - | I98: 12 | J98: 0 | K98: =G98*J98 -> #VALUE! | L98: 0 | M98: =H98*L98 -> #VALUE! | N98: 0 | O98: 0 | P98: =L98*O98 -> 0 | Q98: 0 | R98: =M98*Q98 -> #VALUE! | S98: 0 | T98: 0 | U98: =Q98*T98 -> 0 | V98: 0 | W98: =R98*V98 -> #VALUE! | X98: 0 | Z98: =N98+S98+X98 -> 0 | AA98: =O98+T98+Y98 -> 0 | AB98: =P98+U98+Z98 -> 0
G99: - | H99: -
B100: Grade A | C100: Unarmed | D100: Dog Handler | E100: 6(8) | F100: 6 Days a week 8 Hours per day | G100: - | H100: - | I100: 12 | J100: 0 | K100: =G100*J100 -> #VALUE! | L100: 0 | M100: =H100*L100 -> #VALUE! | N100: 0 | O100: 0 | P100: =L100*O100 -> 0 | Q100: 0 | R100: =M100*Q100 -> #VALUE! | S100: 0 | T100: 0 | U100: =Q100*T100 -> 0 | V100: 0 | W100: =R100*V100 -> #VALUE! | X100: 0 | Z100: =N100+S100+X100 -> 0 | AA100: =O100+T100+Y100 -> 0 | AB100: =P100+U100+Z100 -> 0
...

Sheet Annex F1- Shift BOQ
A1: 1C-1502/16: PROVISION OF SECURITY SERVICES FOR ETHEKWINI MUNICIPALITY
A2: ANNEXURE F 1
A3: PER SHIFT
A4: PSIRA AREA ONE | G4: YEAR 1 | J4: YEAR 2 | M4: YEAR 3
B5: Security Grade | C5: Guards Type | D5: Specialised Training | F5: Shift Patterns | G5: Monday - Saturday | H5: Sunday | I5: Public Holiday | J5: Monday - Saturday | K5: Sunday | L5: Public Holiday | M5: Monday - Saturday | N5: Sunday | O5: Public Holiday
B7: Grade A | C7: Unarmed | E7: 7(16) | F7: 7 Days a week 16 Hours per day | G7: 0 | H7: 0 | I7: 0 | J7: 0 | K7: 0 | L7: 0 | M7: 0 | N7: 0 | O7: 0
B8: Grade B | C8: Unarmed | E8: 7(16) | F8: 7 Days a week 16 Hours per day | G8: 0 | H8: 0 | I8: 0 | J8: 0 | K8: 0 | L8: 0 | M8: 0 | N8: 0 | O8: 0
B9: Grade C | C9: Unarmed | E9: 7(16) | F9: 7 Days a week 16 Hours per day | G9: 0 | H9: 0 | I9: 0 | J9: 0 | K9: 0 | L9: 0 | M9: 0 | N9: 0 | O9: 0
B11: Grade A | C11: Unarmed | E11: 7(12) | F11: 7 Days a week 12 Hours per day | G11: 0 | H11: 0 | I11: 0 | J11: 0 | K11: 0 | L11: 0 | M11: 0 | N11: 0 | O11: 0
B12: Grade B | C12: Unarmed | E12: 7(12) | F12: 7 Days a week 12 Hours per day | G12: 0 | H12: 0 | I12: 0 | J12: 0 | K12: 0 | L12: 0 | M12: 0 | N12: 0 | O12: 0
B13: Grade C | C13: Unarmed | E13: 7(12) | F13: 7 Days a week 12 Hours per day | G13: 0 | H13: 0 | I13: 0 | J13: 0 | K13: 0 | L13: 0 | M13: 0 | N13: 0 | O13: 0
B15: Grade A | C15: Unarmed | E15: 7(10) | F15: 7 Days a week 10 Hours per day | G15: 0 | H15: 0 | I15: 0 | J15: 0 | K15: 0 | L15: 0 | M15: 0 | N15: 0 | O15: 0
B16: Grade B | C16: Unarmed | E16: 7(10) | F16: 7 Days a week 10 Hours per day | G16: 0 | H16: 0 | I16: 0 | J16: 0 | K16: 0 | L16: 0 | M16: 0 | N16: 0 | O16: 0
B17: Grade C | C17: Unarmed | E17: 7(10) | F17: 7 Days a week 10 Hours per day | G17: 0 | H17: 0 | I17: 0 | J17: 0 | K17: 0 | L17: 0 | M17: 0 | N17: 0 | O17: 0
B19: Grade A | C19: Unarmed | E19: 7(8) | F19: 7 Days a week 8 Hours per day | G19: 0 | H19: 0 | I19: 0 | J19: 0 | K19: 0 | L19: 0 | M19: 0 | N19: 0 | O19: 0
B20: Grade B | C20: Unarmed | E20: 7(8) | F20: 7 Days a week 8 Hours per day | G20: 0 | H20: 0 | I20: 0 | J20: 0 | K20: 0 | L20: 0 | M20: 0 | N20: 0 | O20: 0
B21: Grade C | C21: Unarmed | E21: 7(8) | F21: 7 Days a week 8 Hours per day | G21: 0 | H21: 0 | I21: 0 | J21: 0 | K21: 0 | L21: 0 | M21: 0 | N21: 0 | O21: 0
... B69: Grade C | C69: Unarmed | E69: 3(8) | F69: 3 Days a week 8 Hours per day [Weekend & Public Holiday] | G69: 0 | H69: 0 | I69: 0 | J69: 0 | K69: 0 | L69: 0 | M69: 0 | N69: 0 | O69: 0
B71: Grade A | C71: Unarmed | D71: Dog Handler | E71: 7(16) | F71: 7 Days a week 16 Hours per day | G71: 0 | H71: 0 | I71: 0 | J71: 0 | K71: 0 | L71: 0 | M71: 0 | N71: 0 | O71: 0
B72: Grade B | C72: Unarmed | D72: Dog Handler | E72: 7(16) | F72: 7 Days a week 16 Hours per day | G72: 0 | H72: 0 | I72: 0 | J72: 0 | K72: 0 | L72: 0 | M72: 0 | N72: 0 | O72: 0
B73: Grade C | C73: Unarmed | D73: Dog Handler | E73: 7(16) | F73: 7 Days a week 16 Hours per day | G73: 0 | H73: 0 | I73: 0 | J73: 0 | K73: 0 | L73: 0 | M73: 0 | N73: 0 | O73: 0
B75: Grade A | C75: Unarmed | D75: Dog Handler | E75: 7(12) | F75: 7 Days a week 12 Hours per day | G75: 0 | H75: 0 | I75: 0 | J75: 0 | K75: 0 | L75: 0 | M75: 0 | N75: 0 | O75: 0
B76: Grade B | C76: Unarmed | D76: Dog Handler | E76: 7(12) | F76: 7 Days a week 12 Hours per day | G76: 0 | H76: 0 | I76: 0 | J76: 0 | K76: 0 | L76: 0 | M76: 0 | N76: 0 | O76: 0
B77: Grade C | C77: Unarmed | D77: Dog Handler | E77: 7(12) | F77: 7 Days a week 12 Hours per day | G77: 0 | H77: 0 | I77: 0 | J77: 0 | K77: 0 | L77: 0 | M77: 0 | N77: 0 | O77: 0
B79: Grade A | C79: Unarmed | D79: Dog Handler | E79: 7(10) | F79: 7 Days a week 10 Hours per day | G79: 0 | H79: 0 | I79: 0 | J79: 0 | K79: 0 | L79: 0 | M79: 0 | N79: 0 | O79: 0
B80: Grade B | C80: Unarmed | D80: Dog Handler | E80: 7(10) | F80: 7 Days a week 10 Hours per day | G80: 0 | H80: 0 | I80: 0 | J80: 0 | K80: 0 | L80: 0 | M80: 0 | N80: 0 | O80: 0
B81: Grade C | C81: Unarmed | D81: Dog Handler | E81: 7(10) | F81: 7 Days a week 10 Hours per day | G81: 0 | H81: 0 | I81: 0 | J81: 0 | K81: 0 | L81: 0 | M81: 0 | N81: 0 | O81: 0
B83: Grade A | C83: Unarmed | D83: Dog Handler | E83: 7(8) | F83: 7 Days a week 8 Hours per day | G83: 0 | H83: 0 | I83: 0 | J83: 0 | K83: 0 | L83: 0 | M83: 0 | N83: 0 | O83: 0
B84: Grade B | C84: Unarmed | D84: Dog Handler | E84: 7(8) | F84: 7 Days a week 8 Hours per day | G84: 0 | H84: 0 | I84: 0 | J84: 0 | K84: 0 | L84: 0 | M84: 0 | N84: 0 | O84: 0
B85: Grade C | C85: Unarmed | D85: Dog Handler | E85: 7(8) | F85: 7 Days a week 8 Hours per day | G85: 0 | H85: 0 | I85: 0 | J85: 0 | K85: 0 | L85: 0 | M85: 0 | N85: 0 | O85: 0
... B197: Grade C | C197: Unarmed | D197: Special Events | E197: 3(8) | F197: 3 Days a week 8 Hours per day [Weekend & Public Holiday] | G197: 0 | H197: 0 | I197: 0 | J197: 0 | K197: 0 | L197: 0 | M197: 0 | N197: 0 | O197: 0
B199: Grade A | C199: Armed | E199: 7(16) | F199: 7 Days a week 16 Hours per day | G199: 0 | H199: 0 | I199: 0 | J199: 0 | K199: 0 | L199: 0 | M199: 0 | N199: 0 | O199: 0
B200: Grade B | C200: Armed | E200: 7(16) | F200: 7 Days a week 16 Hours per day | G200: 0 | H200: 0 | I200: 0 | J200: 0 | K200: 0 | L200: 0 | M200: 0 | N200: 0 | O200: 0
B201: Grade C | C201: Armed | E201: 7(16) | F201: 7 Days a week 16 Hours per day | G201: 0 | H201: 0 | I201: 0 | J201: 0 | K201: 0 | L201: 0 | M201: 0 | N201: 0 | O201: 0
B203: Grade A | C203: Armed | E203: 7(12) | F203: 7 Days a week 12 Hours per day | G203: 0 | H203: 0 | I203: 0 | J203: 0 | K203: 0 | L203: 0 | M203: 0 | N203: 0 | O203: 0
B204: Grade B | C204: Armed | E204: 7(12) | F204: 7 Days a week 12 Hours per day | G204: 0 | H204: 0 | I204: 0 | J204: 0 | K204: 0 | L204: 0 | M204: 0 | N204: 0 | O204: 0
B205: Grade C | C205: Armed | E205: 7(12) | F205: 7 Days a week 12 Hours per day | G205: 0 | H205: 0 | I205: 0 | J205: 0 | K205: 0 | L205: 0 | M205: 0 | N205: 0 | O205: 0
B207: Grade A | C207: Armed | E207: 7(10) | F207: 7 Days a week 10 Hours per day | G207: 0 | H207: 0 | I207: 0 | J207: 0 | K207: 0 | L207: 0 | M207: 0 | N207: 0 | O207: 0
B208: Grade B | C208: Armed | E208: 7(10) | F208: 7 Days a week 10 Hours per day | G208: 0 | H208: 0 | I208: 0 | J208: 0 | K208: 0 | L208: 0 | M208: 0 | N208: 0 | O208: 0
B209: Grade C | C209: Armed | E209: 7(10) | F209: 7 Days a week 10 Hours per day | G209: 0 | H209: 0 | I209: 0 | J209: 0 | K209: 0 | L209: 0 | M209: 0 | N209: 0 | O209: 0
B211: Grade A | C211: Armed | E211: 7(8) | F211: 7 Days a week 8 Hours per day | G211: 0 | H211: 0 | I211: 0 | J211: 0 | K211: 0 | L211: 0 | M211: 0 | N211: 0 | O211: 0
B212: Grade B | C212: Armed | E212: 7(8) | F212: 7 Days a week 8 Hours per day | G212: 0 | H212: 0 | I212: 0 | J212: 0 | K212: 0 | L212: 0 | M212: 0 | N212: 0 | O212: 0
B213: Grade C | C213: Armed | E213: 7(8) | F213: 7 Days a week 8 Hours per day | G213: 0 | H213: 0 | I213: 0 | J213: 0 | K213: 0 | L213: 0 | M213: 0 | N213: 0 | O213: 0
... B261: Grade C | C261: Armed | E261: 3(8) | F261: 3 Days a week 8 Hours per day [Weekend & Public Holiday] | G261: 0 | H261: 0 | I261: 0 | J261: 0 | K261: 0 | L261: 0 | M261: 0 | N261: 0 | O261: 0
B263: Grade A | C263: Armed | D263: National Key Point [NKP] | E263: 7(16) | F263: 7 Days a week 16 Hours per day | G263: 0 | H263: 0 | I263: 0 | J263: 0 | K263: 0 | L263: 0 | M263: 0 | N263: 0 | O263: 0
B264: Grade B | C264: Armed | D264: National Key Point [NKP] | E264: 7(16) | F264: 7 Days a week 16 Hours per day | G264: 0 | H264: 0 | I264: 0 | J264: 0 | K264: 0 | L264: 0 | M264: 0 | N264: 0 | O264: 0
B265: Grade C | C265: Armed | D265: National Key Point [NKP] | E265: 7(16) | F265: 7 Days a week 16 Hours per day | G265: 0 | H265: 0 | I265: 0 | J265: 0 | K265: 0 | L265: 0 | M265: 0 | N265: 0 | O265: 0
B267: Grade A | C267: Armed | D267: National Key Point [NKP] | E267: 7(12) | F267: 7 Days a week 12 Hours per day | G267: 0 | H267: 0 | I267: 0 | J267: 0 | K267: 0 | L267: 0 | M267: 0 | N267: 0 | O267: 0
B268: Grade B | C268: Armed | D268: National Key Point [NKP] | E268: 7(12) | F268: 7 Days a week 12 Hours per day | G268: 0 | H268: 0 | I268: 0 | J268: 0 | K268: 0 | L268: 0 | M268: 0 | N268: 0 | O268: 0
B269: Grade C | C269: Armed | D269: National Key Point [NKP] | E269: 7(12) | F269: 7 Days a week 12 Hours per day | G269: 0 | H269: 0 | I269: 0 | J269: 0 | K269: 0 | L269: 0 | M269: 0 | N269: 0 | O269: 0
B271: Grade A | C271: Armed | D271: National Key Point [NKP] | E271: 7(10) | F271: 7 Days a week 10 Hours per day | G271: 0 | H271: 0 | I271: 0 | J271: 0 | K271: 0 | L271: 0 | M271: 0 | N271: 0 | O271: 0
B272: Grade B | C272: Armed | D272: National Key Point [NKP] | E272: 7(10) | F272: 7 Days a week 10 Hours per day | G272: 0 | H272: 0 | I272: 0 | J272: 0 | K272: 0 | L272: 0 | M272: 0 | N272: 0 | O272: 0
B273: Grade C | C273: Armed | D273: National Key Point [NKP] | E273: 7(10) | F273: 7 Days a week 10 Hours per day | G273: 0 | H273: 0 | I273: 0 | J273: 0 | K273: 0 | L273: 0 | M273: 0 | N273: 0 | O273: 0
B275: Grade A | C275: Armed | D275: National Key Point [NKP] | E275: 7(8) | F275: 7 Days a week 8 Hours per day | G275: 0 | H275: 0 | I275: 0 | J275: 0 | K275: 0 | L275: 0 | M275: 0 | N275: 0 | O275: 0
B276: Grade B | C276: Armed | D276: National Key Point [NKP] | E276: 7(8) | F276: 7 Days a week 8 Hours per day | G276: 0 | H276: 0 | I276: 0 | J276: 0 | K276: 0 | L276: 0 | M276: 0 | N276: 0 | O276: 0
B277: Grade C | C277: Armed | D277: National Key Point [NKP] | E277: 7(8) | F277: 7 Days a week 8 Hours per day | G277: 0 | H277: 0 | I277: 0 | J277: 0 | K277: 0 | L277: 0 | M277: 0 | N277: 0 | O277: 0
... B642: Grade C | C642: Unarmed | D642: Control Room operator | E642: 3(8) | F642: 3 Days a week 8 Hours per day [Weekend & Public Holiday] | G642: 0 | H642: 0 | I642: 0 | J642: 0 | K642: 0 | L642: 0 | M642: 0 | N642: 0 | O642: 0
A644: PSIRA AREA ONE | G644: YEAR 1 | J644: YEAR 2 | M644: YEAR 3
A645: ANCILLARY EQUIPMENT | B645: Equipment Type | F645: Shift Patterns | G645: Cost Per Guard Monthly Day Shift | H645: Cost Per Guard Monthly Night Shift | I645: Total Yearly Cost | J645: Cost Per Guard Monthly Day Shift | K645: Cost Per Guard Monthly Night Shift | L645: Total Yearly Cost | M645: Cost Per Guard Monthly Day Shift | N645: Cost Per Guard Monthly Night Shift | O645: Total Yearly Cost
G646: [ZAR] | H646: [ZAR] | I646: [ZAR] | J646: [ZAR] | L646: [ZAR] | M646: [ZAR] | O646: [ZAR]
G647: (VAT Exclusive) | H647: (VAT Exclusive) | I647: (VAT Exclusive) | J647: (VAT Exclusive) | L647: (VAT Exclusive) | M647: (VAT Exclusive) | O647: (VAT Exclusive)
B648: MOBILE DEVICES
B649: Radios | F649: 7 Days a week 12 Hours per day
B650: Cell phone
B651: Handheld scanner
B652: GUARD TOOLS
B653: Dogs | F653: 7 Days a week 12 Hours per day
B654: Firearms
B655: Bullet Proof [SABS Approved - Leve 3]
B656: Gas Powered Paint Ball
B657: Pepper Gun
B658: Stun Gun
B659: pepper Spray
B660: ABLUTION
B661: Guard Hut | F661: 7 Days a week 12 Hours per day
B662: Portable Toilet
B663: MOTORISED VEHICLES
B664: Vehicles - 5 Seater sedan/Hatchback | F664: 7 Days a week 12 Hours per day
B665: Vehicles - 4 X 2 Single Cab without cinopy
B666: Vehicles - 4 X 4 Double Cab without cinopy
B667: Vehicles - Minibus / Quantum 10 + seated
B668: Two Wheel Sag way | F668: 7 Days a week 12 Hours per day
B669: Electric Golf Cart 2 Seater
B670: Electric Golf Cart 4 Seater
B671: Bicycle
B672: SECURITY SYSTEMS
B673: Guard Patrol Monitoring System | F673: 7 Days a week 12 Hours per day
B674: Rechargable Laser Scanner
B675: Electronic Guards sign on and off duty system [eg. Biometrix]
B676: Alarms Monitoring systems
B677: TRUCKS
B678: Truck - 2 Ton | F678: 7 Days a week 12 Hours per day
B679: Truck - 4 Ton
B680: Truck - 8 Ton
B681: DEMOLISHING HAND TOOLS
B682: Long Handle Axes | F682: 7 Days a week 12 Hours per day
B683: Hammers
B684: Chainsaw

Sheet LIC Armed Summary
A1: 1C-1502/3: PROVISION OF LAND INVASION CONTROL [LIC] SECURITY SERVICES: ARMED SECURITY OFFICERS AND GENERAL WORKERS FOR THE PERIOD OF THIRTY-SIX (36) MONTHS
A2: ARMED LAND INVASION CONTROL [LIC]
A3: SHIFT CODE | B3: GRADE A DAY | C3: GRADE A NIGHT | D3: GRADE B DAY | E3: GRADE B NIGHT | F3: GRADE C DAY | G3: GRADE C NIGHT | H3: GENERAL WORKER DAY | I3: GENERAL WORKER NIGHT
A4: Row Labels | B4: Sum of GRADE A41 | C4: Sum of GRADE A42 | D4: Sum of GRADE B43 | E4: Sum of GRADE B44 | F4: Sum of GRADE C45 | G4: Sum of GRADE C46 | H4: Sum of GENERAL WORKER | I4: Count of GENERAL WORKER2
A5: D7PHHR12 | B5: 3 | D5: 15 | F5: 45 | H5: 30
A6: Grand Total | B6: 3 | D6: 15 | F6: 45 | H6: 30
