Workbook
Name _Hlk13737046: 'C20.1'!#REF!
Name _Hlk13737072: 'C20.1'!#REF!
Name _Ref461368450: 'C1.4'!$D$4
Name _Ref461368450: 'C1.5'!$D$4
Name _Ref461368450: 'C1.6'!$D$4
Name _Ref461368450: 'C1.7'!$D$4
Name _Ref461368450: 'C11.1'!#REF!
Name _Ref461368450: 'C11.2'!#REF!
Name _Ref461368450: 'C11.3'!#REF!
Name _Ref461368450: 'C11.4'!#REF!
Name _Ref461368450: 'C11.5'!#REF!
Name _Ref461368450: 'C11.6'!#REF!
Name _Ref461368450: 'C11.7'!#REF!
Name _Ref461368450: 'C11.9'!#REF!
Name _Ref461368450: 'C2.1'!$D$4
Name _Ref461368450: 'C20.1'!#REF!
Name _Ref461368450: 'C3.1'!$D$4
Name _Ref461368450: 'C3.2'!$D$4
Name _Ref461368450: 'C3.3'!#REF!
Name _Ref461368450: 'C4.2'!#REF!
Name _Ref461368450: 'C4.3'!#REF!
Name _Ref461368450: 'C4.4'!#REF!
Name _Ref461368450: 'C5.1'!#REF!
Name _Ref461368450: 'C5.2'!#REF!
Name _Ref461368450: 'C5.3'!#REF!
Name _Ref461368450: 'C5.4'!#REF!
Name _Ref461368450: 'C6.1'!#REF!
Name _Ref461368450: 'C6.2'!#REF!
Name _Ref461368450: 'C8.1'!#REF!
Name _Ref461368450: 'C8.5'!#REF!
Name _Ref461368450: 'C8.8'!#REF!
Name _Ref461368450: 'C9.1'!#REF!
Name _Ref461372205: 'C1.4'!$D$98
Name _Ref461372205: 'C1.5'!#REF!
Name _Ref461372205: 'C1.6'!#REF!
Name _Ref461372205: 'C1.7'!#REF!
Name _Ref461372205: 'C11.1'!#REF!
Name _Ref461372205: 'C11.2'!#REF!
Name _Ref461372205: 'C11.3'!#REF!
Name _Ref461372205: 'C11.4'!#REF!
Name _Ref461372205: 'C11.5'!#REF!
Name _Ref461372205: 'C11.6'!#REF!
Name _Ref461372205: 'C11.7'!#REF!
Name _Ref461372205: 'C11.9'!#REF!
Name _Ref461372205: 'C2.1'!#REF!
Name _Ref461372205: 'C20.1'!#REF!
Name _Ref461372205: 'C3.1'!#REF!
Name _Ref461372205: 'C3.2'!#REF!
Name _Ref461372205: 'C3.3'!#REF!
Name _Ref461372205: 'C4.2'!#REF!
Name _Ref461372205: 'C4.3'!#REF!
Name _Ref461372205: 'C4.4'!#REF!
Name _Ref461372205: 'C5.1'!#REF!
Name _Ref461372205: 'C5.2'!#REF!
Name _Ref461372205: 'C5.3'!#REF!
Name _Ref461372205: 'C5.4'!#REF!
Name _Ref461372205: 'C6.1'!#REF!
Name _Ref461372205: 'C6.2'!#REF!
Name _Ref461372205: 'C8.1'!#REF!
Name _Ref461372205: 'C8.5'!#REF!

Sheet Pricing Schedule Front
A1: PRICING SCHEDULE NRA 2024/1327R

Sheet Schedule A Front
A1: SCHEDULE A NRA 2024/1327R

Sheet Sched A
A1: SCHEDULE A | C1: GENERAL REQUIREMENTS AND TRAINING AND SKILLS DEVELOPMENT PROGRAMME
A2: ITEM | D2: DESCRIPTION | E2: UNIT | F2: QTY | G2: RATE | H2: AMOUNT
A3: A1000.01 | D3: Contractor's Personnel
C5: (a) | D5: Contractor's Training Staff
C7: (i) | D7: Training Provider | E7: Lump sum | F7: Lump | G7: Sum
C8: (ii) | D8: Practitioners | E8: Lump sum | F8: Lump | G8: Sum
C9: (iii) | D9: Assessors | E9: Lump sum | F9: Lump | G9: Sum
C10: (iv) | D10: Moderators | E10: Lump sum | F10: Lump | G10: Sum
C12: (b) | D12: Contractor's Construction Management Staff
C14: (i) | D14: Construction Manager | E14: Lump sum | F14: Lump | G14: Sum
C15: (ii) | D15: Construction Mentors | E15: Lump sum | F15: Lump | G15: Sum
C16: (iii) | D16: Construction Supervisors | E16: Lump sum | F16: Lump | G16: Sum
C17: (iv) | D17: Clerks of Works | E17: Lump sum | F17: Lump | G17: Sum
A19: A1000.02 | D19: Contractor’s Training Facility and Establishment of Staff
C21: (a) | D21: Providing a Training Facility | E21: Lump sum | F21: Lump | G21: Sum
C22: (b) | D22: Establishment of the Contractor’s Training Staff for all project phases, including PPE. | E22: Lump sum | F22: Lump | G22: Sum
C23: (c) | D23: Establishment of the Contractor’s Construction Management Staff during the Training phases of the project, including PPE. | E23: Lump sum | F23: Lump | G23: Sum
A25: A1000.03 | D25: Training and Skills Development Programme
C27: (a) | D27: Resources Audit Chapter | E27: Lump sum | F27: Lump | G27: Sum
C28: (b) | D28: Skills Audit Chapter | E28: Lump sum | F28: Lump | G28: Sum
C29: (c) | D29: Market Analysis Chapter | E29: Lump sum | F29: Lump | G29: Sum
C30: (d) | D30: Approved Training and Skills Development Programme | E30: Lump sum | F30: Lump | G30: Sum
A32: A1000.04 | D32: Training Provisions
C34: (a) | D34: Training for Trainee Targeted Enterprises
I35: Number of trainnees
C36: (i) | D36: NQF level 2 training. | E36: Trainee Credit | F36: =($I$36*120)*110% -> 1980 | H36: =IF(G36=0," ",F36*G36) | I36: 15 | J36: trainnees*120+10%
C37: (ii) | D37: NQF level 3 training. | E37: Trainee Credit | F37: =($I$36*150)*110% -> 2475 | H37: =IF(G37=0," ",F37*G37) | J37: trainnees*150+10%
C38: (iii) | D38: NQF level 4 training | E38: Trainee Credit | F38: =($I$36*180)*110% -> 2970 | H38: =IF(G38=0," ",F38*G38) | J38: trainnees*180+10%
C39: (iv) | D39: NQF level 5 training. | E39: Trainee Credit | F39: =($I$36*210)*110% -> 3465 | H39: =IF(G39=0," ",F39*G39) | J39: trainnees*210+10%
I40: Schedule B
C41: (b) (i) | D41: Targeted Enterprise Suppliers, Service Providers and Subcontractors | E41: provisional sum | F41: Prov | G41: Sum | H41: =MROUND(1%*$I$41,1000) -> 236000 | I41: ='Summary of Pricing Schedule B'!D54 -> 23625000 | J41: 1% of Schedule B
C42: (ii) | D42: Handling cost and profit i.r.o. item A1000.04(b)(i) | E42: percentage (%) | F42: =H41 -> 236000 | H42: =IF(G42=0," ",F42*G42)
C44: (c) (i) | D44: Targeted Labour | E44: provisional sum | F44: Prov | G44: Sum | H44: =MROUND(1%*$I$41,1000) -> 236000 | J44: 1% of Schedule B
C45: (ii) | D45: Handling cost and profit i.r.o. item A1000.04(c)(i) | E45: percentage (%) | F45: =H44 -> 236000 | H45: =IF(G45=0," ",F45*G45)
C47: (d) (i) | D47: Interns (Students) Completing their National Diplomas | E47: provisional sum | F47: Prov | G47: Sum | H47: =MROUND(4.5%*$I$41,1000) -> 1063000 | J47: 4,5% of Schedule B
C48: (ii) | D48: Handling cost and profit i.r.o. item A1000.04(d)(i) | E48: percentage (%) | F48: =H47 -> 1063000 | H48: =IF(G48=0," ",F48*G48)
C50: (e) (i) | D50: Graduates (Candidates) towards Registration in a Professional Category | E50: provisional sum | F50: Prov | G50: Sum | H50: =MROUND(4.5%*$I$41,1000) -> 1063000 | J50: 4,5% of Schedule B
C51: (ii) | D51: Handling cost and profit i.r.o. item A1000.04(e)(i) | E51: percentage (%) | F51: =H50 -> 1063000 | H51: =IF(G51=0," ",F51*G51)
C53: (f) (i) | D53: Community Members and/or Groups | E53: provisional sum | F53: Prov | G53: Sum | H53: =MROUND(1%*$I$41,1000) -> 236000 | J53: 1% of Schedule B
C54: (ii) | D54: Handling cost and profit i.r.o. item A1000.04(f)(i) | E54: percentage (%) | F54: =H53 -> 236000 | H54: =IF(G54=0," ",F54*G54)
...

Sheet Summary of Pricing Schedule A
A1: SUMMARY OF PRICING SCHEDULE A
A6: TRAINING AND CONSTRUCTION MANAGEMENT | D6: =C7 -> 7553000
A7: A1000 | B7: GENERAL REQUIREMENTS AND TRAINING AND SKILLS DEVELOPMENT PROGRAMME | C7: ='Sched A'!H86 -> 7553000
B10: TOTAL CARRIED TO C2.3 : SUMMARY OF PRICING SCHEDULE (SCHEDULE A) | D10: =SUM(D6:D8) -> 7553000
B16: SIGNED BY TENDERER:

Sheet Schedule B Front
A1: SCHEDULE B NRA 2024/1327R

Sheet C1.2
A1: SECTION | B1: C1.2 | C1: GENERAL REQUIREMENTS AND PROVISIONS
A2: ITEM | D2: DESCRIPTION | E2: UNIT | F2: QTY | G2: RATE | H2: AMOUNT
A3: C1.2.1 | D3: Environmental Management
B4: C1.2.1.1 | D4: Monitoring of compliance with and reporting on the EMP | E4: month | F4: 20 | H4: =IF(G4=0," ",F4*G4)
A5: C1.2.2 | D5: Programming and Reporting
B6: C1.2.2.1 | D6: Submission of a Scheme 2 Programme | E6: lump sum | F6: Lump | G6: Sum
B7: C1.2.2.2 | D7: Reviewing and updating a Scheme 2 Programme | E7: month | F7: 20 | H7: =IF(G7=0," ",F7*G7)
B8: C1.2.2.6 | D8: Preparation and submission of all information and reports specified in the Contract Documentation | E8: month | F8: 20 | H8: =IF(G8=0," ",F8*G8)
A9: C1.2.3 | D9: Routine road maintenance of existing public roads within the Site of the Works or other public roads outside the Site of the Works which are used as detours
B10: C1.2.3.5 | D10: Base patching using crushed stone material stabilised with bitumen emulsion and cement | E10: cubic metre (m3) | F10: 30 | H10: =IF(G10=0," ",F10*G10)
B11: C1.2.3.7 | D11: Base and/or surface patching using hot plant mixed asphalt | E11: ton (t) | F11: 75 | H11: =IF(G11=0," ",F11*G11)
B12: C1.2.3.11 | D12: Other road maintenance work ordered by the Engineer | E12: provisional sum | F12: Prov | G12: Sum | H12: 100000
B13: C1.2.3.12 | D13: Handling cost, profit and all other charges in respect of item C1.2.3.11 | E13: percentage (%) | F13: =H12 -> 100000 | H13: =IF(G13=0," ",F13*G13)
B14: C1.2.3.13 | D14: Liaison with the routine road maintenance contractor | E14: month | F14: 20 | H14: =IF(G14=0," ",F14*G14)
A15: C1.2.4 | D15: Stakeholder liaison | E15: month | F15: 20 | H15: =IF(G15=0," ",F15*G15)
A16: C1.2.5 | D16: Safety
B17: C1.2.5.1 | D17: Health and safety plan | E17: lump sum | F17: Lump | G17: Sum
B18: C1.2.5.2 | D18: Implementation of health and safety plan | E18: month | F18: 20 | H18: =IF(G18=0," ",F18*G18)
A19: C1.2.6 | D19: Work adjacent to properties
B20: C1.2.6.1 | D20: Survey of adjacent properties | E20: number (No.) | F20: 50 | H20: =IF(G20=0," ",F20*G20)
B21: C1.2.6.2 | D21: Preventive and/or mitigation measures | E21: provisional sum | F21: Prov | G21: Sum | H21: 50000
B22: C1.2.6.3 | D22: Handling cost, profit and all other charges in respect of item C1.2.6.2 | E22: percentage (%) | F22: =H21 -> 50000 | H22: =IF(G22=0," ",F22*G22)
A23: C1.2.7 | D23: Road safety audits
B24: C1.2.7.1 | D24: Stage 4 work zone traffic management audit | E24: provisional sum | F24: Prov | G24: Sum | H24: 150000
B25: C1.2.7.2 | D25: Handling cost, profit and all other charges in respect of item C1.2.7.1 | E25: percentage (%) | F25: =H24 -> 150000 | H25: =IF(G25=0," ",F25*G25)
B26: C1.2.7.3 | D26: Stage 5 pre-opening stage traffic safety audit | E26: provisional sum | F26: Prov | G26: Sum | H26: 150000
B27: C1.2.7.4 | D27: Handling cost, profit and all other charges in respect of item C1.2.7.3 | E27: percentage (%) | F27: =H26 -> 150000 | H27: =IF(G27=0," ",F27*G27)
A28: C1.2.8 | D28: Dayworks
B29: C1.2.8.1 | D29: Personnel
C30: (a) | D30: Unskilled labourer | E30: hour (h) | F30: 500 | H30: =IF(G30=0," ",F30*G30)
C31: (b) | D31: Semi-skilled labourer | E31: hour (h) | F31: 500 | H31: =IF(G31=0," ",F31*G31)
C32: (c) | D32: Skilled labourer | E32: hour (h) | F32: 500 | H32: =IF(G32=0," ",F32*G32)
C33: (d) | D33: Gang leader | E33: hour (h) | F33: 500 | H33: =IF(G33=0," ",F33*G33)
C34: (e) | D34: Foreman | E34: hour (h) | F34: 500 | H34: =IF(G34=0," ",F34*G34)
C35: (f) | D35: Skilled artisan | E35: hour (h) | F35: 500 | H35: =IF(G35=0," ",F35*G35)
B36: C1.2.8.2 | D36: Construction equipment
C37: (a) | D37: Motor grader (CAT 140G or similar) | E37: hour (h) | F37: 40 | H37: =IF(G37=0," ",F37*G37)
C38: (b) | D38: Vibratory roller | E38: hour (h) | F38: 30 | H38: =IF(G38=0," ",F38*G38)
C39: (c) | D39: Pneumatic roller | E39: hour (h) | F39: 30 | H39: =IF(G39=0," ",F39*G39)
C40: (d) | D40: Front end loader (0.5 m3 bucket) | E40: hour (h) | F40: 60 | H40: =IF(G40=0," ",F40*G40)
...

Sheet C1.3
A1: SECTION | B1: C1.3 | C1: CONTRACTOR’S SITE ESTABLISHMENT AND GENERAL OBLIGATIONS
A2: ITEM | D2: DESCRIPTION | E2: UNIT | F2: QTY | G2: RATE | H2: AMOUNT
A3: PC1.3.1 | D3: The Contractor's general obligations
B4: C1.3.1.1 | D4: Fixed obligations | E4: lump sum | F4: Lump | G4: Sum
B5: C1.3.1.2 | D5: Value-related obligations | E5: lump sum | F5: Lump | G5: Sum
B6: C1.3.1.3 | D6: Time-related obligations
C7: (a) | D7: Mobilisation period | E7: month | F7: 4 | H7: =IF(G7=0," ",F7*G7)
C8: (b) | D8: Execution of the works | E8: month | F8: 16 | H8: =IF(G8=0," ",F8*G8)
B9: C1.3.1.4 | D9: Suspension Cost
C10: (a) | D10: De-establishment | E10: number | F10: 2 | H10: =IF(G10=0," ",F10*G10)
C11: (b) | D11: Re-establishment | E11: number | F11: 2 | H11: =IF(G11=0," ",F11*G11)
C12: (c) | D12: Suspension period | E12: month | F12: 3 | H12: =IF(G12=0," ",F12*G12)
C13: (d) | D13: Engineer's cost | E13: prime cost (PC) sum | F13: Prime | G13: Cost | H13: 1500000
B14: PC1.3.1.5 | D14: Monthly aerial and ground photos for progress report puposes | E14: month | F14: 16 | H14: =IF(G14=0," ",F14*G14)
A15: C1.3.2 | D15: Contract sign boards | E15: square metre (m2) | F15: 35 | H15: =IF(G15=0," ",F15*G15)
A16: =A1 -> SECTION | B16: =B1 -> C1.3 | D16: TOTAL CARRIED FORWARD TO SUMMARY | H16: =SUM(H3:H15) -> 1500000
F152: metre (m)
F153: metre (m)
A158: C2.3.27 | E158: Extra over item C2.3.21 for encasing (wrapping) joints
B159: C2.3.27.1 | E159: State for each water main the number of joints to be encased (wrapped)
E160: State diameter
E161: State diameter
A162: C2.3.28 | E162: Installation of hydrants and water meters
B163: C2.3.28.1 | E163: Describe hydrant type
B164: C2.3.28.2 | E164: Describe water meter type
B165: C2.3.28.3 | E165: Etc., insert additional items as required
A166: C2.3.29 | E166: Bedding for water mains (Class B and C) and fill blanket compacted to 90 % of MDD (100 % for sand)
B167: C2.3.29.1
B172: C2.3.29.2

Sheet C1.4
A1: SECTION | B1: C1.4 | C1: FACILITIES FOR THE ENGINEER
A2: ITEM | D2: DESCRIPTION | E2: UNIT | F2: QTY | G2: RATE | H2: AMOUNT
A3: C1.4.1 | D3: Site accommodation
B4: C1.4.1.1 | D4: Offices and conference room | E4: square metre (m2) | F4: 150 | H4: =IF(G4=0," ",F4*G4)
B5: C1.4.1.2 | D5: Laboratories | E5: square metre (m2) | F5: 320 | H5: =IF(G5=0," ",F5*G5)
B6: C1.4.1.3 | D6: Open concrete working floors and verandas | E6: square metre (m2) | F6: 50 | H6: =IF(G6=0," ",F6*G6)
B7: C1.4.1.4 | D7: Roofs over open concrete working floors and verandas | E7: square metre (m2) | F7: 35 | H7: =IF(G7=0," ",F7*G7)
B8: C1.4.1.5 | D8: Store rooms inside the laboratory | E8: square metre (m2) | F8: 15 | H8: =IF(G8=0," ",F8*G8)
B9: C1.4.1.6 | D9: Car ports | E9: number (No.) | F9: 10 | H9: =IF(G9=0," ",F9*G9)
B10: C1.4.1.7 | D10: Ablution unit (equipped as specified) | E10: number (No.) | F10: 2 | H10: =IF(G10=0," ",F10*G10)
B11: C1.4.1.8 | D11: Change room with a shower | E11: number (No.) | F11: 2 | H11: =IF(G11=0," ",F11*G11)
B12: C1.4.1.9 | D12: Kitchen unit (equipped as specified) | E12: number (No.) | F12: 1 | H12: =IF(G12=0," ",F12*G12)
B13: C1.4.1.13 | D13: Rented housing paid for by the Contractor | E13: provisional sum | F13: Prov | G13: Sum | H13: 250000
B14: C1.4.1.14 | D14: Contractor's handling costs, profit and all other charges in respect of item C1.4.1.13 | E14: percentage (%) | F14: =H13 -> 250000 | H14: =IF(G14=0," ",F14*G14)
A15: C1.4.2 | D15: Items measured by area
B16: C1.4.2.1 | D16: Shelving as specified, complete with brackets | E16: square metre (m2) | F16: 10 | H16: =IF(G16=0," ",F16*G16)
B17: C1.4.2.2 | D17: Work benches with a concrete slab top | E17: square metre (m2) | F17: 18 | H17: =IF(G17=0," ",F17*G17)
B18: C1.4.2.3 | D18: Work-benches with a wooden top | E18: square metre (m2) | F18: 15 | H18: =IF(G18=0," ",F18*G18)
B19: C1.4.2.4 | D19: Constant-temperature baths of concrete and/or plastered brick | E19: square metre (m2) | F19: 6 | H19: =IF(G19=0," ",F19*G19)
B20: C1.4.2.5 | D20: Concrete footings and pedestals for laboratory equipment | E20: square metre (m2) | F20: 3 | H20: =IF(G20=0," ",F20*G20)
B21: C1.4.2.6 | D21: Roller blinds, opaque type | E21: square metre (m2) | F21: 25 | H21: =IF(G21=0," ",F21*G21)
B22: C1.4.2.7 | D22: Venetian blinds | E22: square metre (m2) | F22: 15 | H22: =IF(G22=0," ",F22*G22)
B23: C1.4.2.8 | D23: Notice boards | E23: square metre (m2) | F23: 20 | H23: =IF(G23=0," ",F23*G23)
B24: C1.4.2.9 | D24: White boards | E24: square metre (m2) | F24: 15 | H24: =IF(G24=0," ",F24*G24)
B25: C1.4.2.10 | D25: Galvanised wire mesh fencing for store rooms | E25: square metre (m2) | F25: 35 | H25: =IF(G25=0," ",F25*G25)
B26: C1.4.2.11 | D26: Galvanised wire mesh store room gate with a padlock | E26: square metre (m2) | F26: 5 | H26: =IF(G26=0," ",F26*G26)
A27: PC1.4.3 | D27: Items measured by number
B28: C1.4.3.1 | D28: Office swivel chair | E28: number (No.) | F28: 6 | H28: =IF(G28=0," ",F28*G28)
B29: C1.4.3.2 | D29: Office chair | E29: number (No.) | F29: 32 | H29: =IF(G29=0," ",F29*G29)
B30: C1.4.3.3 | D30: Draughtsman's stool | E30: number (No.) | F30: 6 | H30: =IF(G30=0," ",F30*G30)
B31: C1.4.3.4 | D31: Laboratory high chair | E31: number (No.) | F31: 12 | H31: =IF(G31=0," ",F31*G31)
B32: C1.4.3.5 | D32: Office desk with 3 drawers (at least one lockable drawer) | E32: number (No.) | F32: 6 | H32: =IF(G32=0," ",F32*G32)
B33: C1.4.3.6 | D33: Typist desk (L-shaped) | E33: number (No.) | F33: 2 | H33: =IF(G33=0," ",F33*G33)
B34: C1.4.3.7 | D34: Drawing table | E34: number (No.) | F34: 3 | H34: =IF(G34=0," ",F34*G34)
B35: C1.4.3.8 | D35: Conference table | E35: number (No.) | F35: 2 | H35: =IF(G35=0," ",F35*G35)
B36: C1.4.3.9 | D36: Bookcase | E36: number (No.) | F36: 4 | H36: =IF(G36=0," ",F36*G36)
B37: C1.4.3.10 | D37: Filing cabinet | E37: number (No.) | F37: 4 | H37: =IF(G37=0," ",F37*G37)
B38: C1.4.3.11 | D38: General purpose steel cabinet with shelves | E38: number (No.) | F38: 4 | H38: =IF(G38=0," ",F38*G38)
B39: C1.4.3.12 | D39: Wall mounted pivot plan filing system | E39: number (No.) | F39: 4 | H39: =IF(G39=0," ",F39*G39)
B40: C1.4.3.13 | D40: 220/250 volt power outlet plug point | E40: number (No.) | F40: 25 | H40: =IF(G40=0," ",F40*G40)
...

Sheet C1.5
A1: SECTION | B1: C1.5 | D1: ACCOMMODATION OF TRAFFIC
A2: ITEM | D2: DESCRIPTION | E2: UNIT | F2: QTY | G2: RATE | H2: AMOUNT
A3: C1.5.1 | D3: Accommodation of pedestrian and non-motorised traffic
B4: C1.5.1.1 | D4: Accommodation of pedestrian and non-motorised traffic | E4: month | F4: 16 | H4: =IF(G4=0," ",F4*G4)
B5: C1.5.1.2 | D5: Construction of temporary pedestrian walkways and/or cycle paths:
C6: (a) | D6: Gravel surfaced pedestrian walkways / cycle paths | E6: square metre (m2) | F6: 300 | H6: =IF(G6=0," ",F6*G6)
C7: (c) | D7: 60mm concrete block paved pedestrian walkways / cycle paths | E7: square metre (m2) | F7: 100 | H7: =IF(G7=0," ",F7*G7)
A8: C1.5.2 | D8: Accommodation of vehicular traffic | E8: month | F8: 16 | H8: =IF(G8=0," ",F8*G8)
A9: C1.5.3 | D9: Liaison with traffic authorities | E9: month | F9: 16 | H9: =IF(G9=0," ",F9*G9)
A10: C1.5.7 | D10: Temporary traffic control facilities
B11: C1.5.7.1 | D11: Delineators including mounting bases and ballast:
C12: (b) | D12: Double sided, reversible left or right (200 x 800mm reflective area) | E12: number (No.) | F12: 1000 | H12: =IF(G12=0," ",F12*G12)
B13: C1.5.7.2 | D13: Traffic cones, minimum height 750mm | E13: number (No.) | F13: 200 | H13: =IF(G13=0," ",F13*G13)
B14: C1.5.7.3 | D14: Flagmen | E14: man-shift | F14: 7560 | H14: =IF(G14=0," ",F14*G14)
B15: C1.5.7.4 | D15: Traffic controllers | E15: man-shift | F15: 1650 | H15: =IF(G15=0," ",F15*G15)
B16: PC1.5.7.5 | D16: Provision of illuminated traffic signs:
C17: (a) | D17: Sign mounted flashing amber lights (2 lights with the specified power supply) mounted on a backing board which is:
C18: (ii) | D18: 1200mm wide x 200mm high | E18: number (No.) | F18: 16 | H18: =IF(G18=0," ",F18*G18)
C19: (b) | D19: Flashing LED illuminated arrow board | E19: number (No.) | F19: 4 | H19: =IF(G19=0," ",F19*G19)
C20: (c) | D20: Illuminated road sign – R & TR series (1200mm diam.) | E20: number (No.) | F20: 70 | H20: =IF(G20=0," ",F20*G20)
C21: (d) | D21: Illuminated road sign – TW series (1200mm) | E21: number (No.) | F21: 60 | H21: =IF(G21=0," ",F21*G21)
C22: (e) | D22: Mobile variable message sign | E22: number (No.) | F22: 2 | H22: =IF(G22=0," ",F22*G22)
C23: (f) | D23: Mobile variable message sign with a speed measuring and display capability | E23: number (No.) | F23: 1 | H23: =IF(G23=0," ",F23*G23)
C24: (g) | D24: Road signs, STW-, DTG-, TGS-, TIN and TG-series (excluding delineators and barricades) | E24: square metre (m2) | F24: 30 | H24: =IF(G24=0," ",F24*G24)
B25: PC1.5.7.6 | D25: Maintenance of illuminated traffic signs:
C26: (a) | D26: Sign mounted flashing amber lights (a pair of two lights mounted on a separate backing board) | E26: month | F26: 16 | H26: =IF(G26=0," ",F26*G26)
C27: (b) | D27: Flashing LED illuminated arrow board | E27: month | F27: 16 | H27: =IF(G27=0," ",F27*G27)
C28: (c) | D28: Illuminated road sign – R & TR series (diameter indicated) | E28: month | F28: 16 | H28: =IF(G28=0," ",F28*G28)
C29: (d) | D29: Illuminated road sign – TW series (length of sides indicated) | E29: month | F29: 16 | H29: =IF(G29=0," ",F29*G29)
C30: (e) | D30: Mobile variable message sign | E30: month | F30: 16 | H30: =IF(G30=0," ",F30*G30)
C31: (f) | D31: Mobile variable message sign with a speed measuring and display capability | E31: month | F31: 16 | H31: =IF(G31=0," ",F31*G31)
C32: (g) | D32: Road signs, STW-, DTG-, TGS-, TIN and TG-series (excluding delineators and barricades) | E32: month | F32: 16 | H32: =IF(G32=0," ",F32*G32)
B33: C1.5.7.7 | D33: Traffic calming devices:
C34: (a) | D34: 25mm high x 100mm wide asphalt rumble strips | E34: metre (m) | F34: 45 | H34: =IF(G34=0," ",F34*G34)
C35: (b) | D35: 50mm high x 500mm wide asphalt rumble strips | E35: metre (m) | F35: 40 | H35: =IF(G35=0," ",F35*G35)
B36: PC1.5.7.8 | D36: Traffic control stations (2 sets for both sides of closure) | E36: month | F36: 16 | H36: =IF(G36=0," ",F36*G36)
B37: C1.5.7.9 | D37: Cleaning of traffic control facilities | E37: month | F37: 16 | H37: =IF(G37=0," ",F37*G37)
A38: C1.5.8 | D38: Traffic safety officer | E38: man-month | F38: 16 | H38: =IF(G38=0," ",F38*G38)
A39: C1.5.9 | D39: Traffic safety vehicle | E39: month | F39: 16 | H39: =IF(G39=0," ",F39*G39)
D40: TOTAL CARRIED FORWARD | H40: =SUM(H3:H39) -> 0
...

Sheet C1.6
A1: SECTION | B1: C1.6 | E1: CLEARING AND GRUBBING
A2: ITEM | D2: DESCRIPTION | E2: UNIT | F2: QTY | G2: RATE | H2: AMOUNT
A3: C1.6.1 | D3: Clearing
B4: C1.6.1.1 | D4: Clearing with machines and some hand labour where necessary | E4: hectare (ha) | F4: 1 | H4: =IF(G4=0," ",F4*G4)
B5: C1.6.1.2 | D5: Clearing with hand labour only when labour enhanced work is specified | E5: hectare (ha) | F5: 0.1 | H5: =IF(G5=0," ",F5*G5)
B6: C1.6.1.3 | D6: Clearing for new fence lines (over a width of 2,0m) | E6: kilometre (km) | F6: 1.3 | H6: =IF(G6=0," ",F6*G6)
B7: C1.6.1.4 | D7: Clearing for service trenches (over the agreed width required) | E7: square metre (m2) | F7: 500 | H7: =IF(G7=0," ",F7*G7)
A8: C1.6.2 | D8: Grubbing
B9: C1.6.2.1 | D9: Grubbing with machines and some hand labour where necessary | E9: hectare (ha) | F9: 0.8 | H9: =IF(G9=0," ",F9*G9)
B10: C1.6.2.2 | D10: Grubbing with hand labour when labour enhancement work is specified or it is not practical to use a machine | E10: hectare (ha) | F10: 0.1 | H10: =IF(G10=0," ",F10*G10)
B11: C1.6.2.3 | D11: Grubbing by hand for new fence lines (over a width of 2,0m) | E11: kilometre (km) | F11: 1.3 | H11: =IF(G11=0," ",F11*G11)
B12: C1.6.2.4 | D12: Grubbing by hand for service trenches (over the agreed width required) | E12: square metre (m2) | F12: 500 | H12: =IF(G12=0," ",F12*G12)
A13: C1.6.3 | D13: Removal and grubbing of large trees and tree stumps:
B14: C1.6.3.1 | D14: Girth equal to or exceeding 1,0m up to and including 2,0m | E14: number (No.) | F14: 12 | H14: =IF(G14=0," ",F14*G14)
A15: C1.6.9 | D15: Conservation of topsoil:
B16: C1.6.9.1 | D16: Stockpiling topsoil | E16: cubic metre (m3) | F16: 1100 | H16: =IF(G16=0," ",F16*G16)
A17: C1.6.10 | D17: Disposal of hazardous waste material:
B18: C1.6.10.1 | D18: Disposal of hazardous waste material at an approved hazardous waste material facility | E18: provisional sum | F18: Prov | G18: Sum | H18: 100000
B19: C1.6.10.2 | D19: Handling cost, profit and all other charges in respect of item C1.6.10.1 | E19: percentage (%) | F19: =H18 -> 100000 | H19: =IF(G19=0," ",F19*G19)
A20: =A1 -> SECTION | B20: =B1 -> C1.6 | D20: TOTAL CARRIED FORWARD TO SUMMARY | H20: =SUM(H3:H19) -> 100000

Sheet C1.7
A1: SECTION | B1: C1.7 | D1: LOADING AND HAULING
A2: ITEM | D2: DESCRIPTION | E2: UNIT | F2: QTY | G2: RATE | H2: AMOUNT
A3: C1.7.1 | D3: Loading
B4: C1.7.1.1 | D4: Loading from stockpile using machines and some hand labour where necessary | E4: cubic metre (m3) | F4: 750 | H4: =IF(G4=0," ",F4*G4)
B5: C1.7.1.2 | D5: Loading from heaps or windrows using machines and / some hand labour where necessary | E5: cubic metre (m3) | F5: 250 | H5: =IF(G5=0," ",F5*G5)
B6: C1.7.1.3 | D6: Loading by hand only from stockpile or heaps when labour enhancement work is specified or it is not possible to use machines | E6: cubic metre (m3) | F6: 2750 | H6: =IF(G6=0," ",F6*G6)
A7: C1.7.2 | D7: Hauling
B8: C1.7.2.1 | D8: Hauling material for use in the Works and off-loading it on the site of the Works:
C9: (a) | D9: Soil, gravel, crushed stone and pavement layer material | E9: cubic metre - kilometre (m3 - km) | F9: =1500*5 -> 7500 | H9: =IF(G9=0," ",F9*G9)
B10: C1.7.2.2 | D10: Hauling material to spoil and off-loading it at a designated spoil or stockpile area:
C11: (a) | D11: Cleared and grubbed material (organic matter and all other unsuitable or waste material) | E11: cubic metre - kilometre (m3 - km) | F11: 15000 | H11: =IF(G11=0," ",F11*G11)
C12: (b) | D12: Soil and gravel material | E12: cubic metre - kilometre (m3 - km) | F12: 15000 | H12: =IF(G12=0," ",F12*G12)
A13: =A1 -> SECTION | B13: =B1 -> C1.7 | D13: TOTAL CARRIED FORWARD TO SUMMARY | H13: =SUM(H3:H12) -> 0

Sheet C2.1
A1: SECTION | B1: C2.1 | D1: GENERAL REQUIREMENTS AND TRENCHING FOR SERVICES
A2: ITEM | D2: DESCRIPTION | E2: UNIT | F2: QTY | G2: RATE | H2: AMOUNT
A3: C2.1.1 | D3: Location, identification, protection and relocation of existing services
B4: C2.1.1.1 | D4: Contractor’s obligations | E4: lump sum | F4: Lump | G4: Sum
B5: C2.1.1.2 | D5: Permanent services relocation or protection work by others (Street lighting included) | E5: prime cost (PC) sum | F5: Prime | G5: Cost | H5: 3500000
B6: C2.1.1.3 | D6: Handling costs and profit in respect of item C2.1.1.2 above | E6: percentage (%) | F6: =H5 -> 3500000 | H6: =IF(G6=0," ",F6*G6)
B7: C2.1.1.4 | D7: Permanent services relocation or protection work by the Contractor | E7: provisional sum | F7: Prov | G7: Sum | H7: 25000
A8: C2.1.3 | D8: Obtaining construction or work permits | E8: lump sum | F8: Lump | G8: Sum
A9: C2.1.5 | D9: Provision of record drawings and applicable data | E9: lump sum | F9: Lump | G9: Sum
A10: C2.1.6 | D10: Trench excavation (in soft material)
B11: C2.1.6.1 | D11: Trenches up to 1,0m wide
C12: (a) | D12: Up to 1,0m deep | E12: cubic metre (m3) | F12: 180 | H12: =IF(G12=0," ",F12*G12)
C13: (b) | D13: Over 1,0m and up to 2,0m deep | E13: cubic metre (m3) | F13: 30 | H13: =IF(G13=0," ",F13*G13)
B14: C2.1.6.2 | D14: Trenches over 1,0m and up to 2,0m wide
C15: (a) | D15: Up to 1,0m deep | E15: cubic metre (m3) | F15: 180 | H15: =IF(G15=0," ",F15*G15)
C16: (b) | D16: Over 1,0m and up to 2,0m deep | E16: cubic metre (m3) | F16: 30 | H16: =IF(G16=0," ",F16*G16)
A17: C2.1.7 | D17: Extra over items C2.1.6, C2.1.8 and C2.1.16 for excavating in:
B18: C2.1.7.1 | D18: Hard material irrespective of depth | E18: cubic metre (m3) | F18: 25 | H18: =IF(G18=0," ",F18*G18)
B19: C2.1.7.2 | D19: Stabilised material irrespective of depth | E19: cubic metre (m3) | F19: 15 | H19: =IF(G19=0," ",F19*G19)
A20: C2.1.9 | D20: Trench excavation using labour enhanced construction methods
B21: C2.1.9.1 | D21: Trenches up to 1,0m wide (in soft material)
C22: (a) | D22: Up to 1,0m deep | E22: cubic metre (m3) | F22: 90 | H22: =IF(G22=0," ",F22*G22)
C23: (b) | D23: Over 1,0m and up to 1,5m deep | E23: cubic metre (m3) | F23: 15 | H23: =IF(G23=0," ",F23*G23)
B24: C2.1.9.2 | D24: Trenches over 1,0m and up to 2,0m wide (in soft material)
C25: (a) | D25: Up to 1,0m deep | E25: cubic metre (m3) | F25: 90 | H25: =IF(G25=0," ",F25*G25)
C26: (b) | D26: Over 1,0m and up to 1,5m deep | E26: cubic metre (m3) | F26: 15 | H26: =IF(G26=0," ",F26*G26)
B27: C2.1.9.3 | D27: Trenches up to 1,0m wide (in intermediate material)
C28: (a) | D28: Up to 1,0m deep | E28: cubic metre (m3) | F28: 90 | H28: =IF(G28=0," ",F28*G28)
C29: (b) | D29: Over 1,0m and up to 1,5m deep | E29: cubic metre (m3) | F29: 15 | H29: =IF(G29=0," ",F29*G29)
B30: C2.1.9.4 | D30: Trenches over 1,0m and up to 2,0m wide (in intermediate material)
C31: (a) | D31: Up to 1,0m deep | E31: cubic metre (m3) | F31: 90 | H31: =IF(G31=0," ",F31*G31)
C32: (b) | D32: Over 1,0m and up to 1,5m deep | E32: cubic metre (m3) | F32: 15 | H32: =IF(G32=0," ",F32*G32)
D33: TOTAL CARRIED FORWARD | H33: =SUM(H3:H32) -> 3525000
A36: SECTION | B36: C2.1 | D36: GENERAL REQUIREMENTS AND TRENCHING FOR SERVICES
A37: ITEM | D37: DESCRIPTION | E37: UNIT | F37: QTY | G37: RATE | H37: AMOUNT
D38: TOTAL BOUGHT FORWARD | H38: =H33 -> 3525000
A39: C2.1.11 | D39: Backfilling of trenches
B40: C2.1.11.1 | D40: Backfill compacted to 93% (100% for sand) of MDD using material:
C41: (a) | D41: From the excavated trench material | E41: cubic metre (m3) | F41: 120 | H41: =IF(G41=0," ",F41*G41)
C42: (b) | D42: From other excavations on Site | E42: cubic metre (m3) | F42: 60 | H42: =IF(G42=0," ",F42*G42)
...

Sheet C3.1
A1: SECTION | B1: C3.1 | D1: DRAINS
A2: ITEM | D2: DESCRIPTION | E2: UNIT | F2: QTY | G2: RATE | H2: AMOUNT
A3: C3.1.1 | D3: Excavation for open drains:
B4: C3.1.1.1 | D4: Excavating all material situated within the following depth ranges below the surface level using conventional methods:
C5: (a) | D5: 0m to 1,5m | E5: cubic metre (m3) | F5: 260 | H5: =IF(G5=0," ",F5*G5)
C6: (b) | D6: Exceeding 1,5m and up to 3,0m | E6: cubic metre (m3) | F6: 30 | H6: =IF(G6=0," ",F6*G6)
B7: C3.1.1.2 | D7: Extra over sub-item C3.1.1.1 for excavation in hard and boulder material, irrespective of depth | E7: cubic metre (m3) | F7: 30 | H7: =IF(G7=0," ",F7*G7)
B8: C3.1.1.4 | D8: Excavating soft material situated 0m to 1,5m below the surface level using labour enhanced construction methods | E8: cubic metre (m3) | F8: 100 | H8: =IF(G8=0," ",F8*G8)
B9: C3.1.1.5 | D9: Excavating intermediate material situated 0m to 1,5m below the surface level using labour enhanced construction methods | E9: cubic metre (m3) | F9: 30 | H9: =IF(G9=0," ",F9*G9)
A10: C3.1.16 | D10: Loading and hauling of material in excess of 1,0 km | E10: cubic metre - kilometre (m3 - km) | F10: 1000 | H10: =IF(G10=0," ",F10*G10)
A11: =A1 -> SECTION | B11: =B1 -> C3.1 | D11: TOTAL CARRIED FORWARD TO SUMMARY | H11: =SUM(H3:H10) -> 0

Sheet C3.2
A1: SECTION | B1: C3.2 | E1: CULVERTS
A2: ITEM | D2: DESCRIPTION | E2: UNIT | F2: QTY | G2: RATE | H2: AMOUNT
A3: C3.2.1 | D3: Excavation for culvert structures:
B4: C3.2.1.1 | D4: Excavating in all material situated within the following depth ranges below the surface level:
C5: (a) | D5: 0m to 1,5m | E5: cubic metre (m3) | F5: 180 | H5: =IF(G5=0," ",F5*G5)
C6: (b) | D6: Exceeding 1,5m and up to 3,0m | E6: cubic metre (m3) | F6: 20 | H6: =IF(G6=0," ",F6*G6)
B7: C3.2.1.2 | D7: Excavating soft material 0m to 1,5m below the surface level using labour enhanced construction methods, or instructed by hand under Clause A3.2.7.2(d) | E7: cubic metre (m3) | F7: 35 | H7: =IF(G7=0," ",F7*G7)
B8: C3.2.1.3 | D8: Excavating intermediate material 0m to 1,5m below the surface level using labour enhanced construction methods, or instructed by hand under Clause A3.2.7.2(d) | E8: cubic metre (m3) | F8: 35 | H8: =IF(G8=0," ",F8*G8)
B9: C3.2.1.4 | D9: Extra over sub-item C3.2.1.1 for excavation in hard or boulder material, irrespective of depth | E9: cubic metre (m3) | F9: 20 | H9: =IF(G9=0," ",F9*G9)
A10: C3.2.2 | D10: Backfilling
B11: C3.2.2.1 | D11: Using the excavated material | E11: cubic metre (m3) | F11: 110 | H11: =IF(G11=0," ",F11*G11)
B12: C3.2.2.2 | D12: Using imported selected material:
C13: (a) | D13: From commercial sources (G5) | E13: cubic metre (m3) | F13: 110 | H13: =IF(G13=0," ",F13*G13)
B14: C3.2.2.3 | D14: Extra over sub-items C3.2.2.1 and C3.2.2.2 for soil cement backfilling
C15: (a) | D15: With wet mixture of 4% cement | E15: cubic metre (m3) | F15: 55 | H15: =IF(G15=0," ",F15*G15)
A16: C3.2.3 | D16: Concrete pipe culverts:
B17: C3.2.3.1 | D17: On Class A bedding | E17: metre (m) | H17: =IF(G17=0," ",F17*G17)
C18: (a) | D18: 450mm dia. Class 75D | E18: metre (m) | F18: 60 | H18: =IF(G18=0," ",F18*G18)
C19: (b) | D19: 600mm dia. Class 75D | E19: metre (m) | F19: 60 | H19: =IF(G19=0," ",F19*G19)
C20: (c) | D20: 900mm dia. Class 75D | E20: metre (m) | F20: 180 | H20: =IF(G20=0," ",F20*G20)
B21: C3.2.3.2 | D21: On Class B bedding | E21: metre (m) | H21: =IF(G21=0," ",F21*G21)
C22: (a) | D22: 450mm dia. Class 75D | E22: metre (m) | F22: 30 | H22: =IF(G22=0," ",F22*G22)
C23: (b) | D23: 600mm dia. Class 75D | E23: metre (m) | F23: 50 | H23: =IF(G23=0," ",F23*G23)
C24: (c) | D24: 900mm dia. Class 75D | E24: metre (m) | F24: 35 | H24: =IF(G24=0," ",F24*G24)
B25: C3.2.3.3 | D25: On Class C bedding | E25: metre (m) | H25: =IF(G25=0," ",F25*G25)
C26: (a) | D26: 450mm dia. Class 75D | E26: metre (m) | F26: 60 | H26: =IF(G26=0," ",F26*G26)
C27: (b) | D27: 600mm dia. Class 75D | E27: metre (m) | F27: 100 | H27: =IF(G27=0," ",F27*G27)
C28: (c) | D28: 900mm dia. Class 75D | E28: metre (m) | F28: 75 | H28: =IF(G28=0," ",F28*G28)
A29: C3.2.7 | D29: Cast in situ concrete and formwork:
B30: C3.2.7.1 | D30: In Class A bedding, screeds, concrete backfill and the encasing for pipes, including formwork (class of concrete indicated) | E30: cubic metre (m3) | F30: 85 | H30: =IF(G30=0," ",F30*G30)
B31: C3.2.7.5 | D31: In inlet and outlet structures including kerbs, chutes and downpipes, skewed ends, catchpits, manholes, thrust and anchor blocks, excluding formwork but including Class U2 surfacing finish (Class 30/19) | E31: cubic metre (m3) | F31: 50 | H31: =IF(G31=0," ",F31*G31)
B32: C3.2.7.6 | D32: Formwork of concrete under items C3.2.7.3 to 5 above | H32: =IF(G32=0," ",F32*G32)
C33: (a) | D33: Class F1 surface finish | E33: square metre (m2) | F33: 315 | H33: =IF(G33=0," ",F33*G33)
C34: (b) | D34: Class F2 surface finish | E34: square metre (m2) | F34: 160 | H34: =IF(G34=0," ",F34*G34)
A35: C3.2.10 | D35: Reinforcement:
B36: C3.2.10.1 | D36: Mild steel bars | E36: ton (t) | F36: 1 | H36: =IF(G36=0," ",F36*G36)
B37: C3.2.10.2 | D37: High-tensile steel bars | E37: ton (t) | F37: 2 | H37: =IF(G37=0," ",F37*G37)
B38: C3.2.10.3 | D38: Welded steel fabric | E38: kilogram (kg) | F38: 350 | H38: =IF(G38=0," ",F38*G38)
A39: C3.2.12 | D39: Demolition of concrete members or elements:
B40: C3.2.12.1 | D40: Full member or element | E40: cubic metre (m3) | F40: 15 | H40: =IF(G40=0," ",F40*G40)
...

Sheet C3.3
A1: SECTION | B1: C3.3 | D1: CONCRETE KERBING AND CHANNELING, ASPHALT BERMS, CHUTES, DOWNPIPES, AS WELL AS CONCRETE, STONE PITCHED AND GABION LININGS FOR OPEN DRAINS
A2: ITEM | D2: DESCRIPTION | E2: UNIT | F2: QTY | G2: RATE | H2: AMOUNT
A3: C3.3.1 | D3: Concrete kerbing:
B4: C3.3.1.1 | D4: Prefabricated kerbing
C5: (a) | D5: Precast Figure 4 kerbing to SABS 927 | E5: metre (m) | F5: 1350 | H5: =IF(G5=0," ",F5*G5)
C6: (b) | D6: Precast Figure 7 kerbing to SABS 927 | E6: metre (m) | F6: 480 | H6: =IF(G6=0," ",F6*G6)
A7: C3.3.2 | D7: Concrete kerbing-channeling combination:
B8: C3.3.2.1 | D8: Prefabricated kerbing-channeling
C9: (a) | D9: Prefabricated Figure 4 kerbing to SABS 927, with 300 mm wide Figure 14 concrete channel as shown on drawings | E9: metre (m) | F9: 1600 | H9: =IF(G9=0," ",F9*G9)
A10: C3.3.3 | D10: Extra over items C3.3.1 and C3.3.2 for concrete kerbing or concrete kerbing and channeling on curves
B11: C3.3.3.1 | D11: On curves of radii more than or equal to 5,0m but less than 20m | E11: metre (m) | F11: 3100 | H11: =IF(G11=0," ",F11*G11)
B12: C3.3.3.2 | D12: On curves with radii more than or equal to 1,0m but less than 5,0m | E12: metre (m) | F12: 750 | H12: =IF(G12=0," ",F12*G12)
A13: C3.3.4 | D13: Extra over item C3.3.2 for drop kerbs at pedestrian crossings and driveways | E13: metre (m) | F13: 100 | H13: =IF(G13=0," ",F13*G13)
A14: C3.3.10 | D14: Sealed joints in concrete and stone pitched linings of open drains | E14: metre (m) | F14: 150 | H14: =IF(G14=0," ",F14*G14)
A15: C3.3.14 | D15: Cutting bituminous surfacing and pavement layers for concrete kerbing, channeling or concrete-lined drains | E15: metre (m) | F15: 3500 | H15: =IF(G15=0," ",F15*G15)
A16: C3.3.16 | D16: Demolition and removal of existing kerbs and/or channel (300 x 300mm maximum size) | E16: cubic metre (m3) | F16: 150 | H16: =IF(G16=0," ",F16*G16)
A17: C3.3/C1.7.2 | D17: Hauling
B18: C1.7.2.2 | D18: Hauling material to spoil and off-loading it at a designated spoil or stockpile area:
C19: (c) | D19: Boulders, hard material and concrete | E19: cubic metre - kilometre (m3 - km) | F19: 925 | H19: =IF(G19=0," ",F19*G19)
A20: =A1 -> SECTION | B20: =B1 -> C3.3 | D20: TOTAL CARRIED FORWARD TO SUMMARY | H20: =SUM(H3:H19) -> 0

Sheet C4.2
A1: SECTION | B1: C4.2 | D1: CUT MATERIALS
A2: ITEM | D2: DESCRIPTION | E2: UNIT | F2: QTY | G2: RATE | H2: AMOUNT
A3: C4.2.9 | D3: Excavate material to spoil in sites designated by the Contractor, material obtained from
B4: C4.2.9.1 | D4: Soft excavation, overburden and unsuitable material | E4: cubic metre (m3) | F4: 5400 | H4: =IF(G4=0," ",F4*G4)
A5: C4.2.12 | D5: Finishing the side slopes
B6: C4.2.12.1 | D6: Cuttings:
C7: (a) | D7: In soft material | E7: square metre (m2) | F7: 750 | H7: =IF(G7=0," ",F7*G7)
C8: (d) | D8: In soft material using labour enhanced methods of construction | E8: square metre (m2) | F8: 150 | H8: =IF(G8=0," ",F8*G8)
A9: =A1 -> SECTION | B9: =B1 -> C4.2 | D9: TOTAL CARRIED FORWARD TO SUMMARY | H9: =SUM(H3:H8) -> 0

Sheet C4.3
A1: SECTION | B1: C4.3 | E1: EXISTING ROAD MATERIALS
A2: ITEM | D2: DESCRIPTION | E2: UNIT | F2: QTY | G2: RATE | H2: AMOUNT
A3: C4.3.4 | D3: Saw-cutting existing materials within the following average depth ranges
B4: C4.3.4.1 | D4: Asphalt material:
C5: (a) | D5: Up to 50mm | E5: metre (m) | F5: 950 | H5: =IF(G5=0," ",F5*G5)
C6: (b) | D6: Exceeding 50mm and up to 100mm | E6: metre (m) | F6: 350 | H6: =IF(G6=0," ",F6*G6)
B7: C4.3.4.2 | D7: Crushed stone and gravel material:
C8: (a) | D8: Up to 100mm | E8: metre (m) | F8: 950 | H8: =IF(G8=0," ",F8*G8)
C9: (b) | D9: Exceeding 100mm and up to 200mm | E9: metre (m) | F9: 350 | H9: =IF(G9=0," ",F9*G9)
B10: C4.3..4.3 | D10: Cemented material:
C11: (a) | D11: Up to 100mm | E11: metre (m) | F11: 950 | H11: =IF(G11=0," ",F11*G11)
C12: (b) | D12: Exceeding 100mm and up to 200mm | E12: metre (m) | F12: 350 | H12: =IF(G12=0," ",F12*G12)
A13: C4.3.5 | D13: Providing the milling machine on the site
B14: C4.3.5.1 | D14: Small milling machine with a cutting width of 1,2m or smaller | E14: number (No.) | F14: 1 | H14: =IF(G14=0," ",F14*G14)
B15: C4.3.5.2 | D15: Large milling machine with a cutting width exceeding 1,2 m | E15: number (No.) | F15: 1 | H15: =IF(G15=0," ",F15*G15)
A16: C4.3.6 | D16: Milling and removal of existing asphalt layers with an average milling depth (Contractor takes ownership)
B17: C4.3.6.1 | D17: Not exceeding 50mm | E17: cubic metre (m3) | F17: 1850 | H17: =IF(G17=0," ",F17*G17)
B18: C4.3.6.2 | D18: Exceeding 50mm but not exceeding 100mm | E18: cubic metre (m3) | F18: 1850 | H18: =IF(G18=0," ",F18*G18)
A19: C4.3.20 | D19: Spoiling of paving blocks and road edging in spoil sites designated by the Contractor
B20: C4.3.20.1 | D20: Paving blocks | E20: cubic metre (m3) | F20: 15 | H20: =IF(G20=0," ",F20*G20)
B21: C4.3.20.2 | D21: Precast and in situ concrete kerbing, edge beams and channels at precast kerbing | E21: cubic metre (m3) | F21: 15 | H21: =IF(G21=0," ",F21*G21)
B22: C4.3.20.3 | D22: Kerb and grid inlets, and other services structures | E22: number (No.) | F22: 200 | H22: =IF(G22=0," ",F22*G22)
A23: =A1 -> SECTION | B23: =B1 -> C4.3 | D23: TOTAL CARRIED FORWARD TO SUMMARY | H23: =SUM(H3:H22) -> 0

Sheet C4.4
A1: SECTION | B1: C4.4 | D1: COMMERCIAL MATERIALS
A2: ITEM | D2: DESCRIPTION | E2: UNIT | F2: QTY | G2: RATE | H2: AMOUNT
A3: C4.4.2 | D3: Commercial materials identified by the Contractor from commercial, private or other non-commercial suppliers
B4: C4.4.2.1 | D4: Pavement layer material:
C5: (a) | D5: Type G1 material | E5: cubic metre (m3) | F5: 880 | H5: =IF(G5=0," ",F5*G5)
C6: (c) | D6: Type G4-A material | E6: cubic metre (m3) | F6: 710 | H6: =IF(G6=0," ",F6*G6)
C7: (d) | D7: Type G5-A material | E7: cubic metre (m3) | F7: 2200 | H7: =IF(G7=0," ",F7*G7)
C8: (e) | D8: Type G6 material | E8: cubic metre (m3) | F8: 1000 | H8: =IF(G8=0," ",F8*G8)
C9: (p) | D9: Natural or crushed gravel material for an unsealed shoulder layer | E9: cubic metre (m3) | F9: 110 | H9: =IF(G9=0," ",F9*G9)
B10: C4.4.2.5 | D10: Fill material in the earthworks:
C11: (a) | D11: Normal or coarse fill | E11: cubic metre (m3) | F11: 1850 | H11: =IF(G11=0," ",F11*G11)
A12: C4.4.4 | D12: Cementitious stabilising agents
B13: C4.4.4.1 | D13: Cement (CEM II 32.5) | E13: ton (t) | F13: 205 | H13: =IF(G13=0," ",F13*G13)
A14: C4.4.5 | D14: Bituminous stabilising agents
B15: C4.4.5.2 | D15: Emulsion stable grade (SS60) | E15: ton (t) | F15: 45 | H15: =IF(G15=0," ",F15*G15)
A16: C4.4.6 | D16: Fillers for bituminous stabilisation | H16: =IF(G16=0," ",F16*G16)
B17: C4.4.6.1 | D17: Cement (CEM II 32.5) | E17: ton (t) | F17: 45 | H17: =IF(G17=0," ",F17*G17)
A18: C4.4.7 | D18: Sampling and material testing by a commercial laboratory for the stabilisation designs
B19: C4.4.7.1 | D19: Cost of sampling and material testing | E19: provisional sum | F19: Prov | G19: Sum | H19: 150000
B20: C4.4.7.2 | D20: Handling cost and profit in respect of item C4.4.7.1 | E20: percentage (%) | F20: =H19 -> 150000 | H20: =IF(G20=0," ",F20*G20)
A21: =A1 -> SECTION | B21: =B1 -> C4.4 | D21: TOTAL CARRIED FORWARD TO SUMMARY | H21: =SUM(H3:H20) -> 150000

Sheet C5.1
A1: SECTION | B1: C5.1 | D1: ROADBED
A2: ITEM | D2: DESCRIPTION | E2: UNIT | F2: QTY | G2: RATE | H2: AMOUNT
A3: C5.1.1 | D3: Roadbed construction and compaction:
B4: C5.1.1.4 | D4: Compaction of imported material to 93% of MDD | E4: cubic metre (m3) | F4: 550 | H4: =IF(G4=0," ",F4*G4)
A5: C5.1.4 | D5: Removal of unsuitable material to spoil:
B6: C5.1.4.1 | D6: In layer thicknesses of 200mm and less
C7: (a) | D7: Stable material | E7: cubic metre (m3) | F7: 250 | H7: =IF(G7=0," ",F7*G7)
C8: (b) | D8: Unstable material | E8: cubic metre (m3) | F8: 200 | H8: =IF(G8=0," ",F8*G8)
A9: =A1 -> SECTION | B9: =B1 -> C5.1 | D9: TOTAL CARRIED FORWARD TO SUMMARY | H9: =SUM(H3:H8) -> 0

Sheet C5.2
A1: SECTION | B1: C5.2 | D1: FILL
A2: ITEM | D2: DESCRIPTION | E2: UNIT | F2: QTY | G2: RATE | H2: AMOUNT
A3: C5.2.2 | D3: Fill construction:
B4: C5.2.2.1 | D4: Normal fill material in compacted layer thicknesses of 200mm and less:
C5: (b) | D5: Compacted to 93% of MDD | E5: cubic metre (m3) | F5: 850 | H5: =IF(G5=0," ",F5*G5)
B7: C5.2.2.4 | D7: Rock fill material all as per Clause A5.2.7.6 | E7: cubic metre (m3) | F7: 1000 | H7: =IF(G7=0," ",F7*G7)
A9: C5.2.5 | D9: Fill in sidewalk:
B10: C5.2.5.1 | D10: Fill material in sidewalk compacted to 95% of MDD | E10: cubic metre (m3) | F10: 2150 | H10: =IF(G10=0," ",F10*G10)
A11: C5.2.11 | D11: Finishing-off fill slopes, medians and interchange areas:
B12: C5.2.11.1 | D12: Fill slopes | E12: square metre (m2) | F12: 2400 | H12: =IF(G12=0," ",F12*G12)
A13: =A1 -> SECTION | B13: =B1 -> C5.2 | D13: TOTAL CARRIED FORWARD TO SUMMARY | H13: =SUM(H3:H12) -> 0

Sheet C5.3
A1: SECTION | B1: C5.3 | E1: ROAD PAVEMENT LAYERS
A2: ITEM | D2: DESCRIPTION | E2: UNIT | F2: QTY | G2: RATE | H2: AMOUNT
A3: C5.3.1 | D3: Compiling and implementing M&U plans for the construction of all the pavement layers. | E3: number (No.) | F3: 5 | H3: =IF(G3=0," ",F3*G3)
A4: C5.3.2 | D4: Construction of pavement layers
B5: PC5.3.2.1 | D5: Construction of layers using conventional construction methods:
C6: (c) | D6: Upper selected subgrade layer (150mm thick) compacted to 95% of MDD | E6: cubic metre (m3) | F6: 1000 | H6: =IF(G6=0," ",F6*G6)
C7: (h) | D7: Gravel shoulder layer (150mm thick) compacted to 95% of MDD | E7: cubic metre (m3) | F7: 110 | H7: =IF(G7=0," ",F7*G7)
C8: (bb) | D8: Bound macadam layer (layer thickness indicated) compacted to 90 % of AD | E8: cubic metre (m3) | F8: 3600 | H8: =IF(G8=0," ",F8*G8)
C9: (dd) | D9: G5A crushed rock/boulder subbase (Chemically stabilized ) compacted to 97% of MDD (350mm thick) stabilized to C3 spec. | E9: cubic metre (m3) | F9: 2200 | H9: =IF(G9=0," ",F9*G9)
C10: (ee) | D10: G4A crushed rock/boulder base layer compacted to 98% of modified AASHTO density (150mm thick) | E10: cubic metre (m3) | F10: 710 | H10: =IF(G10=0," ",F10*G10)
C11: (ee) | D11: G1 crushed stone base layer, stabilised with 2% cement and 1% emulsion (stabilising agent and application excluded) and compacted to 1`04% of MDD (150mm thick) | E11: cubic metre (m3) | F11: 880 | H11: =IF(G11=0," ",F11*G11)
A12: C5.3.2.2 | C12: (k) | D12: Bound macadam layer (layer thickness indicated) compacted to 90 % of AD | E12: cubic metre (m3) | F12: 3600 | H12: =IF(G12=0," ",F12*G12)
A13: C5.3.9 | D13: Construction of a trial section
A14: C5.3.9.1 | C14: (e) | D14: Bound macadam layer (150mm) trial section | E14: cubic metre (m3) | F14: 240 | H14: =IF(G14=0," ",F14*G14)
A15: C5.3.9.2 | D15: Construction of a trial section using labour enhancement methods
C16: (c) | D16: Bound macadam layer (150mm) trial section | E16: cubic metre (m3) | F16: 240 | H16: =IF(G16=0," ",F16*G16)
A17: C5.3.11 | D17: Riding quality measurements:
B18: C5.3.11.2 | D18: Using a rolling straight edge | E18: kilometre (km) | F18: 4 | H18: =IF(G18=0," ",F18*G18)
A19: =A1 -> SECTION | B19: =B1 -> C5.3 | D19: TOTAL CARRIED FORWARD TO SUMMARY | H19: =SUM(H3:H18) -> 0

Sheet C5.4
A1: SECTION | B1: C5.4 | D1: STABILISATION
A2: ITEM | D2: DESCRIPTION | E2: UNIT | F2: QTY | G2: RATE | H2: AMOUNT
A3: C5.4.2 | D3: Chemical stabilisation:
B4: C5.4.2.1 | D4: Chemical stabilisation of pavement layers | H4: =IF(G4=0," ",F4*G4)
C5: (a) | D5: C3 subbase 350mm thick | E5: cubic metre (m3) | F5: 2200 | H5: =IF(G5=0," ",F5*G5)
C6: (b) | D6: G1 base 150mm thick | E6: cubic metre (m3) | F6: 880 | H6: =IF(G6=0," ",F6*G6)
A7: C5.4.5 | D7: Cementitious stabilisation agents for pavement layers:
B8: C5.4.5.2 | D8: Addition of cementitious stabilisation agents for pavement layers and spreading the agent using bags and labour enhancement methods.
C9: (a) | D9: Cement (for pavement layer) | E9: ton (t) | F9: 205 | H9: =IF(G9=0," ",F9*G9)
A10: C5.4.7 | D10: Bituminous stabilisation of pavement layers
B11: C5.4.7.1 | D11: Bituminous stabilisation (150mm) of payment layers (G1 crushed stone base) | E11: litre (ℓ) | F11: 45000 | H11: =IF(G11=0," ",F11*G11)
A12: C5.4.8 | D12: Bituminous stabilisation agent:
B13: C5.4.8.1 | D13: 60% anionic emulsion | E13: litre (ℓ) | F13: 25000 | H13: =IF(G13=0," ",F13*G13)
B14: C5.4.8.2 | D14: 60% cationic emulsion | E14: litre (ℓ) | F14: 20000 | H14: =IF(G14=0," ",F14*G14)
A15: C5.4.9 | D15: Filler for bituminous stabilisation
B16: C5.4.9.2 | D16: Filler for bituminous stabilisation spreading the agent or filler using labour enhanced methods of construction (specify agents separately) | E16: ton (t) | F16: 45 | H16: =IF(G16=0," ",F16*G16)
A17: C5.4.11 | B17: C5.4.11 | D17: Curing by covering with the subsequent layer | E17: square metre (m2) | F17: 6300 | H17: =IF(G17=0," ",F17*G17)
A18: C5.4.12 | D18: Curing with a membrane (type of material to be specified):
B19: C5.4.12.3 | D19: Spray grade emulsion | E19: litre (ℓ) | F19: 3600 | H19: =IF(G19=0," ",F19*G19)
A20: C5.4.14 | D20: Trial section for a chemically stabilised layer | H20: =IF(G20=0," ",F20*G20)
B21: PC5.4.41.1 | D21: C3 cement stabilised subbase | E21: cubic metre (m3) | F21: 150 | H21: =IF(G21=0," ",F21*G21)
B22: PC5.4.41.2 | D22: G1 cement and emulsion treated base | E22: cubic metre (m3) | F22: 75 | H22: =IF(G22=0," ",F22*G22)
A23: =A1 -> SECTION | B23: =B1 -> C5.4 | D23: TOTAL CARRIED FORWARD TO SUMMARY | H23: =SUM(H3:H22) -> 0

Sheet C6.1
A1: SECTION | B1: C6.1 | D1: PAVER LAID CONCRETE LAYERS
A2: ITEM | D2: DESCRIPTION | E2: UNIT | F2: QTY | G2: RATE | H2: AMOUNT
A3: C6.1.1 | D3: Construction of trial section (Complete: including texturing and curing)
B4: C6.1.1.2 | D4: Labour enhanced construction (CRCP, 150mm thick) | E4: square metre (m2) | F4: 60 | H4: =IF(G4=0," ",F4*G4)
A5: C6.1.3 | D5: Construction of continuously reinforced concrete pavement (Excluding texturing and curing)
B6: PC6.1.3.1 | D6: Continuously reinforced concrete pavement (CRCP):
C7: (b) | D7: Labour enhanced construction | H7: =IF(G7=0," ",F7*G7)
C8: (i) | D8: 150mm thick, 4.2MPa flexural strength - for circle aprons | E8: square metre (m2) | F8: 1600 | H8: =IF(G8=0," ",F8*G8)
C9: (ii) | D9: 150mm thick, Class 20/19 concrete for central islands | E9: square metre (m2) | F9: 1350 | H9: =IF(G9=0," ",F9*G9)
A10: C6.1.4 | D10: Texturing and curing the concrete pavement
B11: C6.1.4.1 | D11: Burlap-dragged and grooved texture:
C12: (b) | D12: Labour enhanced construction | E12: square metre (m2) | F12: 1600 | H12: =IF(G12=0," ",F12*G12)
B13: C6.1.4.3 | D13: Curing:
C14: (b) | D14: Labour enhanced construction | E14: square metre (m2) | F14: 2900 | H14: =IF(G14=0," ",F14*G14)
A15: C6.1.5 | D15: Variation in the rate of application of the curing compound | E15: litre (ℓ) | H15: Rate Only
A16: C6.1.6 | D16: Joints
B17: C6.1.6.1 | D17: Expansion joints complete (excluding dowels) | E17: metre (m) | F17: 700 | H17: =IF(G17=0," ",F17*G17)
A18: C6.1.7 | D18: Steel reinforcement in concrete pavements
B19: C6.1.7.2 | D19: High tensile steel bars | E19: ton (t) | F19: 14 | H19: =IF(G19=0," ",F19*G19)
B20: C6.1.7.3 | D20: Welded steel fabric | E20: kilogram (kg) | F20: 2500 | H20: =IF(G20=0," ",F20*G20)
A21: C6.1.8 | D21: Drilling of testing of cores
B22: C6.1.8.1 | D22: 100mm cores drilled from pavement for testing of compressive strength | E22: number (No.) | F22: 100 | H22: =IF(G22=0," ",F22*G22)
B23: C6.1.8.2 | D23: 150mm cores drilled from pavement for testing of compressive strength | E23: number (No.) | F23: 70 | H23: =IF(G23=0," ",F23*G23)
A24: C6.1/'C7.3.10.4 | D24: Preparing the underlying layers after the concrete has been removed
B25: C7.3.10.4 | D25: Replacement of supporting layers with 10 MPa lean mix concrete (75mm thick blinding layer) | E25: square metre (m2) | F25: 2800 | H25: =IF(G25=0," ",F25*G25)
A26: =A1 -> SECTION | B26: =B1 -> C6.1 | D26: TOTAL CARRIED FORWARD TO SUMMARY | H26: =SUM(H3:H25) -> 0

Sheet C6.2
A1: SECTION | B1: C6.2 | E1: SEGMENTAL BLOCK PAVING LAYERS
A2: ITEM | D2: DESCRIPTION | E2: UNIT | F2: QTY | G2: RATE | H2: AMOUNT
A3: C6.2.1 | D3: Segmental block paving
B4: C6.2.1.1. | D4: Concrete block paving (Class 25, Type S-A, 60mm thick) | E4: square metre (m2) | F4: 5840 | H4: =IF(G4=0," ",F4*G4)
A5: C6.2.2 | D5: Cast in-situ concrete edge and intermediate beams | E5: cubic metre (m3) | F5: 75 | H5: =IF(G5=0," ",F5*G5)
A6: C6.2.3 | D6: Provision and application of approved herbicide and ant poison
B7: C6.2.3.1 | D7: Provision of materials | E7: prime cost (PC) sum | F7: Prime | G7: Cost | H7: 60000
B8: C6.2.3.2 | D8: Contractor’s charges and profit added to the prime cost sum | E8: percentage (%) | F8: =H7 -> 60000 | H8: =IF(G8=0," ",F8*G8)
A9: =A1 -> SECTION | B9: =B1 -> C6.2 | D9: TOTAL CARRIED FORWARD TO SUMMARY | H9: =SUM(H3:H8) -> 60000

Sheet C8.1
A1: SECTION | B1: C8.1 | D1: PRIME COAT
A2: ITEM | D2: DESCRIPTION | E2: UNIT | F2: QTY | G2: RATE | H2: AMOUNT
A3: C8.1.1 | D3: Prime coat:
B4: C8.1.1.2 | D4: MC -30 cut-back bitumen | E4: litre (ℓ) | F4: 2400 | H4: =IF(G4=0," ",F4*G4)
B5: C8.1.1.3 | D5: Inverted bitumen emulsion | E5: litre (ℓ) | F5: 2400 | H5: =IF(G5=0," ",F5*G5)
A6: C8.1.2 | D6: Aggregate for blinding:
B7: C8.1.2.1 | D7: Natural sand | E7: cubic metre (m3) | F7: 3 | H7: =IF(G7=0," ",F7*G7)
B8: C8.1.2.2 | D8: Crusher sand | E8: cubic metre (m3) | F8: 3 | H8: =IF(G8=0," ",F8*G8)
A9: =A1 -> SECTION | B9: =B1 -> C8.1 | D9: TOTAL CARRIED FORWARD TO SUMMARY | H9: =SUM(H3:H8) -> 0

Sheet C8.5
A1: SECTION | B1: C8.5 | D1: STANDARD CRACK SEALING
A2: ITEM | D2: DESCRIPTION | E2: UNIT | F2: QTY | G2: RATE | H2: AMOUNT
A3: C8.5.1 | D3: Standard crack sealing
B4: C8.5.1.1 | D4: Cleaning cracks
C5: (b) | D5: Cleaning crack with hot compressed air | E5: metre (m) | F5: 12700 | H5: =IF(G5=0," ",F5*G5)
B6: C8.5.1.4 | D6: Sealing the cracks
C7: (a) | D7: Sealing using C-R1 binder | E7: litre (ℓ) | F7: 5100 | H7: =IF(G7=0," ",F7*G7)
A8: =A1 -> SECTION | B8: =B1 -> C8.5 | D8: TOTAL CARRIED FORWARD TO SUMMARY | H8: =SUM(H3:H7) -> 0

Sheet C8.8
A1: SECTION | B1: C8.8 | D1: PATCHING AND EDGE BREAK REPAIR
A2: ITEM | D2: DESCRIPTION | E2: UNIT | F2: QTY | G2: RATE | H2: AMOUNT
A3: C8.8.1 | D3: Saw cutting pavement layers for patching
B4: C8.8.1.1 | D4: Asphalt or bituminous surfacing to an average depth
C5: (a) | D5: Not exceeding 50mm | E5: metre (m) | F5: 2450 | H5: =IF(G5=0," ",F5*G5)
C6: (b) | D6: Exceeding 50mm but not exceeding 100mm | E6: metre (m) | F6: 600 | H6: =IF(G6=0," ",F6*G6)
A7: C8.8.2 | D7: Excavation in existing pavements for patching (non-milling)
B8: C8.8.2.1 | D8: Asphalt layers
C9: (a) | D9: Not exceeding 10 m² including for edge repairs wider than 250mm | E9: cubic metre (m3) | F9: 30 | H9: =IF(G9=0," ",F9*G9)
C10: (b) | D10: Exceeding 10 m² but not exceeding 50 m² including for edge repairs wider than 250mm | E10: cubic metre (m3) | F10: 50 | H10: =IF(G10=0," ",F10*G10)
C11: (c) | D11: Exceeding 50 m² up to 100 m² including for edge repairs wider than 250mm | E11: cubic metre (m3) | F11: 20 | H11: =IF(G11=0," ",F11*G11)
B12: C8.8.2.3 | D12: Other layers (Granular and / or crushed stone pavement layers)
C13: (a) | D13: Not exceeding 10 m² including for edge repairs wider than 250mm | E13: cubic metre (m3) | F13: 20 | H13: =IF(G13=0," ",F13*G13)
C14: (b) | D14: Exceeding 10 m² but not exceeding 50 m² including for edge repairs wider than 250mm | E14: cubic metre (m3) | F14: 60 | H14: =IF(G14=0," ",F14*G14)
C15: (c) | D15: Exceeding 50 m² up to 100 m² including for edge repairs wider than 250mm | E15: cubic metre (m3) | F15: 20 | H15: =IF(G15=0," ",F15*G15)
A16: C8.8.3 | D16: Compacting the floor of excavations for patching (93% MDD) | E16: square metre (m2) | F16: 825 | H16: =IF(G16=0," ",F16*G16)
A17: C8.8.4 | D17: Backfilling of excavations for patching with:
B18: C8.8.4.1 | D18: Chemically stabilized pavement material (G1 crushed stone stabilised with 2% cement and 1% emulsion, compacted to 104% of MDD) for a patch with a surface area:
C19: (a) | D19: Not exceeding 10 m² including for edge repairs wider than 250mm | E19: cubic metre (m3) | F19: 20 | H19: =IF(G19=0," ",F19*G19)
C20: (b) | D20: Exceeding 10 m² but not exceeding 50 m² including for edge repairs wider than 250mm | E20: cubic metre (m3) | F20: 60 | H20: =IF(G20=0," ",F20*G20)
C21: (c) | D21: Exceeding 50 m² up to 100 m² including for edge repairs wider than 250mm | E21: cubic metre (m3) | F21: 20 | H21: =IF(G21=0," ",F21*G21)
B22: C8.8.4.3 | D22: Asphalt (58V-22, stone skeleton) for a patch with a surface area
C23: (a) | D23: Not exceeding 10 m² including for edge repairs wider than 250mm | E23: ton (t) | F23: 75 | H23: =IF(G23=0," ",F23*G23)
C24: (b) | D24: Exceeding 10 m² but not exceeding 50 m² including for edge repairs wider than 250mm | E24: ton (t) | F24: 125 | H24: =IF(G24=0," ",F24*G24)
C25: (c) | D25: Exceeding 50 m² up to 100 m² including for edge repairs wider than 250mm | E25: ton (t) | F25: 50 | H25: =IF(G25=0," ",F25*G25)
A26: C8.8.6 | D26: Repairing edge breaks in surfacing
B27: C8.8.6.1 | D27: Cutting back the edges of the existing surfacing for the repairing of edge breaks | E27: metre (m) | F27: 250 | H27: =IF(G27=0," ",F27*G27)
B28: C8.8.6.2 | D28: Prime coat (MC-30, 0.8 litre / m2) | E28: litre (ℓ) | F28: 50 | H28: =IF(G28=0," ",F28*G28)
B29: C8.8.6.3 | D29: Reconstructing edges using:
C30: (a) | D30: Continuously-graded hot asphalt (58V-22, stone skeleton) | E30: ton (t) | F30: 8 | H30: =IF(G30=0," ",F30*G30)
A31: =A1 -> SECTION | B31: =B1 -> C8.8 | D31: TOTAL CARRIED FORWARD TO SUMMARY | H31: =SUM(H3:H30) -> 0

Sheet C9.1
A1: SECTION | B1: C9.1 | D1: ASPHALT LAYERS
A2: ITEM | D2: DESCRIPTION | E2: UNIT | F2: QTY | G2: RATE | H2: AMOUNT
A3: C9.1.1 | D3: Asphalt mix designs
B4: C9.1.1.1 | D4: Stone skeletal mixes:
C5: (a) | D5: Continuously graded base or surfacing (58V-22 (PMB), Mix Design Level III) Base Layer | E5: lump sum | F5: Lump | G5: Sum
B6: C9.1.1.2 | D6: Sand skeletal mixes:
C7: (a) | D7: Continuously graded base or surfacing (58V-22, Mix Design Level III) Surfacing Layer | E7: lump sum | F7: Lump | G7: Sum
A8: C9.1.2 | D8: Construction of trial sections
B9: C9.1.2.1 | C9: i | D9: Asphalt layers (58V-22 (PMB), 50mm thick, placed by paver) Surfacing layer | E9: square metre (m2) | F9: 200 | H9: =IF(G9=0," ",F9*G9)
C10: ii | D10: Asphalt layers (58V-22, 80mm thick, placed by paver) Base layer | E10: square metre (m2) | F10: 200 | H10: =IF(G10=0," ",F10*G10)
B11: C9.1.2.2 | C11: i | D11: Removal of trial section where so instructed by the Engineer (Surfacing layer) | E11: square metre (m2) | F11: 200 | H11: =IF(G11=0," ",F11*G11)
C12: ii | D12: Removal of trial section where so instructed by the Engineer (Base layer) | E12: square metre (m2) | F12: 200 | H12: =IF(G12=0," ",F12*G12)
A13: C9.1.3 | D13: Application of bond coat
B14: C9.1.3.1 | D14: Stable–grade 30% net bitumen emulsion as specified. | H14: =IF(G14=0," ",F14*G14)
C15: (a) | D15: Applied with a calibrated distributer | E15: litre (ℓ) | F15: 16000 | H15: =IF(G15=0," ",F15*G15)
B16: C9.1.3.3 | C16: (c) | D16: Applied by hand using brushes on all exposed transverse and longitudinal construction joints | E16: litre (ℓ) | F16: 200 | H16: =IF(G16=0," ",F16*G16)
A17: C9.1.4 | D17: Asphalt base
B18: C9.1.4.1 | D18: New construction (by suitable / approved paver)
C19: (a) | D19: Stone skeletal mix – continuously graded as defined (80mm thick, 85V-22 (PMB), design level III) | E19: square metre (m2) | F19: 9000 | H19: =IF(G19=0," ",F19*G19)
A20: C9.1.5 | D20: Asphalt surfacing
B21: C9.1.5.1 | D21: New construction (by suitable / approved paver)
C22: (a) | D22: Sand skeletal mix – continuously graded as defined (50mm thick, 58V-22 (PMB), design level III) | E22: square metre (m2) | F22: 12000 | H22: =IF(G22=0," ",F22*G22)
B23: C9.1.5.1 | D23: Rehabilitation
C24: (a) | D24: Sand skeletal mix – continuously graded as defined (50mm thick, 58V-22 (PMB), design level III) | E24: ton (t) | F24: 4800 | H24: =IF(G24=0," ",F24*G24)
A25: C9.1.7 | D25: Placing and compacting asphalt in restricted areas
B26: C9.1.7.1 | D26: Extra over payment items C9.1.4.1 and C9.1.5.1 (nominal maximum particle size 20mm and 14 mm respectively) | E26: square metre (m2) | F26: 8000 | H26: =IF(G26=0," ",F26*G26)
A27: C9.1.9 | D27: Application of rolled in chippings (10mm nominal size)
B28: C9.1.9.1 | D28: By means of chip spreader | E28: square metre (m2) | F28: 9000 | H28: =IF(G28=0," ",F28*G28)
B29: C9.1.9.2 | D29: By hand in restricted areas | E29: square metre (m2) | F29: 4500 | H29: =IF(G29=0," ",F29*G29)
A30: C9.1.10 | D30: Variation rates
B31: C9.1.10.1 | C31: i | D31: Bitumen (58V-22 (PMB)) | E31: ton (t) | H31: Rate only
C32: ii | D32: Bitumen (58V-22) | E32: ton (t) | H32: Rate only
B33: C9.1.10.2 | D33: Aggregate | E33: ton (t) | H33: Rate only
B34: C9.1.10.3 | D34: Active filler | E34: ton (t) | H34: Rate only
B35: C9.1.10.5 | D35: Rolled-in chippings | E35: ton (t) | H35: Rate only
B36: C9.1.10.6 | D36: Bituminous bond coat – net bitumen (Stable–grade 30% net bitumen emulsion) | E36: ton (t) | H36: Rate only
A37: C9.1.13 | D37: Coring of asphalt layers
B38: C9.1.13.1 | D38: 100mm diameter | E38: number (No.) | F38: 150 | H38: =IF(G38=0," ",F38*G38)
B39: C9.1.13.2 | D39: 150mm diameter | E39: number (No.) | F39: 100 | H39: =IF(G39=0," ",F39*G39)
A40: C9.1.14 | D40: Surface regularity testing as described in Clause A9.1.8.4
...

Sheet C11.1
A1: SECTION | B1: C11.1 | D1: PITCHING, STONEWORK, CAST IN SITU CONCRETE FOR PROTECTION AGAINST EROSION
A2: ITEM | D2: DESCRIPTION | E2: UNIT | F2: QTY | G2: RATE | H2: AMOUNT
A3: C11.1.2 | D3: Stone pitching
B4: C11.1.2.1 | D4: Plain stone pitching
C5: (a) | D5: Method 1 | E5: square metre (m2) | F5: 150 | H5: =IF(G5=0," ",F5*G5)
C6: (b) | D6: Method 2 | E6: square metre (m2) | F6: 150 | H6: =IF(G6=0," ",F6*G6)
