Workbook
Name Consequence: '[1]Drop Down Lists'!$A$3:$A$8
Name Likelihood: '[1]Drop Down Lists'!$B$3:$B$7
Name RCE: '[1]Drop Down Lists'!$D$3:$D$7

Sheet Risk template
A3: Occupational Health and Safety Baseline risk assessment template
A4: Business/Operating unit: | K4: Department: | V4: Next Review Date (every 2 years): | X4: Template identifier: | Y4: 240-70044602
A6: Date: | K6: Prepared by: | N6: Authorised by: | P6: Name: | X6: Document identifier
P7: Designation: | X7: Revision number: | Y7: 3
P8: Signed: | X8: Revision date: | Y8: 45443
P9: Date:
A10: Refer to Occupational Health and Safety Risk assessment procedure 32-520
A11: List activity | B11: Activity type (Routine/Non-routine) | C11: Hazard nr | D11: Hazard Identification | E11: Risk Nr | F11: Associated risk | G11: Risk type | H11: Cause(s) of the risk | I11: OHS opportunities | J11: Exposed group/employees | K11: Risk Owner | L11: Exposure patterns | M11: What are the possible consequences? | N11: Existing Controls | Q11: Risk Priority Rating | S11: Additional Controls or Tasks Aimed at improving Existing Controls | T11: Monitoring Mechanisms | U11: Control Owner | V11: Legal and Other Requirements | W11: Target Date | X11: Current Status | Y11: Integrated Risk Management (IRM) reference number
A12: List specific activities to be performed taking into consideration the equipment to be used, the personnel involved in the task. | B12: Indicate R or N 1. Routine activities and situations create hazards through day-to-day operations and normal work activities; 2. Non-routine activities and situations are occasional or unplanned; | C12: # | D12: Anything with potential to cause of harm. Note: A hazard can pose more than one risk. | E12: # | F12: A chance that injury , ill health or damage could occur as a result of uncontrolled hazard. | G12: Safety or health | H12: What causes the risk to come into effect? | I12: OH&S opportunities that can enhance OH&S performance and lead to hazard elimination and risk reduction. | J12: Who is exposed to the hazard i.e. visitors, members of the public, etc. | K12: Who is accountable for making sure the controls and monitors are: - in place, - implemented, - regularly reviewed for effectiveness. | L12: The frequency and duration the person/group is exposed to the hazard e.g. Daily for 3 hrs. | M12: Consider the worse case scenario without controls? | N12: Include: - Preventative Controls (controls implemented to eliminate hazards or reduce the likelihood of the risk occurring), and - Reactive Controls (controls implemented to reduce the immediate impact of the risk occurring) Elimination Substitution Engineering controls Administrative controls Personal protective equipment (PPE) | O12: Consequence | P12: Likelihood | R12: RCE Risk Control Effectiveness | S12: Include: - Preventative Controls (controls implemented to eliminate hazards or reduce the likelihood of the risk occurring), and - Reactive Controls (controls implemented to reduce the immediate impact of the risk occurring) Elimination Substitution Engineering controls Administrative controls Personal protective equipment (PPE) NB: The risk shall be evaluated, assessed and rated again once additional controls have been implemented. | T12: How we know if we are succeeding. Include comments on effectiveness. This may include i.e. measurements, inspections, supervision where necessary. | U12: Person allocated the responsibility for implementing the agreed controls | V12: Where relevant, list the relevant legislative and or Eskom requirements that prescribe the control. | W12: Once a date has been agreed to, this can not be changed | X12: Pending, In Progress, Complete | Y12: Where applicable, add IRM system reference number for tracking of treatment actions.

Sheet Contractor Baseline template
A3: Occupational Health and Safety Baseline risk assessment template
A4: Business/Operating unit: | B4: Asset Management( Tx Real Estate) Diesel Generator Maintenance | K4: Next Review Date (every 2 years): | L4: Template identifier: 240-70044602
A6: Date: | B6: 44813 | E6: Compiled by: Mangaka Magaoga Noluthando Dondolo Tshepo Mahlophe Irvin Nhlumayo | F6: Authorised by: | H6: Name: Irvin Nhlumayo | K6: Document identifier | AA6: R | AB6: Safety | AC6: 1 | AD6: A | AE6: Fully effective | AF6: I
H7: Designation:TRE Facilities Manager | K7: Revision number: | L7: 1 | AA7: N | AB7: Health | AC7: 2 | AD7: B | AE7: Mostly effective | AF7: II
H8: Signed: | K8: Revision date: | L8: 45443 | AC8: 3 | AD8: C | AE8: Mostly ineffective | AF8: III
H9: Date: | AC9: 4 | AD9: D | AE9: None | AF9: IV
A10: Refer to Occupational Health and Safety Risk assessment procedure 32-520 | AC10: 5 | AD10: E
A11: List activity | B11: Hazard Identification | C11: Associated risk | D11: Risk type | E11: What are the possible consequences? | F11: Existing Controls | I11: Risk Priority Rating | K11: Control Owner | L11: Legal and Other Requirements | AC11: 6
A12: List specific activities to be performed taking into consideration the equipment to be used, the personnel involved in the task. | B12: Anything with potential to cause of harm. Note: A hazard can pose more than one risk. | C12: A chance that injury , ill health or damage could occur as a result of uncontrolled hazard. | D12: Safety or health | E12: Consider the worse case scenario without controls? | F12: Include: - Preventative Controls (controls implemented to eliminate hazards or reduce the likelihood of the risk occurring), and - Reactive Controls (controls implemented to reduce the immediate impact of the risk occurring) Elimination Substitution Engineering controls Administrative controls Personal protective equipment (PPE) | G12: Consequence | H12: Likelihood | J12: RCE Risk Control Effectiveness | K12: Person allocated the responsibility for implementing the agreed controls | L12: Where relevant, list the relevant legislative and or Eskom requirements that prescribe the control. | R12: Consequences | S12: 6 | T12: III | U12: II | V12: I | W12: I | X12: I
A13: Driving to Simmerpan Complex | B13: Poor road condition | C13: Potholes, lose stones, slippery road, unlcear road markings | D13: Safety | E13: vehicle collision with 3rd party/ property damage/ incidents involving pedestrians | F13: 1) Elimination - not possible due to nature of work 2) Substitution - use alternative routes 3) Engineering - not possible due to nature of work 4) Administrative - a) Share the identified Travel route risk assement with business partners b) Contractor SHEQ Induction 5) PPE - N/A | G13: 5 | H13: C | I13: II | J13: Mostly effective | K13: Contract's Manager | L13: Eskom Vehicle Safety Specifications procedure 32-345, National Road Traffic Act 93 of 1996, Substance Abuse Procedure 32-37 Eskom | S13: 5 | T13: III | U13: II | V13: II | W13: I | X13: I
B14: Unroadworthy vehicle | C14: Unserviced vehicles, expired licence disc | D14: Safety | E14: Failure of the vehicle leading to property damage, multiple injuries, fatalities | F14: 1) Elimination - Use a roadworthy vehicle 2) Substitution - N/A 3) Engineering - routine servicing of the vehicle 4) Administrative - a) Vehicle inspections b) Valid licence discs 5) PPE - N/A | G14: 5 | H14: C | I14: II | J14: Mostly effective | K14: Contract's Manager | L14: Eskom Vehicle Safety Specifications procedure 32-345, National Road Traffic Act 93 of 1996, Substance Abuse Procedure 32-37 Eskom
B15: Hijackings | C15: Hitch hiking, lone driver | D15: Safety | E15: Fatality,Loss of limb,Serious Injuries | F15: 1) Elimination - not possible due to nature of work 2) Substitution - not possible due to nature of work 3) Engineering - not possible due to nature of work 4) Administrative - a) Vehicle Safety Campeigns. b) Contractor SHE Induction c) Use of Employee Assistance Program 5) PPE - N/A | G15: 5 | H15: C | I15: II | J15: Mostly effective | K15: Contract's Manager | L15: Eskom Vehicle Safety Specifications procedure 32-345, National Road Traffic Act 93 of 1996, Substance Abuse Procedure 32-37 Eskom
A16: Handling and storage Hazardous Chemical Agents (HCA) | B16: Exposure to Hazardous Chemical Agents i.e Carbon monoxide, nitrogen and etc | C16: Incorrect lifting techniques could result in musculoskeletal injuries | D16: Health | E16: Headaches,Dizziness, Chest pain, Lost time incident, Fatality | F16: 1) Elimination - not possible due to nature of work 2) Substitution - not possible due to nature of work 3) Engineering - Installation of HVAC to increase ventilation 4) Administrative - a) Contractor SHE Induction b) Limit the exposure or rotation of employees 5) PPE - Respitartory system | G16: 5 | H16: C | I16: II | J16: Mostly effective | K16: Contract's Manager | L16: OHS Act, Act 85 of 1993 - Hazardous Chemical Agents Regulation; Eskom SHEQ policy 32-727,OHS Baseline Risk Assessment 32-520 | S16: 4 | T16: IV | U16: III | V16: II | W16: I | X16: I
B17: Battery electrolyte | C17: spillage of battery electrolyte | D17: Safety | E17: Battery acids burns, lost time incident | F17: 1) Elimination - not possible due to nature of work 2) Substitution - not possible due to nature of work 3) Engineering - not possible due to nature of work 4) Administrative - a) Contractor to use comptent person when working on a battery b) Contractor OHS Induction 5) PPE - Respitartory system, acid resistance overal, apron | G17: 4 | H17: C | I17: II | J17: Mostly effective | K17: Contract's Manager | L17: OHS Act, Act 85 of 1993 - Hazardous Chemical Agents Regulation; Eskom SHEQ policy 32-727,OHS Baseline Risk Assessment 32-521
A18: Working at heights | B18: Working at Heights, Use of step ladder, ceiling climbing & scaffold | C18: Loose steps or rungs; loose nails, screws, bolts or other metal parts; cracked, split, or broken upright, braces, steps or rungs; damaged | D18: Safety | E18: Use of damaged ladder can result in injury or fatality, failure to secure ladder on top or on the bottom can result in employee falling | F18: 1) Elimination - not possible due to nature of work 2) Substitution - not possible due to nature of work 3) Engineering - not possible due to nature of work 4) Administrative - a) Contractor SHE Induction b) Contractor to provide fall protection plan and risk assessmnet c) Contractor provide working at heights training for employees d) Coontractor to rpovide fall protection planner training records e) Contractor to medical firness certificate for employee working at heights f) Contractor to provide inspection checklist for tools used 5) PPE - Safety Harnesses | G18: 4 | H18: C | I18: II | J18: Mostly effective | K18: Contract's Manager | L18: OHS Act, Act 85 of 1993, General Safety Regulations; Eskom SHEQ policy 32-727,OHS Baseline Risk Assessment 32-520, Eskom Working at heights Standard 32-418, Construction Regulation 10 | S18: 2 | T18: IV | U18: IV | V18: III | W18: II | X18: II
A19: Manual Handling Activities( Egonomics) | B19: Manual Handling of material &equipment,Incorrect lifting method | C19: Back injuries, muscle strain | D19: Health | E19: Lifting heavy unmanageable materials & equipment can cause back injury | F19: 1) Elimination - not possible due to nature of work 2) Substitution - not possible due to nature of work 3) Engineering - not possible due to nature of work 4) Administrative - a) Contractor SHE Induction b) Contractor to provide Ergonomic awareness c) Contractor SHE File evaluation 5) PPE - safety shoes, overalls | G19: 4 | H19: C | I19: II | J19: Mostly effective | K19: Contract's Manager | L19: OHS Ac Act 85 of 1993, Ergonomics Regulations; Eskom SHEQ policy 32-727,OHS Baseline Risk Assessment 32-520; | T19: A | U19: B | V19: C | W19: D | X19: E
A20: Use of hand tools | B20: Use of damaged tools; no maintenance on tools; use of makeshift unapproved tools | C20: Major cuts, bruises | D20: Safety | E20: Damaged or use of inappropriate tools | F20: 1) Elimination - not possible due to nature of work 2) Substitution - not possible due to nature of work 3) Engineering - not possible due to nature of work 4) Administrative - a) Contractor SHE Induction b) Contractor to provide hand tools inspection checklist c) Contractor SHE File evaluation d) Contractor to provide specific training for tools 5) PPE - safety shoes, overalls | G20: 2 | H20: C | I20: III | J20: Mostly effective | K20: Contract's Manager | L20: OHS Act, Eskom SHEQ policy 32-727,OHS Baseline Risk Assessment 32-520
A21: Working on electrical components of the generator | B21: Failure of the Automatic Transfer Switch to turn off the generator once power is restored | C21: Electrical shock due to back feeding, caught in between | D21: Safety | E21: Burns, Lost Time incidents | F21: 1) Elimination - not possible due to nature of work 2) Substitution - not possible due to nature of work 3) Engineering - not possible due to nature of work 4) Administrative - a) Contractor SHE Induction b) Contractor to test of isolation before touching the electrical components c) Contrcator to implement Plant Safety Regulation 5) PPE - safety shoes, acid and fire resistance overal | G21: 5 | H21: C | I21: II | J21: Mostly effective | K21: Contract's Manager | L21: OHS Act, Act 85 of 1993; Electrcal Machinery Regulations; Eskom SHEQ policy 32-727,OHS Baseline Risk Assessment 32-520
B22: Overload generator | C22: Electrical Fire | D22: Safety | E22: Burns, Lost Time incidents, Fatality | F22: 1) Elimination - not possible due to nature of work 2) Substitution - not possible due to nature of work 3) Engineering - not possible due to nature of work 4) Administrative - a) Contractor SHE Induction b) Contractor to competent fire warden c) Fire suppression systen istalled 5) PPE - safety shoes, acid and fire resistance overal | G22: 4 | H22: C | I22: II | J22: Mostly effective | K22: Contract's Manager | L22: OHS Act, Act 85 of 1993; Electrcal Machinery Regulations; Eskom SHEQ policy 32-727,OHS Baseline Risk Assessment 32-521
A23: Disconnect the generator | B23: Working on electrical apparatus by anuauthorised persons. | C23: Electric shock, electrocution | D23: Safety | E23: Serious injuries , fatalities/ damage to property | F23: 1) Elimination - not possible due to nature of work 2) Substitution - not possible due to nature of work 3) Engineering - not possible due to nature of work 4) Administrative - a) Contractor and Eskom to implement lockout/tagout procedure b) Contractor to utilise Master Electrician c) Contractor to implement Plant Safety Regulation 5) PPE - safety shoes, acid and fire resistance overal | G23: 5 | H23: C | I23: II | J23: Mostly effective | K23: Contract's Manager | L23: OHS Act Act 85 of 1993, Electrical Machinery Regulations, Electrical Installations Regulation, Eskom SHEQ policy 32-727,OHS Baseline Risk Assessment 32-520
A24: Emergency Preparedness | B24: Lack of awareness of emergency protocol; | C24: Stampede with other employees causing injuries; People not knowing how to evacuate the building in case of emergencu | D24: Safety | E24: Serios injuries | F24: 1) Elimination - not possible due to nature of work 2) Substitution - not possible due to nature of work 3) Engineering - not possible due to nature of work 4) Administrative - a) Contractor to follow emegency evacuation procedure b) Contractor to daily time sheet for employees c) Contractor to have emergency contact details 5) PPE - N/A | G24: 2 | H24: C | I24: III | J24: Mostly effective | K24: Contract's Manager | L24: OHS Act, Eskom SHEQ policy 32-727,OHS Baseline Risk Assessment 32-520
B25: People not aware of the Fire Suppression System in case of emergencies | C25: asphyxiation | D25: Health | E25: Occupational diseases | F25: 1) Elimination - not possible due to nature of work 2) Substitution - not possible due to nature of work 3) Engineering - not possible due to nature of work 4) Administrative - a) Contractor to follow emegency evacuation procedure b) Contractor to daily time sheet for employees c) Contractor to have emergency contact details 5) PPE - N/A | G25: 4 | H25: B | I25: III | J25: Mostly effective | K25: Contract's Manager | L25: OHS Act, Eskom SHEQ policy 32-727,OHS Baseline Risk Assessment 32-520, Eskom Emergency Procedure 32-132
A26: Office surroundings | B26: Inadequate lighting | C26: Poor visibility will result in slips, trips and falls; increased rate of accidents - not being able to focus on the activity | D26: safety | E26: Injuries | F26: 1) Elimination - not possible due to nature of work 2) Substitution - not possible due to nature of work 3) Engineering - not possible due to nature of work 4) Administrative - a) Contractor OHS Induction b) Contractor to report defect light to SimmerpanHelpdesk 5) PPE - N/A | G26: 4 | H26: B | I26: III | J26: Mostly effective | K26: Contract's Manager | L26: OHS Act, Eskom SHEQ policy 32-727,OHS Baseline Risk Assessment 32-520
B27: Possible exposure to COVID-19 | C27: Working in close proximity with a person that has contracted COVID-19 | D27: Health | E27: Serious illness | F27: 1) Elimination - not possible due to nature of work 2) Substitution - not possible due to nature of work 3) Engineering - not possible due to nature of work 4) Administrative - a) Contractor OHS Induction b) Contractor to provide Covid-19 Risk Assessment c) Contractor to provide Covid-19 Management Plan and Polcy 5) PPE - N/A | G27: 4 | H27: B | I27: III | J27: Mostly effective | K27: Contract's Manager | L27: OHSAct 85 of 1993, Health Act 61 of 2003 COVID-19 OHS and Safety Measures in Workplaces; Disaster Management Act, Act 57 of 2002- Declaration of State of Disaster for COVID-19.
B28: Ascending or Descending the stairways | C28: Slips, trip & fall | D28: safety | E28: 1. Not maintaining 3 point contact 2. Not holding to handrails 3.Slippary stairs 4. Defective stairs 5 Carring object that might obstruct the view | F28: 1) Elimination - not possible due to nature of work 2) Substitution - not possible due to nature of work 3) Engineering - not possible due to nature of work 4) Administrative - a) Contractor OHS Induction b) Contractor to hold on to hand rails when using stairs c) Contractor to maintain 3 point contact d) Report defect to Simmerpan Helpdesk 5) PPE - N/A | G28: 4 | H28: C | I28: II | J28: Mostly effective | K28: Contract's Manager | L28: OHS Act, Eskom SHEQ policy 32-727,OHS Baseline Risk Assessment 32-520
B29: Use of lifts | C29: Caught in between the doors | D29: safety | E29: 1. Lift not regular maintained and serviced as per OHS Act requirement 2.Malfunctioning of the lift door- sensors not working 3. Unavailability of Contract Management inplace 4.Clothing being trapped in closing door (long dresses, bags, long skirts etc.) | F29: 1) Elimination - not possible due to nature of work 2) Substitution - not possible due to nature of work 3) Engineering - not possible due to nature of work 4) Administrative - a) Covid-19 limitation of 4 persons on the lift b) Hand sanitiser provided next to the lift c) Emergency contact availabe inside the lift d) Report defect to Simmerpan Helpdesk 5) PPE - N/A | G29: 4 | H29: B | I29: III | J29: Mostly effective | K29: Contract's Manager | L29: OHS Act, Eskom SHEQ policy 32-727,OHS Baseline Risk Assessment 32-520
A30: Conditions in the data and Energy Centre | B30: Exposure to excessive noise | C30: Noise from the machinery - resulting in noise induced hearing loss; disturbance in communication | D30: Health | E30: Noise Induced Hearing Loss | F30: 1) Elimination - not possible due to nature of work 2) Substitution - not possible due to nature of work 3) Engineering - not possible due to nature of work 4) Administrative - a) Contractor OHS Induction d) Noise survey conducted 5) PPE - Hearing protection | G30: 4 | H30: C | I30: II | J30: Mostly effective | K30: Contract's Manager | L30: OHS Act, Eskom SHEQ policy 32-727,OHS Baseline Risk Assessment 32-521, Noise Induce Hearing Regulation
A31: =IF('Risk template'!A31="","",'Risk template'!A31) | B31: =IF('Risk template'!A31="","",'Risk template'!D31) | C31: =IF('Risk template'!A31="","",'Risk template'!F31) | D31: =IF('Risk template'!A31="","",'Risk template'!G31) | E31: =IF('Risk template'!A31="","",'Risk template'!M31) | F31: =IF('Risk template'!A31="","",'Risk template'!N31) | G31: =IF('Risk template'!A31="","",'Risk template'!O31) | H31: =IF('Risk template'!A31="","",'Risk template'!P31) | I31: =IF('Risk template'!A31="","",'Risk template'!Q31) | J31: =IF('Risk template'!A31="","",'Risk template'!R31) | K31: =IF('Risk template'!A31="","",'Risk template'!U31) | L31: =IF('Risk template'!A31="","",'Risk template'!V31)
A32: =IF('Risk template'!A32="","",'Risk template'!A32) | B32: =IF('Risk template'!A32="","",'Risk template'!D32) | C32: =IF('Risk template'!A32="","",'Risk template'!F32) | D32: =IF('Risk template'!A32="","",'Risk template'!G32) | E32: =IF('Risk template'!A32="","",'Risk template'!M32) | F32: =IF('Risk template'!A32="","",'Risk template'!N32) | G32: =IF('Risk template'!A32="","",'Risk template'!O32) | H32: =IF('Risk template'!A32="","",'Risk template'!P32) | I32: =IF('Risk template'!A32="","",'Risk template'!Q32) | J32: =IF('Risk template'!A32="","",'Risk template'!R32) | K32: =IF('Risk template'!A32="","",'Risk template'!U32) | L32: =IF('Risk template'!A32="","",'Risk template'!V32)
A33: =IF('Risk template'!A33="","",'Risk template'!A33) | B33: =IF('Risk template'!A33="","",'Risk template'!D33) | C33: =IF('Risk template'!A33="","",'Risk template'!F33) | D33: =IF('Risk template'!A33="","",'Risk template'!G33) | E33: =IF('Risk template'!A33="","",'Risk template'!M33) | F33: =IF('Risk template'!A33="","",'Risk template'!N33) | G33: =IF('Risk template'!A33="","",'Risk template'!O33) | H33: =IF('Risk template'!A33="","",'Risk template'!P33) | I33: =IF('Risk template'!A33="","",'Risk template'!Q33) | J33: =IF('Risk template'!A33="","",'Risk template'!R33) | K33: =IF('Risk template'!A33="","",'Risk template'!U33) | L33: =IF('Risk template'!A33="","",'Risk template'!V33)
A34: =IF('Risk template'!A34="","",'Risk template'!A34) | B34: =IF('Risk template'!A34="","",'Risk template'!D34) | C34: =IF('Risk template'!A34="","",'Risk template'!F34) | D34: =IF('Risk template'!A34="","",'Risk template'!G34) | E34: =IF('Risk template'!A34="","",'Risk template'!M34) | F34: =IF('Risk template'!A34="","",'Risk template'!N34) | G34: =IF('Risk template'!A34="","",'Risk template'!O34) | H34: =IF('Risk template'!A34="","",'Risk template'!P34) | I34: =IF('Risk template'!A34="","",'Risk template'!Q34) | J34: =IF('Risk template'!A34="","",'Risk template'!R34) | K34: =IF('Risk template'!A34="","",'Risk template'!U34) | L34: =IF('Risk template'!A34="","",'Risk template'!V34)
A35: =IF('Risk template'!A35="","",'Risk template'!A35) | B35: =IF('Risk template'!A35="","",'Risk template'!D35) | C35: =IF('Risk template'!A35="","",'Risk template'!F35) | D35: =IF('Risk template'!A35="","",'Risk template'!G35) | E35: =IF('Risk template'!A35="","",'Risk template'!M35) | F35: =IF('Risk template'!A35="","",'Risk template'!N35) | G35: =IF('Risk template'!A35="","",'Risk template'!O35) | H35: =IF('Risk template'!A35="","",'Risk template'!P35) | I35: =IF('Risk template'!A35="","",'Risk template'!Q35) | J35: =IF('Risk template'!A35="","",'Risk template'!R35) | K35: =IF('Risk template'!A35="","",'Risk template'!U35) | L35: =IF('Risk template'!A35="","",'Risk template'!V35)
A36: =IF('Risk template'!A36="","",'Risk template'!A36) | B36: =IF('Risk template'!A36="","",'Risk template'!D36) | C36: =IF('Risk template'!A36="","",'Risk template'!F36) | D36: =IF('Risk template'!A36="","",'Risk template'!G36) | E36: =IF('Risk template'!A36="","",'Risk template'!M36) | F36: =IF('Risk template'!A36="","",'Risk template'!N36) | G36: =IF('Risk template'!A36="","",'Risk template'!O36) | H36: =IF('Risk template'!A36="","",'Risk template'!P36) | I36: =IF('Risk template'!A36="","",'Risk template'!Q36) | J36: =IF('Risk template'!A36="","",'Risk template'!R36) | K36: =IF('Risk template'!A36="","",'Risk template'!U36) | L36: =IF('Risk template'!A36="","",'Risk template'!V36)
A37: =IF('Risk template'!A37="","",'Risk template'!A37) | B37: =IF('Risk template'!A37="","",'Risk template'!D37) | C37: =IF('Risk template'!A37="","",'Risk template'!F37) | D37: =IF('Risk template'!A37="","",'Risk template'!G37) | E37: =IF('Risk template'!A37="","",'Risk template'!M37) | F37: =IF('Risk template'!A37="","",'Risk template'!N37) | G37: =IF('Risk template'!A37="","",'Risk template'!O37) | H37: =IF('Risk template'!A37="","",'Risk template'!P37) | I37: =IF('Risk template'!A37="","",'Risk template'!Q37) | J37: =IF('Risk template'!A37="","",'Risk template'!R37) | K37: =IF('Risk template'!A37="","",'Risk template'!U37) | L37: =IF('Risk template'!A37="","",'Risk template'!V37)
A38: =IF('Risk template'!A38="","",'Risk template'!A38) | B38: =IF('Risk template'!A38="","",'Risk template'!D38) | C38: =IF('Risk template'!A38="","",'Risk template'!F38) | D38: =IF('Risk template'!A38="","",'Risk template'!G38) | E38: =IF('Risk template'!A38="","",'Risk template'!M38) | F38: =IF('Risk template'!A38="","",'Risk template'!N38) | G38: =IF('Risk template'!A38="","",'Risk template'!O38) | H38: =IF('Risk template'!A38="","",'Risk template'!P38) | I38: =IF('Risk template'!A38="","",'Risk template'!Q38) | J38: =IF('Risk template'!A38="","",'Risk template'!R38) | K38: =IF('Risk template'!A38="","",'Risk template'!U38) | L38: =IF('Risk template'!A38="","",'Risk template'!V38)
A39: =IF('Risk template'!A39="","",'Risk template'!A39) | B39: =IF('Risk template'!A39="","",'Risk template'!D39) | C39: =IF('Risk template'!A39="","",'Risk template'!F39) | D39: =IF('Risk template'!A39="","",'Risk template'!G39) | E39: =IF('Risk template'!A39="","",'Risk template'!M39) | F39: =IF('Risk template'!A39="","",'Risk template'!N39) | G39: =IF('Risk template'!A39="","",'Risk template'!O39) | H39: =IF('Risk template'!A39="","",'Risk template'!P39) | I39: =IF('Risk template'!A39="","",'Risk template'!Q39) | J39: =IF('Risk template'!A39="","",'Risk template'!R39) | K39: =IF('Risk template'!A39="","",'Risk template'!U39) | L39: =IF('Risk template'!A39="","",'Risk template'!V39)
A40: =IF('Risk template'!A40="","",'Risk template'!A40) | B40: =IF('Risk template'!A40="","",'Risk template'!D40) | C40: =IF('Risk template'!A40="","",'Risk template'!F40) | D40: =IF('Risk template'!A40="","",'Risk template'!G40) | E40: =IF('Risk template'!A40="","",'Risk template'!M40) | F40: =IF('Risk template'!A40="","",'Risk template'!N40) | G40: =IF('Risk template'!A40="","",'Risk template'!O40) | H40: =IF('Risk template'!A40="","",'Risk template'!P40) | I40: =IF('Risk template'!A40="","",'Risk template'!Q40) | J40: =IF('Risk template'!A40="","",'Risk template'!R40) | K40: =IF('Risk template'!A40="","",'Risk template'!U40) | L40: =IF('Risk template'!A40="","",'Risk template'!V40)
A41: =IF('Risk template'!A41="","",'Risk template'!A41) | B41: =IF('Risk template'!A41="","",'Risk template'!D41) | C41: =IF('Risk template'!A41="","",'Risk template'!F41) | D41: =IF('Risk template'!A41="","",'Risk template'!G41) | E41: =IF('Risk template'!A41="","",'Risk template'!M41) | F41: =IF('Risk template'!A41="","",'Risk template'!N41) | G41: =IF('Risk template'!A41="","",'Risk template'!O41) | H41: =IF('Risk template'!A41="","",'Risk template'!P41) | I41: =IF('Risk template'!A41="","",'Risk template'!Q41) | J41: =IF('Risk template'!A41="","",'Risk template'!R41) | K41: =IF('Risk template'!A41="","",'Risk template'!U41) | L41: =IF('Risk template'!A41="","",'Risk template'!V41)
A42: =IF('Risk template'!A42="","",'Risk template'!A42) | B42: =IF('Risk template'!A42="","",'Risk template'!D42) | C42: =IF('Risk template'!A42="","",'Risk template'!F42) | D42: =IF('Risk template'!A42="","",'Risk template'!G42) | E42: =IF('Risk template'!A42="","",'Risk template'!M42) | F42: =IF('Risk template'!A42="","",'Risk template'!N42) | G42: =IF('Risk template'!A42="","",'Risk template'!O42) | H42: =IF('Risk template'!A42="","",'Risk template'!P42) | I42: =IF('Risk template'!A42="","",'Risk template'!Q42) | J42: =IF('Risk template'!A42="","",'Risk template'!R42) | K42: =IF('Risk template'!A42="","",'Risk template'!U42) | L42: =IF('Risk template'!A42="","",'Risk template'!V42)
... A78: =IF('Risk template'!A78="","",'Risk template'!A78) | B78: =IF('Risk template'!A78="","",'Risk template'!D78) | C78: =IF('Risk template'!A78="","",'Risk template'!F78) | D78: =IF('Risk template'!A78="","",'Risk template'!G78) | E78: =IF('Risk template'!A78="","",'Risk template'!M78) | F78: =IF('Risk template'!A78="","",'Risk template'!N78) | G78: =IF('Risk template'!A78="","",'Risk template'!O78) | H78: =IF('Risk template'!A78="","",'Risk template'!P78) | I78: =IF('Risk template'!A78="","",'Risk template'!Q78) | J78: =IF('Risk template'!A78="","",'Risk template'!R78) | K78: =IF('Risk template'!A78="","",'Risk template'!U78) | L78: =IF('Risk template'!A78="","",'Risk template'!V78)
A79: s | B79: =IF('Risk template'!A79="","",'Risk template'!D79) | C79: =IF('Risk template'!A79="","",'Risk template'!F79) | D79: =IF('Risk template'!A79="","",'Risk template'!G79) | E79: =IF('Risk template'!A79="","",'Risk template'!M79) | F79: =IF('Risk template'!A79="","",'Risk template'!N79) | G79: =IF('Risk template'!A79="","",'Risk template'!O79) | H79: =IF('Risk template'!A79="","",'Risk template'!P79) | I79: =IF('Risk template'!A79="","",'Risk template'!Q79) | J79: =IF('Risk template'!A79="","",'Risk template'!R79) | K79: =IF('Risk template'!A79="","",'Risk template'!U79) | L79: =IF('Risk template'!A79="","",'Risk template'!V79)
A80: =IF('Risk template'!A80="","",'Risk template'!A80) | B80: =IF('Risk template'!A80="","",'Risk template'!D80) | C80: =IF('Risk template'!A80="","",'Risk template'!F80) | D80: =IF('Risk template'!A80="","",'Risk template'!G80) | E80: =IF('Risk template'!A80="","",'Risk template'!M80) | F80: =IF('Risk template'!A80="","",'Risk template'!N80) | G80: =IF('Risk template'!A80="","",'Risk template'!O80) | H80: =IF('Risk template'!A80="","",'Risk template'!P80) | I80: =IF('Risk template'!A80="","",'Risk template'!Q80) | J80: =IF('Risk template'!A80="","",'Risk template'!R80) | K80: =IF('Risk template'!A80="","",'Risk template'!U80) | L80: =IF('Risk template'!A80="","",'Risk template'!V80)
A81: =IF('Risk template'!A81="","",'Risk template'!A81) | B81: =IF('Risk template'!A81="","",'Risk template'!D81) | C81: =IF('Risk template'!A81="","",'Risk template'!F81) | D81: =IF('Risk template'!A81="","",'Risk template'!G81) | E81: =IF('Risk template'!A81="","",'Risk template'!M81) | F81: =IF('Risk template'!A81="","",'Risk template'!N81) | G81: =IF('Risk template'!A81="","",'Risk template'!O81) | H81: =IF('Risk template'!A81="","",'Risk template'!P81) | I81: =IF('Risk template'!A81="","",'Risk template'!Q81) | J81: =IF('Risk template'!A81="","",'Risk template'!R81) | K81: =IF('Risk template'!A81="","",'Risk template'!U81) | L81: =IF('Risk template'!A81="","",'Risk template'!V81)
A82: =IF('Risk template'!A82="","",'Risk template'!A82) | B82: =IF('Risk template'!A82="","",'Risk template'!D82) | C82: =IF('Risk template'!A82="","",'Risk template'!F82) | D82: =IF('Risk template'!A82="","",'Risk template'!G82) | E82: =IF('Risk template'!A82="","",'Risk template'!M82) | F82: =IF('Risk template'!A82="","",'Risk template'!N82) | G82: =IF('Risk template'!A82="","",'Risk template'!O82) | H82: =IF('Risk template'!A82="","",'Risk template'!P82) | I82: =IF('Risk template'!A82="","",'Risk template'!Q82) | J82: =IF('Risk template'!A82="","",'Risk template'!R82) | K82: =IF('Risk template'!A82="","",'Risk template'!U82) | L82: =IF('Risk template'!A82="","",'Risk template'!V82)
A83: =IF('Risk template'!A83="","",'Risk template'!A83) | B83: =IF('Risk template'!A83="","",'Risk template'!D83) | C83: =IF('Risk template'!A83="","",'Risk template'!F83) | D83: =IF('Risk template'!A83="","",'Risk template'!G83) | E83: =IF('Risk template'!A83="","",'Risk template'!M83) | F83: =IF('Risk template'!A83="","",'Risk template'!N83) | G83: =IF('Risk template'!A83="","",'Risk template'!O83) | H83: =IF('Risk template'!A83="","",'Risk template'!P83) | I83: =IF('Risk template'!A83="","",'Risk template'!Q83) | J83: =IF('Risk template'!A83="","",'Risk template'!R83) | K83: =IF('Risk template'!A83="","",'Risk template'!U83) | L83: =IF('Risk template'!A83="","",'Risk template'!V83)
A84: =IF('Risk template'!A84="","",'Risk template'!A84) | B84: =IF('Risk template'!A84="","",'Risk template'!D84) | C84: =IF('Risk template'!A84="","",'Risk template'!F84) | D84: =IF('Risk template'!A84="","",'Risk template'!G84) | E84: =IF('Risk template'!A84="","",'Risk template'!M84) | F84: =IF('Risk template'!A84="","",'Risk template'!N84) | G84: =IF('Risk template'!A84="","",'Risk template'!O84) | H84: =IF('Risk template'!A84="","",'Risk template'!P84) | I84: =IF('Risk template'!A84="","",'Risk template'!Q84) | J84: =IF('Risk template'!A84="","",'Risk template'!R84) | K84: =IF('Risk template'!A84="","",'Risk template'!U84) | L84: =IF('Risk template'!A84="","",'Risk template'!V84)
A85: =IF('Risk template'!A85="","",'Risk template'!A85) | B85: =IF('Risk template'!A85="","",'Risk template'!D85) | C85: =IF('Risk template'!A85="","",'Risk template'!F85) | D85: =IF('Risk template'!A85="","",'Risk template'!G85) | E85: =IF('Risk template'!A85="","",'Risk template'!M85) | F85: =IF('Risk template'!A85="","",'Risk template'!N85) | G85: =IF('Risk template'!A85="","",'Risk template'!O85) | H85: =IF('Risk template'!A85="","",'Risk template'!P85) | I85: =IF('Risk template'!A85="","",'Risk template'!Q85) | J85: =IF('Risk template'!A85="","",'Risk template'!R85) | K85: =IF('Risk template'!A85="","",'Risk template'!U85) | L85: =IF('Risk template'!A85="","",'Risk template'!V85)
A86: =IF('Risk template'!A86="","",'Risk template'!A86) | B86: =IF('Risk template'!A86="","",'Risk template'!D86) | C86: =IF('Risk template'!A86="","",'Risk template'!F86) | D86: =IF('Risk template'!A86="","",'Risk template'!G86) | E86: =IF('Risk template'!A86="","",'Risk template'!M86) | F86: =IF('Risk template'!A86="","",'Risk template'!N86) | G86: =IF('Risk template'!A86="","",'Risk template'!O86) | H86: =IF('Risk template'!A86="","",'Risk template'!P86) | I86: =IF('Risk template'!A86="","",'Risk template'!Q86) | J86: =IF('Risk template'!A86="","",'Risk template'!R86) | K86: =IF('Risk template'!A86="","",'Risk template'!U86) | L86: =IF('Risk template'!A86="","",'Risk template'!V86)
A87: =IF('Risk template'!A87="","",'Risk template'!A87) | B87: =IF('Risk template'!A87="","",'Risk template'!D87) | C87: =IF('Risk template'!A87="","",'Risk template'!F87) | D87: =IF('Risk template'!A87="","",'Risk template'!G87) | E87: =IF('Risk template'!A87="","",'Risk template'!M87) | F87: =IF('Risk template'!A87="","",'Risk template'!N87) | G87: =IF('Risk template'!A87="","",'Risk template'!O87) | H87: =IF('Risk template'!A87="","",'Risk template'!P87) | I87: =IF('Risk template'!A87="","",'Risk template'!Q87) | J87: =IF('Risk template'!A87="","",'Risk template'!R87) | K87: =IF('Risk template'!A87="","",'Risk template'!U87) | L87: =IF('Risk template'!A87="","",'Risk template'!V87)
A88: =IF('Risk template'!A88="","",'Risk template'!A88) | B88: =IF('Risk template'!A88="","",'Risk template'!D88) | C88: =IF('Risk template'!A88="","",'Risk template'!F88) | D88: =IF('Risk template'!A88="","",'Risk template'!G88) | E88: =IF('Risk template'!A88="","",'Risk template'!M88) | F88: =IF('Risk template'!A88="","",'Risk template'!N88) | G88: =IF('Risk template'!A88="","",'Risk template'!O88) | H88: =IF('Risk template'!A88="","",'Risk template'!P88) | I88: =IF('Risk template'!A88="","",'Risk template'!Q88) | J88: =IF('Risk template'!A88="","",'Risk template'!R88) | K88: =IF('Risk template'!A88="","",'Risk template'!U88) | L88: =IF('Risk template'!A88="","",'Risk template'!V88)
A89: =IF('Risk template'!A89="","",'Risk template'!A89) | B89: =IF('Risk template'!A89="","",'Risk template'!D89) | C89: =IF('Risk template'!A89="","",'Risk template'!F89) | D89: =IF('Risk template'!A89="","",'Risk template'!G89) | E89: =IF('Risk template'!A89="","",'Risk template'!M89) | F89: =IF('Risk template'!A89="","",'Risk template'!N89) | G89: =IF('Risk template'!A89="","",'Risk template'!O89) | H89: =IF('Risk template'!A89="","",'Risk template'!P89) | I89: =IF('Risk template'!A89="","",'Risk template'!Q89) | J89: =IF('Risk template'!A89="","",'Risk template'!R89) | K89: =IF('Risk template'!A89="","",'Risk template'!U89) | L89: =IF('Risk template'!A89="","",'Risk template'!V89)
A90: =IF('Risk template'!A90="","",'Risk template'!A90) | B90: =IF('Risk template'!A90="","",'Risk template'!D90) | C90: =IF('Risk template'!A90="","",'Risk template'!F90) | D90: =IF('Risk template'!A90="","",'Risk template'!G90) | E90: =IF('Risk template'!A90="","",'Risk template'!M90) | F90: =IF('Risk template'!A90="","",'Risk template'!N90) | G90: =IF('Risk template'!A90="","",'Risk template'!O90) | H90: =IF('Risk template'!A90="","",'Risk template'!P90) | I90: =IF('Risk template'!A90="","",'Risk template'!Q90) | J90: =IF('Risk template'!A90="","",'Risk template'!R90) | K90: =IF('Risk template'!A90="","",'Risk template'!U90) | L90: =IF('Risk template'!A90="","",'Risk template'!V90)
A91: =IF('Risk template'!A91="","",'Risk template'!A91) | B91: =IF('Risk template'!A91="","",'Risk template'!D91) | C91: =IF('Risk template'!A91="","",'Risk template'!F91) | D91: =IF('Risk template'!A91="","",'Risk template'!G91) | E91: =IF('Risk template'!A91="","",'Risk template'!M91) | F91: =IF('Risk template'!A91="","",'Risk template'!N91) | G91: =IF('Risk template'!A91="","",'Risk template'!O91) | H91: =IF('Risk template'!A91="","",'Risk template'!P91) | I91: =IF('Risk template'!A91="","",'Risk template'!Q91) | J91: =IF('Risk template'!A91="","",'Risk template'!R91) | K91: =IF('Risk template'!A91="","",'Risk template'!U91) | L91: =IF('Risk template'!A91="","",'Risk template'!V91)
... A175: =IF('Risk template'!A175="","",'Risk template'!A175) | B175: =IF('Risk template'!A175="","",'Risk template'!D175) | C175: =IF('Risk template'!A175="","",'Risk template'!F175) | D175: =IF('Risk template'!A175="","",'Risk template'!G175) | E175: =IF('Risk template'!A175="","",'Risk template'!M175) | F175: =IF('Risk template'!A175="","",'Risk template'!N175) | G175: =IF('Risk template'!A175="","",'Risk template'!O175) | H175: =IF('Risk template'!A175="","",'Risk template'!P175) | I175: =IF('Risk template'!A175="","",'Risk template'!Q175) | J175: =IF('Risk template'!A175="","",'Risk template'!R175) | K175: =IF('Risk template'!A175="","",'Risk template'!U175) | L175: =IF('Risk template'!A175="","",'Risk template'!V175)

Sheet Consequence rating
C2: Consequence criteria
B3: Consequence rating | C3: Description | Q3: R | R3: Safety | S3: 1 | T3: A | U3: Fully effective | V3: I
C4: Health and Safety | Q4: N | R4: Health | S4: 2 | T4: B | U4: Mostly effective | V4: II
B5: 1 | C5: No injuries or health effects(near misses) | S5: 3 | T5: C | U5: Mostly ineffective | V5: III
B6: 2 | C6: First-aid treatment case, and temporary discomfort case | S6: 4 | T6: D | U6: None | V6: IV
B7: 3 | C7: Medical treatment case; occupational disease with reversible/non-permanent effect | S7: 5 | T7: E
B8: 4 | C8: Lost Time Injury. Irreversible health effects/occupational disease with permanent consequence | S8: 6
B9: 5 | C9: Fatality or life threatening health effects | H9: Consequences | I9: 6 | J9: III | K9: II | L9: I | M9: I | N9: I
B10: 6 | C10: Multiple fatalities | I10: 5 | J10: III | K10: II | L10: II | M10: I | N10: I
I11: 4 | J11: IV | K11: III | L11: II | M11: I | N11: I
I12: 3 | J12: IV | K12: III | L12: II | M12: II | N12: I
I13: 2 | J13: IV | K13: IV | L13: III | M13: II | N13: II
I14: 1 | J14: IV | K14: IV | L14: III | M14: III | N14: III
J15: A | K15: B | L15: C | M15: D | N15: E
J16: Likelihood

Sheet Likelihood rating
A2: Likelihood criteria
B3: Score | C3: Descriptor | D3: Safety | E3: Occupational hygiene
E4: Exposure | F4: Probability of exceeding OEL
B5: A | C5: Highly unlikely | D5: § More than a “100 year event” | E5: Rare (once a year) | F5: No exposure (or exposure < 10% of OEL)
D6: § Exceptionally unlikely, even in the long-term future
D7: § < 5% probability.
B8: B | C8: Unlikely | D8: § Could occur in “years to decades” | E8: Short periods of time, a few times per day/ intermittent (once in six months, three months, or a month) | F8: Low exposure (< 50% of OEL)
D9: § May occur but not anticipated
D10: § ≥ 5% and < 20% probability.
B11: C | C11: Possible | D11: § Could occur within “months to years” | E11: Continuous for between one and two hours (often/ weekly) | F11: Moderate exposure (chronic exposure > 50% of OEL or acute exposure ≥ OEL)
D12: § May occur shortly but a distinct probability it will not, or ≥ 20% and < 70% probability.
B13: D | C13: Likely | D13: § Could occur within “weeks to months” | E13: Continuous for between two and four hours (frequent/daily) | F13: High exposure (chronic exposure > OEL, or exposure exceeding OEL-STEL)
D14: § Balance of probability will occur
D15: § ≥ 70% and < 90% probability.
B16: E | C16: Unavoidable | D16: § Could occur within “days to weeks” | E16: Continuous for eight-hour shift | F16: Very high exposure (chronic exposure > 2 x OEL or exposure exceeding OEL-C)
D17: § Impact is imminent
D18: § ≥ 90% probability.

Sheet Risk control effectiveness
B3: RISK CONTROL EFFECTIVENESS GUIDE
B4: RCE | C4: Guide
B5: Fully effective | C5: Nothing more to be done except review and monitor the existing controls. Controls are well designed for the risk, are largely preventive and address the root causes. Management believes that they are effective and reliable at all times. Reactive controls only support preventive controls.
B6: Mostly effective | C6: Most controls are designed correctly and are in place and effective. Some more work to be done to improve operating effectiveness or management has doubts about operational effectiveness and reliability of the controls.
B7: Mostly ineffective | C7: While the design of controls may be largely correct in that they treat most of the root causes of the risk, they are not currently operationally very effective. There may be an over-reliance on reactive controls, or some of the controls do not seem correctly designed in that they do not treat root causes.
B8: None | C8: Virtually no credible control. Management has no confidence that any degree of control is being achieved.

Sheet Risk matrix
E2: RISK MATRIX
C3: Consequences | D3: 6 | E3: I | F3: I | G3: I | H3: I | I3: I
D4: 5 | E4: II | F4: II | G4: II | H4: I | I4: I
D5: 4 | E5: III | F5: III | G5: II | H5: I | I5: I
D6: 3 | E6: IV | F6: III | G6: II | H6: II | I6: I
D7: 2 | E7: IV | F7: IV | G7: III | H7: II | I7: II
D8: 1 | E8: IV | F8: IV | G8: III | H8: III | I8: III
E9: A | F9: B | G9: C | H9: D | I9: E
E10: Likelihood
D13: Priority | E13: Risk ranking | F13: Action required
D14: I | E14: Very high | F14: Immediate action required, and these risks to be captured on IRM system.
D15: II | E15: High | F15: Strong mandatory action required, and these risks to be captured on IRM system.
D16: III | E16: Medium | F16: Action required, possibly at administrative level.
D17: IV | E17: Low | F17: Minor or no action required.
