Workbook

Sheet BOQ PER SITE
B1: Supply and delivery of Eskom approved Substation Clamps and Eskom marked AAAC Conductor
B2: 1) THE SUPPLY AND DELIVERY OF ESKOM APPROVED CLAMPS AND ESKOM MARKED CONDUCTOR AS PER ESKOM IDENTIFIED REQUIREMENTS ON VARIOUS SUBSTATIONS / SITES ACROSS ALL SOUTH AFRICAN PROVINCES. 2) Supplier to comply with all Eskom SHEQ standards and requirements at all times. 3) Supplier to contact SITE MANAGER for information and directions prior to delivery being made. 4) Supplier Vehicles to comply to all relevant Eskom and Site specifications and regulations. 5) All products to fully comply with applicable Eskom / SABS Specifications.
A3: ITEM | B3: NEW TYPE DESIGNATION | C3: OLD TYPE DESIGNATION | D3: QTY | E3: UoM | F3: RATE | G3: TOTAL
A4: 1 | B4: EUT TYPE INCLUDING ANY COMBINATION OF THE BELOW | C4: UT YPE INCLUDING ANY COMBINATION OF THE BELOW | D4: 12 | E4: EA | F4: 315 | G4: =D4*F4 -> 3780
A5: 1.1 | B5: EUT-A | C5: UT-1
A6: 1.2 | B6: EUT-B | C6: UT-2
A7: 1.3 | B7: EUT-C | C7: UT-3
A8: 1.4 | B8: EUT-D | C8: UT-4
A9: 1.5 | B9: EUT-E | C9: UT-5
A10: 1.6 | B10: EUT-F | C10: UT-6
B11: All clamps supplied with M12 Galvanised U-bolts, nuts and washers
A12: 2 | B12: EXC YPE INCLUDING ANY COMBINATION OF THE BELOW | C12: KC YPE INCLUDING ANY COMBINATION OF THE BELOW | D12: 36 | E12: EA | F12: 1250 | G12: =D12*F12 -> 45000
A13: 2.1 | B13: EXC – A | C13: KC1
A14: 2.2 | B14: EXC – B | C14: KC2
A15: 2.3 | B15: EXC – C | C15: KC3
A16: 2.4 | B16: EXC – D | C16: KC4
A17: 2.5 | B17: EXC – E | C17: KC5
A18: 2.6 | B18: EXC – F | C18: KC6
A19: 2.7 | B19: EXC – G | C19: KC7
A20: 2.8 | B20: EXC – H | C20: KC8
A21: 2.9 | B21: EXC – J | C21: KC9
A22: 2.10 | B22: EXC – K | C22: KC10
A23: 2.11 | B23: EXC – L | C23: KC11
A24: 2.12 | B24: EXC – M | C24: KC12
A25: 2.13 | B25: EXC – N | C25: KC13
A26: 2.14 | B26: EXC – P | C26: KC14
A27: 2.15 | B27: EXC – Q | C27: KC15
A28: 2.16 | B28: EXC – R | C28: KC16
B29: All clamps supplied with M12 HDG, nuts and washers
A30: 3 | B30: EX TYPE INCLUDING ANY COMBINATION OF THE BELOW | C30: K TYPE INCLUDING ANY COMBINATION OF THE BELOW | D30: 36 | E30: EA | F30: 850 | G30: =D30*F30 -> 30600
A31: 3.1 | B31: EX – A | C31: K1
A32: 3.2 | B32: EX – B | C32: K2
A33: 3.3 | B33: EX – C | C33: K3
A34: 3.4 | B34: EX – D | C34: K4
A35: 3.5 | B35: EX – E | C35: K5
A36: 3.6 | B36: EX – F | C36: K6
A37: 3.7 | B37: EX – G | C37: K7
A38: 3.8 | B38: EX – H | C38: K8
A39: 3.9 | B39: EX – J | C39: K9
A40: 3.10 | B40: EX – K | C40: K10
B41: All clamps supplied with M10/12 HDG bolts, nuts and washers
A42: 4 | B42: ETC TYPE INCLUDING ANY COMBINATION OF THE BELOW | C42: TC TYPE INCLUDING ANY COMBINATION OF THE BELOW | D42: 36 | E42: EA | F42: 950 | G42: =D42*F42 -> 34200
A43: 4.1 | B43: ETC – A | C43: TC 1
A44: 4.2 | B44: ETC – B | C44: TC 2
A45: 4.3 | B45: ETC – C | C45: TC 3
A46: 4.4 | B46: ETC – D | C46: TC 4
A47: 4.5 | B47: ETC – E | C47: TC 5
A48: 4.6 | B48: ETC – F | C48: TC 6
A49: 4.7 | B49: ETC – G | C49: TC 7
A50: 4.8 | B50: ETC – H | C50: TC 8
A51: 4.9 | B51: ETC – J | C51: TC 9
A52: 4.10 | B52: ETC – K | C52: TC 10
A53: 4.11 | B53: ETC – L | C53: TC 11
A54: 4.12 | B54: ETC – M | C54: TC 12
A55: 4.13 | B55: ETC – N | C55: TC 13
A56: 4.14 | B56: ETC - P | C56: TC 14
A57: 4.15 | B57: ETC – Q | C57: TC 15
A58: 4.16 | B58: ETC – R | C58: TC 16
A59: 4.17 | B59: ETC – S | C59: TC 17
A60: 4.18 | B60: ETC – T | C60: TC 18
A61: 4.19 | B61: ETC – U | C61: TC 19
A62: 4.20 | B62: ETC – V | C62: TC 20
A63: 4.21 | B63: ETC – W | C63: TC 21
A64: 4.22 | B64: ETC – X | C64: TC 22
A65: 4.23 | B65: ETC – Y | C65: TC 23
A66: 4.24 | B66: ETC – Z | C66: TC 24
A67: 4.25 | B67: ETC – AA | C67: TC 25
A68: 4.26 | B68: ETC – AB | C68: TC 26
A69: 4.27 | B69: ETC – AC | C69: TC 27
A70: 4.28 | B70: ETC – AD | C70: TC 28
A71: 4.29 | B71: ETC – AE | C71: TC 29
B72: All clamps supplied with M12 HDG bolts, nuts and washers
A73: 5 | B73: EYC TYPE INCLUDING ANY COMBINATION OF THE BELOW | C73: YC TYPE INCLUDING ANY COMBINATION OF THE BELOW | D73: 48 | E73: EA | F73: 1550 | G73: =D73*F73 -> 74400
A74: 5.1 | B74: EYC – A | C74: YC1
A75: 5.2 | B75: EYC – B | C75: YC2
A76: 5.3 | B76: EYC – C | C76: YC3
A77: 5.4 | B77: EYC – D | C77: YC4
A78: 5.5 | B78: EYC – E | C78: YC5
A79: 5.6 | B79: EYC – F | C79: YC6
A80: 5.7 | B80: EYC – G | C80: YC7
A81: 5.8 | B81: EYC – H | C81: YC8
A82: 5.9 | B82: EYC – J | C82: YC9
A83: 5.10 | B83: EYC – K | C83: YC10
A84: 5.11 | B84: EYC – L | C84: YC11
A85: 5.12 | B85: EYC – M | C85: YC12
A86: 5.13 | B86: EYC – N | C86: YC13
A87: 5.14 | B87: EYC – P | C87: YC14
A88: 5.15 | B88: EYC – Q | C88: YC15
A89: 5.16 | B89: EYC – R | C89: YC16
A90: 5.17 | B90: EYC – S | C90: YC17
A91: 5.18 | B91: EYC – T | C91: YC18
A92: 5.19 | B92: EYC – U | C92: YC19
A93: 5.20 | B93: EYC – V | C93: YC20
A94: 5.21 | B94: EYC – W | C94: YC21
A95: 5.22 | B95: EYC – X | C95: YC22
A96: 5.23 | B96: EYC – Y | C96: YC23
A97: 5.24 | B97: EYC – Z | C97: YC24
A98: 5.25 | B98: EYC – AA | C98: YC25
A99: 5.26 | B99: EYC – AB | C99: YC26
A100: 5.27 | B100: EYC – AC | C100: YC27
...

Sheet OVERALL BOQ
B1: Supply and delivery of Eskom approved Substation Clamps and Eskom marked AAAC Conductor
B2: 1) THE SUPPLY AND DELIVERY OF ESKOM APPROVED CLAMPS AND ESKOM MARKED CONDUCTOR AS PER ESKOM IDENTIFIED REQUIREMENTS ON VARIOUS SUBSTATIONS / SITES ACROSS ALL SOUTH AFRICAN PROVINCES. 2) Supplier to comply with all Eskom SHEQ standards and requirements at all times. 3) Supplier to contact SITE MANAGER for information and directions prior to delivery being made. 4) Supplier Vehicles to comply to all relevant Eskom and Site specifications and regulations. 5) All products to fully comply with applicable Eskom / SABS Specifications.
A3: ITEM | B3: NEW TYPE DESIGNATION | C3: OLD TYPE DESIGNATION | D3: QTY | E3: UoM | F3: RATE | G3: TOTAL
A4: 1 | B4: EUT TYPE INCLUDING ANY COMBINATION OF THE BELOW | C4: UT YPE INCLUDING ANY COMBINATION OF THE BELOW | D4: ='BOQ PER SITE'!D4*60 -> 720 | E4: EA | G4: =D4*F4 -> 0
A5: 1.1 | B5: EUT-A | C5: UT-1
A6: 1.2 | B6: EUT-B | C6: UT-2
A7: 1.3 | B7: EUT-C | C7: UT-3
A8: 1.4 | B8: EUT-D | C8: UT-4
A9: 1.5 | B9: EUT-E | C9: UT-5
A10: 1.6 | B10: EUT-F | C10: UT-6
B11: All clamps supplied with M12 Galvanised U-bolts, nuts and washers
A12: 2 | B12: EXC YPE INCLUDING ANY COMBINATION OF THE BELOW | C12: KC YPE INCLUDING ANY COMBINATION OF THE BELOW | D12: ='BOQ PER SITE'!D12*60 -> 2160 | E12: EA | G12: =D12*F12 -> 0
A13: 2.1 | B13: EXC – A | C13: KC1
A14: 2.2 | B14: EXC – B | C14: KC2
A15: 2.3 | B15: EXC – C | C15: KC3
A16: 2.4 | B16: EXC – D | C16: KC4
A17: 2.5 | B17: EXC – E | C17: KC5
A18: 2.6 | B18: EXC – F | C18: KC6
A19: 2.7 | B19: EXC – G | C19: KC7
A20: 2.8 | B20: EXC – H | C20: KC8
A21: 2.9 | B21: EXC – J | C21: KC9
A22: 2.10 | B22: EXC – K | C22: KC10
A23: 2.11 | B23: EXC – L | C23: KC11
A24: 2.12 | B24: EXC – M | C24: KC12
A25: 2.13 | B25: EXC – N | C25: KC13
A26: 2.14 | B26: EXC – P | C26: KC14
A27: 2.15 | B27: EXC – Q | C27: KC15
A28: 2.16 | B28: EXC – R | C28: KC16
B29: All clamps supplied with M12 HDG, nuts and washers
A30: 3 | B30: EX TYPE INCLUDING ANY COMBINATION OF THE BELOW | C30: K TYPE INCLUDING ANY COMBINATION OF THE BELOW | D30: ='BOQ PER SITE'!D30*60 -> 2160 | E30: EA | G30: =D30*F30 -> 0
A31: 3.1 | B31: EX – A | C31: K1
A32: 3.2 | B32: EX – B | C32: K2
A33: 3.3 | B33: EX – C | C33: K3
A34: 3.4 | B34: EX – D | C34: K4
A35: 3.5 | B35: EX – E | C35: K5
A36: 3.6 | B36: EX – F | C36: K6
A37: 3.7 | B37: EX – G | C37: K7
A38: 3.8 | B38: EX – H | C38: K8
A39: 3.9 | B39: EX – J | C39: K9
A40: 3.10 | B40: EX – K | C40: K10
B41: All clamps supplied with M10/12 HDG bolts, nuts and washers
A42: 4 | B42: ETC TYPE INCLUDING ANY COMBINATION OF THE BELOW | C42: TC TYPE INCLUDING ANY COMBINATION OF THE BELOW | D42: ='BOQ PER SITE'!D42*60 -> 2160 | E42: EA | G42: =D42*F42 -> 0
A43: 4.1 | B43: ETC – A | C43: TC 1
A44: 4.2 | B44: ETC – B | C44: TC 2
A45: 4.3 | B45: ETC – C | C45: TC 3
A46: 4.4 | B46: ETC – D | C46: TC 4
A47: 4.5 | B47: ETC – E | C47: TC 5
A48: 4.6 | B48: ETC – F | C48: TC 6
A49: 4.7 | B49: ETC – G | C49: TC 7
A50: 4.8 | B50: ETC – H | C50: TC 8
A51: 4.9 | B51: ETC – J | C51: TC 9
A52: 4.10 | B52: ETC – K | C52: TC 10
A53: 4.11 | B53: ETC – L | C53: TC 11
A54: 4.12 | B54: ETC – M | C54: TC 12
A55: 4.13 | B55: ETC – N | C55: TC 13
A56: 4.14 | B56: ETC - P | C56: TC 14
A57: 4.15 | B57: ETC – Q | C57: TC 15
A58: 4.16 | B58: ETC – R | C58: TC 16
A59: 4.17 | B59: ETC – S | C59: TC 17
A60: 4.18 | B60: ETC – T | C60: TC 18
A61: 4.19 | B61: ETC – U | C61: TC 19
A62: 4.20 | B62: ETC – V | C62: TC 20
A63: 4.21 | B63: ETC – W | C63: TC 21
A64: 4.22 | B64: ETC – X | C64: TC 22
A65: 4.23 | B65: ETC – Y | C65: TC 23
A66: 4.24 | B66: ETC – Z | C66: TC 24
A67: 4.25 | B67: ETC – AA | C67: TC 25
A68: 4.26 | B68: ETC – AB | C68: TC 26
A69: 4.27 | B69: ETC – AC | C69: TC 27
A70: 4.28 | B70: ETC – AD | C70: TC 28
A71: 4.29 | B71: ETC – AE | C71: TC 29
B72: All clamps supplied with M12 HDG bolts, nuts and washers
A73: 5 | B73: EYC TYPE INCLUDING ANY COMBINATION OF THE BELOW | C73: YC TYPE INCLUDING ANY COMBINATION OF THE BELOW | D73: ='BOQ PER SITE'!D73*60 -> 2880 | E73: EA | G73: =D73*F73 -> 0
A74: 5.1 | B74: EYC – A | C74: YC1
A75: 5.2 | B75: EYC – B | C75: YC2
A76: 5.3 | B76: EYC – C | C76: YC3
A77: 5.4 | B77: EYC – D | C77: YC4
A78: 5.5 | B78: EYC – E | C78: YC5
A79: 5.6 | B79: EYC – F | C79: YC6
A80: 5.7 | B80: EYC – G | C80: YC7
A81: 5.8 | B81: EYC – H | C81: YC8
A82: 5.9 | B82: EYC – J | C82: YC9
A83: 5.10 | B83: EYC – K | C83: YC10
A84: 5.11 | B84: EYC – L | C84: YC11
A85: 5.12 | B85: EYC – M | C85: YC12
A86: 5.13 | B86: EYC – N | C86: YC13
A87: 5.14 | B87: EYC – P | C87: YC14
A88: 5.15 | B88: EYC – Q | C88: YC15
A89: 5.16 | B89: EYC – R | C89: YC16
A90: 5.17 | B90: EYC – S | C90: YC17
A91: 5.18 | B91: EYC – T | C91: YC18
A92: 5.19 | B92: EYC – U | C92: YC19
A93: 5.20 | B93: EYC – V | C93: YC20
A94: 5.21 | B94: EYC – W | C94: YC21
A95: 5.22 | B95: EYC – X | C95: YC22
A96: 5.23 | B96: EYC – Y | C96: YC23
A97: 5.24 | B97: EYC – Z | C97: YC24
A98: 5.25 | B98: EYC – AA | C98: YC25
A99: 5.26 | B99: EYC – AB | C99: YC26
A100: 5.27 | B100: EYC – AC | C100: YC27
...

Sheet SOW
A1: Supply and delivery of Eskom approved Substation Clamps and Eskom marked AAAC Conductor
A2: 1) THE SUPPLY AND DELIVERY OF ESKOM APPROVED CLAMPS AND ESKOM MARKED CONDUCTOR AS PER ESKOM IDENTIFIED REQUIREMENTS ON VARIOUS SUBSTATIONS / SITES ACROSS ALL SOUTH AFRICAN PROVINCES. 2) Supplier to comply with all Eskom SHEQ standards and requirements at all times. 3) Supplier to contact SITE MANAGER for information and directions prior to delivery being made. 4) Supplier Vehicles to comply to all relevant Eskom and Site specifications and regulations. 5) All products to fully comply with applicable Eskom / SABS Specifications.
A3: ITEM | B3: NEW TYPE DESIGNATION | C3: OLD TYPE DESIGNATION | D3: UoM
A4: 1 | B4: EUT TYPE INCLUDING ANY COMBINATION OF THE BELOW | C4: UT YPE INCLUDING ANY COMBINATION OF THE BELOW | D4: EA
A5: 1.1 | B5: EUT-A | C5: UT-1
A6: 1.2 | B6: EUT-B | C6: UT-2
A7: 1.3 | B7: EUT-C | C7: UT-3
A8: 1.4 | B8: EUT-D | C8: UT-4
A9: 1.5 | B9: EUT-E | C9: UT-5
A10: 1.6 | B10: EUT-F | C10: UT-6
B11: All clamps supplied with M12 Galvanised U-bolts, nuts and washers
A12: 2 | B12: EXC YPE INCLUDING ANY COMBINATION OF THE BELOW | C12: KC YPE INCLUDING ANY COMBINATION OF THE BELOW | D12: EA
A13: 2.1 | B13: EXC – A | C13: KC1
A14: 2.2 | B14: EXC – B | C14: KC2
A15: 2.3 | B15: EXC – C | C15: KC3
A16: 2.4 | B16: EXC – D | C16: KC4
A17: 2.5 | B17: EXC – E | C17: KC5
A18: 2.6 | B18: EXC – F | C18: KC6
A19: 2.7 | B19: EXC – G | C19: KC7
A20: 2.8 | B20: EXC – H | C20: KC8
A21: 2.9 | B21: EXC – J | C21: KC9
A22: 2.10 | B22: EXC – K | C22: KC10
A23: 2.11 | B23: EXC – L | C23: KC11
A24: 2.12 | B24: EXC – M | C24: KC12
A25: 2.13 | B25: EXC – N | C25: KC13
A26: 2.14 | B26: EXC – P | C26: KC14
A27: 2.15 | B27: EXC – Q | C27: KC15
A28: 2.16 | B28: EXC – R | C28: KC16
B29: All clamps supplied with M12 HDG, nuts and washers
A30: 3 | B30: EX TYPE INCLUDING ANY COMBINATION OF THE BELOW | C30: K TYPE INCLUDING ANY COMBINATION OF THE BELOW | D30: EA
A31: 3.1 | B31: EX – A | C31: K1
A32: 3.2 | B32: EX – B | C32: K2
A33: 3.3 | B33: EX – C | C33: K3
A34: 3.4 | B34: EX – D | C34: K4
A35: 3.5 | B35: EX – E | C35: K5
A36: 3.6 | B36: EX – F | C36: K6
A37: 3.7 | B37: EX – G | C37: K7
A38: 3.8 | B38: EX – H | C38: K8
A39: 3.9 | B39: EX – J | C39: K9
A40: 3.10 | B40: EX – K | C40: K10
B41: All clamps supplied with M10/12 HDG bolts, nuts and washers
A42: 4 | B42: ETC TYPE INCLUDING ANY COMBINATION OF THE BELOW | C42: TC TYPE INCLUDING ANY COMBINATION OF THE BELOW | D42: EA
A43: 4.1 | B43: ETC – A | C43: TC 1
A44: 4.2 | B44: ETC – B | C44: TC 2
A45: 4.3 | B45: ETC – C | C45: TC 3
A46: 4.4 | B46: ETC – D | C46: TC 4
A47: 4.5 | B47: ETC – E | C47: TC 5
A48: 4.6 | B48: ETC – F | C48: TC 6
A49: 4.7 | B49: ETC – G | C49: TC 7
A50: 4.8 | B50: ETC – H | C50: TC 8
A51: 4.9 | B51: ETC – J | C51: TC 9
A52: 4.10 | B52: ETC – K | C52: TC 10
A53: 4.11 | B53: ETC – L | C53: TC 11
A54: 4.12 | B54: ETC – M | C54: TC 12
A55: 4.13 | B55: ETC – N | C55: TC 13
A56: 4.14 | B56: ETC - P | C56: TC 14
A57: 4.15 | B57: ETC – Q | C57: TC 15
A58: 4.16 | B58: ETC – R | C58: TC 16
A59: 4.17 | B59: ETC – S | C59: TC 17
A60: 4.18 | B60: ETC – T | C60: TC 18
A61: 4.19 | B61: ETC – U | C61: TC 19
A62: 4.20 | B62: ETC – V | C62: TC 20
A63: 4.21 | B63: ETC – W | C63: TC 21
A64: 4.22 | B64: ETC – X | C64: TC 22
A65: 4.23 | B65: ETC – Y | C65: TC 23
A66: 4.24 | B66: ETC – Z | C66: TC 24
A67: 4.25 | B67: ETC – AA | C67: TC 25
A68: 4.26 | B68: ETC – AB | C68: TC 26
A69: 4.27 | B69: ETC – AC | C69: TC 27
A70: 4.28 | B70: ETC – AD | C70: TC 28
A71: 4.29 | B71: ETC – AE | C71: TC 29
B72: All clamps supplied with M12 HDG bolts, nuts and washers
A73: 5 | B73: EYC TYPE INCLUDING ANY COMBINATION OF THE BELOW | C73: YC TYPE INCLUDING ANY COMBINATION OF THE BELOW | D73: EA
A74: 5.1 | B74: EYC – A | C74: YC1
A75: 5.2 | B75: EYC – B | C75: YC2
A76: 5.3 | B76: EYC – C | C76: YC3
A77: 5.4 | B77: EYC – D | C77: YC4
A78: 5.5 | B78: EYC – E | C78: YC5
A79: 5.6 | B79: EYC – F | C79: YC6
A80: 5.7 | B80: EYC – G | C80: YC7
A81: 5.8 | B81: EYC – H | C81: YC8
A82: 5.9 | B82: EYC – J | C82: YC9
A83: 5.10 | B83: EYC – K | C83: YC10
A84: 5.11 | B84: EYC – L | C84: YC11
A85: 5.12 | B85: EYC – M | C85: YC12
A86: 5.13 | B86: EYC – N | C86: YC13
A87: 5.14 | B87: EYC – P | C87: YC14
A88: 5.15 | B88: EYC – Q | C88: YC15
A89: 5.16 | B89: EYC – R | C89: YC16
A90: 5.17 | B90: EYC – S | C90: YC17
A91: 5.18 | B91: EYC – T | C91: YC18
A92: 5.19 | B92: EYC – U | C92: YC19
A93: 5.20 | B93: EYC – V | C93: YC20
A94: 5.21 | B94: EYC – W | C94: YC21
A95: 5.22 | B95: EYC – X | C95: YC22
A96: 5.23 | B96: EYC – Y | C96: YC23
A97: 5.24 | B97: EYC – Z | C97: YC24
A98: 5.25 | B98: EYC – AA | C98: YC25
A99: 5.26 | B99: EYC – AB | C99: YC26
A100: 5.27 | B100: EYC – AC | C100: YC27
...
