Workbook

Sheet BOQ PER SITE
B1: Supply and delivery of Eskom approved Substation Clamps and Eskom marked AAAC Conductor
B2: 1) THE SUPPLY AND DELIVERY OF ESKOM APPROVED CLAMPS AND ESKOM MARKED CONDUCTOR AS PER ESKOM IDENTIFIED REQUIREMENTS ON VARIOUS SUBSTATIONS / SITES ACROSS ALL SOUTH AFRICAN PROVINCES. 2) Supplier to comply with all Eskom SHEQ standards and requirements at all times. 3) Supplier to contact SITE MANAGER for information and directions prior to delivery being made. 4) Supplier Vehicles to comply to all relevant Eskom and Site specifications and regulations. 5) All products to fully comply with applicable Eskom / SABS Specifications.
A3: ITEM | B3: NEW TYPE DESIGNATION | C3: OLD TYPE DESIGNATION | D3: QTY | E3: UoM | F3: RATE | G3: TOTAL
A4: 1 | B4: EUT TYPE INCLUDING ANY COMBINATION OF THE BELOW | C4: UT YPE INCLUDING ANY COMBINATION OF THE BELOW | D4: 12 | E4: EA | F4: 315 | G4: =D4*F4 -> 3780
A5: 1.1 | B5: EUT-A | C5: UT-1
A6: 1.2 | B6: EUT-B | C6: UT-2
A7: 1.3 | B7: EUT-C | C7: UT-3
A8: 1.4 | B8: EUT-D | C8: UT-4
A9: 1.5 | B9: EUT-E | C9: UT-5
A10: 1.6 | B10: EUT-F | C10: UT-6
B11: All clamps supplied with M12 Galvanised U-bolts, nuts and washers
A12: 2 | B12: EXC YPE INCLUDING ANY COMBINATION OF THE BELOW | C12: KC YPE INCLUDING ANY COMBINATION OF THE BELOW | D12: 36 | E12: EA | F12: 1250 | G12: =D12*F12 -> 45000
A13: 2.1 | B13: EXC – A | C13: KC1
A14: 2.2 | B14: EXC – B | C14: KC2
A15: 2.3 | B15: EXC – C | C15: KC3
A16: 2.4 | B16: EXC – D | C16: KC4
A17: 2.5 | B17: EXC – E | C17: KC5
A18: 2.6 | B18: EXC – F | C18: KC6
A19: 2.7 | B19: EXC – G | C19: KC7
A20: 2.8 | B20: EXC – H | C20: KC8
A21: 2.9 | B21: EXC – J | C21: KC9
A22: 2.10 | B22: EXC – K | C22: KC10
A23: 2.11 | B23: EXC – L | C23: KC11
A24: 2.12 | B24: EXC – M | C24: KC12
A25: 2.13 | B25: EXC – N | C25: KC13
A26: 2.14 | B26: EXC – P | C26: KC14
A27: 2.15 | B27: EXC – Q | C27: KC15
A28: 2.16 | B28: EXC – R | C28: KC16
B29: All clamps supplied with M12 HDG, nuts and washers
A30: 3 | B30: EX TYPE INCLUDING ANY COMBINATION OF THE BELOW | C30: K TYPE INCLUDING ANY COMBINATION OF THE BELOW | D30: 36 | E30: EA | F30: 850 | G30: =D30*F30 -> 30600
A31: 3.1 | B31: EX – A | C31: K1
A32: 3.2 | B32: EX – B | C32: K2
A33: 3.3 | B33: EX – C | C33: K3
A34: 3.4 | B34: EX – D | C34: K4
A35: 3.5 | B35: EX – E | C35: K5
A36: 3.6 | B36: EX – F | C36: K6
A37: 3.7 | B37: EX – G | C37: K7
A38: 3.8 | B38: EX – H | C38: K8
A39: 3.9 | B39: EX – J | C39: K9
A40: 3.10 | B40: EX – K | C40: K10
...

Sheet OVERALL BOQ
B1: Supply and delivery of Eskom approved Substation Clamps and Eskom marked AAAC Conductor
B2: 1) THE SUPPLY AND DELIVERY OF ESKOM APPROVED CLAMPS AND ESKOM MARKED CONDUCTOR AS PER ESKOM IDENTIFIED REQUIREMENTS ON VARIOUS SUBSTATIONS / SITES ACROSS ALL SOUTH AFRICAN PROVINCES. 2) Supplier to comply with all Eskom SHEQ standards and requirements at all times. 3) Supplier to contact SITE MANAGER for information and directions prior to delivery being made. 4) Supplier Vehicles to comply to all relevant Eskom and Site specifications and regulations. 5) All products to fully comply with applicable Eskom / SABS Specifications.
A3: ITEM | B3: NEW TYPE DESIGNATION | C3: OLD TYPE DESIGNATION | D3: QTY | E3: UoM | F3: RATE | G3: TOTAL
A4: 1 | B4: EUT TYPE INCLUDING ANY COMBINATION OF THE BELOW | C4: UT YPE INCLUDING ANY COMBINATION OF THE BELOW | D4: ='BOQ PER SITE'!D4*60 -> 720 | E4: EA | G4: =D4*F4 -> 0
A5: 1.1 | B5: EUT-A | C5: UT-1
A6: 1.2 | B6: EUT-B | C6: UT-2
A7: 1.3 | B7: EUT-C | C7: UT-3
A8: 1.4 | B8: EUT-D | C8: UT-4
A9: 1.5 | B9: EUT-E | C9: UT-5
A10: 1.6 | B10: EUT-F | C10: UT-6
B11: All clamps supplied with M12 Galvanised U-bolts, nuts and washers
A12: 2 | B12: EXC YPE INCLUDING ANY COMBINATION OF THE BELOW | C12: KC YPE INCLUDING ANY COMBINATION OF THE BELOW | D12: ='BOQ PER SITE'!D12*60 -> 2160 | E12: EA | G12: =D12*F12 -> 0
A13: 2.1 | B13: EXC – A | C13: KC1
A14: 2.2 | B14: EXC – B | C14: KC2
A15: 2.3 | B15: EXC – C | C15: KC3
A16: 2.4 | B16: EXC – D | C16: KC4
A17: 2.5 | B17: EXC – E | C17: KC5
A18: 2.6 | B18: EXC – F | C18: KC6
A19: 2.7 | B19: EXC – G | C19: KC7
A20: 2.8 | B20: EXC – H | C20: KC8
A21: 2.9 | B21: EXC – J | C21: KC9
A22: 2.10 | B22: EXC – K | C22: KC10
A23: 2.11 | B23: EXC – L | C23: KC11
A24: 2.12 | B24: EXC – M | C24: KC12
A25: 2.13 | B25: EXC – N | C25: KC13
A26: 2.14 | B26: EXC – P | C26: KC14
A27: 2.15 | B27: EXC – Q | C27: KC15
A28: 2.16 | B28: EXC – R | C28: KC16
B29: All clamps supplied with M12 HDG, nuts and washers
A30: 3 | B30: EX TYPE INCLUDING ANY COMBINATION OF THE BELOW | C30: K TYPE INCLUDING ANY COMBINATION OF THE BELOW | D30: ='BOQ PER SITE'!D30*60 -> 2160 | E30: EA | G30: =D30*F30 -> 0
A31: 3.1 | B31: EX – A | C31: K1
A32: 3.2 | B32: EX – B | C32: K2
A33: 3.3 | B33: EX – C | C33: K3
A34: 3.4 | B34: EX – D | C34: K4
A35: 3.5 | B35: EX – E | C35: K5
A36: 3.6 | B36: EX – F | C36: K6
A37: 3.7 | B37: EX – G | C37: K7
A38: 3.8 | B38: EX – H | C38: K8
A39: 3.9 | B39: EX – J | C39: K9
A40: 3.10 | B40: EX – K | C40: K10
...

Sheet SOW
A1: Supply and delivery of Eskom approved Substation Clamps and Eskom marked AAAC Conductor
A2: 1) THE SUPPLY AND DELIVERY OF ESKOM APPROVED CLAMPS AND ESKOM MARKED CONDUCTOR AS PER ESKOM IDENTIFIED REQUIREMENTS ON VARIOUS SUBSTATIONS / SITES ACROSS ALL SOUTH AFRICAN PROVINCES. 2) Supplier to comply with all Eskom SHEQ standards and requirements at all times. 3) Supplier to contact SITE MANAGER for information and directions prior to delivery being made. 4) Supplier Vehicles to comply to all relevant Eskom and Site specifications and regulations. 5) All products to fully comply with applicable Eskom / SABS Specifications.
A3: ITEM | B3: NEW TYPE DESIGNATION | C3: OLD TYPE DESIGNATION | D3: UoM
A4: 1 | B4: EUT TYPE INCLUDING ANY COMBINATION OF THE BELOW | C4: UT YPE INCLUDING ANY COMBINATION OF THE BELOW | D4: EA
A5: 1.1 | B5: EUT-A | C5: UT-1
A6: 1.2 | B6: EUT-B | C6: UT-2
A7: 1.3 | B7: EUT-C | C7: UT-3
A8: 1.4 | B8: EUT-D | C8: UT-4
A9: 1.5 | B9: EUT-E | C9: UT-5
A10: 1.6 | B10: EUT-F | C10: UT-6
B11: All clamps supplied with M12 Galvanised U-bolts, nuts and washers
A12: 2 | B12: EXC YPE INCLUDING ANY COMBINATION OF THE BELOW | C12: KC YPE INCLUDING ANY COMBINATION OF THE BELOW | D12: EA
A13: 2.1 | B13: EXC – A | C13: KC1
A14: 2.2 | B14: EXC – B | C14: KC2
A15: 2.3 | B15: EXC – C | C15: KC3
A16: 2.4 | B16: EXC – D | C16: KC4
A17: 2.5 | B17: EXC – E | C17: KC5
A18: 2.6 | B18: EXC – F | C18: KC6
A19: 2.7 | B19: EXC – G | C19: KC7
A20: 2.8 | B20: EXC – H | C20: KC8
A21: 2.9 | B21: EXC – J | C21: KC9
A22: 2.10 | B22: EXC – K | C22: KC10
A23: 2.11 | B23: EXC – L | C23: KC11
A24: 2.12 | B24: EXC – M | C24: KC12
A25: 2.13 | B25: EXC – N | C25: KC13
A26: 2.14 | B26: EXC – P | C26: KC14
A27: 2.15 | B27: EXC – Q | C27: KC15
A28: 2.16 | B28: EXC – R | C28: KC16
B29: All clamps supplied with M12 HDG, nuts and washers
A30: 3 | B30: EX TYPE INCLUDING ANY COMBINATION OF THE BELOW | C30: K TYPE INCLUDING ANY COMBINATION OF THE BELOW | D30: EA
A31: 3.1 | B31: EX – A | C31: K1
A32: 3.2 | B32: EX – B | C32: K2
A33: 3.3 | B33: EX – C | C33: K3
A34: 3.4 | B34: EX – D | C34: K4
A35: 3.5 | B35: EX – E | C35: K5
A36: 3.6 | B36: EX – F | C36: K6
A37: 3.7 | B37: EX – G | C37: K7
A38: 3.8 | B38: EX – H | C38: K8
A39: 3.9 | B39: EX – J | C39: K9
A40: 3.10 | B40: EX – K | C40: K10
...
