Workbook

Sheet List of Items & Enquiry number
A1: Steps to follow to prepare this file for tender
A2: 1 | B2: Enter the Enquiry number in the cell below (B14) so that the number is carried through to the AB Schedule Sheets
A3: 1.1 | B3: Leave enquiry number blank if not known
A4: 2 | B4: Go to Source Data worksheet and confirm the figures from columns BL to BO and EL are correct
A5: 3 | B5: Fix any other requirements on Source Data if there has been a change to the spec
A6: 4 | B6: Hide Source Data Sheet
A7: 5 | B7: Hide this sheet
A8: 6 | B8: Hide any unnecessary sheets if not needed for the tender
A10: NOTE:
B11: This AB schedule is only for Ester Oil options. If the the tender scope includes Ester options, please also submit the Ester Oil or Ester/Ester Schedule to the Buyer
A13: Type Enquiry Number in the cell below (overtype the green text) so that it transfers to all the AB Schedules
A14: >>> | B14: Enquiry Number: 123456XYZ
A17: List of Items
A18: SAP Number | B18: Description | C18: Schedule Name
A19: 0182724 | B19: TFR 16kVA 19kV/242V COASTAL D3200 | C19: Single-phase SWER MV LV, 16 kVA, 19kV/242V (Coastal, Ester Oil Only)
A20: 0182725 | B20: TFR 32kVA 19kV/242/-242V COASTAL D3200 | C20: Dual-phase SWER MV LV, 32 kVA, 19kV/+242/-242V (Coastal, Ester Oil Only)
A21: 0205437 | B21: TFR 64kVA 19kV/242/-242V COASTAL D3200 | C21: Dual-phase SWER MV LV, 64 kVA, 19kV/+242/-242V (Coastal, Ester Oil Only)

Sheet Source Data
A1: Select Pole Mounted Transformer (kVA, kV) here! | B1: Identification | C1: Name of manufacturer | D1: Name of supplier | E1: Product code for Inland transformers | F1: Product code for Coastal transformers | G1: Are the transformers covered by the SABS certification mark? | H1: State SABS 780 permit number | I1: Oil Type | J1: Ratings | K1: Power rating | L1: Rated primary voltage (phase to ground) | M1: Rated no-load secondary voltage | N1: Frequency | O1: Number of phases | P1: Vector Group | Q1: Insulation levels | R1: BIL - Primary | S1: BIL - Secondary | T1: Power frequency withstand voltage - Primary | U1: Power frequency withstand voltage – Secondary | V1: Inter-turn winding insulation | W1: Type (Enamel or Paper) | X1: Enamel grade (if applicable) | Y1: Paper thickness (if applicable) | Z1: Paper type (if applicable) | AA1: Paper make (if applicable) | AB1: Paper minimum impulse withstand | AC1: Paper minimum power frequency withstand | AD1: Inter-turn winding insulation stres | AE1: Interlayer insulation | AF1: Highest interlayer stress in non-tap part of winding (<5kV/mm is not acceptable as the calculated value must be presented) | AG1: Highest interlayer stress in tap part of winding (<5kV/mm is not acceptable as the calculated value must be presented) | AH1: Paper type. | AI1: Paper make. | AJ1: Tapping connections | AK1: Type | AL1: Tapping range | AM1: MV Bushings for Inland transformers | AN1: Make | AO1: Product code | AP1: Material (e.g. Porcelain) | AQ1: Specific creepage distance | AR1: Clamping | AS1: Type | AT1: Stem diameter | AU1: MV Bushings for Coastal Transformers | AV1: Make | AW1: Product code | AX1: Material (e.g. Porcelain) | AY1: Specific creepage distance | AZ1: Clamping | BA1: Type | BB1: Stem diameter | BC1: LV Bushings | BD1: Make | BE1: Product code | BF1: Material (e.g. Porcelain) | BG1: Stem diameter | BH1: Supplied with flag | BI1: Flag supplied with 2 x M12 x 40 mm set screws, 4 x flatwashers, 2 x spring washers and 2 x nuts | BJ1: Losses | BK1: Loss factor base (Cost of Dx or Gx) | BL1: No-load Loss Factor, NLLF | BM1: Load Loss Factor, LLF | BN1: Guaranteed no-load losses, PNL | BO1: Guaranteed load losses, PLL | BP1: Impedance voltage & X/R ratio | BQ1: Impedance at principle tapping (specific design impedances to be stated) | BR1: X/R ratio | BS1: Audio-sound level (clause 8.5.3 of SANS 780) | BT1: Maximum limit of transformer audio-sound level | BU1: MV winding wire | BV1: Material (e.g. Cu or Al) | BW1: Type (e.g. Round, Strip or Foil) | BX1: LV winding wire | BY1: Material (e.g. Cu or Al) | BZ1: Type (e.g. Round, Strip or Foil) | CA1: Core material | CB1: Core material | CC1: Type/code | CD1: Maximum Flux Density of Material | CE1: Supplier | CF1: Tank and tank cover | CG1: Tank type: Sealed | CH1: Plain, rigid or corrugated | CI1: Transformer dimensions | CJ1: Wo (including surge arrester) | CK1: Lo | CL1: Ht | CM1: Mass | CN1: Oil capacity | CO1: Minimum clearance between live MV terminals and from MV live terminals to any part of the tank greater than twice the BIL | CP1: Minimum mechanical clearance of 100 mm between the brackets and LV bushings shall be maintained | CQ1: Pole mounting bracket | CR1: Single pole mounting bracket required? (Yes or No) | CS1: Supplied with: - 2 x clamps | CT1: - 1 x threaded rod (M20 x 350 mm) | CU1: - 4 x threaded rods (M20 x 250 mm) | CV1: - 12 x nuts, flat washers & spring washers (M20) | CW1: Dimension Mo | CX1: Dimension h1 | CY1: Dimension W1 | CZ1: Mounting hole diameter | DA1: Mounting hole centres | DB1: Transformer under base | DC1: Under base required? (Yes or No) | DD1: Lml | DE1: Lmw (300, 400 or 450) | DF1: Ls | DG1: Lmh | DH1: Mounting hole diameter | DI1: Lifting lugs | DJ1: Lifting lugs fitted | DK1: Hole diameter | DL1: Earthing terminals | DM1: Boss material | DN1: Boss depth | DO1: Set screw material | DP1: Set screw dimensions | DQ1: Supplied with washer and spring washer | DR1: Surge arrester brackets | DS1: Surge arrester brackets fitted | DT1: Mounting hole diameter | DU1: Dimension D (worst case) | DV1: Dimension E (worst case) | DW1: Dimension F (worst case) | DX1: Corrosion protection Inland transformers | DY1: Indicate the coating system (i.e. DS numbers according to DSP 240-75655504) that is offered. (e.g. DS-7 for mild steel) | DZ1: Tank | EA1: Radiators | EB1: Threaded rods and accessories | EC1: Colour of final coat | ED1: Corrosion protection for Coastal transformers | EE1: Indicate the coating system (i.e. DS numbers according to DSP 240-75655504) that is offered. (e.g. DS-14 + DS-15 for zinc sprayed mild steel with duplex coating) | EF1: Tank | EG1: Radiators | EH1: Threaded rods and accessories | EI1: Colour of final coat | EJ1: All Type Tests in Accordance with SANS 780: | EK1: All Routine Tests in Accordance with SANS 780 | EL1: Amorphous Losses (Guaranteed no-load losses, PNL)
A2: Single-phase SWER MV LV, 16 kVA, 19kV/242V (Coastal, Ester Oil Only) | C2: xxxxxxxxxxx | D2: xxxxxxxxxxx | E2: xxxxxxxxxxx | F2: xxxxxxxxxxx | G2: xxxxxxxxxxx | H2: xxxxxxxxxxx | I2: Ester Oil | K2: 16 | L2: 19 | M2: 242 | N2: 50 | O2: 1 ph | P2: N/A | R2: 200 | S2: 30 | T2: 70 | U2: 8 | W2: xxxxxxxxxxx | X2: Grade 3 | Y2: > 0.125 | Z2: xxxxxxxxxxx | AA2: xxxxxxxxxxx | AB2: 21 | AC2: 8 | AD2: <5 | AF2: < 5 | AG2: < 5 | AH2: xxxxxxxxxxx | AI2: xxxxxxxxxxx | AK2: External | AL2: 0, +2.5 , +5 | AN2: xxxxxxxxxxx | AO2: xxxxxxxxxxx | AP2: xxxxxxxxxxx | AQ2: ≥ 31 | AR2: Base | AS2: Draw lead | AT2: M12 | AV2: xxxxxxxxxxx | AW2: xxxxxxxxxxx | AX2: xxxxxxxxxxx | AY2: ≥ 31 | AZ2: Base | BA2: Draw lead | BB2: M12 | BD2: xxxxxxxxxxx | BE2: xxxxxxxxxxx | BF2: xxxxxxxxxxx | BG2: M12 | BH2: Yes | BI2: Yes | BK2: Distribution | BL2: 80500 | BM2: 17500 | BN2: 100 | BO2: 400 | BQ2: 3,0 to 4,5 | BR2: xxxxxxxxxx | BT2: ≤ 48 | BV2: xxxxxxxxxxx | BW2: xxxxxxxxxxx | BY2: xxxxxxxxxxx | BZ2: xxxxxxxxxxx | CB2: Steel or Amporphous | CC2: xxxxxxxxxxx | CD2: xxxxxxxxxxx | CE2: xxxxxxxxxxx | CG2: Sealed | CH2: xxxxxxxxxx | CJ2: ≤ 1 080 | CK2: ≤ 1 500 | CL2: ≤ 1 500 | CM2: ≤ 900 | CN2: xxxxxxxxxxx | CO2: =2*R2 -> 400 | CP2: 100 | CR2: Yes | CS2: Yes | CT2: Yes | CU2: Yes | CV2: Yes | CW2: 400 | CX2: ≤ 400 | CY2: ≤ 450 | CZ2: 22 | DA2: 146 | DC2: No | DD2: 400 | DE2: xxxxxxxxxxx | DF2: ≥ 320 | DG2: ≤ 120 | DH2: 22 | DJ2: Yes | DK2: ≥ 30 | DM2: 316 Stainless Steel or Mild Steel | DN2: ≥ 30 | DO2: 316 Stainless Steel or Mild Steel | DP2: M12 x 25 | DQ2: Yes | DS2: Yes | DT2: 14 | DU2: ≥ 200 | DV2: ≥ 400 | DW2: ≥ 150 | DZ2: xxxxxxxxxxx | EA2: xxxxxxxxxxx | EB2: xxxxxxxxxxx | EC2: Avocado | EF2: xxxxxxxxxxx | EG2: xxxxxxxxxxx | EH2: xxxxxxxxxxx | EI2: Azure Blue | EJ2: Report Numbers | EK2: Report Numbers | EL2: 400
A3: Dual-phase SWER MV LV, 32 kVA, 19kV/+242/-242V (Coastal, Ester Oil Only) | C3: xxxxxxxxxxx | D3: xxxxxxxxxxx | E3: xxxxxxxxxxx | F3: xxxxxxxxxxx | G3: xxxxxxxxxxx | H3: xxxxxxxxxxx | I3: Ester Oil | K3: 32 | L3: 19 | M3: ±242 | N3: 50 | O3: 2ph | P3: N/A | R3: 200 | S3: 30 | T3: 70 | U3: 8 | W3: xxxxxxxxxxx | X3: Grade 3 | Y3: > 0.125 | Z3: xxxxxxxxxxx | AA3: xxxxxxxxxxx | AB3: 21 | AC3: 8 | AD3: <5 | AF3: < 5 | AG3: < 5 | AH3: xxxxxxxxxxx | AI3: xxxxxxxxxxx | AK3: Switch | AL3: 0, ±2.5, ±5 | AN3: xxxxxxxxxxx | AO3: xxxxxxxxxxx | AP3: xxxxxxxxxxx | AQ3: ≥ 31 | AR3: Base | AS3: Draw lead | AT3: M12 | AV3: xxxxxxxxxxx | AW3: xxxxxxxxxxx | AX3: xxxxxxxxxxx | AY3: ≥ 31 | AZ3: Base | BA3: Draw lead | BB3: M12 | BD3: xxxxxxxxxxx | BE3: xxxxxxxxxxx | BF3: xxxxxxxxxxx | BG3: M12 | BH3: Yes | BI3: Yes | BK3: Distribution | BL3: 80500 | BM3: 17500 | BN3: 170 | BO3: 630 | BQ3: 3,0 to 4,5 | BR3: xxxxxxxxxx | BT3: ≤ 48 | BV3: xxxxxxxxxxx | BW3: xxxxxxxxxxx | BY3: xxxxxxxxxxx | BZ3: xxxxxxxxxxx | CB3: Steel or Amporphous | CC3: xxxxxxxxxxx | CD3: xxxxxxxxxxx | CE3: xxxxxxxxxxx | CG3: Sealed | CH3: xxxxxxxxxx | CJ3: ≤ 1 080 | CK3: ≤ 1 500 | CL3: ≤ 1 500 | CM3: ≤ 900 | CN3: xxxxxxxxxxx | CO3: =2*R3 -> 400 | CP3: 100 | CR3: Yes | CS3: Yes | CT3: Yes | CU3: Yes | CV3: Yes | CW3: 400 | CX3: ≤ 400 | CY3: ≤ 450 | CZ3: 22 | DA3: 146 | DC3: No | DD3: 400 | DE3: xxxxxxxxxxx | DF3: ≥ 320 | DG3: ≤ 120 | DH3: 22 | DJ3: Yes | DK3: ≥ 30 | DM3: 316 Stainless Steel or Mild Steel | DN3: ≥ 30 | DO3: 316 Stainless Steel or Mild Steel | DP3: M12 x 25 | DQ3: Yes | DS3: Yes | DT3: 14 | DU3: ≥ 200 | DV3: ≥ 400 | DW3: ≥ 150 | DZ3: xxxxxxxxxxx | EA3: xxxxxxxxxxx | EB3: xxxxxxxxxxx | EC3: Avocado | EF3: xxxxxxxxxxx | EG3: xxxxxxxxxxx | EH3: xxxxxxxxxxx | EI3: Azure Blue | EJ3: Report Numbers | EK3: Report Numbers | EL3: 630
A4: Dual-phase SWER MV LV, 64 kVA, 19kV/+242/-242V (Coastal, Ester Oil Only) | C4: xxxxxxxxxxx | D4: xxxxxxxxxxx | E4: xxxxxxxxxxx | F4: xxxxxxxxxxx | G4: xxxxxxxxxxx | H4: xxxxxxxxxxx | I4: Ester Oil | K4: 64 | L4: 19 | M4: ±242 | N4: 50 | O4: 2ph | P4: N/A | R4: 200 | S4: 30 | T4: 70 | U4: 8 | W4: xxxxxxxxxxx | X4: Grade 3 | Y4: > 0.125 | Z4: xxxxxxxxxxx | AA4: xxxxxxxxxxx | AB4: 21 | AC4: 8 | AD4: <5 | AF4: < 5 | AG4: < 5 | AH4: xxxxxxxxxxx | AI4: xxxxxxxxxxx | AK4: Switch | AL4: 0, ±2.5, ±5 | AN4: xxxxxxxxxxx | AO4: xxxxxxxxxxx | AP4: xxxxxxxxxxx | AQ4: ≥ 31 | AR4: Base | AS4: Draw lead | AT4: M12 | AV4: xxxxxxxxxxx | AW4: xxxxxxxxxxx | AX4: xxxxxxxxxxx | AY4: ≥ 31 | AZ4: Base | BA4: Draw lead | BB4: M12 | BD4: xxxxxxxxxxx | BE4: xxxxxxxxxxx | BF4: xxxxxxxxxxx | BG4: M12 | BH4: Yes | BI4: Yes | BK4: Distribution | BL4: 80500 | BM4: 17500 | BN4: 260 | BO4: 1200 | BQ4: 3,0 to 4,5 | BR4: xxxxxxxxxx | BT4: ≤ 48 | BV4: xxxxxxxxxxx | BW4: xxxxxxxxxxx | BY4: xxxxxxxxxxx | BZ4: xxxxxxxxxxx | CB4: Steel or Amporphous | CC4: xxxxxxxxxxx | CD4: xxxxxxxxxxx | CE4: xxxxxxxxxxx | CG4: Sealed | CH4: xxxxxxxxxx | CJ4: ≤ 1 080 | CK4: ≤ 1 500 | CL4: ≤ 1 500 | CM4: ≤ 900 | CN4: xxxxxxxxxxx | CO4: =2*R4 -> 400 | CP4: 100 | CR4: Yes | CS4: Yes | CT4: Yes | CU4: Yes | CV4: Yes | CW4: 400 | CX4: ≤ 400 | CY4: ≤ 450 | CZ4: 22 | DA4: 146 | DC4: No | DD4: 400 | DE4: xxxxxxxxxxx | DF4: ≥ 320 | DG4: ≤ 120 | DH4: 22 | DJ4: Yes | DK4: ≥ 30 | DM4: 316 Stainless Steel or Mild Steel | DN4: ≥ 30 | DO4: 316 Stainless Steel or Mild Steel | DP4: M12 x 25 | DQ4: Yes | DS4: Yes | DT4: 14 | DU4: ≥ 200 | DV4: ≥ 400 | DW4: ≥ 150 | DZ4: xxxxxxxxxxx | EA4: xxxxxxxxxxx | EB4: xxxxxxxxxxx | EC4: Avocado | EF4: xxxxxxxxxxx | EG4: xxxxxxxxxxx | EH4: xxxxxxxxxxx | EI4: Azure Blue | EJ4: Report Numbers | EK4: Report Numbers | EL4: 1200
A5: 1 | B5: 2 | C5: 3 | D5: 4 | E5: 5 | F5: 6 | G5: 7 | H5: 8 | I5: 9 | J5: 10 | K5: 11 | L5: 12 | M5: 13 | N5: 14 | O5: 15 | P5: 16 | Q5: 17 | R5: 18 | S5: 19 | T5: 20 | U5: 21 | V5: 22 | W5: 23 | X5: 24 | Y5: 25 | Z5: 26 | AA5: 27 | AB5: 28 | AC5: 29 | AD5: 30 | AE5: 31 | AF5: 32 | AG5: 33 | AH5: 34 | AI5: 35 | AJ5: 36 | AK5: 37 | AL5: 38 | AM5: 39 | AN5: 40 | AO5: 41 | AP5: 42 | AQ5: 43 | AR5: 44 | AS5: 45 | AT5: 46 | AU5: 47 | AV5: 48 | AW5: 49 | AX5: 50 | AY5: 51 | AZ5: 52 | BA5: 53 | BB5: 54 | BC5: 55 | BD5: 56 | BE5: 57 | BF5: 58 | BG5: 59 | BH5: 60 | BI5: 61 | BJ5: 62 | BK5: 63 | BL5: 64 | BM5: 65 | BN5: 66 | BO5: 67 | BP5: 68 | BQ5: 69 | BR5: 70 | BS5: 71 | BT5: 72 | BU5: 73 | BV5: 74 | BW5: 75 | BX5: 76 | BY5: 77 | BZ5: 78 | CA5: 79 | CB5: 80 | CC5: 81 | CD5: 82 | CE5: 83 | CF5: 84 | CG5: 85 | CH5: 86 | CI5: 87 | CJ5: 88 | CK5: 89 | CL5: 90 | CM5: 91 | CN5: 92 | CO5: 93 | CP5: 94 | CQ5: 95 | CR5: 96 | CS5: 97 | CT5: 98 | CU5: 99 | CV5: 100 | CW5: 101 | CX5: 102 | CY5: 103 | CZ5: 104 | DA5: 105 | DB5: 106 | DC5: 107 | DD5: 108 | DE5: 109 | DF5: 110 | DG5: 111 | DH5: 112 | DI5: 113 | DJ5: 114 | DK5: 115 | DL5: 116 | DM5: 117 | DN5: 118 | DO5: 119 | DP5: 120 | DQ5: 121 | DR5: 122 | DS5: 123 | DT5: 124 | DU5: 125 | DV5: 126 | DW5: 127 | DX5: 128 | DY5: 129 | DZ5: 130 | EA5: 131 | EB5: 132 | EC5: 133 | ED5: 134 | EE5: 135 | EF5: 136 | EG5: 137 | EH5: 138 | EI5: 139 | EJ5: 140 | EK5: 141 | EL5: 142

Sheet Deviation Schedule
A1: Deviation schedule
A2: Specification: DSP 240-45395762 Rev.4 Enquiry no.:
A3: SAP No.: | I3: BIDDER TO STATE SAP NUMBER
A4: Any deviations offered to this specification shall be listed below with reasons for deviation. In addition, evidence shall be provided that the proposed deviation will at least be more cost-effective that that specified by Eskom.
A5: Item | B5: Clause | C5: Description of Deviation
B37: SUPPLIER SIGNATURES
B40: Name (Print) | F40: Company Name
B44: Sign | F44: Date

Sheet 16kVA
F3: Specification: DSP 240-45395762 Rev.4
F4: ='List of Items & Enquiry number'!B14 -> Enquiry Number: 123456XYZ
D6: TECHNICAL SCHEDULES A & B FOR POLE-MOUNTED DISTRIBUTION TRANSFORMERS
D7: Single-phase SWER MV LV, 16 kVA, 19kV/242V (Coastal, Ester Oil Only)
D8: * 19 kV (phase to ground) | F8: Deviations from the specific requirements stated in Schedule A must be recorded and explained in the Deviation Schedule
B9: Schedule A: Purchaser's specific requirements
B10: Schedule B: Guarantees and technical particulars of equipment offered
B11: Item | C11: Sub-clause of 240- 45395762 | D11: Description | F11: Schedule A | G11: Schedule B
B12: 1 | D12: Identification
B13: 1.1 | D13: Name of manufacturer | F13: =VLOOKUP($D$7,'Source Data'!$A$2:$EK$28,3,FALSE) -> xxxxxxxxxxx
B14: 1.2 | D14: Name of supplier | F14: =VLOOKUP($D$7,'Source Data'!$A$2:$EK$28,4,FALSE) -> xxxxxxxxxxx
B15: 1.3 | D15: Product code for Coastal transformers | F15: =VLOOKUP($D$7,'Source Data'!$A$2:$EK$28,6,FALSE) -> xxxxxxxxxxx
B16: 1.4 | D16: Are the transformers covered by the SANS 780 certification mark? | F16: =VLOOKUP($D$7,'Source Data'!$A$2:$EK$28,7,FALSE) -> xxxxxxxxxxx
B17: 1.5 | D17: State SANS 780 permit number | F17: =VLOOKUP($D$7,'Source Data'!$A$2:$EK$28,8,FALSE) -> xxxxxxxxxxx
B18: 1.6 | D18: Oil Type | F18: =VLOOKUP($D$7,'Source Data'!$A$2:$EK$28,9,FALSE) -> Ester Oil
B19: 2 | C19: 3 | D19: Ratings
B20: 2.1 | D20: Power rating | E20: kVA | F20: =VLOOKUP($D$7,'Source Data'!$A$2:$EK$28,11,FALSE) -> 16
B21: 2.2 | D21: Rated primary voltage (phase to ground) | E21: kV | F21: =VLOOKUP($D$7,'Source Data'!$A$2:$EK$28,12,FALSE) -> 19
B22: 2.3 | D22: Rated no-load secondary voltage | E22: V | F22: =VLOOKUP($D$7,'Source Data'!$A$2:$EK$28,13,FALSE) -> 242
B23: 2.4 | D23: Frequency | E23: Hz | F23: =VLOOKUP($D$7,'Source Data'!$A$2:$EK$28,14,FALSE) -> 50
B24: 2.5 | D24: Number of phases | F24: =VLOOKUP($D$7,'Source Data'!$A$2:$EK$28,15,FALSE) -> 1 ph
B25: 2.6 | D25: Vector Group | F25: =VLOOKUP($D$7,'Source Data'!$A$2:$EK$28,16,FALSE) -> N/A | G25: xxxxxxxxxxx
B26: 3 | C26: 3.2.5 | D26: Insulation levels
B27: 3.1 | D27: BIL - Primary | E27: kV | F27: =VLOOKUP($D$7,'Source Data'!$A$2:$EK$28,18,FALSE) -> 200
B28: 3.2 | D28: BIL - Secondary | E28: kV | F28: =VLOOKUP($D$7,'Source Data'!$A$2:$EK$28,19,FALSE) -> 30
B29: 3.3 | D29: Power frequency withstand voltage - Primary | E29: kV | F29: =VLOOKUP($D$7,'Source Data'!$A$2:$EK$28,20,FALSE) -> 70
B30: 3.4 | D30: Power frequency withstand voltage – Secondary | E30: kV | F30: =VLOOKUP($D$7,'Source Data'!$A$2:$EK$28,21,FALSE) -> 8
B31: 4 | C31: 3.2.8 | D31: Inter-turn winding insulation
B32: 4.1 | D32: Type (Enamel or Paper) | F32: =VLOOKUP($D$7,'Source Data'!$A$2:$EK$28,23,FALSE) -> xxxxxxxxxxx
B33: 4.2 | D33: Enamel grade (if applicable) | F33: =VLOOKUP($D$7,'Source Data'!$A$2:$EK$28,24,FALSE) -> Grade 3
B34: 4.3 | D34: Paper thickness (if applicable) | E34: mm | F34: =VLOOKUP($D$7,'Source Data'!$A$2:$EK$28,25,FALSE) -> > 0.125
B35: 4.4 | D35: Paper type (if applicable) | F35: =VLOOKUP($D$7,'Source Data'!$A$2:$EK$28,26,FALSE) -> xxxxxxxxxxx
B36: 4.5 | D36: Paper make (if applicable) | F36: =VLOOKUP($D$7,'Source Data'!$A$2:$EK$28,27,FALSE) -> xxxxxxxxxxx
B37: 4.6 | D37: Paper minimum impulse withstand | E37: kV | F37: =VLOOKUP($D$7,'Source Data'!$A$2:$EK$28,28,FALSE) -> 21
B38: 4.7 | D38: Paper minimum power frequency withstand | E38: kV | F38: =VLOOKUP($D$7,'Source Data'!$A$2:$EK$28,29,FALSE) -> 8
B39: 4.8 | D39: Inter-turn winding insulation stress shall not exceed 5 kV/mm | E39: kV/mm | F39: =VLOOKUP($D$7,'Source Data'!$A$2:$EK$28,30,FALSE) -> <5
B40: 5 | C40: 3.2.9 | D40: Interlayer insulation
B41: 5.1 | D41: Highest interlayer stress in non-tap part of winding (<5kV/mm is not acceptable as the calculated value must be presented) | E41: kV/mm | F41: =VLOOKUP($D$7,'Source Data'!$A$2:$EK$28,32,FALSE) -> < 5
B42: 5.2 | D42: Highest interlayer stress in tap part of winding (<5kV/mm is not acceptable as the calculated value must be presented) | E42: kV/mm | F42: =VLOOKUP($D$7,'Source Data'!$A$2:$EK$28,33,FALSE) -> < 5
B43: 5.3 | D43: Paper type. | F43: =VLOOKUP($D$7,'Source Data'!$A$2:$EK$28,34,FALSE) -> xxxxxxxxxxx
...

Sheet 32kVA
F3: Specification: DSP 240-45395762 Rev.4
F4: ='List of Items & Enquiry number'!B14 -> Enquiry Number: 123456XYZ
D6: TECHNICAL SCHEDULES A & B FOR POLE-MOUNTED DISTRIBUTION TRANSFORMERS
D7: Dual-phase SWER MV LV, 32 kVA, 19kV/+242/-242V (Coastal, Ester Oil Only)
D8: * 19 kV (phase to ground) | F8: Deviations from the specific requirements stated in Schedule A must be recorded and explained in the Deviation Schedule
B9: Schedule A: Purchaser's specific requirements
B10: Schedule B: Guarantees and technical particulars of equipment offered
B11: Item | C11: Sub-clause of 240- 45395762 | D11: Description | F11: Schedule A | G11: Schedule B
B12: 1 | D12: Identification
B13: 1.1 | D13: Name of manufacturer | F13: =VLOOKUP($D$7,'Source Data'!$A$2:$EK$28,3,FALSE) -> xxxxxxxxxxx
B14: 1.2 | D14: Name of supplier | F14: =VLOOKUP($D$7,'Source Data'!$A$2:$EK$28,4,FALSE) -> xxxxxxxxxxx
B15: 1.3 | D15: Product code for Coastal transformers | F15: =VLOOKUP($D$7,'Source Data'!$A$2:$EK$28,6,FALSE) -> xxxxxxxxxxx
B16: 1.4 | D16: Are the transformers covered by the SANS 780 certification mark? | F16: =VLOOKUP($D$7,'Source Data'!$A$2:$EK$28,7,FALSE) -> xxxxxxxxxxx
B17: 1.5 | D17: State SANS 780 permit number | F17: =VLOOKUP($D$7,'Source Data'!$A$2:$EK$28,8,FALSE) -> xxxxxxxxxxx
B18: 1.6 | D18: Oil Type | F18: =VLOOKUP($D$7,'Source Data'!$A$2:$EK$28,9,FALSE) -> Ester Oil
B19: 2 | C19: 3 | D19: Ratings
B20: 2.1 | D20: Power rating | E20: kVA | F20: =VLOOKUP($D$7,'Source Data'!$A$2:$EK$28,11,FALSE) -> 32
B21: 2.2 | D21: Rated primary voltage (phase to ground) | E21: kV | F21: =VLOOKUP($D$7,'Source Data'!$A$2:$EK$28,12,FALSE) -> 19
B22: 2.3 | D22: Rated no-load secondary voltage | E22: V | F22: =VLOOKUP($D$7,'Source Data'!$A$2:$EK$28,13,FALSE) -> ±242
B23: 2.4 | D23: Frequency | E23: Hz | F23: =VLOOKUP($D$7,'Source Data'!$A$2:$EK$28,14,FALSE) -> 50
B24: 2.5 | D24: Number of phases | F24: =VLOOKUP($D$7,'Source Data'!$A$2:$EK$28,15,FALSE) -> 2ph
B25: 2.6 | D25: Vector Group | F25: =VLOOKUP($D$7,'Source Data'!$A$2:$EK$28,16,FALSE) -> N/A | G25: xxxxxxxxxxx
B26: 3 | C26: 3.2.5 | D26: Insulation levels
B27: 3.1 | D27: BIL - Primary | E27: kV | F27: =VLOOKUP($D$7,'Source Data'!$A$2:$EK$28,18,FALSE) -> 200
B28: 3.2 | D28: BIL - Secondary | E28: kV | F28: =VLOOKUP($D$7,'Source Data'!$A$2:$EK$28,19,FALSE) -> 30
B29: 3.3 | D29: Power frequency withstand voltage - Primary | E29: kV | F29: =VLOOKUP($D$7,'Source Data'!$A$2:$EK$28,20,FALSE) -> 70
B30: 3.4 | D30: Power frequency withstand voltage – Secondary | E30: kV | F30: =VLOOKUP($D$7,'Source Data'!$A$2:$EK$28,21,FALSE) -> 8
B31: 4 | C31: 3.2.8 | D31: Inter-turn winding insulation
B32: 4.1 | D32: Type (Enamel or Paper) | F32: =VLOOKUP($D$7,'Source Data'!$A$2:$EK$28,23,FALSE) -> xxxxxxxxxxx
B33: 4.2 | D33: Enamel grade (if applicable) | F33: =VLOOKUP($D$7,'Source Data'!$A$2:$EK$28,24,FALSE) -> Grade 3
B34: 4.3 | D34: Paper thickness (if applicable) | E34: mm | F34: =VLOOKUP($D$7,'Source Data'!$A$2:$EK$28,25,FALSE) -> > 0.125
B35: 4.4 | D35: Paper type (if applicable) | F35: =VLOOKUP($D$7,'Source Data'!$A$2:$EK$28,26,FALSE) -> xxxxxxxxxxx
B36: 4.5 | D36: Paper make (if applicable) | F36: =VLOOKUP($D$7,'Source Data'!$A$2:$EK$28,27,FALSE) -> xxxxxxxxxxx
B37: 4.6 | D37: Paper minimum impulse withstand | E37: kV | F37: =VLOOKUP($D$7,'Source Data'!$A$2:$EK$28,28,FALSE) -> 21
B38: 4.7 | D38: Paper minimum power frequency withstand | E38: kV | F38: =VLOOKUP($D$7,'Source Data'!$A$2:$EK$28,29,FALSE) -> 8
B39: 4.8 | D39: Inter-turn winding insulation stress shall not exceed 5 kV/mm | E39: kV/mm | F39: =VLOOKUP($D$7,'Source Data'!$A$2:$EK$28,30,FALSE) -> <5
B40: 5 | C40: 3.2.9 | D40: Interlayer insulation
B41: 5.1 | D41: Highest interlayer stress in non-tap part of winding (<5kV/mm is not acceptable as the calculated value must be presented) | E41: kV/mm | F41: =VLOOKUP($D$7,'Source Data'!$A$2:$EK$28,32,FALSE) -> < 5
B42: 5.2 | D42: Highest interlayer stress in tap part of winding (<5kV/mm is not acceptable as the calculated value must be presented) | E42: kV/mm | F42: =VLOOKUP($D$7,'Source Data'!$A$2:$EK$28,33,FALSE) -> < 5
B43: 5.3 | D43: Paper type. | F43: =VLOOKUP($D$7,'Source Data'!$A$2:$EK$28,34,FALSE) -> xxxxxxxxxxx
...

Sheet 64kVA
F3: Specification: DSP 240-45395762 Rev.4
F4: ='List of Items & Enquiry number'!B14 -> Enquiry Number: 123456XYZ
D6: TECHNICAL SCHEDULES A & B FOR POLE-MOUNTED DISTRIBUTION TRANSFORMERS
D7: Dual-phase SWER MV LV, 64 kVA, 19kV/+242/-242V (Coastal, Ester Oil Only)
D8: * 19 kV (phase to ground) | F8: Deviations from the specific requirements stated in Schedule A must be recorded and explained in the Deviation Schedule
B9: Schedule A: Purchaser's specific requirements
B10: Schedule B: Guarantees and technical particulars of equipment offered
B11: Item | C11: Sub-clause of 240- 45395762 | D11: Description | F11: Schedule A | G11: Schedule B
B12: 1 | D12: Identification
B13: 1.1 | D13: Name of manufacturer | F13: =VLOOKUP($D$7,'Source Data'!$A$2:$EK$28,3,FALSE) -> xxxxxxxxxxx
B14: 1.2 | D14: Name of supplier | F14: =VLOOKUP($D$7,'Source Data'!$A$2:$EK$28,4,FALSE) -> xxxxxxxxxxx
B15: 1.3 | D15: Product code for Coastal transformers | F15: =VLOOKUP($D$7,'Source Data'!$A$2:$EK$28,6,FALSE) -> xxxxxxxxxxx
B16: 1.4 | D16: Are the transformers covered by the SANS 780 certification mark? | F16: =VLOOKUP($D$7,'Source Data'!$A$2:$EK$28,7,FALSE) -> xxxxxxxxxxx
B17: 1.5 | D17: State SANS 780 permit number | F17: =VLOOKUP($D$7,'Source Data'!$A$2:$EK$28,8,FALSE) -> xxxxxxxxxxx
B18: 1.6 | D18: Oil Type | F18: =VLOOKUP($D$7,'Source Data'!$A$2:$EK$28,9,FALSE) -> Ester Oil
B19: 2 | C19: 3 | D19: Ratings
B20: 2.1 | D20: Power rating | E20: kVA | F20: =VLOOKUP($D$7,'Source Data'!$A$2:$EK$28,11,FALSE) -> 64
B21: 2.2 | D21: Rated primary voltage (phase to ground) | E21: kV | F21: =VLOOKUP($D$7,'Source Data'!$A$2:$EK$28,12,FALSE) -> 19
B22: 2.3 | D22: Rated no-load secondary voltage | E22: V | F22: =VLOOKUP($D$7,'Source Data'!$A$2:$EK$28,13,FALSE) -> ±242
B23: 2.4 | D23: Frequency | E23: Hz | F23: =VLOOKUP($D$7,'Source Data'!$A$2:$EK$28,14,FALSE) -> 50
B24: 2.5 | D24: Number of phases | F24: =VLOOKUP($D$7,'Source Data'!$A$2:$EK$28,15,FALSE) -> 2ph
B25: 2.6 | D25: Vector Group | F25: =VLOOKUP($D$7,'Source Data'!$A$2:$EK$28,16,FALSE) -> N/A | G25: xxxxxxxxxxx
B26: 3 | C26: 3.2.5 | D26: Insulation levels
B27: 3.1 | D27: BIL - Primary | E27: kV | F27: =VLOOKUP($D$7,'Source Data'!$A$2:$EK$28,18,FALSE) -> 200
B28: 3.2 | D28: BIL - Secondary | E28: kV | F28: =VLOOKUP($D$7,'Source Data'!$A$2:$EK$28,19,FALSE) -> 30
B29: 3.3 | D29: Power frequency withstand voltage - Primary | E29: kV | F29: =VLOOKUP($D$7,'Source Data'!$A$2:$EK$28,20,FALSE) -> 70
B30: 3.4 | D30: Power frequency withstand voltage – Secondary | E30: kV | F30: =VLOOKUP($D$7,'Source Data'!$A$2:$EK$28,21,FALSE) -> 8
B31: 4 | C31: 3.2.8 | D31: Inter-turn winding insulation
B32: 4.1 | D32: Type (Enamel or Paper) | F32: =VLOOKUP($D$7,'Source Data'!$A$2:$EK$28,23,FALSE) -> xxxxxxxxxxx
B33: 4.2 | D33: Enamel grade (if applicable) | F33: =VLOOKUP($D$7,'Source Data'!$A$2:$EK$28,24,FALSE) -> Grade 3
B34: 4.3 | D34: Paper thickness (if applicable) | E34: mm | F34: =VLOOKUP($D$7,'Source Data'!$A$2:$EK$28,25,FALSE) -> > 0.125
B35: 4.4 | D35: Paper type (if applicable) | F35: =VLOOKUP($D$7,'Source Data'!$A$2:$EK$28,26,FALSE) -> xxxxxxxxxxx
B36: 4.5 | D36: Paper make (if applicable) | F36: =VLOOKUP($D$7,'Source Data'!$A$2:$EK$28,27,FALSE) -> xxxxxxxxxxx
B37: 4.6 | D37: Paper minimum impulse withstand | E37: kV | F37: =VLOOKUP($D$7,'Source Data'!$A$2:$EK$28,28,FALSE) -> 21
B38: 4.7 | D38: Paper minimum power frequency withstand | E38: kV | F38: =VLOOKUP($D$7,'Source Data'!$A$2:$EK$28,29,FALSE) -> 8
B39: 4.8 | D39: Inter-turn winding insulation stress shall not exceed 5 kV/mm | E39: kV/mm | F39: =VLOOKUP($D$7,'Source Data'!$A$2:$EK$28,30,FALSE) -> <5
B40: 5 | C40: 3.2.9 | D40: Interlayer insulation
B41: 5.1 | D41: Highest interlayer stress in non-tap part of winding (<5kV/mm is not acceptable as the calculated value must be presented) | E41: kV/mm | F41: =VLOOKUP($D$7,'Source Data'!$A$2:$EK$28,32,FALSE) -> < 5
B42: 5.2 | D42: Highest interlayer stress in tap part of winding (<5kV/mm is not acceptable as the calculated value must be presented) | E42: kV/mm | F42: =VLOOKUP($D$7,'Source Data'!$A$2:$EK$28,33,FALSE) -> < 5
B43: 5.3 | D43: Paper type. | F43: =VLOOKUP($D$7,'Source Data'!$A$2:$EK$28,34,FALSE) -> xxxxxxxxxxx
...
