Workbook
Name Consequence: '[1]Drop Down Lists'!$A$3:$A$8
Name Likelihood: '[1]Drop Down Lists'!$B$3:$B$7
Name RCE: '[1]Drop Down Lists'!$D$3:$D$7

Sheet Risk template  
A3: Occupational Health and Safety Baseline risk assessment template
A4: Business/Operating unit: | B4: Telecommunications | E4: Contract: | H4: Design, supply, delivery, installation, commissioning, maintenance, support and training of an Environmental Alarm System (EAS) solution | J4: Next Review Date (every 2 years): | K4: 05/09/2026 | L4: Template identifier: | M4: 240-70044602
A6: Date: | B6: 22/04/2025 | E6: Prepared By: | F6: Nombulelo Mbatha Phelokazi Ndlovu Bongani Shezi | G6: Authorised by: | H6: Name: Thulani Mkhwanazi | L6: Document identifier | M6: 240-169184548 | AB6: R | AC6: Safety | AD6: 1 | AE6: A | AF6: Fully effective | AG6: I
H7: Designation: Contracts Manager | L7: Revision number: | M7: 5 | AB7: N | AC7: Health | AD7: 2 | AE7: B | AF7: Mostly effective | AG7: II
H8: Signed: | L8: Revision date: | M8: 45777 | AD8: 3 | AE8: C | AF8: Mostly ineffective | AG8: III
H9: Date: | L9: Document revision no. | M9: 2 | AD9: 4 | AE9: D | AF9: None | AG9: IV
A10: Refer to Occupational Health and Safety Risk assessment procedure 32-520 | AD10: 5 | AE10: E
A11: List activity | B11: Hazard Identification | C11: Risk Nr | D11: Associated risk | E11: What are the possible consequences? | F11: Existing Controls | J11: Risk Priority Rating | L11: Control Owner | M11: Legal and Other Requirements | AD11: 6
A12: List specific activities to be performed taking into consideration the equipment to be used, the personnel involved in the task. | B12: Anything with potential to cause of harm. Note: A hazard can pose more than one risk. | C12: # | D12: A chance that injury , ill health or damage could occur as a result of uncontrolled hazard. | E12: Consider the worse case scenario without controls? | F12: Include: - Preventative Controls (controls implemented to eliminate hazards or reduce the likelihood of the risk occurring), and - Reactive Controls (controls implemented to reduce the immediate impact of the risk occurring) Elimination Substitution Engineering controls Administrative controls Personal protective equipment (PPE) | G12: Consequence | H12: Likelihood | K12: RCE Risk Control Effectiveness | L12: Person allocated the responsibility for implementing the agreed controls | M12: Where relevant, list the relevant legislative and or Eskom requirements that prescribe the control. | S12: Consequences | T12: 6 | U12: III | V12: II | W12: I | X12: I | Y12: I
T13: 5 | U13: III | V13: II | W13: II | X13: I | Y13: I
T14: 4 | U14: IV | V14: III | W14: II | X14: I | Y14: I
T15: 3 | U15: IV | V15: III | W15: II | X15: II | Y15: I
T16: 2 | U16: IV | V16: IV | W16: III | X16: II | Y16: II
T17: 1 | U17: IV | V17: IV | W17: III | X17: III | Y17: III
U18: A | V18: B | W18: C | X18: D | Y18: E
U19: Likelihood

Sheet COVID 19
A1: COVID-19 RISK ASSESSMENT
A2: Business/Operating unit: | B2: Telecommunications | E2: Contract: | F2: Design, supply, delivery, installation, commissioning, maintenance, support and training of an Environmental Alarm System (EAS) solution | I2: Next Review | J2: 05/09/2026 | K2: Template identifier: | L2: 240-70044600
A4: Date: | B4: 05/09/2024 | E4: Compiled by | F4: Masego Msibi Thulani Mkhwanazi David Thakadu Nombulelo Mbatha | G4: Authorised by | H4: Name: Thulani Mkhwanazi | K4: Document identifier | L4: 240-169184548
H5: Designation: Contracts Manager | K5: Revision number: | L5: 5
H6: Signed: | K6: Revision date: | L6: 45777
H7: Date: | K7: Document revision no. | L7: 2
A8: Refer to Occupational Health and Safety Risk assessment procedure 32-520
A9: List activity | B9: Hazard Identification | C9: Associated risk | D9: Risk type | E9: What are the possible consequences? | F9: Existing Controls | I9: Risk Priority Rating | K9: Control Owner | L9: Legal and Other Requirements
A10: List specific activities to be performed taking into consideration the equipment to be used, the personnel involved in the task. | B10: Anything with potential to cause of harm. Note: A hazard can pose more than one risk. | C10: A chance that injury , ill health or damage could occur as a result of uncontrolled hazard. | D10: Safety or health | E10: Consider the worse case scenario without controls? | F10: Include: - Preventative Controls (controls implemented to eliminate hazards or reduce the likelihood of the risk occurring), and - Reactive Controls (controls implemented to reduce the immediate impact of the risk occurring) Elimination Substitution Engineering controls Administrative controls Personal protective equipment (PPE) | G10: Consequence | H10: Likelihood | J10: RCE Risk Control Effectiveness | K10: Person allocated the responsibility for implementing the agreed controls | L10: Where relevant, list the relevant legislative and or Eskom requirements that prescribe the control.
A11: Access Control | B11: Any person infected with COVID-19 | C11: Contracting COVID-19 through contact with infected droplets | D11: Health | E11: 1. Local transmission of the virus to exposed employees causing lost time or fatality/ies 2. All persons that are affected being isolated. 3. Positive COVID-19 cases. | F11: Administrative - Contractor Management - OHS Specification, Supplier evalution during Tender & contract execution, to ensure compliance to specific requirements | G11: 5 | H11: D | I11: I | J11: Mostly effective | K11: Telecommunication and Contractor | L11: 1. Occupational Health and Safety Act: Hazardous Biological Agents Regulations 2. Directive: Consolidated COVID-19 Direction on Occupational Health and Safety Measures in Certain Workplaces GNR 1031 of October 2020
B12: Objects and surfaces contaminated with COVID-19, e.g. Unhygienic biometric units | C12: Contracting COVID-19 through touching surfaces/objects with contaminated droplets from an infected person while conducting work activities | D12: Health | E12: 1. Local transmission of the virus to exposed employees causing lost time or fatality/ies 2. All employees that are affected being isolated. 3. Positive COVID-19 cases. | F12: Administrative - Contractor Management - OHS Specification, Supplier evalution during Tender & contract execution, to ensure compliance to specific requirements | G12: 6 | H12: D | I12: I | J12: Mostly effective | K12: COVID-19 Compliance Officers | L12: 1. Occupational Health and Safety Act: Hazardous Biological Agents Regulations 2. Directive: Consolidated COVID-19 Direction on Occupational Health and Safety Measures in Certain Workplaces GNR 1031 of October 2020
A13: Alcohol Breathalyser Testing | B13: Infected employee and breathalyser contaminated with COVID-19. | C13: Contracting COVID-19 when using a contaminated breathalyser | D13: Health | E13: 1. Local transmission of the virus to exposed employees causing lost time or fatality/ies 2. All employees that are affected being isolated. 3. Positive COVID-19 cases. | F13: Administrative - Contractor Management - OHS Specification, Supplier evalution during Tender & contract execution, to ensure compliance to specific requirements | G13: 7 | H13: D | I13: I | J13: Mostly effective | K13: COVID-19 Compliance Officers | L13: 1. Occupational Health and Safety Act: Hazardous Biological Agents Regulations 2. Directive: Consolidated COVID-19 Direction on Occupational Health and Safety Measures in Certain Workplaces GNR 1031 of October 2020
A14: Employees conducting work and being exposed to contaminated objects and surfaces from an infected person (workplace surfaces, printers, desk, door handles, etc.) | B14: Contaminated objects and surfaces with COVID-19. | C14: Contract COVID-19 from contaminated objects and surfaces | D14: Health | E14: 1. Local transmission of the virus to exposed employees causing lost time or fatality/ies 2. All employees that are affected being isolated. 3. Positive COVID-19 cases. | F14: Administrative - Contractor Management - OHS Specification, Supplier evalution during Tender & contract execution, to ensure compliance to specific requirements | G14: 8 | H14: D | I14: I | J14: Mostly effective | K14: COVID-19 Compliance Officers | L14: 1. Occupational Health and Safety Act: Hazardous Biological Agents Regulations 2. Directive: Consolidated COVID-19 Direction on Occupational Health and Safety Measures in Certain Workplaces GNR 1031 of October 2020
A15: Employees conducting work and having poor hygiene practices (Not washing or sanitizing of hands frequently, touching faces, touching possible contaminated surfaces and not washing/sanitizing hands thereafter, not disinfecting workspace) | B15: Poor hygiene practices | C15: Contracting COVID-19 from contaminated surfaces due to poor hygiene practices | D15: Health | E15: 1. Local transmission of the virus to exposed employees causing lost time or fatality/ies 2. All employees that are affected being isolated. 3. Positive COVID-19 cases. | F15: Administrative - Contractor Management - OHS Specification, Supplier evalution during Tender & contract execution, to ensure compliance to specific requirements | G15: 9 | H15: D | I15: I | J15: Mostly effective | K15: COVID-19 Compliance Officers | L15: 1. Occupational Health and Safety Act: Hazardous Biological Agents Regulations 2. Directive: Consolidated COVID-19 Direction on Occupational Health and Safety Measures in Certain Workplaces GNR 1031 of October 2020
A16: Employee's health and wellness when conducting their normal duties | B16: Infected employee and objects contaminated with COVID-19. | C16: Employees having flu-like symptoms or other medical conditions due to having been in contact with Symptomatic, Asymptomatic, or with people that have travelled to high risk areas or positive COVID-19 case. | D16: Health | E16: 1. Local transmission of the virus to exposed employees causing lost time or fatality/ies 2. All employees that are affected being isolated. 3. Positive COVID-19 cases. | F16: Administrative - Contractor Management - OHS Specification, Supplier evalution during Tender & contract execution, to ensure compliance to specific requirements | G16: 10 | H16: D | I16: I | J16: Mostly effective | K16: COVID-19 Compliance Officers | L16: 1. Occupational Health and Safety Act: Hazardous Biological Agents Regulations 2. Directive: Consolidated COVID-19 Direction on Occupational Health and Safety Measures in Certain Workplaces GNR 1031 of October 2020
A17: Employees diagnosed with COVID-19. | B17: Infected employee and objects contaminated with COVID-19. | C17: Employees testing positive after being in contact with infected people, or having travelled to high risk areas. | D17: Health | E17: 1. Local transmission of the virus to exposed employees causing lost time or fatality/ies 2. All employees that are affected being isolated. 3. Positive COVID-19 cases. | F17: Administrative - Contractor Management - OHS Specification, Supplier evalution during Tender & contract execution, to ensure compliance to specific requirements | G17: 11 | H17: D | I17: I | J17: Mostly effective | K17: COVID-19 Compliance Officers | L17: 1. Occupational Health and Safety Act: Hazardous Biological Agents Regulations 2. Directive: Consolidated COVID-19 Direction on Occupational Health and Safety Measures in Certain Workplaces GNR 1031 of October 2020
A18: Employees travelling together on Eskom business (in pool, scheme or hired vehicles) | B18: Infected employee and surfaces contaminated with COVID-19. | C18: 1. Close contact between employees whilst travelling poses a risk of COVID-19 transfer as the virus spreads through Asymptomatic Persons as well. 2. Contract COVID-19 from contaminated vehicle surfaces. | D18: Health | E18: 1. Local transmission of the virus to exposed employees causing lost time or fatality/ies 2. All employees that are affected being isolated. 3. Positive COVID-19 cases. | F18: Administrative - Contractor Management - OHS Specification, Supplier evalution during Tender & contract execution, to ensure compliance to specific requirements | G18: 12 | H18: D | I18: I | J18: Mostly effective | K18: COVID-19 Compliance Officers | L18: 1. Occupational Health and Safety Act: Hazardous Biological Agents Regulations 2. Directive: Consolidated COVID-19 Direction on Occupational Health and Safety Measures in Certain Workplaces GNR 1031 of October 2020
A19: Employees using Public Transportation (Taxi's & Buses) | B19: Infected employee and surfaces contaminated with COVID-19. | C19: Contracting COVID-19 from contaminated vehicle surfaces | D19: Health | E19: 1. Local transmission of the virus to exposed employees causing lost time or fatality/ies 2. All employees that are affected being isolated. 3. Positive COVID-19 cases. | F19: Administrative - Contractor Management - OHS Specification, Supplier evalution during Tender & contract execution, to ensure compliance to specific requirements | G19: 13 | H19: D | I19: I | J19: Mostly effective | K19: COVID-19 Compliance Officers | L19: 1. Occupational Health and Safety Act: Hazardous Biological Agents Regulations 2. Directive: Consolidated COVID-19 Direction on Occupational Health and Safety Measures in Certain Workplaces GNR 1031 of October 2020
A20: Sleeping over using guest accommodation during COVID-19 | B20: 1) Infected hotel staff and fellow lodgers 2) Contaminated surfaces with COVID-19. | C20: 1. Contracting COVID-19 from contact with infected person(s) or contaminated surfaces / clothing / bedding. | D20: Health | E20: 1. Local transmission of the virus to exposed employees causing lost time or fatality/ies 2. All employees that are affected being isolated. 3. Positive COVID-19 cases. | F20: Administrative - Contractor Management - OHS Specification, Supplier evalution during Tender & contract execution, to ensure compliance to specific requirements | G20: 14 | H20: D | I20: I | J20: Mostly effective | K20: COVID-19 Compliance Officers | L20: 1. Occupational Health and Safety Act: Hazardous Biological Agents Regulations 2. Directive: Consolidated COVID-19 Direction on Occupational Health and Safety Measures in Certain Workplaces GNR 1031 of October 2020
A21: Social Interactions during tea breaks/work breaks | B21: Infected employee and objects contaminated with COVID-19. | C21: Contracting COVID-19 due to employees, contractors or visitors not following social distancing protocols when having social interactions during tea or work breaks. | D21: Health | E21: 1. Local transmission of the virus to exposed employees causing lost time or fatality/ies 2. All employees that are affected being isolated. 3. Positive COVID-19 cases. | F21: Administrative - Contractor Management - OHS Specification, Supplier evalution during Tender & contract execution, to ensure compliance to specific requirements | G21: 15 | H21: D | I21: I | J21: Mostly effective | K21: COVID-19 Compliance Officers | L21: 1. Occupational Health and Safety Act: Hazardous Biological Agents Regulations 2. Directive: Consolidated COVID-19 Direction on Occupational Health and Safety Measures in Certain Workplaces GNR 1031 of October 2020
A22: Face-to-Face Meetings | B22: Coming into contact with infected persons, contaminated object or surfaces. | C22: Contracting COVID-19 due to contact with contaminated surfaces and exposure to an infected person. | D22: Health | E22: 1. Local transmission of the virus to exposed employees causing lost time or fatality/ies 2. All employees that are affected being isolated. 3. Positive COVID-19 cases. | F22: Administrative - Contractor Management - OHS Specification, Supplier evalution during Tender & contract execution, to ensure compliance to specific requirements | G22: 16 | H22: D | I22: I | J22: Mostly effective | K22: COVID-19 Compliance Officers | L22: 1. Occupational Health and Safety Act: Hazardous Biological Agents Regulations 2. Directive: Consolidated COVID-19 Direction on Occupational Health and Safety Measures in Certain Workplaces GNR 1031 of October 2020
A23: Working at Offices where there is no running water (temporarily) | B23: Unavailability of running water. | C23: 1. Increased risk for contracting COVID-19 | D23: Health | E23: 1. Local transmission of the virus to exposed employees causing lost time or fatality/ies 2. All employees that are affected being isolated. 3. Positive COVID-19 cases. | F23: Administrative - Contractor Management - OHS Specification, Supplier evalution during Tender & contract execution, to ensure compliance to specific requirements | G23: 17 | H23: D | I23: I | J23: Mostly effective | K23: COVID-19 Compliance Officers | L23: 1. Occupational Health and Safety Act: Hazardous Biological Agents Regulations 2. Directive: Consolidated COVID-19 Direction on Occupational Health and Safety Measures in Certain Workplaces GNR 1031 of October 2020
B26: Eskom’s OHS Manager / Senior Advisor | D26: Eskom’s Contract Custodian
B27: Masego Msibi | D27: Wicus Van Aswegen
B30: Signature | D30: Signature
B33: Date | D33: Date

Sheet Office & SurroundingEnvironment
A3: Occupational Health and Safety Baseline risk assessment template
A4: Business/Operating unit: | B4: Telecommunications | E4: Contract: | H4: Design, supply, delivery, installation, commissioning, maintenance, support and training of an Environmental Alarm System (EAS) solution | J4: Next Review Date (every 2 years): | K4: 05/09/2026 | L4: Template identifier: | M4: 240-70044602
A6: Date: | B6: 05/09/2024 | E6: Prepared by | F6: Masego Msibi Thulani Mkhwanazi David Thakadu | G6: Authorised by: | H6: Name: Thulani Mkhwanazi | L6: Document identifier | M6: 240-169184548 | AB6: R | AC6: Safety | AD6: 1 | AE6: A | AF6: Fully effective | AG6: I
H7: Designation: Contracts Manager | L7: Revision number: | M7: 5 | AB7: N | AC7: Health | AD7: 2 | AE7: B | AF7: Mostly effective | AG7: II
H8: Signed: | L8: Revision date: | M8: 45777 | AD8: 3 | AE8: C | AF8: Mostly ineffective | AG8: III
H9: Date: | L9: Document revision no. | M9: 2 | AD9: 4 | AE9: D | AF9: None | AG9: IV
A10: Refer to Occupational Health and Safety Risk assessment procedure 32-520 | AD10: 5 | AE10: E
A11: List activity | B11: Hazard Identification | C11: Associated risk | D11: Risk type | E11: What are the possible consequences? | F11: Existing Controls | J11: Risk Priority Rating | L11: Control Owner | M11: Legal and Other Requirements | AD11: 6
A12: List specific activities to be performed taking into consideration the equipment to be used, the personnel involved in the task. | B12: Anything with potential to cause of harm. Note: A hazard can pose more than one risk. | C12: A chance that injury , ill health or damage could occur as a result of uncontrolled hazard. | D12: Safety or health | E12: Consider the worse case scenario without controls? | F12: Include: - Preventative Controls (controls implemented to eliminate hazards or reduce the likelihood of the risk occurring), and - Reactive Controls (controls implemented to reduce the immediate impact of the risk occurring) Elimination Substitution Engineering controls Administrative controls Personal protective equipment (PPE) | G12: Consequence | H12: Likelihood | K12: RCE Risk Control Effectiveness | L12: Person allocated the responsibility for implementing the agreed controls | M12: Where relevant, list the relevant legislative and or Eskom requirements that prescribe the control. | S12: Consequences | T12: 6 | U12: III | V12: II | W12: I | X12: I | Y12: I
A13: Working in close proximity to co-workers who may have infectious or communicable diseases | B13: Exposure to Hazardous Biological Agents | C13: Possibility of contracting communicable diseases such as resistant TB, | D13: Health | E13: Possible Ilness, or Fatality | F13: Administrative - Contractor Management - OHS Specification, Supplier evalution during Tender & contract execution, to ensure compliance to specific requirements | G13: 2 | H13: A | I13: =CONCATENATE(G13,H13) -> 2A | J13: =IF(OR(ISBLANK(G13),ISBLANK(H13))," ",VLOOKUP(I13,'Risk matrix'!$A$26:$B$55,2,FALSE)) -> IV | K13: Fully effective | L13: Telecommunication and Contractor | M13: Referenced under column A. available on request
B14: Exposure to communicable diseases | C14: Possibility of contracting diseases through contact, such as cholera, Hepatitis A | D14: Health | E14: Possible Ilness, or Fatality | F14: Administrative - Contractor Management - OHS Specification, Supplier evalution during Tender & contract execution, to ensure compliance to specific requirements | G14: 2 | H14: B | I14: =CONCATENATE(G14,H14) -> 2B | J14: =IF(OR(ISBLANK(G14),ISBLANK(H14))," ",VLOOKUP(I14,'Risk matrix'!$A$26:$B$55,2,FALSE)) -> IV | K14: Fully effective | L14: Telecommunication and Contractor | M14: Referenced under column A. available on request
A15: Walking or driving around the office | B15: Panels falling from roof around the building | C15: Panels falling on an individual | D15: Safety | E15: Possible minor or major Injury or fatality | F15: Administrative - Contractor Management - OHS Specification, Supplier evalution during Tender & contract execution, to ensure compliance to specific requirements | G15: 2 | H15: A | I15: =CONCATENATE(G15,H15) -> 2A | J15: =IF(OR(ISBLANK(G15),ISBLANK(H15))," ",VLOOKUP(I15,'Risk matrix'!$A$26:$B$55,2,FALSE)) -> IV | K15: Fully effective | L15: Telecommunication and Contractor | M15: Referenced under column A. available on request
B16: bad driving in the complex | C16: Possible Collision | D16: Safety | E16: Possible minor or major Injury | F16: Administrative - Contractor Management - OHS Specification, Supplier evalution during Tender & contract execution, to ensure compliance to specific requirements | G16: 2 | H16: B | I16: =CONCATENATE(G16,H16) -> 2B | J16: =IF(OR(ISBLANK(G16),ISBLANK(H16))," ",VLOOKUP(I16,'Risk matrix'!$A$26:$B$55,2,FALSE)) -> IV | K16: Fully effective | L16: Telecommunication and Contractor | M16: Referenced under column A. available on request
B17: Exposure to hazards associated with working in close proximity to the Lake and non maintenance of storm water drains | C17: Possible flooding during heavy rains | D17: Safety | E17: Possible minor or major Injury or fatality | F17: Administrative - Contractor Management - OHS Specification, Supplier evalution during Tender & contract execution, to ensure compliance to specific requirements | G17: 3 | H17: B | I17: =CONCATENATE(G17,H17) -> 3B | J17: =IF(OR(ISBLANK(G17),ISBLANK(H17))," ",VLOOKUP(I17,'Risk matrix'!$A$26:$B$55,2,FALSE)) -> III | K17: Mostly effective | L17: Telecommunication and Contractor | M17: Referenced under column A. available on request
B18: Exposure to hazards associated withWorking in the vicinity of petrol stations | C18: Possible explosion and fire | D18: Safety | E18: Possible minor or major Injury or fatality | F18: Administrative - Contractor Management - OHS Specification, Supplier evalution during Tender & contract execution, to ensure compliance to specific requirements | G18: 4 | H18: B | I18: =CONCATENATE(G18,H18) -> 4B | J18: =IF(OR(ISBLANK(G18),ISBLANK(H18))," ",VLOOKUP(I18,'Risk matrix'!$A$26:$B$55,2,FALSE)) -> III | K18: Mostly effective | L18: Telecommunication and Contractor | M18: Referenced under column A. available on request
B19: Exposure to hazards associated withSituated in an area where there were mining activities | C19: Possible occurrence of Earth tremors which may escalate to Earthquakes | D19: Safety | E19: Possible minor or major Injury or fatality | F19: Administrative - Contractor Management - OHS Specification, Supplier evalution during Tender & contract execution, to ensure compliance to specific requirements | G19: 4 | H19: B | I19: =CONCATENATE(G19,H19) -> 4B | J19: =IF(OR(ISBLANK(G19),ISBLANK(H19))," ",VLOOKUP(I19,'Risk matrix'!$A$26:$B$55,2,FALSE)) -> III | K19: Mostly effective | L19: Telecommunication and Contractor | M19: Referenced under column A. available on request
B20: Exposure to hazards associated withHelicopter landing on a non demarcated area | C20: Helicopter or aircraft crashing | D20: Safety | E20: Possible minor or major Injury or fatality | F20: Administrative - Contractor Management - OHS Specification, Supplier evalution during Tender & contract execution, to ensure compliance to specific requirements | G20: 3 | H20: B | I20: =CONCATENATE(G20,H20) -> 3B | J20: =IF(OR(ISBLANK(G20),ISBLANK(H20))," ",VLOOKUP(I20,'Risk matrix'!$A$26:$B$55,2,FALSE)) -> III | K20: Mostly effective | L20: Telecommunication and Contractor | M20: Referenced under column A. available on request
B21: Exposure to hazards associated withLocated at a close radius to Gas production companies | C21: Possible Explosion of flammable acetylene, Ammonium nitrate, | D21: Safety | E21: Possible minor or major Injury or fatality | F21: Administrative - Contractor Management - OHS Specification, Supplier evalution during Tender & contract execution, to ensure compliance to specific requirements | G21: 3 | H21: B | I21: =CONCATENATE(G21,H21) -> 3B | J21: =IF(OR(ISBLANK(G21),ISBLANK(H21))," ",VLOOKUP(I21,'Risk matrix'!$A$26:$B$55,2,FALSE)) -> III | K21: Mostly effective | L21: Telecommunication and Contractor | M21: Referenced under column A. available on request
C22: rupture of tank, pipes and cylinders | D22: Safety | E22: Possible minor or major Injury or fatality | F22: Administrative - Contractor Management - OHS Specification, Supplier evalution during Tender & contract execution, to ensure compliance to specific requirements | G22: 4 | H22: B | I22: =CONCATENATE(G22,H22) -> 4B | J22: =IF(OR(ISBLANK(G22),ISBLANK(H22))," ",VLOOKUP(I22,'Risk matrix'!$A$26:$B$55,2,FALSE)) -> III | K22: Mostly effective | L22: Telecommunication and Contractor | M22: Referenced under column A. available on request
B23: Exposure to hazards associated withActions and Conditions leading to fire | C23: Possible burns | D23: Safety | E23: Possible minor or major Injury or fatality | F23: Administrative - Contractor Management - OHS Specification, Supplier evalution during Tender & contract execution, to ensure compliance to specific requirements | G23: 3 | H23: B | I23: =CONCATENATE(G23,H23) -> 3B | J23: =IF(OR(ISBLANK(G23),ISBLANK(H23))," ",VLOOKUP(I23,'Risk matrix'!$A$26:$B$55,2,FALSE)) -> III | K23: Mostly effective | L23: Telecommunication and Contractor | M23: Referenced under column A. available on request
B24: Actions and Conditions leading to Explosion | C24: Possible explosion | D24: Safety | E24: Possible minor or major Injury or fatality | F24: Administrative - Contractor Management - OHS Specification, Supplier evalution during Tender & contract execution, to ensure compliance to specific requirements | G24: 3 | H24: B | I24: =CONCATENATE(G24,H24) -> 3B | J24: =IF(OR(ISBLANK(G24),ISBLANK(H24))," ",VLOOKUP(I24,'Risk matrix'!$A$26:$B$55,2,FALSE)) -> III | K24: Mostly effective | L24: Telecommunication and Contractor | M24: Referenced under column A. available on request
B25: Exposure to hazards associated with being situated in close proximity to a light aircraft airport | C25: Aircraft Crash | D25: Safety | E25: Possible minor or major Injury or fatality | F25: Administrative - Contractor Management - OHS Specification, Supplier evalution during Tender & contract execution, to ensure compliance to specific requirements | G25: 3 | H25: B | I25: =CONCATENATE(G25,H25) -> 3B | J25: =IF(OR(ISBLANK(G25),ISBLANK(H25))," ",VLOOKUP(I25,'Risk matrix'!$A$26:$B$55,2,FALSE)) -> III | K25: Mostly effective | L25: Telecommunication and Contractor | M25: Referenced under column A. available on request
I26: =CONCATENATE(G26,H26) | J26: =IF(OR(ISBLANK(G26),ISBLANK(H26))," ",VLOOKUP(I26,'Risk matrix'!$A$26:$B$55,2,FALSE))
I27: =CONCATENATE(G27,H27) | J27: =IF(OR(ISBLANK(G27),ISBLANK(H27))," ",VLOOKUP(I27,'Risk matrix'!$A$26:$B$55,2,FALSE))
I28: =CONCATENATE(G28,H28) | J28: =IF(OR(ISBLANK(G28),ISBLANK(H28))," ",VLOOKUP(I28,'Risk matrix'!$A$26:$B$55,2,FALSE))
I29: =CONCATENATE(G29,H29) | J29: =IF(OR(ISBLANK(G29),ISBLANK(H29))," ",VLOOKUP(I29,'Risk matrix'!$A$26:$B$55,2,FALSE))
I30: =CONCATENATE(G30,H30) | J30: =IF(OR(ISBLANK(G30),ISBLANK(H30))," ",VLOOKUP(I30,'Risk matrix'!$A$26:$B$55,2,FALSE))
C31: Eskom’s SHEQ Officer | E31: Eskom’s Contract Custodian | I31: =CONCATENATE(G31,H31) | J31: =IF(OR(ISBLANK(G31),ISBLANK(H31))," ",VLOOKUP(I31,'Risk matrix'!$A$26:$B$55,2,FALSE))
C32: Eustacia Makhubele | E32: Wicus Van Aswegen | I32: =CONCATENATE(G32,H32) | J32: =IF(OR(ISBLANK(G32),ISBLANK(H32))," ",VLOOKUP(I32,'Risk matrix'!$A$26:$B$55,2,FALSE))
I33: =CONCATENATE(G33,H33) | J33: =IF(OR(ISBLANK(G33),ISBLANK(H33))," ",VLOOKUP(I33,'Risk matrix'!$A$26:$B$55,2,FALSE))
I34: =CONCATENATE(G34,H34) | J34: =IF(OR(ISBLANK(G34),ISBLANK(H34))," ",VLOOKUP(I34,'Risk matrix'!$A$26:$B$55,2,FALSE))
C35: Signature | E35: Signature | I35: =CONCATENATE(G35,H35) | J35: =IF(OR(ISBLANK(G35),ISBLANK(H35))," ",VLOOKUP(I35,'Risk matrix'!$A$26:$B$55,2,FALSE))
I36: =CONCATENATE(G36,H36) | J36: =IF(OR(ISBLANK(G36),ISBLANK(H36))," ",VLOOKUP(I36,'Risk matrix'!$A$26:$B$55,2,FALSE))
C38: Date | E38: Date

Sheet RS SS PS
A1: Occupational Health and Safety Baseline risk assessment template
A2: Business/Operating unit: | B2: Telecommunications | E2: Contract | F2: Design, supply, delivery, installation, commissioning, maintenance, support and training of an Environmental Alarm System (EAS) solution | H2: Next Review Date (every 2 years): | I2: Next Review Date (every 2 years): | J2: 05/09/2026 | K2: Template identifier: | L2: 240-70044598
A4: Date: | B4: 05/09/2024 | E4: Compiled by | F4: Masego Msibi | G4: Authorised by: | H4: Name: Thulani Mkhwanazi | L4: Document identifier | M4: 240-169184548
F5: Thulani Mkhwanazi | H5: Designation:Contracts Manager | L5: Revision number: | M5: 5
F6: David Thakadu | H6: Signed: | L6: Revision date: | M6: 45777
H7: Date: | L7: Document revision no. | M7: 2
A8: Refer to Occupational Health and Safety Risk assessment procedure 32-520
A9: List activity | B9: Hazard Identification | C9: Associated risk | D9: Risk type | E9: What are the possible consequences? | F9: Existing Controls | J9: Risk Priority Rating | L9: Control Owner | M9: Legal and Other Requirements
A10: List specific activities to be performed taking into consideration the equipment to be used, the personnel involved in the task. | B10: Anything with potential to cause of harm. Note: A hazard can pose more than one risk. | C10: A chance that injury , ill health or damage could occur as a result of uncontrolled hazard. | D10: Safety or health | E10: Consider the worse case scenario without controls? | F10: Include: - Preventative Controls (controls implemented to eliminate hazards or reduce the likelihood of the risk occurring), and - Reactive Controls (controls implemented to reduce the immediate impact of the risk occurring) Elimination Substitution Engineering controls Administrative controls Personal protective equipment (PPE) | G10: Consequence | H10: Likelihood | K10: RCE Risk Control Effectiveness | L10: Person allocated the responsibility for implementing the agreed controls | M10: Where relevant, list the relevant legislative and or Eskom requirements that prescribe the control.
A11: Site Access & Security | B11: Actions and Conditions leading to Hijacking, kidnapping, robbery, assault, rape | C11: Possible assault, rape, stress, trauma, being shot | D11: Safety | E11: Possible Injury or fatality | F11: Administrative - Contractor Management - OHS Specification, Supplier evalution during Tender & contract execution, to ensure compliance to specific requirements | G11: 4 | H11: B | I11: =CONCATENATE(G11,H11) -> 4B | J11: =IF(OR(ISBLANK(G11),ISBLANK(H11))," ",VLOOKUP(I11,'[2]Risk matrix'!$A$26:$B$55,2,FALSE)) -> III | K11: Mostly effective | L11: Telecommunications & Contractor | M11: Site access procedure (ETPR 0578), Incident Management Procedure (32-95)ISO 45001(4.3.1,4.5.3)
B12: Poor Road Conditions | C12: Vehicle losing control | D12: Safety | E12: Possible MVA which may lead to injury or fatality | F12: Administrative - Contractor Management - OHS Specification, Supplier evalution during Tender & contract execution, to ensure compliance to specific requirements | G12: 3 | H12: B | I12: =CONCATENATE(G12,H12) -> 3B | J12: =IF(OR(ISBLANK(G12),ISBLANK(H12))," ",VLOOKUP(I12,'[2]Risk matrix'!$A$26:$B$55,2,FALSE)) -> III | K12: Mostly effective | L12: Telecommunications & Contractor | M12: Line 32.3, 32-520, Safe travelling procedure 240-62946386; ISO 45001(4.3.1,4.5.3)
B13: Exposure to Raptors/Insects/Reptiles | C13: Possible venomous, bites and stings | D13: Safety | E13: Possible poisonous bites and stings which may lead to Occupational illness or fatality | F13: Administrative - Contractor Management - OHS Specification, Supplier evalution during Tender & contract execution, to ensure compliance to specific requirements | G13: 4 | H13: B | I13: =CONCATENATE(G13,H13) -> 4B | J13: =IF(OR(ISBLANK(G13),ISBLANK(H13))," ",VLOOKUP(I13,'[2]Risk matrix'!$A$26:$B$55,2,FALSE)) -> III | K13: Mostly effective | L13: Telecommunications & Contractor | M13: Emergency Plan in case of bees, wasps and tick stings (240-102888502); ISO 45001(4.3.1,4.5.3)
B14: Actions and conditions leading to Veld Fires | C14: Possible burns or Smoke Inhalation | D14: Safety | E14: Possible Injury or fatality | F14: Administrative - Contractor Management - OHS Specification, Supplier evalution during Tender & contract execution, to ensure compliance to specific requirements | G14: 4 | H14: B | I14: =CONCATENATE(G14,H14) -> 4B | J14: =IF(OR(ISBLANK(G14),ISBLANK(H14))," ",VLOOKUP(I14,'[2]Risk matrix'!$A$26:$B$55,2,FALSE)) -> III | K14: Mostly effective | L14: Telecommunications & Contractor | M14: Emergency Preparedness Procedure 32-123 ; ISO 45001(4.3.1,4.4.6)
B15: Actions and conditions leading to Vandalism | C15: Theft, vandalism, public injury | D15: Safety | E15: Possible public injury or Damage to Property | F15: Administrative - Contractor Management - OHS Specification, Supplier evalution during Tender & contract execution, to ensure compliance to specific requirements | G15: 2 | H15: A | I15: =CONCATENATE(G15,H15) -> 2A | J15: =IF(OR(ISBLANK(G15),ISBLANK(H15))," ",VLOOKUP(I15,'[2]Risk matrix'!$A$26:$B$55,2,FALSE)) -> IV | K15: Fully effective | L15: Telecommunications & Contractor | M15: , Site access Procedure (ETPR0578), Incident Management Procedure ETPR0737
C19: Eskom’s SHEQ Officer | E19: Eskom’s Contract Custodian
C20: Eustacia Makhubele | E20: Wicus Van Aswegen
C23: Signature | E23: Signature
C26: Date | E26: Date

Sheet Road 
A3: Occupational Health and Safety Baseline risk assessment template
A4: Business/Operating unit: | B4: Telecommunications | E4: Contract: | H4: Design, supply, delivery, installation, commissioning, maintenance, support and training of an Environmental Alarm System (EAS) solution | J4: Next Review Date (every 2 years): | K4: 05/09/2026 | L4: Template identifier: | M4: 240-70044602
A6: Date: | B6: 17/08/2025 | E6: Prepared By | F6: Masego Msibi Thulani Mkhwanazi David Thakadu | G6: Authorised by: | H6: Name: Thulani Mkhwanazi | L6: Document identifier | M6: 240-169184548 | AB6: R | AC6: Safety | AD6: 1 | AE6: A | AF6: Fully effective | AG6: I
H7: Designation: Contracts Manager | L7: Revision number: | M7: 5 | AB7: N | AC7: Health | AD7: 2 | AE7: B | AF7: Mostly effective | AG7: II
H8: Signed: | L8: Revision date: | M8: 45777 | AD8: 3 | AE8: C | AF8: Mostly ineffective | AG8: III
H9: Date: | L9: Document revision no. | M9: 2 | AD9: 4 | AE9: D | AF9: None | AG9: IV
A10: Refer to Occupational Health and Safety Risk assessment procedure 32-520 | AD10: 5 | AE10: E
A11: List activity | B11: Hazard Identification | C11: Associated risk | D11: Risk type | E11: What are the possible consequences? | F11: Existing Controls | J11: Risk Priority Rating | L11: Control Owner | M11: Legal and Other Requirements | AD11: 6
A12: List specific activities to be performed taking into consideration the equipment to be used, the personnel involved in the task. | B12: Anything with potential to cause of harm. Note: A hazard can pose more than one risk. | C12: A chance that injury , ill health or damage could occur as a result of uncontrolled hazard. | D12: Safety or health | E12: Consider the worse case scenario without controls? | F12: Include: - Preventative Controls (controls implemented to eliminate hazards or reduce the likelihood of the risk occurring), and - Reactive Controls (controls implemented to reduce the immediate impact of the risk occurring) Elimination Substitution Engineering controls Administrative controls Personal protective equipment (PPE) | G12: Consequence | H12: Likelihood | K12: RCE Risk Control Effectiveness | L12: Person allocated the responsibility for implementing the agreed controls | M12: Where relevant, list the relevant legislative and or Eskom requirements that prescribe the control. | S12: Consequences | T12: 6 | U12: III | V12: II | W12: I | X12: I | Y12: I
A13: Travelling By Road | B13: Fatigue | C13: Falling asleep while driving | D13: Safety | E13: MVA which may lead to injury or fatality | F13: Administrative - Contractor Management - OHS Specification, Supplier evalution during Tender & contract execution, to ensure compliance to specific requirements | G13: 3 | H13: B | I13: =CONCATENATE(G13,H13) -> 3B | J13: =IF(OR(ISBLANK(G13),ISBLANK(H13))," ",VLOOKUP(I13,'Risk matrix'!$A$26:$B$55,2,FALSE)) -> III | K13: Mostly effective | L13: Telecommunication and Contractor | M13: Referenced under column A. available on request | T13: 5 | U13: III | V13: II | W13: II | X13: I | Y13: I
B14: Mechanical failures | C14: Defective Vehicle | D14: Safety | E14: MVA which may lead to injury or fatality | F14: Administrative - Contractor Management - OHS Specification, Supplier evalution during Tender & contract execution, to ensure compliance to specific requirements | G14: 2 | H14: A | I14: =CONCATENATE(G14,H14) -> 2A | J14: =IF(OR(ISBLANK(G14),ISBLANK(H14))," ",VLOOKUP(I14,'Risk matrix'!$A$26:$B$55,2,FALSE)) -> IV | K14: Mostly effective | L14: Telecommunication and Contractor | M14: Referenced under column A. available on request | T14: 4 | U14: IV | V14: III | W14: II | X14: I | Y14: I
B15: Wild/stray animals | C15: Hitting a straying animal | D15: Safety | E15: MVA which may lead to injury or fatality | F15: Administrative - Contractor Management - OHS Specification, Supplier evalution during Tender & contract execution, to ensure compliance to specific requirements | G15: 2 | H15: A | I15: =CONCATENATE(G15,H15) -> 2A | J15: =IF(OR(ISBLANK(G15),ISBLANK(H15))," ",VLOOKUP(I15,'Risk matrix'!$A$26:$B$55,2,FALSE)) -> IV | K15: Mostly effective | L15: Telecommunication and Contractor | M15: Referenced under column A. available on request | T15: 3 | U15: IV | V15: III | W15: II | X15: II | Y15: I
B16: Over speeding | C16: Collision, losing control of the vehicle, unable to stop in time | D16: Safety | E16: MVA which may lead to injury or fatality | F16: Administrative - Contractor Management - OHS Specification, Supplier evalution during Tender & contract execution, to ensure compliance to specific requirements | G16: 4 | H16: B | I16: =CONCATENATE(G16,H16) -> 4B | J16: =IF(OR(ISBLANK(G16),ISBLANK(H16))," ",VLOOKUP(I16,'Risk matrix'!$A$26:$B$55,2,FALSE)) -> III | K16: Mostly effective | L16: Telecommunication and Contractor | M16: Referenced under column A. available on request | T16: 2 | U16: IV | V16: IV | W16: III | X16: II | Y16: II
B17: Exposure to Hijacking/ robbery at site | C17: Possible assault, rape, stress, trauma, being shot | D17: Safety | E17: Vehicle being taken, Possible injury or fatality | F17: Administrative - Contractor Management - OHS Specification, Supplier evalution during Tender & contract execution, to ensure compliance to specific requirements | G17: 3 | H17: B | I17: =CONCATENATE(G17,H17) -> 3B | J17: =IF(OR(ISBLANK(G17),ISBLANK(H17))," ",VLOOKUP(I17,'Risk matrix'!$A$26:$B$55,2,FALSE)) -> III | K17: Mostly effective | L17: Telecommunication and Contractor | M17: Referenced under column A. available on request | T17: 1 | U17: IV | V17: IV | W17: III | X17: III | Y17: III
B18: Poor Road conditions | C18: Possible puncture or damage to the vehicle tyre | D18: Safety | E18: MVA which may lead to injury or fatality | F18: Administrative - Contractor Management - OHS Specification, Supplier evalution during Tender & contract execution, to ensure compliance to specific requirements | G18: 3 | H18: B | I18: =CONCATENATE(G18,H18) -> 3B | J18: =IF(OR(ISBLANK(G18),ISBLANK(H18))," ",VLOOKUP(I18,'Risk matrix'!$A$26:$B$55,2,FALSE)) -> III | K18: Mostly effective | L18: Telecommunication and Contractor | M18: Referenced under column A. available on request | U18: A | V18: B | W18: C | X18: D | Y18: E
B19: Adverse weather conditions (Heavy rain, hail storm, heavy winds, snow) | C19: Hitting vehicle in front or side, Adverse road conditions, hypothermia, | D19: Safety | E19: MVA which may lead to injury or fatality | F19: Administrative - Contractor Management - OHS Specification, Supplier evalution during Tender & contract execution, to ensure compliance to specific requirements | G19: 3 | H19: B | I19: =CONCATENATE(G19,H19) -> 3B | J19: =IF(OR(ISBLANK(G19),ISBLANK(H19))," ",VLOOKUP(I19,'Risk matrix'!$A$26:$B$55,2,FALSE)) -> III | K19: Mostly effective | L19: Telecommunication and Contractor | M19: Referenced under column A. available on request
B20: Pedestrians crossing the road | C20: Hitting a straying animal | D20: Safety | E20: MVA which may lead to injury or fatality including Public | F20: Administrative - Contractor Management - OHS Specification, Supplier evalution during Tender & contract execution, to ensure compliance to specific requirements | G20: 2 | H20: B | I20: =CONCATENATE(G20,H20) -> 2B | J20: =IF(OR(ISBLANK(G20),ISBLANK(H20))," ",VLOOKUP(I20,'Risk matrix'!$A$26:$B$55,2,FALSE)) -> IV | K20: Fully effective | L20: Telecommunication and Contractor | M20: Referenced under column A. available on request
B21: Other negligent road users | C21: Colliding with other vehicles | D21: Safety | E21: possible motor vehicle pile-up (MVA) which may lead to injury or fatality including Public | F21: Administrative - Contractor Management - OHS Specification, Supplier evalution during Tender & contract execution, to ensure compliance to specific requirements | G21: 3 | H21: B | I21: =CONCATENATE(G21,H21) -> 3B | J21: =IF(OR(ISBLANK(G21),ISBLANK(H21))," ",VLOOKUP(I21,'Risk matrix'!$A$26:$B$55,2,FALSE)) -> III | K21: Mostly effective | L21: Telecommunication and Contractor | M21: Referenced under column A. available on request
B22: Unsafe driving | C22: causing an accident (Collision, losing control of vehicles) | D22: Safety | E22: possible motor vehicle pile-up (MVA) which may lead to injury or fatality including Public | F22: Administrative - Contractor Management - OHS Specification, Supplier evalution during Tender & contract execution, to ensure compliance to specific requirements | G22: 3 | H22: B | I22: =CONCATENATE(G22,H22) -> 3B | J22: =IF(OR(ISBLANK(G22),ISBLANK(H22))," ",VLOOKUP(I22,'Risk matrix'!$A$26:$B$55,2,FALSE)) -> III | K22: Mostly effective | L22: Telecommunication and Contractor | M22: Referenced under column A. available on request
B23: Unroadworthy vehicle | C23: Vehicle Breakdown or parts failure | D23: Safety | E23: MVA which may lead to injury or fatality including Public | F23: Administrative - Contractor Management - OHS Specification, Supplier evalution during Tender & contract execution, to ensure compliance to specific requirements | G23: 3 | H23: B | I23: =CONCATENATE(G23,H23) -> 3B | J23: =IF(OR(ISBLANK(G23),ISBLANK(H23))," ",VLOOKUP(I23,'Risk matrix'!$A$26:$B$55,2,FALSE)) -> III | K23: Mostly effective | L23: Telecommunication and Contractor | M23: Referenced under column A. available on request
B24: Road Works | C24: Vehicle Collision | D24: Safety | E24: MVA which may lead to injury or fatality including Public | F24: Administrative - Contractor Management - OHS Specification, Supplier evalution during Tender & contract execution, to ensure compliance to specific requirements | G24: 2 | H24: B | I24: =CONCATENATE(G24,H24) -> 2B | J24: =IF(OR(ISBLANK(G24),ISBLANK(H24))," ",VLOOKUP(I24,'Risk matrix'!$A$26:$B$55,2,FALSE)) -> IV | K24: Fully effective | L24: Telecommunication and Contractor | M24: Referenced under column A. available on request
B25: Travelling in areas where there are protests | C25: Loss of control of the vehicle | D25: Safety | E25: Possible damage to vehicle and/or injury/fatality | F25: Administrative - Contractor Management - OHS Specification, Supplier evalution during Tender & contract execution, to ensure compliance to specific requirements | G25: 3 | H25: B | I25: =CONCATENATE(G25,H25) -> 3B | J25: =IF(OR(ISBLANK(G25),ISBLANK(H25))," ",VLOOKUP(I25,'Risk matrix'!$A$26:$B$55,2,FALSE)) -> III | K25: Mostly effective | L25: Telecommunication and Contractor | M25: Referenced under column A. available on request
B26: Driving below the bridges | C26: Loss of control of the vehicle | D26: Safety | E26: Possible damage to vehicle and/or injury/fatality | F26: Administrative - Contractor Management - OHS Specification, Supplier evalution during Tender & contract execution, to ensure compliance to specific requirements | G26: 4 | H26: B | I26: =CONCATENATE(G26,H26) -> 4B | J26: =IF(OR(ISBLANK(G26),ISBLANK(H26))," ",VLOOKUP(I26,'Risk matrix'!$A$26:$B$55,2,FALSE)) -> III | K26: Mostly effective | L26: Telecommunication and Contractor | M26: Referenced under column A. available on request
B27: Driving across low lying bridges during flash floods | C27: Possibility of being swept away | D27: Safety | E27: Minor or major injury, Fatality | F27: Administrative - Contractor Management - OHS Specification, Supplier evalution during Tender & contract execution, to ensure compliance to specific requirements | G27: 4 | H27: C | I27: =CONCATENATE(G27,H27) -> 4C | J27: =IF(OR(ISBLANK(G27),ISBLANK(H27))," ",VLOOKUP(I27,'Risk matrix'!$A$26:$B$55,2,FALSE)) -> II | K27: Mostly ineffective | L27: Telecommunication and Contractor | M27: Referenced under column A. available on request
A28: Towing | B28: Using incorrect vehicle | C28: Vehicle rolling backwards | D28: Safety | E28: Minor, major injury, Fatality | F28: Administrative - Contractor Management - OHS Specification, Supplier evalution during Tender & contract execution, to ensure compliance to specific requirements | G28: 3 | H28: B | I28: =CONCATENATE(G28,H28) -> 3B | J28: =IF(OR(ISBLANK(G28),ISBLANK(H28))," ",VLOOKUP(I28,'Risk matrix'!$A$26:$B$55,2,FALSE)) -> III | K28: Mostly effective | L28: Telecommunication and Contractor | M28: Referenced under column A. available on request
B29: Unsafe towing practices | C29: Incompetence in towing | D29: Safety | E29: Minor, major injury, Fatality | F29: Administrative - Contractor Management - OHS Specification, Supplier evalution during Tender & contract execution, to ensure compliance to specific requirements | G29: 3 | H29: A | I29: =CONCATENATE(G29,H29) -> 3A | J29: =IF(OR(ISBLANK(G29),ISBLANK(H29))," ",VLOOKUP(I29,'Risk matrix'!$A$26:$B$55,2,FALSE)) -> IV | K29: Fully effective | L29: Telecommunication and Contractor | M29: Referenced under column A. available on request
C34: Eskom’s SHEQ Officer | E34: Eskom’s Contract Custodian
C35: Eustacia Makhubele | E35: Wicus Van Aswegen
C38: Signature | E38: Signature
C41: Date | E41: Date

Sheet BYLAWS
A1: Gauteng

Sheet Consequence rating
C2: Consequence criteria
B3: Consequence rating | C3: Description
C4: Health and Safety
B5: 1 | C5: No injuries or health effects(near misses)
B6: 2 | C6: First-aid treatment case, and temporary discomfort case
B7: 3 | C7: Medical treatment case; occupational disease with reversible/non-permanent effect
B8: 4 | C8: Lost Time Injury. Irreversible health effects/occupational disease with permanent consequence
B9: 5 | C9: Fatality or life threatening health effects
B10: 6 | C10: Multiple fatalities

Sheet Likelihood rating
A2: Likelihood criteria
B3: Score | C3: Descriptor | D3: Safety | E3: Occupational hygiene
E4: Exposure | F4: Probability of exceeding OEL
B5: A | C5: Highly unlikely | D5: § More than a “100 year event” | E5: Rare (once a year) | F5: No exposure (or exposure < 10% of OEL)
D6: § Exceptionally unlikely, even in the long-term future
D7: § < 5% probability.
B8: B | C8: Unlikely | D8: § Could occur in “years to decades” | E8: Short periods of time, a few times per day/ intermittent (once in six months, three months, or a month) | F8: Low exposure (< 50% of OEL)
D9: § May occur but not anticipated
D10: § ≥ 5% and < 20% probability.
B11: C | C11: Possible | D11: § Could occur within “months to years” | E11: Continuous for between one and two hours (often/ weekly) | F11: Moderate exposure (chronic exposure > 50% of OEL or acute exposure ≥ OEL)
D12: § May occur shortly but a distinct probability it will not, or ≥ 20% and < 70% probability.
B13: D | C13: Likely | D13: § Could occur within “weeks to months” | E13: Continuous for between two and four hours (frequent/daily) | F13: High exposure (chronic exposure > OEL, or exposure exceeding OEL-STEL) | I13: gv g
D14: § Balance of probability will occur
D15: § ≥ 70% and < 90% probability.
B16: E | C16: Unavoidable | D16: § Could occur within “days to weeks” | E16: Continuous for eight-hour shift | F16: Very high exposure (chronic exposure > 2 x OEL or exposure exceeding OEL-C)
D17: § Impact is imminent
D18: § ≥ 90% probability.

Sheet Risk control effectiveness
B3: RISK CONTROL EFFECTIVENESS GUIDE
B4: RCE | C4: Guide
B5: Fully effective | C5: Nothing more to be done except review and monitor the existing controls. Controls are well designed for the risk, are largely preventive and address the root causes. Management believes that they are effective and reliable at all times. Reactive controls only support preventive controls.
B6: Mostly effective | C6: Most controls are designed correctly and are in place and effective. Some more work to be done to improve operating effectiveness or management has doubts about operational effectiveness and reliability of the controls.
B7: Mostly ineffective | C7: While the design of controls may be largely correct in that they treat most of the root causes of the risk, they are not currently operationally very effective. There may be an over-reliance on reactive controls, or some of the controls do not seem correctly designed in that they do not treat root causes.
B8: None | C8: Virtually no credible control. Management has no confidence that any degree of control is being achieved.

Sheet Risk matrix
E2: RISK MATRIX
C3: Consequences | D3: 6 | E3: I | F3: I | G3: I | H3: I | I3: I
D4: 5 | E4: II | F4: II | G4: II | H4: I | I4: I
D5: 4 | E5: III | F5: III | G5: II | H5: I | I5: I
D6: 3 | E6: IV | F6: III | G6: II | H6: II | I6: I
D7: 2 | E7: IV | F7: IV | G7: III | H7: II | I7: II
D8: 1 | E8: IV | F8: IV | G8: III | H8: III | I8: III
E9: A | F9: B | G9: C | H9: D | I9: E
E10: Likelihood
D13: Priority | E13: Risk ranking | F13: Action required
D14: I | E14: Very high | F14: Immediate action required, and these risks to be captured on IRM system.
D15: II | E15: High | F15: Strong mandatory action required, and these risks to be captured on IRM system.
D16: III | E16: Medium | F16: Action required, possibly at administrative level.
D17: IV | E17: Low | F17: Minor or no action required.
A26: 1A | B26: IV | C26: 1A | D26: =VLOOKUP(C26,$A$26:$B$55,2,FALSE) -> IV | F26: Yes | G26: Safety | J26: F | K26: I | N26: A1 | O26: 1A
A27: 1B | B27: IV | C27: 1B | D27: =VLOOKUP(C27,$A$26:$B$55,2,FALSE) -> IV | F27: No | G27: Health | J27: P | K27: II | N27: B1 | O27: 1B
A28: 1C | B28: III | C28: 1C | D28: =VLOOKUP(C28,$A$26:$B$55,2,FALSE) -> III | J28: I | K28: III | N28: C1 | O28: 1C
A29: 1D | B29: III | C29: 1D | D29: =VLOOKUP(C29,$A$26:$B$55,2,FALSE) -> III | J29: Ti | K29: IV | N29: D1 | O29: 1D
A30: 2A | B30: IV | C30: 2A | D30: =VLOOKUP(C30,$A$26:$B$55,2,FALSE) -> IV | J30: N | N30: A2 | O30: 2A
A31: 2B | B31: IV | C31: 2B | D31: =VLOOKUP(C31,$A$26:$B$55,2,FALSE) -> IV | N31: B2 | O31: 2B
A32: 1E | B32: III | C32: 1E | D32: =VLOOKUP(C32,$A$26:$B$55,2,FALSE) -> III | N32: E1 | O32: 1E
A33: 2C | B33: III | C33: 2C | D33: =VLOOKUP(C33,$A$26:$B$55,2,FALSE) -> III | N33: C2 | O33: 2C
A34: 2D | B34: II | C34: 2D | D34: =VLOOKUP(C34,$A$26:$B$55,2,FALSE) -> II | N34: D2 | O34: 2D
A35: 3A | B35: IV | C35: 3A | D35: =VLOOKUP(C35,$A$26:$B$55,2,FALSE) -> IV | N35: A3 | O35: 3A
A36: 3B | B36: III | C36: 3B | D36: =VLOOKUP(C36,$A$26:$B$55,2,FALSE) -> III | N36: B3 | O36: 3B
A37: 4A | B37: III | C37: 4A | D37: =VLOOKUP(C37,$A$26:$B$55,2,FALSE) -> III | N37: A4 | O37: 4A
A38: 5A | B38: II | C38: 5A | D38: =VLOOKUP(C38,$A$26:$B$55,2,FALSE) -> II
A39: 2E | B39: II | C39: 2E | D39: =VLOOKUP(C39,$A$26:$B$55,2,FALSE) -> II
A40: 3E | B40: I | C40: 3E | D40: =VLOOKUP(C40,$A$26:$B$55,2,FALSE) -> I
A41: 3D | B41: II | C41: 3D | D41: =VLOOKUP(C41,$A$26:$B$55,2,FALSE) -> II
A42: 3C | B42: II | C42: 3C | D42: =VLOOKUP(C42,$A$26:$B$55,2,FALSE) -> II
A43: 4C | B43: II | C43: 4C | D43: =VLOOKUP(C43,$A$26:$B$55,2,FALSE) -> II
A44: 4B | B44: III | C44: 4B | D44: =VLOOKUP(C44,$A$26:$B$55,2,FALSE) -> III
A45: 5B | B45: II | C45: 5B | D45: =VLOOKUP(C45,$A$26:$B$55,2,FALSE) -> II
A46: 4D | B46: I | C46: 4D | D46: =VLOOKUP(C46,$A$26:$B$55,2,FALSE) -> I
A47: 4E | B47: I | C47: 4E | D47: =VLOOKUP(C47,$A$26:$B$55,2,FALSE) -> I
A48: 5C | B48: II | C48: 5C | D48: =VLOOKUP(C48,$A$26:$B$55,2,FALSE) -> II
A49: 5D | B49: I | C49: 5D | D49: =VLOOKUP(C49,$A$26:$B$55,2,FALSE) -> I
... A55: 6E | B55: I | C55: 6E | D55: =VLOOKUP(C55,$A$26:$B$55,2,FALSE) -> I
