Workbook

Sheet RATES
B2: GRADE | C2: RATES
B3: T02
B4: T04
B5: T05
B6: T05
B7: T05
B8: T07
B9: T09
B10: T10
B11: T12
B12: T13
B13: T06
B14: M14
... B23: Double cab Bakkie

Sheet Kendal
B2: KUSILE POWER STATION
A4: A1 | B4: P&Gs | D4: Unit of measure | E4: Quantity | F4: Number | G4: Rate | H4: Period | I4: TOTAL 24 MONTHS
A5: A1.1 | B5: Site Establishment | D5: Sum | E5: 1 | F5: 1 | G5: =RATES!C22 -> 0 | H5: 1 | I5: =E5*F5*G5*H5 -> 0
A6: A1.2 | B6: ablution ( Space for change house and locker rooms. | D6: Sum | E6: 1 | F6: 1 | G6: =RATES!C19 -> 0 | H6: 3 | I6: =E6*F6*G6*H6 -> 0
A7: A1.3 | B7: Transport | D7: Month | E7: 1 | F7: 2 | G7: =RATES!C16 -> 0 | H7: 36 | I7: =E7*F7*G7*H7 -> 0
A8: A1.4 | B8: Double Cab Bakkie | D8: Month | E8: 1 | F8: 1 | G8: =RATES!C23 -> 0 | H8: 36 | I8: =E8*F8*G8*H8 -> 0
A9: A1.5 | B9: Safety Training | D9: Annual | E9: 1 | F9: 32 | H9: 3 | I9: =E9*F9*G9*H9 -> 0
A10: A1.6 | B10: Annual Medical + Exit Medical | D10: Annual | E10: 1 | F10: 32 | H10: 4 | I10: =E10*F10*G10*H10 -> 0
A11: A1.7 | B11: PPE | D11: Annual | E11: 1 | F11: 32 | H11: 3 | I11: =E11*F11*G11*H11 -> 0
A12: A1.8 | B12: Site De-establishment (once-off)- N/A | D12: Sum | E12: 1 | F12: 1 | G12: =RATES!C22 -> 0 | H12: 1 | I12: =E12*F12*G12*H12 -> 0
D13: SUB-TOTAL EXCLUDING VAT | I13: =SUM(I5:I12) -> 0
A16: B1 | B16: SKILL TYPE | C16: GRADE | D16: Unit of measure | E16: Quantity | F16: Number of people | G16: Rate | H16: Period | I16: TOTAL 36 MONTHS
A17: B1.1 | B17: Site Manager | C17: M14 | D17: Hours | E17: 173 | F17: 1 | G17: =RATES!C14 -> 0 | H17: 36 | I17: =E17*F17*G17*H17 -> 0
A18: B1.2 | B18: Senior Supervisor Technical shifts | C18: T13 | D18: Hours | E18: 198 | F18: 4 | G18: =RATES!C12 -> 0 | H18: 36 | I18: =E18*F18*G18*H18 -> 0
A19: B1.3 | B19: Senior supervisor shift allowance @ 15% | C19: T13 | D19: Hours | E19: 198 | F19: 4 | G19: =SUM(G18*0.15) -> 0 | H19: 36 | I19: =E19*F19*G19*H19 -> 0
A20: B1.4 | B20: Senior Supervisor Overtime @2,0 | C20: T13 | D20: Hours | E20: 24 | F20: 2 | G20: =SUM(G18*2) -> 0 | H20: 36 | I20: =E20*F20*G20*H20 -> 0
A21: B1.5 | B21: Mechanical Technician Day Shift | C21: T12 | D21: Hours | E21: 198 | F21: 2 | G21: =RATES!C11 -> 0 | H21: 36 | I21: =E21*F21*G21*H21 -> 0
A22: B1.6 | B22: Mechanical Technician Overtime @1,5 | C22: T12 | D22: Hours | E22: 30 | F22: 2 | G22: =SUM(G21*1.5) -> 0 | H22: 36 | I22: =E22*F22*G22*H22 -> 0
A23: B1.7 | B23: Mechanical technician overtime @2,0 | C23: T12 | D23: Hours | E23: 12 | F23: 2 | G23: =SUM(G21*2) -> 0 | H23: 36 | I23: =E23*F23*G23*H23 -> 0
A24: B1.8 | B24: Safety officer Day | C24: T12 | D24: Hours | E24: 173 | F24: 1 | G24: =RATES!C11 -> 0 | H24: 36 | I24: =E24*F24*G24*H24 -> 0
A25: B1.9 | B25: Safety officer Overtime @ 1,5 | C25: T12 | D25: Hours | E25: 20 | F25: 1 | G25: =SUM(G24*1.5) -> 0 | H25: 36 | I25: =E25*F25*G25*H25 -> 0
A26: B1.10 | B26: Safety officer Overtime @ 2.0 | C26: T12 | D26: Hours | E26: 20 | F26: 1 | G26: =SUM(G24*2) -> 0 | H26: 36 | I26: =E26*F26*G26*H26 -> 0
A27: B1.11 | B27: Fitter Artisan (shifts) | C27: T09 | D27: Hours | E27: 198 | F27: 8 | G27: =RATES!C9 -> 0 | H27: 36 | I27: =E27*F27*G27*H27 -> 0
A28: B1.12 | B28: Shift allowance Fitter Artisan @15% | C28: T09 | D28: Hours | E28: 198 | F28: 8 | G28: =SUM(G27*0.15) -> 0 | H28: 36 | I28: =E28*F28*G28*H28 -> 0
A29: B1.13 | B29: Fitter Artisan (shifts) Overtime @ 2.0 | C29: T09 | D29: Hours | E29: 24 | F29: 2 | G29: =G27*2 -> 0 | H29: 36 | I29: =E29*F29*G29*H29 -> 0
A30: B1.14 | B30: Boilermaker Shifts | C30: T09 | D30: Hours | E30: 198 | F30: 4 | G30: =RATES!C9 -> 0 | H30: 36 | I30: =E30*F30*G30*H30 -> 0
A31: B1.15 | B31: Shift allowance Boilermaker Overtime @15% | C31: T09 | D31: Hours | E31: 198 | F31: 4 | G31: =SUM(G30*15%) -> 0 | H31: 36 | I31: =E31*F31*G31*H31 -> 0
A32: B1.16 | B32: Boilermaker Shifts overtime @ 2.0 | C32: T09 | D32: Hours | E32: 24 | F32: 1 | G32: =(G30*2) -> 0 | H32: 36 | I32: =E32*F32*G32*H32 -> 0
A33: B1.17 | B33: Utility man Shifts | C33: T04 | D33: Hours | E33: 198 | F33: 12 | G33: =RATES!C4 -> 0 | H33: 36 | I33: =E33*F33*G33*H33 -> 0
A34: B1.18 | B34: Shift allowance Utility man @15% | C34: T04 | D34: Hours | E34: 198 | F34: 12 | G34: =SUM(G33*0.15) -> 0 | H34: 36 | I34: =E34*F34*G34*H34 -> 0
A35: B1.19 | B35: Utility man Shifts Overtime @ 2.0 | C35: T04 | D35: Hours | E35: 24 | F35: 4 | G35: =G33*2 -> 0 | H35: 36 | I35: =E35*F35*G35*H35 -> 0
D36: SUB-TOTAL SKILL TYPE | I36: =SUM(I17:I35) -> 0
D37: SUB-TOTAL EXCLUDING VAT | I37: =SUM(I36,I13) -> 0
A43: Note 1 | B43: 1. All tools required to execute the scope will be supplied by the Contractor 2. Contractor to supply their own furniture and storage lockers
A44: Note 2 | B44: All facilities will be supplied by the Employer 1. Water and Electricity 2. Lighting and Ventilation 3. Office Space
A45: Note3 Training will be listed as part of SOW

Sheet Kusile
B2: KUSILE POWER STATION
A4: A1 | B4: P&Gs | D4: Unit of measure | E4: Quantity | F4: Number | G4: Rate | H4: Period | I4: TOTAL 24 MONTHS
A5: A1.1 | B5: Site Establishment | D5: Sum | E5: 1 | F5: 1 | G5: =RATES!C22 -> 0 | H5: 1 | I5: =E5*F5*G5*H5 -> 0
A6: A1.2 | B6: ablution ( Space for change house and locker rooms. | D6: Sum | E6: 1 | F6: 1 | G6: =RATES!C19 -> 0 | H6: 3 | I6: =E6*F6*G6*H6 -> 0
A7: A1.3 | B7: Transport | D7: Month | E7: 1 | F7: 2 | G7: =RATES!C16 -> 0 | H7: 36 | I7: =E7*F7*G7*H7 -> 0
A8: A1.4 | B8: Double cab Bakkie | D8: Month | E8: 1 | F8: 2 | G8: =RATES!C23 -> 0 | H8: 36 | I8: =E8*F8*G8*H8 -> 0
A9: A1.5 | B9: Safety Training | D9: Annual | E9: 1 | F9: 49 | H9: 3 | I9: =E9*F9*G9*H9 -> 0
A10: A1.6 | B10: Annual Medical + Exit Medical | D10: Annual | E10: 1 | F10: 49 | H10: 4 | I10: =E10*F10*G10*H10 -> 0
A11: A1.7 | B11: PPE | D11: Annual | E11: 1 | F11: 49 | H11: 3 | I11: =E11*F11*G11*H11 -> 0
A12: A1.8 | B12: Site De-establishment (once-off)- N/A | D12: Sum | E12: 1 | F12: 1 | G12: =RATES!C22 -> 0 | H12: 1 | I12: =E12*F12*G12*H12 -> 0
D13: SUB-TOTAL EXCLUDING VAT | I13: =SUM(I5:I12) -> 0
A16: B1 | B16: SKILL TYPE | C16: GRADE | D16: Unit of measure | E16: Quantity | F16: Number of people | G16: Rate | H16: Period | I16: TOTAL 36 MONTHS
A17: B1.1 | B17: Site Manager | C17: M14 | D17: Hour | E17: 173 | F17: 1 | G17: =RATES!C14 -> 0 | H17: 36 | I17: 6763017.9
A18: B1.2 | B18: Senior Supervisor Technical shift | C18: T13 | D18: Hours | E18: 198 | F18: 4 | G18: =RATES!C12 -> 0 | H18: 36 | I18: =E18*F18*G18*H18 -> 0
A19: B1.3 | B19: Senior supervisor allowance @15% | C19: T13 | D19: Hours | E19: 198 | F19: 4 | G19: =SUM(G18*1.5) -> 0 | H19: 36 | I19: =E19*F19*G19*H19 -> 0
A20: B1.4 | B20: Senior Supervisor Overtime @2,0 | C20: T13 | D20: Hours | E20: 17 | F20: 4 | G20: =SUM(G18*2) -> 0 | H20: 36 | I20: =E20*F20*G20*H20 -> 0
A21: B1.5 | B21: Mechanical Technician Day Shift | C21: T12 | D21: Hours | E21: 173 | F21: 2 | G21: =RATES!C11 -> 0 | H21: 36 | I21: =E21*F21*G21*H21 -> 0
A22: B1.6 | B22: Mechanical Technician Overtime @1,5 | C22: T12 | D22: Hours | E22: 30 | F22: 2 | G22: =SUM(G21*1.5) -> 0 | H22: 36 | I22: =E22*F22*G22*H22 -> 0
A23: B1.7 | B23: Mechanical technician overtime @2,0 | C23: T12 | D23: Hours | E23: 12 | F23: 2 | G23: =SUM(G21*2) -> 0 | H23: 36 | I23: =E23*F23*G23*H23 -> 0
A24: B1.8 | B24: C&I Techncian Shifts | C24: T12 | D24: Hours | E24: 198 | F24: 8 | G24: =RATES!C11 -> 0 | H24: 36 | I24: =E24*F24*G24*H24 -> 0
A25: B1.9 | B25: C&I Technician Shift allowance @15% | C25: T12 | D25: Hours | E25: 198 | F25: 8 | G25: =G24*0.15 -> 0 | H25: 36 | I25: =E25*F25*G25*H25 -> 0
A26: B1.10 | B26: C&I Technician Overtime @2.0 | C26: T12 | D26: Hours | E26: 17 | F26: 2 | G26: =G24*2 -> 0 | H26: 36 | I26: =E26*F26*G26*H26 -> 0
A27: B1.11 | B27: Safety officer Day | C27: T12 | D27: Hours | E27: 173 | F27: 2 | G27: =RATES!C11 -> 0 | H27: 36 | I27: =E27*F27*G27*H27 -> 0
A28: B1.12 | B28: Safety officer Overtime @ 1,5 | C28: T12 | D28: Hours | E28: 20 | F28: 2 | G28: =SUM(G27*1.5) -> 0 | H28: 36 | I28: =E28*F28*G28*H28 -> 0
A29: B1.13 | B29: Safety officer Overtime @ 2.0 | C29: T12 | D29: Hours | E29: 20 | F29: 2 | G29: =SUM(G27*2) -> 0 | H29: 36 | I29: =E29*F29*G29*H29 -> 0
A30: B1.14 | B30: Fitter Artisan (shifts) | C30: T09 | D30: Hours | E30: 198 | F30: 12 | G30: =RATES!C9 -> 0 | H30: 36 | I30: =E30*F30*G30*H30 -> 0
A31: B1.15 | B31: Shift allowance Fitter Artisan @15% | C31: T09 | D31: Hours | E31: 198 | F31: 12 | G31: =SUM(G30*0.15) -> 0 | H31: 36 | I31: =E31*F31*G31*H31 -> 0
A32: B1.16 | B32: Fitter Artisan (shifts) overtime @ 2.0 | C32: T09 | D32: Hours | E32: 17 | F32: 12 | G32: =RATES!C9*2 -> 0 | H32: 36 | I32: =E32*F32*G32*H32 -> 0
A33: B1.17 | B33: Boilermaker shifts | C33: T09 | D33: Hours | E33: 198 | F33: 4 | G33: =RATES!C9 -> 0 | H33: 36 | I33: =E33*F33*G33*H33 -> 0
A34: B1.18 | B34: Boilermaker shifts allowance @ 15% | C34: T09 | D34: Hours | E34: 198 | F34: 4 | G34: =RATES!C9*0.15 -> 0 | H34: 36 | I34: =E34*F34*G34*H34 -> 0
A35: B1.19 | B35: Boilermaker shifts overtime @ 2.0 | C35: T09 | D35: Hours | E35: 17 | F35: 4 | G35: =RATES!C9*2 -> 0 | H35: 36 | I35: =E35*F35*G35*H35 -> 0
A36: B1.20 | B36: Utility man Shifts | C36: T04 | D36: Hours | E36: 198 | F36: 16 | G36: =RATES!C4 -> 0 | H36: 36 | I36: =E36*F36*G36*H36 -> 0
A37: B1.21 | B37: Shift allowance Utility man @15% | C37: T04 | D37: Hours | E37: 198 | F37: 16 | G37: =SUM(G36*0.15) -> 0 | H37: 36 | I37: =E37*F37*G37*H37 -> 0
A38: B1.22 | B38: Utility man Shifts Overtime@2.0 | C38: T04 | D38: Hours | E38: 17 | F38: 4 | G38: =G30*2 -> 0 | H38: 36 | I38: =E38*F38*G38*H38 -> 0
D39: SUB-TOTAL SKILL TYPE | F39: Subtotal Skill type
D40: SUB-TOTAL EXCLUDING VAT | I40: =SUM(I39,I13) -> 0
A43: Note 1 | B43: 1. All tools required to execute the scope will be supplied by the Contractor 2. Contractor to supply their own furniture and storage lockers
A44: Note 2 | B44: All facilities will be supplied by the Employer 1. Water and Electricity 2. Lighting and Ventilation 3. Office Space
A45: Note4 Training will be listed as part of SOW

Sheet Medupi
B2: KUSILE POWER STATION
A4: A1 | B4: P&Gs | D4: Unit of measure | E4: Quantity | F4: Number | G4: Rate | H4: Period | I4: TOTAL 24 MONTHS
A5: A1.1 | B5: Site Establishment | D5: Sum | E5: 1 | F5: 1 | G5: =RATES!C22 -> 0 | H5: 1 | I5: =E5*F5*G5*H5 -> 0
A6: A1.2 | B6: ablution ( Space for change house and locker rooms. | D6: Sum | E6: 1 | F6: 1 | G6: =RATES!C19 -> 0 | H6: 3 | I6: =E6*F6*G6*H6 -> 0
A7: A1.3 | B7: Transport | D7: Month | E7: 1 | F7: 2 | G7: =RATES!C16 -> 0 | H7: 36 | I7: =E7*F7*G7*H7 -> 0
A8: A1.4 | B8: Double cab Bakkie | D8: Month | E8: 1 | F8: 2 | G8: =RATES!C23 -> 0 | H8: 36 | I8: =E8*F8*G8*H8 -> 0
A9: A1.5 | B9: Safety Training | D9: Annual | E9: 1 | F9: 49 | H9: 3 | I9: =E9*F9*G9*H9 -> 0
A10: A1.6 | B10: Annual Medical + Exit Medical | D10: Annual | E10: 1 | F10: 49 | H10: 4 | I10: =E10*F10*G10*H10 -> 0
A11: A1.7 | B11: PPE | D11: Annual | E11: 1 | F11: 49 | H11: 3 | I11: =E11*F11*G11*H11 -> 0
A12: A1.8 | B12: Site De-establishment (once-off)- N/A | D12: Sum | E12: 1 | F12: 1 | G12: =RATES!C22 -> 0 | H12: 1 | I12: =E12*F12*G12*H12 -> 0
D13: SUB-TOTAL EXCLUDING VAT | I13: =SUM(I5:I12) -> 0
A16: B1 | B16: SKILL TYPE | C16: GRADE | D16: Unit of measure | E16: Quantity | F16: Number of people | G16: Rate | H16: Period | I16: TOTAL 36 MONTHS
A17: B1.1 | B17: Site Manager | C17: M14 | D17: Hours | E17: 173 | F17: 1 | G17: =RATES!C14 -> 0 | H17: 36 | I17: =E17*F17*G17*H17 -> 0
A18: B1.2 | B18: Senior Supervisor Technical shift | C18: T13 | D18: Hours | E18: 198 | F18: 4 | G18: =RATES!C12 -> 0 | H18: 36 | I18: =E18*F18*G18*H18 -> 0
A19: B1.3 | B19: Senior supervisor allowance @15% | C19: T13 | D19: Hours | E19: 198 | F19: 4 | G19: =SUM(G18*1.5) -> 0 | H19: 36 | I19: =E19*F19*G19*H19 -> 0
A20: B1.4 | B20: Senior Supervisor Overtime @2,0 | C20: T13 | D20: Hours | E20: 17 | F20: 4 | G20: =SUM(G18*2) -> 0 | H20: 36 | I20: =E20*F20*G20*H20 -> 0
A21: B1.5 | B21: Mechanical Technician Day Shift | C21: T12 | D21: Hours | E21: 173 | F21: 2 | G21: =RATES!C11 -> 0 | H21: 36 | I21: =E21*F21*G21*H21 -> 0
A22: B1.6 | B22: Mechanical Technician Overtime @1,5 | C22: T12 | D22: Hours | E22: 30 | F22: 2 | G22: =SUM(G21*1.5) -> 0 | H22: 36 | I22: =E22*F22*G22*H22 -> 0
A23: B1.7 | B23: Mechanical technician overtime @2,0 | C23: T12 | D23: Hours | E23: 12 | F23: 2 | G23: =SUM(G21*2) -> 0 | H23: 36 | I23: =E23*F23*G23*H23 -> 0
A24: B1.8 | B24: C&I Techncian Shifts | C24: T12 | D24: Hours | E24: 198 | F24: 4 | G24: =RATES!C11 -> 0 | H24: 36 | I24: =E24*F24*G24*H24 -> 0
A25: B1.9 | B25: C&I Technician Shift allowance @15% | C25: T12 | D25: Hours | E25: 198 | F25: 4 | G25: =G24*0.15 -> 0 | H25: 36 | I25: =E25*F25*G25*H25 -> 0
A26: B1.10 | B26: C&I Technician Overtime @2.0 | C26: T12 | D26: Hours | E26: 17 | F26: 2 | G26: =G24*2 -> 0 | H26: 36 | I26: =E26*F26*G26*H26 -> 0
A27: B1.11 | B27: Safety officer Day | C27: T12 | D27: Hours | E27: 173 | F27: 2 | G27: =RATES!C11 -> 0 | H27: 36 | I27: =E27*F27*G27*H27 -> 0
A28: B1.12 | B28: Safety officer Overtime @ 1,5 | C28: T12 | D28: Hours | E28: 20 | F28: 2 | G28: =SUM(G27*1.5) -> 0 | H28: 36 | I28: =E28*F28*G28*H28 -> 0
A29: B1.13 | B29: Safety officer Overtime @ 2.0 | C29: T12 | D29: Hours | E29: 20 | F29: 2 | G29: =SUM(G27*2) -> 0 | H29: 36 | I29: =E29*F29*G29*H29 -> 0
A30: B1.14 | B30: Fitter Artisan (shifts) | C30: T09 | D30: Hours | E30: 198 | F30: 12 | G30: =RATES!C9 -> 0 | H30: 36 | I30: =E30*F30*G30*H30 -> 0
A31: B1.15 | B31: Shift allowance Fitter Artisan @15% | C31: T09 | D31: Hours | E31: 198 | F31: 12 | G31: =SUM(G30*0.15) -> 0 | H31: 36 | I31: =E31*F31*G31*H31 -> 0
A32: B1.16 | B32: Fitter Artisan (shifts) overtime @ 2.0 | C32: T09 | D32: Hours | E32: 17 | F32: 12 | G32: =RATES!C9*2 -> 0 | H32: 36 | I32: =E32*F32*G32*H32 -> 0
A33: B1.17 | B33: Boilermaker shifts | C33: T09 | D33: Hours | E33: 198 | F33: 4 | G33: =RATES!C9 -> 0 | H33: 36 | I33: =E33*F33*G33*H33 -> 0
A34: B1.18 | B34: Boilermaker shifts allowance @ 15% | C34: T09 | D34: Hours | E34: 198 | F34: 4 | G34: =RATES!C9*0.15 -> 0 | H34: 36 | I34: =E34*F34*G34*H34 -> 0
A35: B1.19 | B35: Boilermaker shifts overtime @ 2.0 | C35: T09 | D35: Hours | E35: 17 | F35: 4 | G35: =RATES!C9*2 -> 0 | H35: 36 | I35: =E35*F35*G35*H35 -> 0
A36: B1.20 | B36: C&I Artisan Shifts | C36: T09 | D36: Hours | E36: 198 | F36: 4 | G36: =RATES!C9 -> 0 | H36: 36 | I36: =E36*F36*G36*H36 -> 0
A37: B1.21 | B37: C&I Artisan Shift Allowance @15% | C37: T09 | D37: Hours | E37: 198 | F37: 4 | G37: =G36*0.15 -> 0 | H37: 36 | I37: =E37*F37*G37*H37 -> 0
A38: B1.22 | B38: C&I Artisan Overtime @ 2.0 | C38: T09 | D38: Hours | E38: 17 | F38: 2 | G38: =G36*2 -> 0 | H38: 36 | I38: =E38*F38*G38*H38 -> 0
A39: B1.23 | B39: Utility man Shifts | C39: T04 | D39: Hours | E39: 198 | F39: 16 | G39: =RATES!C4 -> 0 | H39: 36 | I39: =E39*F39*G39*H39 -> 0
A40: B1.24 | B40: Shift allowance Utility man @15% | C40: T04 | D40: Hours | E40: 198 | F40: 16 | G40: =SUM(G39*0.15) -> 0 | H40: 36 | I40: =E40*F40*G40*H40 -> 0
A41: B1.25 | B41: Utility man Shifts Overtime@2.0 | C41: T04 | D41: Hours | E41: 17 | F41: 4 | G41: =G30*2 -> 0 | H41: 36 | I41: =E41*F41*G41*H41 -> 0
D42: SUB-TOTAL SKILL TYPE | F42: SUB-TOTAL | I42: =SUM(I17:I41) -> 0
D43: SUB-TOTAL EXCLUDING VAT | I43: =SUM(I42,I13) -> 0
A46: Note 1 | B46: 1. All tools required to execute the scope will be supplied by the Contractor 2. Contractor to supply their own furniture and storage lockers
...
