Workbook

Sheet List of Items & Enquiry number
A1: Steps to follow to prepare this file for tender
A2: 1 | B2: Enter the Enquiry number in the cell below (B14) so that the number is carried through to the AB Schedule Sheets
A3: 1.1 | B3: Leave enquiry number blank if not known
A4: 2 | B4: Go to Source Data worksheet and confirm the figures from columns BU to BX and EL are correct
A5: 3 | B5: Fix any other requirements on Source Data if there has been a change to the spec
A6: 4 | B6: Hide Source Data Sheet
A7: 5 | B7: Hide this sheet
A8: 6 | B8: Hide any unnecessary sheets if not needed for the tender
A10: NOTE:
B11: This AB schedule is only for Ester Oil options. If the the tender scope includes Ester options, please also submit the Ester Oil or Ester/Ester Schedule to the Buyer
A13: Type Enquiry Number in the cell below (overtype the green text) so that it transfers to all the AB Schedules
A14: >>> | B14: Enquiry Number: 123456XYZ
A17: List of Items
A18: SAP Number | B18: Description | C18: Schedule Name
A19: 0180281 | B19: TFR 50kVA 11kV/19kV SWER ISOL CSTL D3201 | C19: SWER Isolation, 50kVA 11kV/ 19kV* (Coastal, Ester Oil Only)
A20: 0180282 | B20: TFR 50kVA 22kV/19kV SWER ISOL CSTL D3201 | C20: SWER Isolation, 50kVA 22kV/ 19kV* (Coastal, Ester Oil Only)
A21: 0205441 | B21: TFR 50kVA 33kV/19kV SWER ISOL CSTL D3201 | C21: SWER Isolation, 50kVA 33kV/ 19kV* (Coastal, Ester Oil Only)
A22: 0180283 | B22: TFR 100kVA 11kV/19kV SWER ISOL CSTL D3201 | C22: SWER Isolation, 100kVA 11kV/ 19kV* (Coastal, Ester Oil Only)
A23: 0180284 | B23: TFR 100kVA 22kV/19kV SWER ISOL CSTL D3201 | C23: SWER Isolation, 100kVA 22kV/ 19kV* (Coastal, Ester Oil Only)
A24: 0205443 | B24: TFR 100kVA 33kV/19kV SWER ISOL CSTL D3201 | C24: SWER Isolation, 100kVA 33kV/ 19kV* (Coastal, Ester Oil Only)
A25: 0180285 | B25: TFR 200kVA 11kV/19kV SWER ISOL CSTL D3201 | C25: SWER Isolation, 200kVA 11kV/ 19kV* (Coastal, Ester Oil Only)
A26: 0180286 | B26: TFR 200kVA 22kV/19kV SWER ISOL CSTL D3201 | C26: SWER Isolation, 200kVA 22kV/ 19kV* (Coastal, Ester Oil Only)
A27: 0205439 | B27: TFR 200kVA 33kV/19kV SWER ISOL CSTL D3201 | C27: SWER Isolation, 200kVA 33kV/ 19kV* (Coastal, Ester Oil Only)
A28: 0180287 | B28: TFR 400kVA 11kV/19kV SWER ISOL CSTL D3201 | C28: SWER Isolation, 400kVA 11kV/ 19kV* (Coastal, Ester Oil Only)
A29: 0180288 | B29: TFR 400kVA 22kV/19kV SWER ISOL CSTL D3201 | C29: SWER Isolation, 400kVA 22kV/ 19kV* (Coastal, Ester Oil Only)
A30: 0205445 | B30: TFR 400kVA 33kV/19kV SWER ISOL CSTL D3201 | C30: SWER Isolation, 400kVA 33kV/ 19kV* (Coastal, Ester Oil Only)

Sheet Source Data
A1: Select Pole Mounted Transformer (kVA, kV) here! | B1: Identification | C1: Name of manufacturer | D1: Name of supplier | E1: Product code for Inland transformers | F1: Product code for Coastal transformers | G1: Are the transformers covered by the SABS certification mark? | H1: State SABS 780 permit number | I1: Oil Type | J1: Ratings | K1: Power rating | L1: Rated primary voltage | M1: Rated no-load secondary voltage | N1: Frequency | O1: Number of phases | P1: Vector Group | Q1: Insulation levels | R1: BIL - Primary | S1: BIL - Secondary Line Terminal | T1: BIL - Secondary Neutral Terminal | U1: Power frequency withstand voltage - Primary | V1: Power frequency withstand voltage – Secondary | W1: Inter-turn winding insulation | X1: Type (Enamel or Paper) | Y1: Enamel grade (if applicable) | Z1: Paper thickness (if applicable) | AA1: Paper type (if applicable) | AB1: Paper make (if applicable) | AC1: Paper minimum impulse withstand | AD1: Paper minimum power frequency withstand | AE1: Inter-turn winding insulation stres | AF1: Interlayer insulation | AG1: Highest interlayer stress in non-tap part of winding (<5kV/mm is not acceptable as the calculated value must be presented) | AH1: Highest interlayer stress in tap part of winding (<5kV/mm is not acceptable as the calculated value must be presented) | AI1: Paper type. | AJ1: Paper make. | AK1: Tapping connections | AL1: No tap connections shall be provided on SWER isolation transformers | AM1: Tapping range | AN1: MV Bushings for Inland transformers | AO1: Make | AP1: Product code | AQ1: Material (e.g. Porcelain) | AR1: Specific creepage distance | AS1: Clamping | AT1: Type | AU1: Stem diameter | AV1: Primary MV Bushings for Coastal Transformers | AW1: Make | AX1: Product code | AY1: Material (e.g. Porcelain) | AZ1: Specific creepage distance | BA1: Clamping | BB1: Type | BC1: Stem diameter | BD1: Secondary MV Bushings for Coastal Transformers | BE1: Make | BF1: Product code | BG1: Material (e.g. Porcelain) | BH1: Specific creepage distance | BI1: Clamping | BJ1: Type | BK1: Stem diameter | BL1: Secondary LV Bushings for Coastal Transformers | BM1: Make | BN1: Product code | BO1: Material (e.g. Porcelain) | BP1: Stem diameter | BQ1: Supplied with flag | BR1: Flag supplied with 2 x M12 x 40 mm set screws, 4 x flatwashers, 2 x spring washers and 2 x nuts | BS1: Losses | BT1: Loss factor base (Cost of Dx or Gx) | BU1: No-load Loss Factor, NLLF | BV1: Load Loss Factor, LLF | BW1: Guaranteed no-load losses, PNL | BX1: Guaranteed load losses, PLL | BY1: Impedance voltage & X/R ratio | BZ1: Impedance at principle tapping (specific design impedances to be stated) | CA1: X/R ratio | CB1: Audio-sound level (clause 8.5.3 of SANS 780) | CC1: Maximum limit of transformer audio-sound level | CD1: Primary winding wire | CE1: Material (e.g. Cu or Al) | CF1: Type (e.g. Round, Strip or Foil) | CG1: Secondary winding wire | CH1: Material (e.g. Cu or Al) | CI1: Type (e.g. Round, Strip or Foil) | CJ1: Core material | CK1: Core material | CL1: Type/code | CM1: Maximum Flux Density of Material | CN1: Supplier | CO1: Tank and tank cover | CP1: Tank type: Sealed | CQ1: Plain, rigid or corrugated | CR1: Transformer dimensions | CS1: Wo (including surge arrester) | CT1: Lo | CU1: Ht | CV1: Mass | CW1: Oil capacity | CX1: Minimum clearance between live MV terminals and from MV live terminals to any part of the tank greater than twice the BIL | CY1: Minimum mechanical clearance of 100 mm between the brackets and LV bushings shall be maintained | CZ1: Pole mounting bracket | DA1: Single pole mounting bracket required? (Yes or No) | DB1: Supplied with: - 2 x clamps | DC1: - 1 x threaded rod (M20 x 350 mm) | DD1: - 4 x threaded rods (M20 x 250 mm) | DE1: - 12 x nuts, flat washers & spring washers (M20) | DF1: Dimension Mo | DG1: Dimension h1 | DH1: Dimension W1 | DI1: Mounting hole diameter | DJ1: Mounting hole centres | DK1: Transformer under base | DL1: Under base required? (Yes or No) | DM1: Lml | DN1: Lmw (300, 400 or 450) | DO1: Ls | DP1: Lmh | DQ1: Mounting hole diameter | DR1: Lifting lugs | DS1: Lifting lugs fitted | DT1: Hole diameter | DU1: Earthing terminals | DV1: Boss material | DW1: Boss depth | DX1: Set screw material | DY1: Set screw dimensions | DZ1: Supplied with washer and spring washer | EA1: Surge arrester brackets | EB1: Surge arrester brackets fitted | EC1: Mounting hole diameter | ED1: Dimension D (worst case) | EE1: Dimension E (worst case) | EF1: Dimension F (worst case) | EG1: Corrosion protection Inland transformers | EH1: Indicate the coating system (i.e. DS numbers according to DSP 240-75655504) that is offered. (e.g. DS-7 for mild steel) | EI1: Tank | EJ1: Radiators | EK1: Threaded rods and accessories | EL1: Colour of final coat | EM1: Corrosion protection for Coastal transformers | EN1: Indicate the coating system (i.e. DS numbers according to DSP 240-75655504) that is offered. (e.g. DS-14 + DS-15 for zinc sprayed mild steel with duplex coating) | EO1: Tank | EP1: Radiators | EQ1: Threaded rods and accessories | ER1: Colour of final coat | ES1: All Type Tests in Accordance with SANS 780: | ET1: All Routine Tests in Accordance with SANS 780: | EU1: Amorphous Losses (Guaranteed no-load losses, PNL)
A2: SWER Isolation, 50kVA 11kV/ 19kV* (Coastal, Ester Oil Only) | C2: xxxxxxxxxxx | D2: xxxxxxxxxxx | E2: xxxxxxxxxxx | F2: xxxxxxxxxxx | G2: xxxxxxxxxxx | H2: xxxxxxxxxxx | I2: Ester Oil | K2: 50 | L2: 11 | M2: 19 | N2: 50 | O2: 1ph | P2: N/A | R2: 95 | S2: 200 | T2: 30 | U2: 28 | V2: 8 | X2: xxxxxxxxxxx | Y2: Grade 3 | Z2: > 0.125 | AA2: xxxxxxxxxxx | AB2: xxxxxxxxxxx | AC2: 21 | AD2: 8 | AE2: <5 | AG2: < 5 | AH2: < 5 | AI2: xxxxxxxxxxx | AJ2: xxxxxxxxxxx | AL2: xxxxxxxxxxx | AM2: N/A | AO2: xxxxxxxxxxx | AP2: xxxxxxxxxxx | AQ2: xxxxxxxxxxx | AR2: ≥ 31 | AS2: Base | AT2: Draw lead | AU2: M12 | AW2: xxxxxxxxxxx | AX2: xxxxxxxxxxx | AY2: xxxxxxxxxxx | AZ2: ≥ 31 | BA2: Base | BB2: Draw lead | BC2: M12 | BE2: xxxxxxxxxxx | BF2: xxxxxxxxxxx | BG2: xxxxxxxxxxx | BH2: ≥ 31 | BI2: Base | BJ2: Draw lead | BK2: M12 | BM2: xxxxxxxxxxx | BN2: xxxxxxxxxxx | BO2: xxxxxxxxxxx | BP2: M12 | BQ2: N/A | BR2: N/A | BT2: Distribution | BU2: 80500 | BV2: 17500 | BW2: 110 | BX2: 880 | BZ2: 3,0 to 4,5 | CA2: xxxxxxxxxx | CC2: ≤ 48 | CE2: xxxxxxxxxxx | CF2: xxxxxxxxxxx | CH2: xxxxxxxxxxx | CI2: xxxxxxxxxxx | CK2: Steel or Amporphous | CL2: xxxxxxxxxxx | CM2: xxxxxxxxxxx | CN2: xxxxxxxxxxx | CP2: Sealed | CQ2: xxxxxxxxxx | CS2: ≤ 1 080 | CT2: ≤ 1 500 | CU2: ≤ 1 500 | CV2: ≤ 900 | CW2: xxxxxxxxxxx | CX2: =2*R2 -> 190 | CY2: 100 | DA2: No | DB2: N/A | DC2: N/A | DD2: N/A | DE2: N/A | DF2: N/A | DG2: N/A | DH2: N/A | DI2: N/A | DJ2: N/A | DL2: Yes | DM2: 400 | DN2: xxxxxxxxxxx | DO2: ≥ 320 | DP2: ≤ 120 | DQ2: 22 | DS2: Yes | DT2: ≥ 30 | DV2: 316 Stainless Steel or Mild Steel | DW2: ≥ 30 | DX2: 316 Stainless Steel or Mild Steel | DY2: M12 x 25 | DZ2: Yes | EB2: Yes | EC2: 14 | ED2: ≥ 200 | EE2: ≥ 190 | EF2: ≥ 150 | EI2: xxxxxxxxxxx | EJ2: xxxxxxxxxxx | EK2: xxxxxxxxxxx | EL2: Avocado | EO2: xxxxxxxxxxx | EP2: xxxxxxxxxxx | EQ2: xxxxxxxxxxx | ER2: Azure Blue | ES2: Report Numbers | ET2: Report Numbers | EU2: 40
A3: SWER Isolation, 50kVA 22kV/ 19kV* (Coastal, Ester Oil Only) | C3: xxxxxxxxxxx | D3: xxxxxxxxxxx | E3: xxxxxxxxxxx | F3: xxxxxxxxxxx | G3: xxxxxxxxxxx | H3: xxxxxxxxxxx | I3: Ester Oil | K3: 50 | L3: 22 | M3: 19 | N3: 50 | O3: 1ph | P3: N/A | R3: 150 | S3: 200 | T3: 30 | U3: 50 | V3: 8 | X3: xxxxxxxxxxx | Y3: Grade 3 | Z3: > 0.125 | AA3: xxxxxxxxxxx | AB3: xxxxxxxxxxx | AC3: 21 | AD3: 8 | AE3: <5 | AG3: < 5 | AH3: < 5 | AI3: xxxxxxxxxxx | AJ3: xxxxxxxxxxx | AL3: xxxxxxxxxxx | AM3: N/A | AO3: xxxxxxxxxxx | AP3: xxxxxxxxxxx | AQ3: xxxxxxxxxxx | AR3: ≥ 31 | AS3: Base | AT3: Draw lead | AU3: M12 | AW3: xxxxxxxxxxx | AX3: xxxxxxxxxxx | AY3: xxxxxxxxxxx | AZ3: ≥ 31 | BA3: Base | BB3: Draw lead | BC3: M12 | BE3: xxxxxxxxxxx | BF3: xxxxxxxxxxx | BG3: xxxxxxxxxxx | BH3: ≥ 31 | BI3: Base | BJ3: Draw lead | BK3: M12 | BM3: xxxxxxxxxxx | BN3: xxxxxxxxxxx | BO3: xxxxxxxxxxx | BP3: M12 | BQ3: N/A | BR3: N/A | BT3: Distribution | BU3: 80500 | BV3: 17500 | BW3: 110 | BX3: 880 | BZ3: 3,0 to 4,5 | CA3: xxxxxxxxxx | CC3: ≤ 48 | CE3: xxxxxxxxxxx | CF3: xxxxxxxxxxx | CH3: xxxxxxxxxxx | CI3: xxxxxxxxxxx | CK3: Steel or Amporphous | CL3: xxxxxxxxxxx | CM3: xxxxxxxxxxx | CN3: xxxxxxxxxxx | CP3: Sealed | CQ3: xxxxxxxxxx | CS3: ≤ 1 080 | CT3: ≤ 1 500 | CU3: ≤ 1 500 | CV3: ≤ 900 | CW3: xxxxxxxxxxx | CX3: =2*R3 -> 300 | CY3: 100 | DA3: No | DB3: N/A | DC3: N/A | DD3: N/A | DE3: N/A | DF3: N/A | DG3: N/A | DH3: N/A | DI3: N/A | DJ3: N/A | DL3: Yes | DM3: 400 | DN3: xxxxxxxxxxx | DO3: ≥ 320 | DP3: ≤ 120 | DQ3: 22 | DS3: Yes | DT3: ≥ 30 | DV3: 316 Stainless Steel or Mild Steel | DW3: ≥ 30 | DX3: 316 Stainless Steel or Mild Steel | DY3: M12 x 25 | DZ3: Yes | EB3: Yes | EC3: 14 | ED3: ≥ 200 | EE3: ≥ 300 | EF3: ≥ 150 | EI3: xxxxxxxxxxx | EJ3: xxxxxxxxxxx | EK3: xxxxxxxxxxx | EL3: Avocado | EO3: xxxxxxxxxxx | EP3: xxxxxxxxxxx | EQ3: xxxxxxxxxxx | ER3: Azure Blue | ES3: Report Numbers | ET3: Report Numbers | EU3: 40
A4: SWER Isolation, 50kVA 33kV/ 19kV* (Coastal, Ester Oil Only) | C4: xxxxxxxxxxx | D4: xxxxxxxxxxx | E4: xxxxxxxxxxx | F4: xxxxxxxxxxx | G4: xxxxxxxxxxx | H4: xxxxxxxxxxx | I4: Ester Oil | K4: 50 | L4: 33 | M4: 19 | N4: 50 | O4: 1ph | P4: N/A | R4: 200 | S4: 200 | T4: 30 | U4: 70 | V4: 8 | X4: xxxxxxxxxxx | Y4: Grade 3 | Z4: > 0.125 | AA4: xxxxxxxxxxx | AB4: xxxxxxxxxxx | AC4: 21 | AD4: 8 | AE4: <5 | AG4: < 5 | AH4: < 5 | AI4: xxxxxxxxxxx | AJ4: xxxxxxxxxxx | AL4: xxxxxxxxxxx | AM4: N/A | AO4: xxxxxxxxxxx | AP4: xxxxxxxxxxx | AQ4: xxxxxxxxxxx | AR4: ≥ 31 | AS4: Base | AT4: Draw lead | AU4: M12 | AW4: xxxxxxxxxxx | AX4: xxxxxxxxxxx | AY4: xxxxxxxxxxx | AZ4: ≥ 31 | BA4: Base | BB4: Draw lead | BC4: M12 | BE4: xxxxxxxxxxx | BF4: xxxxxxxxxxx | BG4: xxxxxxxxxxx | BH4: ≥ 31 | BI4: Base | BJ4: Draw lead | BK4: M12 | BM4: xxxxxxxxxxx | BN4: xxxxxxxxxxx | BO4: xxxxxxxxxxx | BP4: M12 | BQ4: N/A | BR4: N/A | BT4: Distribution | BU4: 80500 | BV4: 17500 | BW4: 110 | BX4: 880 | BZ4: 3,0 to 4,5 | CA4: xxxxxxxxxx | CC4: ≤ 48 | CE4: xxxxxxxxxxx | CF4: xxxxxxxxxxx | CH4: xxxxxxxxxxx | CI4: xxxxxxxxxxx | CK4: Steel or Amporphous | CL4: xxxxxxxxxxx | CM4: xxxxxxxxxxx | CN4: xxxxxxxxxxx | CP4: Sealed | CQ4: xxxxxxxxxx | CS4: ≤ 1 080 | CT4: ≤ 1 500 | CU4: ≤ 1 500 | CV4: ≤ 900 | CW4: xxxxxxxxxxx | CX4: =2*R4 -> 400 | CY4: 100 | DA4: No | DB4: N/A | DC4: N/A | DD4: N/A | DE4: N/A | DF4: N/A | DG4: N/A | DH4: N/A | DI4: N/A | DJ4: N/A | DL4: Yes | DM4: 400 | DN4: xxxxxxxxxxx | DO4: ≥ 320 | DP4: ≤ 120 | DQ4: 22 | DS4: Yes | DT4: ≥ 30 | DV4: 316 Stainless Steel or Mild Steel | DW4: ≥ 30 | DX4: 316 Stainless Steel or Mild Steel | DY4: M12 x 25 | DZ4: Yes | EB4: Yes | EC4: 14 | ED4: ≥ 200 | EE4: ≥ 400 | EF4: ≥ 150 | EI4: xxxxxxxxxxx | EJ4: xxxxxxxxxxx | EK4: xxxxxxxxxxx | EL4: Avocado | EO4: xxxxxxxxxxx | EP4: xxxxxxxxxxx | EQ4: xxxxxxxxxxx | ER4: Azure Blue | ES4: Report Numbers | ET4: Report Numbers | EU4: 40
A5: SWER Isolation, 100kVA 11kV/ 19kV* (Coastal, Ester Oil Only) | C5: xxxxxxxxxxx | D5: xxxxxxxxxxx | E5: xxxxxxxxxxx | F5: xxxxxxxxxxx | G5: xxxxxxxxxxx | H5: xxxxxxxxxxx | I5: Ester Oil | K5: 100 | L5: 11 | M5: 19 | N5: 50 | O5: 1ph | P5: N/A | R5: 95 | S5: 200 | T5: 30 | U5: 28 | V5: 8 | X5: xxxxxxxxxxx | Y5: Grade 3 | Z5: > 0.125 | AA5: xxxxxxxxxxx | AB5: xxxxxxxxxxx | AC5: 21 | AD5: 8 | AE5: <5 | AG5: < 5 | AH5: < 5 | AI5: xxxxxxxxxxx | AJ5: xxxxxxxxxxx | AL5: xxxxxxxxxxx | AM5: N/A | AO5: xxxxxxxxxxx | AP5: xxxxxxxxxxx | AQ5: xxxxxxxxxxx | AR5: ≥ 31 | AS5: Base | AT5: Draw lead | AU5: M12 | AW5: xxxxxxxxxxx | AX5: xxxxxxxxxxx | AY5: xxxxxxxxxxx | AZ5: ≥ 31 | BA5: Base | BB5: Draw lead | BC5: M12 | BE5: xxxxxxxxxxx | BF5: xxxxxxxxxxx | BG5: xxxxxxxxxxx | BH5: ≥ 31 | BI5: Base | BJ5: Draw lead | BK5: M12 | BM5: xxxxxxxxxxx | BN5: xxxxxxxxxxx | BO5: xxxxxxxxxxx | BP5: M12 | BQ5: N/A | BR5: N/A | BT5: Distribution | BU5: 80500 | BV5: 17500 | BW5: 190 | BX5: 1500 | BZ5: 3,0 to 4,5 | CA5: xxxxxxxxxx | CC5: ≤ 48 | CE5: xxxxxxxxxxx | CF5: xxxxxxxxxxx | CH5: xxxxxxxxxxx | CI5: xxxxxxxxxxx | CK5: Steel or Amporphous | CL5: xxxxxxxxxxx | CM5: xxxxxxxxxxx | CN5: xxxxxxxxxxx | CP5: Sealed | CQ5: xxxxxxxxxx | CS5: ≤ 1 080 | CT5: ≤ 1 500 | CU5: ≤ 1 500 | CV5: ≤ 900 | CW5: xxxxxxxxxxx | CX5: =2*R5 -> 190 | CY5: 100 | DA5: No | DB5: N/A | DC5: N/A | DD5: N/A | DE5: N/A | DF5: N/A | DG5: N/A | DH5: N/A | DI5: N/A | DJ5: N/A | DL5: Yes | DM5: 400 | DN5: xxxxxxxxxxx | DO5: ≥ 320 | DP5: ≤ 120 | DQ5: 22 | DS5: Yes | DT5: ≥ 30 | DV5: 316 Stainless Steel or Mild Steel | DW5: ≥ 30 | DX5: 316 Stainless Steel or Mild Steel | DY5: M12 x 25 | DZ5: Yes | EB5: Yes | EC5: 14 | ED5: ≥ 200 | EE5: ≥ 190 | EF5: ≥ 150 | EI5: xxxxxxxxxxx | EJ5: xxxxxxxxxxx | EK5: xxxxxxxxxxx | EL5: Avocado | EO5: xxxxxxxxxxx | EP5: xxxxxxxxxxx | EQ5: xxxxxxxxxxx | ER5: Azure Blue | ES5: Report Numbers | ET5: Report Numbers | EU5: 70
A6: SWER Isolation, 100kVA 22kV/ 19kV* (Coastal, Ester Oil Only) | C6: xxxxxxxxxxx | D6: xxxxxxxxxxx | E6: xxxxxxxxxxx | F6: xxxxxxxxxxx | G6: xxxxxxxxxxx | H6: xxxxxxxxxxx | I6: Ester Oil | K6: 100 | L6: 22 | M6: 19 | N6: 50 | O6: 1ph | P6: N/A | R6: 150 | S6: 200 | T6: 30 | U6: 50 | V6: 8 | X6: xxxxxxxxxxx | Y6: Grade 3 | Z6: > 0.125 | AA6: xxxxxxxxxxx | AB6: xxxxxxxxxxx | AC6: 21 | AD6: 8 | AE6: <5 | AG6: < 5 | AH6: < 5 | AI6: xxxxxxxxxxx | AJ6: xxxxxxxxxxx | AL6: xxxxxxxxxxx | AM6: N/A | AO6: xxxxxxxxxxx | AP6: xxxxxxxxxxx | AQ6: xxxxxxxxxxx | AR6: ≥ 31 | AS6: Base | AT6: Draw lead | AU6: M12 | AW6: xxxxxxxxxxx | AX6: xxxxxxxxxxx | AY6: xxxxxxxxxxx | AZ6: ≥ 31 | BA6: Base | BB6: Draw lead | BC6: M12 | BE6: xxxxxxxxxxx | BF6: xxxxxxxxxxx | BG6: xxxxxxxxxxx | BH6: ≥ 31 | BI6: Base | BJ6: Draw lead | BK6: M12 | BM6: xxxxxxxxxxx | BN6: xxxxxxxxxxx | BO6: xxxxxxxxxxx | BP6: M12 | BQ6: N/A | BR6: N/A | BT6: Distribution | BU6: 80500 | BV6: 17500 | BW6: 190 | BX6: 1500 | BZ6: 3,0 to 4,5 | CA6: xxxxxxxxxx | CC6: ≤ 48 | CE6: xxxxxxxxxxx | CF6: xxxxxxxxxxx | CH6: xxxxxxxxxxx | CI6: xxxxxxxxxxx | CK6: Steel or Amporphous | CL6: xxxxxxxxxxx | CM6: xxxxxxxxxxx | CN6: xxxxxxxxxxx | CP6: Sealed | CQ6: xxxxxxxxxx | CS6: ≤ 1 080 | CT6: ≤ 1 500 | CU6: ≤ 1 500 | CV6: ≤ 900 | CW6: xxxxxxxxxxx | CX6: =2*R6 -> 300 | CY6: 100 | DA6: No | DB6: N/A | DC6: N/A | DD6: N/A | DE6: N/A | DF6: N/A | DG6: N/A | DH6: N/A | DI6: N/A | DJ6: N/A | DL6: Yes | DM6: 400 | DN6: xxxxxxxxxxx | DO6: ≥ 320 | DP6: ≤ 120 | DQ6: 22 | DS6: Yes | DT6: ≥ 30 | DV6: 316 Stainless Steel or Mild Steel | DW6: ≥ 30 | DX6: 316 Stainless Steel or Mild Steel | DY6: M12 x 25 | DZ6: Yes | EB6: Yes | EC6: 14 | ED6: ≥ 200 | EE6: ≥ 300 | EF6: ≥ 150 | EI6: xxxxxxxxxxx | EJ6: xxxxxxxxxxx | EK6: xxxxxxxxxxx | EL6: Avocado | EO6: xxxxxxxxxxx | EP6: xxxxxxxxxxx | EQ6: xxxxxxxxxxx | ER6: Azure Blue | ES6: Report Numbers | ET6: Report Numbers | EU6: 70
A7: SWER Isolation, 100kVA 33kV/ 19kV* (Coastal, Ester Oil Only) | C7: xxxxxxxxxxx | D7: xxxxxxxxxxx | E7: xxxxxxxxxxx | F7: xxxxxxxxxxx | G7: xxxxxxxxxxx | H7: xxxxxxxxxxx | I7: Ester Oil | K7: 100 | L7: 33 | M7: 19 | N7: 50 | O7: 1ph | P7: N/A | R7: 200 | S7: 200 | T7: 30 | U7: 70 | V7: 8 | X7: xxxxxxxxxxx | Y7: Grade 3 | Z7: > 0.125 | AA7: xxxxxxxxxxx | AB7: xxxxxxxxxxx | AC7: 21 | AD7: 8 | AE7: <5 | AG7: < 5 | AH7: < 5 | AI7: xxxxxxxxxxx | AJ7: xxxxxxxxxxx | AL7: xxxxxxxxxxx | AM7: N/A | AO7: xxxxxxxxxxx | AP7: xxxxxxxxxxx | AQ7: xxxxxxxxxxx | AR7: ≥ 31 | AS7: Base | AT7: Draw lead | AU7: M12 | AW7: xxxxxxxxxxx | AX7: xxxxxxxxxxx | AY7: xxxxxxxxxxx | AZ7: ≥ 31 | BA7: Base | BB7: Draw lead | BC7: M12 | BE7: xxxxxxxxxxx | BF7: xxxxxxxxxxx | BG7: xxxxxxxxxxx | BH7: ≥ 31 | BI7: Base | BJ7: Draw lead | BK7: M12 | BM7: xxxxxxxxxxx | BN7: xxxxxxxxxxx | BO7: xxxxxxxxxxx | BP7: M12 | BQ7: N/A | BR7: N/A | BT7: Distribution | BU7: 80500 | BV7: 17500 | BW7: 190 | BX7: 1500 | BZ7: 3,0 to 4,5 | CA7: xxxxxxxxxx | CC7: ≤ 48 | CE7: xxxxxxxxxxx | CF7: xxxxxxxxxxx | CH7: xxxxxxxxxxx | CI7: xxxxxxxxxxx | CK7: Steel or Amporphous | CL7: xxxxxxxxxxx | CM7: xxxxxxxxxxx | CN7: xxxxxxxxxxx | CP7: Sealed | CQ7: xxxxxxxxxx | CS7: ≤ 1 080 | CT7: ≤ 1 500 | CU7: ≤ 1 500 | CV7: ≤ 900 | CW7: xxxxxxxxxxx | CX7: =2*R7 -> 400 | CY7: 100 | DA7: No | DB7: N/A | DC7: N/A | DD7: N/A | DE7: N/A | DF7: N/A | DG7: N/A | DH7: N/A | DI7: N/A | DJ7: N/A | DL7: Yes | DM7: 400 | DN7: xxxxxxxxxxx | DO7: ≥ 320 | DP7: ≤ 120 | DQ7: 22 | DS7: Yes | DT7: ≥ 30 | DV7: 316 Stainless Steel or Mild Steel | DW7: ≥ 30 | DX7: 316 Stainless Steel or Mild Steel | DY7: M12 x 25 | DZ7: Yes | EB7: Yes | EC7: 14 | ED7: ≥ 200 | EE7: ≥ 400 | EF7: ≥ 150 | EI7: xxxxxxxxxxx | EJ7: xxxxxxxxxxx | EK7: xxxxxxxxxxx | EL7: Avocado | EO7: xxxxxxxxxxx | EP7: xxxxxxxxxxx | EQ7: xxxxxxxxxxx | ER7: Azure Blue | ES7: Report Numbers | ET7: Report Numbers | EU7: 70
A8: SWER Isolation, 200kVA 11kV/ 19kV* (Coastal, Ester Oil Only) | C8: xxxxxxxxxxx | D8: xxxxxxxxxxx | E8: xxxxxxxxxxx | F8: xxxxxxxxxxx | G8: xxxxxxxxxxx | H8: xxxxxxxxxxx | I8: Ester Oil | K8: 200 | L8: 11 | M8: 19 | N8: 50 | O8: 1ph | P8: N/A | R8: 95 | S8: 200 | T8: 30 | U8: 28 | V8: 8 | X8: xxxxxxxxxxx | Y8: Grade 3 | Z8: > 0.125 | AA8: xxxxxxxxxxx | AB8: xxxxxxxxxxx | AC8: 21 | AD8: 8 | AE8: <5 | AG8: < 5 | AH8: < 5 | AI8: xxxxxxxxxxx | AJ8: xxxxxxxxxxx | AL8: xxxxxxxxxxx | AM8: N/A | AO8: xxxxxxxxxxx | AP8: xxxxxxxxxxx | AQ8: xxxxxxxxxxx | AR8: ≥ 31 | AS8: Base | AT8: Draw lead | AU8: M12 | AW8: xxxxxxxxxxx | AX8: xxxxxxxxxxx | AY8: xxxxxxxxxxx | AZ8: ≥ 31 | BA8: Base | BB8: Draw lead | BC8: M12 | BE8: xxxxxxxxxxx | BF8: xxxxxxxxxxx | BG8: xxxxxxxxxxx | BH8: ≥ 31 | BI8: Base | BJ8: Draw lead | BK8: M12 | BM8: xxxxxxxxxxx | BN8: xxxxxxxxxxx | BO8: xxxxxxxxxxx | BP8: M12 | BQ8: N/A | BR8: N/A | BT8: Distribution | BU8: 80500 | BV8: 17500 | BW8: 320 | BX8: 2600 | BZ8: 4,0 to 5,0 | CA8: xxxxxxxxxx | CC8: ≤ 48 | CE8: xxxxxxxxxxx | CF8: xxxxxxxxxxx | CH8: xxxxxxxxxxx | CI8: xxxxxxxxxxx | CK8: Steel or Amporphous | CL8: xxxxxxxxxxx | CM8: xxxxxxxxxxx | CN8: xxxxxxxxxxx | CP8: Sealed | CQ8: xxxxxxxxxx | CS8: xxxxxxxxxxx | CT8: ≤ 1 500 | CU8: ≤ 2 000 | CV8: ≤ 1 700 | CW8: xxxxxxxxxxx | CX8: =2*R8 -> 190 | CY8: 100 | DA8: No | DB8: N/A | DC8: N/A | DD8: N/A | DE8: N/A | DF8: N/A | DG8: N/A | DH8: N/A | DI8: N/A | DJ8: N/A | DL8: Yes | DM8: 400 | DN8: xxxxxxxxxxx | DO8: ≥ 320 | DP8: ≤ 120 | DQ8: 22 | DS8: Yes | DT8: ≥ 30 | DV8: 316 Stainless Steel or Mild Steel | DW8: ≥ 30 | DX8: 316 Stainless Steel or Mild Steel | DY8: M12 x 25 | DZ8: Yes | EB8: Yes | EC8: 14 | ED8: ≥ 200 | EE8: ≥ 190 | EF8: ≥ 150 | EI8: xxxxxxxxxxx | EJ8: xxxxxxxxxxx | EK8: xxxxxxxxxxx | EL8: Avocado | EO8: xxxxxxxxxxx | EP8: xxxxxxxxxxx | EQ8: xxxxxxxxxxx | ER8: Azure Blue | ES8: Report Numbers | ET8: Report Numbers | EU8: 120
A9: SWER Isolation, 200kVA 22kV/ 19kV* (Coastal, Ester Oil Only) | C9: xxxxxxxxxxx | D9: xxxxxxxxxxx | E9: xxxxxxxxxxx | F9: xxxxxxxxxxx | G9: xxxxxxxxxxx | H9: xxxxxxxxxxx | I9: Ester Oil | K9: 200 | L9: 22 | M9: 19 | N9: 50 | O9: 1ph | P9: N/A | R9: 150 | S9: 200 | T9: 30 | U9: 50 | V9: 8 | X9: xxxxxxxxxxx | Y9: Grade 3 | Z9: > 0.125 | AA9: xxxxxxxxxxx | AB9: xxxxxxxxxxx | AC9: 21 | AD9: 8 | AE9: <5 | AG9: < 5 | AH9: < 5 | AI9: xxxxxxxxxxx | AJ9: xxxxxxxxxxx | AL9: xxxxxxxxxxx | AM9: N/A | AO9: xxxxxxxxxxx | AP9: xxxxxxxxxxx | AQ9: xxxxxxxxxxx | AR9: ≥ 31 | AS9: Base | AT9: Draw lead | AU9: M12 | AW9: xxxxxxxxxxx | AX9: xxxxxxxxxxx | AY9: xxxxxxxxxxx | AZ9: ≥ 31 | BA9: Base | BB9: Draw lead | BC9: M12 | BE9: xxxxxxxxxxx | BF9: xxxxxxxxxxx | BG9: xxxxxxxxxxx | BH9: ≥ 31 | BI9: Base | BJ9: Draw lead | BK9: M12 | BM9: xxxxxxxxxxx | BN9: xxxxxxxxxxx | BO9: xxxxxxxxxxx | BP9: M12 | BQ9: N/A | BR9: N/A | BT9: Distribution | BU9: 80500 | BV9: 17500 | BW9: 320 | BX9: 2600 | BZ9: 4,0 to 5,0 | CA9: xxxxxxxxxx | CC9: ≤ 48 | CE9: xxxxxxxxxxx | CF9: xxxxxxxxxxx | CH9: xxxxxxxxxxx | CI9: xxxxxxxxxxx | CK9: Steel or Amporphous | CL9: xxxxxxxxxxx | CM9: xxxxxxxxxxx | CN9: xxxxxxxxxxx | CP9: Sealed | CQ9: xxxxxxxxxx | CS9: xxxxxxxxxxx | CT9: ≤ 1 500 | CU9: ≤ 2000 | CV9: ≤ 1700 | CW9: xxxxxxxxxxx | CX9: =2*R9 -> 300 | CY9: 100 | DA9: No | DB9: N/A | DC9: N/A | DD9: N/A | DE9: N/A | DF9: N/A | DG9: N/A | DH9: N/A | DI9: N/A | DJ9: N/A | DL9: Yes | DM9: 400 | DN9: xxxxxxxxxxx | DO9: ≥ 320 | DP9: ≤ 120 | DQ9: 22 | DS9: Yes | DT9: ≥ 30 | DV9: 316 Stainless Steel or Mild Steel | DW9: ≥ 30 | DX9: 316 Stainless Steel or Mild Steel | DY9: M12 x 25 | DZ9: Yes | EB9: Yes | EC9: 14 | ED9: ≥ 200 | EE9: ≥ 300 | EF9: ≥ 150 | EI9: xxxxxxxxxxx | EJ9: xxxxxxxxxxx | EK9: xxxxxxxxxxx | EL9: Avocado | EO9: xxxxxxxxxxx | EP9: xxxxxxxxxxx | EQ9: xxxxxxxxxxx | ER9: Azure Blue | ES9: Report Numbers | ET9: Report Numbers | EU9: 120
A10: SWER Isolation, 200kVA 33kV/ 19kV* (Coastal, Ester Oil Only) | C10: xxxxxxxxxxx | D10: xxxxxxxxxxx | E10: xxxxxxxxxxx | F10: xxxxxxxxxxx | G10: xxxxxxxxxxx | H10: xxxxxxxxxxx | I10: Ester Oil | K10: 200 | L10: 33 | M10: 19 | N10: 50 | O10: 1ph | P10: N/A | R10: 200 | S10: 200 | T10: 30 | U10: 70 | V10: 8 | X10: xxxxxxxxxxx | Y10: Grade 3 | Z10: > 0.125 | AA10: xxxxxxxxxxx | AB10: xxxxxxxxxxx | AC10: 21 | AD10: 8 | AE10: <5 | AG10: < 5 | AH10: < 5 | AI10: xxxxxxxxxxx | AJ10: xxxxxxxxxxx | AL10: xxxxxxxxxxx | AM10: N/A | AO10: xxxxxxxxxxx | AP10: xxxxxxxxxxx | AQ10: xxxxxxxxxxx | AR10: ≥ 31 | AS10: Base | AT10: Draw lead | AU10: M12 | AW10: xxxxxxxxxxx | AX10: xxxxxxxxxxx | AY10: xxxxxxxxxxx | AZ10: ≥ 31 | BA10: Base | BB10: Draw lead | BC10: M12 | BE10: xxxxxxxxxxx | BF10: xxxxxxxxxxx | BG10: xxxxxxxxxxx | BH10: ≥ 31 | BI10: Base | BJ10: Draw lead | BK10: M12 | BM10: xxxxxxxxxxx | BN10: xxxxxxxxxxx | BO10: xxxxxxxxxxx | BP10: M12 | BQ10: N/A | BR10: N/A | BT10: Distribution | BU10: 80500 | BV10: 17500 | BW10: 320 | BX10: 2600 | BZ10: 4,0 to 5,0 | CA10: xxxxxxxxxx | CC10: ≤ 48 | CE10: xxxxxxxxxxx | CF10: xxxxxxxxxxx | CH10: xxxxxxxxxxx | CI10: xxxxxxxxxxx | CK10: Steel or Amporphous | CL10: xxxxxxxxxxx | CM10: xxxxxxxxxxx | CN10: xxxxxxxxxxx | CP10: Sealed | CQ10: xxxxxxxxxx | CS10: xxxxxxxxxxx | CT10: ≤ 1 500 | CU10: ≤ 2000 | CV10: ≤ 1700 | CW10: xxxxxxxxxxx | CX10: =2*R10 -> 400 | CY10: 100 | DA10: No | DB10: N/A | DC10: N/A | DD10: N/A | DE10: N/A | DF10: N/A | DG10: N/A | DH10: N/A | DI10: N/A | DJ10: N/A | DL10: Yes | DM10: 400 | DN10: xxxxxxxxxxx | DO10: ≥ 320 | DP10: ≤ 120 | DQ10: 22 | DS10: Yes | DT10: ≥ 30 | DV10: 316 Stainless Steel or Mild Steel | DW10: ≥ 30 | DX10: 316 Stainless Steel or Mild Steel | DY10: M12 x 25 | DZ10: Yes | EB10: Yes | EC10: 14 | ED10: ≥ 200 | EE10: ≥ 400 | EF10: ≥ 150 | EI10: xxxxxxxxxxx | EJ10: xxxxxxxxxxx | EK10: xxxxxxxxxxx | EL10: Avocado | EO10: xxxxxxxxxxx | EP10: xxxxxxxxxxx | EQ10: xxxxxxxxxxx | ER10: Azure Blue | ES10: Report Numbers | ET10: Report Numbers | EU10: 120
A11: SWER Isolation, 400kVA 11kV/ 19kV* (Coastal, Ester Oil Only) | C11: xxxxxxxxxxx | D11: xxxxxxxxxxx | E11: xxxxxxxxxxx | F11: xxxxxxxxxxx | G11: xxxxxxxxxxx | H11: xxxxxxxxxxx | I11: Ester Oil | K11: 400 | L11: 11 | M11: 19 | N11: 50 | O11: 1ph | P11: N/A | R11: 95 | S11: 200 | T11: 30 | U11: 28 | V11: 8 | X11: xxxxxxxxxxx | Y11: Grade 3 | Z11: > 0.125 | AA11: xxxxxxxxxxx | AB11: xxxxxxxxxxx | AC11: 21 | AD11: 8 | AE11: <5 | AG11: < 5 | AH11: < 5 | AI11: xxxxxxxxxxx | AJ11: xxxxxxxxxxx | AL11: xxxxxxxxxxx | AM11: N/A | AO11: xxxxxxxxxxx | AP11: xxxxxxxxxxx | AQ11: xxxxxxxxxxx | AR11: ≥ 31 | AS11: Base | AT11: Draw lead | AU11: M12 | AW11: xxxxxxxxxxx | AX11: xxxxxxxxxxx | AY11: xxxxxxxxxxx | AZ11: ≥ 31 | BA11: Base | BB11: Draw lead | BC11: M12 | BE11: xxxxxxxxxxx | BF11: xxxxxxxxxxx | BG11: xxxxxxxxxxx | BH11: ≥ 31 | BI11: Base | BJ11: Draw lead | BK11: M12 | BM11: xxxxxxxxxxx | BN11: xxxxxxxxxxx | BO11: xxxxxxxxxxx | BP11: M12 | BQ11: N/A | BR11: N/A | BT11: Distribution | BU11: 80500 | BV11: 17500 | BW11: 630 | BX11: 5200 | BZ11: 4,0 to 5,0 | CA11: xxxxxxxxxx | CC11: ≤ 52 | CE11: xxxxxxxxxxx | CF11: xxxxxxxxxxx | CH11: xxxxxxxxxxx | CI11: xxxxxxxxxxx | CK11: Steel or Amporphous | CL11: xxxxxxxxxxx | CM11: xxxxxxxxxxx | CN11: xxxxxxxxxxx | CP11: Sealed | CQ11: xxxxxxxxxx | CS11: ≤ 1 800 | CT11: ≤ 1 500 | CU11: ≤ 2000 | CV11: ≤ 3500 | CW11: xxxxxxxxxxx | CX11: =2*R11 -> 190 | CY11: 100 | DA11: No | DB11: N/A | DC11: N/A | DD11: N/A | DE11: N/A | DF11: N/A | DG11: N/A | DH11: N/A | DI11: N/A | DJ11: N/A | DL11: Yes | DM11: 400 | DN11: xxxxxxxxxxx | DO11: ≥ 320 | DP11: ≤ 120 | DQ11: 22 | DS11: Yes | DT11: ≥ 30 | DV11: 316 Stainless Steel or Mild Steel | DW11: ≥ 30 | DX11: 316 Stainless Steel or Mild Steel | DY11: M12 x 25 | DZ11: Yes | EB11: Yes | EC11: 14 | ED11: ≥ 200 | EE11: ≥ 190 | EF11: ≥ 150 | EI11: xxxxxxxxxxx | EJ11: xxxxxxxxxxx | EK11: xxxxxxxxxxx | EL11: Avocado | EO11: xxxxxxxxxxx | EP11: xxxxxxxxxxx | EQ11: xxxxxxxxxxx | ER11: Azure Blue | ES11: Report Numbers | ET11: Report Numbers | EU11: 230
A12: SWER Isolation, 400kVA 22kV/ 19kV* (Coastal, Ester Oil Only) | C12: xxxxxxxxxxx | D12: xxxxxxxxxxx | E12: xxxxxxxxxxx | F12: xxxxxxxxxxx | G12: xxxxxxxxxxx | H12: xxxxxxxxxxx | I12: Ester Oil | K12: 400 | L12: 22 | M12: 19 | N12: 50 | O12: 1ph | P12: N/A | R12: 150 | S12: 200 | T12: 30 | U12: 50 | V12: 8 | X12: xxxxxxxxxxx | Y12: Grade 3 | Z12: > 0.125 | AA12: xxxxxxxxxxx | AB12: xxxxxxxxxxx | AC12: 21 | AD12: 8 | AE12: <5 | AG12: < 5 | AH12: < 5 | AI12: xxxxxxxxxxx | AJ12: xxxxxxxxxxx | AL12: xxxxxxxxxxx | AM12: N/A | AO12: xxxxxxxxxxx | AP12: xxxxxxxxxxx | AQ12: xxxxxxxxxxx | AR12: ≥ 31 | AS12: Base | AT12: Draw lead | AU12: M12 | AW12: xxxxxxxxxxx | AX12: xxxxxxxxxxx | AY12: xxxxxxxxxxx | AZ12: ≥ 31 | BA12: Base | BB12: Draw lead | BC12: M12 | BE12: xxxxxxxxxxx | BF12: xxxxxxxxxxx | BG12: xxxxxxxxxxx | BH12: ≥ 31 | BI12: Base | BJ12: Draw lead | BK12: M12 | BM12: xxxxxxxxxxx | BN12: xxxxxxxxxxx | BO12: xxxxxxxxxxx | BP12: M12 | BQ12: N/A | BR12: N/A | BT12: Distribution | BU12: 80500 | BV12: 17500 | BW12: 630 | BX12: 5200 | BZ12: 4,0 to 5,0 | CA12: xxxxxxxxxx | CC12: ≤ 52 | CE12: xxxxxxxxxxx | CF12: xxxxxxxxxxx | CH12: xxxxxxxxxxx | CI12: xxxxxxxxxxx | CK12: Steel or Amporphous | CL12: xxxxxxxxxxx | CM12: xxxxxxxxxxx | CN12: xxxxxxxxxxx | CP12: Sealed | CQ12: xxxxxxxxxx | CS12: ≤ 1 800 | CT12: ≤ 1 500 | CU12: ≤ 2000 | CV12: ≤ 3500 | CW12: xxxxxxxxxxx | CX12: =2*R12 -> 300 | CY12: 100 | DA12: No | DB12: N/A | DC12: N/A | DD12: N/A | DE12: N/A | DF12: N/A | DG12: N/A | DH12: N/A | DI12: N/A | DJ12: N/A | DL12: Yes | DM12: 400 | DN12: xxxxxxxxxxx | DO12: ≥ 320 | DP12: ≤ 120 | DQ12: 22 | DS12: Yes | DT12: ≥ 30 | DV12: 316 Stainless Steel or Mild Steel | DW12: ≥ 30 | DX12: 316 Stainless Steel or Mild Steel | DY12: M12 x 25 | DZ12: Yes | EB12: Yes | EC12: 14 | ED12: ≥ 200 | EE12: ≥ 300 | EF12: ≥ 150 | EI12: xxxxxxxxxxx | EJ12: xxxxxxxxxxx | EK12: xxxxxxxxxxx | EL12: Avocado | EO12: xxxxxxxxxxx | EP12: xxxxxxxxxxx | EQ12: xxxxxxxxxxx | ER12: Azure Blue | ES12: Report Numbers | ET12: Report Numbers | EU12: 230
A13: SWER Isolation, 400kVA 33kV/ 19kV* (Coastal, Ester Oil Only) | C13: xxxxxxxxxxx | D13: xxxxxxxxxxx | E13: xxxxxxxxxxx | F13: xxxxxxxxxxx | G13: xxxxxxxxxxx | H13: xxxxxxxxxxx | I13: Ester Oil | K13: 400 | L13: 33 | M13: 19 | N13: 50 | O13: 1ph | P13: N/A | R13: 200 | S13: 200 | T13: 30 | U13: 70 | V13: 8 | X13: xxxxxxxxxxx | Y13: Grade 3 | Z13: > 0.125 | AA13: xxxxxxxxxxx | AB13: xxxxxxxxxxx | AC13: 21 | AD13: 8 | AE13: <5 | AG13: < 5 | AH13: < 5 | AI13: xxxxxxxxxxx | AJ13: xxxxxxxxxxx | AL13: xxxxxxxxxxx | AM13: N/A | AO13: xxxxxxxxxxx | AP13: xxxxxxxxxxx | AQ13: xxxxxxxxxxx | AR13: ≥ 31 | AS13: Base | AT13: Draw lead | AU13: M12 | AW13: xxxxxxxxxxx | AX13: xxxxxxxxxxx | AY13: xxxxxxxxxxx | AZ13: ≥ 31 | BA13: Base | BB13: Draw lead | BC13: M12 | BE13: xxxxxxxxxxx | BF13: xxxxxxxxxxx | BG13: xxxxxxxxxxx | BH13: ≥ 31 | BI13: Base | BJ13: Draw lead | BK13: M12 | BM13: xxxxxxxxxxx | BN13: xxxxxxxxxxx | BO13: xxxxxxxxxxx | BP13: M12 | BQ13: N/A | BR13: N/A | BT13: Distribution | BU13: 80500 | BV13: 17500 | BW13: 630 | BX13: 5200 | BZ13: 4,0 to 5,0 | CA13: xxxxxxxxxx | CC13: ≤ 52 | CE13: xxxxxxxxxxx | CF13: xxxxxxxxxxx | CH13: xxxxxxxxxxx | CI13: xxxxxxxxxxx | CK13: Steel or Amporphous | CL13: xxxxxxxxxxx | CM13: xxxxxxxxxxx | CN13: xxxxxxxxxxx | CP13: Sealed | CQ13: xxxxxxxxxx | CS13: ≤ 1 800 | CT13: ≤ 1 500 | CU13: ≤ 2000 | CV13: ≤ 3500 | CW13: xxxxxxxxxxx | CX13: =2*R13 -> 400 | CY13: 100 | DA13: No | DB13: N/A | DC13: N/A | DD13: N/A | DE13: N/A | DF13: N/A | DG13: N/A | DH13: N/A | DI13: N/A | DJ13: N/A | DL13: Yes | DM13: 400 | DN13: xxxxxxxxxxx | DO13: ≥ 320 | DP13: ≤ 120 | DQ13: 22 | DS13: Yes | DT13: ≥ 30 | DV13: 316 Stainless Steel or Mild Steel | DW13: ≥ 30 | DX13: 316 Stainless Steel or Mild Steel | DY13: M12 x 25 | DZ13: Yes | EB13: Yes | EC13: 14 | ED13: ≥ 200 | EE13: ≥ 400 | EF13: ≥ 150 | EI13: xxxxxxxxxxx | EJ13: xxxxxxxxxxx | EK13: xxxxxxxxxxx | EL13: Avocado | EO13: xxxxxxxxxxx | EP13: xxxxxxxxxxx | EQ13: xxxxxxxxxxx | ER13: Azure Blue | ES13: Report Numbers | ET13: Report Numbers | EU13: 230
A14: 1 | B14: 2 | C14: 3 | D14: 4 | E14: 5 | F14: 6 | G14: 7 | H14: 8 | I14: 9 | J14: 10 | K14: 11 | L14: 12 | M14: 13 | N14: 14 | O14: 15 | P14: 16 | Q14: 17 | R14: 18 | S14: 19 | T14: 20 | U14: 21 | V14: 22 | W14: 23 | X14: 24 | Y14: 25 | Z14: 26 | AA14: 27 | AB14: 28 | AC14: 29 | AD14: 30 | AE14: 31 | AF14: 32 | AG14: 33 | AH14: 34 | AI14: 35 | AJ14: 36 | AK14: 37 | AL14: 38 | AM14: 39 | AN14: 40 | AO14: 41 | AP14: 42 | AQ14: 43 | AR14: 44 | AS14: 45 | AT14: 46 | AU14: 47 | AV14: 48 | AW14: 49 | AX14: 50 | AY14: 51 | AZ14: 52 | BA14: 53 | BB14: 54 | BC14: 55 | BD14: 56 | BE14: 57 | BF14: 58 | BG14: 59 | BH14: 60 | BI14: 61 | BJ14: 62 | BK14: 63 | BL14: 64 | BM14: 65 | BN14: 66 | BO14: 67 | BP14: 68 | BQ14: 69 | BR14: 70 | BS14: 71 | BT14: 72 | BU14: 73 | BV14: 74 | BW14: 75 | BX14: 76 | BY14: 77 | BZ14: 78 | CA14: 79 | CB14: 80 | CC14: 81 | CD14: 82 | CE14: 83 | CF14: 84 | CG14: 85 | CH14: 86 | CI14: 87 | CJ14: 88 | CK14: 89 | CL14: 90 | CM14: 91 | CN14: 92 | CO14: 93 | CP14: 94 | CQ14: 95 | CR14: 96 | CS14: 97 | CT14: 98 | CU14: 99 | CV14: 100 | CW14: 101 | CX14: 102 | CY14: 103 | CZ14: 104 | DA14: 105 | DB14: 106 | DC14: 107 | DD14: 108 | DE14: 109 | DF14: 110 | DG14: 111 | DH14: 112 | DI14: 113 | DJ14: 114 | DK14: 115 | DL14: 116 | DM14: 117 | DN14: 118 | DO14: 119 | DP14: 120 | DQ14: 121 | DR14: 122 | DS14: 123 | DT14: 124 | DU14: 125 | DV14: 126 | DW14: 127 | DX14: 128 | DY14: 129 | DZ14: 130 | EA14: 131 | EB14: 132 | EC14: 133 | ED14: 134 | EE14: 135 | EF14: 136 | EG14: 137 | EH14: 138 | EI14: 139 | EJ14: 140 | EK14: 141 | EL14: 142 | EM14: 143 | EN14: 144 | EO14: 145 | EP14: 146 | EQ14: 147 | ER14: 148 | ES14: 149 | ET14: 150 | EU14: 151
AN15: Removed from Schedule | AO15: Removed from Schedule | AP15: Removed from Schedule | AQ15: Removed from Schedule | AR15: Removed from Schedule | AS15: Removed from Schedule | AT15: Removed from Schedule | AU15: Removed from Schedule | BQ15: Removed from Schedule | BR15: Removed from Schedule

Sheet SWERISOL Schedule Selector
F3: Specification: DSP 240-45395762 Rev.4
F4: ='List of Items & Enquiry number'!B14 -> Enquiry Number: 123456XYZ
D6: TECHNICAL SCHEDULES A & B FOR POLE-MOUNTED DISTRIBUTION TRANSFORMERS
D7: SWER Isolation, 50kVA 11kV/ 19kV* (Coastal, Ester Oil Only)
D8: * rated no-load voltage of the secondary shall be 19 kV (phase to ground) | F8: Deviations from the specific requirements stated in Schedule A must be recorded and explained in the Deviation Schedule
B9: Schedule A: Purchaser's specific requirements
B10: Schedule B: Guarantees and technical particulars of equipment offered
B11: Item | C11: Sub-clause of 240- 45395762 | D11: Description | F11: Schedule A | G11: Schedule B
B12: 1 | D12: Identification
B13: 1.1 | D13: Name of manufacturer | F13: =VLOOKUP($D$7,'Source Data'!$A$2:$EU$28,3,FALSE) -> xxxxxxxxxxx
B14: 1.2 | D14: Name of supplier | F14: =VLOOKUP($D$7,'Source Data'!$A$2:$EU$28,4,FALSE) -> xxxxxxxxxxx
B15: 1.3 | D15: Product code for Coastal transformers | F15: =VLOOKUP($D$7,'Source Data'!$A$2:$EU$28,6,FALSE) -> xxxxxxxxxxx
B16: 1.4 | D16: Are the transformers covered by the SANS 780 certification mark? | F16: =VLOOKUP($D$7,'Source Data'!$A$2:$EU$28,7,FALSE) -> xxxxxxxxxxx
B17: 1.5 | D17: State SANS 780 permit number | F17: =VLOOKUP($D$7,'Source Data'!$A$2:$EU$28,8,FALSE) -> xxxxxxxxxxx
B18: 1.6 | D18: Oil Type | F18: =VLOOKUP($D$7,'Source Data'!$A$2:$EU$28,9,FALSE) -> Ester Oil
B19: 2 | C19: 3.2.2 | D19: Ratings
B20: 2.1 | D20: Power rating | E20: kVA | F20: =VLOOKUP($D$7,'Source Data'!$A$2:$EU$28,11,FALSE) -> 50
B21: 2.2 | D21: Rated primary voltage | E21: kV | F21: =VLOOKUP($D$7,'Source Data'!$A$2:$EU$28,12,FALSE) -> 11
B22: 2.3 | D22: Rated no-load secondary voltage (phase to ground) | E22: kV | F22: =VLOOKUP($D$7,'Source Data'!$A$2:$EU$28,13,FALSE) -> 19
B23: 2.4 | D23: Frequency | E23: Hz | F23: =VLOOKUP($D$7,'Source Data'!$A$2:$EU$28,14,FALSE) -> 50
B24: 2.5 | D24: Number of phases | F24: =VLOOKUP($D$7,'Source Data'!$A$2:$EU$28,15,FALSE) -> 1ph
B25: 2.6 | D25: Vector Group | F25: =VLOOKUP($D$7,'Source Data'!$A$2:$EU$28,16,FALSE) -> N/A | G25: xxxxxxxxxxx
B26: 3 | C26: 3.2.5 | D26: Insulation levels
B27: 3.1 | D27: BIL - Primary | E27: kV | F27: =VLOOKUP($D$7,'Source Data'!$A$2:$EU$28,18,FALSE) -> 95
B28: 3.2 | D28: BIL - Secondary Line Terminal | E28: kV | F28: =VLOOKUP($D$7,'Source Data'!$A$2:$EU$28,19,FALSE) -> 200
B29: 3.3 | D29: BIL - Secondary Neutral Terminal | E29: kV | F29: =VLOOKUP($D$7,'Source Data'!$A$2:$EU$28,20,FALSE) -> 30
B30: 3.4 | D30: Power frequency withstand voltage - Primary | E30: kV | F30: =VLOOKUP($D$7,'Source Data'!$A$2:$EU$28,21,FALSE) -> 28
B31: 3.5 | D31: Power frequency withstand voltage – Secondary | E31: kV | F31: =VLOOKUP($D$7,'Source Data'!$A$2:$EU$28,22,FALSE) -> 8
B32: 4 | C32: 3.2.8 | D32: Inter-turn winding insulation
B33: 4.1 | D33: Type (Enamel or Paper) | F33: =VLOOKUP($D$7,'Source Data'!$A$2:$EU$28,24,FALSE) -> xxxxxxxxxxx
B34: 4.2 | D34: Enamel grade (if applicable) | F34: =VLOOKUP($D$7,'Source Data'!$A$2:$EU$28,25,FALSE) -> Grade 3
B35: 4.3 | D35: Paper thickness (if applicable) | E35: mm | F35: =VLOOKUP($D$7,'Source Data'!$A$2:$EU$28,26,FALSE) -> > 0.125
B36: 4.4 | D36: Paper type (if applicable) | F36: =VLOOKUP($D$7,'Source Data'!$A$2:$EU$28,27,FALSE) -> xxxxxxxxxxx
B37: 4.5 | D37: Paper make (if applicable) | F37: =VLOOKUP($D$7,'Source Data'!$A$2:$EU$28,28,FALSE) -> xxxxxxxxxxx
B38: 4.6 | D38: Paper minimum impulse withstand | E38: kV | F38: =VLOOKUP($D$7,'Source Data'!$A$2:$EU$28,29,FALSE) -> 21
B39: 4.7 | D39: Paper minimum power frequency withstand | E39: kV | F39: =VLOOKUP($D$7,'Source Data'!$A$2:$EU$28,30,FALSE) -> 8
B40: 4.8 | D40: Inter-turn winding insulation stress shall not exceed 5 kV/mm | E40: kV/mm | F40: =VLOOKUP($D$7,'Source Data'!$A$2:$EU$28,31,FALSE) -> <5
B41: 5 | C41: 3.2.9 | D41: Interlayer insulation
B42: 5.1 | D42: Highest interlayer stress in non-tap part of winding (<5kV/mm is not acceptable as the calculated value must be presented) | E42: kV/mm | F42: =VLOOKUP($D$7,'Source Data'!$A$2:$EU$28,33,FALSE) -> < 5
B43: 5.2 | D43: Highest interlayer stress in tap part of winding (<5kV/mm is not acceptable as the calculated value must be presented) | E43: kV/mm | F43: =VLOOKUP($D$7,'Source Data'!$A$2:$EU$28,34,FALSE) -> < 5
B44: 5.3 | D44: Paper type. | F44: =VLOOKUP($D$7,'Source Data'!$A$2:$EU$28,35,FALSE) -> xxxxxxxxxxx
B45: 5.4 | D45: Paper make. | F45: =VLOOKUP($D$7,'Source Data'!$A$2:$EU$28,36,FALSE) -> xxxxxxxxxxx
B46: 6 | C46: 3.2.10 | D46: Tapping connections
B47: 6.1 | D47: No tap connections shall be provided on SWER isolation transformers | F47: =VLOOKUP($D$7,'Source Data'!$A$2:$EU$28,38,FALSE) -> xxxxxxxxxxx | G47: xxxxxxxxxxx
B48: 7 | C48: 3.2.11 | D48: Primary MV Bushings for Coastal Transformers
B49: 7.1 | D49: Make | F49: =VLOOKUP($D$7,'Source Data'!$A$2:$EU$28,49,FALSE) -> xxxxxxxxxxx
B50: 7.2 | D50: Product code | F50: =VLOOKUP($D$7,'Source Data'!$A$2:$EU$28,50,FALSE) -> xxxxxxxxxxx
B51: 7.3 | D51: Material (e.g. Porcelain) | F51: =VLOOKUP($D$7,'Source Data'!$A$2:$EU$28,51,FALSE) -> xxxxxxxxxxx
B52: 7.4 | D52: Specific creepage distance | E52: mm/kV | F52: =VLOOKUP($D$7,'Source Data'!$A$2:$EU$28,52,FALSE) -> ≥ 31
B53: 7.5 | D53: Clamping | F53: =VLOOKUP($D$7,'Source Data'!$A$2:$EU$28,53,FALSE) -> Base
B54: 7.6 | D54: Type | F54: =VLOOKUP($D$7,'Source Data'!$A$2:$EU$28,54,FALSE) -> Draw lead
B55: 7.7 | D55: Stem diameter | F55: =VLOOKUP($D$7,'Source Data'!$A$2:$EU$28,55,FALSE) -> M12
B56: 7.8 | C56: 3.2.11 | D56: Secondary MV Bushings for Coastal Transformers
B57: 7.9 | D57: Make | F57: =VLOOKUP($D$7,'Source Data'!$A$2:$EU$28,57,FALSE) -> xxxxxxxxxxx
B58: 7.10 | D58: Product code | F58: =VLOOKUP($D$7,'Source Data'!$A$2:$EU$28,58,FALSE) -> xxxxxxxxxxx
B59: 7.11 | D59: Material (e.g. Porcelain) | F59: =VLOOKUP($D$7,'Source Data'!$A$2:$EU$28,59,FALSE) -> xxxxxxxxxxx
B60: 7.12 | D60: Specific creepage distance | F60: =VLOOKUP($D$7,'Source Data'!$A$2:$EU$28,60,FALSE) -> ≥ 31
B61: 7.13 | D61: Clamping | F61: =VLOOKUP($D$7,'Source Data'!$A$2:$EU$28,61,FALSE) -> Base
B62: 7.14 | D62: Type | F62: =VLOOKUP($D$7,'Source Data'!$A$2:$EU$28,62,FALSE) -> Draw lead
B63: 7.15 | D63: Stem diameter | F63: =VLOOKUP($D$7,'Source Data'!$A$2:$EU$28,63,FALSE) -> M12
B64: 8 | C64: 3.2.11 | D64: Secondary LV Bushings for Coastal Transformers
B65: 8.1 | D65: Make | F65: =VLOOKUP($D$7,'Source Data'!$A$2:$EU$28,65,FALSE) -> xxxxxxxxxxx
B66: 8.2 | D66: Product code | F66: =VLOOKUP($D$7,'Source Data'!$A$2:$EU$28,66,FALSE) -> xxxxxxxxxxx
B67: 8.3 | D67: Material (e.g. Porcelain) | F67: =VLOOKUP($D$7,'Source Data'!$A$2:$EU$28,67,FALSE) -> xxxxxxxxxxx
B68: 8.4 | D68: Stem diameter | F68: =VLOOKUP($D$7,'Source Data'!$A$2:$EU$28,68,FALSE) -> M12
B69: 9 | C69: 3.2.14 | D69: Losses
B70: 9.1 | D70: Loss factor base (Cost of Dx or Gx) | F70: =VLOOKUP($D$7,'Source Data'!$A$2:$EU$28,72,FALSE) -> Distribution | G70: xxxxxxxxxxx
B71: 9.2 | D71: No-load Loss Factor, NLLF | E71: R/kW | F71: =VLOOKUP($D$7,'Source Data'!$A$2:$EU$28,73,FALSE) -> 80500 | G71: xxxxxxxxxxx
B72: 9.3 | D72: Load Loss Factor, LLF | E72: R/kW | F72: =VLOOKUP($D$7,'Source Data'!$A$2:$EU$28,74,FALSE) -> 17500 | G72: xxxxxxxxxxx
B73: 9.4 | D73: Guaranteed no-load losses, PNL (Steel Core) | E73: W | F73: =VLOOKUP($D$7,'Source Data'!$A$2:$EU$28,75,FALSE) -> 110
B74: 9.5 | D74: Guaranteed no-load losses, PNL (only if Amorphous Core is offered) | E74: W | F74: =VLOOKUP($D$7,'Source Data'!$A$2:$EU$28,151,FALSE) -> 40
B75: 9.6 | D75: Guaranteed load losses, PLL | E75: W | F75: =VLOOKUP($D$7,'Source Data'!$A$2:$EU$28,76,FALSE) -> 880
B76: 10 | C76: 3.2.14 | D76: Impedance voltage & X/R ratio
B77: 10.1 | D77: Impedance at principle tapping (specific design impedances to be stated) | E77: % | F77: =VLOOKUP($D$7,'Source Data'!$A$2:$EU$28,78,FALSE) -> 3,0 to 4,5
B78: 10.2 | D78: X/R ratio | F78: =VLOOKUP($D$7,'Source Data'!$A$2:$EU$28,79,FALSE) -> xxxxxxxxxx
B79: 11 | D79: Audio-sound level (clause 8.5.3 of SANS 780)
B80: 11.1 | D80: Maximum limit of transformer audio-sound level | E80: db(A) | F80: =VLOOKUP($D$7,'Source Data'!$A$2:$EU$28,81,FALSE) -> ≤ 48
B81: 12 | D81: MV winding wire
B82: 12.1 | D82: Material (e.g. Cu or Al) | F82: =VLOOKUP($D$7,'Source Data'!$A$2:$EU$28,83,FALSE) -> xxxxxxxxxxx
B83: 12.2 | D83: Type (e.g. Round, Strip or Foil) | F83: =VLOOKUP($D$7,'Source Data'!$A$2:$EU$28,84,FALSE) -> xxxxxxxxxxx
B84: 13 | D84: Secondary winding wire
B85: 13.1 | D85: Material (e.g. Cu or Al) | F85: =VLOOKUP($D$7,'Source Data'!$A$2:$EU$28,86,FALSE) -> xxxxxxxxxxx
B86: 13.2 | D86: Type (e.g. Round, Strip or Foil) | F86: =VLOOKUP($D$7,'Source Data'!$A$2:$EU$28,87,FALSE) -> xxxxxxxxxxx
B87: 14 | D87: Core material
B88: 14.1 | D88: Core material | F88: =VLOOKUP($D$7,'Source Data'!$A$2:$EU$28,89,FALSE) -> Steel or Amporphous
B89: 14.2 | D89: Type/code | F89: =VLOOKUP($D$7,'Source Data'!$A$2:$EU$28,90,FALSE) -> xxxxxxxxxxx
B90: 14.3 | D90: Maximum Flux Density of Material | F90: =VLOOKUP($D$7,'Source Data'!$A$2:$EU$28,91,FALSE) -> xxxxxxxxxxx
B91: 14.4 | D91: Supplier | F91: =VLOOKUP($D$7,'Source Data'!$A$2:$EU$28,92,FALSE) -> xxxxxxxxxxx
B92: 15 | C92: 3.3.2 | D92: Tank and tank cover
B93: 15.1 | D93: Tank type: Sealed | F93: =VLOOKUP($D$7,'Source Data'!$A$2:$EU$28,94,FALSE) -> Sealed
B94: 15.2 | D94: Plain, rigid or corrugated | F94: =VLOOKUP($D$7,'Source Data'!$A$2:$EU$28,95,FALSE) -> xxxxxxxxxx
B95: 16 | C95: 3.3.3 | D95: Transformer dimensions
B96: 16.1 | C96: Figure 12 | D96: Wo (including surge arrester) | E96: mm | F96: =VLOOKUP($D$7,'Source Data'!$A$2:$EU$28,97,FALSE) -> ≤ 1 080
B97: 16.2 | C97: Figure 12 | D97: Lo | E97: mm | F97: =VLOOKUP($D$7,'Source Data'!$A$2:$EU$28,98,FALSE) -> ≤ 1 500
B98: 16.3 | C98: Figure 12 | D98: Ht | E98: mm | F98: =VLOOKUP($D$7,'Source Data'!$A$2:$EU$28,99,FALSE) -> ≤ 1 500
B99: 16.4 | C99: Figure 12 | D99: Mass | E99: kg | F99: =VLOOKUP($D$7,'Source Data'!$A$2:$EU$28,100,FALSE) -> ≤ 900
B100: 16.5 | D100: Oil capacity | E100: l | F100: =VLOOKUP($D$7,'Source Data'!$A$2:$EU$28,101,FALSE) -> xxxxxxxxxxx
B101: 16.6 | D101: Minimum clearance between live MV terminals and from MV live terminals to any part of the tank greater than twice the BIL | E101: mm | F101: =VLOOKUP($D$7,'Source Data'!$A$2:$EU$28,102,FALSE) -> 190
B102: 16.7 | C102: 3.3.4 | D102: Minimum mechanical clearance of 100 mm between the brackets and LV bushings shall be maintained | E102: mm | F102: =VLOOKUP($D$7,'Source Data'!$A$2:$EU$28,103,FALSE) -> 100
B103: 17 | C103: 3.3.4 | D103: Pole mounting bracket
...

Sheet Deviation Schedule
A1: Deviation schedule
A2: Specification: DSP 240-45395762 Rev.4 Enquiry no.:
A3: SAP No.: | I3: BIDDER TO STATE SAP NUMBER
A4: Any deviations offered to this specification shall be listed below with reasons for deviation. In addition, evidence shall be provided that the proposed deviation will at least be more cost-effective that that specified by Eskom.
A5: Item | B5: Clause | C5: Description of Deviation
B37: SUPPLIER SIGNATURES
B40: Name (Print) | F40: Company Name
B44: Sign | F44: Date

Sheet 0180281
F3: Specification: DSP 240-45395762 Rev.4
F4: ='List of Items & Enquiry number'!B14 -> Enquiry Number: 123456XYZ
D6: TECHNICAL SCHEDULES A & B FOR POLE-MOUNTED DISTRIBUTION TRANSFORMERS
D7: SWER Isolation, 50kVA 11kV/ 19kV* (Coastal, Ester Oil Only)
D8: * rated no-load voltage of the secondary shall be 19 kV (phase to ground) | F8: Deviations from the specific requirements stated in Schedule A must be recorded and explained in the Deviation Schedule
B9: Schedule A: Purchaser's specific requirements
B10: Schedule B: Guarantees and technical particulars of equipment offered
B11: Item | C11: Sub-clause of 240- 45395762 | D11: Description | F11: Schedule A | G11: Schedule B
B12: 1 | D12: Identification
B13: 1.1 | D13: Name of manufacturer | F13: =VLOOKUP($D$7,'Source Data'!$A$2:$EU$28,3,FALSE) -> xxxxxxxxxxx
B14: 1.2 | D14: Name of supplier | F14: =VLOOKUP($D$7,'Source Data'!$A$2:$EU$28,4,FALSE) -> xxxxxxxxxxx
B15: 1.3 | D15: Product code for Coastal transformers | F15: =VLOOKUP($D$7,'Source Data'!$A$2:$EU$28,6,FALSE) -> xxxxxxxxxxx
B16: 1.4 | D16: Are the transformers covered by the SANS 780 certification mark? | F16: =VLOOKUP($D$7,'Source Data'!$A$2:$EU$28,7,FALSE) -> xxxxxxxxxxx
B17: 1.5 | D17: State SANS 780 permit number | F17: =VLOOKUP($D$7,'Source Data'!$A$2:$EU$28,8,FALSE) -> xxxxxxxxxxx
B18: 1.6 | D18: Oil Type | F18: =VLOOKUP($D$7,'Source Data'!$A$2:$EU$28,9,FALSE) -> Ester Oil
B19: 2 | C19: 3.2.2 | D19: Ratings
B20: 2.1 | D20: Power rating | E20: kVA | F20: =VLOOKUP($D$7,'Source Data'!$A$2:$EU$28,11,FALSE) -> 50
B21: 2.2 | D21: Rated primary voltage | E21: kV | F21: =VLOOKUP($D$7,'Source Data'!$A$2:$EU$28,12,FALSE) -> 11
B22: 2.3 | D22: Rated no-load secondary voltage (phase to ground) | E22: kV | F22: =VLOOKUP($D$7,'Source Data'!$A$2:$EU$28,13,FALSE) -> 19
B23: 2.4 | D23: Frequency | E23: Hz | F23: =VLOOKUP($D$7,'Source Data'!$A$2:$EU$28,14,FALSE) -> 50
B24: 2.5 | D24: Number of phases | F24: =VLOOKUP($D$7,'Source Data'!$A$2:$EU$28,15,FALSE) -> 1ph
B25: 2.6 | D25: Vector Group | F25: =VLOOKUP($D$7,'Source Data'!$A$2:$EU$28,16,FALSE) -> N/A | G25: xxxxxxxxxxx
B26: 3 | C26: 3.2.5 | D26: Insulation levels
B27: 3.1 | D27: BIL - Primary | E27: kV | F27: =VLOOKUP($D$7,'Source Data'!$A$2:$EU$28,18,FALSE) -> 95
B28: 3.2 | D28: BIL - Secondary Line Terminal | E28: kV | F28: =VLOOKUP($D$7,'Source Data'!$A$2:$EU$28,19,FALSE) -> 200
B29: 3.3 | D29: BIL - Secondary Neutral Terminal | E29: kV | F29: =VLOOKUP($D$7,'Source Data'!$A$2:$EU$28,20,FALSE) -> 30
B30: 3.4 | D30: Power frequency withstand voltage - Primary | E30: kV | F30: =VLOOKUP($D$7,'Source Data'!$A$2:$EU$28,21,FALSE) -> 28
B31: 3.5 | D31: Power frequency withstand voltage – Secondary | E31: kV | F31: =VLOOKUP($D$7,'Source Data'!$A$2:$EU$28,22,FALSE) -> 8
B32: 4 | C32: 3.2.8 | D32: Inter-turn winding insulation
B33: 4.1 | D33: Type (Enamel or Paper) | F33: =VLOOKUP($D$7,'Source Data'!$A$2:$EU$28,24,FALSE) -> xxxxxxxxxxx
B34: 4.2 | D34: Enamel grade (if applicable) | F34: =VLOOKUP($D$7,'Source Data'!$A$2:$EU$28,25,FALSE) -> Grade 3
B35: 4.3 | D35: Paper thickness (if applicable) | E35: mm | F35: =VLOOKUP($D$7,'Source Data'!$A$2:$EU$28,26,FALSE) -> > 0.125
B36: 4.4 | D36: Paper type (if applicable) | F36: =VLOOKUP($D$7,'Source Data'!$A$2:$EU$28,27,FALSE) -> xxxxxxxxxxx
B37: 4.5 | D37: Paper make (if applicable) | F37: =VLOOKUP($D$7,'Source Data'!$A$2:$EU$28,28,FALSE) -> xxxxxxxxxxx
B38: 4.6 | D38: Paper minimum impulse withstand | E38: kV | F38: =VLOOKUP($D$7,'Source Data'!$A$2:$EU$28,29,FALSE) -> 21
B39: 4.7 | D39: Paper minimum power frequency withstand | E39: kV | F39: =VLOOKUP($D$7,'Source Data'!$A$2:$EU$28,30,FALSE) -> 8
B40: 4.8 | D40: Inter-turn winding insulation stress shall not exceed 5 kV/mm | E40: kV/mm | F40: =VLOOKUP($D$7,'Source Data'!$A$2:$EU$28,31,FALSE) -> <5
B41: 5 | C41: 3.2.9 | D41: Interlayer insulation
B42: 5.1 | D42: Highest interlayer stress in non-tap part of winding (<5kV/mm is not acceptable as the calculated value must be presented) | E42: kV/mm | F42: =VLOOKUP($D$7,'Source Data'!$A$2:$EU$28,33,FALSE) -> < 5
B43: 5.2 | D43: Highest interlayer stress in tap part of winding (<5kV/mm is not acceptable as the calculated value must be presented) | E43: kV/mm | F43: =VLOOKUP($D$7,'Source Data'!$A$2:$EU$28,34,FALSE) -> < 5
B44: 5.3 | D44: Paper type. | F44: =VLOOKUP($D$7,'Source Data'!$A$2:$EU$28,35,FALSE) -> xxxxxxxxxxx
B45: 5.4 | D45: Paper make. | F45: =VLOOKUP($D$7,'Source Data'!$A$2:$EU$28,36,FALSE) -> xxxxxxxxxxx
B46: 6 | C46: 3.2.10 | D46: Tapping connections
B47: 6.1 | D47: No tap connections shall be provided on SWER isolation transformers | F47: =VLOOKUP($D$7,'Source Data'!$A$2:$EU$28,38,FALSE) -> xxxxxxxxxxx | G47: xxxxxxxxxxx
B48: 7 | C48: 3.2.11 | D48: Primary MV Bushings for Coastal Transformers
B49: 7.1 | D49: Make | F49: =VLOOKUP($D$7,'Source Data'!$A$2:$EU$28,49,FALSE) -> xxxxxxxxxxx
B50: 7.2 | D50: Product code | F50: =VLOOKUP($D$7,'Source Data'!$A$2:$EU$28,50,FALSE) -> xxxxxxxxxxx
B51: 7.3 | D51: Material (e.g. Porcelain) | F51: =VLOOKUP($D$7,'Source Data'!$A$2:$EU$28,51,FALSE) -> xxxxxxxxxxx
B52: 7.4 | D52: Specific creepage distance | E52: mm/kV | F52: =VLOOKUP($D$7,'Source Data'!$A$2:$EU$28,52,FALSE) -> ≥ 31
B53: 7.5 | D53: Clamping | F53: =VLOOKUP($D$7,'Source Data'!$A$2:$EU$28,53,FALSE) -> Base
B54: 7.6 | D54: Type | F54: =VLOOKUP($D$7,'Source Data'!$A$2:$EU$28,54,FALSE) -> Draw lead
B55: 7.7 | D55: Stem diameter | F55: =VLOOKUP($D$7,'Source Data'!$A$2:$EU$28,55,FALSE) -> M12
B56: 7.8 | C56: 3.2.11 | D56: Secondary MV Bushings for Coastal Transformers
B57: 7.9 | D57: Make | F57: =VLOOKUP($D$7,'Source Data'!$A$2:$EU$28,57,FALSE) -> xxxxxxxxxxx
B58: 7.10 | D58: Product code | F58: =VLOOKUP($D$7,'Source Data'!$A$2:$EU$28,58,FALSE) -> xxxxxxxxxxx
B59: 7.11 | D59: Material (e.g. Porcelain) | F59: =VLOOKUP($D$7,'Source Data'!$A$2:$EU$28,59,FALSE) -> xxxxxxxxxxx
B60: 7.12 | D60: Specific creepage distance | F60: =VLOOKUP($D$7,'Source Data'!$A$2:$EU$28,60,FALSE) -> ≥ 31
B61: 7.13 | D61: Clamping | F61: =VLOOKUP($D$7,'Source Data'!$A$2:$EU$28,61,FALSE) -> Base
B62: 7.14 | D62: Type | F62: =VLOOKUP($D$7,'Source Data'!$A$2:$EU$28,62,FALSE) -> Draw lead
B63: 7.15 | D63: Stem diameter | F63: =VLOOKUP($D$7,'Source Data'!$A$2:$EU$28,63,FALSE) -> M12
B64: 8 | C64: 3.2.11 | D64: Secondary LV Bushings for Coastal Transformers
B65: 8.1 | D65: Make | F65: =VLOOKUP($D$7,'Source Data'!$A$2:$EU$28,65,FALSE) -> xxxxxxxxxxx
B66: 8.2 | D66: Product code | F66: =VLOOKUP($D$7,'Source Data'!$A$2:$EU$28,66,FALSE) -> xxxxxxxxxxx
B67: 8.3 | D67: Material (e.g. Porcelain) | F67: =VLOOKUP($D$7,'Source Data'!$A$2:$EU$28,67,FALSE) -> xxxxxxxxxxx
B68: 8.4 | D68: Stem diameter | F68: =VLOOKUP($D$7,'Source Data'!$A$2:$EU$28,68,FALSE) -> M12
B69: 9 | C69: 3.2.14 | D69: Losses
B70: 9.1 | D70: Loss factor base (Cost of Dx or Gx) | F70: =VLOOKUP($D$7,'Source Data'!$A$2:$EU$28,72,FALSE) -> Distribution | G70: xxxxxxxxxxx
B71: 9.2 | D71: No-load Loss Factor, NLLF | E71: R/kW | F71: =VLOOKUP($D$7,'Source Data'!$A$2:$EU$28,73,FALSE) -> 80500 | G71: xxxxxxxxxxx
B72: 9.3 | D72: Load Loss Factor, LLF | E72: R/kW | F72: =VLOOKUP($D$7,'Source Data'!$A$2:$EU$28,74,FALSE) -> 17500 | G72: xxxxxxxxxxx
B73: 9.4 | D73: Guaranteed no-load losses, PNL (Steel Core) | E73: W | F73: =VLOOKUP($D$7,'Source Data'!$A$2:$EU$28,75,FALSE) -> 110
B74: 9.5 | D74: Guaranteed no-load losses, PNL (only if Amorphous Core is offered) | E74: W | F74: =VLOOKUP($D$7,'Source Data'!$A$2:$EU$28,151,FALSE) -> 40
B75: 9.6 | D75: Guaranteed load losses, PLL | E75: W | F75: =VLOOKUP($D$7,'Source Data'!$A$2:$EU$28,76,FALSE) -> 880
B76: 10 | C76: 3.2.14 | D76: Impedance voltage & X/R ratio
B77: 10.1 | D77: Impedance at principle tapping (specific design impedances to be stated) | E77: % | F77: =VLOOKUP($D$7,'Source Data'!$A$2:$EU$28,78,FALSE) -> 3,0 to 4,5
B78: 10.2 | D78: X/R ratio | F78: =VLOOKUP($D$7,'Source Data'!$A$2:$EU$28,79,FALSE) -> xxxxxxxxxx
B79: 11 | D79: Audio-sound level (SANS 780)
B80: 11.1 | D80: Maximum limit of transformer audio-sound level | E80: db(A) | F80: =VLOOKUP($D$7,'Source Data'!$A$2:$EU$28,81,FALSE) -> ≤ 48
B81: 12 | D81: MV winding wire
B82: 12.1 | D82: Material (e.g. Cu or Al) | F82: =VLOOKUP($D$7,'Source Data'!$A$2:$EU$28,83,FALSE) -> xxxxxxxxxxx
B83: 12.2 | D83: Type (e.g. Round, Strip or Foil) | F83: =VLOOKUP($D$7,'Source Data'!$A$2:$EU$28,84,FALSE) -> xxxxxxxxxxx
B84: 13 | D84: Secondary winding wire
B85: 13.1 | D85: Material (e.g. Cu or Al) | F85: =VLOOKUP($D$7,'Source Data'!$A$2:$EU$28,86,FALSE) -> xxxxxxxxxxx
B86: 13.2 | D86: Type (e.g. Round, Strip or Foil) | F86: =VLOOKUP($D$7,'Source Data'!$A$2:$EU$28,87,FALSE) -> xxxxxxxxxxx
B87: 14 | D87: Core material
B88: 14.1 | D88: Core material | F88: =VLOOKUP($D$7,'Source Data'!$A$2:$EU$28,89,FALSE) -> Steel or Amporphous
B89: 14.2 | D89: Type/code | F89: =VLOOKUP($D$7,'Source Data'!$A$2:$EU$28,90,FALSE) -> xxxxxxxxxxx
B90: 14.3 | D90: Maximum Flux Density of Material | F90: =VLOOKUP($D$7,'Source Data'!$A$2:$EU$28,91,FALSE) -> xxxxxxxxxxx
B91: 14.4 | D91: Supplier | F91: =VLOOKUP($D$7,'Source Data'!$A$2:$EU$28,92,FALSE) -> xxxxxxxxxxx
B92: 15 | C92: 3.3.2 | D92: Tank and tank cover
B93: 15.1 | D93: Tank type: Sealed | F93: =VLOOKUP($D$7,'Source Data'!$A$2:$EU$28,94,FALSE) -> Sealed
B94: 15.2 | D94: Plain, rigid or corrugated | F94: =VLOOKUP($D$7,'Source Data'!$A$2:$EU$28,95,FALSE) -> xxxxxxxxxx
B95: 16 | C95: 3.3.3 | D95: Transformer dimensions
B96: 16.1 | C96: Figure 12 | D96: Wo (including surge arrester) | E96: mm | F96: =VLOOKUP($D$7,'Source Data'!$A$2:$EU$28,97,FALSE) -> ≤ 1 080
B97: 16.2 | C97: Figure 12 | D97: Lo | E97: mm | F97: =VLOOKUP($D$7,'Source Data'!$A$2:$EU$28,98,FALSE) -> ≤ 1 500
B98: 16.3 | C98: Figure 12 | D98: Ht | E98: mm | F98: =VLOOKUP($D$7,'Source Data'!$A$2:$EU$28,99,FALSE) -> ≤ 1 500
B99: 16.4 | C99: Figure 12 | D99: Mass | E99: kg | F99: =VLOOKUP($D$7,'Source Data'!$A$2:$EU$28,100,FALSE) -> ≤ 900
B100: 16.5 | D100: Oil capacity | E100: l | F100: =VLOOKUP($D$7,'Source Data'!$A$2:$EU$28,101,FALSE) -> xxxxxxxxxxx
B101: 16.6 | D101: Minimum clearance between live MV terminals and from MV live terminals to any part of the tank greater than twice the BIL | E101: mm | F101: =VLOOKUP($D$7,'Source Data'!$A$2:$EU$28,102,FALSE) -> 190
B102: 16.7 | C102: 3.3.4 | D102: Minimum mechanical clearance of 100 mm between the brackets and LV bushings shall be maintained | E102: mm | F102: =VLOOKUP($D$7,'Source Data'!$A$2:$EU$28,103,FALSE) -> 100
B103: 17 | C103: 3.3.4 | D103: Pole mounting bracket
...

Sheet 0180282
F3: Specification: DSP 240-45395762 Rev.4
F4: ='List of Items & Enquiry number'!B14 -> Enquiry Number: 123456XYZ
D6: TECHNICAL SCHEDULES A & B FOR POLE-MOUNTED DISTRIBUTION TRANSFORMERS
D7: SWER Isolation, 50kVA 22kV/ 19kV* (Coastal, Ester Oil Only)
D8: * rated no-load voltage of the secondary shall be 19 kV (phase to ground) | F8: Deviations from the specific requirements stated in Schedule A must be recorded and explained in the Deviation Schedule
B9: Schedule A: Purchaser's specific requirements
B10: Schedule B: Guarantees and technical particulars of equipment offered
B11: Item | C11: Sub-clause of 240- 45395762 | D11: Description | F11: Schedule A | G11: Schedule B
B12: 1 | D12: Identification
B13: 1.1 | D13: Name of manufacturer | F13: =VLOOKUP($D$7,'Source Data'!$A$2:$EU$28,3,FALSE) -> xxxxxxxxxxx
B14: 1.2 | D14: Name of supplier | F14: =VLOOKUP($D$7,'Source Data'!$A$2:$EU$28,4,FALSE) -> xxxxxxxxxxx
B15: 1.3 | D15: Product code for Coastal transformers | F15: =VLOOKUP($D$7,'Source Data'!$A$2:$EU$28,6,FALSE) -> xxxxxxxxxxx
B16: 1.4 | D16: Are the transformers covered by the SANS 780 certification mark? | F16: =VLOOKUP($D$7,'Source Data'!$A$2:$EU$28,7,FALSE) -> xxxxxxxxxxx
B17: 1.5 | D17: State SANS 780 permit number | F17: =VLOOKUP($D$7,'Source Data'!$A$2:$EU$28,8,FALSE) -> xxxxxxxxxxx
B18: 1.6 | D18: Oil Type | F18: =VLOOKUP($D$7,'Source Data'!$A$2:$EU$28,9,FALSE) -> Ester Oil
B19: 2 | C19: 3.2.2 | D19: Ratings
B20: 2.1 | D20: Power rating | E20: kVA | F20: =VLOOKUP($D$7,'Source Data'!$A$2:$EU$28,11,FALSE) -> 50
B21: 2.2 | D21: Rated primary voltage | E21: kV | F21: =VLOOKUP($D$7,'Source Data'!$A$2:$EU$28,12,FALSE) -> 22
B22: 2.3 | D22: Rated no-load secondary voltage (phase to ground) | E22: kV | F22: =VLOOKUP($D$7,'Source Data'!$A$2:$EU$28,13,FALSE) -> 19
B23: 2.4 | D23: Frequency | E23: Hz | F23: =VLOOKUP($D$7,'Source Data'!$A$2:$EU$28,14,FALSE) -> 50
B24: 2.5 | D24: Number of phases | F24: =VLOOKUP($D$7,'Source Data'!$A$2:$EU$28,15,FALSE) -> 1ph
B25: 2.6 | D25: Vector Group | F25: =VLOOKUP($D$7,'Source Data'!$A$2:$EU$28,16,FALSE) -> N/A | G25: xxxxxxxxxxx
B26: 3 | C26: 3.2.5 | D26: Insulation levels
B27: 3.1 | D27: BIL - Primary | E27: kV | F27: =VLOOKUP($D$7,'Source Data'!$A$2:$EU$28,18,FALSE) -> 150
B28: 3.2 | D28: BIL - Secondary Line Terminal | E28: kV | F28: =VLOOKUP($D$7,'Source Data'!$A$2:$EU$28,19,FALSE) -> 200
B29: 3.3 | D29: BIL - Secondary Neutral Terminal | E29: kV | F29: =VLOOKUP($D$7,'Source Data'!$A$2:$EU$28,20,FALSE) -> 30
B30: 3.4 | D30: Power frequency withstand voltage - Primary | E30: kV | F30: =VLOOKUP($D$7,'Source Data'!$A$2:$EU$28,21,FALSE) -> 50
B31: 3.5 | D31: Power frequency withstand voltage – Secondary | E31: kV | F31: =VLOOKUP($D$7,'Source Data'!$A$2:$EU$28,22,FALSE) -> 8
B32: 4 | C32: 3.2.8 | D32: Inter-turn winding insulation
B33: 4.1 | D33: Type (Enamel or Paper) | F33: =VLOOKUP($D$7,'Source Data'!$A$2:$EU$28,24,FALSE) -> xxxxxxxxxxx
B34: 4.2 | D34: Enamel grade (if applicable) | F34: =VLOOKUP($D$7,'Source Data'!$A$2:$EU$28,25,FALSE) -> Grade 3
B35: 4.3 | D35: Paper thickness (if applicable) | E35: mm | F35: =VLOOKUP($D$7,'Source Data'!$A$2:$EU$28,26,FALSE) -> > 0.125
B36: 4.4 | D36: Paper type (if applicable) | F36: =VLOOKUP($D$7,'Source Data'!$A$2:$EU$28,27,FALSE) -> xxxxxxxxxxx
B37: 4.5 | D37: Paper make (if applicable) | F37: =VLOOKUP($D$7,'Source Data'!$A$2:$EU$28,28,FALSE) -> xxxxxxxxxxx
B38: 4.6 | D38: Paper minimum impulse withstand | E38: kV | F38: =VLOOKUP($D$7,'Source Data'!$A$2:$EU$28,29,FALSE) -> 21
B39: 4.7 | D39: Paper minimum power frequency withstand | E39: kV | F39: =VLOOKUP($D$7,'Source Data'!$A$2:$EU$28,30,FALSE) -> 8
B40: 4.8 | D40: Inter-turn winding insulation stress shall not exceed 5 kV/mm | E40: kV/mm | F40: =VLOOKUP($D$7,'Source Data'!$A$2:$EU$28,31,FALSE) -> <5
B41: 5 | C41: 3.2.9 | D41: Interlayer insulation
B42: 5.1 | D42: Highest interlayer stress in non-tap part of winding (<5kV/mm is not acceptable as the calculated value must be presented) | E42: kV/mm | F42: =VLOOKUP($D$7,'Source Data'!$A$2:$EU$28,33,FALSE) -> < 5
B43: 5.2 | D43: Highest interlayer stress in tap part of winding (<5kV/mm is not acceptable as the calculated value must be presented) | E43: kV/mm | F43: =VLOOKUP($D$7,'Source Data'!$A$2:$EU$28,34,FALSE) -> < 5
B44: 5.3 | D44: Paper type. | F44: =VLOOKUP($D$7,'Source Data'!$A$2:$EU$28,35,FALSE) -> xxxxxxxxxxx
B45: 5.4 | D45: Paper make. | F45: =VLOOKUP($D$7,'Source Data'!$A$2:$EU$28,36,FALSE) -> xxxxxxxxxxx
B46: 6 | C46: 3.2.10 | D46: Tapping connections
B47: 6.1 | D47: No tap connections shall be provided on SWER isolation transformers | F47: =VLOOKUP($D$7,'Source Data'!$A$2:$EU$28,38,FALSE) -> xxxxxxxxxxx | G47: xxxxxxxxxxx
B48: 7 | C48: 3.2.11 | D48: Primary MV Bushings for Coastal Transformers
B49: 7.1 | D49: Make | F49: =VLOOKUP($D$7,'Source Data'!$A$2:$EU$28,49,FALSE) -> xxxxxxxxxxx
B50: 7.2 | D50: Product code | F50: =VLOOKUP($D$7,'Source Data'!$A$2:$EU$28,50,FALSE) -> xxxxxxxxxxx
B51: 7.3 | D51: Material (e.g. Porcelain) | F51: =VLOOKUP($D$7,'Source Data'!$A$2:$EU$28,51,FALSE) -> xxxxxxxxxxx
B52: 7.4 | D52: Specific creepage distance | E52: mm/kV | F52: =VLOOKUP($D$7,'Source Data'!$A$2:$EU$28,52,FALSE) -> ≥ 31
B53: 7.5 | D53: Clamping | F53: =VLOOKUP($D$7,'Source Data'!$A$2:$EU$28,53,FALSE) -> Base
B54: 7.6 | D54: Type | F54: =VLOOKUP($D$7,'Source Data'!$A$2:$EU$28,54,FALSE) -> Draw lead
B55: 7.7 | D55: Stem diameter | F55: =VLOOKUP($D$7,'Source Data'!$A$2:$EU$28,55,FALSE) -> M12
B56: 7.8 | C56: 3.2.11 | D56: Secondary MV Bushings for Coastal Transformers
B57: 7.9 | D57: Make | F57: =VLOOKUP($D$7,'Source Data'!$A$2:$EU$28,57,FALSE) -> xxxxxxxxxxx
B58: 7.10 | D58: Product code | F58: =VLOOKUP($D$7,'Source Data'!$A$2:$EU$28,58,FALSE) -> xxxxxxxxxxx
B59: 7.11 | D59: Material (e.g. Porcelain) | F59: =VLOOKUP($D$7,'Source Data'!$A$2:$EU$28,59,FALSE) -> xxxxxxxxxxx
B60: 7.12 | D60: Specific creepage distance | F60: =VLOOKUP($D$7,'Source Data'!$A$2:$EU$28,60,FALSE) -> ≥ 31
B61: 7.13 | D61: Clamping | F61: =VLOOKUP($D$7,'Source Data'!$A$2:$EU$28,61,FALSE) -> Base
B62: 7.14 | D62: Type | F62: =VLOOKUP($D$7,'Source Data'!$A$2:$EU$28,62,FALSE) -> Draw lead
B63: 7.15 | D63: Stem diameter | F63: =VLOOKUP($D$7,'Source Data'!$A$2:$EU$28,63,FALSE) -> M12
B64: 8 | C64: 3.2.11 | D64: Secondary LV Bushings for Coastal Transformers
B65: 8.1 | D65: Make | F65: =VLOOKUP($D$7,'Source Data'!$A$2:$EU$28,65,FALSE) -> xxxxxxxxxxx
B66: 8.2 | D66: Product code | F66: =VLOOKUP($D$7,'Source Data'!$A$2:$EU$28,66,FALSE) -> xxxxxxxxxxx
B67: 8.3 | D67: Material (e.g. Porcelain) | F67: =VLOOKUP($D$7,'Source Data'!$A$2:$EU$28,67,FALSE) -> xxxxxxxxxxx
B68: 8.4 | D68: Stem diameter | F68: =VLOOKUP($D$7,'Source Data'!$A$2:$EU$28,68,FALSE) -> M12
B69: 9 | C69: 3.2.14 | D69: Losses
B70: 9.1 | D70: Loss factor base (Cost of Dx or Gx) | F70: =VLOOKUP($D$7,'Source Data'!$A$2:$EU$28,72,FALSE) -> Distribution | G70: xxxxxxxxxxx
B71: 9.2 | D71: No-load Loss Factor, NLLF | E71: R/kW | F71: =VLOOKUP($D$7,'Source Data'!$A$2:$EU$28,73,FALSE) -> 80500 | G71: xxxxxxxxxxx
B72: 9.3 | D72: Load Loss Factor, LLF | E72: R/kW | F72: =VLOOKUP($D$7,'Source Data'!$A$2:$EU$28,74,FALSE) -> 17500 | G72: xxxxxxxxxxx
B73: 9.4 | D73: Guaranteed no-load losses, PNL (Steel Core) | E73: W | F73: =VLOOKUP($D$7,'Source Data'!$A$2:$EU$28,75,FALSE) -> 110
B74: 9.5 | D74: Guaranteed no-load losses, PNL (only if Amorphous Core is offered) | E74: W | F74: =VLOOKUP($D$7,'Source Data'!$A$2:$EU$28,151,FALSE) -> 40
B75: 9.6 | D75: Guaranteed load losses, PLL | E75: W | F75: =VLOOKUP($D$7,'Source Data'!$A$2:$EU$28,76,FALSE) -> 880
B76: 10 | C76: 3.2.14 | D76: Impedance voltage & X/R ratio
B77: 10.1 | D77: Impedance at principle tapping (specific design impedances to be stated) | E77: % | F77: =VLOOKUP($D$7,'Source Data'!$A$2:$EU$28,78,FALSE) -> 3,0 to 4,5
B78: 10.2 | D78: X/R ratio | F78: =VLOOKUP($D$7,'Source Data'!$A$2:$EU$28,79,FALSE) -> xxxxxxxxxx
B79: 11 | D79: Audio-sound level (SANS 780)
B80: 11.1 | D80: Maximum limit of transformer audio-sound level | E80: db(A) | F80: =VLOOKUP($D$7,'Source Data'!$A$2:$EU$28,81,FALSE) -> ≤ 48
B81: 12 | D81: MV winding wire
B82: 12.1 | D82: Material (e.g. Cu or Al) | F82: =VLOOKUP($D$7,'Source Data'!$A$2:$EU$28,83,FALSE) -> xxxxxxxxxxx
B83: 12.2 | D83: Type (e.g. Round, Strip or Foil) | F83: =VLOOKUP($D$7,'Source Data'!$A$2:$EU$28,84,FALSE) -> xxxxxxxxxxx
B84: 13 | D84: Secondary winding wire
B85: 13.1 | D85: Material (e.g. Cu or Al) | F85: =VLOOKUP($D$7,'Source Data'!$A$2:$EU$28,86,FALSE) -> xxxxxxxxxxx
B86: 13.2 | D86: Type (e.g. Round, Strip or Foil) | F86: =VLOOKUP($D$7,'Source Data'!$A$2:$EU$28,87,FALSE) -> xxxxxxxxxxx
B87: 14 | D87: Core material
B88: 14.1 | D88: Core material | F88: =VLOOKUP($D$7,'Source Data'!$A$2:$EU$28,89,FALSE) -> Steel or Amporphous
B89: 14.2 | D89: Type/code | F89: =VLOOKUP($D$7,'Source Data'!$A$2:$EU$28,90,FALSE) -> xxxxxxxxxxx
B90: 14.3 | D90: Maximum Flux Density of Material | F90: =VLOOKUP($D$7,'Source Data'!$A$2:$EU$28,91,FALSE) -> xxxxxxxxxxx
B91: 14.4 | D91: Supplier | F91: =VLOOKUP($D$7,'Source Data'!$A$2:$EU$28,92,FALSE) -> xxxxxxxxxxx
B92: 15 | C92: 3.3.2 | D92: Tank and tank cover
B93: 15.1 | D93: Tank type: Sealed | F93: =VLOOKUP($D$7,'Source Data'!$A$2:$EU$28,94,FALSE) -> Sealed
B94: 15.2 | D94: Plain, rigid or corrugated | F94: =VLOOKUP($D$7,'Source Data'!$A$2:$EU$28,95,FALSE) -> xxxxxxxxxx
B95: 16 | C95: 3.3.3 | D95: Transformer dimensions
B96: 16.1 | C96: Figure 12 | D96: Wo (including surge arrester) | E96: mm | F96: =VLOOKUP($D$7,'Source Data'!$A$2:$EU$28,97,FALSE) -> ≤ 1 080
B97: 16.2 | C97: Figure 12 | D97: Lo | E97: mm | F97: =VLOOKUP($D$7,'Source Data'!$A$2:$EU$28,98,FALSE) -> ≤ 1 500
B98: 16.3 | C98: Figure 12 | D98: Ht | E98: mm | F98: =VLOOKUP($D$7,'Source Data'!$A$2:$EU$28,99,FALSE) -> ≤ 1 500
B99: 16.4 | C99: Figure 12 | D99: Mass | E99: kg | F99: =VLOOKUP($D$7,'Source Data'!$A$2:$EU$28,100,FALSE) -> ≤ 900
B100: 16.5 | D100: Oil capacity | E100: l | F100: =VLOOKUP($D$7,'Source Data'!$A$2:$EU$28,101,FALSE) -> xxxxxxxxxxx
B101: 16.6 | D101: Minimum clearance between live MV terminals and from MV live terminals to any part of the tank greater than twice the BIL | E101: mm | F101: =VLOOKUP($D$7,'Source Data'!$A$2:$EU$28,102,FALSE) -> 300
B102: 16.7 | C102: 3.3.4 | D102: Minimum mechanical clearance of 100 mm between the brackets and LV bushings shall be maintained | E102: mm | F102: =VLOOKUP($D$7,'Source Data'!$A$2:$EU$28,103,FALSE) -> 100
B103: 17 | C103: 3.3.4 | D103: Pole mounting bracket
...

Sheet 0205441
F3: Specification: DSP 240-45395762 Rev.4
F4: ='List of Items & Enquiry number'!B14 -> Enquiry Number: 123456XYZ
D6: TECHNICAL SCHEDULES A & B FOR POLE-MOUNTED DISTRIBUTION TRANSFORMERS
D7: SWER Isolation, 50kVA 33kV/ 19kV* (Coastal, Ester Oil Only)
D8: * rated no-load voltage of the secondary shall be 19 kV (phase to ground) | F8: Deviations from the specific requirements stated in Schedule A must be recorded and explained in the Deviation Schedule
B9: Schedule A: Purchaser's specific requirements
B10: Schedule B: Guarantees and technical particulars of equipment offered
B11: Item | C11: Sub-clause of 240- 45395762 | D11: Description | F11: Schedule A | G11: Schedule B
B12: 1 | D12: Identification
B13: 1.1 | D13: Name of manufacturer | F13: =VLOOKUP($D$7,'Source Data'!$A$2:$EU$28,3,FALSE) -> xxxxxxxxxxx
B14: 1.2 | D14: Name of supplier | F14: =VLOOKUP($D$7,'Source Data'!$A$2:$EU$28,4,FALSE) -> xxxxxxxxxxx
B15: 1.3 | D15: Product code for Coastal transformers | F15: =VLOOKUP($D$7,'Source Data'!$A$2:$EU$28,6,FALSE) -> xxxxxxxxxxx
B16: 1.4 | D16: Are the transformers covered by the SANS 780 certification mark? | F16: =VLOOKUP($D$7,'Source Data'!$A$2:$EU$28,7,FALSE) -> xxxxxxxxxxx
B17: 1.5 | D17: State SANS 780 permit number | F17: =VLOOKUP($D$7,'Source Data'!$A$2:$EU$28,8,FALSE) -> xxxxxxxxxxx
B18: 1.6 | D18: Oil Type | F18: =VLOOKUP($D$7,'Source Data'!$A$2:$EU$28,9,FALSE) -> Ester Oil
B19: 2 | C19: 3.2.2 | D19: Ratings
B20: 2.1 | D20: Power rating | E20: kVA | F20: =VLOOKUP($D$7,'Source Data'!$A$2:$EU$28,11,FALSE) -> 50
B21: 2.2 | D21: Rated primary voltage | E21: kV | F21: =VLOOKUP($D$7,'Source Data'!$A$2:$EU$28,12,FALSE) -> 33
B22: 2.3 | D22: Rated no-load secondary voltage (phase to ground) | E22: kV | F22: =VLOOKUP($D$7,'Source Data'!$A$2:$EU$28,13,FALSE) -> 19
B23: 2.4 | D23: Frequency | E23: Hz | F23: =VLOOKUP($D$7,'Source Data'!$A$2:$EU$28,14,FALSE) -> 50
B24: 2.5 | D24: Number of phases | F24: =VLOOKUP($D$7,'Source Data'!$A$2:$EU$28,15,FALSE) -> 1ph
B25: 2.6 | D25: Vector Group | F25: =VLOOKUP($D$7,'Source Data'!$A$2:$EU$28,16,FALSE) -> N/A | G25: xxxxxxxxxxx
B26: 3 | C26: 3.2.5 | D26: Insulation levels
B27: 3.1 | D27: BIL - Primary | E27: kV | F27: =VLOOKUP($D$7,'Source Data'!$A$2:$EU$28,18,FALSE) -> 200
B28: 3.2 | D28: BIL - Secondary Line Terminal | E28: kV | F28: =VLOOKUP($D$7,'Source Data'!$A$2:$EU$28,19,FALSE) -> 200
B29: 3.3 | D29: BIL - Secondary Neutral Terminal | E29: kV | F29: =VLOOKUP($D$7,'Source Data'!$A$2:$EU$28,20,FALSE) -> 30
B30: 3.4 | D30: Power frequency withstand voltage - Primary | E30: kV | F30: =VLOOKUP($D$7,'Source Data'!$A$2:$EU$28,21,FALSE) -> 70
B31: 3.5 | D31: Power frequency withstand voltage – Secondary | E31: kV | F31: =VLOOKUP($D$7,'Source Data'!$A$2:$EU$28,22,FALSE) -> 8
B32: 4 | C32: 3.2.8 | D32: Inter-turn winding insulation
B33: 4.1 | D33: Type (Enamel or Paper) | F33: =VLOOKUP($D$7,'Source Data'!$A$2:$EU$28,24,FALSE) -> xxxxxxxxxxx
B34: 4.2 | D34: Enamel grade (if applicable) | F34: =VLOOKUP($D$7,'Source Data'!$A$2:$EU$28,25,FALSE) -> Grade 3
B35: 4.3 | D35: Paper thickness (if applicable) | E35: mm | F35: =VLOOKUP($D$7,'Source Data'!$A$2:$EU$28,26,FALSE) -> > 0.125
B36: 4.4 | D36: Paper type (if applicable) | F36: =VLOOKUP($D$7,'Source Data'!$A$2:$EU$28,27,FALSE) -> xxxxxxxxxxx
B37: 4.5 | D37: Paper make (if applicable) | F37: =VLOOKUP($D$7,'Source Data'!$A$2:$EU$28,28,FALSE) -> xxxxxxxxxxx
B38: 4.6 | D38: Paper minimum impulse withstand | E38: kV | F38: =VLOOKUP($D$7,'Source Data'!$A$2:$EU$28,29,FALSE) -> 21
B39: 4.7 | D39: Paper minimum power frequency withstand | E39: kV | F39: =VLOOKUP($D$7,'Source Data'!$A$2:$EU$28,30,FALSE) -> 8
B40: 4.8 | D40: Inter-turn winding insulation stress shall not exceed 5 kV/mm | E40: kV/mm | F40: =VLOOKUP($D$7,'Source Data'!$A$2:$EU$28,31,FALSE) -> <5
B41: 5 | C41: 3.2.9 | D41: Interlayer insulation
B42: 5.1 | D42: Highest interlayer stress in non-tap part of winding (<5kV/mm is not acceptable as the calculated value must be presented) | E42: kV/mm | F42: =VLOOKUP($D$7,'Source Data'!$A$2:$EU$28,33,FALSE) -> < 5
B43: 5.2 | D43: Highest interlayer stress in tap part of winding (<5kV/mm is not acceptable as the calculated value must be presented) | E43: kV/mm | F43: =VLOOKUP($D$7,'Source Data'!$A$2:$EU$28,34,FALSE) -> < 5
B44: 5.3 | D44: Paper type. | F44: =VLOOKUP($D$7,'Source Data'!$A$2:$EU$28,35,FALSE) -> xxxxxxxxxxx
B45: 5.4 | D45: Paper make. | F45: =VLOOKUP($D$7,'Source Data'!$A$2:$EU$28,36,FALSE) -> xxxxxxxxxxx
B46: 6 | C46: 3.2.10 | D46: Tapping connections
B47: 6.1 | D47: No tap connections shall be provided on SWER isolation transformers | F47: =VLOOKUP($D$7,'Source Data'!$A$2:$EU$28,38,FALSE) -> xxxxxxxxxxx | G47: xxxxxxxxxxx
B48: 7 | C48: 3.2.11 | D48: Primary MV Bushings for Coastal Transformers
B49: 7.1 | D49: Make | F49: =VLOOKUP($D$7,'Source Data'!$A$2:$EU$28,49,FALSE) -> xxxxxxxxxxx
B50: 7.2 | D50: Product code | F50: =VLOOKUP($D$7,'Source Data'!$A$2:$EU$28,50,FALSE) -> xxxxxxxxxxx
B51: 7.3 | D51: Material (e.g. Porcelain) | F51: =VLOOKUP($D$7,'Source Data'!$A$2:$EU$28,51,FALSE) -> xxxxxxxxxxx
B52: 7.4 | D52: Specific creepage distance | E52: mm/kV | F52: =VLOOKUP($D$7,'Source Data'!$A$2:$EU$28,52,FALSE) -> ≥ 31
B53: 7.5 | D53: Clamping | F53: =VLOOKUP($D$7,'Source Data'!$A$2:$EU$28,53,FALSE) -> Base
B54: 7.6 | D54: Type | F54: =VLOOKUP($D$7,'Source Data'!$A$2:$EU$28,54,FALSE) -> Draw lead
B55: 7.7 | D55: Stem diameter | F55: =VLOOKUP($D$7,'Source Data'!$A$2:$EU$28,55,FALSE) -> M12
B56: 7.8 | C56: 3.2.11 | D56: Secondary MV Bushings for Coastal Transformers
B57: 7.9 | D57: Make | F57: =VLOOKUP($D$7,'Source Data'!$A$2:$EU$28,57,FALSE) -> xxxxxxxxxxx
B58: 7.10 | D58: Product code | F58: =VLOOKUP($D$7,'Source Data'!$A$2:$EU$28,58,FALSE) -> xxxxxxxxxxx
B59: 7.11 | D59: Material (e.g. Porcelain) | F59: =VLOOKUP($D$7,'Source Data'!$A$2:$EU$28,59,FALSE) -> xxxxxxxxxxx
B60: 7.12 | D60: Specific creepage distance | F60: =VLOOKUP($D$7,'Source Data'!$A$2:$EU$28,60,FALSE) -> ≥ 31
B61: 7.13 | D61: Clamping | F61: =VLOOKUP($D$7,'Source Data'!$A$2:$EU$28,61,FALSE) -> Base
B62: 7.14 | D62: Type | F62: =VLOOKUP($D$7,'Source Data'!$A$2:$EU$28,62,FALSE) -> Draw lead
B63: 7.15 | D63: Stem diameter | F63: =VLOOKUP($D$7,'Source Data'!$A$2:$EU$28,63,FALSE) -> M12
B64: 8 | C64: 3.2.11 | D64: Secondary LV Bushings for Coastal Transformers
B65: 8.1 | D65: Make | F65: =VLOOKUP($D$7,'Source Data'!$A$2:$EU$28,65,FALSE) -> xxxxxxxxxxx
B66: 8.2 | D66: Product code | F66: =VLOOKUP($D$7,'Source Data'!$A$2:$EU$28,66,FALSE) -> xxxxxxxxxxx
B67: 8.3 | D67: Material (e.g. Porcelain) | F67: =VLOOKUP($D$7,'Source Data'!$A$2:$EU$28,67,FALSE) -> xxxxxxxxxxx
B68: 8.4 | D68: Stem diameter | F68: =VLOOKUP($D$7,'Source Data'!$A$2:$EU$28,68,FALSE) -> M12
B69: 9 | C69: 3.2.14 | D69: Losses
B70: 9.1 | D70: Loss factor base (Cost of Dx or Gx) | F70: =VLOOKUP($D$7,'Source Data'!$A$2:$EU$28,72,FALSE) -> Distribution | G70: xxxxxxxxxxx
B71: 9.2 | D71: No-load Loss Factor, NLLF | E71: R/kW | F71: =VLOOKUP($D$7,'Source Data'!$A$2:$EU$28,73,FALSE) -> 80500 | G71: xxxxxxxxxxx
B72: 9.3 | D72: Load Loss Factor, LLF | E72: R/kW | F72: =VLOOKUP($D$7,'Source Data'!$A$2:$EU$28,74,FALSE) -> 17500 | G72: xxxxxxxxxxx
B73: 9.4 | D73: Guaranteed no-load losses, PNL (Steel Core) | E73: W | F73: =VLOOKUP($D$7,'Source Data'!$A$2:$EU$28,75,FALSE) -> 110
B74: 9.5 | D74: Guaranteed no-load losses, PNL (only if Amorphous Core is offered) | E74: W | F74: =VLOOKUP($D$7,'Source Data'!$A$2:$EU$28,151,FALSE) -> 40
B75: 9.6 | D75: Guaranteed load losses, PLL | E75: W | F75: =VLOOKUP($D$7,'Source Data'!$A$2:$EU$28,76,FALSE) -> 880
B76: 10 | C76: 3.2.14 | D76: Impedance voltage & X/R ratio
B77: 10.1 | D77: Impedance at principle tapping (specific design impedances to be stated) | E77: % | F77: =VLOOKUP($D$7,'Source Data'!$A$2:$EU$28,78,FALSE) -> 3,0 to 4,5
B78: 10.2 | D78: X/R ratio | F78: =VLOOKUP($D$7,'Source Data'!$A$2:$EU$28,79,FALSE) -> xxxxxxxxxx
B79: 11 | D79: Audio-sound level (SANS 780)
B80: 11.1 | D80: Maximum limit of transformer audio-sound level | E80: db(A) | F80: =VLOOKUP($D$7,'Source Data'!$A$2:$EU$28,81,FALSE) -> ≤ 48
B81: 12 | D81: MV winding wire
B82: 12.1 | D82: Material (e.g. Cu or Al) | F82: =VLOOKUP($D$7,'Source Data'!$A$2:$EU$28,83,FALSE) -> xxxxxxxxxxx
B83: 12.2 | D83: Type (e.g. Round, Strip or Foil) | F83: =VLOOKUP($D$7,'Source Data'!$A$2:$EU$28,84,FALSE) -> xxxxxxxxxxx
B84: 13 | D84: Secondary winding wire
B85: 13.1 | D85: Material (e.g. Cu or Al) | F85: =VLOOKUP($D$7,'Source Data'!$A$2:$EU$28,86,FALSE) -> xxxxxxxxxxx
B86: 13.2 | D86: Type (e.g. Round, Strip or Foil) | F86: =VLOOKUP($D$7,'Source Data'!$A$2:$EU$28,87,FALSE) -> xxxxxxxxxxx
B87: 14 | D87: Core material
B88: 14.1 | D88: Core material | F88: =VLOOKUP($D$7,'Source Data'!$A$2:$EU$28,89,FALSE) -> Steel or Amporphous
B89: 14.2 | D89: Type/code | F89: =VLOOKUP($D$7,'Source Data'!$A$2:$EU$28,90,FALSE) -> xxxxxxxxxxx
B90: 14.3 | D90: Maximum Flux Density of Material | F90: =VLOOKUP($D$7,'Source Data'!$A$2:$EU$28,91,FALSE) -> xxxxxxxxxxx
B91: 14.4 | D91: Supplier | F91: =VLOOKUP($D$7,'Source Data'!$A$2:$EU$28,92,FALSE) -> xxxxxxxxxxx
B92: 15 | C92: 3.3.2 | D92: Tank and tank cover
B93: 15.1 | D93: Tank type: Sealed | F93: =VLOOKUP($D$7,'Source Data'!$A$2:$EU$28,94,FALSE) -> Sealed
B94: 15.2 | D94: Plain, rigid or corrugated | F94: =VLOOKUP($D$7,'Source Data'!$A$2:$EU$28,95,FALSE) -> xxxxxxxxxx
B95: 16 | C95: 3.3.3 | D95: Transformer dimensions
B96: 16.1 | C96: Figure 12 | D96: Wo (including surge arrester) | E96: mm | F96: =VLOOKUP($D$7,'Source Data'!$A$2:$EU$28,97,FALSE) -> ≤ 1 080
B97: 16.2 | C97: Figure 12 | D97: Lo | E97: mm | F97: =VLOOKUP($D$7,'Source Data'!$A$2:$EU$28,98,FALSE) -> ≤ 1 500
B98: 16.3 | C98: Figure 12 | D98: Ht | E98: mm | F98: =VLOOKUP($D$7,'Source Data'!$A$2:$EU$28,99,FALSE) -> ≤ 1 500
B99: 16.4 | C99: Figure 12 | D99: Mass | E99: kg | F99: =VLOOKUP($D$7,'Source Data'!$A$2:$EU$28,100,FALSE) -> ≤ 900
B100: 16.5 | D100: Oil capacity | E100: l | F100: =VLOOKUP($D$7,'Source Data'!$A$2:$EU$28,101,FALSE) -> xxxxxxxxxxx
B101: 16.6 | D101: Minimum clearance between live MV terminals and from MV live terminals to any part of the tank greater than twice the BIL | E101: mm | F101: =VLOOKUP($D$7,'Source Data'!$A$2:$EU$28,102,FALSE) -> 400
B102: 16.7 | C102: 3.3.4 | D102: Minimum mechanical clearance of 100 mm between the brackets and LV bushings shall be maintained | E102: mm | F102: =VLOOKUP($D$7,'Source Data'!$A$2:$EU$28,103,FALSE) -> 100
B103: 17 | C103: 3.3.4 | D103: Pole mounting bracket
...

Sheet 0180283
F3: Specification: DSP 240-45395762 Rev.4
F4: ='List of Items & Enquiry number'!B14 -> Enquiry Number: 123456XYZ
D6: TECHNICAL SCHEDULES A & B FOR POLE-MOUNTED DISTRIBUTION TRANSFORMERS
D7: SWER Isolation, 100kVA 11kV/ 19kV* (Coastal, Ester Oil Only)
D8: * rated no-load voltage of the secondary shall be 19 kV (phase to ground) | F8: Deviations from the specific requirements stated in Schedule A must be recorded and explained in the Deviation Schedule
B9: Schedule A: Purchaser's specific requirements
B10: Schedule B: Guarantees and technical particulars of equipment offered
B11: Item | C11: Sub-clause of 240- 45395762 | D11: Description | F11: Schedule A | G11: Schedule B
B12: 1 | D12: Identification
B13: 1.1 | D13: Name of manufacturer | F13: =VLOOKUP($D$7,'Source Data'!$A$2:$EU$28,3,FALSE) -> xxxxxxxxxxx
B14: 1.2 | D14: Name of supplier | F14: =VLOOKUP($D$7,'Source Data'!$A$2:$EU$28,4,FALSE) -> xxxxxxxxxxx
B15: 1.3 | D15: Product code for Coastal transformers | F15: =VLOOKUP($D$7,'Source Data'!$A$2:$EU$28,6,FALSE) -> xxxxxxxxxxx
B16: 1.4 | D16: Are the transformers covered by the SANS 780 certification mark? | F16: =VLOOKUP($D$7,'Source Data'!$A$2:$EU$28,7,FALSE) -> xxxxxxxxxxx
B17: 1.5 | D17: State SANS 780 permit number | F17: =VLOOKUP($D$7,'Source Data'!$A$2:$EU$28,8,FALSE) -> xxxxxxxxxxx
B18: 1.6 | D18: Oil Type | F18: =VLOOKUP($D$7,'Source Data'!$A$2:$EU$28,9,FALSE) -> Ester Oil
B19: 2 | C19: 3.2.2 | D19: Ratings
B20: 2.1 | D20: Power rating | E20: kVA | F20: =VLOOKUP($D$7,'Source Data'!$A$2:$EU$28,11,FALSE) -> 100
B21: 2.2 | D21: Rated primary voltage | E21: kV | F21: =VLOOKUP($D$7,'Source Data'!$A$2:$EU$28,12,FALSE) -> 11
B22: 2.3 | D22: Rated no-load secondary voltage (phase to ground) | E22: kV | F22: =VLOOKUP($D$7,'Source Data'!$A$2:$EU$28,13,FALSE) -> 19
B23: 2.4 | D23: Frequency | E23: Hz | F23: =VLOOKUP($D$7,'Source Data'!$A$2:$EU$28,14,FALSE) -> 50
B24: 2.5 | D24: Number of phases | F24: =VLOOKUP($D$7,'Source Data'!$A$2:$EU$28,15,FALSE) -> 1ph
B25: 2.6 | D25: Vector Group | F25: =VLOOKUP($D$7,'Source Data'!$A$2:$EU$28,16,FALSE) -> N/A | G25: xxxxxxxxxxx
B26: 3 | C26: 3.2.5 | D26: Insulation levels
B27: 3.1 | D27: BIL - Primary | E27: kV | F27: =VLOOKUP($D$7,'Source Data'!$A$2:$EU$28,18,FALSE) -> 95
B28: 3.2 | D28: BIL - Secondary Line Terminal | E28: kV | F28: =VLOOKUP($D$7,'Source Data'!$A$2:$EU$28,19,FALSE) -> 200
B29: 3.3 | D29: BIL - Secondary Neutral Terminal | E29: kV | F29: =VLOOKUP($D$7,'Source Data'!$A$2:$EU$28,20,FALSE) -> 30
B30: 3.4 | D30: Power frequency withstand voltage - Primary | E30: kV | F30: =VLOOKUP($D$7,'Source Data'!$A$2:$EU$28,21,FALSE) -> 28
B31: 3.5 | D31: Power frequency withstand voltage – Secondary | E31: kV | F31: =VLOOKUP($D$7,'Source Data'!$A$2:$EU$28,22,FALSE) -> 8
B32: 4 | C32: 3.2.8 | D32: Inter-turn winding insulation
B33: 4.1 | D33: Type (Enamel or Paper) | F33: =VLOOKUP($D$7,'Source Data'!$A$2:$EU$28,24,FALSE) -> xxxxxxxxxxx
B34: 4.2 | D34: Enamel grade (if applicable) | F34: =VLOOKUP($D$7,'Source Data'!$A$2:$EU$28,25,FALSE) -> Grade 3
B35: 4.3 | D35: Paper thickness (if applicable) | E35: mm | F35: =VLOOKUP($D$7,'Source Data'!$A$2:$EU$28,26,FALSE) -> > 0.125
B36: 4.4 | D36: Paper type (if applicable) | F36: =VLOOKUP($D$7,'Source Data'!$A$2:$EU$28,27,FALSE) -> xxxxxxxxxxx
B37: 4.5 | D37: Paper make (if applicable) | F37: =VLOOKUP($D$7,'Source Data'!$A$2:$EU$28,28,FALSE) -> xxxxxxxxxxx
B38: 4.6 | D38: Paper minimum impulse withstand | E38: kV | F38: =VLOOKUP($D$7,'Source Data'!$A$2:$EU$28,29,FALSE) -> 21
B39: 4.7 | D39: Paper minimum power frequency withstand | E39: kV | F39: =VLOOKUP($D$7,'Source Data'!$A$2:$EU$28,30,FALSE) -> 8
B40: 4.8 | D40: Inter-turn winding insulation stress shall not exceed 5 kV/mm | E40: kV/mm | F40: =VLOOKUP($D$7,'Source Data'!$A$2:$EU$28,31,FALSE) -> <5
B41: 5 | C41: 3.2.9 | D41: Interlayer insulation
B42: 5.1 | D42: Highest interlayer stress in non-tap part of winding (<5kV/mm is not acceptable as the calculated value must be presented) | E42: kV/mm | F42: =VLOOKUP($D$7,'Source Data'!$A$2:$EU$28,33,FALSE) -> < 5
B43: 5.2 | D43: Highest interlayer stress in tap part of winding (<5kV/mm is not acceptable as the calculated value must be presented) | E43: kV/mm | F43: =VLOOKUP($D$7,'Source Data'!$A$2:$EU$28,34,FALSE) -> < 5
B44: 5.3 | D44: Paper type. | F44: =VLOOKUP($D$7,'Source Data'!$A$2:$EU$28,35,FALSE) -> xxxxxxxxxxx
B45: 5.4 | D45: Paper make. | F45: =VLOOKUP($D$7,'Source Data'!$A$2:$EU$28,36,FALSE) -> xxxxxxxxxxx
B46: 6 | C46: 3.2.10 | D46: Tapping connections
B47: 6.1 | D47: No tap connections shall be provided on SWER isolation transformers | F47: =VLOOKUP($D$7,'Source Data'!$A$2:$EU$28,38,FALSE) -> xxxxxxxxxxx | G47: xxxxxxxxxxx
B48: 7 | C48: 3.2.11 | D48: Primary MV Bushings for Coastal Transformers
B49: 7.1 | D49: Make | F49: =VLOOKUP($D$7,'Source Data'!$A$2:$EU$28,49,FALSE) -> xxxxxxxxxxx
B50: 7.2 | D50: Product code | F50: =VLOOKUP($D$7,'Source Data'!$A$2:$EU$28,50,FALSE) -> xxxxxxxxxxx
B51: 7.3 | D51: Material (e.g. Porcelain) | F51: =VLOOKUP($D$7,'Source Data'!$A$2:$EU$28,51,FALSE) -> xxxxxxxxxxx
B52: 7.4 | D52: Specific creepage distance | E52: mm/kV | F52: =VLOOKUP($D$7,'Source Data'!$A$2:$EU$28,52,FALSE) -> ≥ 31
B53: 7.5 | D53: Clamping | F53: =VLOOKUP($D$7,'Source Data'!$A$2:$EU$28,53,FALSE) -> Base
B54: 7.6 | D54: Type | F54: =VLOOKUP($D$7,'Source Data'!$A$2:$EU$28,54,FALSE) -> Draw lead
B55: 7.7 | D55: Stem diameter | F55: =VLOOKUP($D$7,'Source Data'!$A$2:$EU$28,55,FALSE) -> M12
B56: 7.8 | C56: 3.2.11 | D56: Secondary MV Bushings for Coastal Transformers
B57: 7.9 | D57: Make | F57: =VLOOKUP($D$7,'Source Data'!$A$2:$EU$28,57,FALSE) -> xxxxxxxxxxx
B58: 7.10 | D58: Product code | F58: =VLOOKUP($D$7,'Source Data'!$A$2:$EU$28,58,FALSE) -> xxxxxxxxxxx
B59: 7.11 | D59: Material (e.g. Porcelain) | F59: =VLOOKUP($D$7,'Source Data'!$A$2:$EU$28,59,FALSE) -> xxxxxxxxxxx
B60: 7.12 | D60: Specific creepage distance | F60: =VLOOKUP($D$7,'Source Data'!$A$2:$EU$28,60,FALSE) -> ≥ 31
B61: 7.13 | D61: Clamping | F61: =VLOOKUP($D$7,'Source Data'!$A$2:$EU$28,61,FALSE) -> Base
B62: 7.14 | D62: Type | F62: =VLOOKUP($D$7,'Source Data'!$A$2:$EU$28,62,FALSE) -> Draw lead
B63: 7.15 | D63: Stem diameter | F63: =VLOOKUP($D$7,'Source Data'!$A$2:$EU$28,63,FALSE) -> M12
B64: 8 | C64: 3.2.11 | D64: Secondary LV Bushings for Coastal Transformers
B65: 8.1 | D65: Make | F65: =VLOOKUP($D$7,'Source Data'!$A$2:$EU$28,65,FALSE) -> xxxxxxxxxxx
B66: 8.2 | D66: Product code | F66: =VLOOKUP($D$7,'Source Data'!$A$2:$EU$28,66,FALSE) -> xxxxxxxxxxx
B67: 8.3 | D67: Material (e.g. Porcelain) | F67: =VLOOKUP($D$7,'Source Data'!$A$2:$EU$28,67,FALSE) -> xxxxxxxxxxx
B68: 8.4 | D68: Stem diameter | F68: =VLOOKUP($D$7,'Source Data'!$A$2:$EU$28,68,FALSE) -> M12
B69: 9 | C69: 3.2.14 | D69: Losses
B70: 9.1 | D70: Loss factor base (Cost of Dx or Gx) | F70: =VLOOKUP($D$7,'Source Data'!$A$2:$EU$28,72,FALSE) -> Distribution | G70: xxxxxxxxxxx
B71: 9.2 | D71: No-load Loss Factor, NLLF | E71: R/kW | F71: =VLOOKUP($D$7,'Source Data'!$A$2:$EU$28,73,FALSE) -> 80500 | G71: xxxxxxxxxxx
B72: 9.3 | D72: Load Loss Factor, LLF | E72: R/kW | F72: =VLOOKUP($D$7,'Source Data'!$A$2:$EU$28,74,FALSE) -> 17500 | G72: xxxxxxxxxxx
B73: 9.4 | D73: Guaranteed no-load losses, PNL (Steel Core) | E73: W | F73: =VLOOKUP($D$7,'Source Data'!$A$2:$EU$28,75,FALSE) -> 190
B74: 9.5 | D74: Guaranteed no-load losses, PNL (only if Amorphous Core is offered) | E74: W | F74: =VLOOKUP($D$7,'Source Data'!$A$2:$EU$28,151,FALSE) -> 70
B75: 9.6 | D75: Guaranteed load losses, PLL | E75: W | F75: =VLOOKUP($D$7,'Source Data'!$A$2:$EU$28,76,FALSE) -> 1500
B76: 10 | C76: 3.2.14 | D76: Impedance voltage & X/R ratio
B77: 10.1 | D77: Impedance at principle tapping (specific design impedances to be stated) | E77: % | F77: =VLOOKUP($D$7,'Source Data'!$A$2:$EU$28,78,FALSE) -> 3,0 to 4,5
B78: 10.2 | D78: X/R ratio | F78: =VLOOKUP($D$7,'Source Data'!$A$2:$EU$28,79,FALSE) -> xxxxxxxxxx
B79: 11 | D79: Audio-sound level (SANS 780)
B80: 11.1 | D80: Maximum limit of transformer audio-sound level | E80: db(A) | F80: =VLOOKUP($D$7,'Source Data'!$A$2:$EU$28,81,FALSE) -> ≤ 48
B81: 12 | D81: MV winding wire
B82: 12.1 | D82: Material (e.g. Cu or Al) | F82: =VLOOKUP($D$7,'Source Data'!$A$2:$EU$28,83,FALSE) -> xxxxxxxxxxx
B83: 12.2 | D83: Type (e.g. Round, Strip or Foil) | F83: =VLOOKUP($D$7,'Source Data'!$A$2:$EU$28,84,FALSE) -> xxxxxxxxxxx
B84: 13 | D84: Secondary winding wire
B85: 13.1 | D85: Material (e.g. Cu or Al) | F85: =VLOOKUP($D$7,'Source Data'!$A$2:$EU$28,86,FALSE) -> xxxxxxxxxxx
B86: 13.2 | D86: Type (e.g. Round, Strip or Foil) | F86: =VLOOKUP($D$7,'Source Data'!$A$2:$EU$28,87,FALSE) -> xxxxxxxxxxx
B87: 14 | D87: Core material
B88: 14.1 | D88: Core material | F88: =VLOOKUP($D$7,'Source Data'!$A$2:$EU$28,89,FALSE) -> Steel or Amporphous
B89: 14.2 | D89: Type/code | F89: =VLOOKUP($D$7,'Source Data'!$A$2:$EU$28,90,FALSE) -> xxxxxxxxxxx
B90: 14.3 | D90: Maximum Flux Density of Material | F90: =VLOOKUP($D$7,'Source Data'!$A$2:$EU$28,91,FALSE) -> xxxxxxxxxxx
B91: 14.4 | D91: Supplier | F91: =VLOOKUP($D$7,'Source Data'!$A$2:$EU$28,92,FALSE) -> xxxxxxxxxxx
B92: 15 | C92: 3.3.2 | D92: Tank and tank cover
B93: 15.1 | D93: Tank type: Sealed | F93: =VLOOKUP($D$7,'Source Data'!$A$2:$EU$28,94,FALSE) -> Sealed
B94: 15.2 | D94: Plain, rigid or corrugated | F94: =VLOOKUP($D$7,'Source Data'!$A$2:$EU$28,95,FALSE) -> xxxxxxxxxx
B95: 16 | C95: 3.3.3 | D95: Transformer dimensions
B96: 16.1 | C96: Figure 12 | D96: Wo (including surge arrester) | E96: mm | F96: =VLOOKUP($D$7,'Source Data'!$A$2:$EU$28,97,FALSE) -> ≤ 1 080
B97: 16.2 | C97: Figure 12 | D97: Lo | E97: mm | F97: =VLOOKUP($D$7,'Source Data'!$A$2:$EU$28,98,FALSE) -> ≤ 1 500
B98: 16.3 | C98: Figure 12 | D98: Ht | E98: mm | F98: =VLOOKUP($D$7,'Source Data'!$A$2:$EU$28,99,FALSE) -> ≤ 1 500
B99: 16.4 | C99: Figure 12 | D99: Mass | E99: kg | F99: =VLOOKUP($D$7,'Source Data'!$A$2:$EU$28,100,FALSE) -> ≤ 900
B100: 16.5 | D100: Oil capacity | E100: l | F100: =VLOOKUP($D$7,'Source Data'!$A$2:$EU$28,101,FALSE) -> xxxxxxxxxxx
B101: 16.6 | D101: Minimum clearance between live MV terminals and from MV live terminals to any part of the tank greater than twice the BIL | E101: mm | F101: =VLOOKUP($D$7,'Source Data'!$A$2:$EU$28,102,FALSE) -> 190
B102: 16.7 | C102: 3.3.4 | D102: Minimum mechanical clearance of 100 mm between the brackets and LV bushings shall be maintained | E102: mm | F102: =VLOOKUP($D$7,'Source Data'!$A$2:$EU$28,103,FALSE) -> 100
B103: 17 | C103: 3.3.4 | D103: Pole mounting bracket
...

Sheet 0180284
F3: Specification: DSP 240-45395762 Rev.4
F4: ='List of Items & Enquiry number'!B14 -> Enquiry Number: 123456XYZ
D6: TECHNICAL SCHEDULES A & B FOR POLE-MOUNTED DISTRIBUTION TRANSFORMERS
D7: SWER Isolation, 100kVA 22kV/ 19kV* (Coastal, Ester Oil Only)
D8: * rated no-load voltage of the secondary shall be 19 kV (phase to ground) | F8: Deviations from the specific requirements stated in Schedule A must be recorded and explained in the Deviation Schedule
B9: Schedule A: Purchaser's specific requirements
B10: Schedule B: Guarantees and technical particulars of equipment offered
B11: Item | C11: Sub-clause of 240- 45395762 | D11: Description | F11: Schedule A | G11: Schedule B
B12: 1 | D12: Identification
B13: 1.1 | D13: Name of manufacturer | F13: =VLOOKUP($D$7,'Source Data'!$A$2:$EU$28,3,FALSE) -> xxxxxxxxxxx
B14: 1.2 | D14: Name of supplier | F14: =VLOOKUP($D$7,'Source Data'!$A$2:$EU$28,4,FALSE) -> xxxxxxxxxxx
B15: 1.3 | D15: Product code for Coastal transformers | F15: =VLOOKUP($D$7,'Source Data'!$A$2:$EU$28,6,FALSE) -> xxxxxxxxxxx
B16: 1.4 | D16: Are the transformers covered by the SANS 780 certification mark? | F16: =VLOOKUP($D$7,'Source Data'!$A$2:$EU$28,7,FALSE) -> xxxxxxxxxxx
B17: 1.5 | D17: State SANS 780 permit number | F17: =VLOOKUP($D$7,'Source Data'!$A$2:$EU$28,8,FALSE) -> xxxxxxxxxxx
B18: 1.6 | D18: Oil Type | F18: =VLOOKUP($D$7,'Source Data'!$A$2:$EU$28,9,FALSE) -> Ester Oil
B19: 2 | C19: 3.2.2 | D19: Ratings
B20: 2.1 | D20: Power rating | E20: kVA | F20: =VLOOKUP($D$7,'Source Data'!$A$2:$EU$28,11,FALSE) -> 100
B21: 2.2 | D21: Rated primary voltage | E21: kV | F21: =VLOOKUP($D$7,'Source Data'!$A$2:$EU$28,12,FALSE) -> 22
B22: 2.3 | D22: Rated no-load secondary voltage (phase to ground) | E22: kV | F22: =VLOOKUP($D$7,'Source Data'!$A$2:$EU$28,13,FALSE) -> 19
B23: 2.4 | D23: Frequency | E23: Hz | F23: =VLOOKUP($D$7,'Source Data'!$A$2:$EU$28,14,FALSE) -> 50
B24: 2.5 | D24: Number of phases | F24: =VLOOKUP($D$7,'Source Data'!$A$2:$EU$28,15,FALSE) -> 1ph
B25: 2.6 | D25: Vector Group | F25: =VLOOKUP($D$7,'Source Data'!$A$2:$EU$28,16,FALSE) -> N/A | G25: xxxxxxxxxxx
B26: 3 | C26: 3.2.5 | D26: Insulation levels
B27: 3.1 | D27: BIL - Primary | E27: kV | F27: =VLOOKUP($D$7,'Source Data'!$A$2:$EU$28,18,FALSE) -> 150
B28: 3.2 | D28: BIL - Secondary Line Terminal | E28: kV | F28: =VLOOKUP($D$7,'Source Data'!$A$2:$EU$28,19,FALSE) -> 200
B29: 3.3 | D29: BIL - Secondary Neutral Terminal | E29: kV | F29: =VLOOKUP($D$7,'Source Data'!$A$2:$EU$28,20,FALSE) -> 30
B30: 3.4 | D30: Power frequency withstand voltage - Primary | E30: kV | F30: =VLOOKUP($D$7,'Source Data'!$A$2:$EU$28,21,FALSE) -> 50
B31: 3.5 | D31: Power frequency withstand voltage – Secondary | E31: kV | F31: =VLOOKUP($D$7,'Source Data'!$A$2:$EU$28,22,FALSE) -> 8
B32: 4 | C32: 3.2.8 | D32: Inter-turn winding insulation
B33: 4.1 | D33: Type (Enamel or Paper) | F33: =VLOOKUP($D$7,'Source Data'!$A$2:$EU$28,24,FALSE) -> xxxxxxxxxxx
B34: 4.2 | D34: Enamel grade (if applicable) | F34: =VLOOKUP($D$7,'Source Data'!$A$2:$EU$28,25,FALSE) -> Grade 3
B35: 4.3 | D35: Paper thickness (if applicable) | E35: mm | F35: =VLOOKUP($D$7,'Source Data'!$A$2:$EU$28,26,FALSE) -> > 0.125
B36: 4.4 | D36: Paper type (if applicable) | F36: =VLOOKUP($D$7,'Source Data'!$A$2:$EU$28,27,FALSE) -> xxxxxxxxxxx
B37: 4.5 | D37: Paper make (if applicable) | F37: =VLOOKUP($D$7,'Source Data'!$A$2:$EU$28,28,FALSE) -> xxxxxxxxxxx
B38: 4.6 | D38: Paper minimum impulse withstand | E38: kV | F38: =VLOOKUP($D$7,'Source Data'!$A$2:$EU$28,29,FALSE) -> 21
B39: 4.7 | D39: Paper minimum power frequency withstand | E39: kV | F39: =VLOOKUP($D$7,'Source Data'!$A$2:$EU$28,30,FALSE) -> 8
B40: 4.8 | D40: Inter-turn winding insulation stress shall not exceed 5 kV/mm | E40: kV/mm | F40: =VLOOKUP($D$7,'Source Data'!$A$2:$EU$28,31,FALSE) -> <5
B41: 5 | C41: 3.2.9 | D41: Interlayer insulation
B42: 5.1 | D42: Highest interlayer stress in non-tap part of winding (<5kV/mm is not acceptable as the calculated value must be presented) | E42: kV/mm | F42: =VLOOKUP($D$7,'Source Data'!$A$2:$EU$28,33,FALSE) -> < 5
B43: 5.2 | D43: Highest interlayer stress in tap part of winding (<5kV/mm is not acceptable as the calculated value must be presented) | E43: kV/mm | F43: =VLOOKUP($D$7,'Source Data'!$A$2:$EU$28,34,FALSE) -> < 5
B44: 5.3 | D44: Paper type. | F44: =VLOOKUP($D$7,'Source Data'!$A$2:$EU$28,35,FALSE) -> xxxxxxxxxxx
B45: 5.4 | D45: Paper make. | F45: =VLOOKUP($D$7,'Source Data'!$A$2:$EU$28,36,FALSE) -> xxxxxxxxxxx
B46: 6 | C46: 3.2.10 | D46: Tapping connections
B47: 6.1 | D47: No tap connections shall be provided on SWER isolation transformers | F47: =VLOOKUP($D$7,'Source Data'!$A$2:$EU$28,38,FALSE) -> xxxxxxxxxxx | G47: xxxxxxxxxxx
B48: 7 | C48: 3.2.11 | D48: Primary MV Bushings for Coastal Transformers
B49: 7.1 | D49: Make | F49: =VLOOKUP($D$7,'Source Data'!$A$2:$EU$28,49,FALSE) -> xxxxxxxxxxx
B50: 7.2 | D50: Product code | F50: =VLOOKUP($D$7,'Source Data'!$A$2:$EU$28,50,FALSE) -> xxxxxxxxxxx
B51: 7.3 | D51: Material (e.g. Porcelain) | F51: =VLOOKUP($D$7,'Source Data'!$A$2:$EU$28,51,FALSE) -> xxxxxxxxxxx
B52: 7.4 | D52: Specific creepage distance | E52: mm/kV | F52: =VLOOKUP($D$7,'Source Data'!$A$2:$EU$28,52,FALSE) -> ≥ 31
B53: 7.5 | D53: Clamping | F53: =VLOOKUP($D$7,'Source Data'!$A$2:$EU$28,53,FALSE) -> Base
B54: 7.6 | D54: Type | F54: =VLOOKUP($D$7,'Source Data'!$A$2:$EU$28,54,FALSE) -> Draw lead
B55: 7.7 | D55: Stem diameter | F55: =VLOOKUP($D$7,'Source Data'!$A$2:$EU$28,55,FALSE) -> M12
B56: 7.8 | C56: 3.2.11 | D56: Secondary MV Bushings for Coastal Transformers
B57: 7.9 | D57: Make | F57: =VLOOKUP($D$7,'Source Data'!$A$2:$EU$28,57,FALSE) -> xxxxxxxxxxx
B58: 7.10 | D58: Product code | F58: =VLOOKUP($D$7,'Source Data'!$A$2:$EU$28,58,FALSE) -> xxxxxxxxxxx
B59: 7.11 | D59: Material (e.g. Porcelain) | F59: =VLOOKUP($D$7,'Source Data'!$A$2:$EU$28,59,FALSE) -> xxxxxxxxxxx
B60: 7.12 | D60: Specific creepage distance | F60: =VLOOKUP($D$7,'Source Data'!$A$2:$EU$28,60,FALSE) -> ≥ 31
B61: 7.13 | D61: Clamping | F61: =VLOOKUP($D$7,'Source Data'!$A$2:$EU$28,61,FALSE) -> Base
B62: 7.14 | D62: Type | F62: =VLOOKUP($D$7,'Source Data'!$A$2:$EU$28,62,FALSE) -> Draw lead
B63: 7.15 | D63: Stem diameter | F63: =VLOOKUP($D$7,'Source Data'!$A$2:$EU$28,63,FALSE) -> M12
B64: 8 | C64: 3.2.11 | D64: Secondary LV Bushings for Coastal Transformers
B65: 8.1 | D65: Make | F65: =VLOOKUP($D$7,'Source Data'!$A$2:$EU$28,65,FALSE) -> xxxxxxxxxxx
B66: 8.2 | D66: Product code | F66: =VLOOKUP($D$7,'Source Data'!$A$2:$EU$28,66,FALSE) -> xxxxxxxxxxx
B67: 8.3 | D67: Material (e.g. Porcelain) | F67: =VLOOKUP($D$7,'Source Data'!$A$2:$EU$28,67,FALSE) -> xxxxxxxxxxx
B68: 8.4 | D68: Stem diameter | F68: =VLOOKUP($D$7,'Source Data'!$A$2:$EU$28,68,FALSE) -> M12
B69: 9 | C69: 3.2.14 | D69: Losses
B70: 9.1 | D70: Loss factor base (Cost of Dx or Gx) | F70: =VLOOKUP($D$7,'Source Data'!$A$2:$EU$28,72,FALSE) -> Distribution | G70: xxxxxxxxxxx
B71: 9.2 | D71: No-load Loss Factor, NLLF | E71: R/kW | F71: =VLOOKUP($D$7,'Source Data'!$A$2:$EU$28,73,FALSE) -> 80500 | G71: xxxxxxxxxxx
B72: 9.3 | D72: Load Loss Factor, LLF | E72: R/kW | F72: =VLOOKUP($D$7,'Source Data'!$A$2:$EU$28,74,FALSE) -> 17500 | G72: xxxxxxxxxxx
B73: 9.4 | D73: Guaranteed no-load losses, PNL (Steel Core) | E73: W | F73: =VLOOKUP($D$7,'Source Data'!$A$2:$EU$28,75,FALSE) -> 190
B74: 9.5 | D74: Guaranteed no-load losses, PNL (only if Amorphous Core is offered) | E74: W | F74: =VLOOKUP($D$7,'Source Data'!$A$2:$EU$28,151,FALSE) -> 70
B75: 9.6 | D75: Guaranteed load losses, PLL | E75: W | F75: =VLOOKUP($D$7,'Source Data'!$A$2:$EU$28,76,FALSE) -> 1500
B76: 10 | C76: 3.2.14 | D76: Impedance voltage & X/R ratio
B77: 10.1 | D77: Impedance at principle tapping (specific design impedances to be stated) | E77: % | F77: =VLOOKUP($D$7,'Source Data'!$A$2:$EU$28,78,FALSE) -> 3,0 to 4,5
B78: 10.2 | D78: X/R ratio | F78: =VLOOKUP($D$7,'Source Data'!$A$2:$EU$28,79,FALSE) -> xxxxxxxxxx
B79: 11 | D79: Audio-sound level (SANS 780)
B80: 11.1 | D80: Maximum limit of transformer audio-sound level | E80: db(A) | F80: =VLOOKUP($D$7,'Source Data'!$A$2:$EU$28,81,FALSE) -> ≤ 48
B81: 12 | D81: MV winding wire
B82: 12.1 | D82: Material (e.g. Cu or Al) | F82: =VLOOKUP($D$7,'Source Data'!$A$2:$EU$28,83,FALSE) -> xxxxxxxxxxx
B83: 12.2 | D83: Type (e.g. Round, Strip or Foil) | F83: =VLOOKUP($D$7,'Source Data'!$A$2:$EU$28,84,FALSE) -> xxxxxxxxxxx
B84: 13 | D84: Secondary winding wire
B85: 13.1 | D85: Material (e.g. Cu or Al) | F85: =VLOOKUP($D$7,'Source Data'!$A$2:$EU$28,86,FALSE) -> xxxxxxxxxxx
B86: 13.2 | D86: Type (e.g. Round, Strip or Foil) | F86: =VLOOKUP($D$7,'Source Data'!$A$2:$EU$28,87,FALSE) -> xxxxxxxxxxx
B87: 14 | D87: Core material
B88: 14.1 | D88: Core material | F88: =VLOOKUP($D$7,'Source Data'!$A$2:$EU$28,89,FALSE) -> Steel or Amporphous
B89: 14.2 | D89: Type/code | F89: =VLOOKUP($D$7,'Source Data'!$A$2:$EU$28,90,FALSE) -> xxxxxxxxxxx
B90: 14.3 | D90: Maximum Flux Density of Material | F90: =VLOOKUP($D$7,'Source Data'!$A$2:$EU$28,91,FALSE) -> xxxxxxxxxxx
B91: 14.4 | D91: Supplier | F91: =VLOOKUP($D$7,'Source Data'!$A$2:$EU$28,92,FALSE) -> xxxxxxxxxxx
B92: 15 | C92: 3.3.2 | D92: Tank and tank cover
B93: 15.1 | D93: Tank type: Sealed | F93: =VLOOKUP($D$7,'Source Data'!$A$2:$EU$28,94,FALSE) -> Sealed
B94: 15.2 | D94: Plain, rigid or corrugated | F94: =VLOOKUP($D$7,'Source Data'!$A$2:$EU$28,95,FALSE) -> xxxxxxxxxx
B95: 16 | C95: 3.3.3 | D95: Transformer dimensions
B96: 16.1 | C96: Figure 12 | D96: Wo (including surge arrester) | E96: mm | F96: =VLOOKUP($D$7,'Source Data'!$A$2:$EU$28,97,FALSE) -> ≤ 1 080
B97: 16.2 | C97: Figure 12 | D97: Lo | E97: mm | F97: =VLOOKUP($D$7,'Source Data'!$A$2:$EU$28,98,FALSE) -> ≤ 1 500
B98: 16.3 | C98: Figure 12 | D98: Ht | E98: mm | F98: =VLOOKUP($D$7,'Source Data'!$A$2:$EU$28,99,FALSE) -> ≤ 1 500
B99: 16.4 | C99: Figure 12 | D99: Mass | E99: kg | F99: =VLOOKUP($D$7,'Source Data'!$A$2:$EU$28,100,FALSE) -> ≤ 900
B100: 16.5 | D100: Oil capacity | E100: l | F100: =VLOOKUP($D$7,'Source Data'!$A$2:$EU$28,101,FALSE) -> xxxxxxxxxxx
B101: 16.6 | D101: Minimum clearance between live MV terminals and from MV live terminals to any part of the tank greater than twice the BIL | E101: mm | F101: =VLOOKUP($D$7,'Source Data'!$A$2:$EU$28,102,FALSE) -> 300
B102: 16.7 | C102: 3.3.4 | D102: Minimum mechanical clearance of 100 mm between the brackets and LV bushings shall be maintained | E102: mm | F102: =VLOOKUP($D$7,'Source Data'!$A$2:$EU$28,103,FALSE) -> 100
B103: 17 | C103: 3.3.4 | D103: Pole mounting bracket
...

Sheet 0205443
F3: Specification: DSP 240-45395762 Rev.4
F4: ='List of Items & Enquiry number'!B14 -> Enquiry Number: 123456XYZ
D6: TECHNICAL SCHEDULES A & B FOR POLE-MOUNTED DISTRIBUTION TRANSFORMERS
D7: SWER Isolation, 100kVA 33kV/ 19kV* (Coastal, Ester Oil Only)
D8: * rated no-load voltage of the secondary shall be 19 kV (phase to ground) | F8: Deviations from the specific requirements stated in Schedule A must be recorded and explained in the Deviation Schedule
B9: Schedule A: Purchaser's specific requirements
B10: Schedule B: Guarantees and technical particulars of equipment offered
B11: Item | C11: Sub-clause of 240- 45395762 | D11: Description | F11: Schedule A | G11: Schedule B
B12: 1 | D12: Identification
B13: 1.1 | D13: Name of manufacturer | F13: =VLOOKUP($D$7,'Source Data'!$A$2:$EU$28,3,FALSE) -> xxxxxxxxxxx
B14: 1.2 | D14: Name of supplier | F14: =VLOOKUP($D$7,'Source Data'!$A$2:$EU$28,4,FALSE) -> xxxxxxxxxxx
B15: 1.3 | D15: Product code for Coastal transformers | F15: =VLOOKUP($D$7,'Source Data'!$A$2:$EU$28,6,FALSE) -> xxxxxxxxxxx
B16: 1.4 | D16: Are the transformers covered by the SANS 780 certification mark? | F16: =VLOOKUP($D$7,'Source Data'!$A$2:$EU$28,7,FALSE) -> xxxxxxxxxxx
B17: 1.5 | D17: State SANS 780 permit number | F17: =VLOOKUP($D$7,'Source Data'!$A$2:$EU$28,8,FALSE) -> xxxxxxxxxxx
B18: 1.6 | D18: Oil Type | F18: =VLOOKUP($D$7,'Source Data'!$A$2:$EU$28,9,FALSE) -> Ester Oil
B19: 2 | C19: 3.2.2 | D19: Ratings
B20: 2.1 | D20: Power rating | E20: kVA | F20: =VLOOKUP($D$7,'Source Data'!$A$2:$EU$28,11,FALSE) -> 100
B21: 2.2 | D21: Rated primary voltage | E21: kV | F21: =VLOOKUP($D$7,'Source Data'!$A$2:$EU$28,12,FALSE) -> 33
B22: 2.3 | D22: Rated no-load secondary voltage (phase to ground) | E22: kV | F22: =VLOOKUP($D$7,'Source Data'!$A$2:$EU$28,13,FALSE) -> 19
B23: 2.4 | D23: Frequency | E23: Hz | F23: =VLOOKUP($D$7,'Source Data'!$A$2:$EU$28,14,FALSE) -> 50
B24: 2.5 | D24: Number of phases | F24: =VLOOKUP($D$7,'Source Data'!$A$2:$EU$28,15,FALSE) -> 1ph
B25: 2.6 | D25: Vector Group | F25: =VLOOKUP($D$7,'Source Data'!$A$2:$EU$28,16,FALSE) -> N/A | G25: xxxxxxxxxxx
B26: 3 | C26: 3.2.5 | D26: Insulation levels
B27: 3.1 | D27: BIL - Primary | E27: kV | F27: =VLOOKUP($D$7,'Source Data'!$A$2:$EU$28,18,FALSE) -> 200
B28: 3.2 | D28: BIL - Secondary Line Terminal | E28: kV | F28: =VLOOKUP($D$7,'Source Data'!$A$2:$EU$28,19,FALSE) -> 200
B29: 3.3 | D29: BIL - Secondary Neutral Terminal | E29: kV | F29: =VLOOKUP($D$7,'Source Data'!$A$2:$EU$28,20,FALSE) -> 30
B30: 3.4 | D30: Power frequency withstand voltage - Primary | E30: kV | F30: =VLOOKUP($D$7,'Source Data'!$A$2:$EU$28,21,FALSE) -> 70
B31: 3.5 | D31: Power frequency withstand voltage – Secondary | E31: kV | F31: =VLOOKUP($D$7,'Source Data'!$A$2:$EU$28,22,FALSE) -> 8
B32: 4 | C32: 3.2.8 | D32: Inter-turn winding insulation
B33: 4.1 | D33: Type (Enamel or Paper) | F33: =VLOOKUP($D$7,'Source Data'!$A$2:$EU$28,24,FALSE) -> xxxxxxxxxxx
B34: 4.2 | D34: Enamel grade (if applicable) | F34: =VLOOKUP($D$7,'Source Data'!$A$2:$EU$28,25,FALSE) -> Grade 3
B35: 4.3 | D35: Paper thickness (if applicable) | E35: mm | F35: =VLOOKUP($D$7,'Source Data'!$A$2:$EU$28,26,FALSE) -> > 0.125
B36: 4.4 | D36: Paper type (if applicable) | F36: =VLOOKUP($D$7,'Source Data'!$A$2:$EU$28,27,FALSE) -> xxxxxxxxxxx
B37: 4.5 | D37: Paper make (if applicable) | F37: =VLOOKUP($D$7,'Source Data'!$A$2:$EU$28,28,FALSE) -> xxxxxxxxxxx
B38: 4.6 | D38: Paper minimum impulse withstand | E38: kV | F38: =VLOOKUP($D$7,'Source Data'!$A$2:$EU$28,29,FALSE) -> 21
B39: 4.7 | D39: Paper minimum power frequency withstand | E39: kV | F39: =VLOOKUP($D$7,'Source Data'!$A$2:$EU$28,30,FALSE) -> 8
B40: 4.8 | D40: Inter-turn winding insulation stress shall not exceed 5 kV/mm | E40: kV/mm | F40: =VLOOKUP($D$7,'Source Data'!$A$2:$EU$28,31,FALSE) -> <5
B41: 5 | C41: 3.2.9 | D41: Interlayer insulation
B42: 5.1 | D42: Highest interlayer stress in non-tap part of winding (<5kV/mm is not acceptable as the calculated value must be presented) | E42: kV/mm | F42: =VLOOKUP($D$7,'Source Data'!$A$2:$EU$28,33,FALSE) -> < 5
B43: 5.2 | D43: Highest interlayer stress in tap part of winding (<5kV/mm is not acceptable as the calculated value must be presented) | E43: kV/mm | F43: =VLOOKUP($D$7,'Source Data'!$A$2:$EU$28,34,FALSE) -> < 5
B44: 5.3 | D44: Paper type. | F44: =VLOOKUP($D$7,'Source Data'!$A$2:$EU$28,35,FALSE) -> xxxxxxxxxxx
B45: 5.4 | D45: Paper make. | F45: =VLOOKUP($D$7,'Source Data'!$A$2:$EU$28,36,FALSE) -> xxxxxxxxxxx
B46: 6 | C46: 3.2.10 | D46: Tapping connections
B47: 6.1 | D47: No tap connections shall be provided on SWER isolation transformers | F47: =VLOOKUP($D$7,'Source Data'!$A$2:$EU$28,38,FALSE) -> xxxxxxxxxxx | G47: xxxxxxxxxxx
B48: 7 | C48: 3.2.11 | D48: Primary MV Bushings for Coastal Transformers
B49: 7.1 | D49: Make | F49: =VLOOKUP($D$7,'Source Data'!$A$2:$EU$28,49,FALSE) -> xxxxxxxxxxx
B50: 7.2 | D50: Product code | F50: =VLOOKUP($D$7,'Source Data'!$A$2:$EU$28,50,FALSE) -> xxxxxxxxxxx
B51: 7.3 | D51: Material (e.g. Porcelain) | F51: =VLOOKUP($D$7,'Source Data'!$A$2:$EU$28,51,FALSE) -> xxxxxxxxxxx
B52: 7.4 | D52: Specific creepage distance | E52: mm/kV | F52: =VLOOKUP($D$7,'Source Data'!$A$2:$EU$28,52,FALSE) -> ≥ 31
B53: 7.5 | D53: Clamping | F53: =VLOOKUP($D$7,'Source Data'!$A$2:$EU$28,53,FALSE) -> Base
B54: 7.6 | D54: Type | F54: =VLOOKUP($D$7,'Source Data'!$A$2:$EU$28,54,FALSE) -> Draw lead
B55: 7.7 | D55: Stem diameter | F55: =VLOOKUP($D$7,'Source Data'!$A$2:$EU$28,55,FALSE) -> M12
B56: 7.8 | C56: 3.2.11 | D56: Secondary MV Bushings for Coastal Transformers
B57: 7.9 | D57: Make | F57: =VLOOKUP($D$7,'Source Data'!$A$2:$EU$28,57,FALSE) -> xxxxxxxxxxx
B58: 7.10 | D58: Product code | F58: =VLOOKUP($D$7,'Source Data'!$A$2:$EU$28,58,FALSE) -> xxxxxxxxxxx
B59: 7.11 | D59: Material (e.g. Porcelain) | F59: =VLOOKUP($D$7,'Source Data'!$A$2:$EU$28,59,FALSE) -> xxxxxxxxxxx
B60: 7.12 | D60: Specific creepage distance | F60: =VLOOKUP($D$7,'Source Data'!$A$2:$EU$28,60,FALSE) -> ≥ 31
B61: 7.13 | D61: Clamping | F61: =VLOOKUP($D$7,'Source Data'!$A$2:$EU$28,61,FALSE) -> Base
B62: 7.14 | D62: Type | F62: =VLOOKUP($D$7,'Source Data'!$A$2:$EU$28,62,FALSE) -> Draw lead
B63: 7.15 | D63: Stem diameter | F63: =VLOOKUP($D$7,'Source Data'!$A$2:$EU$28,63,FALSE) -> M12
B64: 8 | C64: 3.2.11 | D64: Secondary LV Bushings for Coastal Transformers
B65: 8.1 | D65: Make | F65: =VLOOKUP($D$7,'Source Data'!$A$2:$EU$28,65,FALSE) -> xxxxxxxxxxx
B66: 8.2 | D66: Product code | F66: =VLOOKUP($D$7,'Source Data'!$A$2:$EU$28,66,FALSE) -> xxxxxxxxxxx
B67: 8.3 | D67: Material (e.g. Porcelain) | F67: =VLOOKUP($D$7,'Source Data'!$A$2:$EU$28,67,FALSE) -> xxxxxxxxxxx
B68: 8.4 | D68: Stem diameter | F68: =VLOOKUP($D$7,'Source Data'!$A$2:$EU$28,68,FALSE) -> M12
B69: 9 | C69: 3.2.14 | D69: Losses
B70: 9.1 | D70: Loss factor base (Cost of Dx or Gx) | F70: =VLOOKUP($D$7,'Source Data'!$A$2:$EU$28,72,FALSE) -> Distribution | G70: xxxxxxxxxxx
B71: 9.2 | D71: No-load Loss Factor, NLLF | E71: R/kW | F71: =VLOOKUP($D$7,'Source Data'!$A$2:$EU$28,73,FALSE) -> 80500 | G71: xxxxxxxxxxx
B72: 9.3 | D72: Load Loss Factor, LLF | E72: R/kW | F72: =VLOOKUP($D$7,'Source Data'!$A$2:$EU$28,74,FALSE) -> 17500 | G72: xxxxxxxxxxx
B73: 9.4 | D73: Guaranteed no-load losses, PNL (Steel Core) | E73: W | F73: =VLOOKUP($D$7,'Source Data'!$A$2:$EU$28,75,FALSE) -> 190
B74: 9.5 | D74: Guaranteed no-load losses, PNL (only if Amorphous Core is offered) | E74: W | F74: =VLOOKUP($D$7,'Source Data'!$A$2:$EU$28,151,FALSE) -> 70
B75: 9.6 | D75: Guaranteed load losses, PLL | E75: W | F75: =VLOOKUP($D$7,'Source Data'!$A$2:$EU$28,76,FALSE) -> 1500
B76: 10 | C76: 3.2.14 | D76: Impedance voltage & X/R ratio
B77: 10.1 | D77: Impedance at principle tapping (specific design impedances to be stated) | E77: % | F77: =VLOOKUP($D$7,'Source Data'!$A$2:$EU$28,78,FALSE) -> 3,0 to 4,5
B78: 10.2 | D78: X/R ratio | F78: =VLOOKUP($D$7,'Source Data'!$A$2:$EU$28,79,FALSE) -> xxxxxxxxxx
B79: 11 | D79: Audio-sound level (SANS 780)
B80: 11.1 | D80: Maximum limit of transformer audio-sound level | E80: db(A) | F80: =VLOOKUP($D$7,'Source Data'!$A$2:$EU$28,81,FALSE) -> ≤ 48
B81: 12 | D81: MV winding wire
B82: 12.1 | D82: Material (e.g. Cu or Al) | F82: =VLOOKUP($D$7,'Source Data'!$A$2:$EU$28,83,FALSE) -> xxxxxxxxxxx
B83: 12.2 | D83: Type (e.g. Round, Strip or Foil) | F83: =VLOOKUP($D$7,'Source Data'!$A$2:$EU$28,84,FALSE) -> xxxxxxxxxxx
B84: 13 | D84: Secondary winding wire
B85: 13.1 | D85: Material (e.g. Cu or Al) | F85: =VLOOKUP($D$7,'Source Data'!$A$2:$EU$28,86,FALSE) -> xxxxxxxxxxx
B86: 13.2 | D86: Type (e.g. Round, Strip or Foil) | F86: =VLOOKUP($D$7,'Source Data'!$A$2:$EU$28,87,FALSE) -> xxxxxxxxxxx
B87: 14 | D87: Core material
B88: 14.1 | D88: Core material | F88: =VLOOKUP($D$7,'Source Data'!$A$2:$EU$28,89,FALSE) -> Steel or Amporphous
B89: 14.2 | D89: Type/code | F89: =VLOOKUP($D$7,'Source Data'!$A$2:$EU$28,90,FALSE) -> xxxxxxxxxxx
B90: 14.3 | D90: Maximum Flux Density of Material | F90: =VLOOKUP($D$7,'Source Data'!$A$2:$EU$28,91,FALSE) -> xxxxxxxxxxx
B91: 14.4 | D91: Supplier | F91: =VLOOKUP($D$7,'Source Data'!$A$2:$EU$28,92,FALSE) -> xxxxxxxxxxx
B92: 15 | C92: 3.3.2 | D92: Tank and tank cover
B93: 15.1 | D93: Tank type: Sealed | F93: =VLOOKUP($D$7,'Source Data'!$A$2:$EU$28,94,FALSE) -> Sealed
B94: 15.2 | D94: Plain, rigid or corrugated | F94: =VLOOKUP($D$7,'Source Data'!$A$2:$EU$28,95,FALSE) -> xxxxxxxxxx
B95: 16 | C95: 3.3.3 | D95: Transformer dimensions
B96: 16.1 | C96: Figure 12 | D96: Wo (including surge arrester) | E96: mm | F96: =VLOOKUP($D$7,'Source Data'!$A$2:$EU$28,97,FALSE) -> ≤ 1 080
B97: 16.2 | C97: Figure 12 | D97: Lo | E97: mm | F97: =VLOOKUP($D$7,'Source Data'!$A$2:$EU$28,98,FALSE) -> ≤ 1 500
B98: 16.3 | C98: Figure 12 | D98: Ht | E98: mm | F98: =VLOOKUP($D$7,'Source Data'!$A$2:$EU$28,99,FALSE) -> ≤ 1 500
B99: 16.4 | C99: Figure 12 | D99: Mass | E99: kg | F99: =VLOOKUP($D$7,'Source Data'!$A$2:$EU$28,100,FALSE) -> ≤ 900
B100: 16.5 | D100: Oil capacity | E100: l | F100: =VLOOKUP($D$7,'Source Data'!$A$2:$EU$28,101,FALSE) -> xxxxxxxxxxx
B101: 16.6 | D101: Minimum clearance between live MV terminals and from MV live terminals to any part of the tank greater than twice the BIL | E101: mm | F101: =VLOOKUP($D$7,'Source Data'!$A$2:$EU$28,102,FALSE) -> 400
B102: 16.7 | C102: 3.3.4 | D102: Minimum mechanical clearance of 100 mm between the brackets and LV bushings shall be maintained | E102: mm | F102: =VLOOKUP($D$7,'Source Data'!$A$2:$EU$28,103,FALSE) -> 100
B103: 17 | C103: 3.3.4 | D103: Pole mounting bracket
...

Sheet 0180285
F3: Specification: DSP 240-45395762 Rev.4
F4: ='List of Items & Enquiry number'!B14 -> Enquiry Number: 123456XYZ
D6: TECHNICAL SCHEDULES A & B FOR POLE-MOUNTED DISTRIBUTION TRANSFORMERS
D7: SWER Isolation, 200kVA 11kV/ 19kV* (Coastal, Ester Oil Only)
D8: * rated no-load voltage of the secondary shall be 19 kV (phase to ground) | F8: Deviations from the specific requirements stated in Schedule A must be recorded and explained in the Deviation Schedule
B9: Schedule A: Purchaser's specific requirements
B10: Schedule B: Guarantees and technical particulars of equipment offered
B11: Item | C11: Sub-clause of 240- 45395762 | D11: Description | F11: Schedule A | G11: Schedule B
B12: 1 | D12: Identification
B13: 1.1 | D13: Name of manufacturer | F13: =VLOOKUP($D$7,'Source Data'!$A$2:$EU$28,3,FALSE) -> xxxxxxxxxxx
B14: 1.2 | D14: Name of supplier | F14: =VLOOKUP($D$7,'Source Data'!$A$2:$EU$28,4,FALSE) -> xxxxxxxxxxx
B15: 1.3 | D15: Product code for Coastal transformers | F15: =VLOOKUP($D$7,'Source Data'!$A$2:$EU$28,6,FALSE) -> xxxxxxxxxxx
B16: 1.4 | D16: Are the transformers covered by the SANS 780 certification mark? | F16: =VLOOKUP($D$7,'Source Data'!$A$2:$EU$28,7,FALSE) -> xxxxxxxxxxx
B17: 1.5 | D17: State SANS 780 permit number | F17: =VLOOKUP($D$7,'Source Data'!$A$2:$EU$28,8,FALSE) -> xxxxxxxxxxx
B18: 1.6 | D18: Oil Type | F18: =VLOOKUP($D$7,'Source Data'!$A$2:$EU$28,9,FALSE) -> Ester Oil
B19: 2 | C19: 3.2.2 | D19: Ratings
B20: 2.1 | D20: Power rating | E20: kVA | F20: =VLOOKUP($D$7,'Source Data'!$A$2:$EU$28,11,FALSE) -> 200
B21: 2.2 | D21: Rated primary voltage | E21: kV | F21: =VLOOKUP($D$7,'Source Data'!$A$2:$EU$28,12,FALSE) -> 11
B22: 2.3 | D22: Rated no-load secondary voltage (phase to ground) | E22: kV | F22: =VLOOKUP($D$7,'Source Data'!$A$2:$EU$28,13,FALSE) -> 19
B23: 2.4 | D23: Frequency | E23: Hz | F23: =VLOOKUP($D$7,'Source Data'!$A$2:$EU$28,14,FALSE) -> 50
B24: 2.5 | D24: Number of phases | F24: =VLOOKUP($D$7,'Source Data'!$A$2:$EU$28,15,FALSE) -> 1ph
B25: 2.6 | D25: Vector Group | F25: =VLOOKUP($D$7,'Source Data'!$A$2:$EU$28,16,FALSE) -> N/A | G25: xxxxxxxxxxx
B26: 3 | C26: 3.2.5 | D26: Insulation levels
B27: 3.1 | D27: BIL - Primary | E27: kV | F27: =VLOOKUP($D$7,'Source Data'!$A$2:$EU$28,18,FALSE) -> 95
B28: 3.2 | D28: BIL - Secondary Line Terminal | E28: kV | F28: =VLOOKUP($D$7,'Source Data'!$A$2:$EU$28,19,FALSE) -> 200
B29: 3.3 | D29: BIL - Secondary Neutral Terminal | E29: kV | F29: =VLOOKUP($D$7,'Source Data'!$A$2:$EU$28,20,FALSE) -> 30
B30: 3.4 | D30: Power frequency withstand voltage - Primary | E30: kV | F30: =VLOOKUP($D$7,'Source Data'!$A$2:$EU$28,21,FALSE) -> 28
B31: 3.5 | D31: Power frequency withstand voltage – Secondary | E31: kV | F31: =VLOOKUP($D$7,'Source Data'!$A$2:$EU$28,22,FALSE) -> 8
B32: 4 | C32: 3.2.8 | D32: Inter-turn winding insulation
B33: 4.1 | D33: Type (Enamel or Paper) | F33: =VLOOKUP($D$7,'Source Data'!$A$2:$EU$28,24,FALSE) -> xxxxxxxxxxx
B34: 4.2 | D34: Enamel grade (if applicable) | F34: =VLOOKUP($D$7,'Source Data'!$A$2:$EU$28,25,FALSE) -> Grade 3
B35: 4.3 | D35: Paper thickness (if applicable) | E35: mm | F35: =VLOOKUP($D$7,'Source Data'!$A$2:$EU$28,26,FALSE) -> > 0.125
B36: 4.4 | D36: Paper type (if applicable) | F36: =VLOOKUP($D$7,'Source Data'!$A$2:$EU$28,27,FALSE) -> xxxxxxxxxxx
B37: 4.5 | D37: Paper make (if applicable) | F37: =VLOOKUP($D$7,'Source Data'!$A$2:$EU$28,28,FALSE) -> xxxxxxxxxxx
B38: 4.6 | D38: Paper minimum impulse withstand | E38: kV | F38: =VLOOKUP($D$7,'Source Data'!$A$2:$EU$28,29,FALSE) -> 21
B39: 4.7 | D39: Paper minimum power frequency withstand | E39: kV | F39: =VLOOKUP($D$7,'Source Data'!$A$2:$EU$28,30,FALSE) -> 8
B40: 4.8 | D40: Inter-turn winding insulation stress shall not exceed 5 kV/mm | E40: kV/mm | F40: =VLOOKUP($D$7,'Source Data'!$A$2:$EU$28,31,FALSE) -> <5
B41: 5 | C41: 3.2.9 | D41: Interlayer insulation
B42: 5.1 | D42: Highest interlayer stress in non-tap part of winding (<5kV/mm is not acceptable as the calculated value must be presented) | E42: kV/mm | F42: =VLOOKUP($D$7,'Source Data'!$A$2:$EU$28,33,FALSE) -> < 5
B43: 5.2 | D43: Highest interlayer stress in tap part of winding (<5kV/mm is not acceptable as the calculated value must be presented) | E43: kV/mm | F43: =VLOOKUP($D$7,'Source Data'!$A$2:$EU$28,34,FALSE) -> < 5
B44: 5.3 | D44: Paper type. | F44: =VLOOKUP($D$7,'Source Data'!$A$2:$EU$28,35,FALSE) -> xxxxxxxxxxx
B45: 5.4 | D45: Paper make. | F45: =VLOOKUP($D$7,'Source Data'!$A$2:$EU$28,36,FALSE) -> xxxxxxxxxxx
B46: 6 | C46: 3.2.10 | D46: Tapping connections
B47: 6.1 | D47: No tap connections shall be provided on SWER isolation transformers | F47: =VLOOKUP($D$7,'Source Data'!$A$2:$EU$28,38,FALSE) -> xxxxxxxxxxx | G47: xxxxxxxxxxx
B48: 7 | C48: 3.2.11 | D48: Primary MV Bushings for Coastal Transformers
B49: 7.1 | D49: Make | F49: =VLOOKUP($D$7,'Source Data'!$A$2:$EU$28,49,FALSE) -> xxxxxxxxxxx
B50: 7.2 | D50: Product code | F50: =VLOOKUP($D$7,'Source Data'!$A$2:$EU$28,50,FALSE) -> xxxxxxxxxxx
B51: 7.3 | D51: Material (e.g. Porcelain) | F51: =VLOOKUP($D$7,'Source Data'!$A$2:$EU$28,51,FALSE) -> xxxxxxxxxxx
B52: 7.4 | D52: Specific creepage distance | E52: mm/kV | F52: =VLOOKUP($D$7,'Source Data'!$A$2:$EU$28,52,FALSE) -> ≥ 31
B53: 7.5 | D53: Clamping | F53: =VLOOKUP($D$7,'Source Data'!$A$2:$EU$28,53,FALSE) -> Base
B54: 7.6 | D54: Type | F54: =VLOOKUP($D$7,'Source Data'!$A$2:$EU$28,54,FALSE) -> Draw lead
B55: 7.7 | D55: Stem diameter | F55: =VLOOKUP($D$7,'Source Data'!$A$2:$EU$28,55,FALSE) -> M12
B56: 7.8 | C56: 3.2.11 | D56: Secondary MV Bushings for Coastal Transformers
B57: 7.9 | D57: Make | F57: =VLOOKUP($D$7,'Source Data'!$A$2:$EU$28,57,FALSE) -> xxxxxxxxxxx
B58: 7.10 | D58: Product code | F58: =VLOOKUP($D$7,'Source Data'!$A$2:$EU$28,58,FALSE) -> xxxxxxxxxxx
B59: 7.11 | D59: Material (e.g. Porcelain) | F59: =VLOOKUP($D$7,'Source Data'!$A$2:$EU$28,59,FALSE) -> xxxxxxxxxxx
B60: 7.12 | D60: Specific creepage distance | F60: =VLOOKUP($D$7,'Source Data'!$A$2:$EU$28,60,FALSE) -> ≥ 31
B61: 7.13 | D61: Clamping | F61: =VLOOKUP($D$7,'Source Data'!$A$2:$EU$28,61,FALSE) -> Base
B62: 7.14 | D62: Type | F62: =VLOOKUP($D$7,'Source Data'!$A$2:$EU$28,62,FALSE) -> Draw lead
B63: 7.15 | D63: Stem diameter | F63: =VLOOKUP($D$7,'Source Data'!$A$2:$EU$28,63,FALSE) -> M12
B64: 8 | C64: 3.2.11 | D64: Secondary LV Bushings for Coastal Transformers
B65: 8.1 | D65: Make | F65: =VLOOKUP($D$7,'Source Data'!$A$2:$EU$28,65,FALSE) -> xxxxxxxxxxx
B66: 8.2 | D66: Product code | F66: =VLOOKUP($D$7,'Source Data'!$A$2:$EU$28,66,FALSE) -> xxxxxxxxxxx
B67: 8.3 | D67: Material (e.g. Porcelain) | F67: =VLOOKUP($D$7,'Source Data'!$A$2:$EU$28,67,FALSE) -> xxxxxxxxxxx
B68: 8.4 | D68: Stem diameter | F68: =VLOOKUP($D$7,'Source Data'!$A$2:$EU$28,68,FALSE) -> M12
B69: 9 | C69: 3.2.14 | D69: Losses
B70: 9.1 | D70: Loss factor base (Cost of Dx or Gx) | F70: =VLOOKUP($D$7,'Source Data'!$A$2:$EU$28,72,FALSE) -> Distribution | G70: xxxxxxxxxxx
B71: 9.2 | D71: No-load Loss Factor, NLLF | E71: R/kW | F71: =VLOOKUP($D$7,'Source Data'!$A$2:$EU$28,73,FALSE) -> 80500 | G71: xxxxxxxxxxx
B72: 9.3 | D72: Load Loss Factor, LLF | E72: R/kW | F72: =VLOOKUP($D$7,'Source Data'!$A$2:$EU$28,74,FALSE) -> 17500 | G72: xxxxxxxxxxx
B73: 9.4 | D73: Guaranteed no-load losses, PNL (Steel Core) | E73: W | F73: =VLOOKUP($D$7,'Source Data'!$A$2:$EU$28,75,FALSE) -> 320
B74: 9.5 | D74: Guaranteed no-load losses, PNL (only if Amorphous Core is offered) | E74: W | F74: =VLOOKUP($D$7,'Source Data'!$A$2:$EU$28,151,FALSE) -> 120
B75: 9.6 | D75: Guaranteed load losses, PLL | E75: W | F75: =VLOOKUP($D$7,'Source Data'!$A$2:$EU$28,76,FALSE) -> 2600
B76: 10 | C76: 3.2.14 | D76: Impedance voltage & X/R ratio
B77: 10.1 | D77: Impedance at principle tapping (specific design impedances to be stated) | E77: % | F77: =VLOOKUP($D$7,'Source Data'!$A$2:$EU$28,78,FALSE) -> 4,0 to 5,0
B78: 10.2 | D78: X/R ratio | F78: =VLOOKUP($D$7,'Source Data'!$A$2:$EU$28,79,FALSE) -> xxxxxxxxxx
B79: 11 | D79: Audio-sound level (SANS 780)
B80: 11.1 | D80: Maximum limit of transformer audio-sound level | E80: db(A) | F80: =VLOOKUP($D$7,'Source Data'!$A$2:$EU$28,81,FALSE) -> ≤ 48
B81: 12 | D81: MV winding wire
B82: 12.1 | D82: Material (e.g. Cu or Al) | F82: =VLOOKUP($D$7,'Source Data'!$A$2:$EU$28,83,FALSE) -> xxxxxxxxxxx
B83: 12.2 | D83: Type (e.g. Round, Strip or Foil) | F83: =VLOOKUP($D$7,'Source Data'!$A$2:$EU$28,84,FALSE) -> xxxxxxxxxxx
B84: 13 | D84: Secondary winding wire
B85: 13.1 | D85: Material (e.g. Cu or Al) | F85: =VLOOKUP($D$7,'Source Data'!$A$2:$EU$28,86,FALSE) -> xxxxxxxxxxx
B86: 13.2 | D86: Type (e.g. Round, Strip or Foil) | F86: =VLOOKUP($D$7,'Source Data'!$A$2:$EU$28,87,FALSE) -> xxxxxxxxxxx
B87: 14 | D87: Core material
B88: 14.1 | D88: Core material | F88: =VLOOKUP($D$7,'Source Data'!$A$2:$EU$28,89,FALSE) -> Steel or Amporphous
B89: 14.2 | D89: Type/code | F89: =VLOOKUP($D$7,'Source Data'!$A$2:$EU$28,90,FALSE) -> xxxxxxxxxxx
B90: 14.3 | D90: Maximum Flux Density of Material | F90: =VLOOKUP($D$7,'Source Data'!$A$2:$EU$28,91,FALSE) -> xxxxxxxxxxx
B91: 14.4 | D91: Supplier | F91: =VLOOKUP($D$7,'Source Data'!$A$2:$EU$28,92,FALSE) -> xxxxxxxxxxx
B92: 15 | C92: 3.3.2 | D92: Tank and tank cover
B93: 15.1 | D93: Tank type: Sealed | F93: =VLOOKUP($D$7,'Source Data'!$A$2:$EU$28,94,FALSE) -> Sealed
B94: 15.2 | D94: Plain, rigid or corrugated | F94: =VLOOKUP($D$7,'Source Data'!$A$2:$EU$28,95,FALSE) -> xxxxxxxxxx
B95: 16 | C95: 3.3.3 | D95: Transformer dimensions
B96: 16.1 | C96: Figure 12 | D96: Wo (including surge arrester) | E96: mm | F96: =VLOOKUP($D$7,'Source Data'!$A$2:$EU$28,97,FALSE) -> xxxxxxxxxxx
B97: 16.2 | C97: Figure 12 | D97: Lo | E97: mm | F97: =VLOOKUP($D$7,'Source Data'!$A$2:$EU$28,98,FALSE) -> ≤ 1 500
B98: 16.3 | C98: Figure 12 | D98: Ht | E98: mm | F98: =VLOOKUP($D$7,'Source Data'!$A$2:$EU$28,99,FALSE) -> ≤ 2 000
B99: 16.4 | C99: Figure 12 | D99: Mass | E99: kg | F99: =VLOOKUP($D$7,'Source Data'!$A$2:$EU$28,100,FALSE) -> ≤ 1 700
B100: 16.5 | D100: Oil capacity | E100: l | F100: =VLOOKUP($D$7,'Source Data'!$A$2:$EU$28,101,FALSE) -> xxxxxxxxxxx
B101: 16.6 | D101: Minimum clearance between live MV terminals and from MV live terminals to any part of the tank greater than twice the BIL | E101: mm | F101: =VLOOKUP($D$7,'Source Data'!$A$2:$EU$28,102,FALSE) -> 190
B102: 16.7 | C102: 3.3.4 | D102: Minimum mechanical clearance of 100 mm between the brackets and LV bushings shall be maintained | E102: mm | F102: =VLOOKUP($D$7,'Source Data'!$A$2:$EU$28,103,FALSE) -> 100
B103: 17 | C103: 3.3.4 | D103: Pole mounting bracket
...

Sheet 0180286
F3: Specification: DSP 240-45395762 Rev.4
F4: ='List of Items & Enquiry number'!B14 -> Enquiry Number: 123456XYZ
D6: TECHNICAL SCHEDULES A & B FOR POLE-MOUNTED DISTRIBUTION TRANSFORMERS
D7: SWER Isolation, 200kVA 22kV/ 19kV* (Coastal, Ester Oil Only)
D8: * rated no-load voltage of the secondary shall be 19 kV (phase to ground) | F8: Deviations from the specific requirements stated in Schedule A must be recorded and explained in the Deviation Schedule
B9: Schedule A: Purchaser's specific requirements
B10: Schedule B: Guarantees and technical particulars of equipment offered
B11: Item | C11: Sub-clause of 240- 45395762 | D11: Description | F11: Schedule A | G11: Schedule B
B12: 1 | D12: Identification
B13: 1.1 | D13: Name of manufacturer | F13: =VLOOKUP($D$7,'Source Data'!$A$2:$EU$28,3,FALSE) -> xxxxxxxxxxx
B14: 1.2 | D14: Name of supplier | F14: =VLOOKUP($D$7,'Source Data'!$A$2:$EU$28,4,FALSE) -> xxxxxxxxxxx
B15: 1.3 | D15: Product code for Coastal transformers | F15: =VLOOKUP($D$7,'Source Data'!$A$2:$EU$28,6,FALSE) -> xxxxxxxxxxx
B16: 1.4 | D16: Are the transformers covered by the SANS 780 certification mark? | F16: =VLOOKUP($D$7,'Source Data'!$A$2:$EU$28,7,FALSE) -> xxxxxxxxxxx
B17: 1.5 | D17: State SANS 780 permit number | F17: =VLOOKUP($D$7,'Source Data'!$A$2:$EU$28,8,FALSE) -> xxxxxxxxxxx
B18: 1.6 | D18: Oil Type | F18: =VLOOKUP($D$7,'Source Data'!$A$2:$EU$28,9,FALSE) -> Ester Oil
B19: 2 | C19: 3.2.2 | D19: Ratings
B20: 2.1 | D20: Power rating | E20: kVA | F20: =VLOOKUP($D$7,'Source Data'!$A$2:$EU$28,11,FALSE) -> 200
B21: 2.2 | D21: Rated primary voltage | E21: kV | F21: =VLOOKUP($D$7,'Source Data'!$A$2:$EU$28,12,FALSE) -> 22
B22: 2.3 | D22: Rated no-load secondary voltage (phase to ground) | E22: kV | F22: =VLOOKUP($D$7,'Source Data'!$A$2:$EU$28,13,FALSE) -> 19
B23: 2.4 | D23: Frequency | E23: Hz | F23: =VLOOKUP($D$7,'Source Data'!$A$2:$EU$28,14,FALSE) -> 50
B24: 2.5 | D24: Number of phases | F24: =VLOOKUP($D$7,'Source Data'!$A$2:$EU$28,15,FALSE) -> 1ph
B25: 2.6 | D25: Vector Group | F25: =VLOOKUP($D$7,'Source Data'!$A$2:$EU$28,16,FALSE) -> N/A | G25: xxxxxxxxxxx
B26: 3 | C26: 3.2.5 | D26: Insulation levels
B27: 3.1 | D27: BIL - Primary | E27: kV | F27: =VLOOKUP($D$7,'Source Data'!$A$2:$EU$28,18,FALSE) -> 150
B28: 3.2 | D28: BIL - Secondary Line Terminal | E28: kV | F28: =VLOOKUP($D$7,'Source Data'!$A$2:$EU$28,19,FALSE) -> 200
B29: 3.3 | D29: BIL - Secondary Neutral Terminal | E29: kV | F29: =VLOOKUP($D$7,'Source Data'!$A$2:$EU$28,20,FALSE) -> 30
B30: 3.4 | D30: Power frequency withstand voltage - Primary | E30: kV | F30: =VLOOKUP($D$7,'Source Data'!$A$2:$EU$28,21,FALSE) -> 50
B31: 3.5 | D31: Power frequency withstand voltage – Secondary | E31: kV | F31: =VLOOKUP($D$7,'Source Data'!$A$2:$EU$28,22,FALSE) -> 8
B32: 4 | C32: 3.2.8 | D32: Inter-turn winding insulation
B33: 4.1 | D33: Type (Enamel or Paper) | F33: =VLOOKUP($D$7,'Source Data'!$A$2:$EU$28,24,FALSE) -> xxxxxxxxxxx
B34: 4.2 | D34: Enamel grade (if applicable) | F34: =VLOOKUP($D$7,'Source Data'!$A$2:$EU$28,25,FALSE) -> Grade 3
B35: 4.3 | D35: Paper thickness (if applicable) | E35: mm | F35: =VLOOKUP($D$7,'Source Data'!$A$2:$EU$28,26,FALSE) -> > 0.125
B36: 4.4 | D36: Paper type (if applicable) | F36: =VLOOKUP($D$7,'Source Data'!$A$2:$EU$28,27,FALSE) -> xxxxxxxxxxx
B37: 4.5 | D37: Paper make (if applicable) | F37: =VLOOKUP($D$7,'Source Data'!$A$2:$EU$28,28,FALSE) -> xxxxxxxxxxx
B38: 4.6 | D38: Paper minimum impulse withstand | E38: kV | F38: =VLOOKUP($D$7,'Source Data'!$A$2:$EU$28,29,FALSE) -> 21
B39: 4.7 | D39: Paper minimum power frequency withstand | E39: kV | F39: =VLOOKUP($D$7,'Source Data'!$A$2:$EU$28,30,FALSE) -> 8
B40: 4.8 | D40: Inter-turn winding insulation stress shall not exceed 5 kV/mm | E40: kV/mm | F40: =VLOOKUP($D$7,'Source Data'!$A$2:$EU$28,31,FALSE) -> <5
B41: 5 | C41: 3.2.9 | D41: Interlayer insulation
B42: 5.1 | D42: Highest interlayer stress in non-tap part of winding (<5kV/mm is not acceptable as the calculated value must be presented) | E42: kV/mm | F42: =VLOOKUP($D$7,'Source Data'!$A$2:$EU$28,33,FALSE) -> < 5
B43: 5.2 | D43: Highest interlayer stress in tap part of winding (<5kV/mm is not acceptable as the calculated value must be presented) | E43: kV/mm | F43: =VLOOKUP($D$7,'Source Data'!$A$2:$EU$28,34,FALSE) -> < 5
B44: 5.3 | D44: Paper type. | F44: =VLOOKUP($D$7,'Source Data'!$A$2:$EU$28,35,FALSE) -> xxxxxxxxxxx
B45: 5.4 | D45: Paper make. | F45: =VLOOKUP($D$7,'Source Data'!$A$2:$EU$28,36,FALSE) -> xxxxxxxxxxx
B46: 6 | C46: 3.2.10 | D46: Tapping connections
B47: 6.1 | D47: No tap connections shall be provided on SWER isolation transformers | F47: =VLOOKUP($D$7,'Source Data'!$A$2:$EU$28,38,FALSE) -> xxxxxxxxxxx | G47: xxxxxxxxxxx
B48: 7 | C48: 3.2.11 | D48: Primary MV Bushings for Coastal Transformers
B49: 7.1 | D49: Make | F49: =VLOOKUP($D$7,'Source Data'!$A$2:$EU$28,49,FALSE) -> xxxxxxxxxxx
B50: 7.2 | D50: Product code | F50: =VLOOKUP($D$7,'Source Data'!$A$2:$EU$28,50,FALSE) -> xxxxxxxxxxx
B51: 7.3 | D51: Material (e.g. Porcelain) | F51: =VLOOKUP($D$7,'Source Data'!$A$2:$EU$28,51,FALSE) -> xxxxxxxxxxx
B52: 7.4 | D52: Specific creepage distance | E52: mm/kV | F52: =VLOOKUP($D$7,'Source Data'!$A$2:$EU$28,52,FALSE) -> ≥ 31
B53: 7.5 | D53: Clamping | F53: =VLOOKUP($D$7,'Source Data'!$A$2:$EU$28,53,FALSE) -> Base
B54: 7.6 | D54: Type | F54: =VLOOKUP($D$7,'Source Data'!$A$2:$EU$28,54,FALSE) -> Draw lead
B55: 7.7 | D55: Stem diameter | F55: =VLOOKUP($D$7,'Source Data'!$A$2:$EU$28,55,FALSE) -> M12
B56: 7.8 | C56: 3.2.11 | D56: Secondary MV Bushings for Coastal Transformers
B57: 7.9 | D57: Make | F57: =VLOOKUP($D$7,'Source Data'!$A$2:$EU$28,57,FALSE) -> xxxxxxxxxxx
B58: 7.10 | D58: Product code | F58: =VLOOKUP($D$7,'Source Data'!$A$2:$EU$28,58,FALSE) -> xxxxxxxxxxx
B59: 7.11 | D59: Material (e.g. Porcelain) | F59: =VLOOKUP($D$7,'Source Data'!$A$2:$EU$28,59,FALSE) -> xxxxxxxxxxx
B60: 7.12 | D60: Specific creepage distance | F60: =VLOOKUP($D$7,'Source Data'!$A$2:$EU$28,60,FALSE) -> ≥ 31
B61: 7.13 | D61: Clamping | F61: =VLOOKUP($D$7,'Source Data'!$A$2:$EU$28,61,FALSE) -> Base
B62: 7.14 | D62: Type | F62: =VLOOKUP($D$7,'Source Data'!$A$2:$EU$28,62,FALSE) -> Draw lead
B63: 7.15 | D63: Stem diameter | F63: =VLOOKUP($D$7,'Source Data'!$A$2:$EU$28,63,FALSE) -> M12
B64: 8 | C64: 3.2.11 | D64: Secondary LV Bushings for Coastal Transformers
B65: 8.1 | D65: Make | F65: =VLOOKUP($D$7,'Source Data'!$A$2:$EU$28,65,FALSE) -> xxxxxxxxxxx
B66: 8.2 | D66: Product code | F66: =VLOOKUP($D$7,'Source Data'!$A$2:$EU$28,66,FALSE) -> xxxxxxxxxxx
B67: 8.3 | D67: Material (e.g. Porcelain) | F67: =VLOOKUP($D$7,'Source Data'!$A$2:$EU$28,67,FALSE) -> xxxxxxxxxxx
B68: 8.4 | D68: Stem diameter | F68: =VLOOKUP($D$7,'Source Data'!$A$2:$EU$28,68,FALSE) -> M12
B69: 9 | C69: 3.2.14 | D69: Losses
B70: 9.1 | D70: Loss factor base (Cost of Dx or Gx) | F70: =VLOOKUP($D$7,'Source Data'!$A$2:$EU$28,72,FALSE) -> Distribution | G70: xxxxxxxxxxx
B71: 9.2 | D71: No-load Loss Factor, NLLF | E71: R/kW | F71: =VLOOKUP($D$7,'Source Data'!$A$2:$EU$28,73,FALSE) -> 80500 | G71: xxxxxxxxxxx
B72: 9.3 | D72: Load Loss Factor, LLF | E72: R/kW | F72: =VLOOKUP($D$7,'Source Data'!$A$2:$EU$28,74,FALSE) -> 17500 | G72: xxxxxxxxxxx
B73: 9.4 | D73: Guaranteed no-load losses, PNL (Steel Core) | E73: W | F73: =VLOOKUP($D$7,'Source Data'!$A$2:$EU$28,75,FALSE) -> 320
B74: 9.5 | D74: Guaranteed no-load losses, PNL (only if Amorphous Core is offered) | E74: W | F74: =VLOOKUP($D$7,'Source Data'!$A$2:$EU$28,151,FALSE) -> 120
B75: 9.6 | D75: Guaranteed load losses, PLL | E75: W | F75: =VLOOKUP($D$7,'Source Data'!$A$2:$EU$28,76,FALSE) -> 2600
B76: 10 | C76: 3.2.14 | D76: Impedance voltage & X/R ratio
B77: 10.1 | D77: Impedance at principle tapping (specific design impedances to be stated) | E77: % | F77: =VLOOKUP($D$7,'Source Data'!$A$2:$EU$28,78,FALSE) -> 4,0 to 5,0
B78: 10.2 | D78: X/R ratio | F78: =VLOOKUP($D$7,'Source Data'!$A$2:$EU$28,79,FALSE) -> xxxxxxxxxx
B79: 11 | D79: Audio-sound level (SANS 780)
B80: 11.1 | D80: Maximum limit of transformer audio-sound level | E80: db(A) | F80: =VLOOKUP($D$7,'Source Data'!$A$2:$EU$28,81,FALSE) -> ≤ 48
B81: 12 | D81: MV winding wire
B82: 12.1 | D82: Material (e.g. Cu or Al) | F82: =VLOOKUP($D$7,'Source Data'!$A$2:$EU$28,83,FALSE) -> xxxxxxxxxxx
B83: 12.2 | D83: Type (e.g. Round, Strip or Foil) | F83: =VLOOKUP($D$7,'Source Data'!$A$2:$EU$28,84,FALSE) -> xxxxxxxxxxx
B84: 13 | D84: Secondary winding wire
B85: 13.1 | D85: Material (e.g. Cu or Al) | F85: =VLOOKUP($D$7,'Source Data'!$A$2:$EU$28,86,FALSE) -> xxxxxxxxxxx
B86: 13.2 | D86: Type (e.g. Round, Strip or Foil) | F86: =VLOOKUP($D$7,'Source Data'!$A$2:$EU$28,87,FALSE) -> xxxxxxxxxxx
B87: 14 | D87: Core material
B88: 14.1 | D88: Core material | F88: =VLOOKUP($D$7,'Source Data'!$A$2:$EU$28,89,FALSE) -> Steel or Amporphous
B89: 14.2 | D89: Type/code | F89: =VLOOKUP($D$7,'Source Data'!$A$2:$EU$28,90,FALSE) -> xxxxxxxxxxx
B90: 14.3 | D90: Maximum Flux Density of Material | F90: =VLOOKUP($D$7,'Source Data'!$A$2:$EU$28,91,FALSE) -> xxxxxxxxxxx
B91: 14.4 | D91: Supplier | F91: =VLOOKUP($D$7,'Source Data'!$A$2:$EU$28,92,FALSE) -> xxxxxxxxxxx
B92: 15 | C92: 3.3.2 | D92: Tank and tank cover
B93: 15.1 | D93: Tank type: Sealed | F93: =VLOOKUP($D$7,'Source Data'!$A$2:$EU$28,94,FALSE) -> Sealed
B94: 15.2 | D94: Plain, rigid or corrugated | F94: =VLOOKUP($D$7,'Source Data'!$A$2:$EU$28,95,FALSE) -> xxxxxxxxxx
B95: 16 | C95: 3.3.3 | D95: Transformer dimensions
B96: 16.1 | C96: Figure 12 | D96: Wo (including surge arrester) | E96: mm | F96: =VLOOKUP($D$7,'Source Data'!$A$2:$EU$28,97,FALSE) -> xxxxxxxxxxx
B97: 16.2 | C97: Figure 12 | D97: Lo | E97: mm | F97: =VLOOKUP($D$7,'Source Data'!$A$2:$EU$28,98,FALSE) -> ≤ 1 500
B98: 16.3 | C98: Figure 12 | D98: Ht | E98: mm | F98: =VLOOKUP($D$7,'Source Data'!$A$2:$EU$28,99,FALSE) -> ≤ 2000
B99: 16.4 | C99: Figure 12 | D99: Mass | E99: kg | F99: =VLOOKUP($D$7,'Source Data'!$A$2:$EU$28,100,FALSE) -> ≤ 1700
B100: 16.5 | D100: Oil capacity | E100: l | F100: =VLOOKUP($D$7,'Source Data'!$A$2:$EU$28,101,FALSE) -> xxxxxxxxxxx
B101: 16.6 | D101: Minimum clearance between live MV terminals and from MV live terminals to any part of the tank greater than twice the BIL | E101: mm | F101: =VLOOKUP($D$7,'Source Data'!$A$2:$EU$28,102,FALSE) -> 300
B102: 16.7 | C102: 3.3.4 | D102: Minimum mechanical clearance of 100 mm between the brackets and LV bushings shall be maintained | E102: mm | F102: =VLOOKUP($D$7,'Source Data'!$A$2:$EU$28,103,FALSE) -> 100
B103: 17 | C103: 3.3.4 | D103: Pole mounting bracket
...

Sheet 0205439
F3: Specification: DSP 240-45395762 Rev.4
F4: ='List of Items & Enquiry number'!B14 -> Enquiry Number: 123456XYZ
D6: TECHNICAL SCHEDULES A & B FOR POLE-MOUNTED DISTRIBUTION TRANSFORMERS
D7: SWER Isolation, 200kVA 33kV/ 19kV* (Coastal, Ester Oil Only)
D8: * rated no-load voltage of the secondary shall be 19 kV (phase to ground) | F8: Deviations from the specific requirements stated in Schedule A must be recorded and explained in the Deviation Schedule
B9: Schedule A: Purchaser's specific requirements
B10: Schedule B: Guarantees and technical particulars of equipment offered
B11: Item | C11: Sub-clause of 240- 45395762 | D11: Description | F11: Schedule A | G11: Schedule B
B12: 1 | D12: Identification
B13: 1.1 | D13: Name of manufacturer | F13: =VLOOKUP($D$7,'Source Data'!$A$2:$EU$28,3,FALSE) -> xxxxxxxxxxx
B14: 1.2 | D14: Name of supplier | F14: =VLOOKUP($D$7,'Source Data'!$A$2:$EU$28,4,FALSE) -> xxxxxxxxxxx
B15: 1.3 | D15: Product code for Coastal transformers | F15: =VLOOKUP($D$7,'Source Data'!$A$2:$EU$28,6,FALSE) -> xxxxxxxxxxx
B16: 1.4 | D16: Are the transformers covered by the SANS 780 certification mark? | F16: =VLOOKUP($D$7,'Source Data'!$A$2:$EU$28,7,FALSE) -> xxxxxxxxxxx
B17: 1.5 | D17: State SANS 780 permit number | F17: =VLOOKUP($D$7,'Source Data'!$A$2:$EU$28,8,FALSE) -> xxxxxxxxxxx
B18: 1.6 | D18: Oil Type | F18: =VLOOKUP($D$7,'Source Data'!$A$2:$EU$28,9,FALSE) -> Ester Oil
B19: 2 | C19: 3.2.2 | D19: Ratings
B20: 2.1 | D20: Power rating | E20: kVA | F20: =VLOOKUP($D$7,'Source Data'!$A$2:$EU$28,11,FALSE) -> 200
B21: 2.2 | D21: Rated primary voltage | E21: kV | F21: =VLOOKUP($D$7,'Source Data'!$A$2:$EU$28,12,FALSE) -> 33
B22: 2.3 | D22: Rated no-load secondary voltage (phase to ground) | E22: kV | F22: =VLOOKUP($D$7,'Source Data'!$A$2:$EU$28,13,FALSE) -> 19
B23: 2.4 | D23: Frequency | E23: Hz | F23: =VLOOKUP($D$7,'Source Data'!$A$2:$EU$28,14,FALSE) -> 50
B24: 2.5 | D24: Number of phases | F24: =VLOOKUP($D$7,'Source Data'!$A$2:$EU$28,15,FALSE) -> 1ph
B25: 2.6 | D25: Vector Group | F25: =VLOOKUP($D$7,'Source Data'!$A$2:$EU$28,16,FALSE) -> N/A | G25: xxxxxxxxxxx
B26: 3 | C26: 3.2.5 | D26: Insulation levels
B27: 3.1 | D27: BIL - Primary | E27: kV | F27: =VLOOKUP($D$7,'Source Data'!$A$2:$EU$28,18,FALSE) -> 200
B28: 3.2 | D28: BIL - Secondary Line Terminal | E28: kV | F28: =VLOOKUP($D$7,'Source Data'!$A$2:$EU$28,19,FALSE) -> 200
B29: 3.3 | D29: BIL - Secondary Neutral Terminal | E29: kV | F29: =VLOOKUP($D$7,'Source Data'!$A$2:$EU$28,20,FALSE) -> 30
B30: 3.4 | D30: Power frequency withstand voltage - Primary | E30: kV | F30: =VLOOKUP($D$7,'Source Data'!$A$2:$EU$28,21,FALSE) -> 70
B31: 3.5 | D31: Power frequency withstand voltage – Secondary | E31: kV | F31: =VLOOKUP($D$7,'Source Data'!$A$2:$EU$28,22,FALSE) -> 8
B32: 4 | C32: 3.2.8 | D32: Inter-turn winding insulation
B33: 4.1 | D33: Type (Enamel or Paper) | F33: =VLOOKUP($D$7,'Source Data'!$A$2:$EU$28,24,FALSE) -> xxxxxxxxxxx
B34: 4.2 | D34: Enamel grade (if applicable) | F34: =VLOOKUP($D$7,'Source Data'!$A$2:$EU$28,25,FALSE) -> Grade 3
B35: 4.3 | D35: Paper thickness (if applicable) | E35: mm | F35: =VLOOKUP($D$7,'Source Data'!$A$2:$EU$28,26,FALSE) -> > 0.125
B36: 4.4 | D36: Paper type (if applicable) | F36: =VLOOKUP($D$7,'Source Data'!$A$2:$EU$28,27,FALSE) -> xxxxxxxxxxx
B37: 4.5 | D37: Paper make (if applicable) | F37: =VLOOKUP($D$7,'Source Data'!$A$2:$EU$28,28,FALSE) -> xxxxxxxxxxx
B38: 4.6 | D38: Paper minimum impulse withstand | E38: kV | F38: =VLOOKUP($D$7,'Source Data'!$A$2:$EU$28,29,FALSE) -> 21
B39: 4.7 | D39: Paper minimum power frequency withstand | E39: kV | F39: =VLOOKUP($D$7,'Source Data'!$A$2:$EU$28,30,FALSE) -> 8
B40: 4.8 | D40: Inter-turn winding insulation stress shall not exceed 5 kV/mm | E40: kV/mm | F40: =VLOOKUP($D$7,'Source Data'!$A$2:$EU$28,31,FALSE) -> <5
B41: 5 | C41: 3.2.9 | D41: Interlayer insulation
B42: 5.1 | D42: Highest interlayer stress in non-tap part of winding (<5kV/mm is not acceptable as the calculated value must be presented) | E42: kV/mm | F42: =VLOOKUP($D$7,'Source Data'!$A$2:$EU$28,33,FALSE) -> < 5
B43: 5.2 | D43: Highest interlayer stress in tap part of winding (<5kV/mm is not acceptable as the calculated value must be presented) | E43: kV/mm | F43: =VLOOKUP($D$7,'Source Data'!$A$2:$EU$28,34,FALSE) -> < 5
B44: 5.3 | D44: Paper type. | F44: =VLOOKUP($D$7,'Source Data'!$A$2:$EU$28,35,FALSE) -> xxxxxxxxxxx
B45: 5.4 | D45: Paper make. | F45: =VLOOKUP($D$7,'Source Data'!$A$2:$EU$28,36,FALSE) -> xxxxxxxxxxx
B46: 6 | C46: 3.2.10 | D46: Tapping connections
B47: 6.1 | D47: No tap connections shall be provided on SWER isolation transformers | F47: =VLOOKUP($D$7,'Source Data'!$A$2:$EU$28,38,FALSE) -> xxxxxxxxxxx | G47: xxxxxxxxxxx
B48: 7 | C48: 3.2.11 | D48: Primary MV Bushings for Coastal Transformers
B49: 7.1 | D49: Make | F49: =VLOOKUP($D$7,'Source Data'!$A$2:$EU$28,49,FALSE) -> xxxxxxxxxxx
B50: 7.2 | D50: Product code | F50: =VLOOKUP($D$7,'Source Data'!$A$2:$EU$28,50,FALSE) -> xxxxxxxxxxx
B51: 7.3 | D51: Material (e.g. Porcelain) | F51: =VLOOKUP($D$7,'Source Data'!$A$2:$EU$28,51,FALSE) -> xxxxxxxxxxx
B52: 7.4 | D52: Specific creepage distance | E52: mm/kV | F52: =VLOOKUP($D$7,'Source Data'!$A$2:$EU$28,52,FALSE) -> ≥ 31
B53: 7.5 | D53: Clamping | F53: =VLOOKUP($D$7,'Source Data'!$A$2:$EU$28,53,FALSE) -> Base
B54: 7.6 | D54: Type | F54: =VLOOKUP($D$7,'Source Data'!$A$2:$EU$28,54,FALSE) -> Draw lead
B55: 7.7 | D55: Stem diameter | F55: =VLOOKUP($D$7,'Source Data'!$A$2:$EU$28,55,FALSE) -> M12
B56: 7.8 | C56: 3.2.11 | D56: Secondary MV Bushings for Coastal Transformers
B57: 7.9 | D57: Make | F57: =VLOOKUP($D$7,'Source Data'!$A$2:$EU$28,57,FALSE) -> xxxxxxxxxxx
B58: 7.10 | D58: Product code | F58: =VLOOKUP($D$7,'Source Data'!$A$2:$EU$28,58,FALSE) -> xxxxxxxxxxx
B59: 7.11 | D59: Material (e.g. Porcelain) | F59: =VLOOKUP($D$7,'Source Data'!$A$2:$EU$28,59,FALSE) -> xxxxxxxxxxx
B60: 7.12 | D60: Specific creepage distance | F60: =VLOOKUP($D$7,'Source Data'!$A$2:$EU$28,60,FALSE) -> ≥ 31
B61: 7.13 | D61: Clamping | F61: =VLOOKUP($D$7,'Source Data'!$A$2:$EU$28,61,FALSE) -> Base
B62: 7.14 | D62: Type | F62: =VLOOKUP($D$7,'Source Data'!$A$2:$EU$28,62,FALSE) -> Draw lead
B63: 7.15 | D63: Stem diameter | F63: =VLOOKUP($D$7,'Source Data'!$A$2:$EU$28,63,FALSE) -> M12
B64: 8 | C64: 3.2.11 | D64: Secondary LV Bushings for Coastal Transformers
B65: 8.1 | D65: Make | F65: =VLOOKUP($D$7,'Source Data'!$A$2:$EU$28,65,FALSE) -> xxxxxxxxxxx
B66: 8.2 | D66: Product code | F66: =VLOOKUP($D$7,'Source Data'!$A$2:$EU$28,66,FALSE) -> xxxxxxxxxxx
B67: 8.3 | D67: Material (e.g. Porcelain) | F67: =VLOOKUP($D$7,'Source Data'!$A$2:$EU$28,67,FALSE) -> xxxxxxxxxxx
B68: 8.4 | D68: Stem diameter | F68: =VLOOKUP($D$7,'Source Data'!$A$2:$EU$28,68,FALSE) -> M12
B69: 9 | C69: 3.2.14 | D69: Losses
B70: 9.1 | D70: Loss factor base (Cost of Dx or Gx) | F70: =VLOOKUP($D$7,'Source Data'!$A$2:$EU$28,72,FALSE) -> Distribution | G70: xxxxxxxxxxx
B71: 9.2 | D71: No-load Loss Factor, NLLF | E71: R/kW | F71: =VLOOKUP($D$7,'Source Data'!$A$2:$EU$28,73,FALSE) -> 80500 | G71: xxxxxxxxxxx
B72: 9.3 | D72: Load Loss Factor, LLF | E72: R/kW | F72: =VLOOKUP($D$7,'Source Data'!$A$2:$EU$28,74,FALSE) -> 17500 | G72: xxxxxxxxxxx
B73: 9.4 | D73: Guaranteed no-load losses, PNL (Steel Core) | E73: W | F73: =VLOOKUP($D$7,'Source Data'!$A$2:$EU$28,75,FALSE) -> 320
B74: 9.5 | D74: Guaranteed no-load losses, PNL (only if Amorphous Core is offered) | E74: W | F74: =VLOOKUP($D$7,'Source Data'!$A$2:$EU$28,151,FALSE) -> 120
B75: 9.6 | D75: Guaranteed load losses, PLL | E75: W | F75: =VLOOKUP($D$7,'Source Data'!$A$2:$EU$28,76,FALSE) -> 2600
B76: 10 | C76: 3.2.14 | D76: Impedance voltage & X/R ratio
B77: 10.1 | D77: Impedance at principle tapping (specific design impedances to be stated) | E77: % | F77: =VLOOKUP($D$7,'Source Data'!$A$2:$EU$28,78,FALSE) -> 4,0 to 5,0
B78: 10.2 | D78: X/R ratio | F78: =VLOOKUP($D$7,'Source Data'!$A$2:$EU$28,79,FALSE) -> xxxxxxxxxx
B79: 11 | D79: Audio-sound level (SANS 780)
B80: 11.1 | D80: Maximum limit of transformer audio-sound level | E80: db(A) | F80: =VLOOKUP($D$7,'Source Data'!$A$2:$EU$28,81,FALSE) -> ≤ 48
B81: 12 | D81: MV winding wire
B82: 12.1 | D82: Material (e.g. Cu or Al) | F82: =VLOOKUP($D$7,'Source Data'!$A$2:$EU$28,83,FALSE) -> xxxxxxxxxxx
B83: 12.2 | D83: Type (e.g. Round, Strip or Foil) | F83: =VLOOKUP($D$7,'Source Data'!$A$2:$EU$28,84,FALSE) -> xxxxxxxxxxx
B84: 13 | D84: Secondary winding wire
B85: 13.1 | D85: Material (e.g. Cu or Al) | F85: =VLOOKUP($D$7,'Source Data'!$A$2:$EU$28,86,FALSE) -> xxxxxxxxxxx
B86: 13.2 | D86: Type (e.g. Round, Strip or Foil) | F86: =VLOOKUP($D$7,'Source Data'!$A$2:$EU$28,87,FALSE) -> xxxxxxxxxxx
B87: 14 | D87: Core material
B88: 14.1 | D88: Core material | F88: =VLOOKUP($D$7,'Source Data'!$A$2:$EU$28,89,FALSE) -> Steel or Amporphous
B89: 14.2 | D89: Type/code | F89: =VLOOKUP($D$7,'Source Data'!$A$2:$EU$28,90,FALSE) -> xxxxxxxxxxx
B90: 14.3 | D90: Maximum Flux Density of Material | F90: =VLOOKUP($D$7,'Source Data'!$A$2:$EU$28,91,FALSE) -> xxxxxxxxxxx
B91: 14.4 | D91: Supplier | F91: =VLOOKUP($D$7,'Source Data'!$A$2:$EU$28,92,FALSE) -> xxxxxxxxxxx
B92: 15 | C92: 3.3.2 | D92: Tank and tank cover
B93: 15.1 | D93: Tank type: Sealed | F93: =VLOOKUP($D$7,'Source Data'!$A$2:$EU$28,94,FALSE) -> Sealed
B94: 15.2 | D94: Plain, rigid or corrugated | F94: =VLOOKUP($D$7,'Source Data'!$A$2:$EU$28,95,FALSE) -> xxxxxxxxxx
B95: 16 | C95: 3.3.3 | D95: Transformer dimensions
B96: 16.1 | C96: Figure 12 | D96: Wo (including surge arrester) | E96: mm | F96: =VLOOKUP($D$7,'Source Data'!$A$2:$EU$28,97,FALSE) -> xxxxxxxxxxx
B97: 16.2 | C97: Figure 12 | D97: Lo | E97: mm | F97: =VLOOKUP($D$7,'Source Data'!$A$2:$EU$28,98,FALSE) -> ≤ 1 500
B98: 16.3 | C98: Figure 12 | D98: Ht | E98: mm | F98: =VLOOKUP($D$7,'Source Data'!$A$2:$EU$28,99,FALSE) -> ≤ 2000
B99: 16.4 | C99: Figure 12 | D99: Mass | E99: kg | F99: =VLOOKUP($D$7,'Source Data'!$A$2:$EU$28,100,FALSE) -> ≤ 1700
B100: 16.5 | D100: Oil capacity | E100: l | F100: =VLOOKUP($D$7,'Source Data'!$A$2:$EU$28,101,FALSE) -> xxxxxxxxxxx
B101: 16.6 | D101: Minimum clearance between live MV terminals and from MV live terminals to any part of the tank greater than twice the BIL | E101: mm | F101: =VLOOKUP($D$7,'Source Data'!$A$2:$EU$28,102,FALSE) -> 400
B102: 16.7 | C102: 3.3.4 | D102: Minimum mechanical clearance of 100 mm between the brackets and LV bushings shall be maintained | E102: mm | F102: =VLOOKUP($D$7,'Source Data'!$A$2:$EU$28,103,FALSE) -> 100
B103: 17 | C103: 3.3.4 | D103: Pole mounting bracket
...

Sheet 0180287
F3: Specification: DSP 240-45395762 Rev.4
F4: ='List of Items & Enquiry number'!B14 -> Enquiry Number: 123456XYZ
D6: TECHNICAL SCHEDULES A & B FOR POLE-MOUNTED DISTRIBUTION TRANSFORMERS
D7: SWER Isolation, 400kVA 11kV/ 19kV* (Coastal, Ester Oil Only)
D8: * rated no-load voltage of the secondary shall be 19 kV (phase to ground) | F8: Deviations from the specific requirements stated in Schedule A must be recorded and explained in the Deviation Schedule
B9: Schedule A: Purchaser's specific requirements
B10: Schedule B: Guarantees and technical particulars of equipment offered
B11: Item | C11: Sub-clause of 240- 45395762 | D11: Description | F11: Schedule A | G11: Schedule B
B12: 1 | D12: Identification
B13: 1.1 | D13: Name of manufacturer | F13: =VLOOKUP($D$7,'Source Data'!$A$2:$EU$28,3,FALSE) -> xxxxxxxxxxx
B14: 1.2 | D14: Name of supplier | F14: =VLOOKUP($D$7,'Source Data'!$A$2:$EU$28,4,FALSE) -> xxxxxxxxxxx
B15: 1.3 | D15: Product code for Coastal transformers | F15: =VLOOKUP($D$7,'Source Data'!$A$2:$EU$28,6,FALSE) -> xxxxxxxxxxx
B16: 1.4 | D16: Are the transformers covered by the SANS 780 certification mark? | F16: =VLOOKUP($D$7,'Source Data'!$A$2:$EU$28,7,FALSE) -> xxxxxxxxxxx
B17: 1.5 | D17: State SANS 780 permit number | F17: =VLOOKUP($D$7,'Source Data'!$A$2:$EU$28,8,FALSE) -> xxxxxxxxxxx
B18: 1.6 | D18: Oil Type | F18: =VLOOKUP($D$7,'Source Data'!$A$2:$EU$28,9,FALSE) -> Ester Oil
B19: 2 | C19: 3.2.2 | D19: Ratings
B20: 2.1 | D20: Power rating | E20: kVA | F20: =VLOOKUP($D$7,'Source Data'!$A$2:$EU$28,11,FALSE) -> 400
B21: 2.2 | D21: Rated primary voltage | E21: kV | F21: =VLOOKUP($D$7,'Source Data'!$A$2:$EU$28,12,FALSE) -> 11
B22: 2.3 | D22: Rated no-load secondary voltage (phase to ground) | E22: kV | F22: =VLOOKUP($D$7,'Source Data'!$A$2:$EU$28,13,FALSE) -> 19
B23: 2.4 | D23: Frequency | E23: Hz | F23: =VLOOKUP($D$7,'Source Data'!$A$2:$EU$28,14,FALSE) -> 50
B24: 2.5 | D24: Number of phases | F24: =VLOOKUP($D$7,'Source Data'!$A$2:$EU$28,15,FALSE) -> 1ph
B25: 2.6 | D25: Vector Group | F25: =VLOOKUP($D$7,'Source Data'!$A$2:$EU$28,16,FALSE) -> N/A | G25: xxxxxxxxxxx
B26: 3 | C26: 3.2.5 | D26: Insulation levels
B27: 3.1 | D27: BIL - Primary | E27: kV | F27: =VLOOKUP($D$7,'Source Data'!$A$2:$EU$28,18,FALSE) -> 95
B28: 3.2 | D28: BIL - Secondary Line Terminal | E28: kV | F28: =VLOOKUP($D$7,'Source Data'!$A$2:$EU$28,19,FALSE) -> 200
B29: 3.3 | D29: BIL - Secondary Neutral Terminal | E29: kV | F29: =VLOOKUP($D$7,'Source Data'!$A$2:$EU$28,20,FALSE) -> 30
B30: 3.4 | D30: Power frequency withstand voltage - Primary | E30: kV | F30: =VLOOKUP($D$7,'Source Data'!$A$2:$EU$28,21,FALSE) -> 28
B31: 3.5 | D31: Power frequency withstand voltage – Secondary | E31: kV | F31: =VLOOKUP($D$7,'Source Data'!$A$2:$EU$28,22,FALSE) -> 8
B32: 4 | C32: 3.2.8 | D32: Inter-turn winding insulation
B33: 4.1 | D33: Type (Enamel or Paper) | F33: =VLOOKUP($D$7,'Source Data'!$A$2:$EU$28,24,FALSE) -> xxxxxxxxxxx
B34: 4.2 | D34: Enamel grade (if applicable) | F34: =VLOOKUP($D$7,'Source Data'!$A$2:$EU$28,25,FALSE) -> Grade 3
B35: 4.3 | D35: Paper thickness (if applicable) | E35: mm | F35: =VLOOKUP($D$7,'Source Data'!$A$2:$EU$28,26,FALSE) -> > 0.125
B36: 4.4 | D36: Paper type (if applicable) | F36: =VLOOKUP($D$7,'Source Data'!$A$2:$EU$28,27,FALSE) -> xxxxxxxxxxx
B37: 4.5 | D37: Paper make (if applicable) | F37: =VLOOKUP($D$7,'Source Data'!$A$2:$EU$28,28,FALSE) -> xxxxxxxxxxx
B38: 4.6 | D38: Paper minimum impulse withstand | E38: kV | F38: =VLOOKUP($D$7,'Source Data'!$A$2:$EU$28,29,FALSE) -> 21
B39: 4.7 | D39: Paper minimum power frequency withstand | E39: kV | F39: =VLOOKUP($D$7,'Source Data'!$A$2:$EU$28,30,FALSE) -> 8
B40: 4.8 | D40: Inter-turn winding insulation stress shall not exceed 5 kV/mm | E40: kV/mm | F40: =VLOOKUP($D$7,'Source Data'!$A$2:$EU$28,31,FALSE) -> <5
B41: 5 | C41: 3.2.9 | D41: Interlayer insulation
B42: 5.1 | D42: Highest interlayer stress in non-tap part of winding (<5kV/mm is not acceptable as the calculated value must be presented) | E42: kV/mm | F42: =VLOOKUP($D$7,'Source Data'!$A$2:$EU$28,33,FALSE) -> < 5
B43: 5.2 | D43: Highest interlayer stress in tap part of winding (<5kV/mm is not acceptable as the calculated value must be presented) | E43: kV/mm | F43: =VLOOKUP($D$7,'Source Data'!$A$2:$EU$28,34,FALSE) -> < 5
B44: 5.3 | D44: Paper type. | F44: =VLOOKUP($D$7,'Source Data'!$A$2:$EU$28,35,FALSE) -> xxxxxxxxxxx
B45: 5.4 | D45: Paper make. | F45: =VLOOKUP($D$7,'Source Data'!$A$2:$EU$28,36,FALSE) -> xxxxxxxxxxx
B46: 6 | C46: 3.2.10 | D46: Tapping connections
B47: 6.1 | D47: No tap connections shall be provided on SWER isolation transformers | F47: =VLOOKUP($D$7,'Source Data'!$A$2:$EU$28,38,FALSE) -> xxxxxxxxxxx | G47: xxxxxxxxxxx
B48: 7 | C48: 3.2.11 | D48: Primary MV Bushings for Coastal Transformers
B49: 7.1 | D49: Make | F49: =VLOOKUP($D$7,'Source Data'!$A$2:$EU$28,49,FALSE) -> xxxxxxxxxxx
B50: 7.2 | D50: Product code | F50: =VLOOKUP($D$7,'Source Data'!$A$2:$EU$28,50,FALSE) -> xxxxxxxxxxx
B51: 7.3 | D51: Material (e.g. Porcelain) | F51: =VLOOKUP($D$7,'Source Data'!$A$2:$EU$28,51,FALSE) -> xxxxxxxxxxx
B52: 7.4 | D52: Specific creepage distance | E52: mm/kV | F52: =VLOOKUP($D$7,'Source Data'!$A$2:$EU$28,52,FALSE) -> ≥ 31
B53: 7.5 | D53: Clamping | F53: =VLOOKUP($D$7,'Source Data'!$A$2:$EU$28,53,FALSE) -> Base
B54: 7.6 | D54: Type | F54: =VLOOKUP($D$7,'Source Data'!$A$2:$EU$28,54,FALSE) -> Draw lead
B55: 7.7 | D55: Stem diameter | F55: =VLOOKUP($D$7,'Source Data'!$A$2:$EU$28,55,FALSE) -> M12
B56: 7.8 | C56: 3.2.11 | D56: Secondary MV Bushings for Coastal Transformers
B57: 7.9 | D57: Make | F57: =VLOOKUP($D$7,'Source Data'!$A$2:$EU$28,57,FALSE) -> xxxxxxxxxxx
B58: 7.10 | D58: Product code | F58: =VLOOKUP($D$7,'Source Data'!$A$2:$EU$28,58,FALSE) -> xxxxxxxxxxx
B59: 7.11 | D59: Material (e.g. Porcelain) | F59: =VLOOKUP($D$7,'Source Data'!$A$2:$EU$28,59,FALSE) -> xxxxxxxxxxx
B60: 7.12 | D60: Specific creepage distance | F60: =VLOOKUP($D$7,'Source Data'!$A$2:$EU$28,60,FALSE) -> ≥ 31
B61: 7.13 | D61: Clamping | F61: =VLOOKUP($D$7,'Source Data'!$A$2:$EU$28,61,FALSE) -> Base
B62: 7.14 | D62: Type | F62: =VLOOKUP($D$7,'Source Data'!$A$2:$EU$28,62,FALSE) -> Draw lead
B63: 7.15 | D63: Stem diameter | F63: =VLOOKUP($D$7,'Source Data'!$A$2:$EU$28,63,FALSE) -> M12
B64: 8 | C64: 3.2.11 | D64: Secondary LV Bushings for Coastal Transformers
B65: 8.1 | D65: Make | F65: =VLOOKUP($D$7,'Source Data'!$A$2:$EU$28,65,FALSE) -> xxxxxxxxxxx
B66: 8.2 | D66: Product code | F66: =VLOOKUP($D$7,'Source Data'!$A$2:$EU$28,66,FALSE) -> xxxxxxxxxxx
B67: 8.3 | D67: Material (e.g. Porcelain) | F67: =VLOOKUP($D$7,'Source Data'!$A$2:$EU$28,67,FALSE) -> xxxxxxxxxxx
B68: 8.4 | D68: Stem diameter | F68: =VLOOKUP($D$7,'Source Data'!$A$2:$EU$28,68,FALSE) -> M12
B69: 9 | C69: 3.2.14 | D69: Losses
B70: 9.1 | D70: Loss factor base (Cost of Dx or Gx) | F70: =VLOOKUP($D$7,'Source Data'!$A$2:$EU$28,72,FALSE) -> Distribution | G70: xxxxxxxxxxx
B71: 9.2 | D71: No-load Loss Factor, NLLF | E71: R/kW | F71: =VLOOKUP($D$7,'Source Data'!$A$2:$EU$28,73,FALSE) -> 80500 | G71: xxxxxxxxxxx
B72: 9.3 | D72: Load Loss Factor, LLF | E72: R/kW | F72: =VLOOKUP($D$7,'Source Data'!$A$2:$EU$28,74,FALSE) -> 17500 | G72: xxxxxxxxxxx
B73: 9.4 | D73: Guaranteed no-load losses, PNL (Steel Core) | E73: W | F73: 540
B74: 9.5 | D74: Guaranteed no-load losses, PNL (only if Amorphous Core is offered) | E74: W | F74: 200
B75: 9.6 | D75: Guaranteed load losses, PLL | E75: W | F75: 4400
B76: 10 | C76: 3.2.14 | D76: Impedance voltage & X/R ratio
B77: 10.1 | D77: Impedance at principle tapping (specific design impedances to be stated) | E77: % | F77: =VLOOKUP($D$7,'Source Data'!$A$2:$EU$28,78,FALSE) -> 4,0 to 5,0
B78: 10.2 | D78: X/R ratio | F78: =VLOOKUP($D$7,'Source Data'!$A$2:$EU$28,79,FALSE) -> xxxxxxxxxx
B79: 11 | D79: Audio-sound level (SANS 780)
B80: 11.1 | D80: Maximum limit of transformer audio-sound level | E80: db(A) | F80: =VLOOKUP($D$7,'Source Data'!$A$2:$EU$28,81,FALSE) -> ≤ 52
B81: 12 | D81: MV winding wire
B82: 12.1 | D82: Material (e.g. Cu or Al) | F82: =VLOOKUP($D$7,'Source Data'!$A$2:$EU$28,83,FALSE) -> xxxxxxxxxxx
B83: 12.2 | D83: Type (e.g. Round, Strip or Foil) | F83: =VLOOKUP($D$7,'Source Data'!$A$2:$EU$28,84,FALSE) -> xxxxxxxxxxx
B84: 13 | D84: Secondary winding wire
B85: 13.1 | D85: Material (e.g. Cu or Al) | F85: =VLOOKUP($D$7,'Source Data'!$A$2:$EU$28,86,FALSE) -> xxxxxxxxxxx
B86: 13.2 | D86: Type (e.g. Round, Strip or Foil) | F86: =VLOOKUP($D$7,'Source Data'!$A$2:$EU$28,87,FALSE) -> xxxxxxxxxxx
B87: 14 | D87: Core material
B88: 14.1 | D88: Core material | F88: =VLOOKUP($D$7,'Source Data'!$A$2:$EU$28,89,FALSE) -> Steel or Amporphous
B89: 14.2 | D89: Type/code | F89: =VLOOKUP($D$7,'Source Data'!$A$2:$EU$28,90,FALSE) -> xxxxxxxxxxx
B90: 14.3 | D90: Maximum Flux Density of Material | F90: =VLOOKUP($D$7,'Source Data'!$A$2:$EU$28,91,FALSE) -> xxxxxxxxxxx
B91: 14.4 | D91: Supplier | F91: =VLOOKUP($D$7,'Source Data'!$A$2:$EU$28,92,FALSE) -> xxxxxxxxxxx
B92: 15 | C92: 3.3.2 | D92: Tank and tank cover
B93: 15.1 | D93: Tank type: Sealed | F93: =VLOOKUP($D$7,'Source Data'!$A$2:$EU$28,94,FALSE) -> Sealed
B94: 15.2 | D94: Plain, rigid or corrugated | F94: =VLOOKUP($D$7,'Source Data'!$A$2:$EU$28,95,FALSE) -> xxxxxxxxxx
B95: 16 | C95: 3.3.3 | D95: Transformer dimensions
B96: 16.1 | C96: Figure 12 | D96: Wo (including surge arrester) | E96: mm | F96: =VLOOKUP($D$7,'Source Data'!$A$2:$EU$28,97,FALSE) -> ≤ 1 800
B97: 16.2 | C97: Figure 12 | D97: Lo | E97: mm | F97: =VLOOKUP($D$7,'Source Data'!$A$2:$EU$28,98,FALSE) -> ≤ 1 500
B98: 16.3 | C98: Figure 12 | D98: Ht | E98: mm | F98: =VLOOKUP($D$7,'Source Data'!$A$2:$EU$28,99,FALSE) -> ≤ 2000
B99: 16.4 | C99: Figure 12 | D99: Mass | E99: kg | F99: =VLOOKUP($D$7,'Source Data'!$A$2:$EU$28,100,FALSE) -> ≤ 3500
B100: 16.5 | D100: Oil capacity | E100: l | F100: =VLOOKUP($D$7,'Source Data'!$A$2:$EU$28,101,FALSE) -> xxxxxxxxxxx
B101: 16.6 | D101: Minimum clearance between live MV terminals and from MV live terminals to any part of the tank greater than twice the BIL | E101: mm | F101: =VLOOKUP($D$7,'Source Data'!$A$2:$EU$28,102,FALSE) -> 190
B102: 16.7 | C102: 3.3.4 | D102: Minimum mechanical clearance of 100 mm between the brackets and LV bushings shall be maintained | E102: mm | F102: =VLOOKUP($D$7,'Source Data'!$A$2:$EU$28,103,FALSE) -> 100
B103: 17 | C103: 3.3.4 | D103: Pole mounting bracket
...

Sheet 0180288
F3: Specification: DSP 240-45395762 Rev.4
F4: ='List of Items & Enquiry number'!B14 -> Enquiry Number: 123456XYZ
D6: TECHNICAL SCHEDULES A & B FOR POLE-MOUNTED DISTRIBUTION TRANSFORMERS
D7: SWER Isolation, 400kVA 22kV/ 19kV* (Coastal, Ester Oil Only)
D8: * rated no-load voltage of the secondary shall be 19 kV (phase to ground) | F8: Deviations from the specific requirements stated in Schedule A must be recorded and explained in the Deviation Schedule
B9: Schedule A: Purchaser's specific requirements
B10: Schedule B: Guarantees and technical particulars of equipment offered
B11: Item | C11: Sub-clause of 240- 45395762 | D11: Description | F11: Schedule A | G11: Schedule B
B12: 1 | D12: Identification
B13: 1.1 | D13: Name of manufacturer | F13: =VLOOKUP($D$7,'Source Data'!$A$2:$EU$28,3,FALSE) -> xxxxxxxxxxx
B14: 1.2 | D14: Name of supplier | F14: =VLOOKUP($D$7,'Source Data'!$A$2:$EU$28,4,FALSE) -> xxxxxxxxxxx
B15: 1.3 | D15: Product code for Coastal transformers | F15: =VLOOKUP($D$7,'Source Data'!$A$2:$EU$28,6,FALSE) -> xxxxxxxxxxx
B16: 1.4 | D16: Are the transformers covered by the SANS 780 certification mark? | F16: =VLOOKUP($D$7,'Source Data'!$A$2:$EU$28,7,FALSE) -> xxxxxxxxxxx
B17: 1.5 | D17: State SANS 780 permit number | F17: =VLOOKUP($D$7,'Source Data'!$A$2:$EU$28,8,FALSE) -> xxxxxxxxxxx
B18: 1.6 | D18: Oil Type | F18: =VLOOKUP($D$7,'Source Data'!$A$2:$EU$28,9,FALSE) -> Ester Oil
B19: 2 | C19: 3.2.2 | D19: Ratings
B20: 2.1 | D20: Power rating | E20: kVA | F20: =VLOOKUP($D$7,'Source Data'!$A$2:$EU$28,11,FALSE) -> 400
B21: 2.2 | D21: Rated primary voltage | E21: kV | F21: =VLOOKUP($D$7,'Source Data'!$A$2:$EU$28,12,FALSE) -> 22
B22: 2.3 | D22: Rated no-load secondary voltage (phase to ground) | E22: kV | F22: =VLOOKUP($D$7,'Source Data'!$A$2:$EU$28,13,FALSE) -> 19
B23: 2.4 | D23: Frequency | E23: Hz | F23: =VLOOKUP($D$7,'Source Data'!$A$2:$EU$28,14,FALSE) -> 50
B24: 2.5 | D24: Number of phases | F24: =VLOOKUP($D$7,'Source Data'!$A$2:$EU$28,15,FALSE) -> 1ph
B25: 2.6 | D25: Vector Group | F25: =VLOOKUP($D$7,'Source Data'!$A$2:$EU$28,16,FALSE) -> N/A | G25: xxxxxxxxxxx
B26: 3 | C26: 3.2.5 | D26: Insulation levels
B27: 3.1 | D27: BIL - Primary | E27: kV | F27: =VLOOKUP($D$7,'Source Data'!$A$2:$EU$28,18,FALSE) -> 150
B28: 3.2 | D28: BIL - Secondary Line Terminal | E28: kV | F28: =VLOOKUP($D$7,'Source Data'!$A$2:$EU$28,19,FALSE) -> 200
B29: 3.3 | D29: BIL - Secondary Neutral Terminal | E29: kV | F29: =VLOOKUP($D$7,'Source Data'!$A$2:$EU$28,20,FALSE) -> 30
B30: 3.4 | D30: Power frequency withstand voltage - Primary | E30: kV | F30: =VLOOKUP($D$7,'Source Data'!$A$2:$EU$28,21,FALSE) -> 50
B31: 3.5 | D31: Power frequency withstand voltage – Secondary | E31: kV | F31: =VLOOKUP($D$7,'Source Data'!$A$2:$EU$28,22,FALSE) -> 8
B32: 4 | C32: 3.2.8 | D32: Inter-turn winding insulation
B33: 4.1 | D33: Type (Enamel or Paper) | F33: =VLOOKUP($D$7,'Source Data'!$A$2:$EU$28,24,FALSE) -> xxxxxxxxxxx
B34: 4.2 | D34: Enamel grade (if applicable) | F34: =VLOOKUP($D$7,'Source Data'!$A$2:$EU$28,25,FALSE) -> Grade 3
B35: 4.3 | D35: Paper thickness (if applicable) | E35: mm | F35: =VLOOKUP($D$7,'Source Data'!$A$2:$EU$28,26,FALSE) -> > 0.125
B36: 4.4 | D36: Paper type (if applicable) | F36: =VLOOKUP($D$7,'Source Data'!$A$2:$EU$28,27,FALSE) -> xxxxxxxxxxx
B37: 4.5 | D37: Paper make (if applicable) | F37: =VLOOKUP($D$7,'Source Data'!$A$2:$EU$28,28,FALSE) -> xxxxxxxxxxx
B38: 4.6 | D38: Paper minimum impulse withstand | E38: kV | F38: =VLOOKUP($D$7,'Source Data'!$A$2:$EU$28,29,FALSE) -> 21
B39: 4.7 | D39: Paper minimum power frequency withstand | E39: kV | F39: =VLOOKUP($D$7,'Source Data'!$A$2:$EU$28,30,FALSE) -> 8
B40: 4.8 | D40: Inter-turn winding insulation stress shall not exceed 5 kV/mm | E40: kV/mm | F40: =VLOOKUP($D$7,'Source Data'!$A$2:$EU$28,31,FALSE) -> <5
B41: 5 | C41: 3.2.9 | D41: Interlayer insulation
B42: 5.1 | D42: Highest interlayer stress in non-tap part of winding (<5kV/mm is not acceptable as the calculated value must be presented) | E42: kV/mm | F42: =VLOOKUP($D$7,'Source Data'!$A$2:$EU$28,33,FALSE) -> < 5
B43: 5.2 | D43: Highest interlayer stress in tap part of winding (<5kV/mm is not acceptable as the calculated value must be presented) | E43: kV/mm | F43: =VLOOKUP($D$7,'Source Data'!$A$2:$EU$28,34,FALSE) -> < 5
B44: 5.3 | D44: Paper type. | F44: =VLOOKUP($D$7,'Source Data'!$A$2:$EU$28,35,FALSE) -> xxxxxxxxxxx
B45: 5.4 | D45: Paper make. | F45: =VLOOKUP($D$7,'Source Data'!$A$2:$EU$28,36,FALSE) -> xxxxxxxxxxx
B46: 6 | C46: 3.2.10 | D46: Tapping connections
B47: 6.1 | D47: No tap connections shall be provided on SWER isolation transformers | F47: =VLOOKUP($D$7,'Source Data'!$A$2:$EU$28,38,FALSE) -> xxxxxxxxxxx | G47: xxxxxxxxxxx
B48: 7 | C48: 3.2.11 | D48: Primary MV Bushings for Coastal Transformers
B49: 7.1 | D49: Make | F49: =VLOOKUP($D$7,'Source Data'!$A$2:$EU$28,49,FALSE) -> xxxxxxxxxxx
B50: 7.2 | D50: Product code | F50: =VLOOKUP($D$7,'Source Data'!$A$2:$EU$28,50,FALSE) -> xxxxxxxxxxx
B51: 7.3 | D51: Material (e.g. Porcelain) | F51: =VLOOKUP($D$7,'Source Data'!$A$2:$EU$28,51,FALSE) -> xxxxxxxxxxx
B52: 7.4 | D52: Specific creepage distance | E52: mm/kV | F52: =VLOOKUP($D$7,'Source Data'!$A$2:$EU$28,52,FALSE) -> ≥ 31
B53: 7.5 | D53: Clamping | F53: =VLOOKUP($D$7,'Source Data'!$A$2:$EU$28,53,FALSE) -> Base
B54: 7.6 | D54: Type | F54: =VLOOKUP($D$7,'Source Data'!$A$2:$EU$28,54,FALSE) -> Draw lead
B55: 7.7 | D55: Stem diameter | F55: =VLOOKUP($D$7,'Source Data'!$A$2:$EU$28,55,FALSE) -> M12
B56: 7.8 | C56: 3.2.11 | D56: Secondary MV Bushings for Coastal Transformers
B57: 7.9 | D57: Make | F57: =VLOOKUP($D$7,'Source Data'!$A$2:$EU$28,57,FALSE) -> xxxxxxxxxxx
B58: 7.10 | D58: Product code | F58: =VLOOKUP($D$7,'Source Data'!$A$2:$EU$28,58,FALSE) -> xxxxxxxxxxx
B59: 7.11 | D59: Material (e.g. Porcelain) | F59: =VLOOKUP($D$7,'Source Data'!$A$2:$EU$28,59,FALSE) -> xxxxxxxxxxx
B60: 7.12 | D60: Specific creepage distance | F60: =VLOOKUP($D$7,'Source Data'!$A$2:$EU$28,60,FALSE) -> ≥ 31
B61: 7.13 | D61: Clamping | F61: =VLOOKUP($D$7,'Source Data'!$A$2:$EU$28,61,FALSE) -> Base
B62: 7.14 | D62: Type | F62: =VLOOKUP($D$7,'Source Data'!$A$2:$EU$28,62,FALSE) -> Draw lead
B63: 7.15 | D63: Stem diameter | F63: =VLOOKUP($D$7,'Source Data'!$A$2:$EU$28,63,FALSE) -> M12
B64: 8 | C64: 3.2.11 | D64: Secondary LV Bushings for Coastal Transformers
B65: 8.1 | D65: Make | F65: =VLOOKUP($D$7,'Source Data'!$A$2:$EU$28,65,FALSE) -> xxxxxxxxxxx
B66: 8.2 | D66: Product code | F66: =VLOOKUP($D$7,'Source Data'!$A$2:$EU$28,66,FALSE) -> xxxxxxxxxxx
B67: 8.3 | D67: Material (e.g. Porcelain) | F67: =VLOOKUP($D$7,'Source Data'!$A$2:$EU$28,67,FALSE) -> xxxxxxxxxxx
B68: 8.4 | D68: Stem diameter | F68: =VLOOKUP($D$7,'Source Data'!$A$2:$EU$28,68,FALSE) -> M12
B69: 9 | C69: 3.2.14 | D69: Losses
B70: 9.1 | D70: Loss factor base (Cost of Dx or Gx) | F70: =VLOOKUP($D$7,'Source Data'!$A$2:$EU$28,72,FALSE) -> Distribution | G70: xxxxxxxxxxx
B71: 9.2 | D71: No-load Loss Factor, NLLF | E71: R/kW | F71: =VLOOKUP($D$7,'Source Data'!$A$2:$EU$28,73,FALSE) -> 80500 | G71: xxxxxxxxxxx
B72: 9.3 | D72: Load Loss Factor, LLF | E72: R/kW | F72: =VLOOKUP($D$7,'Source Data'!$A$2:$EU$28,74,FALSE) -> 17500 | G72: xxxxxxxxxxx
B73: 9.4 | D73: Guaranteed no-load losses, PNL (Steel Core) | E73: W | F73: 540
B74: 9.5 | D74: Guaranteed no-load losses, PNL (only if Amorphous Core is offered) | E74: W | F74: 200
B75: 9.6 | D75: Guaranteed load losses, PLL | E75: W | F75: 4400
B76: 10 | C76: 3.2.14 | D76: Impedance voltage & X/R ratio
B77: 10.1 | D77: Impedance at principle tapping (specific design impedances to be stated) | E77: % | F77: =VLOOKUP($D$7,'Source Data'!$A$2:$EU$28,78,FALSE) -> 4,0 to 5,0
B78: 10.2 | D78: X/R ratio | F78: =VLOOKUP($D$7,'Source Data'!$A$2:$EU$28,79,FALSE) -> xxxxxxxxxx
B79: 11 | D79: Audio-sound level (SANS 780)
B80: 11.1 | D80: Maximum limit of transformer audio-sound level | E80: db(A) | F80: =VLOOKUP($D$7,'Source Data'!$A$2:$EU$28,81,FALSE) -> ≤ 52
B81: 12 | D81: MV winding wire
B82: 12.1 | D82: Material (e.g. Cu or Al) | F82: =VLOOKUP($D$7,'Source Data'!$A$2:$EU$28,83,FALSE) -> xxxxxxxxxxx
B83: 12.2 | D83: Type (e.g. Round, Strip or Foil) | F83: =VLOOKUP($D$7,'Source Data'!$A$2:$EU$28,84,FALSE) -> xxxxxxxxxxx
B84: 13 | D84: Secondary winding wire
B85: 13.1 | D85: Material (e.g. Cu or Al) | F85: =VLOOKUP($D$7,'Source Data'!$A$2:$EU$28,86,FALSE) -> xxxxxxxxxxx
B86: 13.2 | D86: Type (e.g. Round, Strip or Foil) | F86: =VLOOKUP($D$7,'Source Data'!$A$2:$EU$28,87,FALSE) -> xxxxxxxxxxx
B87: 14 | D87: Core material
B88: 14.1 | D88: Core material | F88: =VLOOKUP($D$7,'Source Data'!$A$2:$EU$28,89,FALSE) -> Steel or Amporphous
B89: 14.2 | D89: Type/code | F89: =VLOOKUP($D$7,'Source Data'!$A$2:$EU$28,90,FALSE) -> xxxxxxxxxxx
B90: 14.3 | D90: Maximum Flux Density of Material | F90: =VLOOKUP($D$7,'Source Data'!$A$2:$EU$28,91,FALSE) -> xxxxxxxxxxx
B91: 14.4 | D91: Supplier | F91: =VLOOKUP($D$7,'Source Data'!$A$2:$EU$28,92,FALSE) -> xxxxxxxxxxx
B92: 15 | C92: 3.3.2 | D92: Tank and tank cover
B93: 15.1 | D93: Tank type: Sealed | F93: =VLOOKUP($D$7,'Source Data'!$A$2:$EU$28,94,FALSE) -> Sealed
B94: 15.2 | D94: Plain, rigid or corrugated | F94: =VLOOKUP($D$7,'Source Data'!$A$2:$EU$28,95,FALSE) -> xxxxxxxxxx
B95: 16 | C95: 3.3.3 | D95: Transformer dimensions
B96: 16.1 | C96: Figure 12 | D96: Wo (including surge arrester) | E96: mm | F96: =VLOOKUP($D$7,'Source Data'!$A$2:$EU$28,97,FALSE) -> ≤ 1 800
B97: 16.2 | C97: Figure 12 | D97: Lo | E97: mm | F97: =VLOOKUP($D$7,'Source Data'!$A$2:$EU$28,98,FALSE) -> ≤ 1 500
B98: 16.3 | C98: Figure 12 | D98: Ht | E98: mm | F98: =VLOOKUP($D$7,'Source Data'!$A$2:$EU$28,99,FALSE) -> ≤ 2000
B99: 16.4 | C99: Figure 12 | D99: Mass | E99: kg | F99: =VLOOKUP($D$7,'Source Data'!$A$2:$EU$28,100,FALSE) -> ≤ 3500
B100: 16.5 | D100: Oil capacity | E100: l | F100: =VLOOKUP($D$7,'Source Data'!$A$2:$EU$28,101,FALSE) -> xxxxxxxxxxx
B101: 16.6 | D101: Minimum clearance between live MV terminals and from MV live terminals to any part of the tank greater than twice the BIL | E101: mm | F101: =VLOOKUP($D$7,'Source Data'!$A$2:$EU$28,102,FALSE) -> 300
B102: 16.7 | C102: 3.3.4 | D102: Minimum mechanical clearance of 100 mm between the brackets and LV bushings shall be maintained | E102: mm | F102: =VLOOKUP($D$7,'Source Data'!$A$2:$EU$28,103,FALSE) -> 100
B103: 17 | C103: 3.3.4 | D103: Pole mounting bracket
...

Sheet 0205445
F3: Specification: DSP 240-45395762 Rev.4
F4: ='List of Items & Enquiry number'!B14 -> Enquiry Number: 123456XYZ
D6: TECHNICAL SCHEDULES A & B FOR POLE-MOUNTED DISTRIBUTION TRANSFORMERS
D7: SWER Isolation, 400kVA 33kV/ 19kV* (Coastal, Ester Oil Only)
D8: * rated no-load voltage of the secondary shall be 19 kV (phase to ground) | F8: Deviations from the specific requirements stated in Schedule A must be recorded and explained in the Deviation Schedule
B9: Schedule A: Purchaser's specific requirements
B10: Schedule B: Guarantees and technical particulars of equipment offered
B11: Item | C11: Sub-clause of 240- 45395762 | D11: Description | F11: Schedule A | G11: Schedule B
B12: 1 | D12: Identification
B13: 1.1 | D13: Name of manufacturer | F13: =VLOOKUP($D$7,'Source Data'!$A$2:$EU$28,3,FALSE) -> xxxxxxxxxxx
B14: 1.2 | D14: Name of supplier | F14: =VLOOKUP($D$7,'Source Data'!$A$2:$EU$28,4,FALSE) -> xxxxxxxxxxx
B15: 1.3 | D15: Product code for Coastal transformers | F15: =VLOOKUP($D$7,'Source Data'!$A$2:$EU$28,6,FALSE) -> xxxxxxxxxxx
B16: 1.4 | D16: Are the transformers covered by the SANS 780 certification mark? | F16: =VLOOKUP($D$7,'Source Data'!$A$2:$EU$28,7,FALSE) -> xxxxxxxxxxx
B17: 1.5 | D17: State SANS 780 permit number | F17: =VLOOKUP($D$7,'Source Data'!$A$2:$EU$28,8,FALSE) -> xxxxxxxxxxx
B18: 1.6 | D18: Oil Type | F18: =VLOOKUP($D$7,'Source Data'!$A$2:$EU$28,9,FALSE) -> Ester Oil
B19: 2 | C19: 3.2.2 | D19: Ratings
B20: 2.1 | D20: Power rating | E20: kVA | F20: =VLOOKUP($D$7,'Source Data'!$A$2:$EU$28,11,FALSE) -> 400
B21: 2.2 | D21: Rated primary voltage | E21: kV | F21: =VLOOKUP($D$7,'Source Data'!$A$2:$EU$28,12,FALSE) -> 33
B22: 2.3 | D22: Rated no-load secondary voltage (phase to ground) | E22: kV | F22: =VLOOKUP($D$7,'Source Data'!$A$2:$EU$28,13,FALSE) -> 19
B23: 2.4 | D23: Frequency | E23: Hz | F23: =VLOOKUP($D$7,'Source Data'!$A$2:$EU$28,14,FALSE) -> 50
B24: 2.5 | D24: Number of phases | F24: =VLOOKUP($D$7,'Source Data'!$A$2:$EU$28,15,FALSE) -> 1ph
B25: 2.6 | D25: Vector Group | F25: =VLOOKUP($D$7,'Source Data'!$A$2:$EU$28,16,FALSE) -> N/A | G25: xxxxxxxxxxx
B26: 3 | C26: 3.2.5 | D26: Insulation levels
B27: 3.1 | D27: BIL - Primary | E27: kV | F27: =VLOOKUP($D$7,'Source Data'!$A$2:$EU$28,18,FALSE) -> 200
B28: 3.2 | D28: BIL - Secondary Line Terminal | E28: kV | F28: =VLOOKUP($D$7,'Source Data'!$A$2:$EU$28,19,FALSE) -> 200
B29: 3.3 | D29: BIL - Secondary Neutral Terminal | E29: kV | F29: =VLOOKUP($D$7,'Source Data'!$A$2:$EU$28,20,FALSE) -> 30
B30: 3.4 | D30: Power frequency withstand voltage - Primary | E30: kV | F30: =VLOOKUP($D$7,'Source Data'!$A$2:$EU$28,21,FALSE) -> 70
B31: 3.5 | D31: Power frequency withstand voltage – Secondary | E31: kV | F31: =VLOOKUP($D$7,'Source Data'!$A$2:$EU$28,22,FALSE) -> 8
B32: 4 | C32: 3.2.8 | D32: Inter-turn winding insulation
B33: 4.1 | D33: Type (Enamel or Paper) | F33: =VLOOKUP($D$7,'Source Data'!$A$2:$EU$28,24,FALSE) -> xxxxxxxxxxx
B34: 4.2 | D34: Enamel grade (if applicable) | F34: =VLOOKUP($D$7,'Source Data'!$A$2:$EU$28,25,FALSE) -> Grade 3
B35: 4.3 | D35: Paper thickness (if applicable) | E35: mm | F35: =VLOOKUP($D$7,'Source Data'!$A$2:$EU$28,26,FALSE) -> > 0.125
B36: 4.4 | D36: Paper type (if applicable) | F36: =VLOOKUP($D$7,'Source Data'!$A$2:$EU$28,27,FALSE) -> xxxxxxxxxxx
B37: 4.5 | D37: Paper make (if applicable) | F37: =VLOOKUP($D$7,'Source Data'!$A$2:$EU$28,28,FALSE) -> xxxxxxxxxxx
B38: 4.6 | D38: Paper minimum impulse withstand | E38: kV | F38: =VLOOKUP($D$7,'Source Data'!$A$2:$EU$28,29,FALSE) -> 21
B39: 4.7 | D39: Paper minimum power frequency withstand | E39: kV | F39: =VLOOKUP($D$7,'Source Data'!$A$2:$EU$28,30,FALSE) -> 8
B40: 4.8 | D40: Inter-turn winding insulation stress shall not exceed 5 kV/mm | E40: kV/mm | F40: =VLOOKUP($D$7,'Source Data'!$A$2:$EU$28,31,FALSE) -> <5
B41: 5 | C41: 3.2.9 | D41: Interlayer insulation
B42: 5.1 | D42: Highest interlayer stress in non-tap part of winding (<5kV/mm is not acceptable as the calculated value must be presented) | E42: kV/mm | F42: =VLOOKUP($D$7,'Source Data'!$A$2:$EU$28,33,FALSE) -> < 5
B43: 5.2 | D43: Highest interlayer stress in tap part of winding (<5kV/mm is not acceptable as the calculated value must be presented) | E43: kV/mm | F43: =VLOOKUP($D$7,'Source Data'!$A$2:$EU$28,34,FALSE) -> < 5
B44: 5.3 | D44: Paper type. | F44: =VLOOKUP($D$7,'Source Data'!$A$2:$EU$28,35,FALSE) -> xxxxxxxxxxx
B45: 5.4 | D45: Paper make. | F45: =VLOOKUP($D$7,'Source Data'!$A$2:$EU$28,36,FALSE) -> xxxxxxxxxxx
B46: 6 | C46: 3.2.10 | D46: Tapping connections
B47: 6.1 | D47: No tap connections shall be provided on SWER isolation transformers | F47: =VLOOKUP($D$7,'Source Data'!$A$2:$EU$28,38,FALSE) -> xxxxxxxxxxx | G47: xxxxxxxxxxx
B48: 7 | C48: 3.2.11 | D48: Primary MV Bushings for Coastal Transformers
B49: 7.1 | D49: Make | F49: =VLOOKUP($D$7,'Source Data'!$A$2:$EU$28,49,FALSE) -> xxxxxxxxxxx
B50: 7.2 | D50: Product code | F50: =VLOOKUP($D$7,'Source Data'!$A$2:$EU$28,50,FALSE) -> xxxxxxxxxxx
B51: 7.3 | D51: Material (e.g. Porcelain) | F51: =VLOOKUP($D$7,'Source Data'!$A$2:$EU$28,51,FALSE) -> xxxxxxxxxxx
B52: 7.4 | D52: Specific creepage distance | E52: mm/kV | F52: =VLOOKUP($D$7,'Source Data'!$A$2:$EU$28,52,FALSE) -> ≥ 31
B53: 7.5 | D53: Clamping | F53: =VLOOKUP($D$7,'Source Data'!$A$2:$EU$28,53,FALSE) -> Base
B54: 7.6 | D54: Type | F54: =VLOOKUP($D$7,'Source Data'!$A$2:$EU$28,54,FALSE) -> Draw lead
B55: 7.7 | D55: Stem diameter | F55: =VLOOKUP($D$7,'Source Data'!$A$2:$EU$28,55,FALSE) -> M12
B56: 7.8 | C56: 3.2.11 | D56: Secondary MV Bushings for Coastal Transformers
B57: 7.9 | D57: Make | F57: =VLOOKUP($D$7,'Source Data'!$A$2:$EU$28,57,FALSE) -> xxxxxxxxxxx
B58: 7.10 | D58: Product code | F58: =VLOOKUP($D$7,'Source Data'!$A$2:$EU$28,58,FALSE) -> xxxxxxxxxxx
B59: 7.11 | D59: Material (e.g. Porcelain) | F59: =VLOOKUP($D$7,'Source Data'!$A$2:$EU$28,59,FALSE) -> xxxxxxxxxxx
B60: 7.12 | D60: Specific creepage distance | F60: =VLOOKUP($D$7,'Source Data'!$A$2:$EU$28,60,FALSE) -> ≥ 31
B61: 7.13 | D61: Clamping | F61: =VLOOKUP($D$7,'Source Data'!$A$2:$EU$28,61,FALSE) -> Base
B62: 7.14 | D62: Type | F62: =VLOOKUP($D$7,'Source Data'!$A$2:$EU$28,62,FALSE) -> Draw lead
B63: 7.15 | D63: Stem diameter | F63: =VLOOKUP($D$7,'Source Data'!$A$2:$EU$28,63,FALSE) -> M12
B64: 8 | C64: 3.2.11 | D64: Secondary LV Bushings for Coastal Transformers
B65: 8.1 | D65: Make | F65: =VLOOKUP($D$7,'Source Data'!$A$2:$EU$28,65,FALSE) -> xxxxxxxxxxx
B66: 8.2 | D66: Product code | F66: =VLOOKUP($D$7,'Source Data'!$A$2:$EU$28,66,FALSE) -> xxxxxxxxxxx
B67: 8.3 | D67: Material (e.g. Porcelain) | F67: =VLOOKUP($D$7,'Source Data'!$A$2:$EU$28,67,FALSE) -> xxxxxxxxxxx
B68: 8.4 | D68: Stem diameter | F68: =VLOOKUP($D$7,'Source Data'!$A$2:$EU$28,68,FALSE) -> M12
B69: 9 | C69: 3.2.14 | D69: Losses
B70: 9.1 | D70: Loss factor base (Cost of Dx or Gx) | F70: =VLOOKUP($D$7,'Source Data'!$A$2:$EU$28,72,FALSE) -> Distribution | G70: xxxxxxxxxxx
B71: 9.2 | D71: No-load Loss Factor, NLLF | E71: R/kW | F71: =VLOOKUP($D$7,'Source Data'!$A$2:$EU$28,73,FALSE) -> 80500 | G71: xxxxxxxxxxx
B72: 9.3 | D72: Load Loss Factor, LLF | E72: R/kW | F72: =VLOOKUP($D$7,'Source Data'!$A$2:$EU$28,74,FALSE) -> 17500 | G72: xxxxxxxxxxx
B73: 9.4 | D73: Guaranteed no-load losses, PNL (Steel Core) | E73: W | F73: 540
B74: 9.5 | D74: Guaranteed no-load losses, PNL (only if Amorphous Core is offered) | E74: W | F74: 200
B75: 9.6 | D75: Guaranteed load losses, PLL | E75: W | F75: 4400
B76: 10 | C76: 3.2.14 | D76: Impedance voltage & X/R ratio
B77: 10.1 | D77: Impedance at principle tapping (specific design impedances to be stated) | E77: % | F77: =VLOOKUP($D$7,'Source Data'!$A$2:$EU$28,78,FALSE) -> 4,0 to 5,0
B78: 10.2 | D78: X/R ratio | F78: =VLOOKUP($D$7,'Source Data'!$A$2:$EU$28,79,FALSE) -> xxxxxxxxxx
B79: 11 | D79: Audio-sound level (SANS 780)
B80: 11.1 | D80: Maximum limit of transformer audio-sound level | E80: db(A) | F80: =VLOOKUP($D$7,'Source Data'!$A$2:$EU$28,81,FALSE) -> ≤ 52
B81: 12 | D81: MV winding wire
B82: 12.1 | D82: Material (e.g. Cu or Al) | F82: =VLOOKUP($D$7,'Source Data'!$A$2:$EU$28,83,FALSE) -> xxxxxxxxxxx
B83: 12.2 | D83: Type (e.g. Round, Strip or Foil) | F83: =VLOOKUP($D$7,'Source Data'!$A$2:$EU$28,84,FALSE) -> xxxxxxxxxxx
B84: 13 | D84: Secondary winding wire
B85: 13.1 | D85: Material (e.g. Cu or Al) | F85: =VLOOKUP($D$7,'Source Data'!$A$2:$EU$28,86,FALSE) -> xxxxxxxxxxx
B86: 13.2 | D86: Type (e.g. Round, Strip or Foil) | F86: =VLOOKUP($D$7,'Source Data'!$A$2:$EU$28,87,FALSE) -> xxxxxxxxxxx
B87: 14 | D87: Core material
B88: 14.1 | D88: Core material | F88: =VLOOKUP($D$7,'Source Data'!$A$2:$EU$28,89,FALSE) -> Steel or Amporphous
B89: 14.2 | D89: Type/code | F89: =VLOOKUP($D$7,'Source Data'!$A$2:$EU$28,90,FALSE) -> xxxxxxxxxxx
B90: 14.3 | D90: Maximum Flux Density of Material | F90: =VLOOKUP($D$7,'Source Data'!$A$2:$EU$28,91,FALSE) -> xxxxxxxxxxx
B91: 14.4 | D91: Supplier | F91: =VLOOKUP($D$7,'Source Data'!$A$2:$EU$28,92,FALSE) -> xxxxxxxxxxx
B92: 15 | C92: 3.3.2 | D92: Tank and tank cover
B93: 15.1 | D93: Tank type: Sealed | F93: =VLOOKUP($D$7,'Source Data'!$A$2:$EU$28,94,FALSE) -> Sealed
B94: 15.2 | D94: Plain, rigid or corrugated | F94: =VLOOKUP($D$7,'Source Data'!$A$2:$EU$28,95,FALSE) -> xxxxxxxxxx
B95: 16 | C95: 3.3.3 | D95: Transformer dimensions
B96: 16.1 | C96: Figure 12 | D96: Wo (including surge arrester) | E96: mm | F96: =VLOOKUP($D$7,'Source Data'!$A$2:$EU$28,97,FALSE) -> ≤ 1 800
B97: 16.2 | C97: Figure 12 | D97: Lo | E97: mm | F97: =VLOOKUP($D$7,'Source Data'!$A$2:$EU$28,98,FALSE) -> ≤ 1 500
B98: 16.3 | C98: Figure 12 | D98: Ht | E98: mm | F98: =VLOOKUP($D$7,'Source Data'!$A$2:$EU$28,99,FALSE) -> ≤ 2000
B99: 16.4 | C99: Figure 12 | D99: Mass | E99: kg | F99: =VLOOKUP($D$7,'Source Data'!$A$2:$EU$28,100,FALSE) -> ≤ 3500
B100: 16.5 | D100: Oil capacity | E100: l | F100: =VLOOKUP($D$7,'Source Data'!$A$2:$EU$28,101,FALSE) -> xxxxxxxxxxx
B101: 16.6 | D101: Minimum clearance between live MV terminals and from MV live terminals to any part of the tank greater than twice the BIL | E101: mm | F101: =VLOOKUP($D$7,'Source Data'!$A$2:$EU$28,102,FALSE) -> 400
B102: 16.7 | C102: 3.3.4 | D102: Minimum mechanical clearance of 100 mm between the brackets and LV bushings shall be maintained | E102: mm | F102: =VLOOKUP($D$7,'Source Data'!$A$2:$EU$28,103,FALSE) -> 100
B103: 17 | C103: 3.3.4 | D103: Pole mounting bracket
...
