Workbook
Name _Hlk13737046: 'C20.1'!#REF!
Name _Hlk13737072: 'C20.1'!#REF!
Name _Ref461368450: 'C1.4'!$C$6
Name _Ref461368450: 'C1.5'!#REF!
Name _Ref461368450: 'C1.6'!#REF!
Name _Ref461368450: 'C1.7'!#REF!
Name _Ref461368450: 'C11.1'!#REF!
Name _Ref461368450: 'C11.2'!#REF!
Name _Ref461368450: 'C11.5'!#REF!
Name _Ref461368450: 'C11.6'!#REF!
Name _Ref461368450: 'C11.7'!#REF!
Name _Ref461368450: 'C2.1'!$D$6
Name _Ref461368450: 'C2.2'!$D$6
Name _Ref461368450: 'C20.1'!#REF!
Name _Ref461368450: 'C3.1'!#REF!
Name _Ref461368450: 'C3.2'!$D$6
Name _Ref461368450: 'C3.3'!#REF!
Name _Ref461368450: 'C4.1'!#REF!
Name _Ref461368450: 'C4.2'!#REF!
Name _Ref461368450: 'C4.4'!#REF!
Name _Ref461368450: 'C5.1'!#REF!
Name _Ref461368450: 'C5.2'!#REF!
Name _Ref461368450: 'C5.3'!#REF!
Name _Ref461368450: 'C6.2'!#REF!
Name _Ref461368450: 'Schedule A'!#REF!
Name _Ref461372205: 'C1.4'!$C$73
Name _Ref461372205: 'C1.5'!#REF!
Name _Ref461372205: 'C1.6'!#REF!
Name _Ref461372205: 'C1.7'!#REF!
Name _Ref461372205: 'C11.1'!#REF!
Name _Ref461372205: 'C11.2'!#REF!
Name _Ref461372205: 'C11.5'!#REF!
Name _Ref461372205: 'C11.6'!#REF!
Name _Ref461372205: 'C11.7'!#REF!
Name _Ref461372205: 'C2.1'!#REF!
Name _Ref461372205: 'C2.2'!#REF!
Name _Ref461372205: 'C20.1'!#REF!
Name _Ref461372205: 'C3.1'!#REF!
Name _Ref461372205: 'C3.2'!#REF!
Name _Ref461372205: 'C3.3'!#REF!
Name _Ref461372205: 'C4.1'!#REF!
Name _Ref461372205: 'C4.2'!#REF!
Name _Ref461372205: 'C4.4'!#REF!
Name _Ref461372205: 'C5.1'!#REF!
Name _Ref461372205: 'C5.2'!#REF!
Name _Ref461372205: 'C5.3'!#REF!
Name _Ref461372205: 'C6.2'!#REF!
Name _Ref461372205: 'Schedule A'!#REF!
Name _Ref461373091: 'C1.4'!$C$45
Name _Ref461373091: 'C1.5'!#REF!
Name _Ref461373091: 'C1.6'!#REF!
Name _Ref461373091: 'C1.7'!#REF!
Name _Ref461373091: 'C11.1'!#REF!
Name _Ref461373091: 'C11.2'!#REF!
Name _Ref461373091: 'C11.5'!#REF!
Name _Ref461373091: 'C11.6'!#REF!
Name _Ref461373091: 'C11.7'!#REF!
Name _Ref461373091: 'C2.1'!#REF!
Name _Ref461373091: 'C2.2'!#REF!
Name _Ref461373091: 'C20.1'!#REF!

Sheet Version
A2: This Pricing Schedule is updated for the Works ProForma Book 3 - 2021.1 – March 2021 version (Incorporation of COTO into Construction Pro-Forma) saved in EDMS folder 7475454
F149: metre (m)
F150: metre (m)
A155: C2.3.27 | E155: Extra over item C2.3.21 for encasing (wrapping) joints
B156: C2.3.27.1 | E156: State for each water main the number of joints to be encased (wrapped)
E157: State diameter
E158: State diameter
A159: C2.3.28 | E159: Installation of hydrants and water meters
B160: C2.3.28.1 | E160: Describe hydrant type
B161: C2.3.28.2 | E161: Describe water meter type
B162: C2.3.28.3 | E162: Etc., insert additional items as required
A163: C2.3.29 | E163: Bedding for water mains (Class B and C) and fill blanket compacted to 90 % of MDD (100 % for sand)
B164: C2.3.29.1
C166: (c)
C167: (d)
C168: (e)
B169: C2.3.29.2
C171: (c)
C172: (d)
C173: (e)

Sheet Schedule A
A1: SCHEDULE A | E1: GENERAL REQUIREMENTS AND TRAINING AND SKILLS DEVELOPMENT PROGRAMME
A2: ITEM | D2: DESCRIPTION | E2: UNIT | F2: QTY | G2: RATE | H2: AMT
A5: A1000 | B5: A1000.01 | C5: Contractor's Personnel
C6: (a) | D6: Contractor's Training Staff
D7: (i) Training Provider | E7: lump sum | F7: 1 | H7: =F7*G7 -> 0
D8: (ii) Practitioners | E8: lump sum | F8: 1 | H8: =F8*G8 -> 0
D9: (iii) Assessors | E9: lump sum | F9: 1 | H9: =F9*G9 -> 0
D10: (iv) Moderators | E10: lump sum | F10: 1 | H10: =F10*G10 -> 0
C11: (b) | D11: Contractor's Construction Management Staff
D12: (i) Construction Manager | E12: lump sum | F12: 1 | H12: =F12*G12 -> 0
D13: (ii) Construction Mentors | E13: lump sum | F13: 1 | H13: =F13*G13 -> 0
D14: (iii) Construction Supervisors | E14: lump sum | F14: 1 | H14: =F14*G14 -> 0
D15: (iv) Cleark of Works | E15: lump sum | F15: 1 | H15: =F15*G15 -> 0
B16: A1000.02 | C16: Contractor's Training Facility and Establishment of Staff
C17: (a) | D17: Providing a Training Facility | E17: lump sum | F17: 1 | H17: =F17*G17 -> 0
C18: (b) | D18: Establishment of the Contractor's Training Staff for all project phases, including PPE. | E18: lump sum | F18: 1 | H18: =F18*G18 -> 0
C19: (c) | D19: Establishment of the Contractor's Construction Management Staff during the Training phases of the project, including PPE. | E19: lump sum | F19: 1 | H19: =F19*G19 -> 0
B20: A1000.03 | C20: Training and Skills Development Programme
C21: (a) | D21: Resources Audit Chapter | E21: lump sum | F21: 1 | H21: =F21*G21 -> 0
C22: (b) | D22: Skills Audit Chapter | E22: lump sum | F22: 1 | H22: =F22*G22 -> 0
C23: (c) | D23: Market Analysis Chapter | E23: lump sum | F23: 1 | H23: =F23*G23 -> 0
C24: (d) | D24: Approved Training and Skills Development Programme. | E24: lump sum | F24: 1 | H24: =F24*G24 -> 0
B25: A1000.04 | C25: Training Provisions
C26: (a) | D26: Training for Trainee Enterprises
D27: (i) NQF level 2 training | E27: Trainee Credit | F27: 2400 | H27: =F27*G27 -> 0
D28: (ii) NQF level 3 training | E28: Trainee Credit | F28: 3000 | H28: =F28*G28 -> 0
D29: (ii) NQF level 4 training | E29: Trainee Credit | F29: 3600 | H29: =F29*G29 -> 0
D30: (iv) NQF level 5 training | E30: Trainee Credit | F30: 4200 | H30: =F30*G30 -> 0
C31: (b) | D31: (i) Targeted Enterprise Suppliers, Service Providers and Subcontractors | E31: provisional sum | F31: Prov | G31: Sum | H31: =1%*'C2.3 Summary of Pricing'!G46 -> 0
D32: (ii) Handling cost and profit i.r.o item A10000.04(b)(i) | E32: percentage (%) | F32: =H31 -> 0 | H32: =F32*G32 -> 0
C33: (c) | D33: (i) Targeted Labour | E33: provisional sum | F33: Prov | G33: Sum | H33: =1%*'C2.3 Summary of Pricing'!G46 -> 0
D34: (ii) Handling cost and profit i.r.o item A10000.04(c)(i) | E34: percentage (%) | F34: =H33 -> 0
C35: (d) | D35: (i) Interns (Students) Completing their National Diplomas | E35: provisional sum | F35: Prov | G35: Sum | H35: 1440000
D36: (ii) Handling cost and profit i.r.o item A10000.04(d)(i) | E36: percentage (%) | F36: =H35 -> 1440000 | H36: =F36*G36 -> 0
C37: (e) | D37: Graduates (Candidates) towards Registration in a Professional Category | E37: provisional sum | F37: Prov | G37: Sum | H37: 1440000
D38: (ii) Handling cost and profit i.r.o item A10000.04(e)(i) | E38: percentage (%) | F38: =H37 -> 1440000 | H38: =F38*G38 -> 0
C39: (f) | D39: Community Members and/or Groups | E39: provisional sum | F39: Prov | G39: Sum | H39: =1%*'C2.3 Summary of Pricing'!G46 -> 0
D40: (ii) Handling cost and profit i.r.o item A10000.04(f)(i) | E40: percentage (%) | F40: =H39 -> 0 | H40: =F40*G40 -> 0
B41: A1000.05 | C41: Theoretical (Classroom) Training
C42: (a) | D42: Registration of Trainees | E42: lump sum | F42: 1 | H42: =F42*G42 -> 0
...

Sheet Schedule B (C1.2 to C20.1)
A2: Schedule B comprises of the Construction of the Works (COTO) Standard Specifications for Road and Bridge Works
A3: For South African Road Authorities (Draft Standard October 2020 Edition) and comprises of the following sections:
A5: C1.2
A6: C1.3
A7: C1.4
A8: C1.5
A9: C1.6
A10: C1.7
A11: C2.1
A12: C2.2
A13: C3.1
A14: C3.2
... A27: Refer to subsequent worksheets

Sheet C1.2
A1: SCHEDULE B - C1.2 | E1: GENERAL REQUIREMENTS AND PROVISIONS
A2: ITEM | D2: DESCRIPTION | E2: UNIT | F2: QTY | G2: RATE | H2: AMT
A5: C1.2.1 | D5: Environmental Management
B6: C1.2.1.1 | D6: Monitoring of compliance with and reporting on the EMP | E6: month | F6: 18 | H6: =F6*G6 -> 0
B7: C1.2.1.2 | D7: Designated environmental officer | E7: month | F7: 18 | H7: =F7*G7 -> 0
A8: C1.2.2 | D8: Programming and Reporting
B9: C1.2.2.3 | D9: Submission of a Scheme 2 Initial Programme | E9: lump sum | F9: 1 | H9: =F9*G9 -> 0
B10: C1.2.2.4 | D10: Submission of a Scheme 2 Full Programme | E10: lump sum | F10: 1 | H10: =F10*G10 -> 0
B11: C1.2.2.5 | D11: Reviewing and updating a Scheme 2 programme every month | E11: month | F11: 18 | H11: =F11*G11 -> 0
B12: C1.2.2.6 | D12: Preparation and submission of all information and reports specified in the Contract Documentation | E12: month | F12: 18 | H12: =F12*G12 -> 0
A13: C1.2.3 | D13: Routine road maintenance of existing public roads within the Site of the Works or other public roads outside the Site of the Works which are used as detours
B14: C1.2.3.9 | D14: Grading of temporary gravel deviations and existing roads used as detours | E14: kilometre (km) | F14: 3 | H14: =F14*G14 -> 0
B15: C1.2.3.10 | D15: Watering of temporary gravel deviations and existing roads used as detours | E15: kilolitre (kℓ) | F15: 30000 | H15: =F15*G15 -> 0
B16: C1.2.3.11 | D16: Other road maintenance work ordered by the Engineer | E16: provisional sum | F16: Prov | G16: Sum | H16: 100000
B17: C1.2.3.12 | D17: Handling cost, profit and all other charges in respect of item C1.2.3.11 | E17: percentage (%) | F17: =H16 -> 100000 | H17: =G17*F17 -> 0
B18: C1.2.3.13 | D18: Liaison with the routine road maintenance contractor (of the local Municipality) | E18: month | F18: 18 | H18: =F18*G18 -> 0
A19: C1.2.4 | D19: Stakeholder liaison | E19: month | F19: 18 | H19: =F19*G19 -> 0
A20: C1.2.5 | D20: Safety
B21: C1.2.5.1 | D21: Health and safety plan | E21: lump sum | F21: 1 | H21: =F21*G21 -> 0
B22: C1.2.5.2 | D22: Implementation of health and safety plan | E22: month | F22: 18 | H22: =F22*G22 -> 0
A23: C1.2.6 | D23: Work adjacent to properties
B24: C1.2.6.1 | D24: Survey of adjacent properties | E24: number (No.) | F24: 50 | H24: =F24*G24 -> 0
B25: C1.2.6.2 | D25: Preventive and/or mitigation measures | E25: provisional sum | F25: Prov | G25: Sum | H25: 250000
B26: C1.2.6.3 | D26: Handling cost, profit and all other charges in respect of item C1.2.6.2 | E26: percentage (%) | F26: =H25 -> 250000 | H26: =G26*F26 -> 0
A27: C1.2.7 | D27: Road safety audits
B28: C1.2.7.1 | D28: Stage 4 work zone traffic management audit | E28: provisional sum | F28: Prov | G28: Sum | H28: 125000
B29: C1.2.7.2 | D29: Handling cost, profit and all other charges in respect of item C1.2.6.1 | E29: percentage (%) | F29: =H28 -> 125000 | H29: =G29*F29 -> 0
B30: C1.2.7.3 | D30: Stage 5 pre-opening stage traffic safety audit | E30: provisional sum | F30: Prov | G30: Sum | H30: 125000
B31: C1.2.7.4 | D31: Handling cost, profit and all other charges in respect of item C1.2.6.3 | E31: percentage (%) | F31: =H30 -> 125000 | H31: =G31*F31 -> 0
A32: C1.2.8 | D32: Dayworks
B33: C1.2.8.1 | D33: Personnel
C34: (a) | D34: Unskilled labourer | E34: hour (h) | F34: 100 | H34: =F34*G34 -> 0
C35: (b) | D35: Semi-skilled labourer | E35: hour (h) | F35: 100 | H35: =F35*G35 -> 0
C36: (c) | D36: Skilled labourer | E36: hour (h) | F36: 100 | H36: =F36*G36 -> 0
C37: (d) | D37: Gang leader | E37: hour (h) | F37: 100 | H37: =F37*G37 -> 0
C38: (e) | D38: Foreman | E38: hour (h) | F38: 100 | H38: =F38*G38 -> 0
B39: C1.2.8.2 | D39: Construction equipment
C40: (a) | D40: Motor grader (110 kW) | E40: hour (h) | F40: 100 | H40: =F40*G40 -> 0
C41: (d) | D41: Front end loader - (2m3 to 3m3 capacity) | E41: hour (h) | F41: 100 | H41: =F41*G41 -> 0
C42: (e) | D42: Tractor loader backhoe (48 kW) | E42: hour (h) | F42: 100 | H42: =F42*G42 -> 0
...

Sheet C1.3
A1: SCHEDULE B - C1.3 | E1: CONTRACTOR’S SITE ESTABLISHMENT AND GENERAL OBLIGATIONS
A2: ITEM | D2: DESCRIPTION | E2: UNIT | F2: QTY | G2: RATE | H2: AMT
A5: PC1.3.1 | D5: The Contractor's general obligations
B6: C1.3.1.1 | D6: Fixed obligations | E6: lump sum | F6: 1 | H6: =F6*G6 -> 0
B7: C1.3.1.2 | D7: Value-related obligations | E7: lump sum | F7: 1 | H7: =F7*G7 -> 0
B8: C1.3.1.3 | D8: Time-related obligations
C9: (a) | D9: Mobilisation period | E9: month | F9: 3 | H9: =F9*G9 -> 0
C10: (b) | D10: Execution of the works | E10: month | F10: 18 | H10: =F10*G10 -> 0
B11: C1.3.1.4 | D11: Suspension Cost
C12: (a) | D12: De-establishment | E12: number | F12: 1 | H12: =F12*G12 -> 0
C13: (b) | D13: Re-establishment | E13: number | F13: 1 | H13: =F13*G13 -> 0
C14: (c) | D14: Suspension period | E14: month | F14: 4 | H14: =F14*G14 -> 0
C15: (d) | D15: Engineer's cost | E15: prime cost (PC) sum | F15: prime | G15: cost | H15: 85000
A16: C1.3.2 | D16: Contract sign boards | E16: square metre (m2) | F16: 30 | H16: =F16*G16 -> 0
A17: PC1.3.3 | D17: Accomodation of design changes on site
B18: PC1.3.3.1 | C18: (a) | D18: Topographical survey
D19: (i) Survey | E19: prime cost (PC) sum | F19: prime | G19: cost | H19: 400000
D20: (ii) Handling cost and profit i.r.o sub-item PC1.3.3.1(a) | E20: percentage (%) | F20: =H19 -> 400000 | H20: =G20*F20 -> 0
C21: (b) | D21: Contractor's provision for design changes
D22: (i) Determining alternative route alignment | E22: provisional sum | F22: Prov | G22: Sum | H22: 300000
D23: (ii) Defining and quantifying property access change | E23: provisional sum | F23: Prov | G23: Sum | H23: 300000
D24: (iii) Materials investigation | E24: provisional sum | F24: Prov | G24: Sum | H24: 300000
D25: (iv) Handling cost and profit i.r.o sub-item PC1.3.3.1(b)(i) and PC1.3.3.1(b)(ii) | E25: percentage (%) | F25: =H22+H23 -> 600000 | H25: =G25*F25 -> 0
D26: (v) Handling cost and profit i.r.o sub-item PC1.3.3.1(b)(iii) | E26: percentage (%) | F26: =H24 -> 300000 | H26: =G26*F26 -> 0
C27: (c) | D27: Provision for access relocation
D28: (i) Provision for access relocation | E28: provisional sum | F28: Prov | G28: Sum | H28: 120000
D29: (ii) Handling cost and profit i.r.o sub-item PC1.3.3.1(c)(i) | E29: percentage (%) | F29: =H28 -> 120000 | H29: =G29*F29 -> 0
A31: TOTAL CARRIED FORWARD TO SUMMARY | H31: =SUM(H5:H30) -> 1505000
F167: metre (m)
F168: metre (m)
A173: C2.3.27 | E173: Extra over item C2.3.21 for encasing (wrapping) joints
B174: C2.3.27.1 | E174: State for each water main the number of joints to be encased (wrapped)
E175: State diameter
E176: State diameter
A177: C2.3.28 | E177: Installation of hydrants and water meters
B178: C2.3.28.1 | E178: Describe hydrant type
B179: C2.3.28.2 | E179: Describe water meter type
B180: C2.3.28.3 | E180: Etc., insert additional items as required
A181: C2.3.29 | E181: Bedding for water mains (Class B and C) and fill blanket compacted to 90 % of MDD (100 % for sand)
B182: C2.3.29.1
...

Sheet C1.4
A1: SCHEDULE B - C1.4 | D1: FACILITIES FOR THE ENGINEER
A2: ITEM | C2: DESCRIPTION | D2: UNIT | E2: QTY | F2: RATE | G2: AMT
A5: C1.4.1 | C5: Site accommodation
B6: C1.4.1.1 | C6: Offices and conference room | D6: square metre (m2) | E6: 80 | G6: =E6*F6 -> 0
B7: C1.4.1.6 | C7: Car ports | D7: number (No.) | E7: 5 | G7: =E7*F7 -> 0
B8: C1.4.1.7 | C8: Ablution unit (equipped as specified) | D8: number (No.) | E8: 4 | G8: =E8*F8 -> 0
B9: C1.4.1.9 | C9: Kitchen unit (equipped as specified) | D9: number (No.) | E9: 1 | G9: =E9*F9 -> 0
A10: C1.4.3 | C10: Items measured by number
B11: C1.4.3.1 | C11: Office swivel chair | D11: number (No.) | E11: 5 | G11: =E11*F11 -> 0
B12: C1.4.3.2 | C12: Office chair | D12: number (No.) | E12: 20 | G12: =E12*F12 -> 0
B13: C1.4.3.3 | C13: Draughtsman's stool | D13: number (No.) | E13: 5 | G13: =E13*F13 -> 0
B14: C1.4.3.5 | C14: Office desk with 3 drawers (at least one lockable drawer) | D14: number (No.) | E14: 8 | G14: =E14*F14 -> 0
B15: C1.4.3.6 | C15: Typist desk (L-shaped) | D15: number (No.) | E15: 1 | G15: =E15*F15 -> 0
B16: C1.4.3.7 | C16: Drawing table | D16: number (No.) | E16: 3 | G16: =E16*F16 -> 0
B17: C1.4.3.8 | C17: Conference table (12 seater) | D17: number (No.) | E17: 1 | G17: =E17*F17 -> 0
B18: C1.4.3.9 | C18: Bookcase | D18: number (No.) | E18: 6 | G18: =E18*F18 -> 0
B19: C1.4.3.10 | C19: Filing cabinet | D19: number (No.) | E19: 4 | G19: =E19*F19 -> 0
B20: C1.4.3.11 | C20: General purpose steel cabinet with shelves | D20: number (No.) | E20: 5 | G20: =E20*F20 -> 0
B21: C1.4.3.12 | C21: Wall mounted pivot plan filing system | D21: number (No.) | E21: 1 | G21: =E21*F21 -> 0
B22: C1.4.3.13 | C22: 220/250 volt power outlet plug point | D22: number (No.) | E22: 30 | G22: =E22*F22 -> 0
... B43: C1.4.3.38 | C43: Standpipe complete with 30m of 19mm dia. heavy duty hose pipe | D43: number (No.) | E43: 1 | G43: =E43*F43 -> 0
A44: C1.4.4 | C44: Prime cost items
B45: C1.4.4.1 | C45: Cell phones costs, including pro-rata rentals, for calls made in connection with contract administration | D45: prime cost (PC) sum | E45: prime | F45: cost | G45: 200000
B46: C1.4.4.2 | C46: Handling costs and profit in respect of item C1.4.4.1 | D46: percentage (%) | E46: =G45 -> 200000 | G46: =E46*F46 -> 0
B47: C1.4.4.3 | C47: The provision of a direct independent telephone line for the Engineer, including the monthly rental charges and the cost of business calls | D47: prime cost (PC) sum | E47: prime | F47: cost | G47: 200000
B48: C1.4.4.4 | C48: Handling costs and profit in respect of item C1.4.4.3 | D48: percentage (%) | E48: =G47 -> 200000 | G48: =E48*F48 -> 0
B49: C1.4.4.5 | C49: The provision of internet connectivity and WiFi data for Engineer’s site staff | D49: prime cost (PC) sum | E49: prime | F49: cost | G49: 50000
A53: TOTAL CARRIED FORWARD | G53: =SUM(G5:G49) -> 450000
A56: TOTAL BROUGHT FORWARD | G56: =G53 -> 450000
B58: C1.4.4.6 | C58: Handling costs and profit in respect of item C1.4.4.5 | D58: percentage (%) | E58: =G49 -> 50000 | G58: =E58*F58 -> 0
B59: C1.4.4.7 | C59: The provision of paper and ink for a combination colour printer/copier/scanner | D59: prime cost (PC) sum | E59: prime | F59: cost | G59: 2000
B60: C1.4.4.8 | C60: Handling costs and profit in respect of item C1.4.4.7 | D60: percentage (%) | E60: =G59 -> 2000 | G60: =E60*F60 -> 0
B61: C1.4.4.9 | C61: The provision of a complete 220/250 volt single phase electrical power installation, including all poles, insulators, wiring, switchboards, mains connections, meters etc. | D61: prime cost (PC) sum | E61: prime | F61: cost | G61: 100000
B62: C1.4.4.10 | C62: Handling costs and profit in respect of item C1.4.4.9 | D62: percentage (%) | E62: =G61 -> 100000 | G62: =E62*F62 -> 0
B63: C1.4.4.11 | C63: The provision of a complete 440/231 volt three phase electrical power installation, including all poles, insulators, wiring, switchboards, mains connections, meters etc. | D63: prime cost (PC) sum | E63: prime | F63: cost | G63: 100000
B64: C1.4.4.12 | C64: Handling costs and profit in respect of item C1.4.4.11 | D64: percentage (%) | E64: =G63 -> 100000 | G64: =E64*F64 -> 0
B65: C1.4.4.13 | C65: Provision of a 440/231 volt three phase electricity generator if electricity from a power supply authority is not available on site | D65: prime cost (PC) sum | E65: prime | F65: cost | G65: 80000
B66: C1.4.4.14 | C66: Handling costs and profit in respect of item C1.4.4.13 | D66: percentage (%) | E66: =G65 -> 80000 | G66: =E66*F66 -> 0
B67: C1.4.4.15 | C67: The provision of all gas installations required at the site offices, laboratories and at the Engineer’s staff accommodation (if required), including gas storage cylinders, tubing, regulators, gas burners and shut-off cocks | D67: prime cost (PC) sum | E67: prime | F67: cost | G67: 20000
B68: C1.4.4.16 | C68: Handling costs and profit in respect of item C1.4.4.15 | D68: percentage (%) | E68: =G67 -> 20000 | G68: =E68*F68 -> 0
...

Sheet C1.5
A1: SCHEDULE B - C1.5 | F1: ACCOMMODATION OF TRAFFIC
A2: ITEM | E2: DESCRIPTION | F2: UNIT | G2: QTY | H2: RATE | I2: AMT | J2: Note to compiler: Items requiring additional information to be provided by compiler is marked in this column by X.
A5: C1.5.2 | E5: Accommodation of vehicular traffic | F5: month | G5: 18 | I5: =G5*H5 -> 0
A6: C1.5.4 | E6: Construction of temporary deviations
B7: C1.5.4 / C1.2.1.2 | E7: Clearing with hand labour only when labour enhanced work is specificied | F7: hectare (ha) | G7: =(3000*6)/10000 -> 1.8 | I7: =G7*H7 -> 0
A8: C1.5.5 | E8: Maintenance of temporary deviations
B9: C1.5.5.9 | E9: Grading of temporary deviations and existing roads used as detours | F9: kilometre (km) | G9: 3 | I9: =G9*H9 -> 0
B10: C1.5.5.10 | E10: Watering of temporary deviations and existing roads used as detours | F10: kilolitre (kℓ) | G10: 6000 | I10: =G10*H10 -> 0
B11: C1.5.5.11 | E11: Other road maintenance work ordered by the Engineer | F11: provisional sum | G11: Prov | H11: Sum | I11: 500000
B12: C1.5.5.12 | E12: Handling cost, profit and all other charges in respect of item C1.5.6.11 | F12: percentage (%) | G12: =I11 -> 500000 | I12: =G12*H12 -> 0
A13: C1.5.6 | E13: Removal of temporary deviations | F13: kilometre (km) | G13: 3 | I13: =G13*H13 -> 0
A14: C1.5.7 | E14: Temporary traffic control facilities
B15: C1.5.7.1 | E15: Delineators including mounting bases and ballast:
C16: (a) | E16: Single sided, reversible left or right (1000 mm x 250 mm) | F16: number (No.) | G16: =(2*G13*1000)/50 -> 120 | I16: =G16*H16 -> 0
C17: (b) | E17: Double sided, reversible left or right (1000 mm x 250 mm) | F17: number (No.) | G17: =G16/3 -> 40 | I17: =G17*H17 -> 0
B18: C1.5.7.2 | E18: Traffic cones, minimum height 750mm | F18: number (No.) | I18: =G18*H18 -> 0
B19: C1.5.7.3 | E19: Flagmen | F19: man-shift | G19: =8*6*22 -> 1056 | I19: =G19*H19 -> 0
A20: C1.5.11 | E20: Provision of safety equipment for visitors
B21: C1.5.11.1 | E21: Provision of reflective safety vests for visitors | F21: number (No.) | G21: 20 | I21: =G21*H21 -> 0
B22: C1.5.11.2 | E22: Provision of hard hats for visitors | F22: number (No.) | G22: 20 | I22: =G22*H22 -> 0
A23: C1.5.12 | E23: Additional traffic accommodation facilities ordered by the Engineer:
B24: C1.5.12.1 | E24: Provision of additional traffic accommodation facilities | F24: provisional sum | G24: Prov | H24: Sum | I24: 150000
B25: C1.5.12.2 | E25: Handling cost, profit and all other charges in respect of item C1.5.12.1 | F25: percentage (%) | G25: =I24 -> 150000 | I25: =G25*H25 -> 0
A29: TOTAL CARRIED FORWARD TO SUMMARY | I29: =SUM(I5:I28) -> 650000

Sheet C1.6
A1: SCHEDULE B - C1.6 | D1: CLEARING AND GRUBBING
A2: ITEM | C2: DESCRIPTION | D2: UNIT | E2: QTY | F2: RATE | G2: AMT
A5: C1.6.1 | C5: Clearing
B6: C1.6.1.2 | C6: Clearing with hand labour only when labour enhanced work is specified | D6: hectare (ha) | E6: 1.9252 | G6: =E6*F6 -> 0
A7: C1.6.2 | C7: Grubbing
B8: C1.6.2.1 | C8: Grubbing with machines and some hand labour where necessary | D8: hectare (ha) | E8: 1.9252 | G8: =E8*F8 -> 0
A9: C1.6.3 | C9: Removal and grubbing of large trees and tree stumps:
B10: C1.6.3.1 | C10: Girth equal to or exceeding 1,0m up to and including 2,0m | D10: number (No.) | E10: 4 | G10: =E10*F10 -> 0
A11: C1.6/C1.7 | B11: C1.7.1 | C11: Loading
B12: C1.7.1.3 | C12: Loading by hand only from stockpile or heaps when labour enhancement work is specified or it is not possible to use machines | D12: cubic metre (m3) | E12: =E6*10000*0.15 -> 2887.8 | G12: =E12*F12 -> 0
B13: C1.7.2 | C13: Hauling
B14: C1.7.2.2 | C14: Hauling material to spoil and off-loading it at a designated spoil or stockpile area:
C15: Cleared and grubbed material (organic matter and all other unsuitable or waste material) | D15: cubic metre - kilometre (m3 - km) | E15: =E12*3 -> 8663.4 | G15: =E15*F15 -> 0
C16: Boulders, hard material and concrete | D16: cubic metre - kilometre (m3 - km) | E16: =E15*0.1 -> 866.34 | G16: =E16*F16 -> 0
A18: TOTAL CARRIED FORWARD TO SUMMARY | G18: =SUM(G6:G17) -> 0

Sheet C1.7
A1: SCHEDULE B - C1.7 | E1: LOADING AND HAULING
A2: ITEM | D2: DESCRIPTION | E2: UNIT | F2: QTY | G2: RATE | H2: AMT
A5: C1.7.1 | D5: Loading
B6: C1.7.1.3 | D6: Loading by hand only from stockpile or heaps when labour enhancement work is specified or it is not possible to use machines | E6: cubic metre (m3) | H6: =F6*G6 -> 0
A7: C1.7.2 | D7: Hauling
B8: C1.7.2.1 | D8: Hauling material for use in the Works and off-loading it on the site of the Works:
C9: (a) | D9: Soil, gravel, crushed stone and pavement layer material | E9: cubic metre - kilometre (m3 - km) | H9: =F9*G9 -> 0
B10: C1.7.2.2 | D10: Hauling material to spoil and off-loading it at a designated spoil or stockpile area:
C11: (a) | D11: Cleared and grubbed material (organic matter and all other unsuitable or waste material) | E11: cubic metre - kilometre (m3 - km) | H11: =F11*G11 -> 0
C12: (c) | D12: Boulders, hard material and concrete | E12: cubic metre - kilometre (m3 - km) | H12: =F12*G12 -> 0
A16: TOTAL CARRIED FORWARD TO SUMMARY | H16: =SUM(H6:H15) -> 0

Sheet C2.1
A1: SCHEDULE B - C2.1 | E1: GENERAL REQUIREMENTS AND TRENCHING FOR SERVICES
A2: ITEM | D2: DESCRIPTION | E2: UNIT | F2: QTY | G2: RATE | H2: AMT
A5: C2.1.1 | D5: Location, identification, protection and relocation of existing services
B6: C2.1.1.1 | D6: Contractor’s obligations | E6: lump sum | F6: 1 | H6: =G6*F6 -> 0
B7: C2.1.1.2 | D7: Permanent services relocation or protection work by others | E7: prime cost (PC) sum | F7: prime | G7: cost | H7: 1000000
B8: C2.1.1.3 | D8: Handling costs and profit in respect of item C2.1.1.2 above | E8: percentage (%) | F8: =H7 -> 1000000 | H8: =G8*F8 -> 0
B9: C2.1.1.4 | D9: Permanent services relocation or protection work by the Contractor | E9: provisional sum | F9: Prov | G9: Sum | H9: 150000
A10: C2.1.2 | D10: Existing services location, detection and verification
B11: C2.1.2.1 | D11: Using specialist detection services (ground penetrating radar, radio detection etc.) | E11: prime cost (PC) sum | F11: prime | G11: cost | H11: 50000
B12: C2.1.2.2 | D12: Handling costs and profit in respect of item C2.1.2.1 above | E12: percentage (%) | F12: =H11 -> 50000 | H12: =G12*F12 -> 0
B13: C2.1.2.3 | D13: Survey to verify existing service positions | E13: prime cost (PC) sum | F13: prime | G13: cost | H13: 50000
B14: C2.1.2.4 | D14: Handling costs and profit in respect of item C2.1.2.3 above | E14: percentage (%) | F14: =H13 -> 50000 | H14: =G14*F14 -> 0
B15: C2.1.2.5 | D15: Using hand excavation to locate, expose and verify services | E15: cubic metre (m3) | F15: 30 | H15: 80000
A16: C2.1.3 | D16: Obtaining construction or work permits | E16: lump sum | F16: 1 | H16: =G16*F16 -> 0
A17: C2.1.5 | D17: Provision of record drawings and applicable data | E17: lump sum | F17: 1 | H17: =G17*F17 -> 0
A18: C2.1.6 | D18: Trench excavation (in soft material)
B19: C2.1.6.1 | D19: Trenches up to 1,0m wide
C20: (a) | D20: Up to 1,0m deep | E20: cubic metre (m3) | F20: 39 | H20: =F20*G20 -> 0
C21: (b) | D21: 1,0m to 2,0m deep | E21: cubic metre (m3) | F21: 30 | H21: =F21*G21 -> 0
A22: C2.1.7 | D22: Extra over items C2.1.6, C2.1.8 and C2.1.16 for excavating in:
B23: C2.1.7.1 | D23: Hard material irrespective of depth | E23: cubic metre (m3) | F23: 9.75 | H23: =F23*G23 -> 0
A25: C2.1.9 | D25: Trench excavation using labour enhanced construction methods
B26: C2.1.9.1 | D26: Trenches up to 1,0m wide (in soft material)
C27: (a) | D27: Up to 1,0m deep | E27: cubic metre (m3) | F27: 51 | H27: =F27*G27 -> 0
B28: C2.1.9.3 | D28: Trenches up to 1,0m wide (in intermediate material)
C29: (a) | D29: Up to 1,0m deep | E29: cubic metre (m3) | F29: 5 | H29: =F29*G29 -> 0
A30: C2.1.11 | D30: Backfilling of trenches
B31: C2.1.11.2 | D31: Backfill compacted to 90% (100% for sand) of MDD or complying with the DCP requirements of Clause A2.1.8.2c) (areas not subject to traffic loads) using material:
C32: (a) | D32: From the excavated trench material | E32: cubic metre (m3) | F32: 71.4 | H32: =F32*G32 -> 0
A33: C2.1.17 | D33: Removal and disposal of spoil material from trench excavations:
B34: C2.1.17.1 | D34: To spoil sites provided by the Employer as indicated in the Contract Documentation or as instructed by the Engineer | E34: cubic metre (m3) | F34: 14.28 | H34: =F34*G34 -> 0
A35: C2.1.19 | D35: Dealing with water during services work
B36: C2.1.19.2 | D36: Dealing with subsurface water | E36: lump sum | F36: 1 | H36: =G36*F36 -> 0
A40: TOTAL CARRIED FORWARD TO SUMMARY | H40: =SUM(H5:H39) -> 1330000

Sheet C2.2
A1: SCHEDULE B - C2.2 | E1: DRY SERVICES
A2: ITEM | D2: DESCRIPTION | E2: UNIT | F2: QTY | G2: RATE | H2: AMT
A5: C2.2.1 | D5: Supply, lay and prove ducts
B6: C2.2.1.1 | D6: For U-PVC Class 6
C7: (a) | D7: 110 mm diameter (OD) complete with couplings | E7: metre (m) | F7: 100 | H7: =F7*G7 -> 0
C8: (b) | D8: 160 mm diameter (OD) complete with couplings | E8: metre (m) | F8: 100 | H8: =F8*G8 -> 0
A9: C2.2.4 | D9: Bedding for ducts compacted to 90 % of MDD (100 % for sand) using material:
B10: C2.2.4.1 | D10: Selected from the excavated trench material | E10: cubic metre (m3) | F10: 18.6 | H10: =F10*G10 -> 0
B11: C2.2.4.2 | D11: Selected from other excavations on site | E11: cubic metre (m3) | F11: 3.72 | H11: =F11*G11 -> 0
A12: C2.2.6 | D12: Duct accessories (markers, marking, draw wires and end caps etc.)
B13: C2.2.6.1 | D13: Duct markers as per L0353-AR2-T-03D03-00 | E13: number (No.) | F13: 20 | H13: =F13*G13 -> 0
B14: C2.2.6.3 | D14: Draw wires (2.5 mm galvanised wire) | E14: metre (m) | F14: 244 | H14: =F14*G14 -> 0
B15: C2.2.6.4 | D15: End caps or plugs (Cement and sand plug or suitable wood stopper) | E15: number (No.) | F15: 40 | H15: =F15*G15 -> 0
A19: TOTAL CARRIED FORWARD TO SUMMARY | H19: =SUM(H5:H18) -> 0

Sheet C3.1
A1: SCHEDULE B - C3.1 | E1: DRAINS
A2: ITEM | D2: DESCRIPTION | E2: UNIT | F2: QTY | G2: RATE | H2: AMT
A5: C3.1.1 | D5: Excavation for open drains:
B6: C3.1.1.4 | D6: Excavating soft material situated 0m to 1,5m below the surface level using labour enhanced construction methods | E6: cubic metre (m3) | F6: 468 | H6: =F6*G6 -> 0
B7: C3.1.1.5 | D7: Excavating intermediate material situated 0m to 1,5m below the surface level using labour enhanced construction methods | E7: cubic metre (m3) | F7: 46.8 | H7: =F7*G7 -> 0
A8: C3.1.2 | D8: Clearing, shaping and disposal of accumulated sediment in existing unlined open drains
B9: C3.1.2.2 | D9: Using labour enhanced construction methods | E9: cubic metre (m3) | F9: 46.8 | H9: =F9*G9 -> 0
A10: C3.1/C1.7 | D10: Loading and Hauling
B11: C1.7.1 | D11: Loading
B12: C1.7.1.3 | D12: Loading by hand only from stockpile or heaps when labour enhancement work is specified or it is not possible to use machines | E12: cubic metre (m3) | F12: =F7+F6 -> 514.8 | H12: =F12*G12 -> 0
B13: C1.7.2 | D13: Hauling
B14: C1.7.2.2 | D14: Hauling material to spoil and off-loading it at a designated spoil or stockpile area:
C15: (a) | D15: Cleared and grubbed material (organic matter and all other unsuitable or waste material) | E15: cubic metre - kilometre (m3 - km) | F15: =F12*3 -> 1544.4 | H15: =F15*G15 -> 0
A21: TOTAL CARRIED FORWARD TO SUMMARY | H21: =SUM(H5:H20) -> 0

Sheet C3.2
A1: SCHEDULE B - C3.2 | E1: CULVERTS
A2: ITEM | D2: DESCRIPTION | E2: UNIT | F2: QTY | G2: RATE | H2: AMT
A5: C3.2.1 | D5: Excavation for culvert structures:
B6: C3.2.1.1 | D6: Excavating in all material situated within the following depth ranges below the surface level:
B7: C3.2.1.2 | D7: Excavating soft material 0m to 1,5m below the surface level using labour enhanced construction methods, or instructed by hand under Clause A3.2.7.2(d) | E7: cubic metre (m3) | F7: =101.67+152.50608 -> 254.17608 | H7: =F7*G7 -> 0
B8: C3.2.1.3 | D8: Excavating intermediate material 0m to 1,5m below the surface level using labour enhanced construction methods, or instructed by hand under Clause A3.2.7.2(d) | E8: cubic metre (m3) | F8: =5.08+7.625304 -> 12.705304 | H8: =F8*G8 -> 0
B9: C3.2.1.4 | D9: Extra over sub-item C3.2.1.1 for excavation in hard or boulder material, irrespective of depth | E9: cubic metre (m3) | F9: 5.083536 | H9: =F9*G9 -> 0
A10: C3.2.2 | D10: Backfilling
B11: C3.2.2.1 | D11: Using the excavated material | E11: cubic metre (m3) | F11: 109.60895 | H11: =F11*G11 -> 0
B12: C3.2.2.2 | D12: Using imported selected material:
C13: (b) | D13: From sources on site (G7 material) | E13: cubic metre (m3) | F13: 14.06016 | H13: =F13*G13 -> 0
B14: C3.2.2.3 | D14: Extra over sub-items C3.2.2.1 and C3.2.2.2 for soil cement backfilling
C15: (b) | D15: With dry mixture of 3% CEM II class 32.5 cement | E15: cubic metre (m3) | F15: 10 | H15: =F15*G15 -> 0
A16: C3.2.3 | D16: Concrete pipe culverts:
B17: C3.2.3.2 | D17: On Class C bedding
D18: (i) Class 75D pipes, 600 mm ø, Spigot & socket | E18: metre (m) | F18: 58.584 | H18: =F18*G18 -> 0
A19: C3.2.7 | D19: Cast in situ concrete and formwork:
B20: C3.2.7.5 | D20: In inlet and outlet structures including kerbs, chutes and downpipes, skewed ends, catchpits, manholes, thrust and anchor blocks, excluding formwork but including Class U2 surfacing finish
D21: (i) Class C25/30-20 concrete in apron slabs | E21: cubic metre (m3) | F21: 12.1 | H21: =F21*G21 -> 0
D22: (iv) Class C25/30-20 concrete in anchor blocks | E22: cubic metre (m3) | F22: 2 | H22: =F22*G22 -> 0
B23: C3.2.7.6 | D23: Formwork of concrete under item C3.2.7.5 above (Type F2 finish)
D24: (i) Vertical formwork | E24: square metre (m2) | F24: 49.919903 | H24: =F24*G24 -> 0
A25: C3.2.9 | D25: Prefabricated concrete inlets and outlets to culverts:
C26: (a) | D26: Kerb inlet with chute including kerbs, floor and top concrete slabs, transition and all required elements, complete as per drawing L0353-AR2-T-04D03-00 | E26: Number (no) | F26: 8 | H26: =F26*G26 -> 0
A27: C3.2.10 | D27: Reinforcement:
B28: C3.2.10.1 | D28: Mild steel bars | E28: ton (t) | F28: 0.05 | H28: =F28*G28 -> 0
B29: C3.2.10.2 | D29: High-tensile steel bars | E29: ton (t) | F29: 0.193842 | H29: =F29*G29 -> 0
B30: C3.2.10.3 | D30: Welded steel fabric | E30: kilogram (kg) | F30: 210 | H30: =F30*G30 -> 0
A31: C3.2.12 | D31: Demolition of concrete members or elements:
B32: C3.2.12.2 | D32: Partial member or element (max. size 300mm)
D33: (i) Plain concrete | E33: cubic metre (m3) | F33: 1 | H33: =F33*G33 -> 0
D34: (ii) Reinforced concrete | E34: cubic metre (m3) | F34: 1 | H34: =F34*G34 -> 0
A35: C3.2.16 | D35: Brickwork (Engineering Bricks):
B36: C3.2.16.2 | D36: 230 mm thick
C37: (a) | D37: Splash Drains and Kerb Inlets | E37: square metre (m2) | F37: 63.06 | H37: =F37*G37 -> 0
C38: (b) | D38: Culvert Inlet/Outlet Structures | E38: square metre (m2) | F38: 45.38173 | H38: =F38*G38 -> 0
A39: C1.6/C1.7 | B39: C1.7.1 | D39: Loading
B40: C1.7.1.3 | D40: Loading by hand only from stockpile or heaps when labour enhancement work is specified or it is not possible to use machines | E40: cubic metre (m3) | F40: =F7+F8+F9 -> 271.96492 | H40: =F40*G40 -> 0
B41: C1.7.2 | D41: Hauling
B42: C1.7.2.2 | D42: Hauling material to spoil and off-loading it at a designated spoil or stockpile area:
...

Sheet C3.3
A1: SCHEDULE B - C3.3 | E1: CONCRETE KERBING AND CHANNELING, ASPHALT BERMS, CHUTES, DOWNPIPES, AS WELL AS CONCRETE, STONE PITCHED AND GABION LININGS FOR OPEN DRAINS
A2: ITEM | D2: DESCRIPTION | E2: UNIT | F2: QTY | G2: RATE | H2: AMT
A5: C3.3.1 | D5: Concrete kerbing:
B6: C3.3.1.1 | D6: Prefabricated kerbing on concrete bedding of class C16/20-20.
C7: (a) | D7: Fig 8c - Drawing no L0353-AR2-T-03D01-00 | E7: metre (m) | F7: 2622.3274 | H7: =F7*G7 -> 0
B9: C3.3.1.2 | D9: Cast in situ kerbing, concrete class C16/20-20 with F2 surface finish.
C10: (a) | D10: Concrete edge beam - Drawing no L0353-AR2-T-03D01-00 | E10: metre (m) | F10: 2831.6 | H10: =F10*G10 -> 0
A12: C3.3.8 | D12: Linings for open drains:
B13: C3.3.8.1 | D13: Cast in situ concrete lining (Class C25/30-20)
C14: (a) | D14: Type 1.2 drain | E14: cubic metre (m³) | F14: 9 | H14: =F14*G14 -> 0
C15: (b) | D15: Splash Drain - Drawing no L0353-AR2-T-03D01-00 | E15: cubic metre (m³) | F15: 39.915 | H15: =F15*G15 -> 0
C16: (c) | D16: Kerb Inlets - Drawing no: L0353-AR2-T-04D03-00 | E16: cubic metre (m³) | F16: 1.56 | H16: =F16*G16 -> 0
C17: (d) | D17: Discharge structures - Drawing no: L0353-AR2-T-04D03-00 | E17: cubic metre (m³) | F17: 9.72 | H17: =F17*G17 -> 0
B18: C3.3.8.2 | D18: Class U2 surface finish to cast in situ concrete
C19: (a) | D19: Type 1.2 drain | E19: square metre (m2) | F19: 60 | H19: =F19*G19 -> 0
C20: (b) | D20: Splash Drain - Drawing no L0353-AR2-C-03D01-00 | E20: square metre (m2) | F20: 798.3 | H20: =F20*G20 -> 0
C21: (c) | D21: Kerb Inlets - Drawing no: L0353-AR2-T-04D03-00 | E21: square metre (m2) | F21: 10.4 | H21: =F21*G21 -> 0
C22: (d) | D22: Discharge structures - Drawing no: L0353-AR2-T-04D03-00 | E22: square metre (m2) | F22: 64.8 | H22: =F22*G22 -> 0
A23: C3.3.9 | D23: Formwork to cast in situ concrete lining for open drains (Class F2 surface finish):
B24: C3.3.9.2 | D24: To sides with formwork on both internal and external faces (each face measured) | E24: square metre (m2) | F24: 104.469 | H24: =F24*G24 -> 0
B25: C3.3.9.3 | D25: To ends of slabs | E25: square metre (m2) | F25: 82.629 | H25: =F25*G25 -> 0
A26: C3.3.10 | D26: Sealed joints in concrete and stone pitched linings of open drains (Drawing no L0353-AR2-T-03D01-00) | E26: metre (m) | F26: 88.629 | H26: =F26*G26 -> 0
A27: C3.3.12 | D27: Reinforcement:
B28: C3.3.12.3 | D28: High tensile steel bars | E28: t | F28: 1.307055 | H28: =F28*G28 -> 0
B29: C3.3.12.4 | D29: Other Materials:
D30: Polythylne sheeting (0.15 mm thick) for concrete-lined open drains | E30: square metre (m2) | F30: 858.3 | H30: =F30*G30 -> 0
A31: C3.3.15 | D31: Energy Dissipaters in outlet structures
B32: C3.3.15.1 | D32: Precast concrete blocks in outlet structures | E32: Number (No) | F32: 20 | H32: =F32*G32 -> 0
A36: TOTAL CARRIED FORWARD TO SUMMARY | H36: =SUM(H5:H35) -> 0

Sheet C4.1
A1: SCHEDULE B - C4.1 | E1: BORROW MATERIALS
A2: ITEM | D2: DESCRIPTION | E2: UNIT | F2: QTY | G2: RATE | H2: AMT
A5: C4.1.5 | D5: Excavating of materials in the borrow pits and quarries, material obtained from:
B6: C4.1.5.1 | D6: Soft Excavation | E6: cubic metre (m3) | F6: 608.4006 | H6: =F6*G6 -> 0
B7: C4.1.5.4 | D7: Hard Excavation (Other than blasting) | E7: cubic metre (m3) | F7: 2433.6024 | H7: =F7*G7 -> 0
A8: C4.1/C1.7 | B8: C1.7.1 | D8: Loading
B9: C1.7.1.3 | D9: Loading by hand only from stockpile or heaps when labour enhancement work is specified or it is not possible to use machines | E9: cubic metre (m3) | F9: =(F6+F7) -> 3042.003 | H9: =F9*G9 -> 0
B10: C1.7.2 | D10: Hauling
B11: C1.7.2.1 | D11: Hauling material for use in the Works and off-loading it on the site of the Works:
C12: (a) | D12: Soil, gravel, crushed stone and pavement layer material | E12: cubic metre - kilometre (m3 - km) | F12: =(F6+F7)*5 -> 15210.015 | H12: =F12*G12 -> 0
A18: TOTAL CARRIED FORWARD TO SUMMARY | H18: =SUM(H5:H17) -> 0

Sheet C4.2
A1: SCHEDULE B - C4.2 | E1: CUT MATERIALS
A2: ITEM | D2: DESCRIPTION | E2: UNIT | F2: QTY | G2: RATE | H2: AMT | I2: Note to compiler: Items requiring additional information to be provided by compiler is marked in this column by X.
A5: C4.2.3 | D5: Excavating of materials in cuttings, material obtained from
B6: C4.2.3.1 | D6: Intermediate excavation | E6: cubic metre (m3) | F6: 3309.0185 | H6: =F6*G6 -> 0
B7: C4.2.3.4 | D7: Hard excavation (other than by blasting) | E7: cubic metre (m3) | F7: 165.45092 | H7: =F7*G7 -> 0
A8: C4.2.4 | D8: Excavating of materials in box cuts, material obtained from
B9: C4.2.4.1 | D9: Soft excavation | E9: cubic metre (m3) | F9: 7160.272 | H9: =F9*G9 -> 0
B10: C4.2.4.4 | D10: Hard excavation (other than by blasting) | E10: cubic metre (m3) | F10: 716.0272 | H10: =F10*G10 -> 0
A11: C4.2.9 | D11: Excavate material to spoil in sites designated by the Contractor, material obtained from
B12: C4.2.9.1 | D12: Soft excavation, overburden and unsuitable material | E12: cubic metre (m3) | F12: 6768.759 | H12: =F12*G12 -> 0
B13: C4.2.9.4 | D13: Hard excavation (other than by blasting) | E13: cubic metre (m3) | F13: 1692.1897 | H13: =F13*G13 -> 0
A14: C4.2.12 | D14: Finishing the side slopes
B15: C4.2.12.1 | D15: Cuttings:
C16: (c) | D16: In hard material | E16: square metre (m2) | F16: 10 | H16: =F16*G16 -> 0
C17: (d) | D17: In soft material using labour enhanced methods of construction | E17: square metre (m2) | F17: 7343.7 | H17: =F17*G17 -> 0
A18: C4.1/C1.7 | D18: Loading and Hauling
D19: Loading
B20: C1.7.1.1 | D20: Loading from stockpile using machines and some hand labour where necessary | E20: cubic metre (m3) | F20: =(F13+F12)*0.5 -> 4230.4744 | H20: =F20*G20 -> 0
B21: C1.7.1.3 | D21: Loading by hand only from stockpile or heaps when labour enhancement work is specified or it is not possible to use machines | E21: cubic metre (m3) | F21: =(F13+F12)*0.5 -> 4230.4744 | H21: =F21*G21 -> 0
D22: Hauling
B23: C1.7.2.1 | D23: Hauling material for use in the Works and off-loading it on the site of the Works:
C24: (a) | D24: Soil, gravel, crushed stone and pavement layer material | E24: cubic metre - kilometre (m3 - km) | F24: =(F6+F7)*5+(F9+F10)*2+(F12+F13)*3 -> 58507.792 | H24: =F24*G24 -> 0
A26: TOTAL CARRIED FORWARD TO SUMMARY | H26: =SUM(H5:H25) -> 0

Sheet C4.4
A1: SCHEDULE B - C4.4 | E1: COMMERCIAL MATERIALS
A2: ITEM | D2: DESCRIPTION | E2: UNIT | F2: QTY | G2: RATE | H2: AMT
A5: C4.4.2 | D5: Commercial materials identified by the Contractor from commercial suppliers
B6: C4.4.2.1 | C6: (q) | D6: Natural or crushed gravel material for the wearing course of an unsealed road | E6: cubic metre (m3) | F6: 841.5 | H6: Rate Only
B7: C4.4.2.6 | D7: Pioneer material | E7: cubic metre (m3) | F7: 615.25875 | H7: =F7*G7 -> 0
A17: TOTAL CARRIED FORWARD TO SUMMARY | H17: =SUM(H5:H16) -> 0

Sheet C5.1
A1: SCHEDULE B - C5.1 | F1: ROADBED
A2: ITEM | E2: DESCRIPTION | F2: UNIT | G2: QTY | H2: RATE | I2: AMT
A5: C5.1.1 | E5: Roadbed construction and compaction:
B6: C5.1.1.2 | E6: Compaction of in-situ material to 93% of MDD | F6: cubic metre (m3) | G6: 3459.9 | I6: =G6*H6 -> 0
A7: C5.1.4 | E7: Removal of unsuitable material to spoil
B8: C5.1.4.1 | C8: (b) | E8: Unstable material | F8: cubic metre (m3) | G8: 172.995 | I8: =G8*H8 -> 0
A9: C5.1.5 | E9: In-situ treatment of roadbed in hard material:
B10: C5.1.5.3 | E10: In-situ treatment by drilling and splitting the material using non-explosive, rock-breaking products | F10: cubic metre (m3) | G10: 345.99 | I10: =G10*H10 -> 0
A11: C5.1.6 | E11: Roller-pass compaction
B12: C5.1.6.4 | E12: Hand-guided double drum vibratory roller | F12: square metre (m2) | G12: 13973 | I12: =G12*H12 -> 0
A13: C5.1.10 | E13: Construction of roadbed comprising a pioneer layer | F13: cubic metre (m3) | G13: ='C4.4'!F6 -> 841.5 | I13: =G13*H13 -> 0
A14: C5.1.13 | E14: Construction of a levelling layer:
B15: C5.1.13.1 | E15: Over roadbed treatment in hard material compacted to 90% MDD | F15: cubic metre (m3) | G15: 100 | I15: =G15*H15 -> 0
A19: TOTAL CARRIED FORWARD TO SUMMARY | I19: =SUM(I5:I18) -> 0

Sheet C5.2
A1: SCHEDULE B - C5.2 | E1: FILL
A2: ITEM | D2: DESCRIPTION | E2: UNIT | F2: QTY | G2: RATE | H2: AMT
A5: C5.2.2 | D5: Fill construction:
B6: C5.2.2.1 | D6: Normal fill material in compacted layer thicknesses of 150mm and less:
C7: (b) | D7: Compacted to 93% of MDD as per Table A4.1.5-2 | E7: cubic metre (m3) | F7: 283.54286 | H7: =F7*G7 -> 0
A8: C5.2.11 | D8: Finishing-off fill slopes, medians and interchange areas:
B9: C5.2.11.1 | D9: Fill slopes | E9: square metre (m2) | F9: 3147.3 | H9: =F9*G9 -> 0
A14: TOTAL CARRIED FORWARD TO SUMMARY | H14: =SUM(H5:H13) -> 0

Sheet C5.3
A1: SCHEDULE B - C5.3 | E1: ROAD PAVEMENT LAYERS
A2: ITEM | D2: DESCRIPTION | E2: UNIT | F2: QTY | G2: RATE | H2: AMT
A5: C5.3.1 | D5: Compiling and implementing M&U plans for the construction of all the pavement layers | E5: number (No.) | F5: 3 | H5: =F5*G5 -> 0
A6: C5.3.2 | D6: Construction of pavement layers
B7: C5.3.2.1 | D7: Construction of layers using conventional construction methods:
C8: (g) | D8: Gravel wearing course layer (150 mm thick material compacted to 95% of MDD) | E8: cubic metre (m3) | F8: 841.5 | H8: =F8*G8 -> 0
B9: C5.3.2.2 | D9: Construction of layers using labour enhancement:
C10: (b) | D10: Upper selected subgrade layer (150mm layer thickness G7 Material) compacted to 95 % of MDD | E10: cubic metre (m3) | F10: 2461.035 | H10: =F10*G10 -> 0
C11: (h) | D11: Upper gravel subbase layer (150mm layer thickness G6 Material) compacted to 97 % of MDD | E11: cubic metre (m3) | F11: 2345.745 | H11: =F11*G11 -> 0
A16: TOTAL CARRIED FORWARD TO SUMMARY | H16: =SUM(H5:H15) -> 0

Sheet C6.2
A1: C6.2 | D1: SEGMENTAL BLOCK PAVING LAYERS
A2: ITEM | C2: DESCRIPTION | D2: UNIT | E2: QTY | F2: RATE | G2: AMT
A5: C6.2.1 | C5: Segmental block paving
B6: C6.2.1.1 | C6: Concrete block paving
C7: (i) Class 25, type S-A, 60 mm thick | D7: square metre (m2) | E7: 13973 | G7: =E7*F7 -> 0
A9: C6.2.2 | C9: Cast in-situ concrete edge and intermediate beams | D9: cubic metre (m3) | E9: 46.809 | G9: =E9*F9 -> 0
A10: C6.2.3 | C10: Provision and application of approved herbicide and ant poison
B11: C6.2.3.1 | C11: Provision of materials | D11: prime cost (PC) sum | E11: Prime | F11: Cost | G11: 100000
B12: C6.2.3.2 | C12: Contractor’s charges and profit added to the prime cost sum | D12: percentage (%) | E12: 100000 | G12: =F12*E12 -> 0
A13: C6.2.4 | C13: Re-sanding of joints in segmental block paving
B14: C6.2.4.1 | C14: Concrete block paving
C15: (i) Class 25, type S-A, 60 mm thick | D15: square metre (m2) | E15: 2794.6 | G15: =E15*F15 -> 0
A20: TOTAL CARRIED FORWARD TO SUMMARY | G20: =SUM(G5:G19) -> 100000

Sheet C11.1
A1: SCHEDULE B - C11.1 | E1: PITCHING, STONEWORK, CAST IN SITU CONCRETE FOR PROTECTION AGAINST EROSION
A2: ITEM | D2: DESCRIPTION | E2: UNIT | F2: QTY | G2: RATE | H2: AMT
A5: C11.1.2 | D5: Stone pitching
B6: C11.1.2.1 | D6: Plain stone pitching
C7: (a) | D7: Method 1 | E7: square metre (m2) | F7: 130.4 | H7: =F7*G7 -> 0
A22: TOTAL CARRIED FORWARD TO SUMMARY | H22: =SUM(H5:H21) -> 0

Sheet C11.2
A1: SCHEDULE B - C11.2 | E1: NON-STRUCTURAL GABIONS
A2: ITEM | D2: DESCRIPTION | E2: UNIT | F2: QTY | G2: RATE | H2: AMT
A5: C11.2.1 | D5: Foundation trench excavation:
B7: C11.2.1.3 | D7: Excavating soft material within 1,5 m below the surface level using labour enhanced construction methods: | E7: cubic metre (m³) | F7: 149.136 | H7: =F7*G7 -> 0
B8: C11.2.1.4 | D8: Excavating intermediate material within 1,5 m below the surface level using labour enhanced construction methods: | E8: cubic metre (m³) | F8: 5 | H8: =F8*G8 -> 0
A9: C11.2.2 | B9: C11.2.2 | D9: Surface preparation for bedding the gabion boxes and mattresses | E9: square metre (m2) | F9: 181.44 | H9: =F9*G9 -> 0
A10: C11.2.3 | D10: Gabion boxes and Mattresses:
B11: C11.2.3.1 | D11: Galvanized gabion boxes:
C12: (a) | D12: 0.5m x 0.5m x 1.0m | E12: cubic metre (m³) | F12: 24 | H12: =F12*G12 -> 0
B13: C11.2.3.3 | D13: Galvanized gabion mattresses:
C14: (a) | D14: 300mm deep Mattresses | E14: cubic metre (m³) | F14: 45.36 | H14: =F14*G14 -> 0
A15: C11.2.4 | D15: Geotextile as per COTO A12.11 | E15: square metre (m2) | F15: 181.44 | H15: =F15*G15 -> 0
A16: C11.2/C1.7 | B16: C1.7.1 | D16: Loading
B17: C1.7.1.3 | D17: Loading by hand only from stockpile or heaps when labour enhancement work is specified or it is not possible to use machines | E17: cubic metre (m³) | F17: =F7+F8 -> 154.136 | H17: =F17*G17 -> 0
B18: C1.7.2 | D18: Hauling
B19: C1.7.2.2 | C19: (b) | D19: Soil and gravel material | E19: cubic metre - kilometre (m3 - km) | F19: =F17*5 -> 770.68 | H19: =F19*G19 -> 0
A23: TOTAL CARRIED FORWARD TO SUMMARY | H23: =SUM(H5:H22) -> 0

Sheet C11.5
A1: SCHEDULE B - C11.5 | E1: FENCING
A2: ITEM | D2: DESCRIPTION | E2: UNIT | F2: QTY | G2: RATE | H2: AMT
A5: C11.5.1 | D5: Supply and erect new fencing material for new fences and for supplementing material in existing fences which are being repaired or removed:
B6: C11.5.1.2 | D6: Zinc-coated smooth wire (2.25mm High tensile steel fully galvanized) | E6: kilometre (km) | F6: 20.982 | H6: =F6*G6 -> 0
B7: C11.5.1.4 | D7: Wire netting, 50 x 1.8mm Galvanized | E7: square metre (m2) | F7: 8392.8 | H7: =F7*G7 -> 0
B8: C11.5.1.7 | D8: Standards, 2,5 kg/m Y-sections 2,0 m long | E8: number (No) | F8: 399.55556 | H8: =F8*G8 -> 0
B9: C11.5.1.8 | D9: Droppers, 0,56 kg/m ridge- back pattern, 1,4 m long | E9: number (No) | F9: 3497 | H9: =F9*G9 -> 0
B10: C11.5.1.9 | D10: Straining posts, stays and anchors:
C11: (a) | D11: Vertical
C12: (ii) | D12: Timber straining posts 125 - 150 mm dia creosoted 2,0 m long | E12: number (No) | F12: 139.88 | H12: =F12*G12 -> 0
C13: (b) | D13: Inclined
C14: (iii) | D14: Wire stays and anchors as shown on the drawing L0353-AR2-T-03D05-00 | E14: number (No) | F14: 69.94 | H14: =F14*G14 -> 0
C15: (c) | D15: Horizontal:
C16: (ii) | D16: Timber stays and anchors 75 to 100 mm dia creosoted 1,8 m long | E16: number (No) | F16: 69.94 | H16: =F16*G16 -> 0
A17: C11.5.2 | D17: New Gates
C18: (a) | D18: Single leaf, 3.6 m wide | E18: number (No) | F18: 92.025 | H18: =F18*G18 -> 0
C19: (b) | D19: Pedestrian gate 1.0m wide | E19: number (No) | F19: 92.025 | H19: =F19*G19 -> 0
A20: C11.5.4 | D20: Dismantling existing fences and gates:
B21: C11.5.4.1 | D21: Fences:
C22: (a) | D22: Stock-proof fences | E22: kilometre (km) | F22: 2.0982 | H22: =F22*G22 -> 0
B23: C11.5.4.2 | D23: Gates
C24: (a) | D24: Single leaf, 3.6 m wide | E24: number (No) | F24: 20 | H24: =F24*G24 -> 0
A29: TOTAL CARRIED FORWARD TO SUMMARY | H29: =SUM(H5:H28) -> 0

Sheet C11.6
A1: SCHEDULE B - C11.6 | E1: ROAD SIGNS
A2: ITEM | D2: DESCRIPTION | E2: UNIT | F2: QTY | G2: RATE | H2: AMT
A5: C11.6.1 | D5: Road signboards with painted or coloured semi-matt background. Symbols, lettering and borders in semi- matt black or in Class I retro-reflective material, where the sign board is constructed from:
B6: C11.6.1.3 | D6: Prepainted galvanized steel plate:
C7: (b) | D7: Area exceeding 0,5 m2 but not 2,0 m2 | E7: square metre (m2) | F7: 50 | H7: =F7*G7 -> 0
B8: C11.6.1.11 | C8: (b) | D8: 900mm x 200mm Galvanised steel plate, semi-matt background,Class I retro-reflective material borders | E8: number (No) | F8: 12 | H8: =F8*G8 -> 0
A9: C11.6.2 | D9: Extra over on item C11.6.1 for using:
B10: C11.6.2.1 | D10: Background of retro-reflective material:
C11: (a) | D11: Class I | E11: square metre (m2) | F11: 50 | H11: =F11*G11 -> 0
B12: C11.6.2.2 | D12: Lettering, symbols, numbers, arrows, emblems and borders of retro-reflective material:
C13: (a) | D13: Class III | E13: square metre (m2) | F13: 35 | H13: =F13*G13 -> 0
A14: C11.6.3 | D14: Road sign supports (overhead road sign structures excluded):
B15: C11.6.3.2 | D15: Timber (100 mm dia.) | E15: metre (m) | F15: 110 | H15: =F15*G15 -> 0
A16: C11.6.5 | D16: Excavation and backfilling for road sign supports (not applicable to kilometre posts)
B17: C11.6.5.2 | D17: Excavating soft or intermediate material and backfilling using labour enhanced construction methods | E17: cubic metre (m3) | F17: 36 | H17: =F17*G17 -> 0
B18: C11.6.5.3 | D18: Extra over item C11.6.5.2 for cement-treated soil backfill (5% CEM II 32,5) | E18: cubic metre (m3) | F18: 36 | H18: =F18*G18 -> 0
A21: TOTAL CARRIED FORWARD TO SUMMARY | H21: =SUM(H5:H20) -> 0

Sheet C11.7
A1: SCHEDULE B - C11.7 | E1: ROAD MARKINGS AND ROAD STUDS
A2: ITEM | D2: DESCRIPTION | E2: UNIT | F2: QTY | G2: RATE | H2: AMT
A5: C11.7.2 | D5: Retro reflective road markings:
B6: C11.7.2.8 | D6: Hand painted white lines broken or unbroken:
C7: (a) | D7: 150mm Waterbase paint | E7: kilometre (km) | F7: 2.276 | H7: =F7*G7 -> 0
C8: (b) | D8: 300mm Waterbase paint | E8: kilometre (km) | F8: 0.05 | H8: =F8*G8 -> 0
B9: C11.7.2.11 | D9: Hand painted white lettering and symbols
C10: (a) | D10: Waterbase paint | E10: square metre (m2) | F10: 52.8 | H10: =F10*G10 -> 0
A11: C11.7.8 | D11: Setting out and premarking the lines (excluding traffic island markings, lettering and symbols) | E11: kilometre (km) | F11: 2.326 | H11: =F11*G11 -> 0
A12: C11.7.9 | D12: Re-establishing the painting unit during the defects notification period and at other instances on instruction of the Engineer | E12: number (No) | F12: 2 | H12: =F12*G12 -> 0
A22: TOTAL CARRIED FORWARD TO SUMMARY | H22: =SUM(H5:H21) -> 0

Sheet C20.1
A1: SCHEDULE B - C20.1 | F1: TESTING MATERIALS AND JUDGEMENT OF WORKMANSHIP
A2: ITEM | E2: DESCRIPTION | F2: UNIT | G2: QTY | H2: RATE | I2: AMT
A5: C20.1.3 | E5: Providing testing equipment:
B6: C20.1.3.1 | E6: (i) Core drill | F6: number (No.) | G6: 5 | I6: Rate Only
E7: (ii) Rolling straight-edge | F7: number (No.) | G7: 3 | I7: =G7*H7 -> 0
E8: (iii) Measuring wheel | F8: number (No.) | G8: 3 | I8: =G8*H8 -> 0
E9: (iv) 100 m steel tape measure | F9: number (No.) | G9: 3 | I9: =G9*H9 -> 0
E10: (v) DCP | F10: number (No.) | G10: 1 | I10: =G10*H10 -> 0
E11: (vi) 3m Straight Edge | F11: number (No.) | G11: 1 | I11: =G11*H11 -> 0
A12: PC20.1.5 | E12: Financial contribution for an independent site laboratory (negative rate to be tendered) | F12: month | G12: 18 | I12: =G12*H12 -> 0
A13: PC20.1.6 | E13: Payment of Independent Site laboratory
B14: C20.1.6.1 | E14: Direct payment by contractor
E15: (i) Independent Site Laboratory | F15: prime cost (PC) sum | G15: Prime | H15: Cost | I15: 1600000
C16: (a) | E16: (ii) Handling cost and profit in respect of item C20.1.6.1 (i) | F16: percentage (%) | G16: =I10+I15 -> 1600000 | I16: =G16*H16 -> 0
B18: C20.1.7.1 | E18: Payment of Independent Commercial laboratory
E19: Direct payment by contractor
E20: (i) Independent Commercial Laboratory | F20: prime cost (PC) sum | G20: Prime | H20: Cost | I20: 1600000
C21: (a) | E21: (ii) Handling cost and profit in respect of item C20.1.7.1 (i) | F21: percentage (%) | G21: =I15+I20 -> 3200000 | I21: =G21*H21 -> 0
A22: PC20.1.8 | E22: Additional tests requested by the Engineer
B23: PC20.1.8.1 | E23: (i) Additional tests requested by the Engineer | F23: prime cost (PC) sum | G23: Prime | H23: Cost | I23: 200000
E24: (ii) Handling cost and profit in respect of item PC20.1.7.1(i) | F24: percentage (%) | G24: =I23 -> 200000 | I24: =G24*H24 -> 0
A31: TOTAL CARRIED FORWARD TO SUMMARY | I31: =SUM(I5:I30) -> 3400000

Sheet Schedule C - D1000
A1: SCHEDULE C - D1000 | E1: STAKEHOLDER AND COMMUNITY LIAISON, AND TARGETED LABOUR AND TARGETED ENTERPRISES SELCTION AND UTILISATION AND DEVELOPMENT
A2: ITEM | D2: DESCRIPTION | E2: UNIT | F2: QTY | G2: RATE | H2: AMT
A5: D10.01 | D5: Target Group Participation
B6: (a) | D6: Contract Participation Performance bonus | E6: prime cost (PC) sum | F6: Prime | G6: Cost | H6: 744470
A7: D10.02 | D7: Stakeholder and Community Liaison and Social Facilitation
B8: (a) | D8: Cost of liaison, social facilitation and PLC support | E8: prime cost (PC) sum | F8: Prime | G8: Cost | H8: 588000
B9: (b) | D9: Handling cost and profit in respect of sub-item D10.02(a) | E9: percentage (%) | F9: =H8 -> 588000 | H9: =F9*G9 -> 0
A10: D10.03 | D10: Tender Process for Targeted Enterprises
B11: (a) | D11: Contractor’s charge for the management and execution of the Targeted Enterprise procurement process:
C12: (i) | D12: Procurement process for the totality of all tenders concluded for the appointment of Targeted Enterprise subcontractors of CIDB 1 and 2 contractor grading | E12: number (No.) | F12: 15 | H12: =F12*G12 -> 0
C13: (ii) | D13: Procurement process for the totality of all tenders concluded for the appointment of Targeted Enterprise subcontractors of CIDB 3 and 4 contractor grading | E13: number (No.) | F13: 15 | H13: =F13*G13 -> 0
C14: (iii) | D14: Procurement process for the totality of all tenders concluded for the appointment of Targeted Enterprise subcontractors of CIDB 5 and higher contractor grading | E14: number (No.) | F14: 3 | H14: =F14*G14 -> 0
C15: (iv) | D15: Procurement process for the totality of all tenders concluded for the appointment of Targeted Enterprise suppliers | E15: number (No.) | F15: 8 | H15: =F15*G15 -> 0
B16: (b) | D16: Targeted Enterprise Procurement Coordinator | E16: month | F16: 8 | H16: =F16*G16 -> 0
A17: D10.04 | D17: Responsibilities of the Contractor towards Targeted Enterprises
B18: (a) | D18: Contractor’s establishment, management, management support, assistance, coaching, guidance, mentoring and supervision of Targeted Enterprises | E18: month | F18: 18 | H18: =F18*G18 -> 0
B19: (b) | D19: Targeted Enterprise Construction Manager | E19: Person.Month | F19: 21 | H19: =F19*G19 -> 0
B20: (c) | D20: Targeted Enterprise Site Supervisors | E20: Person.Month | F20: 126 | H20: =F20*G20 -> 0
A21: D10.05 | D21: Construction Works by Targeted Enterprises
B22: (a) | D22: Payments associated with the construction works carried out by Targeted Enterprise subcontractors of CIDB 1 and 2 contractor grading designation appointed in terms of Section D | E22: provisional sum | F22: Prov | G22: Sum | H22: =5%*'C2.3 Summary of Pricing'!G46 -> 0
B23: (b) | D23: Handling costs and profit in respect of payment associated with sub-item D10.05(a) | E23: percentage (%) | F23: =H22 -> 0 | H23: =F23*G23 -> 0
B24: (c) | D24: Fluctuation between the main contractor’s rates and that of the Targeted Enterprise subcontractors | E24: lump sum | F24: 1 | H24: =F24*G24 -> 0
B25: (d) | D25: Preliminary and General Obligations of Targeted Enterprise sub-contractors appointed in terms of Section D | E25: lump sum | F25: 1 | H25: =F25*G25 -> 0
A26: D10.06 | D26: Training, coaching, guidance, mentoring and assistance
B27: (a) | D27: Training Costs
C28: (ii) | D28: Accredited generic skills training | E28: provisional sum | F28: Prov | G28: Sum | H28: 150000
C29: (iii) | D29: Community skills training | E29: provisional sum | F29: Prov | G29: Sum | H29: 200000
C30: (iv) | D30: Handling cost and profit in respect of subitems D10.06(a)(ii) and (iii) | E30: percentage (%) | F30: =H28+H29 -> 350000 | H30: =F30*G30 -> 0
B31: (c) | D31: Other costs during training | E31: provisional sum | F31: Prov | G31: Sum | H31: 40000
B32: (d) | D32: Training venue | E32: lump sum | F32: 1 | H32: =F32*G32 -> 0
A36: TOTAL CARRIED FORWARD TO SUMMARY | H36: =SUM(H5:H35) -> 1722470

Sheet C2.3 Summary of Pricing
A1: C2.3 SUMMARY OF PRICING SCHEDULE
A3: SCHEDULE A
A4: A1000 | B4: GENERAL REQUIREMENTS AND TRAINING AND SKILLS DEVELOPMENT PROGRAMME | C4: =D4 -> 4090000 | D4: ='Schedule A'!H58 -> 4090000
A6: SCHEDULE B
A7: THE STANDARD SPECIFICATIONS FOR ROAD AND BRIDGE WORKS FOR SOUTH AFRICAN ROAD AUTHORITIES (DRAFT STANDARD OCTOBER 2020 EDITION) PREPARED BY THE COMMITTEE OF TRANSPORT OFFICIALS, (COTO), AS AMENDED
A8: GENERAL
A9: C1.2 | B9: GENERAL REQUIREMENTS AND PROVISIONS | C9: ='C1.2'!H65 -> 1345000
A10: C1.3 | B10: CONTRACTOR’S SITE ESTABLISHMENT AND GENERAL OBLIGATIONS | C10: ='C1.3'!H31 -> 1505000
A11: C1.4 | B11: FACILITIES FOR THE ENGINEER | C11: ='C1.4'!G86 -> 752000
A12: C1.5 | B12: ACCOMMODATION OF TRAFFIC | C12: ='C1.5'!I29 -> 650000
A13: C1.6 | B13: CLEARING AND GRUBBING | C13: ='C1.6'!G18 -> 0
A14: C1.7 | B14: LOADING AND HAULING | C14: ='C1.7'!H16 -> 0 | D14: =SUM(C9:C14) -> 4252000
A16: SERVICES
A17: C2.1 | B17: GENERAL REQUIREMENTS AND TRENCHING FOR SERVICES | C17: ='C2.1'!H40 -> 1330000
A18: C2.2 | B18: DRY SERVICES | C18: ='C2.2'!H19 -> 0 | D18: =SUM(C17:C18) -> 1330000
A20: DRAINAGE
A21: C3.1 | B21: DRAINS | C21: ='C3.1'!H21 -> 0
A22: C3.2 | B22: CULVERTS | C22: ='C3.2'!H47 -> 0
A23: C3.3 | B23: CONCRETE KERBING AND CHANNELING, ASPHALT BERMS, CHUTES, DOWNPIPES, AS WELL AS CONCRETE, STONE PITCHED AND GABION LININGS FOR OPEN DRAINS | C23: ='C3.3'!H36 -> 0 | D23: =SUM(C21:C23) -> 0
A25: EARTHWORKS AND PAVEMENT LAYERS MATERIALS
A26: C4.1 | B26: BORROW MATERIALS | C26: ='C4.1'!H18 -> 0
A27: C4.2 | B27: CUT MATERIALS | C27: ='C4.2'!H26 -> 0
A28: C4.4 | B28: COMMERCIAL MATERIALS | C28: ='C4.4'!H17 -> 0 | D28: =SUM(C26:C28) -> 0
A30: EARTHWORKS AND PAVEMENT LAYERS CONSTRUCTION
A31: C5.1 | B31: ROADBED | C31: ='C5.1'!I19 -> 0
A32: C5.2 | B32: FILL | C32: ='C5.2'!H14 -> 0
A33: C5.3 | B33: ROAD PAVEMENT LAYERS | C33: ='C5.3'!H16 -> 0 | D33: =SUM(C31:C33) -> 0
A35: CONCRETE LAYERS
A36: C6.2 | B36: SEGMENTAL BLOCK PAVING LAYERS | C36: ='C6.2'!G20 -> 100000 | D36: =C36 -> 100000
A38: ANCILLIARY ROAD WORKS
A39: C11.1 | B39: PITCHING, STONEWORK, CAST IN SITU CONCRETE FOR PROTECTION AGAINST EROSION | C39: ='C11.1'!H22 -> 0
A40: C11.2 | B40: ='C11.2'!E1 -> NON-STRUCTURAL GABIONS | C40: ='C11.2'!H23 -> 0
A41: C11.5 | B41: FENCING | C41: ='C11.5'!H29 -> 0
A42: C11.6 | B42: ROAD SIGNS | C42: ='C11.6'!H21 -> 0
A43: C11.7 | B43: ROAD MARKINGS AND ROAD STUDS | C43: ='C11.7'!H22 -> 0 | D43: =SUM(C39:C43) -> 0
A45: QUALITY ASSURANCE
A46: C20.1 | B46: TESTING MATERIALS AND JUDGEMENT OF WORKMANSHIP | C46: ='C20.1'!I31 -> 3400000 | D46: =SUM(C46) -> 3400000
A48: SCHEDULE C
