Workbook

Sheet TEC Development Guidelines
B2: This Tab provides guidance to the TET on how the evaluation criteria must be structured and where information can be sourced. Delete this tab before the TEC is published with the RFP.
A3: Response Guidelines
B4: Once all criteria questions are complete revise the response guidelines tab, the information provided is for vendors to understand what is required of them. You may need to rename or adjust the colour coding of the various tabs. Read through all the information removing what is not applicable and adding important information you want vendors to be aware of. The template has one reference sheet (Definitions and Abbreviations) it may be necessary to provide vendors with more reference information, which can be listed here.
A6: Scoring Summary
B7: Gatekeepers are captured here - Gatekeepers are limited to legislative and compliance related criteria only. Desktop evaluations and demonstrations are separate evaluation stages and the scores may not be added together. Ensure each stage has a defined threshold Adjusting the weight for each category on the scoring summary tab will automatically reflect the changes on the respective sheets. Evaluators scores in each category will also automatically pull through to this sheet The EL must check the formulas to ensure all are working correctly before evaluations begin.
A9: Functional Tab
B10: The functional evaluation specifically seeks to evaluate a given proposal/solution against the functional requirements which must listed in the scope of work. The functional requirements can be sourced from the Logical Architecture Design (LAD) where this is applicable. More specifically the Functional Decomposition Model contained within the LAD, lists all the Functional Requirements carefully aligned with industry best practice to ensure complete coverage of the business need. See below the example for the first evaluation criteria.
B11: EXAMPLE for #1
B13: Business Requirement Specification Statement (from the BRS) | C13: "The displayed image needs to be flicker free" | E13: These statements are developed by a business analyst while engaging with the business in their own language.
B15: Functional Business Requirement (from the Logical Design/Functional Decomposition Model) | C15: The screen refresh rate should be 60 fps or higher | E15: These statements are developed by an architect, which is based on the BRS & designed to be purely functional with a view to use for evaluation, mapping & other analyses.
B17: Technical Requirements | D17: Vendor Responses | F17: Evaluator Scores
F18: 0.2 | G18: =SUM(Table9[Priority]) -> 9 | H18: =SUM(Table9[Weight]) -> 0.2 | K18: Sectional Score: | L18: =SUM(Table24[Score]) -> 0.25 | N18: 1 | O18: 2 | P18: 3 | Q18: 4 | R18: 5 | S18: 6 | T18: 7 | U18: 8 | V18: 9 | W18: 10 | X18: 11 | Y18: 12 | Z18: 13 | AA18: 14 | AB18: 15 | AC18: 16 | AD18: 17 | AE18: 18 | AF18: 19 | AG18: 20 | AH18: 21 | AI18: 22
A19: Intem# | B19: Business requirements | C19: Mandatory Returnables - This colunm lists the mandotory evidence to be provided by the vendor in the technical file and numbered to align with each criteria question. | D19: Vendor Response: Vendor to indicate if, and to what extent they meet the requirement, detail must be provided in the tender submission | E19: Vendor Evidence: Location of Supporting Document/detailed response in your tender submission (state the file number, section & page number) | F19: Priority Description | G19: Priority | H19: Weight | I19: Selection Option | J19: Option Score | K19: Evaluators Response (SELECT) | L19: Score | M19: Evaluator comments | N19: 1 | O19: 2 | P19: 3 | Q19: 4 | R19: 5 | S19: 6 | T19: 7 | U19: 8 | V19: 9 | W19: 10 | X19: 11 | Y19: 12 | Z19: 13 | AA19: 14 | AB19: 15 | AC19: 16 | AD19: 17 | AE19: 18 | AF19: 19 | AG19: 20 | AH19: 21 | AI19: 22
A20: 1 | B20: Eskom requires an application with a screen refresh rate of 60 fps or higher. (This is the actual evaluation criteria against which the response is being judged - in this example it specifically quantifies how to determine if the screen will be flicker free & smooth i.e. the lower the refresh rate of the screen the worse screen flicker will be evident to the end-user) | C20: In your technical response indicate the screen refresh rate and provide a technical specification as evidence of the refresh rate. Note this may also be requested to be physically demonstrated later in the RFP process. | E20: <Example for how to complete this column: Technical File, section 5 (company background section), page 11> | F20: Important | G20: {=_xlfn.IFS(F20="","",F20="No interest",0,F20="Nice to have",1,F20="Useful",2,F20="Important",3,F20="Very important",4,F20="Critical",5,F20="Show stopper",6)} -> 3 | H20: =(G20/$G$18)*$F$18 -> 0.066666667 | I20: Refresh rate >=60, Refresh rate <60 | J20: {=_xlfn.TEXTJOIN(","&CHAR(10),,TEXT(Table9[[#This Row],[12]:[22]],"0,00%"))} -> 0,07%, 0,00% | K20: Refresh rate >=60 | L20: =H20-(H20*((MATCH(Table24[[#This Row],[Evaluators Response (SELECT)]],Table24[[#This Row],[1]:[11]],0)-1)/(COUNTA(Table24[[#This Row],[1]:[11]])-COUNTBLANK(Table24[[#This Row],[1]:[11]])-1))) -> #VALUE! | N20: {=IFERROR(INDEX(_xlfn.UNIQUE(TRIM(_xlfn.TEXTSPLIT(Table9[[#This Row],[Selection Option]:[Selection Option]],","))),,N$18),"")} -> Refresh rate >=60 | O20: {=IFERROR(INDEX(_xlfn.UNIQUE(TRIM(_xlfn.TEXTSPLIT(Table9[[#This Row],[Selection Option]:[Selection Option]],","))),,O$18),"")} -> Refresh rate <60 | P20: {=IFERROR(INDEX(_xlfn.UNIQUE(TRIM(_xlfn.TEXTSPLIT(Table9[[#This Row],[Selection Option]:[Selection Option]],","))),,P$18),"")} | Q20: {=IFERROR(INDEX(_xlfn.UNIQUE(TRIM(_xlfn.TEXTSPLIT(Table9[[#This Row],[Selection Option]:[Selection Option]],","))),,Q$18),"")} | R20: {=IFERROR(INDEX(_xlfn.UNIQUE(TRIM(_xlfn.TEXTSPLIT(Table9[[#This Row],[Selection Option]:[Selection Option]],","))),,R$18),"")} | S20: {=IFERROR(INDEX(_xlfn.UNIQUE(TRIM(_xlfn.TEXTSPLIT(Table9[[#This Row],[Selection Option]:[Selection Option]],","))),,S$18),"")} | T20: {=IFERROR(INDEX(_xlfn.UNIQUE(TRIM(_xlfn.TEXTSPLIT(Table9[[#This Row],[Selection Option]:[Selection Option]],","))),,T$18),"")} | U20: {=IFERROR(INDEX(_xlfn.UNIQUE(TRIM(_xlfn.TEXTSPLIT(Table9[[#This Row],[Selection Option]:[Selection Option]],","))),,U$18),"")} | ... X20: {=IFERROR(INDEX(_xlfn.UNIQUE(TRIM(_xlfn.TEXTSPLIT(Table9[[#This Row],[Selection Option]:[Selection Option]],","))),,X$18),"")} | Y20: {=IF(Table9[[#This Row],[1]]="","",Table9[[#This Row],[Weight]:[Weight]]-(Table9[[#This Row],[Weight]:[Weight]]*((_xlfn.XMATCH(Table9[[#This Row],[1]],Table9[[#This Row],[1]:[11]],0))-1)/(COUNTA(Table9[[#This Row],[1]:[11]])-COUNTBLANK(Table9[[#This Row],[1]:[11]])-1)))} -> 0.066666667 | Z20: {=IF(Table9[[#This Row],[2]]="","",Table9[[#This Row],[Weight]:[Weight]]-(Table9[[#This Row],[Weight]:[Weight]]*((_xlfn.XMATCH(Table9[[#This Row],[2]],Table9[[#This Row],[1]:[11]],0))-1)/(COUNTA(Table9[[#This Row],[1]:[11]])-COUNTBLANK(Table9[[#This Row],[1]:[11]])-1)))} -> 0 | AA20: {=IF(Table9[[#This Row],[3]]="","",Table9[[#This Row],[Weight]:[Weight]]-(Table9[[#This Row],[Weight]:[Weight]]*((_xlfn.XMATCH(Table9[[#This Row],[3]],Table9[[#This Row],[1]:[11]],0))-1)/(COUNTA(Table9[[#This Row],[1]:[11]])-COUNTBLANK(Table9[[#This Row],[1]:[11]])-1)))} | AB20: {=IF(Table9[[#This Row],[4]]="","",Table9[[#This Row],[Weight]:[Weight]]-(Table9[[#This Row],[Weight]:[Weight]]*((_xlfn.XMATCH(Table9[[#This Row],[4]],Table9[[#This Row],[1]:[11]],0))-1)/(COUNTA(Table9[[#This Row],[1]:[11]])-COUNTBLANK(Table9[[#This Row],[1]:[11]])-1)))} | AC20: {=IF(Table9[[#This Row],[5]]="","",Table9[[#This Row],[Weight]:[Weight]]-(Table9[[#This Row],[Weight]:[Weight]]*((_xlfn.XMATCH(Table9[[#This Row],[5]],Table9[[#This Row],[1]:[11]],0))-1)/(COUNTA(Table9[[#This Row],[1]:[11]])-COUNTBLANK(Table9[[#This Row],[1]:[11]])-1)))} | AD20: {=IF(Table9[[#This Row],[6]]="","",Table9[[#This Row],[Weight]:[Weight]]-(Table9[[#This Row],[Weight]:[Weight]]*((_xlfn.XMATCH(Table9[[#This Row],[6]],Table9[[#This Row],[1]:[11]],0))-1)/(COUNTA(Table9[[#This Row],[1]:[11]])-COUNTBLANK(Table9[[#This Row],[1]:[11]])-1)))} | AE20: {=IF(Table9[[#This Row],[7]]="","",Table9[[#This Row],[Weight]:[Weight]]-(Table9[[#This Row],[Weight]:[Weight]]*((_xlfn.XMATCH(Table9[[#This Row],[7]],Table9[[#This Row],[1]:[11]],0))-1)/(COUNTA(Table9[[#This Row],[1]:[11]])-COUNTBLANK(Table9[[#This Row],[1]:[11]])-1)))} | AF20: {=IF(Table9[[#This Row],[8]]="","",Table9[[#This Row],[Weight]:[Weight]]-(Table9[[#This Row],[Weight]:[Weight]]*((_xlfn.XMATCH(Table9[[#This Row],[8]],Table9[[#This Row],[1]:[11]],0))-1)/(COUNTA(Table9[[#This Row],[1]:[11]])-COUNTBLANK(Table9[[#This Row],[1]:[11]])-1)))} | AG20: {=IF(Table9[[#This Row],[9]]="","",Table9[[#This Row],[Weight]:[Weight]]-(Table9[[#This Row],[Weight]:[Weight]]*((_xlfn.XMATCH(Table9[[#This Row],[9]],Table9[[#This Row],[1]:[11]],0))-1)/(COUNTA(Table9[[#This Row],[1]:[11]])-COUNTBLANK(Table9[[#This Row],[1]:[11]])-1)))} | AH20: {=IF(Table9[[#This Row],[10]]="","",Table9[[#This Row],[Weight]:[Weight]]-(Table9[[#This Row],[Weight]:[Weight]]*((_xlfn.XMATCH(Table9[[#This Row],[10]],Table9[[#This Row],[1]:[11]],0))-1)/(COUNTA(Table9[[#This Row],[1]:[11]])-COUNTBLANK(Table9[[#This Row],[1]:[11]])-1)))} | AI20: {=IF(Table9[[#This Row],[11]]="","",Table9[[#This Row],[Weight]:[Weight]]-(Table9[[#This Row],[Weight]:[Weight]]*((_xlfn.XMATCH(Table9[[#This Row],[11]],Table9[[#This Row],[1]:[11]],0))-1)/(COUNTA(Table9[[#This Row],[1]:[11]])-COUNTBLANK(Table9[[#This Row],[1]:[11]])-1)))}
A21: 2 | C21: Appendix G | F21: Show stopper | G21: {=_xlfn.IFS(F21="","",F21="No interest",0,F21="Nice to have",1,F21="Useful",2,F21="Important",3,F21="Very important",4,F21="Critical",5,F21="Show stopper",6)} -> 6 | H21: =(G21/$G$18)*$F$18 -> 0.13333333 | I21: abc, klm, pqr, xyz | J21: {=_xlfn.TEXTJOIN(","&CHAR(10),,TEXT(Table9[[#This Row],[12]:[22]],"0,00%"))} -> 0,13%, 0,09%, 0,04%, 0,00% | K21: pqr | L21: =H21-(H21*((MATCH(Table24[[#This Row],[Evaluators Response (SELECT)]],Table24[[#This Row],[1]:[11]],0)-1)/(COUNTA(Table24[[#This Row],[1]:[11]])-COUNTBLANK(Table24[[#This Row],[1]:[11]])-1))) -> #VALUE! | N21: {=IFERROR(INDEX(_xlfn.UNIQUE(TRIM(_xlfn.TEXTSPLIT(Table9[[#This Row],[Selection Option]:[Selection Option]],","))),,N$18),"")} -> abc | O21: {=IFERROR(INDEX(_xlfn.UNIQUE(TRIM(_xlfn.TEXTSPLIT(Table9[[#This Row],[Selection Option]:[Selection Option]],","))),,O$18),"")} -> klm | P21: {=IFERROR(INDEX(_xlfn.UNIQUE(TRIM(_xlfn.TEXTSPLIT(Table9[[#This Row],[Selection Option]:[Selection Option]],","))),,P$18),"")} -> pqr | Q21: {=IFERROR(INDEX(_xlfn.UNIQUE(TRIM(_xlfn.TEXTSPLIT(Table9[[#This Row],[Selection Option]:[Selection Option]],","))),,Q$18),"")} -> xyz | R21: {=IFERROR(INDEX(_xlfn.UNIQUE(TRIM(_xlfn.TEXTSPLIT(Table9[[#This Row],[Selection Option]:[Selection Option]],","))),,R$18),"")} | S21: {=IFERROR(INDEX(_xlfn.UNIQUE(TRIM(_xlfn.TEXTSPLIT(Table9[[#This Row],[Selection Option]:[Selection Option]],","))),,S$18),"")} | T21: {=IFERROR(INDEX(_xlfn.UNIQUE(TRIM(_xlfn.TEXTSPLIT(Table9[[#This Row],[Selection Option]:[Selection Option]],","))),,T$18),"")} | U21: {=IFERROR(INDEX(_xlfn.UNIQUE(TRIM(_xlfn.TEXTSPLIT(Table9[[#This Row],[Selection Option]:[Selection Option]],","))),,U$18),"")} | ... X21: {=IFERROR(INDEX(_xlfn.UNIQUE(TRIM(_xlfn.TEXTSPLIT(Table9[[#This Row],[Selection Option]:[Selection Option]],","))),,X$18),"")} | Y21: {=IF(Table9[[#This Row],[1]]="","",Table9[[#This Row],[Weight]:[Weight]]-(Table9[[#This Row],[Weight]:[Weight]]*((_xlfn.XMATCH(Table9[[#This Row],[1]],Table9[[#This Row],[1]:[11]],0))-1)/(COUNTA(Table9[[#This Row],[1]:[11]])-COUNTBLANK(Table9[[#This Row],[1]:[11]])-1)))} -> 0.13333333 | Z21: {=IF(Table9[[#This Row],[2]]="","",Table9[[#This Row],[Weight]:[Weight]]-(Table9[[#This Row],[Weight]:[Weight]]*((_xlfn.XMATCH(Table9[[#This Row],[2]],Table9[[#This Row],[1]:[11]],0))-1)/(COUNTA(Table9[[#This Row],[1]:[11]])-COUNTBLANK(Table9[[#This Row],[1]:[11]])-1)))} -> 0.088888889 | AA21: {=IF(Table9[[#This Row],[3]]="","",Table9[[#This Row],[Weight]:[Weight]]-(Table9[[#This Row],[Weight]:[Weight]]*((_xlfn.XMATCH(Table9[[#This Row],[3]],Table9[[#This Row],[1]:[11]],0))-1)/(COUNTA(Table9[[#This Row],[1]:[11]])-COUNTBLANK(Table9[[#This Row],[1]:[11]])-1)))} -> 0.044444444 | AB21: {=IF(Table9[[#This Row],[4]]="","",Table9[[#This Row],[Weight]:[Weight]]-(Table9[[#This Row],[Weight]:[Weight]]*((_xlfn.XMATCH(Table9[[#This Row],[4]],Table9[[#This Row],[1]:[11]],0))-1)/(COUNTA(Table9[[#This Row],[1]:[11]])-COUNTBLANK(Table9[[#This Row],[1]:[11]])-1)))} -> 0 | AC21: {=IF(Table9[[#This Row],[5]]="","",Table9[[#This Row],[Weight]:[Weight]]-(Table9[[#This Row],[Weight]:[Weight]]*((_xlfn.XMATCH(Table9[[#This Row],[5]],Table9[[#This Row],[1]:[11]],0))-1)/(COUNTA(Table9[[#This Row],[1]:[11]])-COUNTBLANK(Table9[[#This Row],[1]:[11]])-1)))} | AD21: {=IF(Table9[[#This Row],[6]]="","",Table9[[#This Row],[Weight]:[Weight]]-(Table9[[#This Row],[Weight]:[Weight]]*((_xlfn.XMATCH(Table9[[#This Row],[6]],Table9[[#This Row],[1]:[11]],0))-1)/(COUNTA(Table9[[#This Row],[1]:[11]])-COUNTBLANK(Table9[[#This Row],[1]:[11]])-1)))} | AE21: {=IF(Table9[[#This Row],[7]]="","",Table9[[#This Row],[Weight]:[Weight]]-(Table9[[#This Row],[Weight]:[Weight]]*((_xlfn.XMATCH(Table9[[#This Row],[7]],Table9[[#This Row],[1]:[11]],0))-1)/(COUNTA(Table9[[#This Row],[1]:[11]])-COUNTBLANK(Table9[[#This Row],[1]:[11]])-1)))} | AF21: {=IF(Table9[[#This Row],[8]]="","",Table9[[#This Row],[Weight]:[Weight]]-(Table9[[#This Row],[Weight]:[Weight]]*((_xlfn.XMATCH(Table9[[#This Row],[8]],Table9[[#This Row],[1]:[11]],0))-1)/(COUNTA(Table9[[#This Row],[1]:[11]])-COUNTBLANK(Table9[[#This Row],[1]:[11]])-1)))} | AG21: {=IF(Table9[[#This Row],[9]]="","",Table9[[#This Row],[Weight]:[Weight]]-(Table9[[#This Row],[Weight]:[Weight]]*((_xlfn.XMATCH(Table9[[#This Row],[9]],Table9[[#This Row],[1]:[11]],0))-1)/(COUNTA(Table9[[#This Row],[1]:[11]])-COUNTBLANK(Table9[[#This Row],[1]:[11]])-1)))} | AH21: {=IF(Table9[[#This Row],[10]]="","",Table9[[#This Row],[Weight]:[Weight]]-(Table9[[#This Row],[Weight]:[Weight]]*((_xlfn.XMATCH(Table9[[#This Row],[10]],Table9[[#This Row],[1]:[11]],0))-1)/(COUNTA(Table9[[#This Row],[1]:[11]])-COUNTBLANK(Table9[[#This Row],[1]:[11]])-1)))} | AI21: {=IF(Table9[[#This Row],[11]]="","",Table9[[#This Row],[Weight]:[Weight]]-(Table9[[#This Row],[Weight]:[Weight]]*((_xlfn.XMATCH(Table9[[#This Row],[11]],Table9[[#This Row],[1]:[11]],0))-1)/(COUNTA(Table9[[#This Row],[1]:[11]])-COUNTBLANK(Table9[[#This Row],[1]:[11]])-1)))}
A24: Demonstration tab
B25: The demonstration tab has important notes to vendors in rows 10 to 13, read these and edit as required by your criteria and evaluation plan. After editing, there must not be any blue text remaining. If a requirement was evaluated during the desktop evaluation, it may be evaluated again at the demo if there is a need to see/verify the information. The demonstration duration agreed to must be strictly adhered to for all vendors for fairness.

Sheet Response Guidelines
B2: Tenderer to take note of the following key instructions:
B5: Technical Evaluation Guidelines
B7: * | C7: Complete ALL the worksheets listed below.
C8: Scoring Summary (Gatekeeper questions)
C9: Gatekeepers
C10: Key Requirements
C11: Functional
C12: Non-Functional
C13: Integration
C14: Testing
C15: Security
C16: Demonstration
B18: *
B22: Reference Information
B24: * | C24: Definitions and Abbreviations | D24: Provides information on the definitions and abbreviations used in the Evaluation workbook.

Sheet Scoring Summary
B2: Tender Number: | C2: <insert before tender publication>
B3: Transaction Description: | C3: Assurance Data Analytics
B4: Evaluated Tenderer's Registered Name: | C4: <Evaluator to complete>
B5: Evaluator Name and Surname: | C5: <Evaluator to complete> | D5: Eskom Group Technology: Technical Evaluation Criteria
B6: Date of Evaluation | C6: <Evaluator to complete> | D6: Scoring Summary
B7: Evaluator Signature | D7: Ver 7.x (DRAFT)
B9: Gatekeeper Evaluation | C9: Tick to indicate if there are gatekeepers for this assessment: | E9: FALSE
C10: =IF(AND(E9,'Gatekeepers remove'!F8=1),"Pass","") | D10: =IF(AND(E9,'Gatekeepers remove'!F8<>1),"Fail ("&TEXT('Gatekeepers remove'!F8,"0,0%")&")","") | E10: =IF(AND(E9,SUM(COUNTIF(Table1[Scoring],"Pass"),COUNTIF(Table1[Scoring],"Fail"))<>(COUNTA(Table1[Scoring])+COUNTBLANK(Table1[Scoring]))),"Incomplete response","")
B12: Desktop Evaluation Scoring Summary
B13: Evaluation Category | C13: Weight | D13: Threshold | E13: Score
B14: Key Requirements | C14: 0.25 | E14: ='Key Requirements'!L11 -> 0.25
B15: Functional | C15: 0.4 | E15: =Functional!L21 -> 0.4
B16: Non-Functional | C16: 0.15 | E16: ='Non-Functional'!L11 -> 0.15
B17: Cloud | E17: =Cloud!L11 -> 0
B18: Integration | E18: ='Integration remove'!L11 -> 0
B19: Testing | E19: ='Testing remove'!L11 -> 0
B20: Security | C20: 0.2 | E20: =Security!L11 -> 0.2
B21: Total | C21: =SUM(C14:C20) -> 1 | D21: 0.7 | E21: =SUM(E14:E20) -> 1
B23: Demonstration Scoring Summary
B24: Demonstration | C24: Weight | D24: Threshold | E24: Score
B25: Demonstration | C25: 1 | D25: 0.8 | E25: =Demo!J12 -> 0

Sheet Key Requirements
B2: Tender Number: | C2: <insert before tender publication> | E2: Eskom Group Technology: Technical Evaluation Criteria
B3: Transaction Description: | C3: Assurance Data Analytics
B4: Evaluated Tenderer's Registered Name: | C4: <Evaluator to complete> | E4: Key Requirements
B5: Evaluator Name and Surname: | C5: <Evaluator to complete>
B6: Date of Evaluation | C6: <Evaluator to complete>
B7: Evaluator Signature
B10: Technical Requirements | D10: Vendor Responses | F10: Evaluator Scores
F11: ='Scoring Summary'!C14 -> 0.25 | G11: =SUM(Table24[Priority]) -> 13 | H11: =SUM(Table24[Weight]) -> 0.25 | K11: Sectional Score: | L11: =SUM(Table24[Score]) -> 0.25 | N11: 1 | O11: 2 | P11: 3 | Q11: 4 | R11: 5 | S11: 6 | T11: 7 | U11: 8 | V11: 9 | W11: 10 | X11: 11 | Y11: 12 | Z11: 13 | AA11: 14 | AB11: 15 | AC11: 16 | AD11: 17 | AE11: 18 | AF11: 19 | AG11: 20 | AH11: 21 | AI11: 22
A12: Item# | B12: Business requirements | C12: Mandatory Returnables - This column lists the mandatory evidence to be provided by the vendor in the technical file and numbered to align with each criteria question. | D12: Vendor Response: Vendor to indicate if, and to what extent they meet the requirement, detail must be provided in the tender submission | E12: Vendor Evidence: Location of Supporting Document/detailed response in your tender submission (state the file number, section & page number) | F12: Priority Description | G12: Priority | H12: Weight | I12: Selection Option | J12: Option Score | K12: Evaluators Response (SELECT) | L12: Score | M12: Evaluator comments | N12: 1 | O12: 2 | P12: 3 | Q12: 4 | R12: 5 | S12: 6 | T12: 7 | U12: 8 | V12: 9 | W12: 10 | X12: 11 | Y12: 12 | Z12: 13 | AA12: 14 | AB12: 15 | AC12: 16 | AD12: 17 | AE12: 18 | AF12: 19 | AG12: 20 | AH12: 21 | AI12: 22
A13: 1 | B13: Tenderer must have prior or past experience in implementation of Assurance Data Analytics software and solutions. | C13: Evidence required: In your response provide a letter/certificate with a company letter head as evidence confirming this from at least two of your clients where the solution was implemented. The letters must have a contact person & contact details. | E13: <Example for how to complete this column: Technical File, section 5 (company background section), page 11> | F13: Critical | G13: {=_xlfn.IFS(F13="","",F13="No interest",0,F13="Nice to have",1,F13="Useful",2,F13="Important",3,F13="Very important",4,F13="Critical",5,F13="Show stopper",6)} -> 5 | H13: =(G13/$G$11)*$F$11 -> 0.096153846 | I13: 1. Fully compliant, 2. Not compliant | J13: {=_xlfn.TEXTJOIN(" "&CHAR(10),,TEXT(SUBSTITUTE(Table24[[#This Row],[12]:[22]],".",","),"0,00%"))} -> 0,0961538461538462 0,00% | K13: 1. Fully compliant | L13: =H13-(H13*((MATCH(Table24[[#This Row],[Evaluators Response (SELECT)]],Table24[[#This Row],[1]:[11]],0)-1)/(COUNTA(Table24[[#This Row],[1]:[11]])-COUNTBLANK(Table24[[#This Row],[1]:[11]])-1))) -> 0.096153846 | N13: {=IFERROR(INDEX(_xlfn.UNIQUE(TRIM(_xlfn.TEXTSPLIT(Table24[[#This Row],[Selection Option]:[Selection Option]],","))),,N$11),"")} -> 1. Fully compliant | O13: {=IFERROR(INDEX(_xlfn.UNIQUE(TRIM(_xlfn.TEXTSPLIT(Table24[[#This Row],[Selection Option]:[Selection Option]],","))),,O$11),"")} -> 2. Not compliant | P13: {=IFERROR(INDEX(_xlfn.UNIQUE(TRIM(_xlfn.TEXTSPLIT(Table24[[#This Row],[Selection Option]:[Selection Option]],","))),,P$11),"")} | Q13: {=IFERROR(INDEX(_xlfn.UNIQUE(TRIM(_xlfn.TEXTSPLIT(Table24[[#This Row],[Selection Option]:[Selection Option]],","))),,Q$11),"")} | R13: {=IFERROR(INDEX(_xlfn.UNIQUE(TRIM(_xlfn.TEXTSPLIT(Table24[[#This Row],[Selection Option]:[Selection Option]],","))),,R$11),"")} | S13: {=IFERROR(INDEX(_xlfn.UNIQUE(TRIM(_xlfn.TEXTSPLIT(Table24[[#This Row],[Selection Option]:[Selection Option]],","))),,S$11),"")} | T13: {=IFERROR(INDEX(_xlfn.UNIQUE(TRIM(_xlfn.TEXTSPLIT(Table24[[#This Row],[Selection Option]:[Selection Option]],","))),,T$11),"")} | U13: {=IFERROR(INDEX(_xlfn.UNIQUE(TRIM(_xlfn.TEXTSPLIT(Table24[[#This Row],[Selection Option]:[Selection Option]],","))),,U$11),"")} | ... X13: {=IFERROR(INDEX(_xlfn.UNIQUE(TRIM(_xlfn.TEXTSPLIT(Table24[[#This Row],[Selection Option]:[Selection Option]],","))),,X$11),"")} | Y13: {=IF(Table24[[#This Row],[1]]="","",Table24[[#This Row],[Weight]:[Weight]]-(Table24[[#This Row],[Weight]:[Weight]]*((_xlfn.XMATCH(Table24[[#This Row],[1]],Table24[[#This Row],[1]:[11]],0))-1)/(COUNTA(Table24[[#This Row],[1]:[11]])-COUNTBLANK(Table24[[#This Row],[1]:[11]])-1)))} -> 0.096153846 | Z13: {=IF(Table24[[#This Row],[2]]="","",Table24[[#This Row],[Weight]:[Weight]]-(Table24[[#This Row],[Weight]:[Weight]]*((_xlfn.XMATCH(Table24[[#This Row],[2]],Table24[[#This Row],[1]:[11]],0))-1)/(COUNTA(Table24[[#This Row],[1]:[11]])-COUNTBLANK(Table24[[#This Row],[1]:[11]])-1)))} -> 0 | AA13: {=IF(Table24[[#This Row],[3]]="","",Table24[[#This Row],[Weight]:[Weight]]-(Table24[[#This Row],[Weight]:[Weight]]*((_xlfn.XMATCH(Table24[[#This Row],[3]],Table24[[#This Row],[1]:[11]],0))-1)/(COUNTA(Table24[[#This Row],[1]:[11]])-COUNTBLANK(Table24[[#This Row],[1]:[11]])-1)))} | AB13: {=IF(Table24[[#This Row],[4]]="","",Table24[[#This Row],[Weight]:[Weight]]-(Table24[[#This Row],[Weight]:[Weight]]*((_xlfn.XMATCH(Table24[[#This Row],[4]],Table24[[#This Row],[1]:[11]],0))-1)/(COUNTA(Table24[[#This Row],[1]:[11]])-COUNTBLANK(Table24[[#This Row],[1]:[11]])-1)))} | AC13: {=IF(Table24[[#This Row],[5]]="","",Table24[[#This Row],[Weight]:[Weight]]-(Table24[[#This Row],[Weight]:[Weight]]*((_xlfn.XMATCH(Table24[[#This Row],[5]],Table24[[#This Row],[1]:[11]],0))-1)/(COUNTA(Table24[[#This Row],[1]:[11]])-COUNTBLANK(Table24[[#This Row],[1]:[11]])-1)))} | AD13: {=IF(Table24[[#This Row],[6]]="","",Table24[[#This Row],[Weight]:[Weight]]-(Table24[[#This Row],[Weight]:[Weight]]*((_xlfn.XMATCH(Table24[[#This Row],[6]],Table24[[#This Row],[1]:[11]],0))-1)/(COUNTA(Table24[[#This Row],[1]:[11]])-COUNTBLANK(Table24[[#This Row],[1]:[11]])-1)))} | AE13: {=IF(Table24[[#This Row],[7]]="","",Table24[[#This Row],[Weight]:[Weight]]-(Table24[[#This Row],[Weight]:[Weight]]*((_xlfn.XMATCH(Table24[[#This Row],[7]],Table24[[#This Row],[1]:[11]],0))-1)/(COUNTA(Table24[[#This Row],[1]:[11]])-COUNTBLANK(Table24[[#This Row],[1]:[11]])-1)))} | AF13: {=IF(Table24[[#This Row],[8]]="","",Table24[[#This Row],[Weight]:[Weight]]-(Table24[[#This Row],[Weight]:[Weight]]*((_xlfn.XMATCH(Table24[[#This Row],[8]],Table24[[#This Row],[1]:[11]],0))-1)/(COUNTA(Table24[[#This Row],[1]:[11]])-COUNTBLANK(Table24[[#This Row],[1]:[11]])-1)))} | AG13: {=IF(Table24[[#This Row],[9]]="","",Table24[[#This Row],[Weight]:[Weight]]-(Table24[[#This Row],[Weight]:[Weight]]*((_xlfn.XMATCH(Table24[[#This Row],[9]],Table24[[#This Row],[1]:[11]],0))-1)/(COUNTA(Table24[[#This Row],[1]:[11]])-COUNTBLANK(Table24[[#This Row],[1]:[11]])-1)))} | AH13: {=IF(Table24[[#This Row],[10]]="","",Table24[[#This Row],[Weight]:[Weight]]-(Table24[[#This Row],[Weight]:[Weight]]*((_xlfn.XMATCH(Table24[[#This Row],[10]],Table24[[#This Row],[1]:[11]],0))-1)/(COUNTA(Table24[[#This Row],[1]:[11]])-COUNTBLANK(Table24[[#This Row],[1]:[11]])-1)))} | AI13: {=IF(Table24[[#This Row],[11]]="","",Table24[[#This Row],[Weight]:[Weight]]-(Table24[[#This Row],[Weight]:[Weight]]*((_xlfn.XMATCH(Table24[[#This Row],[11]],Table24[[#This Row],[1]:[11]],0))-1)/(COUNTA(Table24[[#This Row],[1]:[11]])-COUNTBLANK(Table24[[#This Row],[1]:[11]])-1)))}
A14: 2 | B14: Tenderer to prove that their proposed solution is a cloud native enterprise level product, which can be implemented as a Private Cloud or Secure SaaS in a Data Centre within the Borders of South Africa (alternatively in Europe) and able to service internal Eskom Employees. | C14: Evidence required: 1) In your response provide a letter/certificate as evidence confirming this from at least two of your clients where the solution was implemented. The letters must have a contact person & contact details. 2) Provide a letter, from the Cloud Service Provider(s) confirming that the Assurance Data Analytics Solution and its sensitive Data (including backups, archiving, replication) will be confined to Data Centres within the Borders of South Africa (alternatively in Europe). | E14: <Example for how to complete this column: Technical File, section 5 (company background section), page 11> | F14: Critical | G14: {=_xlfn.IFS(F14="","",F14="No interest",0,F14="Nice to have",1,F14="Useful",2,F14="Important",3,F14="Very important",4,F14="Critical",5,F14="Show stopper",6)} -> 5 | H14: =(G14/$G$11)*$F$11 -> 0.096153846 | I14: 1. Fully compliant, 2. Not compliant | J14: {=_xlfn.TEXTJOIN(" "&CHAR(10),,TEXT(SUBSTITUTE(Table24[[#This Row],[12]:[22]],".",","),"0,00%"))} -> 0,0961538461538462 0,00% | K14: 1. Fully compliant | L14: =H14-(H14*((MATCH(Table24[[#This Row],[Evaluators Response (SELECT)]],Table24[[#This Row],[1]:[11]],0)-1)/(COUNTA(Table24[[#This Row],[1]:[11]])-COUNTBLANK(Table24[[#This Row],[1]:[11]])-1))) -> 0.096153846 | N14: {=IFERROR(INDEX(_xlfn.UNIQUE(TRIM(_xlfn.TEXTSPLIT(Table24[[#This Row],[Selection Option]:[Selection Option]],","))),,N$11),"")} -> 1. Fully compliant | O14: {=IFERROR(INDEX(_xlfn.UNIQUE(TRIM(_xlfn.TEXTSPLIT(Table24[[#This Row],[Selection Option]:[Selection Option]],","))),,O$11),"")} -> 2. Not compliant | P14: {=IFERROR(INDEX(_xlfn.UNIQUE(TRIM(_xlfn.TEXTSPLIT(Table24[[#This Row],[Selection Option]:[Selection Option]],","))),,P$11),"")} | Q14: {=IFERROR(INDEX(_xlfn.UNIQUE(TRIM(_xlfn.TEXTSPLIT(Table24[[#This Row],[Selection Option]:[Selection Option]],","))),,Q$11),"")} | R14: {=IFERROR(INDEX(_xlfn.UNIQUE(TRIM(_xlfn.TEXTSPLIT(Table24[[#This Row],[Selection Option]:[Selection Option]],","))),,R$11),"")} | S14: {=IFERROR(INDEX(_xlfn.UNIQUE(TRIM(_xlfn.TEXTSPLIT(Table24[[#This Row],[Selection Option]:[Selection Option]],","))),,S$11),"")} | T14: {=IFERROR(INDEX(_xlfn.UNIQUE(TRIM(_xlfn.TEXTSPLIT(Table24[[#This Row],[Selection Option]:[Selection Option]],","))),,T$11),"")} | U14: {=IFERROR(INDEX(_xlfn.UNIQUE(TRIM(_xlfn.TEXTSPLIT(Table24[[#This Row],[Selection Option]:[Selection Option]],","))),,U$11),"")} | ... X14: {=IFERROR(INDEX(_xlfn.UNIQUE(TRIM(_xlfn.TEXTSPLIT(Table24[[#This Row],[Selection Option]:[Selection Option]],","))),,X$11),"")} | Y14: {=IF(Table24[[#This Row],[1]]="","",Table24[[#This Row],[Weight]:[Weight]]-(Table24[[#This Row],[Weight]:[Weight]]*((_xlfn.XMATCH(Table24[[#This Row],[1]],Table24[[#This Row],[1]:[11]],0))-1)/(COUNTA(Table24[[#This Row],[1]:[11]])-COUNTBLANK(Table24[[#This Row],[1]:[11]])-1)))} -> 0.096153846 | Z14: {=IF(Table24[[#This Row],[2]]="","",Table24[[#This Row],[Weight]:[Weight]]-(Table24[[#This Row],[Weight]:[Weight]]*((_xlfn.XMATCH(Table24[[#This Row],[2]],Table24[[#This Row],[1]:[11]],0))-1)/(COUNTA(Table24[[#This Row],[1]:[11]])-COUNTBLANK(Table24[[#This Row],[1]:[11]])-1)))} -> 0 | AA14: {=IF(Table24[[#This Row],[3]]="","",Table24[[#This Row],[Weight]:[Weight]]-(Table24[[#This Row],[Weight]:[Weight]]*((_xlfn.XMATCH(Table24[[#This Row],[3]],Table24[[#This Row],[1]:[11]],0))-1)/(COUNTA(Table24[[#This Row],[1]:[11]])-COUNTBLANK(Table24[[#This Row],[1]:[11]])-1)))} | AB14: {=IF(Table24[[#This Row],[4]]="","",Table24[[#This Row],[Weight]:[Weight]]-(Table24[[#This Row],[Weight]:[Weight]]*((_xlfn.XMATCH(Table24[[#This Row],[4]],Table24[[#This Row],[1]:[11]],0))-1)/(COUNTA(Table24[[#This Row],[1]:[11]])-COUNTBLANK(Table24[[#This Row],[1]:[11]])-1)))} | AC14: {=IF(Table24[[#This Row],[5]]="","",Table24[[#This Row],[Weight]:[Weight]]-(Table24[[#This Row],[Weight]:[Weight]]*((_xlfn.XMATCH(Table24[[#This Row],[5]],Table24[[#This Row],[1]:[11]],0))-1)/(COUNTA(Table24[[#This Row],[1]:[11]])-COUNTBLANK(Table24[[#This Row],[1]:[11]])-1)))} | AD14: {=IF(Table24[[#This Row],[6]]="","",Table24[[#This Row],[Weight]:[Weight]]-(Table24[[#This Row],[Weight]:[Weight]]*((_xlfn.XMATCH(Table24[[#This Row],[6]],Table24[[#This Row],[1]:[11]],0))-1)/(COUNTA(Table24[[#This Row],[1]:[11]])-COUNTBLANK(Table24[[#This Row],[1]:[11]])-1)))} | AE14: {=IF(Table24[[#This Row],[7]]="","",Table24[[#This Row],[Weight]:[Weight]]-(Table24[[#This Row],[Weight]:[Weight]]*((_xlfn.XMATCH(Table24[[#This Row],[7]],Table24[[#This Row],[1]:[11]],0))-1)/(COUNTA(Table24[[#This Row],[1]:[11]])-COUNTBLANK(Table24[[#This Row],[1]:[11]])-1)))} | AF14: {=IF(Table24[[#This Row],[8]]="","",Table24[[#This Row],[Weight]:[Weight]]-(Table24[[#This Row],[Weight]:[Weight]]*((_xlfn.XMATCH(Table24[[#This Row],[8]],Table24[[#This Row],[1]:[11]],0))-1)/(COUNTA(Table24[[#This Row],[1]:[11]])-COUNTBLANK(Table24[[#This Row],[1]:[11]])-1)))} | AG14: {=IF(Table24[[#This Row],[9]]="","",Table24[[#This Row],[Weight]:[Weight]]-(Table24[[#This Row],[Weight]:[Weight]]*((_xlfn.XMATCH(Table24[[#This Row],[9]],Table24[[#This Row],[1]:[11]],0))-1)/(COUNTA(Table24[[#This Row],[1]:[11]])-COUNTBLANK(Table24[[#This Row],[1]:[11]])-1)))} | AH14: {=IF(Table24[[#This Row],[10]]="","",Table24[[#This Row],[Weight]:[Weight]]-(Table24[[#This Row],[Weight]:[Weight]]*((_xlfn.XMATCH(Table24[[#This Row],[10]],Table24[[#This Row],[1]:[11]],0))-1)/(COUNTA(Table24[[#This Row],[1]:[11]])-COUNTBLANK(Table24[[#This Row],[1]:[11]])-1)))} | AI14: {=IF(Table24[[#This Row],[11]]="","",Table24[[#This Row],[Weight]:[Weight]]-(Table24[[#This Row],[Weight]:[Weight]]*((_xlfn.XMATCH(Table24[[#This Row],[11]],Table24[[#This Row],[1]:[11]],0))-1)/(COUNTA(Table24[[#This Row],[1]:[11]])-COUNTBLANK(Table24[[#This Row],[1]:[11]])-1)))}
A15: 3 | B15: Tenderer must have local South African based Resources, with proven experience, to Support the Solution and software licenses | C15: Provide a letter, from the Maintenance and Support Service Provider confirming that the Assurance Data Analytics Solution, its Integration and its Data will be supported by local Resources. | E15: <Example for how to complete this column: Technical File, section 5 (company background section), page 11> | F15: Important | G15: {=_xlfn.IFS(F15="","",F15="No interest",0,F15="Nice to have",1,F15="Useful",2,F15="Important",3,F15="Very important",4,F15="Critical",5,F15="Show stopper",6)} -> 3 | H15: =(G15/$G$11)*$F$11 -> 0.057692308 | I15: 1. Fully compliant, 2. Not compliant | J15: {=_xlfn.TEXTJOIN(" "&CHAR(10),,TEXT(SUBSTITUTE(Table24[[#This Row],[12]:[22]],".",","),"0,00%"))} -> 0,0576923076923077 0,00% | K15: 1. Fully compliant | L15: =H15-(H15*((MATCH(Table24[[#This Row],[Evaluators Response (SELECT)]],Table24[[#This Row],[1]:[11]],0)-1)/(COUNTA(Table24[[#This Row],[1]:[11]])-COUNTBLANK(Table24[[#This Row],[1]:[11]])-1))) -> 0.057692308 | N15: {=IFERROR(INDEX(_xlfn.UNIQUE(TRIM(_xlfn.TEXTSPLIT(Table24[[#This Row],[Selection Option]:[Selection Option]],","))),,N$11),"")} -> 1. Fully compliant | O15: {=IFERROR(INDEX(_xlfn.UNIQUE(TRIM(_xlfn.TEXTSPLIT(Table24[[#This Row],[Selection Option]:[Selection Option]],","))),,O$11),"")} -> 2. Not compliant | P15: {=IFERROR(INDEX(_xlfn.UNIQUE(TRIM(_xlfn.TEXTSPLIT(Table24[[#This Row],[Selection Option]:[Selection Option]],","))),,P$11),"")} | Q15: {=IFERROR(INDEX(_xlfn.UNIQUE(TRIM(_xlfn.TEXTSPLIT(Table24[[#This Row],[Selection Option]:[Selection Option]],","))),,Q$11),"")} | R15: {=IFERROR(INDEX(_xlfn.UNIQUE(TRIM(_xlfn.TEXTSPLIT(Table24[[#This Row],[Selection Option]:[Selection Option]],","))),,R$11),"")} | S15: {=IFERROR(INDEX(_xlfn.UNIQUE(TRIM(_xlfn.TEXTSPLIT(Table24[[#This Row],[Selection Option]:[Selection Option]],","))),,S$11),"")} | T15: {=IFERROR(INDEX(_xlfn.UNIQUE(TRIM(_xlfn.TEXTSPLIT(Table24[[#This Row],[Selection Option]:[Selection Option]],","))),,T$11),"")} | U15: {=IFERROR(INDEX(_xlfn.UNIQUE(TRIM(_xlfn.TEXTSPLIT(Table24[[#This Row],[Selection Option]:[Selection Option]],","))),,U$11),"")} | ... X15: {=IFERROR(INDEX(_xlfn.UNIQUE(TRIM(_xlfn.TEXTSPLIT(Table24[[#This Row],[Selection Option]:[Selection Option]],","))),,X$11),"")} | Y15: {=IF(Table24[[#This Row],[1]]="","",Table24[[#This Row],[Weight]:[Weight]]-(Table24[[#This Row],[Weight]:[Weight]]*((_xlfn.XMATCH(Table24[[#This Row],[1]],Table24[[#This Row],[1]:[11]],0))-1)/(COUNTA(Table24[[#This Row],[1]:[11]])-COUNTBLANK(Table24[[#This Row],[1]:[11]])-1)))} -> 0.057692308 | Z15: {=IF(Table24[[#This Row],[2]]="","",Table24[[#This Row],[Weight]:[Weight]]-(Table24[[#This Row],[Weight]:[Weight]]*((_xlfn.XMATCH(Table24[[#This Row],[2]],Table24[[#This Row],[1]:[11]],0))-1)/(COUNTA(Table24[[#This Row],[1]:[11]])-COUNTBLANK(Table24[[#This Row],[1]:[11]])-1)))} -> 0 | AA15: {=IF(Table24[[#This Row],[3]]="","",Table24[[#This Row],[Weight]:[Weight]]-(Table24[[#This Row],[Weight]:[Weight]]*((_xlfn.XMATCH(Table24[[#This Row],[3]],Table24[[#This Row],[1]:[11]],0))-1)/(COUNTA(Table24[[#This Row],[1]:[11]])-COUNTBLANK(Table24[[#This Row],[1]:[11]])-1)))} | AB15: {=IF(Table24[[#This Row],[4]]="","",Table24[[#This Row],[Weight]:[Weight]]-(Table24[[#This Row],[Weight]:[Weight]]*((_xlfn.XMATCH(Table24[[#This Row],[4]],Table24[[#This Row],[1]:[11]],0))-1)/(COUNTA(Table24[[#This Row],[1]:[11]])-COUNTBLANK(Table24[[#This Row],[1]:[11]])-1)))} | AC15: {=IF(Table24[[#This Row],[5]]="","",Table24[[#This Row],[Weight]:[Weight]]-(Table24[[#This Row],[Weight]:[Weight]]*((_xlfn.XMATCH(Table24[[#This Row],[5]],Table24[[#This Row],[1]:[11]],0))-1)/(COUNTA(Table24[[#This Row],[1]:[11]])-COUNTBLANK(Table24[[#This Row],[1]:[11]])-1)))} | AD15: {=IF(Table24[[#This Row],[6]]="","",Table24[[#This Row],[Weight]:[Weight]]-(Table24[[#This Row],[Weight]:[Weight]]*((_xlfn.XMATCH(Table24[[#This Row],[6]],Table24[[#This Row],[1]:[11]],0))-1)/(COUNTA(Table24[[#This Row],[1]:[11]])-COUNTBLANK(Table24[[#This Row],[1]:[11]])-1)))} | AE15: {=IF(Table24[[#This Row],[7]]="","",Table24[[#This Row],[Weight]:[Weight]]-(Table24[[#This Row],[Weight]:[Weight]]*((_xlfn.XMATCH(Table24[[#This Row],[7]],Table24[[#This Row],[1]:[11]],0))-1)/(COUNTA(Table24[[#This Row],[1]:[11]])-COUNTBLANK(Table24[[#This Row],[1]:[11]])-1)))} | AF15: {=IF(Table24[[#This Row],[8]]="","",Table24[[#This Row],[Weight]:[Weight]]-(Table24[[#This Row],[Weight]:[Weight]]*((_xlfn.XMATCH(Table24[[#This Row],[8]],Table24[[#This Row],[1]:[11]],0))-1)/(COUNTA(Table24[[#This Row],[1]:[11]])-COUNTBLANK(Table24[[#This Row],[1]:[11]])-1)))} | AG15: {=IF(Table24[[#This Row],[9]]="","",Table24[[#This Row],[Weight]:[Weight]]-(Table24[[#This Row],[Weight]:[Weight]]*((_xlfn.XMATCH(Table24[[#This Row],[9]],Table24[[#This Row],[1]:[11]],0))-1)/(COUNTA(Table24[[#This Row],[1]:[11]])-COUNTBLANK(Table24[[#This Row],[1]:[11]])-1)))} | AH15: {=IF(Table24[[#This Row],[10]]="","",Table24[[#This Row],[Weight]:[Weight]]-(Table24[[#This Row],[Weight]:[Weight]]*((_xlfn.XMATCH(Table24[[#This Row],[10]],Table24[[#This Row],[1]:[11]],0))-1)/(COUNTA(Table24[[#This Row],[1]:[11]])-COUNTBLANK(Table24[[#This Row],[1]:[11]])-1)))} | AI15: {=IF(Table24[[#This Row],[11]]="","",Table24[[#This Row],[Weight]:[Weight]]-(Table24[[#This Row],[Weight]:[Weight]]*((_xlfn.XMATCH(Table24[[#This Row],[11]],Table24[[#This Row],[1]:[11]],0))-1)/(COUNTA(Table24[[#This Row],[1]:[11]])-COUNTBLANK(Table24[[#This Row],[1]:[11]])-1)))}

Sheet Functional
B2: Tender Number: | C2: <insert before tender publication> | E2: Eskom Group Technology: Technical Evaluation Criteria
B3: Transaction Description: | C3: <insert before tender publication>
B4: Evaluated Tenderer's Registered Name: | C4: <Evaluator to complete> | E4: Functional
B5: Evaluator Name and Surname: | C5: <Evaluator to complete>
B6: Date of Evaluation | C6: <Evaluator to complete>
B7: Evaluator Signature
B11: Tender Number: | C11: <insert before tender publication> | E11: Eskom Group Technology: Technical Evaluation Criteria
B12: Transaction Description: | C12: Assurance Data Analytics
B13: Evaluated Tenderer's Registered Name: | C13: <Evaluator to complete> | E13: Functional
B14: Evaluator Name and Surname: | C14: <Evaluator to complete>
B15: Date of Evaluation | C15: <Evaluator to complete>
B16: Evaluator Signature
B19: Technical Requirements | D19: Vendor Responses | F19: Evaluator Scores
F21: ='Scoring Summary'!C15 -> 0.4 | G21: =SUM(Table2[Priority]) -> 247 | H21: =SUM(Table2[Weight]) -> 0.4 | K21: Sectional Score: | L21: =SUM(Table2[Score]) -> 0.4 | N21: 1 | O21: 2 | P21: 3 | Q21: 4 | R21: 5 | S21: 6 | T21: 7 | U21: 8 | V21: 9 | W21: 10 | X21: 11 | Y21: 12 | Z21: 13 | AA21: 14 | AB21: 15 | AC21: 16 | AD21: 17 | AE21: 18 | AF21: 19 | AG21: 20 | AH21: 21 | AI21: 22
A22: Item# | B22: Business requirements | C22: Mandatory Returnables - This column lists the mandatory evidence to be provided by the vendor in the technical file and numbered to align with each criteria question. | D22: Vendor Response: Vendor to indicate if, and to what extent they meet the requirement, detail must be provided in the tender submission | E22: Vendor Evidence: Location of Supporting Document/detailed response in your tender submission (state the file number, section & page number) | F22: Priority Description | G22: Priority | H22: Weight | I22: Selection Options | J22: Option Score | K22: Evaluators Response (SELECT) | L22: Score | M22: Evaluator comments | N22: 1 | O22: 2 | P22: 3 | Q22: 4 | R22: 5 | S22: 6 | T22: 7 | U22: 8 | V22: 9 | W22: 10 | X22: 11 | Y22: 12 | Z22: 13 | AA22: 14 | AB22: 15 | AC22: 16 | AD22: 17 | AE22: 18 | AF22: 19 | AG22: 20 | AH22: 21 | AI22: 22
A23: Functional 1 | B23: Flexible Data Sourcing • Multi-Source Imports: Ability to import data from diverse file types (CSV, Excel, Dbase, XML, TXT etc). | C23: Demonstrate that the solution has the ability to import data from diverse file types (CSV, Excel, Dbase, XML, TXT etc) | E23: <Example for how to complete this column: Technical File, section 5 (company background section), page 11> | F23: Show stopper | G23: {=_xlfn.IFS(F23="","",F23="No interest",0,F23="Nice to have",1,F23="Useful",2,F23="Important",3,F23="Very important",4,F23="Critical",5,F23="Show stopper",6)} -> 6 | H23: =(G23/$G$21)*$F$21 -> 0.0097165992 | I23: 1. Extensive functionality available, 2. Limited functionality available, 3. Functionality not available | J23: {=_xlfn.TEXTJOIN(" "&CHAR(10),,TEXT(SUBSTITUTE(Table2[[#This Row],[12]:[22]],".",","),"0,00%"))} -> 0,0097165991902834 0,0048582995951417 0,00% | K23: 1. Extensive functionality available | L23: =H23-(H23*((MATCH(Table2[[#This Row],[Evaluators Response (SELECT)]],Table2[[#This Row],[1]:[11]],0)-1)/(COUNTA(Table2[[#This Row],[1]:[11]])-COUNTBLANK(Table2[[#This Row],[1]:[11]])-1))) -> 0.0097165992 | N23: {=IFERROR(INDEX(_xlfn.UNIQUE(TRIM(_xlfn.TEXTSPLIT(Table2[[#This Row],[Selection Options]:[Selection Options]],","))),,N$21),"")} -> 1. Extensive functionality available | O23: {=IFERROR(INDEX(_xlfn.UNIQUE(TRIM(_xlfn.TEXTSPLIT(Table2[[#This Row],[Selection Options]:[Selection Options]],","))),,O$21),"")} -> 2. Limited functionality available | P23: {=IFERROR(INDEX(_xlfn.UNIQUE(TRIM(_xlfn.TEXTSPLIT(Table2[[#This Row],[Selection Options]:[Selection Options]],","))),,P$21),"")} -> 3. Functionality not available | Q23: {=IFERROR(INDEX(_xlfn.UNIQUE(TRIM(_xlfn.TEXTSPLIT(Table2[[#This Row],[Selection Options]:[Selection Options]],","))),,Q$21),"")} | R23: {=IFERROR(INDEX(_xlfn.UNIQUE(TRIM(_xlfn.TEXTSPLIT(Table2[[#This Row],[Selection Options]:[Selection Options]],","))),,R$21),"")} | S23: {=IFERROR(INDEX(_xlfn.UNIQUE(TRIM(_xlfn.TEXTSPLIT(Table2[[#This Row],[Selection Options]:[Selection Options]],","))),,S$21),"")} | T23: {=IFERROR(INDEX(_xlfn.UNIQUE(TRIM(_xlfn.TEXTSPLIT(Table2[[#This Row],[Selection Options]:[Selection Options]],","))),,T$21),"")} | U23: {=IFERROR(INDEX(_xlfn.UNIQUE(TRIM(_xlfn.TEXTSPLIT(Table2[[#This Row],[Selection Options]:[Selection Options]],","))),,U$21),"")} | ... X23: {=IFERROR(INDEX(_xlfn.UNIQUE(TRIM(_xlfn.TEXTSPLIT(Table2[[#This Row],[Selection Options]:[Selection Options]],","))),,X$21),"")} | Y23: {=IF(Table2[[#This Row],[1]]="","",Table2[[#This Row],[Weight]:[Weight]]-(Table2[[#This Row],[Weight]:[Weight]]*((_xlfn.XMATCH(Table2[[#This Row],[1]],Table2[[#This Row],[1]:[11]],0))-1)/(COUNTA(Table2[[#This Row],[1]:[11]])-COUNTBLANK(Table2[[#This Row],[1]:[11]])-1)))} -> 0.0097165992 | Z23: {=IF(Table2[[#This Row],[2]]="","",Table2[[#This Row],[Weight]:[Weight]]-(Table2[[#This Row],[Weight]:[Weight]]*((_xlfn.XMATCH(Table2[[#This Row],[2]],Table2[[#This Row],[1]:[11]],0))-1)/(COUNTA(Table2[[#This Row],[1]:[11]])-COUNTBLANK(Table2[[#This Row],[1]:[11]])-1)))} -> 0.0048582996 | AA23: {=IF(Table2[[#This Row],[3]]="","",Table2[[#This Row],[Weight]:[Weight]]-(Table2[[#This Row],[Weight]:[Weight]]*((_xlfn.XMATCH(Table2[[#This Row],[3]],Table2[[#This Row],[1]:[11]],0))-1)/(COUNTA(Table2[[#This Row],[1]:[11]])-COUNTBLANK(Table2[[#This Row],[1]:[11]])-1)))} -> 0 | AB23: {=IF(Table2[[#This Row],[4]]="","",Table2[[#This Row],[Weight]:[Weight]]-(Table2[[#This Row],[Weight]:[Weight]]*((_xlfn.XMATCH(Table2[[#This Row],[4]],Table2[[#This Row],[1]:[11]],0))-1)/(COUNTA(Table2[[#This Row],[1]:[11]])-COUNTBLANK(Table2[[#This Row],[1]:[11]])-1)))} | AC23: {=IF(Table2[[#This Row],[5]]="","",Table2[[#This Row],[Weight]:[Weight]]-(Table2[[#This Row],[Weight]:[Weight]]*((_xlfn.XMATCH(Table2[[#This Row],[5]],Table2[[#This Row],[1]:[11]],0))-1)/(COUNTA(Table2[[#This Row],[1]:[11]])-COUNTBLANK(Table2[[#This Row],[1]:[11]])-1)))} | AD23: {=IF(Table2[[#This Row],[6]]="","",Table2[[#This Row],[Weight]:[Weight]]-(Table2[[#This Row],[Weight]:[Weight]]*((_xlfn.XMATCH(Table2[[#This Row],[6]],Table2[[#This Row],[1]:[11]],0))-1)/(COUNTA(Table2[[#This Row],[1]:[11]])-COUNTBLANK(Table2[[#This Row],[1]:[11]])-1)))} | AE23: {=IF(Table2[[#This Row],[7]]="","",Table2[[#This Row],[Weight]:[Weight]]-(Table2[[#This Row],[Weight]:[Weight]]*((_xlfn.XMATCH(Table2[[#This Row],[7]],Table2[[#This Row],[1]:[11]],0))-1)/(COUNTA(Table2[[#This Row],[1]:[11]])-COUNTBLANK(Table2[[#This Row],[1]:[11]])-1)))} | AF23: {=IF(Table2[[#This Row],[8]]="","",Table2[[#This Row],[Weight]:[Weight]]-(Table2[[#This Row],[Weight]:[Weight]]*((_xlfn.XMATCH(Table2[[#This Row],[8]],Table2[[#This Row],[1]:[11]],0))-1)/(COUNTA(Table2[[#This Row],[1]:[11]])-COUNTBLANK(Table2[[#This Row],[1]:[11]])-1)))} | AG23: {=IF(Table2[[#This Row],[9]]="","",Table2[[#This Row],[Weight]:[Weight]]-(Table2[[#This Row],[Weight]:[Weight]]*((_xlfn.XMATCH(Table2[[#This Row],[9]],Table2[[#This Row],[1]:[11]],0))-1)/(COUNTA(Table2[[#This Row],[1]:[11]])-COUNTBLANK(Table2[[#This Row],[1]:[11]])-1)))} | AH23: {=IF(Table2[[#This Row],[10]]="","",Table2[[#This Row],[Weight]:[Weight]]-(Table2[[#This Row],[Weight]:[Weight]]*((_xlfn.XMATCH(Table2[[#This Row],[10]],Table2[[#This Row],[1]:[11]],0))-1)/(COUNTA(Table2[[#This Row],[1]:[11]])-COUNTBLANK(Table2[[#This Row],[1]:[11]])-1)))} | AI23: {=IF(Table2[[#This Row],[11]]="","",Table2[[#This Row],[Weight]:[Weight]]-(Table2[[#This Row],[Weight]:[Weight]]*((_xlfn.XMATCH(Table2[[#This Row],[11]],Table2[[#This Row],[1]:[11]],0))-1)/(COUNTA(Table2[[#This Row],[1]:[11]])-COUNTBLANK(Table2[[#This Row],[1]:[11]])-1)))}
A24: Functional 2 | B24: Flexible Data Sourcing • Multi-Source Connectivity: Securely connect and integrate with ERP systems (such as SAP, Oracle, and Microsoft Dynamics), relational databases (including SQL Server, PostgreSQL, and MySQL), and cloud storage platforms (like Azure Blob, AWS S3, and Google Cloud Storage). | C24: Demonstrate that the solution has the ability to securely connect and integrate with ERP systems (such as SAP, Oracle, and Microsoft Dynamics), relational databases (including SQL Server, PostgreSQL, and MySQL), and cloud storage platforms (like Azure Blob, AWS S3, and Google Cloud Storage) | E24: <Example for how to complete this column: Technical File, section 5 (company background section), page 11> | F24: Show stopper | G24: {=_xlfn.IFS(F24="","",F24="No interest",0,F24="Nice to have",1,F24="Useful",2,F24="Important",3,F24="Very important",4,F24="Critical",5,F24="Show stopper",6)} -> 6 | H24: =(G24/$G$21)*$F$21 -> 0.0097165992 | I24: 1. Extensive functionality available, 2. Limited functionality available, 3. Functionality not available | J24: {=_xlfn.TEXTJOIN(" "&CHAR(10),,TEXT(SUBSTITUTE(Table2[[#This Row],[12]:[22]],".",","),"0,00%"))} -> 0,0097165991902834 0,0048582995951417 0,00% | K24: 1. Extensive functionality available | L24: =H24-(H24*((MATCH(Table2[[#This Row],[Evaluators Response (SELECT)]],Table2[[#This Row],[1]:[11]],0)-1)/(COUNTA(Table2[[#This Row],[1]:[11]])-COUNTBLANK(Table2[[#This Row],[1]:[11]])-1))) -> 0.0097165992 | N24: {=IFERROR(INDEX(_xlfn.UNIQUE(TRIM(_xlfn.TEXTSPLIT(Table2[[#This Row],[Selection Options]:[Selection Options]],","))),,N$21),"")} -> 1. Extensive functionality available | O24: {=IFERROR(INDEX(_xlfn.UNIQUE(TRIM(_xlfn.TEXTSPLIT(Table2[[#This Row],[Selection Options]:[Selection Options]],","))),,O$21),"")} -> 2. Limited functionality available | P24: {=IFERROR(INDEX(_xlfn.UNIQUE(TRIM(_xlfn.TEXTSPLIT(Table2[[#This Row],[Selection Options]:[Selection Options]],","))),,P$21),"")} -> 3. Functionality not available | Q24: {=IFERROR(INDEX(_xlfn.UNIQUE(TRIM(_xlfn.TEXTSPLIT(Table2[[#This Row],[Selection Options]:[Selection Options]],","))),,Q$21),"")} | R24: {=IFERROR(INDEX(_xlfn.UNIQUE(TRIM(_xlfn.TEXTSPLIT(Table2[[#This Row],[Selection Options]:[Selection Options]],","))),,R$21),"")} | S24: {=IFERROR(INDEX(_xlfn.UNIQUE(TRIM(_xlfn.TEXTSPLIT(Table2[[#This Row],[Selection Options]:[Selection Options]],","))),,S$21),"")} | T24: {=IFERROR(INDEX(_xlfn.UNIQUE(TRIM(_xlfn.TEXTSPLIT(Table2[[#This Row],[Selection Options]:[Selection Options]],","))),,T$21),"")} | U24: {=IFERROR(INDEX(_xlfn.UNIQUE(TRIM(_xlfn.TEXTSPLIT(Table2[[#This Row],[Selection Options]:[Selection Options]],","))),,U$21),"")} | ... X24: {=IFERROR(INDEX(_xlfn.UNIQUE(TRIM(_xlfn.TEXTSPLIT(Table2[[#This Row],[Selection Options]:[Selection Options]],","))),,X$21),"")} | Y24: {=IF(Table2[[#This Row],[1]]="","",Table2[[#This Row],[Weight]:[Weight]]-(Table2[[#This Row],[Weight]:[Weight]]*((_xlfn.XMATCH(Table2[[#This Row],[1]],Table2[[#This Row],[1]:[11]],0))-1)/(COUNTA(Table2[[#This Row],[1]:[11]])-COUNTBLANK(Table2[[#This Row],[1]:[11]])-1)))} -> 0.0097165992 | Z24: {=IF(Table2[[#This Row],[2]]="","",Table2[[#This Row],[Weight]:[Weight]]-(Table2[[#This Row],[Weight]:[Weight]]*((_xlfn.XMATCH(Table2[[#This Row],[2]],Table2[[#This Row],[1]:[11]],0))-1)/(COUNTA(Table2[[#This Row],[1]:[11]])-COUNTBLANK(Table2[[#This Row],[1]:[11]])-1)))} -> 0.0048582996 | AA24: {=IF(Table2[[#This Row],[3]]="","",Table2[[#This Row],[Weight]:[Weight]]-(Table2[[#This Row],[Weight]:[Weight]]*((_xlfn.XMATCH(Table2[[#This Row],[3]],Table2[[#This Row],[1]:[11]],0))-1)/(COUNTA(Table2[[#This Row],[1]:[11]])-COUNTBLANK(Table2[[#This Row],[1]:[11]])-1)))} -> 0 | AB24: {=IF(Table2[[#This Row],[4]]="","",Table2[[#This Row],[Weight]:[Weight]]-(Table2[[#This Row],[Weight]:[Weight]]*((_xlfn.XMATCH(Table2[[#This Row],[4]],Table2[[#This Row],[1]:[11]],0))-1)/(COUNTA(Table2[[#This Row],[1]:[11]])-COUNTBLANK(Table2[[#This Row],[1]:[11]])-1)))} | AC24: {=IF(Table2[[#This Row],[5]]="","",Table2[[#This Row],[Weight]:[Weight]]-(Table2[[#This Row],[Weight]:[Weight]]*((_xlfn.XMATCH(Table2[[#This Row],[5]],Table2[[#This Row],[1]:[11]],0))-1)/(COUNTA(Table2[[#This Row],[1]:[11]])-COUNTBLANK(Table2[[#This Row],[1]:[11]])-1)))} | AD24: {=IF(Table2[[#This Row],[6]]="","",Table2[[#This Row],[Weight]:[Weight]]-(Table2[[#This Row],[Weight]:[Weight]]*((_xlfn.XMATCH(Table2[[#This Row],[6]],Table2[[#This Row],[1]:[11]],0))-1)/(COUNTA(Table2[[#This Row],[1]:[11]])-COUNTBLANK(Table2[[#This Row],[1]:[11]])-1)))} | AE24: {=IF(Table2[[#This Row],[7]]="","",Table2[[#This Row],[Weight]:[Weight]]-(Table2[[#This Row],[Weight]:[Weight]]*((_xlfn.XMATCH(Table2[[#This Row],[7]],Table2[[#This Row],[1]:[11]],0))-1)/(COUNTA(Table2[[#This Row],[1]:[11]])-COUNTBLANK(Table2[[#This Row],[1]:[11]])-1)))} | AF24: {=IF(Table2[[#This Row],[8]]="","",Table2[[#This Row],[Weight]:[Weight]]-(Table2[[#This Row],[Weight]:[Weight]]*((_xlfn.XMATCH(Table2[[#This Row],[8]],Table2[[#This Row],[1]:[11]],0))-1)/(COUNTA(Table2[[#This Row],[1]:[11]])-COUNTBLANK(Table2[[#This Row],[1]:[11]])-1)))} | AG24: {=IF(Table2[[#This Row],[9]]="","",Table2[[#This Row],[Weight]:[Weight]]-(Table2[[#This Row],[Weight]:[Weight]]*((_xlfn.XMATCH(Table2[[#This Row],[9]],Table2[[#This Row],[1]:[11]],0))-1)/(COUNTA(Table2[[#This Row],[1]:[11]])-COUNTBLANK(Table2[[#This Row],[1]:[11]])-1)))} | AH24: {=IF(Table2[[#This Row],[10]]="","",Table2[[#This Row],[Weight]:[Weight]]-(Table2[[#This Row],[Weight]:[Weight]]*((_xlfn.XMATCH(Table2[[#This Row],[10]],Table2[[#This Row],[1]:[11]],0))-1)/(COUNTA(Table2[[#This Row],[1]:[11]])-COUNTBLANK(Table2[[#This Row],[1]:[11]])-1)))} | AI24: {=IF(Table2[[#This Row],[11]]="","",Table2[[#This Row],[Weight]:[Weight]]-(Table2[[#This Row],[Weight]:[Weight]]*((_xlfn.XMATCH(Table2[[#This Row],[11]],Table2[[#This Row],[1]:[11]],0))-1)/(COUNTA(Table2[[#This Row],[1]:[11]])-COUNTBLANK(Table2[[#This Row],[1]:[11]])-1)))}
A25: Functional 3 | B25: Flexible Data Sourcing • Custom Templates: Support for creating templates for files without fixed structures. | C25: Demonstrate that the solution has the ability to create templates for files without fixed structures | E25: <Example for how to complete this column: Technical File, section 5 (company background section), page 11> | F25: Show stopper | G25: {=_xlfn.IFS(F25="","",F25="No interest",0,F25="Nice to have",1,F25="Useful",2,F25="Important",3,F25="Very important",4,F25="Critical",5,F25="Show stopper",6)} -> 6 | H25: =(G25/$G$21)*$F$21 -> 0.0097165992 | I25: 1. Extensive functionality available, 2. Limited functionality available, 3. Functionality not available | J25: {=_xlfn.TEXTJOIN(" "&CHAR(10),,TEXT(SUBSTITUTE(Table2[[#This Row],[12]:[22]],".",","),"0,00%"))} -> 0,0097165991902834 0,0048582995951417 0,00% | K25: 1. Extensive functionality available | L25: =H25-(H25*((MATCH(Table2[[#This Row],[Evaluators Response (SELECT)]],Table2[[#This Row],[1]:[11]],0)-1)/(COUNTA(Table2[[#This Row],[1]:[11]])-COUNTBLANK(Table2[[#This Row],[1]:[11]])-1))) -> 0.0097165992 | N25: {=IFERROR(INDEX(_xlfn.UNIQUE(TRIM(_xlfn.TEXTSPLIT(Table2[[#This Row],[Selection Options]:[Selection Options]],","))),,N$21),"")} -> 1. Extensive functionality available | O25: {=IFERROR(INDEX(_xlfn.UNIQUE(TRIM(_xlfn.TEXTSPLIT(Table2[[#This Row],[Selection Options]:[Selection Options]],","))),,O$21),"")} -> 2. Limited functionality available | P25: {=IFERROR(INDEX(_xlfn.UNIQUE(TRIM(_xlfn.TEXTSPLIT(Table2[[#This Row],[Selection Options]:[Selection Options]],","))),,P$21),"")} -> 3. Functionality not available | Q25: {=IFERROR(INDEX(_xlfn.UNIQUE(TRIM(_xlfn.TEXTSPLIT(Table2[[#This Row],[Selection Options]:[Selection Options]],","))),,Q$21),"")} | R25: {=IFERROR(INDEX(_xlfn.UNIQUE(TRIM(_xlfn.TEXTSPLIT(Table2[[#This Row],[Selection Options]:[Selection Options]],","))),,R$21),"")} | S25: {=IFERROR(INDEX(_xlfn.UNIQUE(TRIM(_xlfn.TEXTSPLIT(Table2[[#This Row],[Selection Options]:[Selection Options]],","))),,S$21),"")} | T25: {=IFERROR(INDEX(_xlfn.UNIQUE(TRIM(_xlfn.TEXTSPLIT(Table2[[#This Row],[Selection Options]:[Selection Options]],","))),,T$21),"")} | U25: {=IFERROR(INDEX(_xlfn.UNIQUE(TRIM(_xlfn.TEXTSPLIT(Table2[[#This Row],[Selection Options]:[Selection Options]],","))),,U$21),"")} | ... X25: {=IFERROR(INDEX(_xlfn.UNIQUE(TRIM(_xlfn.TEXTSPLIT(Table2[[#This Row],[Selection Options]:[Selection Options]],","))),,X$21),"")} | Y25: {=IF(Table2[[#This Row],[1]]="","",Table2[[#This Row],[Weight]:[Weight]]-(Table2[[#This Row],[Weight]:[Weight]]*((_xlfn.XMATCH(Table2[[#This Row],[1]],Table2[[#This Row],[1]:[11]],0))-1)/(COUNTA(Table2[[#This Row],[1]:[11]])-COUNTBLANK(Table2[[#This Row],[1]:[11]])-1)))} -> 0.0097165992 | Z25: {=IF(Table2[[#This Row],[2]]="","",Table2[[#This Row],[Weight]:[Weight]]-(Table2[[#This Row],[Weight]:[Weight]]*((_xlfn.XMATCH(Table2[[#This Row],[2]],Table2[[#This Row],[1]:[11]],0))-1)/(COUNTA(Table2[[#This Row],[1]:[11]])-COUNTBLANK(Table2[[#This Row],[1]:[11]])-1)))} -> 0.0048582996 | AA25: {=IF(Table2[[#This Row],[3]]="","",Table2[[#This Row],[Weight]:[Weight]]-(Table2[[#This Row],[Weight]:[Weight]]*((_xlfn.XMATCH(Table2[[#This Row],[3]],Table2[[#This Row],[1]:[11]],0))-1)/(COUNTA(Table2[[#This Row],[1]:[11]])-COUNTBLANK(Table2[[#This Row],[1]:[11]])-1)))} -> 0 | AB25: {=IF(Table2[[#This Row],[4]]="","",Table2[[#This Row],[Weight]:[Weight]]-(Table2[[#This Row],[Weight]:[Weight]]*((_xlfn.XMATCH(Table2[[#This Row],[4]],Table2[[#This Row],[1]:[11]],0))-1)/(COUNTA(Table2[[#This Row],[1]:[11]])-COUNTBLANK(Table2[[#This Row],[1]:[11]])-1)))} | AC25: {=IF(Table2[[#This Row],[5]]="","",Table2[[#This Row],[Weight]:[Weight]]-(Table2[[#This Row],[Weight]:[Weight]]*((_xlfn.XMATCH(Table2[[#This Row],[5]],Table2[[#This Row],[1]:[11]],0))-1)/(COUNTA(Table2[[#This Row],[1]:[11]])-COUNTBLANK(Table2[[#This Row],[1]:[11]])-1)))} | AD25: {=IF(Table2[[#This Row],[6]]="","",Table2[[#This Row],[Weight]:[Weight]]-(Table2[[#This Row],[Weight]:[Weight]]*((_xlfn.XMATCH(Table2[[#This Row],[6]],Table2[[#This Row],[1]:[11]],0))-1)/(COUNTA(Table2[[#This Row],[1]:[11]])-COUNTBLANK(Table2[[#This Row],[1]:[11]])-1)))} | AE25: {=IF(Table2[[#This Row],[7]]="","",Table2[[#This Row],[Weight]:[Weight]]-(Table2[[#This Row],[Weight]:[Weight]]*((_xlfn.XMATCH(Table2[[#This Row],[7]],Table2[[#This Row],[1]:[11]],0))-1)/(COUNTA(Table2[[#This Row],[1]:[11]])-COUNTBLANK(Table2[[#This Row],[1]:[11]])-1)))} | AF25: {=IF(Table2[[#This Row],[8]]="","",Table2[[#This Row],[Weight]:[Weight]]-(Table2[[#This Row],[Weight]:[Weight]]*((_xlfn.XMATCH(Table2[[#This Row],[8]],Table2[[#This Row],[1]:[11]],0))-1)/(COUNTA(Table2[[#This Row],[1]:[11]])-COUNTBLANK(Table2[[#This Row],[1]:[11]])-1)))} | AG25: {=IF(Table2[[#This Row],[9]]="","",Table2[[#This Row],[Weight]:[Weight]]-(Table2[[#This Row],[Weight]:[Weight]]*((_xlfn.XMATCH(Table2[[#This Row],[9]],Table2[[#This Row],[1]:[11]],0))-1)/(COUNTA(Table2[[#This Row],[1]:[11]])-COUNTBLANK(Table2[[#This Row],[1]:[11]])-1)))} | AH25: {=IF(Table2[[#This Row],[10]]="","",Table2[[#This Row],[Weight]:[Weight]]-(Table2[[#This Row],[Weight]:[Weight]]*((_xlfn.XMATCH(Table2[[#This Row],[10]],Table2[[#This Row],[1]:[11]],0))-1)/(COUNTA(Table2[[#This Row],[1]:[11]])-COUNTBLANK(Table2[[#This Row],[1]:[11]])-1)))} | AI25: {=IF(Table2[[#This Row],[11]]="","",Table2[[#This Row],[Weight]:[Weight]]-(Table2[[#This Row],[Weight]:[Weight]]*((_xlfn.XMATCH(Table2[[#This Row],[11]],Table2[[#This Row],[1]:[11]],0))-1)/(COUNTA(Table2[[#This Row],[1]:[11]])-COUNTBLANK(Table2[[#This Row],[1]:[11]])-1)))}
