Workbook

Sheet TEC Development Guidelines
B2: This Tab provides guidance to the TET on how the evaluation criteria must be structured and where information can be sourced. Delete this tab before the TEC is published with the RFP.
A3: Response Guidelines
B4: Once all criteria questions are complete revise the response guidelines tab, the information provided is for vendors to understand what is required of them. You may need to rename or adjust the colour coding of the various tabs. Read through all the information removing what is not applicable and adding important information you want vendors to be aware of. The template has one reference sheet (Definitions and Abbreviations) it may be necessary to provide vendors with more reference information, which can be listed here.
A6: Scoring Summary
B7: Gatekeepers are captured here - Gatekeepers are limited to legislative and compliance related criteria only. Desktop evaluations and demonstrations are separate evaluation stages and the scores may not be added together. Ensure each stage has a defined threshold Adjusting the weight for each category on the scoring summary tab will automatically reflect the changes on the respective sheets. Evaluators scores in each category will also automatically pull through to this sheet The EL must check the formulas to ensure all are working correctly before evaluations begin.
A9: Functional Tab
B10: The functional evaluation specifically seeks to evaluate a given proposal/solution against the functional requirements which must listed in the scope of work. The functional requirements can be sourced from the Logical Architecture Design (LAD) where this is applicable. More specifically the Functional Decomposition Model contained within the LAD, lists all the Functional Requirements carefully aligned with industry best practice to ensure complete coverage of the business need. See below the example for the first evaluation criteria.
B11: EXAMPLE for #1
B13: Business Requirement Specification Statement (from the BRS) | C13: "The displayed image needs to be flicker free" | E13: These statements are developed by a business analyst while engaging with the business in their own language.
B15: Functional Business Requirement (from the Logical Design/Functional Decomposition Model) | C15: The screen refresh rate should be 60 fps or higher | E15: These statements are developed by an architect, which is based on the BRS & designed to be purely functional with a view to use for evaluation, mapping & other analyses.
B17: Technical Requirements | D17: Vendor Responses | F17: Evaluator Scores
F18: 0.2 | G18: =SUM(Table9[Priority]) -> 9 | H18: =SUM(Table9[Weight]) -> 0.2 | K18: Sectional Score: | L18: =SUM(Table24[Score]) -> 0.25 | N18: 1 | O18: 2 | P18: 3 | Q18: 4 | R18: 5 | S18: 6 | T18: 7 | U18: 8 | V18: 9 | W18: 10 | X18: 11 | Y18: 12 | Z18: 13 | AA18: 14 | AB18: 15 | AC18: 16 | AD18: 17 | AE18: 18 | AF18: 19 | AG18: 20 | AH18: 21 | AI18: 22
A19: Intem# | B19: Business requirements | C19: Mandatory Returnables - This colunm lists the mandotory evidence to be provided by the vendor in the technical file and numbered to align with each criteria question. | D19: Vendor Response: Vendor to indicate if, and to what extent they meet the requirement, detail must be provided in the tender submission | E19: Vendor Evidence: Location of Supporting Document/detailed response in your tender submission (state the file number, section & page number) | F19: Priority Description | G19: Priority | H19: Weight | I19: Selection Option | J19: Option Score | K19: Evaluators Response (SELECT) | L19: Score | M19: Evaluator comments | N19: 1 | O19: 2 | P19: 3 | Q19: 4 | R19: 5 | S19: 6 | T19: 7 | U19: 8 | V19: 9 | W19: 10 | X19: 11 | Y19: 12 | Z19: 13 | AA19: 14 | AB19: 15 | AC19: 16 | AD19: 17 | AE19: 18 | AF19: 19 | AG19: 20 | AH19: 21 | AI19: 22
A20: 1 | B20: Eskom requires an application with a screen refresh rate of 60 fps or higher. (This is the actual evaluation criteria against which the response is being judged - in this example it specifically quantifies how to determine if the screen will be flicker free & smooth i.e. the lower the refresh rate of the screen the worse screen flicker will be evident to the end-user) | C20: In your technical response indicate the screen refresh rate and provide a technical specification as evidence of the refresh rate. Note this may also be requested to be physically demonstrated later in the RFP process. | E20: <Example for how to complete this column: Technical File, section 5 (company background section), page 11> | F20: Important | G20: {=_xlfn.IFS(F20="","",F20="No interest",0,F20="Nice to have",1,F20="Useful",2,F20="Important",3,F20="Very important",4,F20="Critical",5,F20="Show stopper",6)} -> 3 | H20: =(G20/$G$18)*$F$18 -> 0.066666667 | I20: Refresh rate >=60, Refresh rate <60 | J20: {=_xlfn.TEXTJOIN(","&CHAR(10),,TEXT(Table9[[#This Row],[12]:[22]],"0,00%"))} -> 0,07%, 0,00% | K20: Refresh rate >=60 | L20: =H20-(H20*((MATCH(Table24[[#This Row],[Evaluators Response (SELECT)]],Table24[[#This Row],[1]:[11]],0)-1)/(COUNTA(Table24[[#This Row],[1]:[11]])-COUNTBLANK(Table24[[#This Row],[1]:[11]])-1))) -> #VALUE! | N20: {=IFERROR(INDEX(_xlfn.UNIQUE(TRIM(_xlfn.TEXTSPLIT(Table9[[#This Row],[Selection Option]:[Selection Option]],","))),,N$18),"")} -> Refresh rate >=60 | O20: {=IFERROR(INDEX(_xlfn.UNIQUE(TRIM(_xlfn.TEXTSPLIT(Table9[[#This Row],[Selection Option]:[Selection Option]],","))),,O$18),"")} -> Refresh rate <60 | P20: {=IFERROR(INDEX(_xlfn.UNIQUE(TRIM(_xlfn.TEXTSPLIT(Table9[[#This Row],[Selection Option]:[Selection Option]],","))),,P$18),"")} | Q20: {=IFERROR(INDEX(_xlfn.UNIQUE(TRIM(_xlfn.TEXTSPLIT(Table9[[#This Row],[Selection Option]:[Selection Option]],","))),,Q$18),"")} | R20: {=IFERROR(INDEX(_xlfn.UNIQUE(TRIM(_xlfn.TEXTSPLIT(Table9[[#This Row],[Selection Option]:[Selection Option]],","))),,R$18),"")} | S20: {=IFERROR(INDEX(_xlfn.UNIQUE(TRIM(_xlfn.TEXTSPLIT(Table9[[#This Row],[Selection Option]:[Selection Option]],","))),,S$18),"")} | T20: {=IFERROR(INDEX(_xlfn.UNIQUE(TRIM(_xlfn.TEXTSPLIT(Table9[[#This Row],[Selection Option]:[Selection Option]],","))),,T$18),"")} | U20: {=IFERROR(INDEX(_xlfn.UNIQUE(TRIM(_xlfn.TEXTSPLIT(Table9[[#This Row],[Selection Option]:[Selection Option]],","))),,U$18),"")} | ... X20: {=IFERROR(INDEX(_xlfn.UNIQUE(TRIM(_xlfn.TEXTSPLIT(Table9[[#This Row],[Selection Option]:[Selection Option]],","))),,X$18),"")} | Y20: {=IF(Table9[[#This Row],[1]]="","",Table9[[#This Row],[Weight]:[Weight]]-(Table9[[#This Row],[Weight]:[Weight]]*((_xlfn.XMATCH(Table9[[#This Row],[1]],Table9[[#This Row],[1]:[11]],0))-1)/(COUNTA(Table9[[#This Row],[1]:[11]])-COUNTBLANK(Table9[[#This Row],[1]:[11]])-1)))} -> 0.066666667 | Z20: {=IF(Table9[[#This Row],[2]]="","",Table9[[#This Row],[Weight]:[Weight]]-(Table9[[#This Row],[Weight]:[Weight]]*((_xlfn.XMATCH(Table9[[#This Row],[2]],Table9[[#This Row],[1]:[11]],0))-1)/(COUNTA(Table9[[#This Row],[1]:[11]])-COUNTBLANK(Table9[[#This Row],[1]:[11]])-1)))} -> 0 | AA20: {=IF(Table9[[#This Row],[3]]="","",Table9[[#This Row],[Weight]:[Weight]]-(Table9[[#This Row],[Weight]:[Weight]]*((_xlfn.XMATCH(Table9[[#This Row],[3]],Table9[[#This Row],[1]:[11]],0))-1)/(COUNTA(Table9[[#This Row],[1]:[11]])-COUNTBLANK(Table9[[#This Row],[1]:[11]])-1)))} | AB20: {=IF(Table9[[#This Row],[4]]="","",Table9[[#This Row],[Weight]:[Weight]]-(Table9[[#This Row],[Weight]:[Weight]]*((_xlfn.XMATCH(Table9[[#This Row],[4]],Table9[[#This Row],[1]:[11]],0))-1)/(COUNTA(Table9[[#This Row],[1]:[11]])-COUNTBLANK(Table9[[#This Row],[1]:[11]])-1)))} | AC20: {=IF(Table9[[#This Row],[5]]="","",Table9[[#This Row],[Weight]:[Weight]]-(Table9[[#This Row],[Weight]:[Weight]]*((_xlfn.XMATCH(Table9[[#This Row],[5]],Table9[[#This Row],[1]:[11]],0))-1)/(COUNTA(Table9[[#This Row],[1]:[11]])-COUNTBLANK(Table9[[#This Row],[1]:[11]])-1)))} | AD20: {=IF(Table9[[#This Row],[6]]="","",Table9[[#This Row],[Weight]:[Weight]]-(Table9[[#This Row],[Weight]:[Weight]]*((_xlfn.XMATCH(Table9[[#This Row],[6]],Table9[[#This Row],[1]:[11]],0))-1)/(COUNTA(Table9[[#This Row],[1]:[11]])-COUNTBLANK(Table9[[#This Row],[1]:[11]])-1)))} | AE20: {=IF(Table9[[#This Row],[7]]="","",Table9[[#This Row],[Weight]:[Weight]]-(Table9[[#This Row],[Weight]:[Weight]]*((_xlfn.XMATCH(Table9[[#This Row],[7]],Table9[[#This Row],[1]:[11]],0))-1)/(COUNTA(Table9[[#This Row],[1]:[11]])-COUNTBLANK(Table9[[#This Row],[1]:[11]])-1)))} | AF20: {=IF(Table9[[#This Row],[8]]="","",Table9[[#This Row],[Weight]:[Weight]]-(Table9[[#This Row],[Weight]:[Weight]]*((_xlfn.XMATCH(Table9[[#This Row],[8]],Table9[[#This Row],[1]:[11]],0))-1)/(COUNTA(Table9[[#This Row],[1]:[11]])-COUNTBLANK(Table9[[#This Row],[1]:[11]])-1)))} | AG20: {=IF(Table9[[#This Row],[9]]="","",Table9[[#This Row],[Weight]:[Weight]]-(Table9[[#This Row],[Weight]:[Weight]]*((_xlfn.XMATCH(Table9[[#This Row],[9]],Table9[[#This Row],[1]:[11]],0))-1)/(COUNTA(Table9[[#This Row],[1]:[11]])-COUNTBLANK(Table9[[#This Row],[1]:[11]])-1)))} | AH20: {=IF(Table9[[#This Row],[10]]="","",Table9[[#This Row],[Weight]:[Weight]]-(Table9[[#This Row],[Weight]:[Weight]]*((_xlfn.XMATCH(Table9[[#This Row],[10]],Table9[[#This Row],[1]:[11]],0))-1)/(COUNTA(Table9[[#This Row],[1]:[11]])-COUNTBLANK(Table9[[#This Row],[1]:[11]])-1)))} | AI20: {=IF(Table9[[#This Row],[11]]="","",Table9[[#This Row],[Weight]:[Weight]]-(Table9[[#This Row],[Weight]:[Weight]]*((_xlfn.XMATCH(Table9[[#This Row],[11]],Table9[[#This Row],[1]:[11]],0))-1)/(COUNTA(Table9[[#This Row],[1]:[11]])-COUNTBLANK(Table9[[#This Row],[1]:[11]])-1)))}
A21: 2 | C21: Appendix G | F21: Show stopper | G21: {=_xlfn.IFS(F21="","",F21="No interest",0,F21="Nice to have",1,F21="Useful",2,F21="Important",3,F21="Very important",4,F21="Critical",5,F21="Show stopper",6)} -> 6 | H21: =(G21/$G$18)*$F$18 -> 0.13333333 | I21: abc, klm, pqr, xyz | J21: {=_xlfn.TEXTJOIN(","&CHAR(10),,TEXT(Table9[[#This Row],[12]:[22]],"0,00%"))} -> 0,13%, 0,09%, 0,04%, 0,00% | K21: pqr | L21: =H21-(H21*((MATCH(Table24[[#This Row],[Evaluators Response (SELECT)]],Table24[[#This Row],[1]:[11]],0)-1)/(COUNTA(Table24[[#This Row],[1]:[11]])-COUNTBLANK(Table24[[#This Row],[1]:[11]])-1))) -> #VALUE! | N21: {=IFERROR(INDEX(_xlfn.UNIQUE(TRIM(_xlfn.TEXTSPLIT(Table9[[#This Row],[Selection Option]:[Selection Option]],","))),,N$18),"")} -> abc | O21: {=IFERROR(INDEX(_xlfn.UNIQUE(TRIM(_xlfn.TEXTSPLIT(Table9[[#This Row],[Selection Option]:[Selection Option]],","))),,O$18),"")} -> klm | P21: {=IFERROR(INDEX(_xlfn.UNIQUE(TRIM(_xlfn.TEXTSPLIT(Table9[[#This Row],[Selection Option]:[Selection Option]],","))),,P$18),"")} -> pqr | Q21: {=IFERROR(INDEX(_xlfn.UNIQUE(TRIM(_xlfn.TEXTSPLIT(Table9[[#This Row],[Selection Option]:[Selection Option]],","))),,Q$18),"")} -> xyz | R21: {=IFERROR(INDEX(_xlfn.UNIQUE(TRIM(_xlfn.TEXTSPLIT(Table9[[#This Row],[Selection Option]:[Selection Option]],","))),,R$18),"")} | S21: {=IFERROR(INDEX(_xlfn.UNIQUE(TRIM(_xlfn.TEXTSPLIT(Table9[[#This Row],[Selection Option]:[Selection Option]],","))),,S$18),"")} | T21: {=IFERROR(INDEX(_xlfn.UNIQUE(TRIM(_xlfn.TEXTSPLIT(Table9[[#This Row],[Selection Option]:[Selection Option]],","))),,T$18),"")} | U21: {=IFERROR(INDEX(_xlfn.UNIQUE(TRIM(_xlfn.TEXTSPLIT(Table9[[#This Row],[Selection Option]:[Selection Option]],","))),,U$18),"")} | ... X21: {=IFERROR(INDEX(_xlfn.UNIQUE(TRIM(_xlfn.TEXTSPLIT(Table9[[#This Row],[Selection Option]:[Selection Option]],","))),,X$18),"")} | Y21: {=IF(Table9[[#This Row],[1]]="","",Table9[[#This Row],[Weight]:[Weight]]-(Table9[[#This Row],[Weight]:[Weight]]*((_xlfn.XMATCH(Table9[[#This Row],[1]],Table9[[#This Row],[1]:[11]],0))-1)/(COUNTA(Table9[[#This Row],[1]:[11]])-COUNTBLANK(Table9[[#This Row],[1]:[11]])-1)))} -> 0.13333333 | Z21: {=IF(Table9[[#This Row],[2]]="","",Table9[[#This Row],[Weight]:[Weight]]-(Table9[[#This Row],[Weight]:[Weight]]*((_xlfn.XMATCH(Table9[[#This Row],[2]],Table9[[#This Row],[1]:[11]],0))-1)/(COUNTA(Table9[[#This Row],[1]:[11]])-COUNTBLANK(Table9[[#This Row],[1]:[11]])-1)))} -> 0.088888889 | AA21: {=IF(Table9[[#This Row],[3]]="","",Table9[[#This Row],[Weight]:[Weight]]-(Table9[[#This Row],[Weight]:[Weight]]*((_xlfn.XMATCH(Table9[[#This Row],[3]],Table9[[#This Row],[1]:[11]],0))-1)/(COUNTA(Table9[[#This Row],[1]:[11]])-COUNTBLANK(Table9[[#This Row],[1]:[11]])-1)))} -> 0.044444444 | AB21: {=IF(Table9[[#This Row],[4]]="","",Table9[[#This Row],[Weight]:[Weight]]-(Table9[[#This Row],[Weight]:[Weight]]*((_xlfn.XMATCH(Table9[[#This Row],[4]],Table9[[#This Row],[1]:[11]],0))-1)/(COUNTA(Table9[[#This Row],[1]:[11]])-COUNTBLANK(Table9[[#This Row],[1]:[11]])-1)))} -> 0 | AC21: {=IF(Table9[[#This Row],[5]]="","",Table9[[#This Row],[Weight]:[Weight]]-(Table9[[#This Row],[Weight]:[Weight]]*((_xlfn.XMATCH(Table9[[#This Row],[5]],Table9[[#This Row],[1]:[11]],0))-1)/(COUNTA(Table9[[#This Row],[1]:[11]])-COUNTBLANK(Table9[[#This Row],[1]:[11]])-1)))} | AD21: {=IF(Table9[[#This Row],[6]]="","",Table9[[#This Row],[Weight]:[Weight]]-(Table9[[#This Row],[Weight]:[Weight]]*((_xlfn.XMATCH(Table9[[#This Row],[6]],Table9[[#This Row],[1]:[11]],0))-1)/(COUNTA(Table9[[#This Row],[1]:[11]])-COUNTBLANK(Table9[[#This Row],[1]:[11]])-1)))} | AE21: {=IF(Table9[[#This Row],[7]]="","",Table9[[#This Row],[Weight]:[Weight]]-(Table9[[#This Row],[Weight]:[Weight]]*((_xlfn.XMATCH(Table9[[#This Row],[7]],Table9[[#This Row],[1]:[11]],0))-1)/(COUNTA(Table9[[#This Row],[1]:[11]])-COUNTBLANK(Table9[[#This Row],[1]:[11]])-1)))} | AF21: {=IF(Table9[[#This Row],[8]]="","",Table9[[#This Row],[Weight]:[Weight]]-(Table9[[#This Row],[Weight]:[Weight]]*((_xlfn.XMATCH(Table9[[#This Row],[8]],Table9[[#This Row],[1]:[11]],0))-1)/(COUNTA(Table9[[#This Row],[1]:[11]])-COUNTBLANK(Table9[[#This Row],[1]:[11]])-1)))} | AG21: {=IF(Table9[[#This Row],[9]]="","",Table9[[#This Row],[Weight]:[Weight]]-(Table9[[#This Row],[Weight]:[Weight]]*((_xlfn.XMATCH(Table9[[#This Row],[9]],Table9[[#This Row],[1]:[11]],0))-1)/(COUNTA(Table9[[#This Row],[1]:[11]])-COUNTBLANK(Table9[[#This Row],[1]:[11]])-1)))} | AH21: {=IF(Table9[[#This Row],[10]]="","",Table9[[#This Row],[Weight]:[Weight]]-(Table9[[#This Row],[Weight]:[Weight]]*((_xlfn.XMATCH(Table9[[#This Row],[10]],Table9[[#This Row],[1]:[11]],0))-1)/(COUNTA(Table9[[#This Row],[1]:[11]])-COUNTBLANK(Table9[[#This Row],[1]:[11]])-1)))} | AI21: {=IF(Table9[[#This Row],[11]]="","",Table9[[#This Row],[Weight]:[Weight]]-(Table9[[#This Row],[Weight]:[Weight]]*((_xlfn.XMATCH(Table9[[#This Row],[11]],Table9[[#This Row],[1]:[11]],0))-1)/(COUNTA(Table9[[#This Row],[1]:[11]])-COUNTBLANK(Table9[[#This Row],[1]:[11]])-1)))}
A24: Demonstration tab
B25: The demonstration tab has important notes to vendors in rows 10 to 13, read these and edit as required by your criteria and evaluation plan. After editing, there must not be any blue text remaining. If a requirement was evaluated during the desktop evaluation, it may be evaluated again at the demo if there is a need to see/verify the information. The demonstration duration agreed to must be strictly adhered to for all vendors for fairness.

Sheet Response Guidelines
B2: Tenderer to take note of the following key instructions:
B5: Technical Evaluation Guidelines
B7: * | C7: Complete ALL the worksheets listed below.
C8: Scoring Summary (Gatekeeper questions)
C9: Gatekeepers
C10: Key Requirements
C11: Functional
C12: Non-Functional
C13: Integration
C14: Testing
C15: Security
C16: Demonstration
B18: *
B22: Reference Information
B24: * | C24: Definitions and Abbreviations | D24: Provides information on the definitions and abbreviations used in the Evaluation workbook.

Sheet Scoring Summary
B2: Tender Number: | C2: <insert before tender publication>
B3: Transaction Description: | C3: Assurance Data Analytics
B4: Evaluated Tenderer's Registered Name: | C4: <Evaluator to complete>
B5: Evaluator Name and Surname: | C5: <Evaluator to complete> | D5: Eskom Group Technology: Technical Evaluation Criteria
B6: Date of Evaluation | C6: <Evaluator to complete> | D6: Scoring Summary
B7: Evaluator Signature | D7: Ver 7.x (DRAFT)
B9: Gatekeeper Evaluation | C9: Tick to indicate if there are gatekeepers for this assessment: | E9: FALSE
C10: =IF(AND(E9,'Gatekeepers remove'!F8=1),"Pass","") | D10: =IF(AND(E9,'Gatekeepers remove'!F8<>1),"Fail ("&TEXT('Gatekeepers remove'!F8,"0,0%")&")","") | E10: =IF(AND(E9,SUM(COUNTIF(Table1[Scoring],"Pass"),COUNTIF(Table1[Scoring],"Fail"))<>(COUNTA(Table1[Scoring])+COUNTBLANK(Table1[Scoring]))),"Incomplete response","")
B12: Desktop Evaluation Scoring Summary
B13: Evaluation Category | C13: Weight | D13: Threshold | E13: Score
B14: Key Requirements | C14: 0.25 | E14: ='Key Requirements'!L11 -> 0.25
B15: Functional | C15: 0.4 | E15: =Functional!L21 -> 0.4
B16: Non-Functional | C16: 0.15 | E16: ='Non-Functional'!L11 -> 0.15
B17: Cloud | E17: =Cloud!L11 -> 0
B18: Integration | E18: ='Integration remove'!L11 -> 0
B19: Testing | E19: ='Testing remove'!L11 -> 0
B20: Security | C20: 0.2 | E20: =Security!L11 -> 0.2
B21: Total | C21: =SUM(C14:C20) -> 1 | D21: 0.7 | E21: =SUM(E14:E20) -> 1
B23: Demonstration Scoring Summary
B24: Demonstration | C24: Weight | D24: Threshold | E24: Score
B25: Demonstration | C25: 1 | D25: 0.8 | E25: =Demo!J12 -> 0

Sheet Key Requirements
B2: Tender Number: | C2: <insert before tender publication> | E2: Eskom Group Technology: Technical Evaluation Criteria
B3: Transaction Description: | C3: Assurance Data Analytics
B4: Evaluated Tenderer's Registered Name: | C4: <Evaluator to complete> | E4: Key Requirements
B5: Evaluator Name and Surname: | C5: <Evaluator to complete>
B6: Date of Evaluation | C6: <Evaluator to complete>
B7: Evaluator Signature
B10: Technical Requirements | D10: Vendor Responses | F10: Evaluator Scores
F11: ='Scoring Summary'!C14 -> 0.25 | G11: =SUM(Table24[Priority]) -> 13 | H11: =SUM(Table24[Weight]) -> 0.25 | K11: Sectional Score: | L11: =SUM(Table24[Score]) -> 0.25 | N11: 1 | O11: 2 | P11: 3 | Q11: 4 | R11: 5 | S11: 6 | T11: 7 | U11: 8 | V11: 9 | W11: 10 | X11: 11 | Y11: 12 | Z11: 13 | AA11: 14 | AB11: 15 | AC11: 16 | AD11: 17 | AE11: 18 | AF11: 19 | AG11: 20 | AH11: 21 | AI11: 22
A12: Item# | B12: Business requirements | C12: Mandatory Returnables - This column lists the mandatory evidence to be provided by the vendor in the technical file and numbered to align with each criteria question. | D12: Vendor Response: Vendor to indicate if, and to what extent they meet the requirement, detail must be provided in the tender submission | E12: Vendor Evidence: Location of Supporting Document/detailed response in your tender submission (state the file number, section & page number) | F12: Priority Description | G12: Priority | H12: Weight | I12: Selection Option | J12: Option Score | K12: Evaluators Response (SELECT) | L12: Score | M12: Evaluator comments | N12: 1 | O12: 2 | P12: 3 | Q12: 4 | R12: 5 | S12: 6 | T12: 7 | U12: 8 | V12: 9 | W12: 10 | X12: 11 | Y12: 12 | Z12: 13 | AA12: 14 | AB12: 15 | AC12: 16 | AD12: 17 | AE12: 18 | AF12: 19 | AG12: 20 | AH12: 21 | AI12: 22
A13: 1 | B13: Tenderer must have prior or past experience in implementation of Assurance Data Analytics software and solutions. | C13: Evidence required: In your response provide a letter/certificate with a company letter head as evidence confirming this from at least two of your clients where the solution was implemented. The letters must have a contact person & contact details. | E13: <Example for how to complete this column: Technical File, section 5 (company background section), page 11> | F13: Critical | G13: {=_xlfn.IFS(F13="","",F13="No interest",0,F13="Nice to have",1,F13="Useful",2,F13="Important",3,F13="Very important",4,F13="Critical",5,F13="Show stopper",6)} -> 5 | H13: =(G13/$G$11)*$F$11 -> 0.096153846 | I13: 1. Fully compliant, 2. Not compliant | J13: {=_xlfn.TEXTJOIN(" "&CHAR(10),,TEXT(SUBSTITUTE(Table24[[#This Row],[12]:[22]],".",","),"0,00%"))} -> 0,0961538461538462 0,00% | K13: 1. Fully compliant | L13: =H13-(H13*((MATCH(Table24[[#This Row],[Evaluators Response (SELECT)]],Table24[[#This Row],[1]:[11]],0)-1)/(COUNTA(Table24[[#This Row],[1]:[11]])-COUNTBLANK(Table24[[#This Row],[1]:[11]])-1))) -> 0.096153846 | N13: {=IFERROR(INDEX(_xlfn.UNIQUE(TRIM(_xlfn.TEXTSPLIT(Table24[[#This Row],[Selection Option]:[Selection Option]],","))),,N$11),"")} -> 1. Fully compliant | O13: {=IFERROR(INDEX(_xlfn.UNIQUE(TRIM(_xlfn.TEXTSPLIT(Table24[[#This Row],[Selection Option]:[Selection Option]],","))),,O$11),"")} -> 2. Not compliant | P13: {=IFERROR(INDEX(_xlfn.UNIQUE(TRIM(_xlfn.TEXTSPLIT(Table24[[#This Row],[Selection Option]:[Selection Option]],","))),,P$11),"")} | Q13: {=IFERROR(INDEX(_xlfn.UNIQUE(TRIM(_xlfn.TEXTSPLIT(Table24[[#This Row],[Selection Option]:[Selection Option]],","))),,Q$11),"")} | R13: {=IFERROR(INDEX(_xlfn.UNIQUE(TRIM(_xlfn.TEXTSPLIT(Table24[[#This Row],[Selection Option]:[Selection Option]],","))),,R$11),"")} | S13: {=IFERROR(INDEX(_xlfn.UNIQUE(TRIM(_xlfn.TEXTSPLIT(Table24[[#This Row],[Selection Option]:[Selection Option]],","))),,S$11),"")} | T13: {=IFERROR(INDEX(_xlfn.UNIQUE(TRIM(_xlfn.TEXTSPLIT(Table24[[#This Row],[Selection Option]:[Selection Option]],","))),,T$11),"")} | U13: {=IFERROR(INDEX(_xlfn.UNIQUE(TRIM(_xlfn.TEXTSPLIT(Table24[[#This Row],[Selection Option]:[Selection Option]],","))),,U$11),"")} | ... X13: {=IFERROR(INDEX(_xlfn.UNIQUE(TRIM(_xlfn.TEXTSPLIT(Table24[[#This Row],[Selection Option]:[Selection Option]],","))),,X$11),"")} | Y13: {=IF(Table24[[#This Row],[1]]="","",Table24[[#This Row],[Weight]:[Weight]]-(Table24[[#This Row],[Weight]:[Weight]]*((_xlfn.XMATCH(Table24[[#This Row],[1]],Table24[[#This Row],[1]:[11]],0))-1)/(COUNTA(Table24[[#This Row],[1]:[11]])-COUNTBLANK(Table24[[#This Row],[1]:[11]])-1)))} -> 0.096153846 | Z13: {=IF(Table24[[#This Row],[2]]="","",Table24[[#This Row],[Weight]:[Weight]]-(Table24[[#This Row],[Weight]:[Weight]]*((_xlfn.XMATCH(Table24[[#This Row],[2]],Table24[[#This Row],[1]:[11]],0))-1)/(COUNTA(Table24[[#This Row],[1]:[11]])-COUNTBLANK(Table24[[#This Row],[1]:[11]])-1)))} -> 0 | AA13: {=IF(Table24[[#This Row],[3]]="","",Table24[[#This Row],[Weight]:[Weight]]-(Table24[[#This Row],[Weight]:[Weight]]*((_xlfn.XMATCH(Table24[[#This Row],[3]],Table24[[#This Row],[1]:[11]],0))-1)/(COUNTA(Table24[[#This Row],[1]:[11]])-COUNTBLANK(Table24[[#This Row],[1]:[11]])-1)))} | AB13: {=IF(Table24[[#This Row],[4]]="","",Table24[[#This Row],[Weight]:[Weight]]-(Table24[[#This Row],[Weight]:[Weight]]*((_xlfn.XMATCH(Table24[[#This Row],[4]],Table24[[#This Row],[1]:[11]],0))-1)/(COUNTA(Table24[[#This Row],[1]:[11]])-COUNTBLANK(Table24[[#This Row],[1]:[11]])-1)))} | AC13: {=IF(Table24[[#This Row],[5]]="","",Table24[[#This Row],[Weight]:[Weight]]-(Table24[[#This Row],[Weight]:[Weight]]*((_xlfn.XMATCH(Table24[[#This Row],[5]],Table24[[#This Row],[1]:[11]],0))-1)/(COUNTA(Table24[[#This Row],[1]:[11]])-COUNTBLANK(Table24[[#This Row],[1]:[11]])-1)))} | AD13: {=IF(Table24[[#This Row],[6]]="","",Table24[[#This Row],[Weight]:[Weight]]-(Table24[[#This Row],[Weight]:[Weight]]*((_xlfn.XMATCH(Table24[[#This Row],[6]],Table24[[#This Row],[1]:[11]],0))-1)/(COUNTA(Table24[[#This Row],[1]:[11]])-COUNTBLANK(Table24[[#This Row],[1]:[11]])-1)))} | AE13: {=IF(Table24[[#This Row],[7]]="","",Table24[[#This Row],[Weight]:[Weight]]-(Table24[[#This Row],[Weight]:[Weight]]*((_xlfn.XMATCH(Table24[[#This Row],[7]],Table24[[#This Row],[1]:[11]],0))-1)/(COUNTA(Table24[[#This Row],[1]:[11]])-COUNTBLANK(Table24[[#This Row],[1]:[11]])-1)))} | AF13: {=IF(Table24[[#This Row],[8]]="","",Table24[[#This Row],[Weight]:[Weight]]-(Table24[[#This Row],[Weight]:[Weight]]*((_xlfn.XMATCH(Table24[[#This Row],[8]],Table24[[#This Row],[1]:[11]],0))-1)/(COUNTA(Table24[[#This Row],[1]:[11]])-COUNTBLANK(Table24[[#This Row],[1]:[11]])-1)))} | AG13: {=IF(Table24[[#This Row],[9]]="","",Table24[[#This Row],[Weight]:[Weight]]-(Table24[[#This Row],[Weight]:[Weight]]*((_xlfn.XMATCH(Table24[[#This Row],[9]],Table24[[#This Row],[1]:[11]],0))-1)/(COUNTA(Table24[[#This Row],[1]:[11]])-COUNTBLANK(Table24[[#This Row],[1]:[11]])-1)))} | AH13: {=IF(Table24[[#This Row],[10]]="","",Table24[[#This Row],[Weight]:[Weight]]-(Table24[[#This Row],[Weight]:[Weight]]*((_xlfn.XMATCH(Table24[[#This Row],[10]],Table24[[#This Row],[1]:[11]],0))-1)/(COUNTA(Table24[[#This Row],[1]:[11]])-COUNTBLANK(Table24[[#This Row],[1]:[11]])-1)))} | AI13: {=IF(Table24[[#This Row],[11]]="","",Table24[[#This Row],[Weight]:[Weight]]-(Table24[[#This Row],[Weight]:[Weight]]*((_xlfn.XMATCH(Table24[[#This Row],[11]],Table24[[#This Row],[1]:[11]],0))-1)/(COUNTA(Table24[[#This Row],[1]:[11]])-COUNTBLANK(Table24[[#This Row],[1]:[11]])-1)))}
A14: 2 | B14: Tenderer to prove that their proposed solution is a cloud native enterprise level product, which can be implemented as a Private Cloud or Secure SaaS in a Data Centre within the Borders of South Africa (alternatively in Europe) and able to service internal Eskom Employees. | C14: Evidence required: 1) In your response provide a letter/certificate as evidence confirming this from at least two of your clients where the solution was implemented. The letters must have a contact person & contact details. 2) Provide a letter, from the Cloud Service Provider(s) confirming that the Assurance Data Analytics Solution and its sensitive Data (including backups, archiving, replication) will be confined to Data Centres within the Borders of South Africa (alternatively in Europe). | E14: <Example for how to complete this column: Technical File, section 5 (company background section), page 11> | F14: Critical | G14: {=_xlfn.IFS(F14="","",F14="No interest",0,F14="Nice to have",1,F14="Useful",2,F14="Important",3,F14="Very important",4,F14="Critical",5,F14="Show stopper",6)} -> 5 | H14: =(G14/$G$11)*$F$11 -> 0.096153846 | I14: 1. Fully compliant, 2. Not compliant | J14: {=_xlfn.TEXTJOIN(" "&CHAR(10),,TEXT(SUBSTITUTE(Table24[[#This Row],[12]:[22]],".",","),"0,00%"))} -> 0,0961538461538462 0,00% | K14: 1. Fully compliant | L14: =H14-(H14*((MATCH(Table24[[#This Row],[Evaluators Response (SELECT)]],Table24[[#This Row],[1]:[11]],0)-1)/(COUNTA(Table24[[#This Row],[1]:[11]])-COUNTBLANK(Table24[[#This Row],[1]:[11]])-1))) -> 0.096153846 | N14: {=IFERROR(INDEX(_xlfn.UNIQUE(TRIM(_xlfn.TEXTSPLIT(Table24[[#This Row],[Selection Option]:[Selection Option]],","))),,N$11),"")} -> 1. Fully compliant | O14: {=IFERROR(INDEX(_xlfn.UNIQUE(TRIM(_xlfn.TEXTSPLIT(Table24[[#This Row],[Selection Option]:[Selection Option]],","))),,O$11),"")} -> 2. Not compliant | P14: {=IFERROR(INDEX(_xlfn.UNIQUE(TRIM(_xlfn.TEXTSPLIT(Table24[[#This Row],[Selection Option]:[Selection Option]],","))),,P$11),"")} | Q14: {=IFERROR(INDEX(_xlfn.UNIQUE(TRIM(_xlfn.TEXTSPLIT(Table24[[#This Row],[Selection Option]:[Selection Option]],","))),,Q$11),"")} | R14: {=IFERROR(INDEX(_xlfn.UNIQUE(TRIM(_xlfn.TEXTSPLIT(Table24[[#This Row],[Selection Option]:[Selection Option]],","))),,R$11),"")} | S14: {=IFERROR(INDEX(_xlfn.UNIQUE(TRIM(_xlfn.TEXTSPLIT(Table24[[#This Row],[Selection Option]:[Selection Option]],","))),,S$11),"")} | T14: {=IFERROR(INDEX(_xlfn.UNIQUE(TRIM(_xlfn.TEXTSPLIT(Table24[[#This Row],[Selection Option]:[Selection Option]],","))),,T$11),"")} | U14: {=IFERROR(INDEX(_xlfn.UNIQUE(TRIM(_xlfn.TEXTSPLIT(Table24[[#This Row],[Selection Option]:[Selection Option]],","))),,U$11),"")} | ... X14: {=IFERROR(INDEX(_xlfn.UNIQUE(TRIM(_xlfn.TEXTSPLIT(Table24[[#This Row],[Selection Option]:[Selection Option]],","))),,X$11),"")} | Y14: {=IF(Table24[[#This Row],[1]]="","",Table24[[#This Row],[Weight]:[Weight]]-(Table24[[#This Row],[Weight]:[Weight]]*((_xlfn.XMATCH(Table24[[#This Row],[1]],Table24[[#This Row],[1]:[11]],0))-1)/(COUNTA(Table24[[#This Row],[1]:[11]])-COUNTBLANK(Table24[[#This Row],[1]:[11]])-1)))} -> 0.096153846 | Z14: {=IF(Table24[[#This Row],[2]]="","",Table24[[#This Row],[Weight]:[Weight]]-(Table24[[#This Row],[Weight]:[Weight]]*((_xlfn.XMATCH(Table24[[#This Row],[2]],Table24[[#This Row],[1]:[11]],0))-1)/(COUNTA(Table24[[#This Row],[1]:[11]])-COUNTBLANK(Table24[[#This Row],[1]:[11]])-1)))} -> 0 | AA14: {=IF(Table24[[#This Row],[3]]="","",Table24[[#This Row],[Weight]:[Weight]]-(Table24[[#This Row],[Weight]:[Weight]]*((_xlfn.XMATCH(Table24[[#This Row],[3]],Table24[[#This Row],[1]:[11]],0))-1)/(COUNTA(Table24[[#This Row],[1]:[11]])-COUNTBLANK(Table24[[#This Row],[1]:[11]])-1)))} | AB14: {=IF(Table24[[#This Row],[4]]="","",Table24[[#This Row],[Weight]:[Weight]]-(Table24[[#This Row],[Weight]:[Weight]]*((_xlfn.XMATCH(Table24[[#This Row],[4]],Table24[[#This Row],[1]:[11]],0))-1)/(COUNTA(Table24[[#This Row],[1]:[11]])-COUNTBLANK(Table24[[#This Row],[1]:[11]])-1)))} | AC14: {=IF(Table24[[#This Row],[5]]="","",Table24[[#This Row],[Weight]:[Weight]]-(Table24[[#This Row],[Weight]:[Weight]]*((_xlfn.XMATCH(Table24[[#This Row],[5]],Table24[[#This Row],[1]:[11]],0))-1)/(COUNTA(Table24[[#This Row],[1]:[11]])-COUNTBLANK(Table24[[#This Row],[1]:[11]])-1)))} | AD14: {=IF(Table24[[#This Row],[6]]="","",Table24[[#This Row],[Weight]:[Weight]]-(Table24[[#This Row],[Weight]:[Weight]]*((_xlfn.XMATCH(Table24[[#This Row],[6]],Table24[[#This Row],[1]:[11]],0))-1)/(COUNTA(Table24[[#This Row],[1]:[11]])-COUNTBLANK(Table24[[#This Row],[1]:[11]])-1)))} | AE14: {=IF(Table24[[#This Row],[7]]="","",Table24[[#This Row],[Weight]:[Weight]]-(Table24[[#This Row],[Weight]:[Weight]]*((_xlfn.XMATCH(Table24[[#This Row],[7]],Table24[[#This Row],[1]:[11]],0))-1)/(COUNTA(Table24[[#This Row],[1]:[11]])-COUNTBLANK(Table24[[#This Row],[1]:[11]])-1)))} | AF14: {=IF(Table24[[#This Row],[8]]="","",Table24[[#This Row],[Weight]:[Weight]]-(Table24[[#This Row],[Weight]:[Weight]]*((_xlfn.XMATCH(Table24[[#This Row],[8]],Table24[[#This Row],[1]:[11]],0))-1)/(COUNTA(Table24[[#This Row],[1]:[11]])-COUNTBLANK(Table24[[#This Row],[1]:[11]])-1)))} | AG14: {=IF(Table24[[#This Row],[9]]="","",Table24[[#This Row],[Weight]:[Weight]]-(Table24[[#This Row],[Weight]:[Weight]]*((_xlfn.XMATCH(Table24[[#This Row],[9]],Table24[[#This Row],[1]:[11]],0))-1)/(COUNTA(Table24[[#This Row],[1]:[11]])-COUNTBLANK(Table24[[#This Row],[1]:[11]])-1)))} | AH14: {=IF(Table24[[#This Row],[10]]="","",Table24[[#This Row],[Weight]:[Weight]]-(Table24[[#This Row],[Weight]:[Weight]]*((_xlfn.XMATCH(Table24[[#This Row],[10]],Table24[[#This Row],[1]:[11]],0))-1)/(COUNTA(Table24[[#This Row],[1]:[11]])-COUNTBLANK(Table24[[#This Row],[1]:[11]])-1)))} | AI14: {=IF(Table24[[#This Row],[11]]="","",Table24[[#This Row],[Weight]:[Weight]]-(Table24[[#This Row],[Weight]:[Weight]]*((_xlfn.XMATCH(Table24[[#This Row],[11]],Table24[[#This Row],[1]:[11]],0))-1)/(COUNTA(Table24[[#This Row],[1]:[11]])-COUNTBLANK(Table24[[#This Row],[1]:[11]])-1)))}
A15: 3 | B15: Tenderer must have local South African based Resources, with proven experience, to Support the Solution and software licenses | C15: Provide a letter, from the Maintenance and Support Service Provider confirming that the Assurance Data Analytics Solution, its Integration and its Data will be supported by local Resources. | E15: <Example for how to complete this column: Technical File, section 5 (company background section), page 11> | F15: Important | G15: {=_xlfn.IFS(F15="","",F15="No interest",0,F15="Nice to have",1,F15="Useful",2,F15="Important",3,F15="Very important",4,F15="Critical",5,F15="Show stopper",6)} -> 3 | H15: =(G15/$G$11)*$F$11 -> 0.057692308 | I15: 1. Fully compliant, 2. Not compliant | J15: {=_xlfn.TEXTJOIN(" "&CHAR(10),,TEXT(SUBSTITUTE(Table24[[#This Row],[12]:[22]],".",","),"0,00%"))} -> 0,0576923076923077 0,00% | K15: 1. Fully compliant | L15: =H15-(H15*((MATCH(Table24[[#This Row],[Evaluators Response (SELECT)]],Table24[[#This Row],[1]:[11]],0)-1)/(COUNTA(Table24[[#This Row],[1]:[11]])-COUNTBLANK(Table24[[#This Row],[1]:[11]])-1))) -> 0.057692308 | N15: {=IFERROR(INDEX(_xlfn.UNIQUE(TRIM(_xlfn.TEXTSPLIT(Table24[[#This Row],[Selection Option]:[Selection Option]],","))),,N$11),"")} -> 1. Fully compliant | O15: {=IFERROR(INDEX(_xlfn.UNIQUE(TRIM(_xlfn.TEXTSPLIT(Table24[[#This Row],[Selection Option]:[Selection Option]],","))),,O$11),"")} -> 2. Not compliant | P15: {=IFERROR(INDEX(_xlfn.UNIQUE(TRIM(_xlfn.TEXTSPLIT(Table24[[#This Row],[Selection Option]:[Selection Option]],","))),,P$11),"")} | Q15: {=IFERROR(INDEX(_xlfn.UNIQUE(TRIM(_xlfn.TEXTSPLIT(Table24[[#This Row],[Selection Option]:[Selection Option]],","))),,Q$11),"")} | R15: {=IFERROR(INDEX(_xlfn.UNIQUE(TRIM(_xlfn.TEXTSPLIT(Table24[[#This Row],[Selection Option]:[Selection Option]],","))),,R$11),"")} | S15: {=IFERROR(INDEX(_xlfn.UNIQUE(TRIM(_xlfn.TEXTSPLIT(Table24[[#This Row],[Selection Option]:[Selection Option]],","))),,S$11),"")} | T15: {=IFERROR(INDEX(_xlfn.UNIQUE(TRIM(_xlfn.TEXTSPLIT(Table24[[#This Row],[Selection Option]:[Selection Option]],","))),,T$11),"")} | U15: {=IFERROR(INDEX(_xlfn.UNIQUE(TRIM(_xlfn.TEXTSPLIT(Table24[[#This Row],[Selection Option]:[Selection Option]],","))),,U$11),"")} | ... X15: {=IFERROR(INDEX(_xlfn.UNIQUE(TRIM(_xlfn.TEXTSPLIT(Table24[[#This Row],[Selection Option]:[Selection Option]],","))),,X$11),"")} | Y15: {=IF(Table24[[#This Row],[1]]="","",Table24[[#This Row],[Weight]:[Weight]]-(Table24[[#This Row],[Weight]:[Weight]]*((_xlfn.XMATCH(Table24[[#This Row],[1]],Table24[[#This Row],[1]:[11]],0))-1)/(COUNTA(Table24[[#This Row],[1]:[11]])-COUNTBLANK(Table24[[#This Row],[1]:[11]])-1)))} -> 0.057692308 | Z15: {=IF(Table24[[#This Row],[2]]="","",Table24[[#This Row],[Weight]:[Weight]]-(Table24[[#This Row],[Weight]:[Weight]]*((_xlfn.XMATCH(Table24[[#This Row],[2]],Table24[[#This Row],[1]:[11]],0))-1)/(COUNTA(Table24[[#This Row],[1]:[11]])-COUNTBLANK(Table24[[#This Row],[1]:[11]])-1)))} -> 0 | AA15: {=IF(Table24[[#This Row],[3]]="","",Table24[[#This Row],[Weight]:[Weight]]-(Table24[[#This Row],[Weight]:[Weight]]*((_xlfn.XMATCH(Table24[[#This Row],[3]],Table24[[#This Row],[1]:[11]],0))-1)/(COUNTA(Table24[[#This Row],[1]:[11]])-COUNTBLANK(Table24[[#This Row],[1]:[11]])-1)))} | AB15: {=IF(Table24[[#This Row],[4]]="","",Table24[[#This Row],[Weight]:[Weight]]-(Table24[[#This Row],[Weight]:[Weight]]*((_xlfn.XMATCH(Table24[[#This Row],[4]],Table24[[#This Row],[1]:[11]],0))-1)/(COUNTA(Table24[[#This Row],[1]:[11]])-COUNTBLANK(Table24[[#This Row],[1]:[11]])-1)))} | AC15: {=IF(Table24[[#This Row],[5]]="","",Table24[[#This Row],[Weight]:[Weight]]-(Table24[[#This Row],[Weight]:[Weight]]*((_xlfn.XMATCH(Table24[[#This Row],[5]],Table24[[#This Row],[1]:[11]],0))-1)/(COUNTA(Table24[[#This Row],[1]:[11]])-COUNTBLANK(Table24[[#This Row],[1]:[11]])-1)))} | AD15: {=IF(Table24[[#This Row],[6]]="","",Table24[[#This Row],[Weight]:[Weight]]-(Table24[[#This Row],[Weight]:[Weight]]*((_xlfn.XMATCH(Table24[[#This Row],[6]],Table24[[#This Row],[1]:[11]],0))-1)/(COUNTA(Table24[[#This Row],[1]:[11]])-COUNTBLANK(Table24[[#This Row],[1]:[11]])-1)))} | AE15: {=IF(Table24[[#This Row],[7]]="","",Table24[[#This Row],[Weight]:[Weight]]-(Table24[[#This Row],[Weight]:[Weight]]*((_xlfn.XMATCH(Table24[[#This Row],[7]],Table24[[#This Row],[1]:[11]],0))-1)/(COUNTA(Table24[[#This Row],[1]:[11]])-COUNTBLANK(Table24[[#This Row],[1]:[11]])-1)))} | AF15: {=IF(Table24[[#This Row],[8]]="","",Table24[[#This Row],[Weight]:[Weight]]-(Table24[[#This Row],[Weight]:[Weight]]*((_xlfn.XMATCH(Table24[[#This Row],[8]],Table24[[#This Row],[1]:[11]],0))-1)/(COUNTA(Table24[[#This Row],[1]:[11]])-COUNTBLANK(Table24[[#This Row],[1]:[11]])-1)))} | AG15: {=IF(Table24[[#This Row],[9]]="","",Table24[[#This Row],[Weight]:[Weight]]-(Table24[[#This Row],[Weight]:[Weight]]*((_xlfn.XMATCH(Table24[[#This Row],[9]],Table24[[#This Row],[1]:[11]],0))-1)/(COUNTA(Table24[[#This Row],[1]:[11]])-COUNTBLANK(Table24[[#This Row],[1]:[11]])-1)))} | AH15: {=IF(Table24[[#This Row],[10]]="","",Table24[[#This Row],[Weight]:[Weight]]-(Table24[[#This Row],[Weight]:[Weight]]*((_xlfn.XMATCH(Table24[[#This Row],[10]],Table24[[#This Row],[1]:[11]],0))-1)/(COUNTA(Table24[[#This Row],[1]:[11]])-COUNTBLANK(Table24[[#This Row],[1]:[11]])-1)))} | AI15: {=IF(Table24[[#This Row],[11]]="","",Table24[[#This Row],[Weight]:[Weight]]-(Table24[[#This Row],[Weight]:[Weight]]*((_xlfn.XMATCH(Table24[[#This Row],[11]],Table24[[#This Row],[1]:[11]],0))-1)/(COUNTA(Table24[[#This Row],[1]:[11]])-COUNTBLANK(Table24[[#This Row],[1]:[11]])-1)))}

Sheet Functional
B2: Tender Number: | C2: <insert before tender publication> | E2: Eskom Group Technology: Technical Evaluation Criteria
B3: Transaction Description: | C3: <insert before tender publication>
B4: Evaluated Tenderer's Registered Name: | C4: <Evaluator to complete> | E4: Functional
B5: Evaluator Name and Surname: | C5: <Evaluator to complete>
B6: Date of Evaluation | C6: <Evaluator to complete>
B7: Evaluator Signature
B11: Tender Number: | C11: <insert before tender publication> | E11: Eskom Group Technology: Technical Evaluation Criteria
B12: Transaction Description: | C12: Assurance Data Analytics
B13: Evaluated Tenderer's Registered Name: | C13: <Evaluator to complete> | E13: Functional
B14: Evaluator Name and Surname: | C14: <Evaluator to complete>
B15: Date of Evaluation | C15: <Evaluator to complete>
B16: Evaluator Signature
B19: Technical Requirements | D19: Vendor Responses | F19: Evaluator Scores
F21: ='Scoring Summary'!C15 -> 0.4 | G21: =SUM(Table2[Priority]) -> 247 | H21: =SUM(Table2[Weight]) -> 0.4 | K21: Sectional Score: | L21: =SUM(Table2[Score]) -> 0.4 | N21: 1 | O21: 2 | P21: 3 | Q21: 4 | R21: 5 | S21: 6 | T21: 7 | U21: 8 | V21: 9 | W21: 10 | X21: 11 | Y21: 12 | Z21: 13 | AA21: 14 | AB21: 15 | AC21: 16 | AD21: 17 | AE21: 18 | AF21: 19 | AG21: 20 | AH21: 21 | AI21: 22
A22: Item# | B22: Business requirements | C22: Mandatory Returnables - This column lists the mandatory evidence to be provided by the vendor in the technical file and numbered to align with each criteria question. | D22: Vendor Response: Vendor to indicate if, and to what extent they meet the requirement, detail must be provided in the tender submission | E22: Vendor Evidence: Location of Supporting Document/detailed response in your tender submission (state the file number, section & page number) | F22: Priority Description | G22: Priority | H22: Weight | I22: Selection Options | J22: Option Score | K22: Evaluators Response (SELECT) | L22: Score | M22: Evaluator comments | N22: 1 | O22: 2 | P22: 3 | Q22: 4 | R22: 5 | S22: 6 | T22: 7 | U22: 8 | V22: 9 | W22: 10 | X22: 11 | Y22: 12 | Z22: 13 | AA22: 14 | AB22: 15 | AC22: 16 | AD22: 17 | AE22: 18 | AF22: 19 | AG22: 20 | AH22: 21 | AI22: 22
A23: Functional 1 | B23: Flexible Data Sourcing • Multi-Source Imports: Ability to import data from diverse file types (CSV, Excel, Dbase, XML, TXT etc). | C23: Demonstrate that the solution has the ability to import data from diverse file types (CSV, Excel, Dbase, XML, TXT etc) | E23: <Example for how to complete this column: Technical File, section 5 (company background section), page 11> | F23: Show stopper | G23: {=_xlfn.IFS(F23="","",F23="No interest",0,F23="Nice to have",1,F23="Useful",2,F23="Important",3,F23="Very important",4,F23="Critical",5,F23="Show stopper",6)} -> 6 | H23: =(G23/$G$21)*$F$21 -> 0.0097165992 | I23: 1. Extensive functionality available, 2. Limited functionality available, 3. Functionality not available | J23: {=_xlfn.TEXTJOIN(" "&CHAR(10),,TEXT(SUBSTITUTE(Table2[[#This Row],[12]:[22]],".",","),"0,00%"))} -> 0,0097165991902834 0,0048582995951417 0,00% | K23: 1. Extensive functionality available | L23: =H23-(H23*((MATCH(Table2[[#This Row],[Evaluators Response (SELECT)]],Table2[[#This Row],[1]:[11]],0)-1)/(COUNTA(Table2[[#This Row],[1]:[11]])-COUNTBLANK(Table2[[#This Row],[1]:[11]])-1))) -> 0.0097165992 | N23: {=IFERROR(INDEX(_xlfn.UNIQUE(TRIM(_xlfn.TEXTSPLIT(Table2[[#This Row],[Selection Options]:[Selection Options]],","))),,N$21),"")} -> 1. Extensive functionality available | O23: {=IFERROR(INDEX(_xlfn.UNIQUE(TRIM(_xlfn.TEXTSPLIT(Table2[[#This Row],[Selection Options]:[Selection Options]],","))),,O$21),"")} -> 2. Limited functionality available | P23: {=IFERROR(INDEX(_xlfn.UNIQUE(TRIM(_xlfn.TEXTSPLIT(Table2[[#This Row],[Selection Options]:[Selection Options]],","))),,P$21),"")} -> 3. Functionality not available | Q23: {=IFERROR(INDEX(_xlfn.UNIQUE(TRIM(_xlfn.TEXTSPLIT(Table2[[#This Row],[Selection Options]:[Selection Options]],","))),,Q$21),"")} | R23: {=IFERROR(INDEX(_xlfn.UNIQUE(TRIM(_xlfn.TEXTSPLIT(Table2[[#This Row],[Selection Options]:[Selection Options]],","))),,R$21),"")} | S23: {=IFERROR(INDEX(_xlfn.UNIQUE(TRIM(_xlfn.TEXTSPLIT(Table2[[#This Row],[Selection Options]:[Selection Options]],","))),,S$21),"")} | T23: {=IFERROR(INDEX(_xlfn.UNIQUE(TRIM(_xlfn.TEXTSPLIT(Table2[[#This Row],[Selection Options]:[Selection Options]],","))),,T$21),"")} | U23: {=IFERROR(INDEX(_xlfn.UNIQUE(TRIM(_xlfn.TEXTSPLIT(Table2[[#This Row],[Selection Options]:[Selection Options]],","))),,U$21),"")} | ... X23: {=IFERROR(INDEX(_xlfn.UNIQUE(TRIM(_xlfn.TEXTSPLIT(Table2[[#This Row],[Selection Options]:[Selection Options]],","))),,X$21),"")} | Y23: {=IF(Table2[[#This Row],[1]]="","",Table2[[#This Row],[Weight]:[Weight]]-(Table2[[#This Row],[Weight]:[Weight]]*((_xlfn.XMATCH(Table2[[#This Row],[1]],Table2[[#This Row],[1]:[11]],0))-1)/(COUNTA(Table2[[#This Row],[1]:[11]])-COUNTBLANK(Table2[[#This Row],[1]:[11]])-1)))} -> 0.0097165992 | Z23: {=IF(Table2[[#This Row],[2]]="","",Table2[[#This Row],[Weight]:[Weight]]-(Table2[[#This Row],[Weight]:[Weight]]*((_xlfn.XMATCH(Table2[[#This Row],[2]],Table2[[#This Row],[1]:[11]],0))-1)/(COUNTA(Table2[[#This Row],[1]:[11]])-COUNTBLANK(Table2[[#This Row],[1]:[11]])-1)))} -> 0.0048582996 | AA23: {=IF(Table2[[#This Row],[3]]="","",Table2[[#This Row],[Weight]:[Weight]]-(Table2[[#This Row],[Weight]:[Weight]]*((_xlfn.XMATCH(Table2[[#This Row],[3]],Table2[[#This Row],[1]:[11]],0))-1)/(COUNTA(Table2[[#This Row],[1]:[11]])-COUNTBLANK(Table2[[#This Row],[1]:[11]])-1)))} -> 0 | AB23: {=IF(Table2[[#This Row],[4]]="","",Table2[[#This Row],[Weight]:[Weight]]-(Table2[[#This Row],[Weight]:[Weight]]*((_xlfn.XMATCH(Table2[[#This Row],[4]],Table2[[#This Row],[1]:[11]],0))-1)/(COUNTA(Table2[[#This Row],[1]:[11]])-COUNTBLANK(Table2[[#This Row],[1]:[11]])-1)))} | AC23: {=IF(Table2[[#This Row],[5]]="","",Table2[[#This Row],[Weight]:[Weight]]-(Table2[[#This Row],[Weight]:[Weight]]*((_xlfn.XMATCH(Table2[[#This Row],[5]],Table2[[#This Row],[1]:[11]],0))-1)/(COUNTA(Table2[[#This Row],[1]:[11]])-COUNTBLANK(Table2[[#This Row],[1]:[11]])-1)))} | AD23: {=IF(Table2[[#This Row],[6]]="","",Table2[[#This Row],[Weight]:[Weight]]-(Table2[[#This Row],[Weight]:[Weight]]*((_xlfn.XMATCH(Table2[[#This Row],[6]],Table2[[#This Row],[1]:[11]],0))-1)/(COUNTA(Table2[[#This Row],[1]:[11]])-COUNTBLANK(Table2[[#This Row],[1]:[11]])-1)))} | AE23: {=IF(Table2[[#This Row],[7]]="","",Table2[[#This Row],[Weight]:[Weight]]-(Table2[[#This Row],[Weight]:[Weight]]*((_xlfn.XMATCH(Table2[[#This Row],[7]],Table2[[#This Row],[1]:[11]],0))-1)/(COUNTA(Table2[[#This Row],[1]:[11]])-COUNTBLANK(Table2[[#This Row],[1]:[11]])-1)))} | AF23: {=IF(Table2[[#This Row],[8]]="","",Table2[[#This Row],[Weight]:[Weight]]-(Table2[[#This Row],[Weight]:[Weight]]*((_xlfn.XMATCH(Table2[[#This Row],[8]],Table2[[#This Row],[1]:[11]],0))-1)/(COUNTA(Table2[[#This Row],[1]:[11]])-COUNTBLANK(Table2[[#This Row],[1]:[11]])-1)))} | AG23: {=IF(Table2[[#This Row],[9]]="","",Table2[[#This Row],[Weight]:[Weight]]-(Table2[[#This Row],[Weight]:[Weight]]*((_xlfn.XMATCH(Table2[[#This Row],[9]],Table2[[#This Row],[1]:[11]],0))-1)/(COUNTA(Table2[[#This Row],[1]:[11]])-COUNTBLANK(Table2[[#This Row],[1]:[11]])-1)))} | AH23: {=IF(Table2[[#This Row],[10]]="","",Table2[[#This Row],[Weight]:[Weight]]-(Table2[[#This Row],[Weight]:[Weight]]*((_xlfn.XMATCH(Table2[[#This Row],[10]],Table2[[#This Row],[1]:[11]],0))-1)/(COUNTA(Table2[[#This Row],[1]:[11]])-COUNTBLANK(Table2[[#This Row],[1]:[11]])-1)))} | AI23: {=IF(Table2[[#This Row],[11]]="","",Table2[[#This Row],[Weight]:[Weight]]-(Table2[[#This Row],[Weight]:[Weight]]*((_xlfn.XMATCH(Table2[[#This Row],[11]],Table2[[#This Row],[1]:[11]],0))-1)/(COUNTA(Table2[[#This Row],[1]:[11]])-COUNTBLANK(Table2[[#This Row],[1]:[11]])-1)))}
A24: Functional 2 | B24: Flexible Data Sourcing • Multi-Source Connectivity: Securely connect and integrate with ERP systems (such as SAP, Oracle, and Microsoft Dynamics), relational databases (including SQL Server, PostgreSQL, and MySQL), and cloud storage platforms (like Azure Blob, AWS S3, and Google Cloud Storage). | C24: Demonstrate that the solution has the ability to securely connect and integrate with ERP systems (such as SAP, Oracle, and Microsoft Dynamics), relational databases (including SQL Server, PostgreSQL, and MySQL), and cloud storage platforms (like Azure Blob, AWS S3, and Google Cloud Storage) | E24: <Example for how to complete this column: Technical File, section 5 (company background section), page 11> | F24: Show stopper | G24: {=_xlfn.IFS(F24="","",F24="No interest",0,F24="Nice to have",1,F24="Useful",2,F24="Important",3,F24="Very important",4,F24="Critical",5,F24="Show stopper",6)} -> 6 | H24: =(G24/$G$21)*$F$21 -> 0.0097165992 | I24: 1. Extensive functionality available, 2. Limited functionality available, 3. Functionality not available | J24: {=_xlfn.TEXTJOIN(" "&CHAR(10),,TEXT(SUBSTITUTE(Table2[[#This Row],[12]:[22]],".",","),"0,00%"))} -> 0,0097165991902834 0,0048582995951417 0,00% | K24: 1. Extensive functionality available | L24: =H24-(H24*((MATCH(Table2[[#This Row],[Evaluators Response (SELECT)]],Table2[[#This Row],[1]:[11]],0)-1)/(COUNTA(Table2[[#This Row],[1]:[11]])-COUNTBLANK(Table2[[#This Row],[1]:[11]])-1))) -> 0.0097165992 | N24: {=IFERROR(INDEX(_xlfn.UNIQUE(TRIM(_xlfn.TEXTSPLIT(Table2[[#This Row],[Selection Options]:[Selection Options]],","))),,N$21),"")} -> 1. Extensive functionality available | O24: {=IFERROR(INDEX(_xlfn.UNIQUE(TRIM(_xlfn.TEXTSPLIT(Table2[[#This Row],[Selection Options]:[Selection Options]],","))),,O$21),"")} -> 2. Limited functionality available | P24: {=IFERROR(INDEX(_xlfn.UNIQUE(TRIM(_xlfn.TEXTSPLIT(Table2[[#This Row],[Selection Options]:[Selection Options]],","))),,P$21),"")} -> 3. Functionality not available | Q24: {=IFERROR(INDEX(_xlfn.UNIQUE(TRIM(_xlfn.TEXTSPLIT(Table2[[#This Row],[Selection Options]:[Selection Options]],","))),,Q$21),"")} | R24: {=IFERROR(INDEX(_xlfn.UNIQUE(TRIM(_xlfn.TEXTSPLIT(Table2[[#This Row],[Selection Options]:[Selection Options]],","))),,R$21),"")} | S24: {=IFERROR(INDEX(_xlfn.UNIQUE(TRIM(_xlfn.TEXTSPLIT(Table2[[#This Row],[Selection Options]:[Selection Options]],","))),,S$21),"")} | T24: {=IFERROR(INDEX(_xlfn.UNIQUE(TRIM(_xlfn.TEXTSPLIT(Table2[[#This Row],[Selection Options]:[Selection Options]],","))),,T$21),"")} | U24: {=IFERROR(INDEX(_xlfn.UNIQUE(TRIM(_xlfn.TEXTSPLIT(Table2[[#This Row],[Selection Options]:[Selection Options]],","))),,U$21),"")} | ... X24: {=IFERROR(INDEX(_xlfn.UNIQUE(TRIM(_xlfn.TEXTSPLIT(Table2[[#This Row],[Selection Options]:[Selection Options]],","))),,X$21),"")} | Y24: {=IF(Table2[[#This Row],[1]]="","",Table2[[#This Row],[Weight]:[Weight]]-(Table2[[#This Row],[Weight]:[Weight]]*((_xlfn.XMATCH(Table2[[#This Row],[1]],Table2[[#This Row],[1]:[11]],0))-1)/(COUNTA(Table2[[#This Row],[1]:[11]])-COUNTBLANK(Table2[[#This Row],[1]:[11]])-1)))} -> 0.0097165992 | Z24: {=IF(Table2[[#This Row],[2]]="","",Table2[[#This Row],[Weight]:[Weight]]-(Table2[[#This Row],[Weight]:[Weight]]*((_xlfn.XMATCH(Table2[[#This Row],[2]],Table2[[#This Row],[1]:[11]],0))-1)/(COUNTA(Table2[[#This Row],[1]:[11]])-COUNTBLANK(Table2[[#This Row],[1]:[11]])-1)))} -> 0.0048582996 | AA24: {=IF(Table2[[#This Row],[3]]="","",Table2[[#This Row],[Weight]:[Weight]]-(Table2[[#This Row],[Weight]:[Weight]]*((_xlfn.XMATCH(Table2[[#This Row],[3]],Table2[[#This Row],[1]:[11]],0))-1)/(COUNTA(Table2[[#This Row],[1]:[11]])-COUNTBLANK(Table2[[#This Row],[1]:[11]])-1)))} -> 0 | AB24: {=IF(Table2[[#This Row],[4]]="","",Table2[[#This Row],[Weight]:[Weight]]-(Table2[[#This Row],[Weight]:[Weight]]*((_xlfn.XMATCH(Table2[[#This Row],[4]],Table2[[#This Row],[1]:[11]],0))-1)/(COUNTA(Table2[[#This Row],[1]:[11]])-COUNTBLANK(Table2[[#This Row],[1]:[11]])-1)))} | AC24: {=IF(Table2[[#This Row],[5]]="","",Table2[[#This Row],[Weight]:[Weight]]-(Table2[[#This Row],[Weight]:[Weight]]*((_xlfn.XMATCH(Table2[[#This Row],[5]],Table2[[#This Row],[1]:[11]],0))-1)/(COUNTA(Table2[[#This Row],[1]:[11]])-COUNTBLANK(Table2[[#This Row],[1]:[11]])-1)))} | AD24: {=IF(Table2[[#This Row],[6]]="","",Table2[[#This Row],[Weight]:[Weight]]-(Table2[[#This Row],[Weight]:[Weight]]*((_xlfn.XMATCH(Table2[[#This Row],[6]],Table2[[#This Row],[1]:[11]],0))-1)/(COUNTA(Table2[[#This Row],[1]:[11]])-COUNTBLANK(Table2[[#This Row],[1]:[11]])-1)))} | AE24: {=IF(Table2[[#This Row],[7]]="","",Table2[[#This Row],[Weight]:[Weight]]-(Table2[[#This Row],[Weight]:[Weight]]*((_xlfn.XMATCH(Table2[[#This Row],[7]],Table2[[#This Row],[1]:[11]],0))-1)/(COUNTA(Table2[[#This Row],[1]:[11]])-COUNTBLANK(Table2[[#This Row],[1]:[11]])-1)))} | AF24: {=IF(Table2[[#This Row],[8]]="","",Table2[[#This Row],[Weight]:[Weight]]-(Table2[[#This Row],[Weight]:[Weight]]*((_xlfn.XMATCH(Table2[[#This Row],[8]],Table2[[#This Row],[1]:[11]],0))-1)/(COUNTA(Table2[[#This Row],[1]:[11]])-COUNTBLANK(Table2[[#This Row],[1]:[11]])-1)))} | AG24: {=IF(Table2[[#This Row],[9]]="","",Table2[[#This Row],[Weight]:[Weight]]-(Table2[[#This Row],[Weight]:[Weight]]*((_xlfn.XMATCH(Table2[[#This Row],[9]],Table2[[#This Row],[1]:[11]],0))-1)/(COUNTA(Table2[[#This Row],[1]:[11]])-COUNTBLANK(Table2[[#This Row],[1]:[11]])-1)))} | AH24: {=IF(Table2[[#This Row],[10]]="","",Table2[[#This Row],[Weight]:[Weight]]-(Table2[[#This Row],[Weight]:[Weight]]*((_xlfn.XMATCH(Table2[[#This Row],[10]],Table2[[#This Row],[1]:[11]],0))-1)/(COUNTA(Table2[[#This Row],[1]:[11]])-COUNTBLANK(Table2[[#This Row],[1]:[11]])-1)))} | AI24: {=IF(Table2[[#This Row],[11]]="","",Table2[[#This Row],[Weight]:[Weight]]-(Table2[[#This Row],[Weight]:[Weight]]*((_xlfn.XMATCH(Table2[[#This Row],[11]],Table2[[#This Row],[1]:[11]],0))-1)/(COUNTA(Table2[[#This Row],[1]:[11]])-COUNTBLANK(Table2[[#This Row],[1]:[11]])-1)))}
A25: Functional 3 | B25: Flexible Data Sourcing • Custom Templates: Support for creating templates for files without fixed structures. | C25: Demonstrate that the solution has the ability to create templates for files without fixed structures | E25: <Example for how to complete this column: Technical File, section 5 (company background section), page 11> | F25: Show stopper | G25: {=_xlfn.IFS(F25="","",F25="No interest",0,F25="Nice to have",1,F25="Useful",2,F25="Important",3,F25="Very important",4,F25="Critical",5,F25="Show stopper",6)} -> 6 | H25: =(G25/$G$21)*$F$21 -> 0.0097165992 | I25: 1. Extensive functionality available, 2. Limited functionality available, 3. Functionality not available | J25: {=_xlfn.TEXTJOIN(" "&CHAR(10),,TEXT(SUBSTITUTE(Table2[[#This Row],[12]:[22]],".",","),"0,00%"))} -> 0,0097165991902834 0,0048582995951417 0,00% | K25: 1. Extensive functionality available | L25: =H25-(H25*((MATCH(Table2[[#This Row],[Evaluators Response (SELECT)]],Table2[[#This Row],[1]:[11]],0)-1)/(COUNTA(Table2[[#This Row],[1]:[11]])-COUNTBLANK(Table2[[#This Row],[1]:[11]])-1))) -> 0.0097165992 | N25: {=IFERROR(INDEX(_xlfn.UNIQUE(TRIM(_xlfn.TEXTSPLIT(Table2[[#This Row],[Selection Options]:[Selection Options]],","))),,N$21),"")} -> 1. Extensive functionality available | O25: {=IFERROR(INDEX(_xlfn.UNIQUE(TRIM(_xlfn.TEXTSPLIT(Table2[[#This Row],[Selection Options]:[Selection Options]],","))),,O$21),"")} -> 2. Limited functionality available | P25: {=IFERROR(INDEX(_xlfn.UNIQUE(TRIM(_xlfn.TEXTSPLIT(Table2[[#This Row],[Selection Options]:[Selection Options]],","))),,P$21),"")} -> 3. Functionality not available | Q25: {=IFERROR(INDEX(_xlfn.UNIQUE(TRIM(_xlfn.TEXTSPLIT(Table2[[#This Row],[Selection Options]:[Selection Options]],","))),,Q$21),"")} | R25: {=IFERROR(INDEX(_xlfn.UNIQUE(TRIM(_xlfn.TEXTSPLIT(Table2[[#This Row],[Selection Options]:[Selection Options]],","))),,R$21),"")} | S25: {=IFERROR(INDEX(_xlfn.UNIQUE(TRIM(_xlfn.TEXTSPLIT(Table2[[#This Row],[Selection Options]:[Selection Options]],","))),,S$21),"")} | T25: {=IFERROR(INDEX(_xlfn.UNIQUE(TRIM(_xlfn.TEXTSPLIT(Table2[[#This Row],[Selection Options]:[Selection Options]],","))),,T$21),"")} | U25: {=IFERROR(INDEX(_xlfn.UNIQUE(TRIM(_xlfn.TEXTSPLIT(Table2[[#This Row],[Selection Options]:[Selection Options]],","))),,U$21),"")} | ... X25: {=IFERROR(INDEX(_xlfn.UNIQUE(TRIM(_xlfn.TEXTSPLIT(Table2[[#This Row],[Selection Options]:[Selection Options]],","))),,X$21),"")} | Y25: {=IF(Table2[[#This Row],[1]]="","",Table2[[#This Row],[Weight]:[Weight]]-(Table2[[#This Row],[Weight]:[Weight]]*((_xlfn.XMATCH(Table2[[#This Row],[1]],Table2[[#This Row],[1]:[11]],0))-1)/(COUNTA(Table2[[#This Row],[1]:[11]])-COUNTBLANK(Table2[[#This Row],[1]:[11]])-1)))} -> 0.0097165992 | Z25: {=IF(Table2[[#This Row],[2]]="","",Table2[[#This Row],[Weight]:[Weight]]-(Table2[[#This Row],[Weight]:[Weight]]*((_xlfn.XMATCH(Table2[[#This Row],[2]],Table2[[#This Row],[1]:[11]],0))-1)/(COUNTA(Table2[[#This Row],[1]:[11]])-COUNTBLANK(Table2[[#This Row],[1]:[11]])-1)))} -> 0.0048582996 | AA25: {=IF(Table2[[#This Row],[3]]="","",Table2[[#This Row],[Weight]:[Weight]]-(Table2[[#This Row],[Weight]:[Weight]]*((_xlfn.XMATCH(Table2[[#This Row],[3]],Table2[[#This Row],[1]:[11]],0))-1)/(COUNTA(Table2[[#This Row],[1]:[11]])-COUNTBLANK(Table2[[#This Row],[1]:[11]])-1)))} -> 0 | AB25: {=IF(Table2[[#This Row],[4]]="","",Table2[[#This Row],[Weight]:[Weight]]-(Table2[[#This Row],[Weight]:[Weight]]*((_xlfn.XMATCH(Table2[[#This Row],[4]],Table2[[#This Row],[1]:[11]],0))-1)/(COUNTA(Table2[[#This Row],[1]:[11]])-COUNTBLANK(Table2[[#This Row],[1]:[11]])-1)))} | AC25: {=IF(Table2[[#This Row],[5]]="","",Table2[[#This Row],[Weight]:[Weight]]-(Table2[[#This Row],[Weight]:[Weight]]*((_xlfn.XMATCH(Table2[[#This Row],[5]],Table2[[#This Row],[1]:[11]],0))-1)/(COUNTA(Table2[[#This Row],[1]:[11]])-COUNTBLANK(Table2[[#This Row],[1]:[11]])-1)))} | AD25: {=IF(Table2[[#This Row],[6]]="","",Table2[[#This Row],[Weight]:[Weight]]-(Table2[[#This Row],[Weight]:[Weight]]*((_xlfn.XMATCH(Table2[[#This Row],[6]],Table2[[#This Row],[1]:[11]],0))-1)/(COUNTA(Table2[[#This Row],[1]:[11]])-COUNTBLANK(Table2[[#This Row],[1]:[11]])-1)))} | AE25: {=IF(Table2[[#This Row],[7]]="","",Table2[[#This Row],[Weight]:[Weight]]-(Table2[[#This Row],[Weight]:[Weight]]*((_xlfn.XMATCH(Table2[[#This Row],[7]],Table2[[#This Row],[1]:[11]],0))-1)/(COUNTA(Table2[[#This Row],[1]:[11]])-COUNTBLANK(Table2[[#This Row],[1]:[11]])-1)))} | AF25: {=IF(Table2[[#This Row],[8]]="","",Table2[[#This Row],[Weight]:[Weight]]-(Table2[[#This Row],[Weight]:[Weight]]*((_xlfn.XMATCH(Table2[[#This Row],[8]],Table2[[#This Row],[1]:[11]],0))-1)/(COUNTA(Table2[[#This Row],[1]:[11]])-COUNTBLANK(Table2[[#This Row],[1]:[11]])-1)))} | AG25: {=IF(Table2[[#This Row],[9]]="","",Table2[[#This Row],[Weight]:[Weight]]-(Table2[[#This Row],[Weight]:[Weight]]*((_xlfn.XMATCH(Table2[[#This Row],[9]],Table2[[#This Row],[1]:[11]],0))-1)/(COUNTA(Table2[[#This Row],[1]:[11]])-COUNTBLANK(Table2[[#This Row],[1]:[11]])-1)))} | AH25: {=IF(Table2[[#This Row],[10]]="","",Table2[[#This Row],[Weight]:[Weight]]-(Table2[[#This Row],[Weight]:[Weight]]*((_xlfn.XMATCH(Table2[[#This Row],[10]],Table2[[#This Row],[1]:[11]],0))-1)/(COUNTA(Table2[[#This Row],[1]:[11]])-COUNTBLANK(Table2[[#This Row],[1]:[11]])-1)))} | AI25: {=IF(Table2[[#This Row],[11]]="","",Table2[[#This Row],[Weight]:[Weight]]-(Table2[[#This Row],[Weight]:[Weight]]*((_xlfn.XMATCH(Table2[[#This Row],[11]],Table2[[#This Row],[1]:[11]],0))-1)/(COUNTA(Table2[[#This Row],[1]:[11]])-COUNTBLANK(Table2[[#This Row],[1]:[11]])-1)))}
A26: Functional 4 | B26: Flexible Data Sourcing • Dynamic Field Addition: Ability to add and create additional fields during import. | C26: Demonstrate that the solution has the ability to add and create additional fields during import | E26: <Example for how to complete this column: Technical File, section 5 (company background section), page 11> | F26: Show stopper | G26: {=_xlfn.IFS(F26="","",F26="No interest",0,F26="Nice to have",1,F26="Useful",2,F26="Important",3,F26="Very important",4,F26="Critical",5,F26="Show stopper",6)} -> 6 | H26: =(G26/$G$21)*$F$21 -> 0.0097165992 | I26: 1. Extensive functionality available, 2. Limited functionality available, 3. Functionality not available | J26: {=_xlfn.TEXTJOIN(" "&CHAR(10),,TEXT(SUBSTITUTE(Table2[[#This Row],[12]:[22]],".",","),"0,00%"))} -> 0,0097165991902834 0,0048582995951417 0,00% | K26: 1. Extensive functionality available | L26: =H26-(H26*((MATCH(Table2[[#This Row],[Evaluators Response (SELECT)]],Table2[[#This Row],[1]:[11]],0)-1)/(COUNTA(Table2[[#This Row],[1]:[11]])-COUNTBLANK(Table2[[#This Row],[1]:[11]])-1))) -> 0.0097165992 | N26: {=IFERROR(INDEX(_xlfn.UNIQUE(TRIM(_xlfn.TEXTSPLIT(Table2[[#This Row],[Selection Options]:[Selection Options]],","))),,N$21),"")} -> 1. Extensive functionality available | O26: {=IFERROR(INDEX(_xlfn.UNIQUE(TRIM(_xlfn.TEXTSPLIT(Table2[[#This Row],[Selection Options]:[Selection Options]],","))),,O$21),"")} -> 2. Limited functionality available | P26: {=IFERROR(INDEX(_xlfn.UNIQUE(TRIM(_xlfn.TEXTSPLIT(Table2[[#This Row],[Selection Options]:[Selection Options]],","))),,P$21),"")} -> 3. Functionality not available | Q26: {=IFERROR(INDEX(_xlfn.UNIQUE(TRIM(_xlfn.TEXTSPLIT(Table2[[#This Row],[Selection Options]:[Selection Options]],","))),,Q$21),"")} | R26: {=IFERROR(INDEX(_xlfn.UNIQUE(TRIM(_xlfn.TEXTSPLIT(Table2[[#This Row],[Selection Options]:[Selection Options]],","))),,R$21),"")} | S26: {=IFERROR(INDEX(_xlfn.UNIQUE(TRIM(_xlfn.TEXTSPLIT(Table2[[#This Row],[Selection Options]:[Selection Options]],","))),,S$21),"")} | T26: {=IFERROR(INDEX(_xlfn.UNIQUE(TRIM(_xlfn.TEXTSPLIT(Table2[[#This Row],[Selection Options]:[Selection Options]],","))),,T$21),"")} | U26: {=IFERROR(INDEX(_xlfn.UNIQUE(TRIM(_xlfn.TEXTSPLIT(Table2[[#This Row],[Selection Options]:[Selection Options]],","))),,U$21),"")} | ... X26: {=IFERROR(INDEX(_xlfn.UNIQUE(TRIM(_xlfn.TEXTSPLIT(Table2[[#This Row],[Selection Options]:[Selection Options]],","))),,X$21),"")} | Y26: {=IF(Table2[[#This Row],[1]]="","",Table2[[#This Row],[Weight]:[Weight]]-(Table2[[#This Row],[Weight]:[Weight]]*((_xlfn.XMATCH(Table2[[#This Row],[1]],Table2[[#This Row],[1]:[11]],0))-1)/(COUNTA(Table2[[#This Row],[1]:[11]])-COUNTBLANK(Table2[[#This Row],[1]:[11]])-1)))} -> 0.0097165992 | Z26: {=IF(Table2[[#This Row],[2]]="","",Table2[[#This Row],[Weight]:[Weight]]-(Table2[[#This Row],[Weight]:[Weight]]*((_xlfn.XMATCH(Table2[[#This Row],[2]],Table2[[#This Row],[1]:[11]],0))-1)/(COUNTA(Table2[[#This Row],[1]:[11]])-COUNTBLANK(Table2[[#This Row],[1]:[11]])-1)))} -> 0.0048582996 | AA26: {=IF(Table2[[#This Row],[3]]="","",Table2[[#This Row],[Weight]:[Weight]]-(Table2[[#This Row],[Weight]:[Weight]]*((_xlfn.XMATCH(Table2[[#This Row],[3]],Table2[[#This Row],[1]:[11]],0))-1)/(COUNTA(Table2[[#This Row],[1]:[11]])-COUNTBLANK(Table2[[#This Row],[1]:[11]])-1)))} -> 0 | AB26: {=IF(Table2[[#This Row],[4]]="","",Table2[[#This Row],[Weight]:[Weight]]-(Table2[[#This Row],[Weight]:[Weight]]*((_xlfn.XMATCH(Table2[[#This Row],[4]],Table2[[#This Row],[1]:[11]],0))-1)/(COUNTA(Table2[[#This Row],[1]:[11]])-COUNTBLANK(Table2[[#This Row],[1]:[11]])-1)))} | AC26: {=IF(Table2[[#This Row],[5]]="","",Table2[[#This Row],[Weight]:[Weight]]-(Table2[[#This Row],[Weight]:[Weight]]*((_xlfn.XMATCH(Table2[[#This Row],[5]],Table2[[#This Row],[1]:[11]],0))-1)/(COUNTA(Table2[[#This Row],[1]:[11]])-COUNTBLANK(Table2[[#This Row],[1]:[11]])-1)))} | AD26: {=IF(Table2[[#This Row],[6]]="","",Table2[[#This Row],[Weight]:[Weight]]-(Table2[[#This Row],[Weight]:[Weight]]*((_xlfn.XMATCH(Table2[[#This Row],[6]],Table2[[#This Row],[1]:[11]],0))-1)/(COUNTA(Table2[[#This Row],[1]:[11]])-COUNTBLANK(Table2[[#This Row],[1]:[11]])-1)))} | AE26: {=IF(Table2[[#This Row],[7]]="","",Table2[[#This Row],[Weight]:[Weight]]-(Table2[[#This Row],[Weight]:[Weight]]*((_xlfn.XMATCH(Table2[[#This Row],[7]],Table2[[#This Row],[1]:[11]],0))-1)/(COUNTA(Table2[[#This Row],[1]:[11]])-COUNTBLANK(Table2[[#This Row],[1]:[11]])-1)))} | AF26: {=IF(Table2[[#This Row],[8]]="","",Table2[[#This Row],[Weight]:[Weight]]-(Table2[[#This Row],[Weight]:[Weight]]*((_xlfn.XMATCH(Table2[[#This Row],[8]],Table2[[#This Row],[1]:[11]],0))-1)/(COUNTA(Table2[[#This Row],[1]:[11]])-COUNTBLANK(Table2[[#This Row],[1]:[11]])-1)))} | AG26: {=IF(Table2[[#This Row],[9]]="","",Table2[[#This Row],[Weight]:[Weight]]-(Table2[[#This Row],[Weight]:[Weight]]*((_xlfn.XMATCH(Table2[[#This Row],[9]],Table2[[#This Row],[1]:[11]],0))-1)/(COUNTA(Table2[[#This Row],[1]:[11]])-COUNTBLANK(Table2[[#This Row],[1]:[11]])-1)))} | AH26: {=IF(Table2[[#This Row],[10]]="","",Table2[[#This Row],[Weight]:[Weight]]-(Table2[[#This Row],[Weight]:[Weight]]*((_xlfn.XMATCH(Table2[[#This Row],[10]],Table2[[#This Row],[1]:[11]],0))-1)/(COUNTA(Table2[[#This Row],[1]:[11]])-COUNTBLANK(Table2[[#This Row],[1]:[11]])-1)))} | AI26: {=IF(Table2[[#This Row],[11]]="","",Table2[[#This Row],[Weight]:[Weight]]-(Table2[[#This Row],[Weight]:[Weight]]*((_xlfn.XMATCH(Table2[[#This Row],[11]],Table2[[#This Row],[1]:[11]],0))-1)/(COUNTA(Table2[[#This Row],[1]:[11]])-COUNTBLANK(Table2[[#This Row],[1]:[11]])-1)))}
A27: Functional 5 | B27: Flexible Data Sourcing • API Integration: Secure API connectors for real-time data ingestion. | C27: Demonstrate that the solution has the ability to do real-time data ingestion using Secure API connectors | E27: <Example for how to complete this column: Technical File, section 5 (company background section), page 11> | F27: Show stopper | G27: {=_xlfn.IFS(F27="","",F27="No interest",0,F27="Nice to have",1,F27="Useful",2,F27="Important",3,F27="Very important",4,F27="Critical",5,F27="Show stopper",6)} -> 6 | H27: =(G27/$G$21)*$F$21 -> 0.0097165992 | I27: 1. Extensive functionality available, 2. Limited functionality available, 3. Functionality not available | J27: {=_xlfn.TEXTJOIN(" "&CHAR(10),,TEXT(SUBSTITUTE(Table2[[#This Row],[12]:[22]],".",","),"0,00%"))} -> 0,0097165991902834 0,0048582995951417 0,00% | K27: 1. Extensive functionality available | L27: =H27-(H27*((MATCH(Table2[[#This Row],[Evaluators Response (SELECT)]],Table2[[#This Row],[1]:[11]],0)-1)/(COUNTA(Table2[[#This Row],[1]:[11]])-COUNTBLANK(Table2[[#This Row],[1]:[11]])-1))) -> 0.0097165992 | N27: {=IFERROR(INDEX(_xlfn.UNIQUE(TRIM(_xlfn.TEXTSPLIT(Table2[[#This Row],[Selection Options]:[Selection Options]],","))),,N$21),"")} -> 1. Extensive functionality available | O27: {=IFERROR(INDEX(_xlfn.UNIQUE(TRIM(_xlfn.TEXTSPLIT(Table2[[#This Row],[Selection Options]:[Selection Options]],","))),,O$21),"")} -> 2. Limited functionality available | P27: {=IFERROR(INDEX(_xlfn.UNIQUE(TRIM(_xlfn.TEXTSPLIT(Table2[[#This Row],[Selection Options]:[Selection Options]],","))),,P$21),"")} -> 3. Functionality not available | Q27: {=IFERROR(INDEX(_xlfn.UNIQUE(TRIM(_xlfn.TEXTSPLIT(Table2[[#This Row],[Selection Options]:[Selection Options]],","))),,Q$21),"")} | R27: {=IFERROR(INDEX(_xlfn.UNIQUE(TRIM(_xlfn.TEXTSPLIT(Table2[[#This Row],[Selection Options]:[Selection Options]],","))),,R$21),"")} | S27: {=IFERROR(INDEX(_xlfn.UNIQUE(TRIM(_xlfn.TEXTSPLIT(Table2[[#This Row],[Selection Options]:[Selection Options]],","))),,S$21),"")} | T27: {=IFERROR(INDEX(_xlfn.UNIQUE(TRIM(_xlfn.TEXTSPLIT(Table2[[#This Row],[Selection Options]:[Selection Options]],","))),,T$21),"")} | U27: {=IFERROR(INDEX(_xlfn.UNIQUE(TRIM(_xlfn.TEXTSPLIT(Table2[[#This Row],[Selection Options]:[Selection Options]],","))),,U$21),"")} | ... X27: {=IFERROR(INDEX(_xlfn.UNIQUE(TRIM(_xlfn.TEXTSPLIT(Table2[[#This Row],[Selection Options]:[Selection Options]],","))),,X$21),"")} | Y27: {=IF(Table2[[#This Row],[1]]="","",Table2[[#This Row],[Weight]:[Weight]]-(Table2[[#This Row],[Weight]:[Weight]]*((_xlfn.XMATCH(Table2[[#This Row],[1]],Table2[[#This Row],[1]:[11]],0))-1)/(COUNTA(Table2[[#This Row],[1]:[11]])-COUNTBLANK(Table2[[#This Row],[1]:[11]])-1)))} -> 0.0097165992 | Z27: {=IF(Table2[[#This Row],[2]]="","",Table2[[#This Row],[Weight]:[Weight]]-(Table2[[#This Row],[Weight]:[Weight]]*((_xlfn.XMATCH(Table2[[#This Row],[2]],Table2[[#This Row],[1]:[11]],0))-1)/(COUNTA(Table2[[#This Row],[1]:[11]])-COUNTBLANK(Table2[[#This Row],[1]:[11]])-1)))} -> 0.0048582996 | AA27: {=IF(Table2[[#This Row],[3]]="","",Table2[[#This Row],[Weight]:[Weight]]-(Table2[[#This Row],[Weight]:[Weight]]*((_xlfn.XMATCH(Table2[[#This Row],[3]],Table2[[#This Row],[1]:[11]],0))-1)/(COUNTA(Table2[[#This Row],[1]:[11]])-COUNTBLANK(Table2[[#This Row],[1]:[11]])-1)))} -> 0 | AB27: {=IF(Table2[[#This Row],[4]]="","",Table2[[#This Row],[Weight]:[Weight]]-(Table2[[#This Row],[Weight]:[Weight]]*((_xlfn.XMATCH(Table2[[#This Row],[4]],Table2[[#This Row],[1]:[11]],0))-1)/(COUNTA(Table2[[#This Row],[1]:[11]])-COUNTBLANK(Table2[[#This Row],[1]:[11]])-1)))} | AC27: {=IF(Table2[[#This Row],[5]]="","",Table2[[#This Row],[Weight]:[Weight]]-(Table2[[#This Row],[Weight]:[Weight]]*((_xlfn.XMATCH(Table2[[#This Row],[5]],Table2[[#This Row],[1]:[11]],0))-1)/(COUNTA(Table2[[#This Row],[1]:[11]])-COUNTBLANK(Table2[[#This Row],[1]:[11]])-1)))} | AD27: {=IF(Table2[[#This Row],[6]]="","",Table2[[#This Row],[Weight]:[Weight]]-(Table2[[#This Row],[Weight]:[Weight]]*((_xlfn.XMATCH(Table2[[#This Row],[6]],Table2[[#This Row],[1]:[11]],0))-1)/(COUNTA(Table2[[#This Row],[1]:[11]])-COUNTBLANK(Table2[[#This Row],[1]:[11]])-1)))} | AE27: {=IF(Table2[[#This Row],[7]]="","",Table2[[#This Row],[Weight]:[Weight]]-(Table2[[#This Row],[Weight]:[Weight]]*((_xlfn.XMATCH(Table2[[#This Row],[7]],Table2[[#This Row],[1]:[11]],0))-1)/(COUNTA(Table2[[#This Row],[1]:[11]])-COUNTBLANK(Table2[[#This Row],[1]:[11]])-1)))} | AF27: {=IF(Table2[[#This Row],[8]]="","",Table2[[#This Row],[Weight]:[Weight]]-(Table2[[#This Row],[Weight]:[Weight]]*((_xlfn.XMATCH(Table2[[#This Row],[8]],Table2[[#This Row],[1]:[11]],0))-1)/(COUNTA(Table2[[#This Row],[1]:[11]])-COUNTBLANK(Table2[[#This Row],[1]:[11]])-1)))} | AG27: {=IF(Table2[[#This Row],[9]]="","",Table2[[#This Row],[Weight]:[Weight]]-(Table2[[#This Row],[Weight]:[Weight]]*((_xlfn.XMATCH(Table2[[#This Row],[9]],Table2[[#This Row],[1]:[11]],0))-1)/(COUNTA(Table2[[#This Row],[1]:[11]])-COUNTBLANK(Table2[[#This Row],[1]:[11]])-1)))} | AH27: {=IF(Table2[[#This Row],[10]]="","",Table2[[#This Row],[Weight]:[Weight]]-(Table2[[#This Row],[Weight]:[Weight]]*((_xlfn.XMATCH(Table2[[#This Row],[10]],Table2[[#This Row],[1]:[11]],0))-1)/(COUNTA(Table2[[#This Row],[1]:[11]])-COUNTBLANK(Table2[[#This Row],[1]:[11]])-1)))} | AI27: {=IF(Table2[[#This Row],[11]]="","",Table2[[#This Row],[Weight]:[Weight]]-(Table2[[#This Row],[Weight]:[Weight]]*((_xlfn.XMATCH(Table2[[#This Row],[11]],Table2[[#This Row],[1]:[11]],0))-1)/(COUNTA(Table2[[#This Row],[1]:[11]])-COUNTBLANK(Table2[[#This Row],[1]:[11]])-1)))}
A28: Functional 6 | B28: Flexible Data Sourcing • Script Conversion: must support converting existing scripts (e.g., IDEAScript) into its own script format. | C28: Demonstrate that the solution has the ability to convert existing scripts (e.g., IDEAScript) into its own script format | E28: <Example for how to complete this column: Technical File, section 5 (company background section), page 11> | F28: Show stopper | G28: {=_xlfn.IFS(F28="","",F28="No interest",0,F28="Nice to have",1,F28="Useful",2,F28="Important",3,F28="Very important",4,F28="Critical",5,F28="Show stopper",6)} -> 6 | H28: =(G28/$G$21)*$F$21 -> 0.0097165992 | I28: 1. Extensive functionality available, 2. Limited functionality available, 3. Functionality not available | J28: {=_xlfn.TEXTJOIN(" "&CHAR(10),,TEXT(SUBSTITUTE(Table2[[#This Row],[12]:[22]],".",","),"0,00%"))} -> 0,0097165991902834 0,0048582995951417 0,00% | K28: 1. Extensive functionality available | L28: =H28-(H28*((MATCH(Table2[[#This Row],[Evaluators Response (SELECT)]],Table2[[#This Row],[1]:[11]],0)-1)/(COUNTA(Table2[[#This Row],[1]:[11]])-COUNTBLANK(Table2[[#This Row],[1]:[11]])-1))) -> 0.0097165992 | N28: {=IFERROR(INDEX(_xlfn.UNIQUE(TRIM(_xlfn.TEXTSPLIT(Table2[[#This Row],[Selection Options]:[Selection Options]],","))),,N$21),"")} -> 1. Extensive functionality available | O28: {=IFERROR(INDEX(_xlfn.UNIQUE(TRIM(_xlfn.TEXTSPLIT(Table2[[#This Row],[Selection Options]:[Selection Options]],","))),,O$21),"")} -> 2. Limited functionality available | P28: {=IFERROR(INDEX(_xlfn.UNIQUE(TRIM(_xlfn.TEXTSPLIT(Table2[[#This Row],[Selection Options]:[Selection Options]],","))),,P$21),"")} -> 3. Functionality not available | Q28: {=IFERROR(INDEX(_xlfn.UNIQUE(TRIM(_xlfn.TEXTSPLIT(Table2[[#This Row],[Selection Options]:[Selection Options]],","))),,Q$21),"")} | R28: {=IFERROR(INDEX(_xlfn.UNIQUE(TRIM(_xlfn.TEXTSPLIT(Table2[[#This Row],[Selection Options]:[Selection Options]],","))),,R$21),"")} | S28: {=IFERROR(INDEX(_xlfn.UNIQUE(TRIM(_xlfn.TEXTSPLIT(Table2[[#This Row],[Selection Options]:[Selection Options]],","))),,S$21),"")} | T28: {=IFERROR(INDEX(_xlfn.UNIQUE(TRIM(_xlfn.TEXTSPLIT(Table2[[#This Row],[Selection Options]:[Selection Options]],","))),,T$21),"")} | U28: {=IFERROR(INDEX(_xlfn.UNIQUE(TRIM(_xlfn.TEXTSPLIT(Table2[[#This Row],[Selection Options]:[Selection Options]],","))),,U$21),"")} | ... X28: {=IFERROR(INDEX(_xlfn.UNIQUE(TRIM(_xlfn.TEXTSPLIT(Table2[[#This Row],[Selection Options]:[Selection Options]],","))),,X$21),"")} | Y28: {=IF(Table2[[#This Row],[1]]="","",Table2[[#This Row],[Weight]:[Weight]]-(Table2[[#This Row],[Weight]:[Weight]]*((_xlfn.XMATCH(Table2[[#This Row],[1]],Table2[[#This Row],[1]:[11]],0))-1)/(COUNTA(Table2[[#This Row],[1]:[11]])-COUNTBLANK(Table2[[#This Row],[1]:[11]])-1)))} -> 0.0097165992 | Z28: {=IF(Table2[[#This Row],[2]]="","",Table2[[#This Row],[Weight]:[Weight]]-(Table2[[#This Row],[Weight]:[Weight]]*((_xlfn.XMATCH(Table2[[#This Row],[2]],Table2[[#This Row],[1]:[11]],0))-1)/(COUNTA(Table2[[#This Row],[1]:[11]])-COUNTBLANK(Table2[[#This Row],[1]:[11]])-1)))} -> 0.0048582996 | AA28: {=IF(Table2[[#This Row],[3]]="","",Table2[[#This Row],[Weight]:[Weight]]-(Table2[[#This Row],[Weight]:[Weight]]*((_xlfn.XMATCH(Table2[[#This Row],[3]],Table2[[#This Row],[1]:[11]],0))-1)/(COUNTA(Table2[[#This Row],[1]:[11]])-COUNTBLANK(Table2[[#This Row],[1]:[11]])-1)))} -> 0 | AB28: {=IF(Table2[[#This Row],[4]]="","",Table2[[#This Row],[Weight]:[Weight]]-(Table2[[#This Row],[Weight]:[Weight]]*((_xlfn.XMATCH(Table2[[#This Row],[4]],Table2[[#This Row],[1]:[11]],0))-1)/(COUNTA(Table2[[#This Row],[1]:[11]])-COUNTBLANK(Table2[[#This Row],[1]:[11]])-1)))} | AC28: {=IF(Table2[[#This Row],[5]]="","",Table2[[#This Row],[Weight]:[Weight]]-(Table2[[#This Row],[Weight]:[Weight]]*((_xlfn.XMATCH(Table2[[#This Row],[5]],Table2[[#This Row],[1]:[11]],0))-1)/(COUNTA(Table2[[#This Row],[1]:[11]])-COUNTBLANK(Table2[[#This Row],[1]:[11]])-1)))} | AD28: {=IF(Table2[[#This Row],[6]]="","",Table2[[#This Row],[Weight]:[Weight]]-(Table2[[#This Row],[Weight]:[Weight]]*((_xlfn.XMATCH(Table2[[#This Row],[6]],Table2[[#This Row],[1]:[11]],0))-1)/(COUNTA(Table2[[#This Row],[1]:[11]])-COUNTBLANK(Table2[[#This Row],[1]:[11]])-1)))} | AE28: {=IF(Table2[[#This Row],[7]]="","",Table2[[#This Row],[Weight]:[Weight]]-(Table2[[#This Row],[Weight]:[Weight]]*((_xlfn.XMATCH(Table2[[#This Row],[7]],Table2[[#This Row],[1]:[11]],0))-1)/(COUNTA(Table2[[#This Row],[1]:[11]])-COUNTBLANK(Table2[[#This Row],[1]:[11]])-1)))} | AF28: {=IF(Table2[[#This Row],[8]]="","",Table2[[#This Row],[Weight]:[Weight]]-(Table2[[#This Row],[Weight]:[Weight]]*((_xlfn.XMATCH(Table2[[#This Row],[8]],Table2[[#This Row],[1]:[11]],0))-1)/(COUNTA(Table2[[#This Row],[1]:[11]])-COUNTBLANK(Table2[[#This Row],[1]:[11]])-1)))} | AG28: {=IF(Table2[[#This Row],[9]]="","",Table2[[#This Row],[Weight]:[Weight]]-(Table2[[#This Row],[Weight]:[Weight]]*((_xlfn.XMATCH(Table2[[#This Row],[9]],Table2[[#This Row],[1]:[11]],0))-1)/(COUNTA(Table2[[#This Row],[1]:[11]])-COUNTBLANK(Table2[[#This Row],[1]:[11]])-1)))} | AH28: {=IF(Table2[[#This Row],[10]]="","",Table2[[#This Row],[Weight]:[Weight]]-(Table2[[#This Row],[Weight]:[Weight]]*((_xlfn.XMATCH(Table2[[#This Row],[10]],Table2[[#This Row],[1]:[11]],0))-1)/(COUNTA(Table2[[#This Row],[1]:[11]])-COUNTBLANK(Table2[[#This Row],[1]:[11]])-1)))} | AI28: {=IF(Table2[[#This Row],[11]]="","",Table2[[#This Row],[Weight]:[Weight]]-(Table2[[#This Row],[Weight]:[Weight]]*((_xlfn.XMATCH(Table2[[#This Row],[11]],Table2[[#This Row],[1]:[11]],0))-1)/(COUNTA(Table2[[#This Row],[1]:[11]])-COUNTBLANK(Table2[[#This Row],[1]:[11]])-1)))}
A29: Functional 7 | B29: Advanced Data Manipulation • Virtual & Editable Fields: Add calculated or editable fields to existing datasets. | C29: Demonstrate that the solution has the ability to add calculated or editable fields to existing datasets | E29: <Example for how to complete this column: Technical File, section 5 (company background section), page 11> | F29: Critical | G29: {=_xlfn.IFS(F29="","",F29="No interest",0,F29="Nice to have",1,F29="Useful",2,F29="Important",3,F29="Very important",4,F29="Critical",5,F29="Show stopper",6)} -> 5 | H29: =(G29/$G$21)*$F$21 -> 0.008097166 | I29: 1. Extensive functionality available, 2. Limited functionality available, 3. Functionality not available | J29: {=_xlfn.TEXTJOIN(" "&CHAR(10),,TEXT(SUBSTITUTE(Table2[[#This Row],[12]:[22]],".",","),"0,00%"))} -> 0,00809716599190283 0,00404858299595142 0,00% | K29: 1. Extensive functionality available | L29: =H29-(H29*((MATCH(Table2[[#This Row],[Evaluators Response (SELECT)]],Table2[[#This Row],[1]:[11]],0)-1)/(COUNTA(Table2[[#This Row],[1]:[11]])-COUNTBLANK(Table2[[#This Row],[1]:[11]])-1))) -> 0.008097166 | N29: {=IFERROR(INDEX(_xlfn.UNIQUE(TRIM(_xlfn.TEXTSPLIT(Table2[[#This Row],[Selection Options]:[Selection Options]],","))),,N$21),"")} -> 1. Extensive functionality available | O29: {=IFERROR(INDEX(_xlfn.UNIQUE(TRIM(_xlfn.TEXTSPLIT(Table2[[#This Row],[Selection Options]:[Selection Options]],","))),,O$21),"")} -> 2. Limited functionality available | P29: {=IFERROR(INDEX(_xlfn.UNIQUE(TRIM(_xlfn.TEXTSPLIT(Table2[[#This Row],[Selection Options]:[Selection Options]],","))),,P$21),"")} -> 3. Functionality not available | Q29: {=IFERROR(INDEX(_xlfn.UNIQUE(TRIM(_xlfn.TEXTSPLIT(Table2[[#This Row],[Selection Options]:[Selection Options]],","))),,Q$21),"")} | R29: {=IFERROR(INDEX(_xlfn.UNIQUE(TRIM(_xlfn.TEXTSPLIT(Table2[[#This Row],[Selection Options]:[Selection Options]],","))),,R$21),"")} | S29: {=IFERROR(INDEX(_xlfn.UNIQUE(TRIM(_xlfn.TEXTSPLIT(Table2[[#This Row],[Selection Options]:[Selection Options]],","))),,S$21),"")} | T29: {=IFERROR(INDEX(_xlfn.UNIQUE(TRIM(_xlfn.TEXTSPLIT(Table2[[#This Row],[Selection Options]:[Selection Options]],","))),,T$21),"")} | U29: {=IFERROR(INDEX(_xlfn.UNIQUE(TRIM(_xlfn.TEXTSPLIT(Table2[[#This Row],[Selection Options]:[Selection Options]],","))),,U$21),"")} | ... X29: {=IFERROR(INDEX(_xlfn.UNIQUE(TRIM(_xlfn.TEXTSPLIT(Table2[[#This Row],[Selection Options]:[Selection Options]],","))),,X$21),"")} | Y29: {=IF(Table2[[#This Row],[1]]="","",Table2[[#This Row],[Weight]:[Weight]]-(Table2[[#This Row],[Weight]:[Weight]]*((_xlfn.XMATCH(Table2[[#This Row],[1]],Table2[[#This Row],[1]:[11]],0))-1)/(COUNTA(Table2[[#This Row],[1]:[11]])-COUNTBLANK(Table2[[#This Row],[1]:[11]])-1)))} -> 0.008097166 | Z29: {=IF(Table2[[#This Row],[2]]="","",Table2[[#This Row],[Weight]:[Weight]]-(Table2[[#This Row],[Weight]:[Weight]]*((_xlfn.XMATCH(Table2[[#This Row],[2]],Table2[[#This Row],[1]:[11]],0))-1)/(COUNTA(Table2[[#This Row],[1]:[11]])-COUNTBLANK(Table2[[#This Row],[1]:[11]])-1)))} -> 0.004048583 | AA29: {=IF(Table2[[#This Row],[3]]="","",Table2[[#This Row],[Weight]:[Weight]]-(Table2[[#This Row],[Weight]:[Weight]]*((_xlfn.XMATCH(Table2[[#This Row],[3]],Table2[[#This Row],[1]:[11]],0))-1)/(COUNTA(Table2[[#This Row],[1]:[11]])-COUNTBLANK(Table2[[#This Row],[1]:[11]])-1)))} -> 0 | AB29: {=IF(Table2[[#This Row],[4]]="","",Table2[[#This Row],[Weight]:[Weight]]-(Table2[[#This Row],[Weight]:[Weight]]*((_xlfn.XMATCH(Table2[[#This Row],[4]],Table2[[#This Row],[1]:[11]],0))-1)/(COUNTA(Table2[[#This Row],[1]:[11]])-COUNTBLANK(Table2[[#This Row],[1]:[11]])-1)))} | AC29: {=IF(Table2[[#This Row],[5]]="","",Table2[[#This Row],[Weight]:[Weight]]-(Table2[[#This Row],[Weight]:[Weight]]*((_xlfn.XMATCH(Table2[[#This Row],[5]],Table2[[#This Row],[1]:[11]],0))-1)/(COUNTA(Table2[[#This Row],[1]:[11]])-COUNTBLANK(Table2[[#This Row],[1]:[11]])-1)))} | AD29: {=IF(Table2[[#This Row],[6]]="","",Table2[[#This Row],[Weight]:[Weight]]-(Table2[[#This Row],[Weight]:[Weight]]*((_xlfn.XMATCH(Table2[[#This Row],[6]],Table2[[#This Row],[1]:[11]],0))-1)/(COUNTA(Table2[[#This Row],[1]:[11]])-COUNTBLANK(Table2[[#This Row],[1]:[11]])-1)))} | AE29: {=IF(Table2[[#This Row],[7]]="","",Table2[[#This Row],[Weight]:[Weight]]-(Table2[[#This Row],[Weight]:[Weight]]*((_xlfn.XMATCH(Table2[[#This Row],[7]],Table2[[#This Row],[1]:[11]],0))-1)/(COUNTA(Table2[[#This Row],[1]:[11]])-COUNTBLANK(Table2[[#This Row],[1]:[11]])-1)))} | AF29: {=IF(Table2[[#This Row],[8]]="","",Table2[[#This Row],[Weight]:[Weight]]-(Table2[[#This Row],[Weight]:[Weight]]*((_xlfn.XMATCH(Table2[[#This Row],[8]],Table2[[#This Row],[1]:[11]],0))-1)/(COUNTA(Table2[[#This Row],[1]:[11]])-COUNTBLANK(Table2[[#This Row],[1]:[11]])-1)))} | AG29: {=IF(Table2[[#This Row],[9]]="","",Table2[[#This Row],[Weight]:[Weight]]-(Table2[[#This Row],[Weight]:[Weight]]*((_xlfn.XMATCH(Table2[[#This Row],[9]],Table2[[#This Row],[1]:[11]],0))-1)/(COUNTA(Table2[[#This Row],[1]:[11]])-COUNTBLANK(Table2[[#This Row],[1]:[11]])-1)))} | AH29: {=IF(Table2[[#This Row],[10]]="","",Table2[[#This Row],[Weight]:[Weight]]-(Table2[[#This Row],[Weight]:[Weight]]*((_xlfn.XMATCH(Table2[[#This Row],[10]],Table2[[#This Row],[1]:[11]],0))-1)/(COUNTA(Table2[[#This Row],[1]:[11]])-COUNTBLANK(Table2[[#This Row],[1]:[11]])-1)))} | AI29: {=IF(Table2[[#This Row],[11]]="","",Table2[[#This Row],[Weight]:[Weight]]-(Table2[[#This Row],[Weight]:[Weight]]*((_xlfn.XMATCH(Table2[[#This Row],[11]],Table2[[#This Row],[1]:[11]],0))-1)/(COUNTA(Table2[[#This Row],[1]:[11]])-COUNTBLANK(Table2[[#This Row],[1]:[11]])-1)))}
A30: Functional 8 | B30: Advanced Data Manipulation • Custom Views & Reports: Create tailored views and export reports in multiple formats. | C30: Demonstrate that the solution has the ability to create tailored views and export reports in multiple formats | E30: <Example for how to complete this column: Technical File, section 5 (company background section), page 11> | F30: Critical | G30: {=_xlfn.IFS(F30="","",F30="No interest",0,F30="Nice to have",1,F30="Useful",2,F30="Important",3,F30="Very important",4,F30="Critical",5,F30="Show stopper",6)} -> 5 | H30: =(G30/$G$21)*$F$21 -> 0.008097166 | I30: 1. Extensive functionality available, 2. Limited functionality available, 3. Functionality not available | J30: {=_xlfn.TEXTJOIN(" "&CHAR(10),,TEXT(SUBSTITUTE(Table2[[#This Row],[12]:[22]],".",","),"0,00%"))} -> 0,00809716599190283 0,00404858299595142 0,00% | K30: 1. Extensive functionality available | L30: =H30-(H30*((MATCH(Table2[[#This Row],[Evaluators Response (SELECT)]],Table2[[#This Row],[1]:[11]],0)-1)/(COUNTA(Table2[[#This Row],[1]:[11]])-COUNTBLANK(Table2[[#This Row],[1]:[11]])-1))) -> 0.008097166 | N30: {=IFERROR(INDEX(_xlfn.UNIQUE(TRIM(_xlfn.TEXTSPLIT(Table2[[#This Row],[Selection Options]:[Selection Options]],","))),,N$21),"")} -> 1. Extensive functionality available | O30: {=IFERROR(INDEX(_xlfn.UNIQUE(TRIM(_xlfn.TEXTSPLIT(Table2[[#This Row],[Selection Options]:[Selection Options]],","))),,O$21),"")} -> 2. Limited functionality available | P30: {=IFERROR(INDEX(_xlfn.UNIQUE(TRIM(_xlfn.TEXTSPLIT(Table2[[#This Row],[Selection Options]:[Selection Options]],","))),,P$21),"")} -> 3. Functionality not available | Q30: {=IFERROR(INDEX(_xlfn.UNIQUE(TRIM(_xlfn.TEXTSPLIT(Table2[[#This Row],[Selection Options]:[Selection Options]],","))),,Q$21),"")} | R30: {=IFERROR(INDEX(_xlfn.UNIQUE(TRIM(_xlfn.TEXTSPLIT(Table2[[#This Row],[Selection Options]:[Selection Options]],","))),,R$21),"")} | S30: {=IFERROR(INDEX(_xlfn.UNIQUE(TRIM(_xlfn.TEXTSPLIT(Table2[[#This Row],[Selection Options]:[Selection Options]],","))),,S$21),"")} | T30: {=IFERROR(INDEX(_xlfn.UNIQUE(TRIM(_xlfn.TEXTSPLIT(Table2[[#This Row],[Selection Options]:[Selection Options]],","))),,T$21),"")} | U30: {=IFERROR(INDEX(_xlfn.UNIQUE(TRIM(_xlfn.TEXTSPLIT(Table2[[#This Row],[Selection Options]:[Selection Options]],","))),,U$21),"")} | ... X30: {=IFERROR(INDEX(_xlfn.UNIQUE(TRIM(_xlfn.TEXTSPLIT(Table2[[#This Row],[Selection Options]:[Selection Options]],","))),,X$21),"")} | Y30: {=IF(Table2[[#This Row],[1]]="","",Table2[[#This Row],[Weight]:[Weight]]-(Table2[[#This Row],[Weight]:[Weight]]*((_xlfn.XMATCH(Table2[[#This Row],[1]],Table2[[#This Row],[1]:[11]],0))-1)/(COUNTA(Table2[[#This Row],[1]:[11]])-COUNTBLANK(Table2[[#This Row],[1]:[11]])-1)))} -> 0.008097166 | Z30: {=IF(Table2[[#This Row],[2]]="","",Table2[[#This Row],[Weight]:[Weight]]-(Table2[[#This Row],[Weight]:[Weight]]*((_xlfn.XMATCH(Table2[[#This Row],[2]],Table2[[#This Row],[1]:[11]],0))-1)/(COUNTA(Table2[[#This Row],[1]:[11]])-COUNTBLANK(Table2[[#This Row],[1]:[11]])-1)))} -> 0.004048583 | AA30: {=IF(Table2[[#This Row],[3]]="","",Table2[[#This Row],[Weight]:[Weight]]-(Table2[[#This Row],[Weight]:[Weight]]*((_xlfn.XMATCH(Table2[[#This Row],[3]],Table2[[#This Row],[1]:[11]],0))-1)/(COUNTA(Table2[[#This Row],[1]:[11]])-COUNTBLANK(Table2[[#This Row],[1]:[11]])-1)))} -> 0 | AB30: {=IF(Table2[[#This Row],[4]]="","",Table2[[#This Row],[Weight]:[Weight]]-(Table2[[#This Row],[Weight]:[Weight]]*((_xlfn.XMATCH(Table2[[#This Row],[4]],Table2[[#This Row],[1]:[11]],0))-1)/(COUNTA(Table2[[#This Row],[1]:[11]])-COUNTBLANK(Table2[[#This Row],[1]:[11]])-1)))} | AC30: {=IF(Table2[[#This Row],[5]]="","",Table2[[#This Row],[Weight]:[Weight]]-(Table2[[#This Row],[Weight]:[Weight]]*((_xlfn.XMATCH(Table2[[#This Row],[5]],Table2[[#This Row],[1]:[11]],0))-1)/(COUNTA(Table2[[#This Row],[1]:[11]])-COUNTBLANK(Table2[[#This Row],[1]:[11]])-1)))} | AD30: {=IF(Table2[[#This Row],[6]]="","",Table2[[#This Row],[Weight]:[Weight]]-(Table2[[#This Row],[Weight]:[Weight]]*((_xlfn.XMATCH(Table2[[#This Row],[6]],Table2[[#This Row],[1]:[11]],0))-1)/(COUNTA(Table2[[#This Row],[1]:[11]])-COUNTBLANK(Table2[[#This Row],[1]:[11]])-1)))} | AE30: {=IF(Table2[[#This Row],[7]]="","",Table2[[#This Row],[Weight]:[Weight]]-(Table2[[#This Row],[Weight]:[Weight]]*((_xlfn.XMATCH(Table2[[#This Row],[7]],Table2[[#This Row],[1]:[11]],0))-1)/(COUNTA(Table2[[#This Row],[1]:[11]])-COUNTBLANK(Table2[[#This Row],[1]:[11]])-1)))} | AF30: {=IF(Table2[[#This Row],[8]]="","",Table2[[#This Row],[Weight]:[Weight]]-(Table2[[#This Row],[Weight]:[Weight]]*((_xlfn.XMATCH(Table2[[#This Row],[8]],Table2[[#This Row],[1]:[11]],0))-1)/(COUNTA(Table2[[#This Row],[1]:[11]])-COUNTBLANK(Table2[[#This Row],[1]:[11]])-1)))} | AG30: {=IF(Table2[[#This Row],[9]]="","",Table2[[#This Row],[Weight]:[Weight]]-(Table2[[#This Row],[Weight]:[Weight]]*((_xlfn.XMATCH(Table2[[#This Row],[9]],Table2[[#This Row],[1]:[11]],0))-1)/(COUNTA(Table2[[#This Row],[1]:[11]])-COUNTBLANK(Table2[[#This Row],[1]:[11]])-1)))} | AH30: {=IF(Table2[[#This Row],[10]]="","",Table2[[#This Row],[Weight]:[Weight]]-(Table2[[#This Row],[Weight]:[Weight]]*((_xlfn.XMATCH(Table2[[#This Row],[10]],Table2[[#This Row],[1]:[11]],0))-1)/(COUNTA(Table2[[#This Row],[1]:[11]])-COUNTBLANK(Table2[[#This Row],[1]:[11]])-1)))} | AI30: {=IF(Table2[[#This Row],[11]]="","",Table2[[#This Row],[Weight]:[Weight]]-(Table2[[#This Row],[Weight]:[Weight]]*((_xlfn.XMATCH(Table2[[#This Row],[11]],Table2[[#This Row],[1]:[11]],0))-1)/(COUNTA(Table2[[#This Row],[1]:[11]])-COUNTBLANK(Table2[[#This Row],[1]:[11]])-1)))}
A31: Functional 9 | B31: Advanced Data Manipulation • Data Matching & Comparison: Join, append, compare datasets with visual relationship mapping. | C31: Demonstrate that the solution has the ability to join, append, compare datasets with visual relationship mapping | E31: <Example for how to complete this column: Technical File, section 5 (company background section), page 11> | F31: Critical | G31: {=_xlfn.IFS(F31="","",F31="No interest",0,F31="Nice to have",1,F31="Useful",2,F31="Important",3,F31="Very important",4,F31="Critical",5,F31="Show stopper",6)} -> 5 | H31: =(G31/$G$21)*$F$21 -> 0.008097166 | I31: 1. Extensive functionality available, 2. Limited functionality available, 3. Functionality not available | J31: {=_xlfn.TEXTJOIN(" "&CHAR(10),,TEXT(SUBSTITUTE(Table2[[#This Row],[12]:[22]],".",","),"0,00%"))} -> 0,00809716599190283 0,00404858299595142 0,00% | K31: 1. Extensive functionality available | L31: =H31-(H31*((MATCH(Table2[[#This Row],[Evaluators Response (SELECT)]],Table2[[#This Row],[1]:[11]],0)-1)/(COUNTA(Table2[[#This Row],[1]:[11]])-COUNTBLANK(Table2[[#This Row],[1]:[11]])-1))) -> 0.008097166 | N31: {=IFERROR(INDEX(_xlfn.UNIQUE(TRIM(_xlfn.TEXTSPLIT(Table2[[#This Row],[Selection Options]:[Selection Options]],","))),,N$21),"")} -> 1. Extensive functionality available | O31: {=IFERROR(INDEX(_xlfn.UNIQUE(TRIM(_xlfn.TEXTSPLIT(Table2[[#This Row],[Selection Options]:[Selection Options]],","))),,O$21),"")} -> 2. Limited functionality available | P31: {=IFERROR(INDEX(_xlfn.UNIQUE(TRIM(_xlfn.TEXTSPLIT(Table2[[#This Row],[Selection Options]:[Selection Options]],","))),,P$21),"")} -> 3. Functionality not available | Q31: {=IFERROR(INDEX(_xlfn.UNIQUE(TRIM(_xlfn.TEXTSPLIT(Table2[[#This Row],[Selection Options]:[Selection Options]],","))),,Q$21),"")} | R31: {=IFERROR(INDEX(_xlfn.UNIQUE(TRIM(_xlfn.TEXTSPLIT(Table2[[#This Row],[Selection Options]:[Selection Options]],","))),,R$21),"")} | S31: {=IFERROR(INDEX(_xlfn.UNIQUE(TRIM(_xlfn.TEXTSPLIT(Table2[[#This Row],[Selection Options]:[Selection Options]],","))),,S$21),"")} | T31: {=IFERROR(INDEX(_xlfn.UNIQUE(TRIM(_xlfn.TEXTSPLIT(Table2[[#This Row],[Selection Options]:[Selection Options]],","))),,T$21),"")} | U31: {=IFERROR(INDEX(_xlfn.UNIQUE(TRIM(_xlfn.TEXTSPLIT(Table2[[#This Row],[Selection Options]:[Selection Options]],","))),,U$21),"")} | ... X31: {=IFERROR(INDEX(_xlfn.UNIQUE(TRIM(_xlfn.TEXTSPLIT(Table2[[#This Row],[Selection Options]:[Selection Options]],","))),,X$21),"")} | Y31: {=IF(Table2[[#This Row],[1]]="","",Table2[[#This Row],[Weight]:[Weight]]-(Table2[[#This Row],[Weight]:[Weight]]*((_xlfn.XMATCH(Table2[[#This Row],[1]],Table2[[#This Row],[1]:[11]],0))-1)/(COUNTA(Table2[[#This Row],[1]:[11]])-COUNTBLANK(Table2[[#This Row],[1]:[11]])-1)))} -> 0.008097166 | Z31: {=IF(Table2[[#This Row],[2]]="","",Table2[[#This Row],[Weight]:[Weight]]-(Table2[[#This Row],[Weight]:[Weight]]*((_xlfn.XMATCH(Table2[[#This Row],[2]],Table2[[#This Row],[1]:[11]],0))-1)/(COUNTA(Table2[[#This Row],[1]:[11]])-COUNTBLANK(Table2[[#This Row],[1]:[11]])-1)))} -> 0.004048583 | AA31: {=IF(Table2[[#This Row],[3]]="","",Table2[[#This Row],[Weight]:[Weight]]-(Table2[[#This Row],[Weight]:[Weight]]*((_xlfn.XMATCH(Table2[[#This Row],[3]],Table2[[#This Row],[1]:[11]],0))-1)/(COUNTA(Table2[[#This Row],[1]:[11]])-COUNTBLANK(Table2[[#This Row],[1]:[11]])-1)))} -> 0 | AB31: {=IF(Table2[[#This Row],[4]]="","",Table2[[#This Row],[Weight]:[Weight]]-(Table2[[#This Row],[Weight]:[Weight]]*((_xlfn.XMATCH(Table2[[#This Row],[4]],Table2[[#This Row],[1]:[11]],0))-1)/(COUNTA(Table2[[#This Row],[1]:[11]])-COUNTBLANK(Table2[[#This Row],[1]:[11]])-1)))} | AC31: {=IF(Table2[[#This Row],[5]]="","",Table2[[#This Row],[Weight]:[Weight]]-(Table2[[#This Row],[Weight]:[Weight]]*((_xlfn.XMATCH(Table2[[#This Row],[5]],Table2[[#This Row],[1]:[11]],0))-1)/(COUNTA(Table2[[#This Row],[1]:[11]])-COUNTBLANK(Table2[[#This Row],[1]:[11]])-1)))} | AD31: {=IF(Table2[[#This Row],[6]]="","",Table2[[#This Row],[Weight]:[Weight]]-(Table2[[#This Row],[Weight]:[Weight]]*((_xlfn.XMATCH(Table2[[#This Row],[6]],Table2[[#This Row],[1]:[11]],0))-1)/(COUNTA(Table2[[#This Row],[1]:[11]])-COUNTBLANK(Table2[[#This Row],[1]:[11]])-1)))} | AE31: {=IF(Table2[[#This Row],[7]]="","",Table2[[#This Row],[Weight]:[Weight]]-(Table2[[#This Row],[Weight]:[Weight]]*((_xlfn.XMATCH(Table2[[#This Row],[7]],Table2[[#This Row],[1]:[11]],0))-1)/(COUNTA(Table2[[#This Row],[1]:[11]])-COUNTBLANK(Table2[[#This Row],[1]:[11]])-1)))} | AF31: {=IF(Table2[[#This Row],[8]]="","",Table2[[#This Row],[Weight]:[Weight]]-(Table2[[#This Row],[Weight]:[Weight]]*((_xlfn.XMATCH(Table2[[#This Row],[8]],Table2[[#This Row],[1]:[11]],0))-1)/(COUNTA(Table2[[#This Row],[1]:[11]])-COUNTBLANK(Table2[[#This Row],[1]:[11]])-1)))} | AG31: {=IF(Table2[[#This Row],[9]]="","",Table2[[#This Row],[Weight]:[Weight]]-(Table2[[#This Row],[Weight]:[Weight]]*((_xlfn.XMATCH(Table2[[#This Row],[9]],Table2[[#This Row],[1]:[11]],0))-1)/(COUNTA(Table2[[#This Row],[1]:[11]])-COUNTBLANK(Table2[[#This Row],[1]:[11]])-1)))} | AH31: {=IF(Table2[[#This Row],[10]]="","",Table2[[#This Row],[Weight]:[Weight]]-(Table2[[#This Row],[Weight]:[Weight]]*((_xlfn.XMATCH(Table2[[#This Row],[10]],Table2[[#This Row],[1]:[11]],0))-1)/(COUNTA(Table2[[#This Row],[1]:[11]])-COUNTBLANK(Table2[[#This Row],[1]:[11]])-1)))} | AI31: {=IF(Table2[[#This Row],[11]]="","",Table2[[#This Row],[Weight]:[Weight]]-(Table2[[#This Row],[Weight]:[Weight]]*((_xlfn.XMATCH(Table2[[#This Row],[11]],Table2[[#This Row],[1]:[11]],0))-1)/(COUNTA(Table2[[#This Row],[1]:[11]])-COUNTBLANK(Table2[[#This Row],[1]:[11]])-1)))}
A32: Functional 10 | B32: Advanced Data Manipulation • Data Cleansing: Handle missing values, outliers, normalization. | C32: Demonstrate that the solution has the ability to handle missing values, outliers, normalization | E32: <Example for how to complete this column: Technical File, section 5 (company background section), page 11> | F32: Critical | G32: {=_xlfn.IFS(F32="","",F32="No interest",0,F32="Nice to have",1,F32="Useful",2,F32="Important",3,F32="Very important",4,F32="Critical",5,F32="Show stopper",6)} -> 5 | H32: =(G32/$G$21)*$F$21 -> 0.008097166 | I32: 1. Extensive functionality available, 2. Limited functionality available, 3. Functionality not available | J32: {=_xlfn.TEXTJOIN(" "&CHAR(10),,TEXT(SUBSTITUTE(Table2[[#This Row],[12]:[22]],".",","),"0,00%"))} -> 0,00809716599190283 0,00404858299595142 0,00% | K32: 1. Extensive functionality available | L32: =H32-(H32*((MATCH(Table2[[#This Row],[Evaluators Response (SELECT)]],Table2[[#This Row],[1]:[11]],0)-1)/(COUNTA(Table2[[#This Row],[1]:[11]])-COUNTBLANK(Table2[[#This Row],[1]:[11]])-1))) -> 0.008097166 | N32: {=IFERROR(INDEX(_xlfn.UNIQUE(TRIM(_xlfn.TEXTSPLIT(Table2[[#This Row],[Selection Options]:[Selection Options]],","))),,N$21),"")} -> 1. Extensive functionality available | O32: {=IFERROR(INDEX(_xlfn.UNIQUE(TRIM(_xlfn.TEXTSPLIT(Table2[[#This Row],[Selection Options]:[Selection Options]],","))),,O$21),"")} -> 2. Limited functionality available | P32: {=IFERROR(INDEX(_xlfn.UNIQUE(TRIM(_xlfn.TEXTSPLIT(Table2[[#This Row],[Selection Options]:[Selection Options]],","))),,P$21),"")} -> 3. Functionality not available | Q32: {=IFERROR(INDEX(_xlfn.UNIQUE(TRIM(_xlfn.TEXTSPLIT(Table2[[#This Row],[Selection Options]:[Selection Options]],","))),,Q$21),"")} | R32: {=IFERROR(INDEX(_xlfn.UNIQUE(TRIM(_xlfn.TEXTSPLIT(Table2[[#This Row],[Selection Options]:[Selection Options]],","))),,R$21),"")} | S32: {=IFERROR(INDEX(_xlfn.UNIQUE(TRIM(_xlfn.TEXTSPLIT(Table2[[#This Row],[Selection Options]:[Selection Options]],","))),,S$21),"")} | T32: {=IFERROR(INDEX(_xlfn.UNIQUE(TRIM(_xlfn.TEXTSPLIT(Table2[[#This Row],[Selection Options]:[Selection Options]],","))),,T$21),"")} | U32: {=IFERROR(INDEX(_xlfn.UNIQUE(TRIM(_xlfn.TEXTSPLIT(Table2[[#This Row],[Selection Options]:[Selection Options]],","))),,U$21),"")} | ... X32: {=IFERROR(INDEX(_xlfn.UNIQUE(TRIM(_xlfn.TEXTSPLIT(Table2[[#This Row],[Selection Options]:[Selection Options]],","))),,X$21),"")} | Y32: {=IF(Table2[[#This Row],[1]]="","",Table2[[#This Row],[Weight]:[Weight]]-(Table2[[#This Row],[Weight]:[Weight]]*((_xlfn.XMATCH(Table2[[#This Row],[1]],Table2[[#This Row],[1]:[11]],0))-1)/(COUNTA(Table2[[#This Row],[1]:[11]])-COUNTBLANK(Table2[[#This Row],[1]:[11]])-1)))} -> 0.008097166 | Z32: {=IF(Table2[[#This Row],[2]]="","",Table2[[#This Row],[Weight]:[Weight]]-(Table2[[#This Row],[Weight]:[Weight]]*((_xlfn.XMATCH(Table2[[#This Row],[2]],Table2[[#This Row],[1]:[11]],0))-1)/(COUNTA(Table2[[#This Row],[1]:[11]])-COUNTBLANK(Table2[[#This Row],[1]:[11]])-1)))} -> 0.004048583 | AA32: {=IF(Table2[[#This Row],[3]]="","",Table2[[#This Row],[Weight]:[Weight]]-(Table2[[#This Row],[Weight]:[Weight]]*((_xlfn.XMATCH(Table2[[#This Row],[3]],Table2[[#This Row],[1]:[11]],0))-1)/(COUNTA(Table2[[#This Row],[1]:[11]])-COUNTBLANK(Table2[[#This Row],[1]:[11]])-1)))} -> 0 | AB32: {=IF(Table2[[#This Row],[4]]="","",Table2[[#This Row],[Weight]:[Weight]]-(Table2[[#This Row],[Weight]:[Weight]]*((_xlfn.XMATCH(Table2[[#This Row],[4]],Table2[[#This Row],[1]:[11]],0))-1)/(COUNTA(Table2[[#This Row],[1]:[11]])-COUNTBLANK(Table2[[#This Row],[1]:[11]])-1)))} | AC32: {=IF(Table2[[#This Row],[5]]="","",Table2[[#This Row],[Weight]:[Weight]]-(Table2[[#This Row],[Weight]:[Weight]]*((_xlfn.XMATCH(Table2[[#This Row],[5]],Table2[[#This Row],[1]:[11]],0))-1)/(COUNTA(Table2[[#This Row],[1]:[11]])-COUNTBLANK(Table2[[#This Row],[1]:[11]])-1)))} | AD32: {=IF(Table2[[#This Row],[6]]="","",Table2[[#This Row],[Weight]:[Weight]]-(Table2[[#This Row],[Weight]:[Weight]]*((_xlfn.XMATCH(Table2[[#This Row],[6]],Table2[[#This Row],[1]:[11]],0))-1)/(COUNTA(Table2[[#This Row],[1]:[11]])-COUNTBLANK(Table2[[#This Row],[1]:[11]])-1)))} | AE32: {=IF(Table2[[#This Row],[7]]="","",Table2[[#This Row],[Weight]:[Weight]]-(Table2[[#This Row],[Weight]:[Weight]]*((_xlfn.XMATCH(Table2[[#This Row],[7]],Table2[[#This Row],[1]:[11]],0))-1)/(COUNTA(Table2[[#This Row],[1]:[11]])-COUNTBLANK(Table2[[#This Row],[1]:[11]])-1)))} | AF32: {=IF(Table2[[#This Row],[8]]="","",Table2[[#This Row],[Weight]:[Weight]]-(Table2[[#This Row],[Weight]:[Weight]]*((_xlfn.XMATCH(Table2[[#This Row],[8]],Table2[[#This Row],[1]:[11]],0))-1)/(COUNTA(Table2[[#This Row],[1]:[11]])-COUNTBLANK(Table2[[#This Row],[1]:[11]])-1)))} | AG32: {=IF(Table2[[#This Row],[9]]="","",Table2[[#This Row],[Weight]:[Weight]]-(Table2[[#This Row],[Weight]:[Weight]]*((_xlfn.XMATCH(Table2[[#This Row],[9]],Table2[[#This Row],[1]:[11]],0))-1)/(COUNTA(Table2[[#This Row],[1]:[11]])-COUNTBLANK(Table2[[#This Row],[1]:[11]])-1)))} | AH32: {=IF(Table2[[#This Row],[10]]="","",Table2[[#This Row],[Weight]:[Weight]]-(Table2[[#This Row],[Weight]:[Weight]]*((_xlfn.XMATCH(Table2[[#This Row],[10]],Table2[[#This Row],[1]:[11]],0))-1)/(COUNTA(Table2[[#This Row],[1]:[11]])-COUNTBLANK(Table2[[#This Row],[1]:[11]])-1)))} | AI32: {=IF(Table2[[#This Row],[11]]="","",Table2[[#This Row],[Weight]:[Weight]]-(Table2[[#This Row],[Weight]:[Weight]]*((_xlfn.XMATCH(Table2[[#This Row],[11]],Table2[[#This Row],[1]:[11]],0))-1)/(COUNTA(Table2[[#This Row],[1]:[11]])-COUNTBLANK(Table2[[#This Row],[1]:[11]])-1)))}
A33: Functional 11 | B33: Advanced Data Manipulation • Version Control: Maintain version history for imported / connected datasets. | C33: Demonstrate that the solution has the ability to maintain version history for imported / connected datasets | E33: <Example for how to complete this column: Technical File, section 5 (company background section), page 11> | F33: Critical | G33: {=_xlfn.IFS(F33="","",F33="No interest",0,F33="Nice to have",1,F33="Useful",2,F33="Important",3,F33="Very important",4,F33="Critical",5,F33="Show stopper",6)} -> 5 | H33: =(G33/$G$21)*$F$21 -> 0.008097166 | I33: 1. Extensive functionality available, 2. Limited functionality available, 3. Functionality not available | J33: {=_xlfn.TEXTJOIN(" "&CHAR(10),,TEXT(SUBSTITUTE(Table2[[#This Row],[12]:[22]],".",","),"0,00%"))} -> 0,00809716599190283 0,00404858299595142 0,00% | K33: 1. Extensive functionality available | L33: =H33-(H33*((MATCH(Table2[[#This Row],[Evaluators Response (SELECT)]],Table2[[#This Row],[1]:[11]],0)-1)/(COUNTA(Table2[[#This Row],[1]:[11]])-COUNTBLANK(Table2[[#This Row],[1]:[11]])-1))) -> 0.008097166 | N33: {=IFERROR(INDEX(_xlfn.UNIQUE(TRIM(_xlfn.TEXTSPLIT(Table2[[#This Row],[Selection Options]:[Selection Options]],","))),,N$21),"")} -> 1. Extensive functionality available | O33: {=IFERROR(INDEX(_xlfn.UNIQUE(TRIM(_xlfn.TEXTSPLIT(Table2[[#This Row],[Selection Options]:[Selection Options]],","))),,O$21),"")} -> 2. Limited functionality available | P33: {=IFERROR(INDEX(_xlfn.UNIQUE(TRIM(_xlfn.TEXTSPLIT(Table2[[#This Row],[Selection Options]:[Selection Options]],","))),,P$21),"")} -> 3. Functionality not available | Q33: {=IFERROR(INDEX(_xlfn.UNIQUE(TRIM(_xlfn.TEXTSPLIT(Table2[[#This Row],[Selection Options]:[Selection Options]],","))),,Q$21),"")} | R33: {=IFERROR(INDEX(_xlfn.UNIQUE(TRIM(_xlfn.TEXTSPLIT(Table2[[#This Row],[Selection Options]:[Selection Options]],","))),,R$21),"")} | S33: {=IFERROR(INDEX(_xlfn.UNIQUE(TRIM(_xlfn.TEXTSPLIT(Table2[[#This Row],[Selection Options]:[Selection Options]],","))),,S$21),"")} | T33: {=IFERROR(INDEX(_xlfn.UNIQUE(TRIM(_xlfn.TEXTSPLIT(Table2[[#This Row],[Selection Options]:[Selection Options]],","))),,T$21),"")} | U33: {=IFERROR(INDEX(_xlfn.UNIQUE(TRIM(_xlfn.TEXTSPLIT(Table2[[#This Row],[Selection Options]:[Selection Options]],","))),,U$21),"")} | ... X33: {=IFERROR(INDEX(_xlfn.UNIQUE(TRIM(_xlfn.TEXTSPLIT(Table2[[#This Row],[Selection Options]:[Selection Options]],","))),,X$21),"")} | Y33: {=IF(Table2[[#This Row],[1]]="","",Table2[[#This Row],[Weight]:[Weight]]-(Table2[[#This Row],[Weight]:[Weight]]*((_xlfn.XMATCH(Table2[[#This Row],[1]],Table2[[#This Row],[1]:[11]],0))-1)/(COUNTA(Table2[[#This Row],[1]:[11]])-COUNTBLANK(Table2[[#This Row],[1]:[11]])-1)))} -> 0.008097166 | Z33: {=IF(Table2[[#This Row],[2]]="","",Table2[[#This Row],[Weight]:[Weight]]-(Table2[[#This Row],[Weight]:[Weight]]*((_xlfn.XMATCH(Table2[[#This Row],[2]],Table2[[#This Row],[1]:[11]],0))-1)/(COUNTA(Table2[[#This Row],[1]:[11]])-COUNTBLANK(Table2[[#This Row],[1]:[11]])-1)))} -> 0.004048583 | AA33: {=IF(Table2[[#This Row],[3]]="","",Table2[[#This Row],[Weight]:[Weight]]-(Table2[[#This Row],[Weight]:[Weight]]*((_xlfn.XMATCH(Table2[[#This Row],[3]],Table2[[#This Row],[1]:[11]],0))-1)/(COUNTA(Table2[[#This Row],[1]:[11]])-COUNTBLANK(Table2[[#This Row],[1]:[11]])-1)))} -> 0 | AB33: {=IF(Table2[[#This Row],[4]]="","",Table2[[#This Row],[Weight]:[Weight]]-(Table2[[#This Row],[Weight]:[Weight]]*((_xlfn.XMATCH(Table2[[#This Row],[4]],Table2[[#This Row],[1]:[11]],0))-1)/(COUNTA(Table2[[#This Row],[1]:[11]])-COUNTBLANK(Table2[[#This Row],[1]:[11]])-1)))} | AC33: {=IF(Table2[[#This Row],[5]]="","",Table2[[#This Row],[Weight]:[Weight]]-(Table2[[#This Row],[Weight]:[Weight]]*((_xlfn.XMATCH(Table2[[#This Row],[5]],Table2[[#This Row],[1]:[11]],0))-1)/(COUNTA(Table2[[#This Row],[1]:[11]])-COUNTBLANK(Table2[[#This Row],[1]:[11]])-1)))} | AD33: {=IF(Table2[[#This Row],[6]]="","",Table2[[#This Row],[Weight]:[Weight]]-(Table2[[#This Row],[Weight]:[Weight]]*((_xlfn.XMATCH(Table2[[#This Row],[6]],Table2[[#This Row],[1]:[11]],0))-1)/(COUNTA(Table2[[#This Row],[1]:[11]])-COUNTBLANK(Table2[[#This Row],[1]:[11]])-1)))} | AE33: {=IF(Table2[[#This Row],[7]]="","",Table2[[#This Row],[Weight]:[Weight]]-(Table2[[#This Row],[Weight]:[Weight]]*((_xlfn.XMATCH(Table2[[#This Row],[7]],Table2[[#This Row],[1]:[11]],0))-1)/(COUNTA(Table2[[#This Row],[1]:[11]])-COUNTBLANK(Table2[[#This Row],[1]:[11]])-1)))} | AF33: {=IF(Table2[[#This Row],[8]]="","",Table2[[#This Row],[Weight]:[Weight]]-(Table2[[#This Row],[Weight]:[Weight]]*((_xlfn.XMATCH(Table2[[#This Row],[8]],Table2[[#This Row],[1]:[11]],0))-1)/(COUNTA(Table2[[#This Row],[1]:[11]])-COUNTBLANK(Table2[[#This Row],[1]:[11]])-1)))} | AG33: {=IF(Table2[[#This Row],[9]]="","",Table2[[#This Row],[Weight]:[Weight]]-(Table2[[#This Row],[Weight]:[Weight]]*((_xlfn.XMATCH(Table2[[#This Row],[9]],Table2[[#This Row],[1]:[11]],0))-1)/(COUNTA(Table2[[#This Row],[1]:[11]])-COUNTBLANK(Table2[[#This Row],[1]:[11]])-1)))} | AH33: {=IF(Table2[[#This Row],[10]]="","",Table2[[#This Row],[Weight]:[Weight]]-(Table2[[#This Row],[Weight]:[Weight]]*((_xlfn.XMATCH(Table2[[#This Row],[10]],Table2[[#This Row],[1]:[11]],0))-1)/(COUNTA(Table2[[#This Row],[1]:[11]])-COUNTBLANK(Table2[[#This Row],[1]:[11]])-1)))} | AI33: {=IF(Table2[[#This Row],[11]]="","",Table2[[#This Row],[Weight]:[Weight]]-(Table2[[#This Row],[Weight]:[Weight]]*((_xlfn.XMATCH(Table2[[#This Row],[11]],Table2[[#This Row],[1]:[11]],0))-1)/(COUNTA(Table2[[#This Row],[1]:[11]])-COUNTBLANK(Table2[[#This Row],[1]:[11]])-1)))}
A34: Functional 12 | B34: Data Analysis Capabilities • Comprehensive Statistical Functions: Including descriptive and inferential analysis. | C34: Demonstrate that the solution has the ability to perform Comprehensive Statistical Functions: Including descriptive and inferential analysis | E34: <Example for how to complete this column: Technical File, section 5 (company background section), page 11> | F34: Show stopper | G34: {=_xlfn.IFS(F34="","",F34="No interest",0,F34="Nice to have",1,F34="Useful",2,F34="Important",3,F34="Very important",4,F34="Critical",5,F34="Show stopper",6)} -> 6 | H34: =(G34/$G$21)*$F$21 -> 0.0097165992 | I34: 1. Extensive functionality available, 2. Limited functionality available, 3. Functionality not available | J34: {=_xlfn.TEXTJOIN(" "&CHAR(10),,TEXT(SUBSTITUTE(Table2[[#This Row],[12]:[22]],".",","),"0,00%"))} -> 0,0097165991902834 0,0048582995951417 0,00% | K34: 1. Extensive functionality available | L34: =H34-(H34*((MATCH(Table2[[#This Row],[Evaluators Response (SELECT)]],Table2[[#This Row],[1]:[11]],0)-1)/(COUNTA(Table2[[#This Row],[1]:[11]])-COUNTBLANK(Table2[[#This Row],[1]:[11]])-1))) -> 0.0097165992 | N34: {=IFERROR(INDEX(_xlfn.UNIQUE(TRIM(_xlfn.TEXTSPLIT(Table2[[#This Row],[Selection Options]:[Selection Options]],","))),,N$21),"")} -> 1. Extensive functionality available | O34: {=IFERROR(INDEX(_xlfn.UNIQUE(TRIM(_xlfn.TEXTSPLIT(Table2[[#This Row],[Selection Options]:[Selection Options]],","))),,O$21),"")} -> 2. Limited functionality available | P34: {=IFERROR(INDEX(_xlfn.UNIQUE(TRIM(_xlfn.TEXTSPLIT(Table2[[#This Row],[Selection Options]:[Selection Options]],","))),,P$21),"")} -> 3. Functionality not available | Q34: {=IFERROR(INDEX(_xlfn.UNIQUE(TRIM(_xlfn.TEXTSPLIT(Table2[[#This Row],[Selection Options]:[Selection Options]],","))),,Q$21),"")} | R34: {=IFERROR(INDEX(_xlfn.UNIQUE(TRIM(_xlfn.TEXTSPLIT(Table2[[#This Row],[Selection Options]:[Selection Options]],","))),,R$21),"")} | S34: {=IFERROR(INDEX(_xlfn.UNIQUE(TRIM(_xlfn.TEXTSPLIT(Table2[[#This Row],[Selection Options]:[Selection Options]],","))),,S$21),"")} | T34: {=IFERROR(INDEX(_xlfn.UNIQUE(TRIM(_xlfn.TEXTSPLIT(Table2[[#This Row],[Selection Options]:[Selection Options]],","))),,T$21),"")} | U34: {=IFERROR(INDEX(_xlfn.UNIQUE(TRIM(_xlfn.TEXTSPLIT(Table2[[#This Row],[Selection Options]:[Selection Options]],","))),,U$21),"")} | ... X34: {=IFERROR(INDEX(_xlfn.UNIQUE(TRIM(_xlfn.TEXTSPLIT(Table2[[#This Row],[Selection Options]:[Selection Options]],","))),,X$21),"")} | Y34: {=IF(Table2[[#This Row],[1]]="","",Table2[[#This Row],[Weight]:[Weight]]-(Table2[[#This Row],[Weight]:[Weight]]*((_xlfn.XMATCH(Table2[[#This Row],[1]],Table2[[#This Row],[1]:[11]],0))-1)/(COUNTA(Table2[[#This Row],[1]:[11]])-COUNTBLANK(Table2[[#This Row],[1]:[11]])-1)))} -> 0.0097165992 | Z34: {=IF(Table2[[#This Row],[2]]="","",Table2[[#This Row],[Weight]:[Weight]]-(Table2[[#This Row],[Weight]:[Weight]]*((_xlfn.XMATCH(Table2[[#This Row],[2]],Table2[[#This Row],[1]:[11]],0))-1)/(COUNTA(Table2[[#This Row],[1]:[11]])-COUNTBLANK(Table2[[#This Row],[1]:[11]])-1)))} -> 0.0048582996 | AA34: {=IF(Table2[[#This Row],[3]]="","",Table2[[#This Row],[Weight]:[Weight]]-(Table2[[#This Row],[Weight]:[Weight]]*((_xlfn.XMATCH(Table2[[#This Row],[3]],Table2[[#This Row],[1]:[11]],0))-1)/(COUNTA(Table2[[#This Row],[1]:[11]])-COUNTBLANK(Table2[[#This Row],[1]:[11]])-1)))} -> 0 | AB34: {=IF(Table2[[#This Row],[4]]="","",Table2[[#This Row],[Weight]:[Weight]]-(Table2[[#This Row],[Weight]:[Weight]]*((_xlfn.XMATCH(Table2[[#This Row],[4]],Table2[[#This Row],[1]:[11]],0))-1)/(COUNTA(Table2[[#This Row],[1]:[11]])-COUNTBLANK(Table2[[#This Row],[1]:[11]])-1)))} | AC34: {=IF(Table2[[#This Row],[5]]="","",Table2[[#This Row],[Weight]:[Weight]]-(Table2[[#This Row],[Weight]:[Weight]]*((_xlfn.XMATCH(Table2[[#This Row],[5]],Table2[[#This Row],[1]:[11]],0))-1)/(COUNTA(Table2[[#This Row],[1]:[11]])-COUNTBLANK(Table2[[#This Row],[1]:[11]])-1)))} | AD34: {=IF(Table2[[#This Row],[6]]="","",Table2[[#This Row],[Weight]:[Weight]]-(Table2[[#This Row],[Weight]:[Weight]]*((_xlfn.XMATCH(Table2[[#This Row],[6]],Table2[[#This Row],[1]:[11]],0))-1)/(COUNTA(Table2[[#This Row],[1]:[11]])-COUNTBLANK(Table2[[#This Row],[1]:[11]])-1)))} | AE34: {=IF(Table2[[#This Row],[7]]="","",Table2[[#This Row],[Weight]:[Weight]]-(Table2[[#This Row],[Weight]:[Weight]]*((_xlfn.XMATCH(Table2[[#This Row],[7]],Table2[[#This Row],[1]:[11]],0))-1)/(COUNTA(Table2[[#This Row],[1]:[11]])-COUNTBLANK(Table2[[#This Row],[1]:[11]])-1)))} | AF34: {=IF(Table2[[#This Row],[8]]="","",Table2[[#This Row],[Weight]:[Weight]]-(Table2[[#This Row],[Weight]:[Weight]]*((_xlfn.XMATCH(Table2[[#This Row],[8]],Table2[[#This Row],[1]:[11]],0))-1)/(COUNTA(Table2[[#This Row],[1]:[11]])-COUNTBLANK(Table2[[#This Row],[1]:[11]])-1)))} | AG34: {=IF(Table2[[#This Row],[9]]="","",Table2[[#This Row],[Weight]:[Weight]]-(Table2[[#This Row],[Weight]:[Weight]]*((_xlfn.XMATCH(Table2[[#This Row],[9]],Table2[[#This Row],[1]:[11]],0))-1)/(COUNTA(Table2[[#This Row],[1]:[11]])-COUNTBLANK(Table2[[#This Row],[1]:[11]])-1)))} | AH34: {=IF(Table2[[#This Row],[10]]="","",Table2[[#This Row],[Weight]:[Weight]]-(Table2[[#This Row],[Weight]:[Weight]]*((_xlfn.XMATCH(Table2[[#This Row],[10]],Table2[[#This Row],[1]:[11]],0))-1)/(COUNTA(Table2[[#This Row],[1]:[11]])-COUNTBLANK(Table2[[#This Row],[1]:[11]])-1)))} | AI34: {=IF(Table2[[#This Row],[11]]="","",Table2[[#This Row],[Weight]:[Weight]]-(Table2[[#This Row],[Weight]:[Weight]]*((_xlfn.XMATCH(Table2[[#This Row],[11]],Table2[[#This Row],[1]:[11]],0))-1)/(COUNTA(Table2[[#This Row],[1]:[11]])-COUNTBLANK(Table2[[#This Row],[1]:[11]])-1)))}
... A65: Functional 43 | B65: Data Integrity & Security • Secure Audit Trail Export: Downloadable in secure formats. | C65: Demonstrate that the solution provides Secure Audit Trail Export: Downloadable in secure formats | E65: <Example for how to complete this column: Technical File, section 5 (company background section), page 11> | F65: Show stopper | G65: {=_xlfn.IFS(F65="","",F65="No interest",0,F65="Nice to have",1,F65="Useful",2,F65="Important",3,F65="Very important",4,F65="Critical",5,F65="Show stopper",6)} -> 6 | H65: =(G65/$G$21)*$F$21 -> 0.0097165992 | I65: 1. Extensive functionality available, 2. Limited functionality available, 3. Functionality not available | J65: {=_xlfn.TEXTJOIN(" "&CHAR(10),,TEXT(SUBSTITUTE(Table2[[#This Row],[12]:[22]],".",","),"0,00%"))} -> 0,0097165991902834 0,0048582995951417 0,00% | K65: 1. Extensive functionality available | L65: =H65-(H65*((MATCH(Table2[[#This Row],[Evaluators Response (SELECT)]],Table2[[#This Row],[1]:[11]],0)-1)/(COUNTA(Table2[[#This Row],[1]:[11]])-COUNTBLANK(Table2[[#This Row],[1]:[11]])-1))) -> 0.0097165992 | N65: {=IFERROR(INDEX(_xlfn.UNIQUE(TRIM(_xlfn.TEXTSPLIT(Table2[[#This Row],[Selection Options]:[Selection Options]],","))),,N$21),"")} -> 1. Extensive functionality available | O65: {=IFERROR(INDEX(_xlfn.UNIQUE(TRIM(_xlfn.TEXTSPLIT(Table2[[#This Row],[Selection Options]:[Selection Options]],","))),,O$21),"")} -> 2. Limited functionality available | P65: {=IFERROR(INDEX(_xlfn.UNIQUE(TRIM(_xlfn.TEXTSPLIT(Table2[[#This Row],[Selection Options]:[Selection Options]],","))),,P$21),"")} -> 3. Functionality not available | Q65: {=IFERROR(INDEX(_xlfn.UNIQUE(TRIM(_xlfn.TEXTSPLIT(Table2[[#This Row],[Selection Options]:[Selection Options]],","))),,Q$21),"")} | R65: {=IFERROR(INDEX(_xlfn.UNIQUE(TRIM(_xlfn.TEXTSPLIT(Table2[[#This Row],[Selection Options]:[Selection Options]],","))),,R$21),"")} | S65: {=IFERROR(INDEX(_xlfn.UNIQUE(TRIM(_xlfn.TEXTSPLIT(Table2[[#This Row],[Selection Options]:[Selection Options]],","))),,S$21),"")} | T65: {=IFERROR(INDEX(_xlfn.UNIQUE(TRIM(_xlfn.TEXTSPLIT(Table2[[#This Row],[Selection Options]:[Selection Options]],","))),,T$21),"")} | U65: {=IFERROR(INDEX(_xlfn.UNIQUE(TRIM(_xlfn.TEXTSPLIT(Table2[[#This Row],[Selection Options]:[Selection Options]],","))),,U$21),"")} | ... X65: {=IFERROR(INDEX(_xlfn.UNIQUE(TRIM(_xlfn.TEXTSPLIT(Table2[[#This Row],[Selection Options]:[Selection Options]],","))),,X$21),"")} | Y65: {=IF(Table2[[#This Row],[1]]="","",Table2[[#This Row],[Weight]:[Weight]]-(Table2[[#This Row],[Weight]:[Weight]]*((_xlfn.XMATCH(Table2[[#This Row],[1]],Table2[[#This Row],[1]:[11]],0))-1)/(COUNTA(Table2[[#This Row],[1]:[11]])-COUNTBLANK(Table2[[#This Row],[1]:[11]])-1)))} -> 0.0097165992 | Z65: {=IF(Table2[[#This Row],[2]]="","",Table2[[#This Row],[Weight]:[Weight]]-(Table2[[#This Row],[Weight]:[Weight]]*((_xlfn.XMATCH(Table2[[#This Row],[2]],Table2[[#This Row],[1]:[11]],0))-1)/(COUNTA(Table2[[#This Row],[1]:[11]])-COUNTBLANK(Table2[[#This Row],[1]:[11]])-1)))} -> 0.0048582996 | AA65: {=IF(Table2[[#This Row],[3]]="","",Table2[[#This Row],[Weight]:[Weight]]-(Table2[[#This Row],[Weight]:[Weight]]*((_xlfn.XMATCH(Table2[[#This Row],[3]],Table2[[#This Row],[1]:[11]],0))-1)/(COUNTA(Table2[[#This Row],[1]:[11]])-COUNTBLANK(Table2[[#This Row],[1]:[11]])-1)))} -> 0 | AB65: {=IF(Table2[[#This Row],[4]]="","",Table2[[#This Row],[Weight]:[Weight]]-(Table2[[#This Row],[Weight]:[Weight]]*((_xlfn.XMATCH(Table2[[#This Row],[4]],Table2[[#This Row],[1]:[11]],0))-1)/(COUNTA(Table2[[#This Row],[1]:[11]])-COUNTBLANK(Table2[[#This Row],[1]:[11]])-1)))} | AC65: {=IF(Table2[[#This Row],[5]]="","",Table2[[#This Row],[Weight]:[Weight]]-(Table2[[#This Row],[Weight]:[Weight]]*((_xlfn.XMATCH(Table2[[#This Row],[5]],Table2[[#This Row],[1]:[11]],0))-1)/(COUNTA(Table2[[#This Row],[1]:[11]])-COUNTBLANK(Table2[[#This Row],[1]:[11]])-1)))} | AD65: {=IF(Table2[[#This Row],[6]]="","",Table2[[#This Row],[Weight]:[Weight]]-(Table2[[#This Row],[Weight]:[Weight]]*((_xlfn.XMATCH(Table2[[#This Row],[6]],Table2[[#This Row],[1]:[11]],0))-1)/(COUNTA(Table2[[#This Row],[1]:[11]])-COUNTBLANK(Table2[[#This Row],[1]:[11]])-1)))} | AE65: {=IF(Table2[[#This Row],[7]]="","",Table2[[#This Row],[Weight]:[Weight]]-(Table2[[#This Row],[Weight]:[Weight]]*((_xlfn.XMATCH(Table2[[#This Row],[7]],Table2[[#This Row],[1]:[11]],0))-1)/(COUNTA(Table2[[#This Row],[1]:[11]])-COUNTBLANK(Table2[[#This Row],[1]:[11]])-1)))} | AF65: {=IF(Table2[[#This Row],[8]]="","",Table2[[#This Row],[Weight]:[Weight]]-(Table2[[#This Row],[Weight]:[Weight]]*((_xlfn.XMATCH(Table2[[#This Row],[8]],Table2[[#This Row],[1]:[11]],0))-1)/(COUNTA(Table2[[#This Row],[1]:[11]])-COUNTBLANK(Table2[[#This Row],[1]:[11]])-1)))} | AG65: {=IF(Table2[[#This Row],[9]]="","",Table2[[#This Row],[Weight]:[Weight]]-(Table2[[#This Row],[Weight]:[Weight]]*((_xlfn.XMATCH(Table2[[#This Row],[9]],Table2[[#This Row],[1]:[11]],0))-1)/(COUNTA(Table2[[#This Row],[1]:[11]])-COUNTBLANK(Table2[[#This Row],[1]:[11]])-1)))} | AH65: {=IF(Table2[[#This Row],[10]]="","",Table2[[#This Row],[Weight]:[Weight]]-(Table2[[#This Row],[Weight]:[Weight]]*((_xlfn.XMATCH(Table2[[#This Row],[10]],Table2[[#This Row],[1]:[11]],0))-1)/(COUNTA(Table2[[#This Row],[1]:[11]])-COUNTBLANK(Table2[[#This Row],[1]:[11]])-1)))} | AI65: {=IF(Table2[[#This Row],[11]]="","",Table2[[#This Row],[Weight]:[Weight]]-(Table2[[#This Row],[Weight]:[Weight]]*((_xlfn.XMATCH(Table2[[#This Row],[11]],Table2[[#This Row],[1]:[11]],0))-1)/(COUNTA(Table2[[#This Row],[1]:[11]])-COUNTBLANK(Table2[[#This Row],[1]:[11]])-1)))}

Sheet Non-Functional
B2: Tender Number: | C2: <insert before tender publication> | E2: Eskom Group Technology: Technical Evaluation Criteria
B3: Transaction Description: | C3: Assurance Data Analytics
B4: Evaluated Tenderer's Registered Name: | C4: <Evaluator to complete> | E4: Non-Functional
B5: Evaluator Name and Surname: | C5: <Evaluator to complete>
B6: Date of Evaluation | C6: <Evaluator to complete>
B7: Evaluator Signature
B10: Technical Requirements | D10: Vendor Responses | F10: Evaluator Scores
F11: ='Scoring Summary'!C16 -> 0.15 | G11: =SUM('Non-Functional'!$G$13:$G$29) -> 80 | H11: =SUM('Non-Functional'!$H$13:$H$29) -> 0.15 | K11: Sectional Score: | L11: =SUM('Non-Functional'!$L$13:$L$29) -> 0.15 | N11: 1 | O11: 2 | P11: 3 | Q11: 4 | R11: 5 | S11: 6 | T11: 7 | U11: 8 | V11: 9 | W11: 10 | X11: 11 | Y11: 12 | Z11: 13 | AA11: 14 | AB11: 15 | AC11: 16 | AD11: 17 | AE11: 18 | AF11: 19 | AG11: 20 | AH11: 21 | AI11: 22
A12: Intem# | B12: Business requirements | C12: Mandatory Returnables - This colunm lists the mandotory evidence to be provided by the vendor in the technical file and numbered to align with each criteria question. | D12: Vendor Response: Vendor to indicate if, and to what extent they meet the requirement, detail must be provided in the tender submission | E12: Vendor Evidence: Location of Supporting Document/detailed response in your tender submission (state the file number, section & page number) | F12: Priority Description | G12: Priority | H12: Weight | I12: Selection Options | J12: Option Score | K12: Evaluators Response (SELECT) | L12: Score | M12: Evaluator comments | N12: 1 | O12: 2 | P12: 3 | Q12: 4 | R12: 5 | S12: 6 | T12: 7 | U12: 8 | V12: 9 | W12: 10 | X12: 11 | Y12: 12 | Z12: 13 | AA12: 14 | AB12: 15 | AC12: 16 | AD12: 17 | AE12: 18 | AF12: 19 | AG12: 20 | AH12: 21 | AI12: 22
A13: Test 1 | B13: Eskom requires the solution to have the 90th percentile transaction response time for 200 concurrent users to be less or equal to 3 seconds. | C13: In your technical response, please provide performance testing results for 90th percentile transaction response time for 200 concurrent users. | E13: <Example for how to complete this column: Technical File, section 5 (company background section), page 11> | F13: Very important | G13: {=_xlfn.IFS(F13="","",F13="No interest",0,F13="Nice to have",1,F13="Useful",2,F13="Important",3,F13="Very important",4,F13="Critical",5,F13="Show stopper",6)} -> 4 | H13: =(G13/$G$11)*$F$11 -> 0.0075 | I13: 100= 90th percentile transaction response time for 200 concurrent users <= 3 seconds, 50= 90th percentile transaction response time for 200 concurrent users >= 4 seconds, 0%: No report | J13: {=_xlfn.TEXTJOIN(" "&CHAR(10),,TEXT(SUBSTITUTE('Non-Functional'!$Y13:$AI13,".",","),"0,00%"))} -> 0,0075 0,00375 0,00% | K13: 100= 90th percentile transaction response time for 200 concurrent users <= 3 seconds | L13: =H13-(H13*((MATCH('Non-Functional'!$K13,'Non-Functional'!$N13:$X13,0)-1)/(COUNTA('Non-Functional'!$N13:$X13)-COUNTBLANK('Non-Functional'!$N13:$X13)-1))) -> 0.0075 | N13: {=IFERROR(INDEX(_xlfn.UNIQUE(TRIM(_xlfn.TEXTSPLIT('Non-Functional'!$I13,","))),,N$11),"")} -> 100= 90th percentile transaction response time for 200 concurrent users <= 3 seconds | O13: {=IFERROR(INDEX(_xlfn.UNIQUE(TRIM(_xlfn.TEXTSPLIT('Non-Functional'!$I13,","))),,O$11),"")} -> 50= 90th percentile transaction response time for 200 concurrent users >= 4 seconds | P13: {=IFERROR(INDEX(_xlfn.UNIQUE(TRIM(_xlfn.TEXTSPLIT('Non-Functional'!$I13,","))),,P$11),"")} -> 0%: No report | Q13: {=IFERROR(INDEX(_xlfn.UNIQUE(TRIM(_xlfn.TEXTSPLIT('Non-Functional'!$I13,","))),,Q$11),"")} | R13: {=IFERROR(INDEX(_xlfn.UNIQUE(TRIM(_xlfn.TEXTSPLIT('Non-Functional'!$I13,","))),,R$11),"")} | S13: {=IFERROR(INDEX(_xlfn.UNIQUE(TRIM(_xlfn.TEXTSPLIT('Non-Functional'!$I13,","))),,S$11),"")} | T13: {=IFERROR(INDEX(_xlfn.UNIQUE(TRIM(_xlfn.TEXTSPLIT('Non-Functional'!$I13,","))),,T$11),"")} | U13: {=IFERROR(INDEX(_xlfn.UNIQUE(TRIM(_xlfn.TEXTSPLIT('Non-Functional'!$I13,","))),,U$11),"")} | ... X13: {=IFERROR(INDEX(_xlfn.UNIQUE(TRIM(_xlfn.TEXTSPLIT('Non-Functional'!$I13,","))),,X$11),"")} | Y13: {=IF('Non-Functional'!$N13="","",'Non-Functional'!$H13-('Non-Functional'!$H13*((_xlfn.XMATCH('Non-Functional'!$N13,'Non-Functional'!$N13:$X13,0))-1)/(COUNTA('Non-Functional'!$N13:$X13)-COUNTBLANK('Non-Functional'!$N13:$X13)-1)))} -> 0.0075 | Z13: {=IF('Non-Functional'!$O13="","",'Non-Functional'!$H13-('Non-Functional'!$H13*((_xlfn.XMATCH('Non-Functional'!$O13,'Non-Functional'!$N13:$X13,0))-1)/(COUNTA('Non-Functional'!$N13:$X13)-COUNTBLANK('Non-Functional'!$N13:$X13)-1)))} -> 0.00375 | AA13: {=IF('Non-Functional'!$P13="","",'Non-Functional'!$H13-('Non-Functional'!$H13*((_xlfn.XMATCH('Non-Functional'!$P13,'Non-Functional'!$N13:$X13,0))-1)/(COUNTA('Non-Functional'!$N13:$X13)-COUNTBLANK('Non-Functional'!$N13:$X13)-1)))} -> 0 | AB13: {=IF('Non-Functional'!$Q13="","",'Non-Functional'!$H13-('Non-Functional'!$H13*((_xlfn.XMATCH('Non-Functional'!$Q13,'Non-Functional'!$N13:$X13,0))-1)/(COUNTA('Non-Functional'!$N13:$X13)-COUNTBLANK('Non-Functional'!$N13:$X13)-1)))} | AC13: {=IF('Non-Functional'!$R13="","",'Non-Functional'!$H13-('Non-Functional'!$H13*((_xlfn.XMATCH('Non-Functional'!$R13,'Non-Functional'!$N13:$X13,0))-1)/(COUNTA('Non-Functional'!$N13:$X13)-COUNTBLANK('Non-Functional'!$N13:$X13)-1)))} | AD13: {=IF('Non-Functional'!$S13="","",'Non-Functional'!$H13-('Non-Functional'!$H13*((_xlfn.XMATCH('Non-Functional'!$S13,'Non-Functional'!$N13:$X13,0))-1)/(COUNTA('Non-Functional'!$N13:$X13)-COUNTBLANK('Non-Functional'!$N13:$X13)-1)))} | AE13: {=IF('Non-Functional'!$T13="","",'Non-Functional'!$H13-('Non-Functional'!$H13*((_xlfn.XMATCH('Non-Functional'!$T13,'Non-Functional'!$N13:$X13,0))-1)/(COUNTA('Non-Functional'!$N13:$X13)-COUNTBLANK('Non-Functional'!$N13:$X13)-1)))} | AF13: {=IF('Non-Functional'!$U13="","",'Non-Functional'!$H13-('Non-Functional'!$H13*((_xlfn.XMATCH('Non-Functional'!$U13,'Non-Functional'!$N13:$X13,0))-1)/(COUNTA('Non-Functional'!$N13:$X13)-COUNTBLANK('Non-Functional'!$N13:$X13)-1)))} | AG13: {=IF('Non-Functional'!$V13="","",'Non-Functional'!$H13-('Non-Functional'!$H13*((_xlfn.XMATCH('Non-Functional'!$V13,'Non-Functional'!$N13:$X13,0))-1)/(COUNTA('Non-Functional'!$N13:$X13)-COUNTBLANK('Non-Functional'!$N13:$X13)-1)))} | AH13: {=IF('Non-Functional'!$W13="","",'Non-Functional'!$H13-('Non-Functional'!$H13*((_xlfn.XMATCH('Non-Functional'!$W13,'Non-Functional'!$N13:$X13,0))-1)/(COUNTA('Non-Functional'!$N13:$X13)-COUNTBLANK('Non-Functional'!$N13:$X13)-1)))} | AI13: {=IF('Non-Functional'!$X13="","",'Non-Functional'!$H13-('Non-Functional'!$H13*((_xlfn.XMATCH('Non-Functional'!$X13,'Non-Functional'!$N13:$X13,0))-1)/(COUNTA('Non-Functional'!$N13:$X13)-COUNTBLANK('Non-Functional'!$N13:$X13)-1)))}
A14: Test 2 | B14: Eskom requires the solution to support average throughput for 200 concurrent users to be 142000 bytes / sec or more. | C14: In your technical response, please provide performance testing results/reports average throughput bytes / sec for 200 concurrent users. | E14: <Example for how to complete this column: Technical File, section 5 (company background section), page 11> | F14: Very important | G14: {=_xlfn.IFS(F14="","",F14="No interest",0,F14="Nice to have",1,F14="Useful",2,F14="Important",3,F14="Very important",4,F14="Critical",5,F14="Show stopper",6)} -> 4 | H14: =(G14/$G$11)*$F$11 -> 0.0075 | I14: 100= Average throughput for 200 concurrent users >= 142000 bytes / sec, 50= Average throughput for 200 concurrent users >= 71000 and < 142000 bytes / sec, 0 = Average throughput for 200 concurrent users < 71000 bytes / sec | J14: {=_xlfn.TEXTJOIN(" "&CHAR(10),,TEXT(SUBSTITUTE('Non-Functional'!$Y14:$AI14,".",","),"0,00%"))} -> 0,0075 0,00375 0,00% | K14: 100= Average throughput for 200 concurrent users >= 142000 bytes / sec | L14: =H14-(H14*((MATCH('Non-Functional'!$K14,'Non-Functional'!$N14:$X14,0)-1)/(COUNTA('Non-Functional'!$N14:$X14)-COUNTBLANK('Non-Functional'!$N14:$X14)-1))) -> 0.0075 | N14: {=IFERROR(INDEX(_xlfn.UNIQUE(TRIM(_xlfn.TEXTSPLIT('Non-Functional'!$I14,","))),,N$11),"")} -> 100= Average throughput for 200 concurrent users >= 142000 bytes / sec | O14: {=IFERROR(INDEX(_xlfn.UNIQUE(TRIM(_xlfn.TEXTSPLIT('Non-Functional'!$I14,","))),,O$11),"")} -> 50= Average throughput for 200 concurrent users >= 71000 and < 142000 bytes / sec | P14: {=IFERROR(INDEX(_xlfn.UNIQUE(TRIM(_xlfn.TEXTSPLIT('Non-Functional'!$I14,","))),,P$11),"")} -> 0 = Average throughput for 200 concurrent users < 71000 bytes / sec | Q14: {=IFERROR(INDEX(_xlfn.UNIQUE(TRIM(_xlfn.TEXTSPLIT('Non-Functional'!$I14,","))),,Q$11),"")} | R14: {=IFERROR(INDEX(_xlfn.UNIQUE(TRIM(_xlfn.TEXTSPLIT('Non-Functional'!$I14,","))),,R$11),"")} | S14: {=IFERROR(INDEX(_xlfn.UNIQUE(TRIM(_xlfn.TEXTSPLIT('Non-Functional'!$I14,","))),,S$11),"")} | T14: {=IFERROR(INDEX(_xlfn.UNIQUE(TRIM(_xlfn.TEXTSPLIT('Non-Functional'!$I14,","))),,T$11),"")} | U14: {=IFERROR(INDEX(_xlfn.UNIQUE(TRIM(_xlfn.TEXTSPLIT('Non-Functional'!$I14,","))),,U$11),"")} | ... X14: {=IFERROR(INDEX(_xlfn.UNIQUE(TRIM(_xlfn.TEXTSPLIT('Non-Functional'!$I14,","))),,X$11),"")} | Y14: {=IF('Non-Functional'!$N14="","",'Non-Functional'!$H14-('Non-Functional'!$H14*((_xlfn.XMATCH('Non-Functional'!$N14,'Non-Functional'!$N14:$X14,0))-1)/(COUNTA('Non-Functional'!$N14:$X14)-COUNTBLANK('Non-Functional'!$N14:$X14)-1)))} -> 0.0075 | Z14: {=IF('Non-Functional'!$O14="","",'Non-Functional'!$H14-('Non-Functional'!$H14*((_xlfn.XMATCH('Non-Functional'!$O14,'Non-Functional'!$N14:$X14,0))-1)/(COUNTA('Non-Functional'!$N14:$X14)-COUNTBLANK('Non-Functional'!$N14:$X14)-1)))} -> 0.00375 | AA14: {=IF('Non-Functional'!$P14="","",'Non-Functional'!$H14-('Non-Functional'!$H14*((_xlfn.XMATCH('Non-Functional'!$P14,'Non-Functional'!$N14:$X14,0))-1)/(COUNTA('Non-Functional'!$N14:$X14)-COUNTBLANK('Non-Functional'!$N14:$X14)-1)))} -> 0 | AB14: {=IF('Non-Functional'!$Q14="","",'Non-Functional'!$H14-('Non-Functional'!$H14*((_xlfn.XMATCH('Non-Functional'!$Q14,'Non-Functional'!$N14:$X14,0))-1)/(COUNTA('Non-Functional'!$N14:$X14)-COUNTBLANK('Non-Functional'!$N14:$X14)-1)))} | AC14: {=IF('Non-Functional'!$R14="","",'Non-Functional'!$H14-('Non-Functional'!$H14*((_xlfn.XMATCH('Non-Functional'!$R14,'Non-Functional'!$N14:$X14,0))-1)/(COUNTA('Non-Functional'!$N14:$X14)-COUNTBLANK('Non-Functional'!$N14:$X14)-1)))} | AD14: {=IF('Non-Functional'!$S14="","",'Non-Functional'!$H14-('Non-Functional'!$H14*((_xlfn.XMATCH('Non-Functional'!$S14,'Non-Functional'!$N14:$X14,0))-1)/(COUNTA('Non-Functional'!$N14:$X14)-COUNTBLANK('Non-Functional'!$N14:$X14)-1)))} | AE14: {=IF('Non-Functional'!$T14="","",'Non-Functional'!$H14-('Non-Functional'!$H14*((_xlfn.XMATCH('Non-Functional'!$T14,'Non-Functional'!$N14:$X14,0))-1)/(COUNTA('Non-Functional'!$N14:$X14)-COUNTBLANK('Non-Functional'!$N14:$X14)-1)))} | AF14: {=IF('Non-Functional'!$U14="","",'Non-Functional'!$H14-('Non-Functional'!$H14*((_xlfn.XMATCH('Non-Functional'!$U14,'Non-Functional'!$N14:$X14,0))-1)/(COUNTA('Non-Functional'!$N14:$X14)-COUNTBLANK('Non-Functional'!$N14:$X14)-1)))} | AG14: {=IF('Non-Functional'!$V14="","",'Non-Functional'!$H14-('Non-Functional'!$H14*((_xlfn.XMATCH('Non-Functional'!$V14,'Non-Functional'!$N14:$X14,0))-1)/(COUNTA('Non-Functional'!$N14:$X14)-COUNTBLANK('Non-Functional'!$N14:$X14)-1)))} | AH14: {=IF('Non-Functional'!$W14="","",'Non-Functional'!$H14-('Non-Functional'!$H14*((_xlfn.XMATCH('Non-Functional'!$W14,'Non-Functional'!$N14:$X14,0))-1)/(COUNTA('Non-Functional'!$N14:$X14)-COUNTBLANK('Non-Functional'!$N14:$X14)-1)))} | AI14: {=IF('Non-Functional'!$X14="","",'Non-Functional'!$H14-('Non-Functional'!$H14*((_xlfn.XMATCH('Non-Functional'!$X14,'Non-Functional'!$N14:$X14,0))-1)/(COUNTA('Non-Functional'!$N14:$X14)-COUNTBLANK('Non-Functional'!$N14:$X14)-1)))}
A15: Test 3 | B15: Eskom requires the solution to have an average hit rate greater than 114 hits / sec for 200 concurrent users. | C15: In your technical response, please provide performance testing results/reports for average hits per second for 200 concurrent users. | E15: <Example for how to complete this column: Technical File, section 5 (company background section), page 11> | F15: Very important | G15: {=_xlfn.IFS(F15="","",F15="No interest",0,F15="Nice to have",1,F15="Useful",2,F15="Important",3,F15="Very important",4,F15="Critical",5,F15="Show stopper",6)} -> 4 | H15: =(G15/$G$11)*$F$11 -> 0.0075 | I15: 100= Solution supports an average hit rate > 114 hits / sec, 50= Solution supports an average hit rate <= 114 hits / sec, 0 = No performance testing results received | J15: {=_xlfn.TEXTJOIN(" "&CHAR(10),,TEXT(SUBSTITUTE('Non-Functional'!$Y15:$AI15,".",","),"0,00%"))} -> 0,0075 0,00375 0,00% | K15: 100= Solution supports an average hit rate > 114 hits / sec | L15: =H15-(H15*((MATCH('Non-Functional'!$K15,'Non-Functional'!$N15:$X15,0)-1)/(COUNTA('Non-Functional'!$N15:$X15)-COUNTBLANK('Non-Functional'!$N15:$X15)-1))) -> 0.0075 | N15: {=IFERROR(INDEX(_xlfn.UNIQUE(TRIM(_xlfn.TEXTSPLIT('Non-Functional'!$I15,","))),,N$11),"")} -> 100= Solution supports an average hit rate > 114 hits / sec | O15: {=IFERROR(INDEX(_xlfn.UNIQUE(TRIM(_xlfn.TEXTSPLIT('Non-Functional'!$I15,","))),,O$11),"")} -> 50= Solution supports an average hit rate <= 114 hits / sec | P15: {=IFERROR(INDEX(_xlfn.UNIQUE(TRIM(_xlfn.TEXTSPLIT('Non-Functional'!$I15,","))),,P$11),"")} -> 0 = No performance testing results received | Q15: {=IFERROR(INDEX(_xlfn.UNIQUE(TRIM(_xlfn.TEXTSPLIT('Non-Functional'!$I15,","))),,Q$11),"")} | R15: {=IFERROR(INDEX(_xlfn.UNIQUE(TRIM(_xlfn.TEXTSPLIT('Non-Functional'!$I15,","))),,R$11),"")} | S15: {=IFERROR(INDEX(_xlfn.UNIQUE(TRIM(_xlfn.TEXTSPLIT('Non-Functional'!$I15,","))),,S$11),"")} | T15: {=IFERROR(INDEX(_xlfn.UNIQUE(TRIM(_xlfn.TEXTSPLIT('Non-Functional'!$I15,","))),,T$11),"")} | U15: {=IFERROR(INDEX(_xlfn.UNIQUE(TRIM(_xlfn.TEXTSPLIT('Non-Functional'!$I15,","))),,U$11),"")} | ... X15: {=IFERROR(INDEX(_xlfn.UNIQUE(TRIM(_xlfn.TEXTSPLIT('Non-Functional'!$I15,","))),,X$11),"")} | Y15: {=IF('Non-Functional'!$N15="","",'Non-Functional'!$H15-('Non-Functional'!$H15*((_xlfn.XMATCH('Non-Functional'!$N15,'Non-Functional'!$N15:$X15,0))-1)/(COUNTA('Non-Functional'!$N15:$X15)-COUNTBLANK('Non-Functional'!$N15:$X15)-1)))} -> 0.0075 | Z15: {=IF('Non-Functional'!$O15="","",'Non-Functional'!$H15-('Non-Functional'!$H15*((_xlfn.XMATCH('Non-Functional'!$O15,'Non-Functional'!$N15:$X15,0))-1)/(COUNTA('Non-Functional'!$N15:$X15)-COUNTBLANK('Non-Functional'!$N15:$X15)-1)))} -> 0.00375 | AA15: {=IF('Non-Functional'!$P15="","",'Non-Functional'!$H15-('Non-Functional'!$H15*((_xlfn.XMATCH('Non-Functional'!$P15,'Non-Functional'!$N15:$X15,0))-1)/(COUNTA('Non-Functional'!$N15:$X15)-COUNTBLANK('Non-Functional'!$N15:$X15)-1)))} -> 0 | AB15: {=IF('Non-Functional'!$Q15="","",'Non-Functional'!$H15-('Non-Functional'!$H15*((_xlfn.XMATCH('Non-Functional'!$Q15,'Non-Functional'!$N15:$X15,0))-1)/(COUNTA('Non-Functional'!$N15:$X15)-COUNTBLANK('Non-Functional'!$N15:$X15)-1)))} | AC15: {=IF('Non-Functional'!$R15="","",'Non-Functional'!$H15-('Non-Functional'!$H15*((_xlfn.XMATCH('Non-Functional'!$R15,'Non-Functional'!$N15:$X15,0))-1)/(COUNTA('Non-Functional'!$N15:$X15)-COUNTBLANK('Non-Functional'!$N15:$X15)-1)))} | AD15: {=IF('Non-Functional'!$S15="","",'Non-Functional'!$H15-('Non-Functional'!$H15*((_xlfn.XMATCH('Non-Functional'!$S15,'Non-Functional'!$N15:$X15,0))-1)/(COUNTA('Non-Functional'!$N15:$X15)-COUNTBLANK('Non-Functional'!$N15:$X15)-1)))} | AE15: {=IF('Non-Functional'!$T15="","",'Non-Functional'!$H15-('Non-Functional'!$H15*((_xlfn.XMATCH('Non-Functional'!$T15,'Non-Functional'!$N15:$X15,0))-1)/(COUNTA('Non-Functional'!$N15:$X15)-COUNTBLANK('Non-Functional'!$N15:$X15)-1)))} | AF15: {=IF('Non-Functional'!$U15="","",'Non-Functional'!$H15-('Non-Functional'!$H15*((_xlfn.XMATCH('Non-Functional'!$U15,'Non-Functional'!$N15:$X15,0))-1)/(COUNTA('Non-Functional'!$N15:$X15)-COUNTBLANK('Non-Functional'!$N15:$X15)-1)))} | AG15: {=IF('Non-Functional'!$V15="","",'Non-Functional'!$H15-('Non-Functional'!$H15*((_xlfn.XMATCH('Non-Functional'!$V15,'Non-Functional'!$N15:$X15,0))-1)/(COUNTA('Non-Functional'!$N15:$X15)-COUNTBLANK('Non-Functional'!$N15:$X15)-1)))} | AH15: {=IF('Non-Functional'!$W15="","",'Non-Functional'!$H15-('Non-Functional'!$H15*((_xlfn.XMATCH('Non-Functional'!$W15,'Non-Functional'!$N15:$X15,0))-1)/(COUNTA('Non-Functional'!$N15:$X15)-COUNTBLANK('Non-Functional'!$N15:$X15)-1)))} | AI15: {=IF('Non-Functional'!$X15="","",'Non-Functional'!$H15-('Non-Functional'!$H15*((_xlfn.XMATCH('Non-Functional'!$X15,'Non-Functional'!$N15:$X15,0))-1)/(COUNTA('Non-Functional'!$N15:$X15)-COUNTBLANK('Non-Functional'!$N15:$X15)-1)))}
A16: Test 4 | B16: Eskom requires the solution to be able to handle 200 concurrent users. | C16: In your technical response, please provide performance testing results/reports showing how many concurrent users the solution can handle. | E16: <Example for how to complete this column: Technical File, section 5 (company background section), page 11> | F16: Very important | G16: {=_xlfn.IFS(F16="","",F16="No interest",0,F16="Nice to have",1,F16="Useful",2,F16="Important",3,F16="Very important",4,F16="Critical",5,F16="Show stopper",6)} -> 4 | H16: =(G16/$G$11)*$F$11 -> 0.0075 | I16: 100=Solution supports >= 200 concurrent users, 50= Solution supports < 200 concurrent users, 0 = No performance testing results received | J16: {=_xlfn.TEXTJOIN(" "&CHAR(10),,TEXT(SUBSTITUTE('Non-Functional'!$Y16:$AI16,".",","),"0,00%"))} -> 0,0075 0,00375 0,00% | K16: 100=Solution supports >= 200 concurrent users | L16: =H16-(H16*((MATCH('Non-Functional'!$K16,'Non-Functional'!$N16:$X16,0)-1)/(COUNTA('Non-Functional'!$N16:$X16)-COUNTBLANK('Non-Functional'!$N16:$X16)-1))) -> 0.0075 | N16: {=IFERROR(INDEX(_xlfn.UNIQUE(TRIM(_xlfn.TEXTSPLIT('Non-Functional'!$I16,","))),,N$11),"")} -> 100=Solution supports >= 200 concurrent users | O16: {=IFERROR(INDEX(_xlfn.UNIQUE(TRIM(_xlfn.TEXTSPLIT('Non-Functional'!$I16,","))),,O$11),"")} -> 50= Solution supports < 200 concurrent users | P16: {=IFERROR(INDEX(_xlfn.UNIQUE(TRIM(_xlfn.TEXTSPLIT('Non-Functional'!$I16,","))),,P$11),"")} -> 0 = No performance testing results received | Q16: {=IFERROR(INDEX(_xlfn.UNIQUE(TRIM(_xlfn.TEXTSPLIT('Non-Functional'!$I16,","))),,Q$11),"")} | R16: {=IFERROR(INDEX(_xlfn.UNIQUE(TRIM(_xlfn.TEXTSPLIT('Non-Functional'!$I16,","))),,R$11),"")} | S16: {=IFERROR(INDEX(_xlfn.UNIQUE(TRIM(_xlfn.TEXTSPLIT('Non-Functional'!$I16,","))),,S$11),"")} | T16: {=IFERROR(INDEX(_xlfn.UNIQUE(TRIM(_xlfn.TEXTSPLIT('Non-Functional'!$I16,","))),,T$11),"")} | U16: {=IFERROR(INDEX(_xlfn.UNIQUE(TRIM(_xlfn.TEXTSPLIT('Non-Functional'!$I16,","))),,U$11),"")} | ... X16: {=IFERROR(INDEX(_xlfn.UNIQUE(TRIM(_xlfn.TEXTSPLIT('Non-Functional'!$I16,","))),,X$11),"")} | Y16: {=IF('Non-Functional'!$N16="","",'Non-Functional'!$H16-('Non-Functional'!$H16*((_xlfn.XMATCH('Non-Functional'!$N16,'Non-Functional'!$N16:$X16,0))-1)/(COUNTA('Non-Functional'!$N16:$X16)-COUNTBLANK('Non-Functional'!$N16:$X16)-1)))} -> 0.0075 | Z16: {=IF('Non-Functional'!$O16="","",'Non-Functional'!$H16-('Non-Functional'!$H16*((_xlfn.XMATCH('Non-Functional'!$O16,'Non-Functional'!$N16:$X16,0))-1)/(COUNTA('Non-Functional'!$N16:$X16)-COUNTBLANK('Non-Functional'!$N16:$X16)-1)))} -> 0.00375 | AA16: {=IF('Non-Functional'!$P16="","",'Non-Functional'!$H16-('Non-Functional'!$H16*((_xlfn.XMATCH('Non-Functional'!$P16,'Non-Functional'!$N16:$X16,0))-1)/(COUNTA('Non-Functional'!$N16:$X16)-COUNTBLANK('Non-Functional'!$N16:$X16)-1)))} -> 0 | AB16: {=IF('Non-Functional'!$Q16="","",'Non-Functional'!$H16-('Non-Functional'!$H16*((_xlfn.XMATCH('Non-Functional'!$Q16,'Non-Functional'!$N16:$X16,0))-1)/(COUNTA('Non-Functional'!$N16:$X16)-COUNTBLANK('Non-Functional'!$N16:$X16)-1)))} | AC16: {=IF('Non-Functional'!$R16="","",'Non-Functional'!$H16-('Non-Functional'!$H16*((_xlfn.XMATCH('Non-Functional'!$R16,'Non-Functional'!$N16:$X16,0))-1)/(COUNTA('Non-Functional'!$N16:$X16)-COUNTBLANK('Non-Functional'!$N16:$X16)-1)))} | AD16: {=IF('Non-Functional'!$S16="","",'Non-Functional'!$H16-('Non-Functional'!$H16*((_xlfn.XMATCH('Non-Functional'!$S16,'Non-Functional'!$N16:$X16,0))-1)/(COUNTA('Non-Functional'!$N16:$X16)-COUNTBLANK('Non-Functional'!$N16:$X16)-1)))} | AE16: {=IF('Non-Functional'!$T16="","",'Non-Functional'!$H16-('Non-Functional'!$H16*((_xlfn.XMATCH('Non-Functional'!$T16,'Non-Functional'!$N16:$X16,0))-1)/(COUNTA('Non-Functional'!$N16:$X16)-COUNTBLANK('Non-Functional'!$N16:$X16)-1)))} | AF16: {=IF('Non-Functional'!$U16="","",'Non-Functional'!$H16-('Non-Functional'!$H16*((_xlfn.XMATCH('Non-Functional'!$U16,'Non-Functional'!$N16:$X16,0))-1)/(COUNTA('Non-Functional'!$N16:$X16)-COUNTBLANK('Non-Functional'!$N16:$X16)-1)))} | AG16: {=IF('Non-Functional'!$V16="","",'Non-Functional'!$H16-('Non-Functional'!$H16*((_xlfn.XMATCH('Non-Functional'!$V16,'Non-Functional'!$N16:$X16,0))-1)/(COUNTA('Non-Functional'!$N16:$X16)-COUNTBLANK('Non-Functional'!$N16:$X16)-1)))} | AH16: {=IF('Non-Functional'!$W16="","",'Non-Functional'!$H16-('Non-Functional'!$H16*((_xlfn.XMATCH('Non-Functional'!$W16,'Non-Functional'!$N16:$X16,0))-1)/(COUNTA('Non-Functional'!$N16:$X16)-COUNTBLANK('Non-Functional'!$N16:$X16)-1)))} | AI16: {=IF('Non-Functional'!$X16="","",'Non-Functional'!$H16-('Non-Functional'!$H16*((_xlfn.XMATCH('Non-Functional'!$X16,'Non-Functional'!$N16:$X16,0))-1)/(COUNTA('Non-Functional'!$N16:$X16)-COUNTBLANK('Non-Functional'!$N16:$X16)-1)))}
A17: INT1 | B17: Can you provide the required detail to the Eskom Integration Team to enable the design of the end-to-end solution and work closely with Eskom’s Integration team during implementation? | C17: Provide the Technical Proposal, Data Sheet and Technical specification or confirmation. communication as services is: 100%: Fully comply with requirement, 0%: No details provided or Tenderer does not fully comply with the requirements. | E17: <Example for how to complete this column: Technical File, section 5 (company background section), page 11> | F17: Critical | G17: {=_xlfn.IFS(F17="","",F17="No interest",0,F17="Nice to have",1,F17="Useful",2,F17="Important",3,F17="Very important",4,F17="Critical",5,F17="Show stopper",6)} -> 5 | H17: =(G17/$G$11)*$F$11 -> 0.009375 | I17: 100%: Fully comply with requirement, 0%: No details provided or Tenderer does not fully comply with the requirements. | J17: {=_xlfn.TEXTJOIN(" "&CHAR(10),,TEXT(SUBSTITUTE('Non-Functional'!$Y17:$AI17,".",","),"0,00%"))} -> 0,009375 0,00% | K17: 100%: Fully comply with requirement | L17: =H17-(H17*((MATCH('Non-Functional'!$K17,'Non-Functional'!$N17:$X17,0)-1)/(COUNTA('Non-Functional'!$N17:$X17)-COUNTBLANK('Non-Functional'!$N17:$X17)-1))) -> 0.009375 | N17: {=IFERROR(INDEX(_xlfn.UNIQUE(TRIM(_xlfn.TEXTSPLIT('Non-Functional'!$I17,","))),,N$11),"")} -> 100%: Fully comply with requirement | O17: {=IFERROR(INDEX(_xlfn.UNIQUE(TRIM(_xlfn.TEXTSPLIT('Non-Functional'!$I17,","))),,O$11),"")} -> 0%: No details provided or Tenderer does not fully comply with the requirements. | P17: {=IFERROR(INDEX(_xlfn.UNIQUE(TRIM(_xlfn.TEXTSPLIT('Non-Functional'!$I17,","))),,P$11),"")} | Q17: {=IFERROR(INDEX(_xlfn.UNIQUE(TRIM(_xlfn.TEXTSPLIT('Non-Functional'!$I17,","))),,Q$11),"")} | R17: {=IFERROR(INDEX(_xlfn.UNIQUE(TRIM(_xlfn.TEXTSPLIT('Non-Functional'!$I17,","))),,R$11),"")} | S17: {=IFERROR(INDEX(_xlfn.UNIQUE(TRIM(_xlfn.TEXTSPLIT('Non-Functional'!$I17,","))),,S$11),"")} | T17: {=IFERROR(INDEX(_xlfn.UNIQUE(TRIM(_xlfn.TEXTSPLIT('Non-Functional'!$I17,","))),,T$11),"")} | U17: {=IFERROR(INDEX(_xlfn.UNIQUE(TRIM(_xlfn.TEXTSPLIT('Non-Functional'!$I17,","))),,U$11),"")} | ... X17: {=IFERROR(INDEX(_xlfn.UNIQUE(TRIM(_xlfn.TEXTSPLIT('Non-Functional'!$I17,","))),,X$11),"")} | Y17: =H17 -> 0.009375 | Z17: =H17*0 -> 0 | AA17: {=IF('Non-Functional'!$P17="","",'Non-Functional'!$H17-('Non-Functional'!$H17*((_xlfn.XMATCH('Non-Functional'!$P17,'Non-Functional'!$N17:$X17,0))-1)/(COUNTA('Non-Functional'!$N17:$X17)-COUNTBLANK('Non-Functional'!$N17:$X17)-1)))} | AB17: {=IF('Non-Functional'!$Q17="","",'Non-Functional'!$H17-('Non-Functional'!$H17*((_xlfn.XMATCH('Non-Functional'!$Q17,'Non-Functional'!$N17:$X17,0))-1)/(COUNTA('Non-Functional'!$N17:$X17)-COUNTBLANK('Non-Functional'!$N17:$X17)-1)))} | AC17: {=IF('Non-Functional'!$R17="","",'Non-Functional'!$H17-('Non-Functional'!$H17*((_xlfn.XMATCH('Non-Functional'!$R17,'Non-Functional'!$N17:$X17,0))-1)/(COUNTA('Non-Functional'!$N17:$X17)-COUNTBLANK('Non-Functional'!$N17:$X17)-1)))} | AD17: {=IF('Non-Functional'!$S17="","",'Non-Functional'!$H17-('Non-Functional'!$H17*((_xlfn.XMATCH('Non-Functional'!$S17,'Non-Functional'!$N17:$X17,0))-1)/(COUNTA('Non-Functional'!$N17:$X17)-COUNTBLANK('Non-Functional'!$N17:$X17)-1)))} | AE17: {=IF('Non-Functional'!$T17="","",'Non-Functional'!$H17-('Non-Functional'!$H17*((_xlfn.XMATCH('Non-Functional'!$T17,'Non-Functional'!$N17:$X17,0))-1)/(COUNTA('Non-Functional'!$N17:$X17)-COUNTBLANK('Non-Functional'!$N17:$X17)-1)))} | AF17: {=IF('Non-Functional'!$U17="","",'Non-Functional'!$H17-('Non-Functional'!$H17*((_xlfn.XMATCH('Non-Functional'!$U17,'Non-Functional'!$N17:$X17,0))-1)/(COUNTA('Non-Functional'!$N17:$X17)-COUNTBLANK('Non-Functional'!$N17:$X17)-1)))} | AG17: {=IF('Non-Functional'!$V17="","",'Non-Functional'!$H17-('Non-Functional'!$H17*((_xlfn.XMATCH('Non-Functional'!$V17,'Non-Functional'!$N17:$X17,0))-1)/(COUNTA('Non-Functional'!$N17:$X17)-COUNTBLANK('Non-Functional'!$N17:$X17)-1)))} | AH17: {=IF('Non-Functional'!$W17="","",'Non-Functional'!$H17-('Non-Functional'!$H17*((_xlfn.XMATCH('Non-Functional'!$W17,'Non-Functional'!$N17:$X17,0))-1)/(COUNTA('Non-Functional'!$N17:$X17)-COUNTBLANK('Non-Functional'!$N17:$X17)-1)))} | AI17: {=IF('Non-Functional'!$X17="","",'Non-Functional'!$H17-('Non-Functional'!$H17*((_xlfn.XMATCH('Non-Functional'!$X17,'Non-Functional'!$N17:$X17,0))-1)/(COUNTA('Non-Functional'!$N17:$X17)-COUNTBLANK('Non-Functional'!$N17:$X17)-1)))}
A18: INT2 | B18: Eskom requires the solution to support API based integration | C18: Provide the Technical Proposal, Data Sheet and Technical specification or confirmation from the OEM on capability. API based integration is: 1. Delivered out of the box / std functionality 2. Delivered via a 3rd party OR customization 3. Not currently supported or no detail provide | E18: <Example for how to complete this column: Technical File, section 5 (company background section), page 11> | F18: Critical | G18: {=_xlfn.IFS(F18="","",F18="No interest",0,F18="Nice to have",1,F18="Useful",2,F18="Important",3,F18="Very important",4,F18="Critical",5,F18="Show stopper",6)} -> 5 | H18: =(G18/$G$11)*$F$11 -> 0.009375 | I18: 1. Delivered out of the box / std functionality, 2. Delivered via a 3rd party OR customization, 3. Not currently supported or no detail provide. | J18: {=_xlfn.TEXTJOIN(" "&CHAR(10),,TEXT(SUBSTITUTE('Non-Functional'!$Y18:$AI18,".",","),"0,00%"))} -> 0,009375 0,0046875 0,00% | K18: 1. Delivered out of the box / std functionality | L18: =H18-(H18*((MATCH('Non-Functional'!$K18,'Non-Functional'!$N18:$X18,0)-1)/(COUNTA('Non-Functional'!$N18:$X18)-COUNTBLANK('Non-Functional'!$N18:$X18)-1))) -> 0.009375 | N18: {=IFERROR(INDEX(_xlfn.UNIQUE(TRIM(_xlfn.TEXTSPLIT('Non-Functional'!$I18,","))),,N$11),"")} -> 1. Delivered out of the box / std functionality | O18: {=IFERROR(INDEX(_xlfn.UNIQUE(TRIM(_xlfn.TEXTSPLIT('Non-Functional'!$I18,","))),,O$11),"")} -> 2. Delivered via a 3rd party OR customization | P18: {=IFERROR(INDEX(_xlfn.UNIQUE(TRIM(_xlfn.TEXTSPLIT('Non-Functional'!$I18,","))),,P$11),"")} -> 3. Not currently supported or no detail provide. | Q18: {=IFERROR(INDEX(_xlfn.UNIQUE(TRIM(_xlfn.TEXTSPLIT('Non-Functional'!$I18,","))),,Q$11),"")} | R18: {=IFERROR(INDEX(_xlfn.UNIQUE(TRIM(_xlfn.TEXTSPLIT('Non-Functional'!$I18,","))),,R$11),"")} | S18: {=IFERROR(INDEX(_xlfn.UNIQUE(TRIM(_xlfn.TEXTSPLIT('Non-Functional'!$I18,","))),,S$11),"")} | T18: {=IFERROR(INDEX(_xlfn.UNIQUE(TRIM(_xlfn.TEXTSPLIT('Non-Functional'!$I18,","))),,T$11),"")} | U18: {=IFERROR(INDEX(_xlfn.UNIQUE(TRIM(_xlfn.TEXTSPLIT('Non-Functional'!$I18,","))),,U$11),"")} | ... X18: {=IFERROR(INDEX(_xlfn.UNIQUE(TRIM(_xlfn.TEXTSPLIT('Non-Functional'!$I18,","))),,X$11),"")} | Y18: {=IF('Non-Functional'!$N18="","",'Non-Functional'!$H18-('Non-Functional'!$H18*((_xlfn.XMATCH('Non-Functional'!$N18,'Non-Functional'!$N18:$X18,0))-1)/(COUNTA('Non-Functional'!$N18:$X18)-COUNTBLANK('Non-Functional'!$N18:$X18)-1)))} -> 0.009375 | Z18: {=IF('Non-Functional'!$O18="","",'Non-Functional'!$H18-('Non-Functional'!$H18*((_xlfn.XMATCH('Non-Functional'!$O18,'Non-Functional'!$N18:$X18,0))-1)/(COUNTA('Non-Functional'!$N18:$X18)-COUNTBLANK('Non-Functional'!$N18:$X18)-1)))} -> 0.0046875 | AA18: {=IF('Non-Functional'!$P18="","",'Non-Functional'!$H18-('Non-Functional'!$H18*((_xlfn.XMATCH('Non-Functional'!$P18,'Non-Functional'!$N18:$X18,0))-1)/(COUNTA('Non-Functional'!$N18:$X18)-COUNTBLANK('Non-Functional'!$N18:$X18)-1)))} -> 0 | AB18: {=IF('Non-Functional'!$Q18="","",'Non-Functional'!$H18-('Non-Functional'!$H18*((_xlfn.XMATCH('Non-Functional'!$Q18,'Non-Functional'!$N18:$X18,0))-1)/(COUNTA('Non-Functional'!$N18:$X18)-COUNTBLANK('Non-Functional'!$N18:$X18)-1)))} | AC18: {=IF('Non-Functional'!$R18="","",'Non-Functional'!$H18-('Non-Functional'!$H18*((_xlfn.XMATCH('Non-Functional'!$R18,'Non-Functional'!$N18:$X18,0))-1)/(COUNTA('Non-Functional'!$N18:$X18)-COUNTBLANK('Non-Functional'!$N18:$X18)-1)))} | AD18: {=IF('Non-Functional'!$S18="","",'Non-Functional'!$H18-('Non-Functional'!$H18*((_xlfn.XMATCH('Non-Functional'!$S18,'Non-Functional'!$N18:$X18,0))-1)/(COUNTA('Non-Functional'!$N18:$X18)-COUNTBLANK('Non-Functional'!$N18:$X18)-1)))} | AE18: {=IF('Non-Functional'!$T18="","",'Non-Functional'!$H18-('Non-Functional'!$H18*((_xlfn.XMATCH('Non-Functional'!$T18,'Non-Functional'!$N18:$X18,0))-1)/(COUNTA('Non-Functional'!$N18:$X18)-COUNTBLANK('Non-Functional'!$N18:$X18)-1)))} | AF18: {=IF('Non-Functional'!$U18="","",'Non-Functional'!$H18-('Non-Functional'!$H18*((_xlfn.XMATCH('Non-Functional'!$U18,'Non-Functional'!$N18:$X18,0))-1)/(COUNTA('Non-Functional'!$N18:$X18)-COUNTBLANK('Non-Functional'!$N18:$X18)-1)))} | AG18: {=IF('Non-Functional'!$V18="","",'Non-Functional'!$H18-('Non-Functional'!$H18*((_xlfn.XMATCH('Non-Functional'!$V18,'Non-Functional'!$N18:$X18,0))-1)/(COUNTA('Non-Functional'!$N18:$X18)-COUNTBLANK('Non-Functional'!$N18:$X18)-1)))} | AH18: {=IF('Non-Functional'!$W18="","",'Non-Functional'!$H18-('Non-Functional'!$H18*((_xlfn.XMATCH('Non-Functional'!$W18,'Non-Functional'!$N18:$X18,0))-1)/(COUNTA('Non-Functional'!$N18:$X18)-COUNTBLANK('Non-Functional'!$N18:$X18)-1)))} | AI18: {=IF('Non-Functional'!$X18="","",'Non-Functional'!$H18-('Non-Functional'!$H18*((_xlfn.XMATCH('Non-Functional'!$X18,'Non-Functional'!$N18:$X18,0))-1)/(COUNTA('Non-Functional'!$N18:$X18)-COUNTBLANK('Non-Functional'!$N18:$X18)-1)))}
A19: INT3 | B19: Eskom requires the solution to support API's exposure as services | C19: Provide the Technical Proposal, Data Sheet and Technical specification or confirmation from the OEM on capability. API based integration is: 1. Delivered out of the box / std functionality 2. Delivered via a 3rd party OR customization 3. Not currently supported or no detail provide | E19: <Example for how to complete this column: Technical File, section 5 (company background section), page 11> | F19: Critical | G19: {=_xlfn.IFS(F19="","",F19="No interest",0,F19="Nice to have",1,F19="Useful",2,F19="Important",3,F19="Very important",4,F19="Critical",5,F19="Show stopper",6)} -> 5 | H19: =(G19/$G$11)*$F$11 -> 0.009375 | I19: 1. Delivered out of the box / std functionality, 2. Delivered via a 3rd party OR customization, 3. Not currently supported or no detail provide. | J19: {=_xlfn.TEXTJOIN(" "&CHAR(10),,TEXT(SUBSTITUTE('Non-Functional'!$Y19:$AI19,".",","),"0,00%"))} -> 0,009375 0,0046875 0,00% | K19: 1. Delivered out of the box / std functionality | L19: =H19-(H19*((MATCH('Non-Functional'!$K19,'Non-Functional'!$N19:$X19,0)-1)/(COUNTA('Non-Functional'!$N19:$X19)-COUNTBLANK('Non-Functional'!$N19:$X19)-1))) -> 0.009375 | N19: {=IFERROR(INDEX(_xlfn.UNIQUE(TRIM(_xlfn.TEXTSPLIT('Non-Functional'!$I19,","))),,N$11),"")} -> 1. Delivered out of the box / std functionality | O19: {=IFERROR(INDEX(_xlfn.UNIQUE(TRIM(_xlfn.TEXTSPLIT('Non-Functional'!$I19,","))),,O$11),"")} -> 2. Delivered via a 3rd party OR customization | P19: {=IFERROR(INDEX(_xlfn.UNIQUE(TRIM(_xlfn.TEXTSPLIT('Non-Functional'!$I19,","))),,P$11),"")} -> 3. Not currently supported or no detail provide. | Q19: {=IFERROR(INDEX(_xlfn.UNIQUE(TRIM(_xlfn.TEXTSPLIT('Non-Functional'!$I19,","))),,Q$11),"")} | R19: {=IFERROR(INDEX(_xlfn.UNIQUE(TRIM(_xlfn.TEXTSPLIT('Non-Functional'!$I19,","))),,R$11),"")} | S19: {=IFERROR(INDEX(_xlfn.UNIQUE(TRIM(_xlfn.TEXTSPLIT('Non-Functional'!$I19,","))),,S$11),"")} | T19: {=IFERROR(INDEX(_xlfn.UNIQUE(TRIM(_xlfn.TEXTSPLIT('Non-Functional'!$I19,","))),,T$11),"")} | U19: {=IFERROR(INDEX(_xlfn.UNIQUE(TRIM(_xlfn.TEXTSPLIT('Non-Functional'!$I19,","))),,U$11),"")} | ... X19: {=IFERROR(INDEX(_xlfn.UNIQUE(TRIM(_xlfn.TEXTSPLIT('Non-Functional'!$I19,","))),,X$11),"")} | Y19: {=IF('Non-Functional'!$N19="","",'Non-Functional'!$H19-('Non-Functional'!$H19*((_xlfn.XMATCH('Non-Functional'!$N19,'Non-Functional'!$N19:$X19,0))-1)/(COUNTA('Non-Functional'!$N19:$X19)-COUNTBLANK('Non-Functional'!$N19:$X19)-1)))} -> 0.009375 | Z19: {=IF('Non-Functional'!$O19="","",'Non-Functional'!$H19-('Non-Functional'!$H19*((_xlfn.XMATCH('Non-Functional'!$O19,'Non-Functional'!$N19:$X19,0))-1)/(COUNTA('Non-Functional'!$N19:$X19)-COUNTBLANK('Non-Functional'!$N19:$X19)-1)))} -> 0.0046875 | AA19: {=IF('Non-Functional'!$P19="","",'Non-Functional'!$H19-('Non-Functional'!$H19*((_xlfn.XMATCH('Non-Functional'!$P19,'Non-Functional'!$N19:$X19,0))-1)/(COUNTA('Non-Functional'!$N19:$X19)-COUNTBLANK('Non-Functional'!$N19:$X19)-1)))} -> 0 | AB19: {=IF('Non-Functional'!$Q19="","",'Non-Functional'!$H19-('Non-Functional'!$H19*((_xlfn.XMATCH('Non-Functional'!$Q19,'Non-Functional'!$N19:$X19,0))-1)/(COUNTA('Non-Functional'!$N19:$X19)-COUNTBLANK('Non-Functional'!$N19:$X19)-1)))} | AC19: {=IF('Non-Functional'!$R19="","",'Non-Functional'!$H19-('Non-Functional'!$H19*((_xlfn.XMATCH('Non-Functional'!$R19,'Non-Functional'!$N19:$X19,0))-1)/(COUNTA('Non-Functional'!$N19:$X19)-COUNTBLANK('Non-Functional'!$N19:$X19)-1)))} | AD19: {=IF('Non-Functional'!$S19="","",'Non-Functional'!$H19-('Non-Functional'!$H19*((_xlfn.XMATCH('Non-Functional'!$S19,'Non-Functional'!$N19:$X19,0))-1)/(COUNTA('Non-Functional'!$N19:$X19)-COUNTBLANK('Non-Functional'!$N19:$X19)-1)))} | AE19: {=IF('Non-Functional'!$T19="","",'Non-Functional'!$H19-('Non-Functional'!$H19*((_xlfn.XMATCH('Non-Functional'!$T19,'Non-Functional'!$N19:$X19,0))-1)/(COUNTA('Non-Functional'!$N19:$X19)-COUNTBLANK('Non-Functional'!$N19:$X19)-1)))} | AF19: {=IF('Non-Functional'!$U19="","",'Non-Functional'!$H19-('Non-Functional'!$H19*((_xlfn.XMATCH('Non-Functional'!$U19,'Non-Functional'!$N19:$X19,0))-1)/(COUNTA('Non-Functional'!$N19:$X19)-COUNTBLANK('Non-Functional'!$N19:$X19)-1)))} | AG19: {=IF('Non-Functional'!$V19="","",'Non-Functional'!$H19-('Non-Functional'!$H19*((_xlfn.XMATCH('Non-Functional'!$V19,'Non-Functional'!$N19:$X19,0))-1)/(COUNTA('Non-Functional'!$N19:$X19)-COUNTBLANK('Non-Functional'!$N19:$X19)-1)))} | AH19: {=IF('Non-Functional'!$W19="","",'Non-Functional'!$H19-('Non-Functional'!$H19*((_xlfn.XMATCH('Non-Functional'!$W19,'Non-Functional'!$N19:$X19,0))-1)/(COUNTA('Non-Functional'!$N19:$X19)-COUNTBLANK('Non-Functional'!$N19:$X19)-1)))} | AI19: {=IF('Non-Functional'!$X19="","",'Non-Functional'!$H19-('Non-Functional'!$H19*((_xlfn.XMATCH('Non-Functional'!$X19,'Non-Functional'!$N19:$X19,0))-1)/(COUNTA('Non-Functional'!$N19:$X19)-COUNTBLANK('Non-Functional'!$N19:$X19)-1)))}
A20: INT4 | B20: Can you provide input to the Analysis, Design, Message Modelling, Unit testing, SIT testing, UAT testing and Non-Functional testing to the Eskom Integration team during implementation? | C20: Provide the Technical Proposal, Data Sheet and Technical specification or confirmation. 1. Fully comply with requirement, 2. No details provided or Tenderer does not fully comply with the requirements | E20: <Example for how to complete this column: Technical File, section 5 (company background section), page 11> | F20: Very important | G20: {=_xlfn.IFS(F20="","",F20="No interest",0,F20="Nice to have",1,F20="Useful",2,F20="Important",3,F20="Very important",4,F20="Critical",5,F20="Show stopper",6)} -> 4 | H20: =(G20/$G$11)*$F$11 -> 0.0075 | I20: 100%: Fully comply with requirement, 0%: No details provided or Tenderer does not fully comply with the requirements. | J20: {=_xlfn.TEXTJOIN(" "&CHAR(10),,TEXT(SUBSTITUTE('Non-Functional'!$Y20:$AI20,".",","),"0,00%"))} -> 0,0075 0,00% | K20: 100%: Fully comply with requirement | L20: =H20-(H20*((MATCH('Non-Functional'!$K20,'Non-Functional'!$N20:$X20,0)-1)/(COUNTA('Non-Functional'!$N20:$X20)-COUNTBLANK('Non-Functional'!$N20:$X20)-1))) -> 0.0075 | N20: {=IFERROR(INDEX(_xlfn.UNIQUE(TRIM(_xlfn.TEXTSPLIT('Non-Functional'!$I20,","))),,N$11),"")} -> 100%: Fully comply with requirement | O20: {=IFERROR(INDEX(_xlfn.UNIQUE(TRIM(_xlfn.TEXTSPLIT('Non-Functional'!$I20,","))),,O$11),"")} -> 0%: No details provided or Tenderer does not fully comply with the requirements. | P20: {=IFERROR(INDEX(_xlfn.UNIQUE(TRIM(_xlfn.TEXTSPLIT('Non-Functional'!$I20,","))),,P$11),"")} | Q20: {=IFERROR(INDEX(_xlfn.UNIQUE(TRIM(_xlfn.TEXTSPLIT('Non-Functional'!$I20,","))),,Q$11),"")} | R20: {=IFERROR(INDEX(_xlfn.UNIQUE(TRIM(_xlfn.TEXTSPLIT('Non-Functional'!$I20,","))),,R$11),"")} | S20: {=IFERROR(INDEX(_xlfn.UNIQUE(TRIM(_xlfn.TEXTSPLIT('Non-Functional'!$I20,","))),,S$11),"")} | T20: {=IFERROR(INDEX(_xlfn.UNIQUE(TRIM(_xlfn.TEXTSPLIT('Non-Functional'!$I20,","))),,T$11),"")} | U20: {=IFERROR(INDEX(_xlfn.UNIQUE(TRIM(_xlfn.TEXTSPLIT('Non-Functional'!$I20,","))),,U$11),"")} | ... X20: {=IFERROR(INDEX(_xlfn.UNIQUE(TRIM(_xlfn.TEXTSPLIT('Non-Functional'!$I20,","))),,X$11),"")} | Y20: =H20 -> 0.0075 | Z20: =H20*0 -> 0 | AA20: {=IF('Non-Functional'!$P20="","",'Non-Functional'!$H20-('Non-Functional'!$H20*((_xlfn.XMATCH('Non-Functional'!$P20,'Non-Functional'!$N20:$X20,0))-1)/(COUNTA('Non-Functional'!$N20:$X20)-COUNTBLANK('Non-Functional'!$N20:$X20)-1)))} | AB20: {=IF('Non-Functional'!$Q20="","",'Non-Functional'!$H20-('Non-Functional'!$H20*((_xlfn.XMATCH('Non-Functional'!$Q20,'Non-Functional'!$N20:$X20,0))-1)/(COUNTA('Non-Functional'!$N20:$X20)-COUNTBLANK('Non-Functional'!$N20:$X20)-1)))} | AC20: {=IF('Non-Functional'!$R20="","",'Non-Functional'!$H20-('Non-Functional'!$H20*((_xlfn.XMATCH('Non-Functional'!$R20,'Non-Functional'!$N20:$X20,0))-1)/(COUNTA('Non-Functional'!$N20:$X20)-COUNTBLANK('Non-Functional'!$N20:$X20)-1)))} | AD20: {=IF('Non-Functional'!$S20="","",'Non-Functional'!$H20-('Non-Functional'!$H20*((_xlfn.XMATCH('Non-Functional'!$S20,'Non-Functional'!$N20:$X20,0))-1)/(COUNTA('Non-Functional'!$N20:$X20)-COUNTBLANK('Non-Functional'!$N20:$X20)-1)))} | AE20: {=IF('Non-Functional'!$T20="","",'Non-Functional'!$H20-('Non-Functional'!$H20*((_xlfn.XMATCH('Non-Functional'!$T20,'Non-Functional'!$N20:$X20,0))-1)/(COUNTA('Non-Functional'!$N20:$X20)-COUNTBLANK('Non-Functional'!$N20:$X20)-1)))} | AF20: {=IF('Non-Functional'!$U20="","",'Non-Functional'!$H20-('Non-Functional'!$H20*((_xlfn.XMATCH('Non-Functional'!$U20,'Non-Functional'!$N20:$X20,0))-1)/(COUNTA('Non-Functional'!$N20:$X20)-COUNTBLANK('Non-Functional'!$N20:$X20)-1)))} | AG20: {=IF('Non-Functional'!$V20="","",'Non-Functional'!$H20-('Non-Functional'!$H20*((_xlfn.XMATCH('Non-Functional'!$V20,'Non-Functional'!$N20:$X20,0))-1)/(COUNTA('Non-Functional'!$N20:$X20)-COUNTBLANK('Non-Functional'!$N20:$X20)-1)))} | AH20: {=IF('Non-Functional'!$W20="","",'Non-Functional'!$H20-('Non-Functional'!$H20*((_xlfn.XMATCH('Non-Functional'!$W20,'Non-Functional'!$N20:$X20,0))-1)/(COUNTA('Non-Functional'!$N20:$X20)-COUNTBLANK('Non-Functional'!$N20:$X20)-1)))} | AI20: {=IF('Non-Functional'!$X20="","",'Non-Functional'!$H20-('Non-Functional'!$H20*((_xlfn.XMATCH('Non-Functional'!$X20,'Non-Functional'!$N20:$X20,0))-1)/(COUNTA('Non-Functional'!$N20:$X20)-COUNTBLANK('Non-Functional'!$N20:$X20)-1)))}
A21: INT5 | B21: Eskom requires the vendor to have previous experience in the implementation of integration solutions where the product has the capability to expose services for the Middleware communication e.g SOAP, REST Services | C21: Provide the Technical Proposal, Data Sheet and Technical specification or confirmation from the OEM on capability. communication as services is: 100%: Fully comply with requirement, 0%: No details provided or Tenderer does not fully comply with the requirements. | E21: <Example for how to complete this column: Technical File, section 5 (company background section), page 11> | F21: Critical | G21: {=_xlfn.IFS(F21="","",F21="No interest",0,F21="Nice to have",1,F21="Useful",2,F21="Important",3,F21="Very important",4,F21="Critical",5,F21="Show stopper",6)} -> 5 | H21: =(G21/$G$11)*$F$11 -> 0.009375 | I21: 100%: Fully comply with requirement, 0%: No details provided or Tenderer does not fully comply with the requirements. | J21: {=_xlfn.TEXTJOIN(" "&CHAR(10),,TEXT(SUBSTITUTE('Non-Functional'!$Y21:$AI21,".",","),"0,00%"))} -> 0,009375 0,00% | K21: 100%: Fully comply with requirement | L21: =H21-(H21*((MATCH('Non-Functional'!$K21,'Non-Functional'!$N21:$X21,0)-1)/(COUNTA('Non-Functional'!$N21:$X21)-COUNTBLANK('Non-Functional'!$N21:$X21)-1))) -> 0.009375 | N21: {=IFERROR(INDEX(_xlfn.UNIQUE(TRIM(_xlfn.TEXTSPLIT('Non-Functional'!$I21,","))),,N$11),"")} -> 100%: Fully comply with requirement | O21: {=IFERROR(INDEX(_xlfn.UNIQUE(TRIM(_xlfn.TEXTSPLIT('Non-Functional'!$I21,","))),,O$11),"")} -> 0%: No details provided or Tenderer does not fully comply with the requirements. | P21: {=IFERROR(INDEX(_xlfn.UNIQUE(TRIM(_xlfn.TEXTSPLIT('Non-Functional'!$I21,","))),,P$11),"")} | Q21: {=IFERROR(INDEX(_xlfn.UNIQUE(TRIM(_xlfn.TEXTSPLIT('Non-Functional'!$I21,","))),,Q$11),"")} | R21: {=IFERROR(INDEX(_xlfn.UNIQUE(TRIM(_xlfn.TEXTSPLIT('Non-Functional'!$I21,","))),,R$11),"")} | S21: {=IFERROR(INDEX(_xlfn.UNIQUE(TRIM(_xlfn.TEXTSPLIT('Non-Functional'!$I21,","))),,S$11),"")} | T21: {=IFERROR(INDEX(_xlfn.UNIQUE(TRIM(_xlfn.TEXTSPLIT('Non-Functional'!$I21,","))),,T$11),"")} | U21: {=IFERROR(INDEX(_xlfn.UNIQUE(TRIM(_xlfn.TEXTSPLIT('Non-Functional'!$I21,","))),,U$11),"")} | ... X21: {=IFERROR(INDEX(_xlfn.UNIQUE(TRIM(_xlfn.TEXTSPLIT('Non-Functional'!$I21,","))),,X$11),"")} | Y21: =H21 -> 0.009375 | Z21: =H21*0 -> 0 | AA21: {=IF('Non-Functional'!$P21="","",'Non-Functional'!$H21-('Non-Functional'!$H21*((_xlfn.XMATCH('Non-Functional'!$P21,'Non-Functional'!$N21:$X21,0))-1)/(COUNTA('Non-Functional'!$N21:$X21)-COUNTBLANK('Non-Functional'!$N21:$X21)-1)))} | AB21: {=IF('Non-Functional'!$Q21="","",'Non-Functional'!$H21-('Non-Functional'!$H21*((_xlfn.XMATCH('Non-Functional'!$Q21,'Non-Functional'!$N21:$X21,0))-1)/(COUNTA('Non-Functional'!$N21:$X21)-COUNTBLANK('Non-Functional'!$N21:$X21)-1)))} | AC21: {=IF('Non-Functional'!$R21="","",'Non-Functional'!$H21-('Non-Functional'!$H21*((_xlfn.XMATCH('Non-Functional'!$R21,'Non-Functional'!$N21:$X21,0))-1)/(COUNTA('Non-Functional'!$N21:$X21)-COUNTBLANK('Non-Functional'!$N21:$X21)-1)))} | AD21: {=IF('Non-Functional'!$S21="","",'Non-Functional'!$H21-('Non-Functional'!$H21*((_xlfn.XMATCH('Non-Functional'!$S21,'Non-Functional'!$N21:$X21,0))-1)/(COUNTA('Non-Functional'!$N21:$X21)-COUNTBLANK('Non-Functional'!$N21:$X21)-1)))} | AE21: {=IF('Non-Functional'!$T21="","",'Non-Functional'!$H21-('Non-Functional'!$H21*((_xlfn.XMATCH('Non-Functional'!$T21,'Non-Functional'!$N21:$X21,0))-1)/(COUNTA('Non-Functional'!$N21:$X21)-COUNTBLANK('Non-Functional'!$N21:$X21)-1)))} | AF21: {=IF('Non-Functional'!$U21="","",'Non-Functional'!$H21-('Non-Functional'!$H21*((_xlfn.XMATCH('Non-Functional'!$U21,'Non-Functional'!$N21:$X21,0))-1)/(COUNTA('Non-Functional'!$N21:$X21)-COUNTBLANK('Non-Functional'!$N21:$X21)-1)))} | AG21: {=IF('Non-Functional'!$V21="","",'Non-Functional'!$H21-('Non-Functional'!$H21*((_xlfn.XMATCH('Non-Functional'!$V21,'Non-Functional'!$N21:$X21,0))-1)/(COUNTA('Non-Functional'!$N21:$X21)-COUNTBLANK('Non-Functional'!$N21:$X21)-1)))} | AH21: {=IF('Non-Functional'!$W21="","",'Non-Functional'!$H21-('Non-Functional'!$H21*((_xlfn.XMATCH('Non-Functional'!$W21,'Non-Functional'!$N21:$X21,0))-1)/(COUNTA('Non-Functional'!$N21:$X21)-COUNTBLANK('Non-Functional'!$N21:$X21)-1)))} | AI21: {=IF('Non-Functional'!$X21="","",'Non-Functional'!$H21-('Non-Functional'!$H21*((_xlfn.XMATCH('Non-Functional'!$X21,'Non-Functional'!$N21:$X21,0))-1)/(COUNTA('Non-Functional'!$N21:$X21)-COUNTBLANK('Non-Functional'!$N21:$X21)-1)))}
A22: INT6 | B22: Eskom requires the vendor to provide the message structure capabilities of the proposed solution. Respond to the detail below What is the structure of the message that will be published and subscribed? Can the Solution handle a Integration a Common Information Message (CIM) or they can only send a proprietory message structure? (Proprietory – Applications own business service message structure) | C22: Provide the Technical Proposal, Data Sheet and Technical specification or confirmation from the OEM on capability. Message strucutre integration protocols is: 1. Common Information Message (CIM) structure usage is possible 2. Proprietory - Own application message structure only usage 3. Not currently supported or no detail provide | E22: <Example for how to complete this column: Technical File, section 5 (company background section), page 11> | F22: Critical | G22: {=_xlfn.IFS(F22="","",F22="No interest",0,F22="Nice to have",1,F22="Useful",2,F22="Important",3,F22="Very important",4,F22="Critical",5,F22="Show stopper",6)} -> 5 | H22: =(G22/$G$11)*$F$11 -> 0.009375 | I22: 1: Fully comply with requirement, 2: Partially comply.Proprietory message structure), 3: No details provided or Tenderer does not comply with the requirements | J22: {=_xlfn.TEXTJOIN(" "&CHAR(10),,TEXT(SUBSTITUTE('Non-Functional'!$Y22:$AI22,".",","),"0,00%"))} -> 0,009375 0,0046875 0,00% | K22: 1: Fully comply with requirement | L22: =H22-(H22*((MATCH('Non-Functional'!$K22,'Non-Functional'!$N22:$X22,0)-1)/(COUNTA('Non-Functional'!$N22:$X22)-COUNTBLANK('Non-Functional'!$N22:$X22)-1))) -> 0.009375 | N22: {=IFERROR(INDEX(_xlfn.UNIQUE(TRIM(_xlfn.TEXTSPLIT('Non-Functional'!$I22,","))),,N$11),"")} -> 1: Fully comply with requirement | O22: {=IFERROR(INDEX(_xlfn.UNIQUE(TRIM(_xlfn.TEXTSPLIT('Non-Functional'!$I22,","))),,O$11),"")} -> 2: Partially comply.Proprietory message structure) | P22: {=IFERROR(INDEX(_xlfn.UNIQUE(TRIM(_xlfn.TEXTSPLIT('Non-Functional'!$I22,","))),,P$11),"")} -> 3: No details provided or Tenderer does not comply with the requirements | Q22: {=IFERROR(INDEX(_xlfn.UNIQUE(TRIM(_xlfn.TEXTSPLIT('Non-Functional'!$I22,","))),,Q$11),"")} | R22: {=IFERROR(INDEX(_xlfn.UNIQUE(TRIM(_xlfn.TEXTSPLIT('Non-Functional'!$I22,","))),,R$11),"")} | S22: {=IFERROR(INDEX(_xlfn.UNIQUE(TRIM(_xlfn.TEXTSPLIT('Non-Functional'!$I22,","))),,S$11),"")} | T22: {=IFERROR(INDEX(_xlfn.UNIQUE(TRIM(_xlfn.TEXTSPLIT('Non-Functional'!$I22,","))),,T$11),"")} | U22: {=IFERROR(INDEX(_xlfn.UNIQUE(TRIM(_xlfn.TEXTSPLIT('Non-Functional'!$I22,","))),,U$11),"")} | ... X22: {=IFERROR(INDEX(_xlfn.UNIQUE(TRIM(_xlfn.TEXTSPLIT('Non-Functional'!$I22,","))),,X$11),"")} | Y22: {=IF('Non-Functional'!$N22="","",'Non-Functional'!$H22-('Non-Functional'!$H22*((_xlfn.XMATCH('Non-Functional'!$N22,'Non-Functional'!$N22:$X22,0))-1)/(COUNTA('Non-Functional'!$N22:$X22)-COUNTBLANK('Non-Functional'!$N22:$X22)-1)))} -> 0.009375 | Z22: {=IF('Non-Functional'!$O22="","",'Non-Functional'!$H22-('Non-Functional'!$H22*((_xlfn.XMATCH('Non-Functional'!$O22,'Non-Functional'!$N22:$X22,0))-1)/(COUNTA('Non-Functional'!$N22:$X22)-COUNTBLANK('Non-Functional'!$N22:$X22)-1)))} -> 0.0046875 | AA22: {=IF('Non-Functional'!$P22="","",'Non-Functional'!$H22-('Non-Functional'!$H22*((_xlfn.XMATCH('Non-Functional'!$P22,'Non-Functional'!$N22:$X22,0))-1)/(COUNTA('Non-Functional'!$N22:$X22)-COUNTBLANK('Non-Functional'!$N22:$X22)-1)))} -> 0 | AB22: {=IF('Non-Functional'!$Q22="","",'Non-Functional'!$H22-('Non-Functional'!$H22*((_xlfn.XMATCH('Non-Functional'!$Q22,'Non-Functional'!$N22:$X22,0))-1)/(COUNTA('Non-Functional'!$N22:$X22)-COUNTBLANK('Non-Functional'!$N22:$X22)-1)))} | AC22: {=IF('Non-Functional'!$R22="","",'Non-Functional'!$H22-('Non-Functional'!$H22*((_xlfn.XMATCH('Non-Functional'!$R22,'Non-Functional'!$N22:$X22,0))-1)/(COUNTA('Non-Functional'!$N22:$X22)-COUNTBLANK('Non-Functional'!$N22:$X22)-1)))} | AD22: {=IF('Non-Functional'!$S22="","",'Non-Functional'!$H22-('Non-Functional'!$H22*((_xlfn.XMATCH('Non-Functional'!$S22,'Non-Functional'!$N22:$X22,0))-1)/(COUNTA('Non-Functional'!$N22:$X22)-COUNTBLANK('Non-Functional'!$N22:$X22)-1)))} | AE22: {=IF('Non-Functional'!$T22="","",'Non-Functional'!$H22-('Non-Functional'!$H22*((_xlfn.XMATCH('Non-Functional'!$T22,'Non-Functional'!$N22:$X22,0))-1)/(COUNTA('Non-Functional'!$N22:$X22)-COUNTBLANK('Non-Functional'!$N22:$X22)-1)))} | AF22: {=IF('Non-Functional'!$U22="","",'Non-Functional'!$H22-('Non-Functional'!$H22*((_xlfn.XMATCH('Non-Functional'!$U22,'Non-Functional'!$N22:$X22,0))-1)/(COUNTA('Non-Functional'!$N22:$X22)-COUNTBLANK('Non-Functional'!$N22:$X22)-1)))} | AG22: {=IF('Non-Functional'!$V22="","",'Non-Functional'!$H22-('Non-Functional'!$H22*((_xlfn.XMATCH('Non-Functional'!$V22,'Non-Functional'!$N22:$X22,0))-1)/(COUNTA('Non-Functional'!$N22:$X22)-COUNTBLANK('Non-Functional'!$N22:$X22)-1)))} | AH22: {=IF('Non-Functional'!$W22="","",'Non-Functional'!$H22-('Non-Functional'!$H22*((_xlfn.XMATCH('Non-Functional'!$W22,'Non-Functional'!$N22:$X22,0))-1)/(COUNTA('Non-Functional'!$N22:$X22)-COUNTBLANK('Non-Functional'!$N22:$X22)-1)))} | AI22: {=IF('Non-Functional'!$X22="","",'Non-Functional'!$H22-('Non-Functional'!$H22*((_xlfn.XMATCH('Non-Functional'!$X22,'Non-Functional'!$N22:$X22,0))-1)/(COUNTA('Non-Functional'!$N22:$X22)-COUNTBLANK('Non-Functional'!$N22:$X22)-1)))}
A23: INT7 | B23: Eskom requires the solution to support the following list of integration protocols: web services, REST API and SOAP. | C23: Provide the Technical Proposal, Data Sheet and Technical specification or confirmation from the OEM on capability. web services, REST API and SOAP integration protocols is: 1. Delivered out of the box / std functionality 2. Delivered via a 3rd party OR customization 3. Not currently supported or no detail provide | E23: <Example for how to complete this column: Technical File, section 5 (company background section), page 11> | F23: Critical | G23: {=_xlfn.IFS(F23="","",F23="No interest",0,F23="Nice to have",1,F23="Useful",2,F23="Important",3,F23="Very important",4,F23="Critical",5,F23="Show stopper",6)} -> 5 | H23: =(G23/$G$11)*$F$11 -> 0.009375 | I23: 1. Functionality is delivered out of the box / std functionality, 2. Functionality is delivered via a 3rd party OR customization, 3. Functionality Not currently supported or no detail provide. | J23: {=_xlfn.TEXTJOIN(" "&CHAR(10),,TEXT(SUBSTITUTE('Non-Functional'!$Y23:$AI23,".",","),"0,00%"))} -> 0,009375 0,0046875 0,00% | K23: 1. Functionality is delivered out of the box / std functionality | L23: =H23-(H23*((MATCH('Non-Functional'!$K23,'Non-Functional'!$N23:$X23,0)-1)/(COUNTA('Non-Functional'!$N23:$X23)-COUNTBLANK('Non-Functional'!$N23:$X23)-1))) -> 0.009375 | N23: {=IFERROR(INDEX(_xlfn.UNIQUE(TRIM(_xlfn.TEXTSPLIT('Non-Functional'!$I23,","))),,N$11),"")} -> 1. Functionality is delivered out of the box / std functionality | O23: {=IFERROR(INDEX(_xlfn.UNIQUE(TRIM(_xlfn.TEXTSPLIT('Non-Functional'!$I23,","))),,O$11),"")} -> 2. Functionality is delivered via a 3rd party OR customization | P23: {=IFERROR(INDEX(_xlfn.UNIQUE(TRIM(_xlfn.TEXTSPLIT('Non-Functional'!$I23,","))),,P$11),"")} -> 3. Functionality Not currently supported or no detail provide. | Q23: {=IFERROR(INDEX(_xlfn.UNIQUE(TRIM(_xlfn.TEXTSPLIT('Non-Functional'!$I23,","))),,Q$11),"")} | R23: {=IFERROR(INDEX(_xlfn.UNIQUE(TRIM(_xlfn.TEXTSPLIT('Non-Functional'!$I23,","))),,R$11),"")} | S23: {=IFERROR(INDEX(_xlfn.UNIQUE(TRIM(_xlfn.TEXTSPLIT('Non-Functional'!$I23,","))),,S$11),"")} | T23: {=IFERROR(INDEX(_xlfn.UNIQUE(TRIM(_xlfn.TEXTSPLIT('Non-Functional'!$I23,","))),,T$11),"")} | U23: {=IFERROR(INDEX(_xlfn.UNIQUE(TRIM(_xlfn.TEXTSPLIT('Non-Functional'!$I23,","))),,U$11),"")} | ... X23: {=IFERROR(INDEX(_xlfn.UNIQUE(TRIM(_xlfn.TEXTSPLIT('Non-Functional'!$I23,","))),,X$11),"")} | Y23: {=IF('Non-Functional'!$N23="","",'Non-Functional'!$H23-('Non-Functional'!$H23*((_xlfn.XMATCH('Non-Functional'!$N23,'Non-Functional'!$N23:$X23,0))-1)/(COUNTA('Non-Functional'!$N23:$X23)-COUNTBLANK('Non-Functional'!$N23:$X23)-1)))} -> 0.009375 | Z23: {=IF('Non-Functional'!$O23="","",'Non-Functional'!$H23-('Non-Functional'!$H23*((_xlfn.XMATCH('Non-Functional'!$O23,'Non-Functional'!$N23:$X23,0))-1)/(COUNTA('Non-Functional'!$N23:$X23)-COUNTBLANK('Non-Functional'!$N23:$X23)-1)))} -> 0.0046875 | AA23: {=IF('Non-Functional'!$P23="","",'Non-Functional'!$H23-('Non-Functional'!$H23*((_xlfn.XMATCH('Non-Functional'!$P23,'Non-Functional'!$N23:$X23,0))-1)/(COUNTA('Non-Functional'!$N23:$X23)-COUNTBLANK('Non-Functional'!$N23:$X23)-1)))} -> 0 | AB23: {=IF('Non-Functional'!$Q23="","",'Non-Functional'!$H23-('Non-Functional'!$H23*((_xlfn.XMATCH('Non-Functional'!$Q23,'Non-Functional'!$N23:$X23,0))-1)/(COUNTA('Non-Functional'!$N23:$X23)-COUNTBLANK('Non-Functional'!$N23:$X23)-1)))} | AC23: {=IF('Non-Functional'!$R23="","",'Non-Functional'!$H23-('Non-Functional'!$H23*((_xlfn.XMATCH('Non-Functional'!$R23,'Non-Functional'!$N23:$X23,0))-1)/(COUNTA('Non-Functional'!$N23:$X23)-COUNTBLANK('Non-Functional'!$N23:$X23)-1)))} | AD23: {=IF('Non-Functional'!$S23="","",'Non-Functional'!$H23-('Non-Functional'!$H23*((_xlfn.XMATCH('Non-Functional'!$S23,'Non-Functional'!$N23:$X23,0))-1)/(COUNTA('Non-Functional'!$N23:$X23)-COUNTBLANK('Non-Functional'!$N23:$X23)-1)))} | AE23: {=IF('Non-Functional'!$T23="","",'Non-Functional'!$H23-('Non-Functional'!$H23*((_xlfn.XMATCH('Non-Functional'!$T23,'Non-Functional'!$N23:$X23,0))-1)/(COUNTA('Non-Functional'!$N23:$X23)-COUNTBLANK('Non-Functional'!$N23:$X23)-1)))} | AF23: {=IF('Non-Functional'!$U23="","",'Non-Functional'!$H23-('Non-Functional'!$H23*((_xlfn.XMATCH('Non-Functional'!$U23,'Non-Functional'!$N23:$X23,0))-1)/(COUNTA('Non-Functional'!$N23:$X23)-COUNTBLANK('Non-Functional'!$N23:$X23)-1)))} | AG23: {=IF('Non-Functional'!$V23="","",'Non-Functional'!$H23-('Non-Functional'!$H23*((_xlfn.XMATCH('Non-Functional'!$V23,'Non-Functional'!$N23:$X23,0))-1)/(COUNTA('Non-Functional'!$N23:$X23)-COUNTBLANK('Non-Functional'!$N23:$X23)-1)))} | AH23: {=IF('Non-Functional'!$W23="","",'Non-Functional'!$H23-('Non-Functional'!$H23*((_xlfn.XMATCH('Non-Functional'!$W23,'Non-Functional'!$N23:$X23,0))-1)/(COUNTA('Non-Functional'!$N23:$X23)-COUNTBLANK('Non-Functional'!$N23:$X23)-1)))} | AI23: {=IF('Non-Functional'!$X23="","",'Non-Functional'!$H23-('Non-Functional'!$H23*((_xlfn.XMATCH('Non-Functional'!$X23,'Non-Functional'!$N23:$X23,0))-1)/(COUNTA('Non-Functional'!$N23:$X23)-COUNTBLANK('Non-Functional'!$N23:$X23)-1)))}
A24: INT8 | B24: Eskom requires the solution to support Application Business Services that can receive an Integration reply with a full-service response (pre-defined message structure) in case the Application is invoking an Integration Web Service | C24: Provide the Technical Proposal, Data Sheet and Technical specification or confirmation from the OEM on capability. API based integration is: 1. Delivered out of the box / std functionality 2. Delivered via a 3rd party OR customization 3. Not currently supported | E24: <Example for how to complete this column: Technical File, section 5 (company background section), page 11> | F24: Critical | G24: {=_xlfn.IFS(F24="","",F24="No interest",0,F24="Nice to have",1,F24="Useful",2,F24="Important",3,F24="Very important",4,F24="Critical",5,F24="Show stopper",6)} -> 5 | H24: =(G24/$G$11)*$F$11 -> 0.009375 | I24: 1. Functionality is delivered out of the box / std functionality, 2. Functionality is delivered via a 3rd party OR customization, 3. Functionality is not currently supported | J24: {=_xlfn.TEXTJOIN(" "&CHAR(10),,TEXT(SUBSTITUTE('Non-Functional'!$Y24:$AI24,".",","),"0,00%"))} -> 0,009375 0,0046875 0,00% | K24: 1. Functionality is delivered out of the box / std functionality | L24: =H24-(H24*((MATCH('Non-Functional'!$K24,'Non-Functional'!$N24:$X24,0)-1)/(COUNTA('Non-Functional'!$N24:$X24)-COUNTBLANK('Non-Functional'!$N24:$X24)-1))) -> 0.009375 | N24: {=IFERROR(INDEX(_xlfn.UNIQUE(TRIM(_xlfn.TEXTSPLIT('Non-Functional'!$I24,","))),,N$11),"")} -> 1. Functionality is delivered out of the box / std functionality | O24: {=IFERROR(INDEX(_xlfn.UNIQUE(TRIM(_xlfn.TEXTSPLIT('Non-Functional'!$I24,","))),,O$11),"")} -> 2. Functionality is delivered via a 3rd party OR customization | P24: {=IFERROR(INDEX(_xlfn.UNIQUE(TRIM(_xlfn.TEXTSPLIT('Non-Functional'!$I24,","))),,P$11),"")} -> 3. Functionality is not currently supported | Q24: {=IFERROR(INDEX(_xlfn.UNIQUE(TRIM(_xlfn.TEXTSPLIT('Non-Functional'!$I24,","))),,Q$11),"")} | R24: {=IFERROR(INDEX(_xlfn.UNIQUE(TRIM(_xlfn.TEXTSPLIT('Non-Functional'!$I24,","))),,R$11),"")} | S24: {=IFERROR(INDEX(_xlfn.UNIQUE(TRIM(_xlfn.TEXTSPLIT('Non-Functional'!$I24,","))),,S$11),"")} | T24: {=IFERROR(INDEX(_xlfn.UNIQUE(TRIM(_xlfn.TEXTSPLIT('Non-Functional'!$I24,","))),,T$11),"")} | U24: {=IFERROR(INDEX(_xlfn.UNIQUE(TRIM(_xlfn.TEXTSPLIT('Non-Functional'!$I24,","))),,U$11),"")} | ... X24: {=IFERROR(INDEX(_xlfn.UNIQUE(TRIM(_xlfn.TEXTSPLIT('Non-Functional'!$I24,","))),,X$11),"")} | Y24: {=IF('Non-Functional'!$N24="","",'Non-Functional'!$H24-('Non-Functional'!$H24*((_xlfn.XMATCH('Non-Functional'!$N24,'Non-Functional'!$N24:$X24,0))-1)/(COUNTA('Non-Functional'!$N24:$X24)-COUNTBLANK('Non-Functional'!$N24:$X24)-1)))} -> 0.009375 | Z24: {=IF('Non-Functional'!$O24="","",'Non-Functional'!$H24-('Non-Functional'!$H24*((_xlfn.XMATCH('Non-Functional'!$O24,'Non-Functional'!$N24:$X24,0))-1)/(COUNTA('Non-Functional'!$N24:$X24)-COUNTBLANK('Non-Functional'!$N24:$X24)-1)))} -> 0.0046875 | AA24: {=IF('Non-Functional'!$P24="","",'Non-Functional'!$H24-('Non-Functional'!$H24*((_xlfn.XMATCH('Non-Functional'!$P24,'Non-Functional'!$N24:$X24,0))-1)/(COUNTA('Non-Functional'!$N24:$X24)-COUNTBLANK('Non-Functional'!$N24:$X24)-1)))} -> 0 | AB24: {=IF('Non-Functional'!$Q24="","",'Non-Functional'!$H24-('Non-Functional'!$H24*((_xlfn.XMATCH('Non-Functional'!$Q24,'Non-Functional'!$N24:$X24,0))-1)/(COUNTA('Non-Functional'!$N24:$X24)-COUNTBLANK('Non-Functional'!$N24:$X24)-1)))} | AC24: {=IF('Non-Functional'!$R24="","",'Non-Functional'!$H24-('Non-Functional'!$H24*((_xlfn.XMATCH('Non-Functional'!$R24,'Non-Functional'!$N24:$X24,0))-1)/(COUNTA('Non-Functional'!$N24:$X24)-COUNTBLANK('Non-Functional'!$N24:$X24)-1)))} | AD24: {=IF('Non-Functional'!$S24="","",'Non-Functional'!$H24-('Non-Functional'!$H24*((_xlfn.XMATCH('Non-Functional'!$S24,'Non-Functional'!$N24:$X24,0))-1)/(COUNTA('Non-Functional'!$N24:$X24)-COUNTBLANK('Non-Functional'!$N24:$X24)-1)))} | AE24: {=IF('Non-Functional'!$T24="","",'Non-Functional'!$H24-('Non-Functional'!$H24*((_xlfn.XMATCH('Non-Functional'!$T24,'Non-Functional'!$N24:$X24,0))-1)/(COUNTA('Non-Functional'!$N24:$X24)-COUNTBLANK('Non-Functional'!$N24:$X24)-1)))} | AF24: {=IF('Non-Functional'!$U24="","",'Non-Functional'!$H24-('Non-Functional'!$H24*((_xlfn.XMATCH('Non-Functional'!$U24,'Non-Functional'!$N24:$X24,0))-1)/(COUNTA('Non-Functional'!$N24:$X24)-COUNTBLANK('Non-Functional'!$N24:$X24)-1)))} | AG24: {=IF('Non-Functional'!$V24="","",'Non-Functional'!$H24-('Non-Functional'!$H24*((_xlfn.XMATCH('Non-Functional'!$V24,'Non-Functional'!$N24:$X24,0))-1)/(COUNTA('Non-Functional'!$N24:$X24)-COUNTBLANK('Non-Functional'!$N24:$X24)-1)))} | AH24: {=IF('Non-Functional'!$W24="","",'Non-Functional'!$H24-('Non-Functional'!$H24*((_xlfn.XMATCH('Non-Functional'!$W24,'Non-Functional'!$N24:$X24,0))-1)/(COUNTA('Non-Functional'!$N24:$X24)-COUNTBLANK('Non-Functional'!$N24:$X24)-1)))} | AI24: {=IF('Non-Functional'!$X24="","",'Non-Functional'!$H24-('Non-Functional'!$H24*((_xlfn.XMATCH('Non-Functional'!$X24,'Non-Functional'!$N24:$X24,0))-1)/(COUNTA('Non-Functional'!$N24:$X24)-COUNTBLANK('Non-Functional'!$N24:$X24)-1)))}
A25: INT9 | B25: Eskom requires the solution to provides application business services that can communicate via one-way or two-way certificate (SSL/TLS) to secure the channel. | C25: Provide the Technical Proposal, Data Sheet and Technical specification or confirmation from the OEM on capability. Application business services that can communicate via one-way or two-way certificate (SSL/TLS) to secure the channel is: 1. Delivered out of the box / std functionality 2. Delivered via a 3rd party OR customization 3. Not currently supported | E25: <Example for how to complete this column: Technical File, section 5 (company background section), page 11> | F25: Critical | G25: {=_xlfn.IFS(F25="","",F25="No interest",0,F25="Nice to have",1,F25="Useful",2,F25="Important",3,F25="Very important",4,F25="Critical",5,F25="Show stopper",6)} -> 5 | H25: =(G25/$G$11)*$F$11 -> 0.009375 | I25: 1. Functionality is delivered out of the box / std functionality, 2. Functionality is delivered via a 3rd party OR customization, 3. Functionality is not currently supported | J25: {=_xlfn.TEXTJOIN(" "&CHAR(10),,TEXT(SUBSTITUTE('Non-Functional'!$Y25:$AI25,".",","),"0,00%"))} -> 0,009375 0,0046875 0,00% | K25: 1. Functionality is delivered out of the box / std functionality | L25: =H25-(H25*((MATCH('Non-Functional'!$K25,'Non-Functional'!$N25:$X25,0)-1)/(COUNTA('Non-Functional'!$N25:$X25)-COUNTBLANK('Non-Functional'!$N25:$X25)-1))) -> 0.009375 | N25: {=IFERROR(INDEX(_xlfn.UNIQUE(TRIM(_xlfn.TEXTSPLIT('Non-Functional'!$I25,","))),,N$11),"")} -> 1. Functionality is delivered out of the box / std functionality | O25: {=IFERROR(INDEX(_xlfn.UNIQUE(TRIM(_xlfn.TEXTSPLIT('Non-Functional'!$I25,","))),,O$11),"")} -> 2. Functionality is delivered via a 3rd party OR customization | P25: {=IFERROR(INDEX(_xlfn.UNIQUE(TRIM(_xlfn.TEXTSPLIT('Non-Functional'!$I25,","))),,P$11),"")} -> 3. Functionality is not currently supported | Q25: {=IFERROR(INDEX(_xlfn.UNIQUE(TRIM(_xlfn.TEXTSPLIT('Non-Functional'!$I25,","))),,Q$11),"")} | R25: {=IFERROR(INDEX(_xlfn.UNIQUE(TRIM(_xlfn.TEXTSPLIT('Non-Functional'!$I25,","))),,R$11),"")} | S25: {=IFERROR(INDEX(_xlfn.UNIQUE(TRIM(_xlfn.TEXTSPLIT('Non-Functional'!$I25,","))),,S$11),"")} | T25: {=IFERROR(INDEX(_xlfn.UNIQUE(TRIM(_xlfn.TEXTSPLIT('Non-Functional'!$I25,","))),,T$11),"")} | U25: {=IFERROR(INDEX(_xlfn.UNIQUE(TRIM(_xlfn.TEXTSPLIT('Non-Functional'!$I25,","))),,U$11),"")} | ... X25: {=IFERROR(INDEX(_xlfn.UNIQUE(TRIM(_xlfn.TEXTSPLIT('Non-Functional'!$I25,","))),,X$11),"")} | Y25: {=IF('Non-Functional'!$N25="","",'Non-Functional'!$H25-('Non-Functional'!$H25*((_xlfn.XMATCH('Non-Functional'!$N25,'Non-Functional'!$N25:$X25,0))-1)/(COUNTA('Non-Functional'!$N25:$X25)-COUNTBLANK('Non-Functional'!$N25:$X25)-1)))} -> 0.009375 | Z25: {=IF('Non-Functional'!$O25="","",'Non-Functional'!$H25-('Non-Functional'!$H25*((_xlfn.XMATCH('Non-Functional'!$O25,'Non-Functional'!$N25:$X25,0))-1)/(COUNTA('Non-Functional'!$N25:$X25)-COUNTBLANK('Non-Functional'!$N25:$X25)-1)))} -> 0.0046875 | AA25: {=IF('Non-Functional'!$P25="","",'Non-Functional'!$H25-('Non-Functional'!$H25*((_xlfn.XMATCH('Non-Functional'!$P25,'Non-Functional'!$N25:$X25,0))-1)/(COUNTA('Non-Functional'!$N25:$X25)-COUNTBLANK('Non-Functional'!$N25:$X25)-1)))} -> 0 | AB25: {=IF('Non-Functional'!$Q25="","",'Non-Functional'!$H25-('Non-Functional'!$H25*((_xlfn.XMATCH('Non-Functional'!$Q25,'Non-Functional'!$N25:$X25,0))-1)/(COUNTA('Non-Functional'!$N25:$X25)-COUNTBLANK('Non-Functional'!$N25:$X25)-1)))} | AC25: {=IF('Non-Functional'!$R25="","",'Non-Functional'!$H25-('Non-Functional'!$H25*((_xlfn.XMATCH('Non-Functional'!$R25,'Non-Functional'!$N25:$X25,0))-1)/(COUNTA('Non-Functional'!$N25:$X25)-COUNTBLANK('Non-Functional'!$N25:$X25)-1)))} | AD25: {=IF('Non-Functional'!$S25="","",'Non-Functional'!$H25-('Non-Functional'!$H25*((_xlfn.XMATCH('Non-Functional'!$S25,'Non-Functional'!$N25:$X25,0))-1)/(COUNTA('Non-Functional'!$N25:$X25)-COUNTBLANK('Non-Functional'!$N25:$X25)-1)))} | AE25: {=IF('Non-Functional'!$T25="","",'Non-Functional'!$H25-('Non-Functional'!$H25*((_xlfn.XMATCH('Non-Functional'!$T25,'Non-Functional'!$N25:$X25,0))-1)/(COUNTA('Non-Functional'!$N25:$X25)-COUNTBLANK('Non-Functional'!$N25:$X25)-1)))} | AF25: {=IF('Non-Functional'!$U25="","",'Non-Functional'!$H25-('Non-Functional'!$H25*((_xlfn.XMATCH('Non-Functional'!$U25,'Non-Functional'!$N25:$X25,0))-1)/(COUNTA('Non-Functional'!$N25:$X25)-COUNTBLANK('Non-Functional'!$N25:$X25)-1)))} | AG25: {=IF('Non-Functional'!$V25="","",'Non-Functional'!$H25-('Non-Functional'!$H25*((_xlfn.XMATCH('Non-Functional'!$V25,'Non-Functional'!$N25:$X25,0))-1)/(COUNTA('Non-Functional'!$N25:$X25)-COUNTBLANK('Non-Functional'!$N25:$X25)-1)))} | AH25: {=IF('Non-Functional'!$W25="","",'Non-Functional'!$H25-('Non-Functional'!$H25*((_xlfn.XMATCH('Non-Functional'!$W25,'Non-Functional'!$N25:$X25,0))-1)/(COUNTA('Non-Functional'!$N25:$X25)-COUNTBLANK('Non-Functional'!$N25:$X25)-1)))} | AI25: {=IF('Non-Functional'!$X25="","",'Non-Functional'!$H25-('Non-Functional'!$H25*((_xlfn.XMATCH('Non-Functional'!$X25,'Non-Functional'!$N25:$X25,0))-1)/(COUNTA('Non-Functional'!$N25:$X25)-COUNTBLANK('Non-Functional'!$N25:$X25)-1)))}
A26: INT10 | B26: Eskom requires the solution to provides application business services that support basic authentication for web services, database or SFTP for authentication security. | C26: Provide the Technical Proposal, Data Sheet and Technical specification or confirmation from the OEM on capability. Application business services that support basic authentication for web services, database or SFTP for authentication security is: 1. Delivered out of the box / std functionality 2. Delivered via a 3rd party OR customization 3. Not currently supported or no detail provide | E26: <Example for how to complete this column: Technical File, section 5 (company background section), page 11> | F26: Critical | G26: {=_xlfn.IFS(F26="","",F26="No interest",0,F26="Nice to have",1,F26="Useful",2,F26="Important",3,F26="Very important",4,F26="Critical",5,F26="Show stopper",6)} -> 5 | H26: =(G26/$G$11)*$F$11 -> 0.009375 | I26: 1. Functionality is delivered out of the box / std functionality, 2. Functionality is delivered via a 3rd party OR customization, 3. Functionality is not currently supported | J26: {=_xlfn.TEXTJOIN(" "&CHAR(10),,TEXT(SUBSTITUTE('Non-Functional'!$Y26:$AI26,".",","),"0,00%"))} -> 0,009375 0,0046875 0,00% | K26: 1. Functionality is delivered out of the box / std functionality | L26: =H26-(H26*((MATCH('Non-Functional'!$K26,'Non-Functional'!$N26:$X26,0)-1)/(COUNTA('Non-Functional'!$N26:$X26)-COUNTBLANK('Non-Functional'!$N26:$X26)-1))) -> 0.009375 | N26: {=IFERROR(INDEX(_xlfn.UNIQUE(TRIM(_xlfn.TEXTSPLIT('Non-Functional'!$I26,","))),,N$11),"")} -> 1. Functionality is delivered out of the box / std functionality | O26: {=IFERROR(INDEX(_xlfn.UNIQUE(TRIM(_xlfn.TEXTSPLIT('Non-Functional'!$I26,","))),,O$11),"")} -> 2. Functionality is delivered via a 3rd party OR customization | P26: {=IFERROR(INDEX(_xlfn.UNIQUE(TRIM(_xlfn.TEXTSPLIT('Non-Functional'!$I26,","))),,P$11),"")} -> 3. Functionality is not currently supported | Q26: {=IFERROR(INDEX(_xlfn.UNIQUE(TRIM(_xlfn.TEXTSPLIT('Non-Functional'!$I26,","))),,Q$11),"")} | R26: {=IFERROR(INDEX(_xlfn.UNIQUE(TRIM(_xlfn.TEXTSPLIT('Non-Functional'!$I26,","))),,R$11),"")} | S26: {=IFERROR(INDEX(_xlfn.UNIQUE(TRIM(_xlfn.TEXTSPLIT('Non-Functional'!$I26,","))),,S$11),"")} | T26: {=IFERROR(INDEX(_xlfn.UNIQUE(TRIM(_xlfn.TEXTSPLIT('Non-Functional'!$I26,","))),,T$11),"")} | U26: {=IFERROR(INDEX(_xlfn.UNIQUE(TRIM(_xlfn.TEXTSPLIT('Non-Functional'!$I26,","))),,U$11),"")} | ... X26: {=IFERROR(INDEX(_xlfn.UNIQUE(TRIM(_xlfn.TEXTSPLIT('Non-Functional'!$I26,","))),,X$11),"")} | Y26: {=IF('Non-Functional'!$N26="","",'Non-Functional'!$H26-('Non-Functional'!$H26*((_xlfn.XMATCH('Non-Functional'!$N26,'Non-Functional'!$N26:$X26,0))-1)/(COUNTA('Non-Functional'!$N26:$X26)-COUNTBLANK('Non-Functional'!$N26:$X26)-1)))} -> 0.009375 | Z26: {=IF('Non-Functional'!$O26="","",'Non-Functional'!$H26-('Non-Functional'!$H26*((_xlfn.XMATCH('Non-Functional'!$O26,'Non-Functional'!$N26:$X26,0))-1)/(COUNTA('Non-Functional'!$N26:$X26)-COUNTBLANK('Non-Functional'!$N26:$X26)-1)))} -> 0.0046875 | AA26: {=IF('Non-Functional'!$P26="","",'Non-Functional'!$H26-('Non-Functional'!$H26*((_xlfn.XMATCH('Non-Functional'!$P26,'Non-Functional'!$N26:$X26,0))-1)/(COUNTA('Non-Functional'!$N26:$X26)-COUNTBLANK('Non-Functional'!$N26:$X26)-1)))} -> 0 | AB26: {=IF('Non-Functional'!$Q26="","",'Non-Functional'!$H26-('Non-Functional'!$H26*((_xlfn.XMATCH('Non-Functional'!$Q26,'Non-Functional'!$N26:$X26,0))-1)/(COUNTA('Non-Functional'!$N26:$X26)-COUNTBLANK('Non-Functional'!$N26:$X26)-1)))} | AC26: {=IF('Non-Functional'!$R26="","",'Non-Functional'!$H26-('Non-Functional'!$H26*((_xlfn.XMATCH('Non-Functional'!$R26,'Non-Functional'!$N26:$X26,0))-1)/(COUNTA('Non-Functional'!$N26:$X26)-COUNTBLANK('Non-Functional'!$N26:$X26)-1)))} | AD26: {=IF('Non-Functional'!$S26="","",'Non-Functional'!$H26-('Non-Functional'!$H26*((_xlfn.XMATCH('Non-Functional'!$S26,'Non-Functional'!$N26:$X26,0))-1)/(COUNTA('Non-Functional'!$N26:$X26)-COUNTBLANK('Non-Functional'!$N26:$X26)-1)))} | AE26: {=IF('Non-Functional'!$T26="","",'Non-Functional'!$H26-('Non-Functional'!$H26*((_xlfn.XMATCH('Non-Functional'!$T26,'Non-Functional'!$N26:$X26,0))-1)/(COUNTA('Non-Functional'!$N26:$X26)-COUNTBLANK('Non-Functional'!$N26:$X26)-1)))} | AF26: {=IF('Non-Functional'!$U26="","",'Non-Functional'!$H26-('Non-Functional'!$H26*((_xlfn.XMATCH('Non-Functional'!$U26,'Non-Functional'!$N26:$X26,0))-1)/(COUNTA('Non-Functional'!$N26:$X26)-COUNTBLANK('Non-Functional'!$N26:$X26)-1)))} | AG26: {=IF('Non-Functional'!$V26="","",'Non-Functional'!$H26-('Non-Functional'!$H26*((_xlfn.XMATCH('Non-Functional'!$V26,'Non-Functional'!$N26:$X26,0))-1)/(COUNTA('Non-Functional'!$N26:$X26)-COUNTBLANK('Non-Functional'!$N26:$X26)-1)))} | AH26: {=IF('Non-Functional'!$W26="","",'Non-Functional'!$H26-('Non-Functional'!$H26*((_xlfn.XMATCH('Non-Functional'!$W26,'Non-Functional'!$N26:$X26,0))-1)/(COUNTA('Non-Functional'!$N26:$X26)-COUNTBLANK('Non-Functional'!$N26:$X26)-1)))} | AI26: {=IF('Non-Functional'!$X26="","",'Non-Functional'!$H26-('Non-Functional'!$H26*((_xlfn.XMATCH('Non-Functional'!$X26,'Non-Functional'!$N26:$X26,0))-1)/(COUNTA('Non-Functional'!$N26:$X26)-COUNTBLANK('Non-Functional'!$N26:$X26)-1)))}
A27: INT11 | B27: Eskom requires the solution to provide application business service with the capability to distinguish between technical and business error and handle each one in a separate manner. | C27: Provide the Technical Proposal, Data Sheet and Technical specification or confirmation from the OEM on capability. Application business services that support basic authentication for web services, database or SFTP for authentication security is: 1. Delivered out of the box / std functionality 2. Delivered via a 3rd party OR customization 3. Not currently supported or no detail provide | E27: <Example for how to complete this column: Technical File, section 5 (company background section), page 11> | F27: Critical | G27: {=_xlfn.IFS(F27="","",F27="No interest",0,F27="Nice to have",1,F27="Useful",2,F27="Important",3,F27="Very important",4,F27="Critical",5,F27="Show stopper",6)} -> 5 | H27: =(G27/$G$11)*$F$11 -> 0.009375 | I27: 1. Functionality is delivered out of the box / std functionality, 2. Functionality is delivered via a 3rd party OR customization, 3. Functionality is not currently supported | J27: {=_xlfn.TEXTJOIN(" "&CHAR(10),,TEXT(SUBSTITUTE('Non-Functional'!$Y27:$AI27,".",","),"0,00%"))} -> 0,009375 0,0046875 0,00% | K27: 1. Functionality is delivered out of the box / std functionality | L27: =H27-(H27*((MATCH('Non-Functional'!$K27,'Non-Functional'!$N27:$X27,0)-1)/(COUNTA('Non-Functional'!$N27:$X27)-COUNTBLANK('Non-Functional'!$N27:$X27)-1))) -> 0.009375 | N27: {=IFERROR(INDEX(_xlfn.UNIQUE(TRIM(_xlfn.TEXTSPLIT('Non-Functional'!$I27,","))),,N$11),"")} -> 1. Functionality is delivered out of the box / std functionality | O27: {=IFERROR(INDEX(_xlfn.UNIQUE(TRIM(_xlfn.TEXTSPLIT('Non-Functional'!$I27,","))),,O$11),"")} -> 2. Functionality is delivered via a 3rd party OR customization | P27: {=IFERROR(INDEX(_xlfn.UNIQUE(TRIM(_xlfn.TEXTSPLIT('Non-Functional'!$I27,","))),,P$11),"")} -> 3. Functionality is not currently supported | Q27: {=IFERROR(INDEX(_xlfn.UNIQUE(TRIM(_xlfn.TEXTSPLIT('Non-Functional'!$I27,","))),,Q$11),"")} | R27: {=IFERROR(INDEX(_xlfn.UNIQUE(TRIM(_xlfn.TEXTSPLIT('Non-Functional'!$I27,","))),,R$11),"")} | S27: {=IFERROR(INDEX(_xlfn.UNIQUE(TRIM(_xlfn.TEXTSPLIT('Non-Functional'!$I27,","))),,S$11),"")} | T27: {=IFERROR(INDEX(_xlfn.UNIQUE(TRIM(_xlfn.TEXTSPLIT('Non-Functional'!$I27,","))),,T$11),"")} | U27: {=IFERROR(INDEX(_xlfn.UNIQUE(TRIM(_xlfn.TEXTSPLIT('Non-Functional'!$I27,","))),,U$11),"")} | ... X27: {=IFERROR(INDEX(_xlfn.UNIQUE(TRIM(_xlfn.TEXTSPLIT('Non-Functional'!$I27,","))),,X$11),"")} | Y27: {=IF('Non-Functional'!$N27="","",'Non-Functional'!$H27-('Non-Functional'!$H27*((_xlfn.XMATCH('Non-Functional'!$N27,'Non-Functional'!$N27:$X27,0))-1)/(COUNTA('Non-Functional'!$N27:$X27)-COUNTBLANK('Non-Functional'!$N27:$X27)-1)))} -> 0.009375 | Z27: {=IF('Non-Functional'!$O27="","",'Non-Functional'!$H27-('Non-Functional'!$H27*((_xlfn.XMATCH('Non-Functional'!$O27,'Non-Functional'!$N27:$X27,0))-1)/(COUNTA('Non-Functional'!$N27:$X27)-COUNTBLANK('Non-Functional'!$N27:$X27)-1)))} -> 0.0046875 | AA27: {=IF('Non-Functional'!$P27="","",'Non-Functional'!$H27-('Non-Functional'!$H27*((_xlfn.XMATCH('Non-Functional'!$P27,'Non-Functional'!$N27:$X27,0))-1)/(COUNTA('Non-Functional'!$N27:$X27)-COUNTBLANK('Non-Functional'!$N27:$X27)-1)))} -> 0 | AB27: {=IF('Non-Functional'!$Q27="","",'Non-Functional'!$H27-('Non-Functional'!$H27*((_xlfn.XMATCH('Non-Functional'!$Q27,'Non-Functional'!$N27:$X27,0))-1)/(COUNTA('Non-Functional'!$N27:$X27)-COUNTBLANK('Non-Functional'!$N27:$X27)-1)))} | AC27: {=IF('Non-Functional'!$R27="","",'Non-Functional'!$H27-('Non-Functional'!$H27*((_xlfn.XMATCH('Non-Functional'!$R27,'Non-Functional'!$N27:$X27,0))-1)/(COUNTA('Non-Functional'!$N27:$X27)-COUNTBLANK('Non-Functional'!$N27:$X27)-1)))} | AD27: {=IF('Non-Functional'!$S27="","",'Non-Functional'!$H27-('Non-Functional'!$H27*((_xlfn.XMATCH('Non-Functional'!$S27,'Non-Functional'!$N27:$X27,0))-1)/(COUNTA('Non-Functional'!$N27:$X27)-COUNTBLANK('Non-Functional'!$N27:$X27)-1)))} | AE27: {=IF('Non-Functional'!$T27="","",'Non-Functional'!$H27-('Non-Functional'!$H27*((_xlfn.XMATCH('Non-Functional'!$T27,'Non-Functional'!$N27:$X27,0))-1)/(COUNTA('Non-Functional'!$N27:$X27)-COUNTBLANK('Non-Functional'!$N27:$X27)-1)))} | AF27: {=IF('Non-Functional'!$U27="","",'Non-Functional'!$H27-('Non-Functional'!$H27*((_xlfn.XMATCH('Non-Functional'!$U27,'Non-Functional'!$N27:$X27,0))-1)/(COUNTA('Non-Functional'!$N27:$X27)-COUNTBLANK('Non-Functional'!$N27:$X27)-1)))} | AG27: {=IF('Non-Functional'!$V27="","",'Non-Functional'!$H27-('Non-Functional'!$H27*((_xlfn.XMATCH('Non-Functional'!$V27,'Non-Functional'!$N27:$X27,0))-1)/(COUNTA('Non-Functional'!$N27:$X27)-COUNTBLANK('Non-Functional'!$N27:$X27)-1)))} | AH27: {=IF('Non-Functional'!$W27="","",'Non-Functional'!$H27-('Non-Functional'!$H27*((_xlfn.XMATCH('Non-Functional'!$W27,'Non-Functional'!$N27:$X27,0))-1)/(COUNTA('Non-Functional'!$N27:$X27)-COUNTBLANK('Non-Functional'!$N27:$X27)-1)))} | AI27: {=IF('Non-Functional'!$X27="","",'Non-Functional'!$H27-('Non-Functional'!$H27*((_xlfn.XMATCH('Non-Functional'!$X27,'Non-Functional'!$N27:$X27,0))-1)/(COUNTA('Non-Functional'!$N27:$X27)-COUNTBLANK('Non-Functional'!$N27:$X27)-1)))}
A28: INT12 | B28: Eskom requires the solution to be able to manage instances where the same record is publish multiple time, and not create duplicates. | C28: Provide the Technical Proposal, Data Sheet and Technical specification or confirmation from the OEM on capability. Application business services that support basic authentication for web services, database or SFTP for authentication security is: 1. Delivered out of the box / std functionality 2. Delivered via a 3rd party OR customization 3. Not currently supported or no detail provide | E28: <Example for how to complete this column: Technical File, section 5 (company background section), page 11> | F28: Critical | G28: {=_xlfn.IFS(F28="","",F28="No interest",0,F28="Nice to have",1,F28="Useful",2,F28="Important",3,F28="Very important",4,F28="Critical",5,F28="Show stopper",6)} -> 5 | H28: =(G28/$G$11)*$F$11 -> 0.009375 | I28: 1. Functionality is delivered out of the box / std functionality, 2. Functionality is delivered via a 3rd party OR customization, 3. Functionality is not currently supported | J28: {=_xlfn.TEXTJOIN(" "&CHAR(10),,TEXT(SUBSTITUTE('Non-Functional'!$Y28:$AI28,".",","),"0,00%"))} -> 0,009375 0,0046875 0,00% | K28: 1. Functionality is delivered out of the box / std functionality | L28: =H28-(H28*((MATCH('Non-Functional'!$K28,'Non-Functional'!$N28:$X28,0)-1)/(COUNTA('Non-Functional'!$N28:$X28)-COUNTBLANK('Non-Functional'!$N28:$X28)-1))) -> 0.009375 | N28: {=IFERROR(INDEX(_xlfn.UNIQUE(TRIM(_xlfn.TEXTSPLIT('Non-Functional'!$I28,","))),,N$11),"")} -> 1. Functionality is delivered out of the box / std functionality | O28: {=IFERROR(INDEX(_xlfn.UNIQUE(TRIM(_xlfn.TEXTSPLIT('Non-Functional'!$I28,","))),,O$11),"")} -> 2. Functionality is delivered via a 3rd party OR customization | P28: {=IFERROR(INDEX(_xlfn.UNIQUE(TRIM(_xlfn.TEXTSPLIT('Non-Functional'!$I28,","))),,P$11),"")} -> 3. Functionality is not currently supported | Q28: {=IFERROR(INDEX(_xlfn.UNIQUE(TRIM(_xlfn.TEXTSPLIT('Non-Functional'!$I28,","))),,Q$11),"")} | R28: {=IFERROR(INDEX(_xlfn.UNIQUE(TRIM(_xlfn.TEXTSPLIT('Non-Functional'!$I28,","))),,R$11),"")} | S28: {=IFERROR(INDEX(_xlfn.UNIQUE(TRIM(_xlfn.TEXTSPLIT('Non-Functional'!$I28,","))),,S$11),"")} | T28: {=IFERROR(INDEX(_xlfn.UNIQUE(TRIM(_xlfn.TEXTSPLIT('Non-Functional'!$I28,","))),,T$11),"")} | U28: {=IFERROR(INDEX(_xlfn.UNIQUE(TRIM(_xlfn.TEXTSPLIT('Non-Functional'!$I28,","))),,U$11),"")} | ... X28: {=IFERROR(INDEX(_xlfn.UNIQUE(TRIM(_xlfn.TEXTSPLIT('Non-Functional'!$I28,","))),,X$11),"")} | Y28: {=IF('Non-Functional'!$N28="","",'Non-Functional'!$H28-('Non-Functional'!$H28*((_xlfn.XMATCH('Non-Functional'!$N28,'Non-Functional'!$N28:$X28,0))-1)/(COUNTA('Non-Functional'!$N28:$X28)-COUNTBLANK('Non-Functional'!$N28:$X28)-1)))} -> 0.009375 | Z28: {=IF('Non-Functional'!$O28="","",'Non-Functional'!$H28-('Non-Functional'!$H28*((_xlfn.XMATCH('Non-Functional'!$O28,'Non-Functional'!$N28:$X28,0))-1)/(COUNTA('Non-Functional'!$N28:$X28)-COUNTBLANK('Non-Functional'!$N28:$X28)-1)))} -> 0.0046875 | AA28: {=IF('Non-Functional'!$P28="","",'Non-Functional'!$H28-('Non-Functional'!$H28*((_xlfn.XMATCH('Non-Functional'!$P28,'Non-Functional'!$N28:$X28,0))-1)/(COUNTA('Non-Functional'!$N28:$X28)-COUNTBLANK('Non-Functional'!$N28:$X28)-1)))} -> 0 | AB28: {=IF('Non-Functional'!$Q28="","",'Non-Functional'!$H28-('Non-Functional'!$H28*((_xlfn.XMATCH('Non-Functional'!$Q28,'Non-Functional'!$N28:$X28,0))-1)/(COUNTA('Non-Functional'!$N28:$X28)-COUNTBLANK('Non-Functional'!$N28:$X28)-1)))} | AC28: {=IF('Non-Functional'!$R28="","",'Non-Functional'!$H28-('Non-Functional'!$H28*((_xlfn.XMATCH('Non-Functional'!$R28,'Non-Functional'!$N28:$X28,0))-1)/(COUNTA('Non-Functional'!$N28:$X28)-COUNTBLANK('Non-Functional'!$N28:$X28)-1)))} | AD28: {=IF('Non-Functional'!$S28="","",'Non-Functional'!$H28-('Non-Functional'!$H28*((_xlfn.XMATCH('Non-Functional'!$S28,'Non-Functional'!$N28:$X28,0))-1)/(COUNTA('Non-Functional'!$N28:$X28)-COUNTBLANK('Non-Functional'!$N28:$X28)-1)))} | AE28: {=IF('Non-Functional'!$T28="","",'Non-Functional'!$H28-('Non-Functional'!$H28*((_xlfn.XMATCH('Non-Functional'!$T28,'Non-Functional'!$N28:$X28,0))-1)/(COUNTA('Non-Functional'!$N28:$X28)-COUNTBLANK('Non-Functional'!$N28:$X28)-1)))} | AF28: {=IF('Non-Functional'!$U28="","",'Non-Functional'!$H28-('Non-Functional'!$H28*((_xlfn.XMATCH('Non-Functional'!$U28,'Non-Functional'!$N28:$X28,0))-1)/(COUNTA('Non-Functional'!$N28:$X28)-COUNTBLANK('Non-Functional'!$N28:$X28)-1)))} | AG28: {=IF('Non-Functional'!$V28="","",'Non-Functional'!$H28-('Non-Functional'!$H28*((_xlfn.XMATCH('Non-Functional'!$V28,'Non-Functional'!$N28:$X28,0))-1)/(COUNTA('Non-Functional'!$N28:$X28)-COUNTBLANK('Non-Functional'!$N28:$X28)-1)))} | AH28: {=IF('Non-Functional'!$W28="","",'Non-Functional'!$H28-('Non-Functional'!$H28*((_xlfn.XMATCH('Non-Functional'!$W28,'Non-Functional'!$N28:$X28,0))-1)/(COUNTA('Non-Functional'!$N28:$X28)-COUNTBLANK('Non-Functional'!$N28:$X28)-1)))} | AI28: {=IF('Non-Functional'!$X28="","",'Non-Functional'!$H28-('Non-Functional'!$H28*((_xlfn.XMATCH('Non-Functional'!$X28,'Non-Functional'!$N28:$X28,0))-1)/(COUNTA('Non-Functional'!$N28:$X28)-COUNTBLANK('Non-Functional'!$N28:$X28)-1)))}
A29: Standard 1 | B29: Support for Windows 11, Microsoft Edge and Firefox. Google Chrome is accepted where proof is provided that Edge and Firefox do not work. | C29: Provide proof that the vendor's solution works on Windows 11 and is compatible with Edge and Firefox | E29: <Example for how to complete this column: Technical File, section 5 (company background section), page 11> | F29: Critical | G29: {=_xlfn.IFS(F29="","",F29="No interest",0,F29="Nice to have",1,F29="Useful",2,F29="Important",3,F29="Very important",4,F29="Critical",5,F29="Show stopper",6)} -> 5 | H29: =(G29/$G$11)*$F$11 -> 0.009375 | I29: 1. Compliant, 2. Non-compliant | J29: {=_xlfn.TEXTJOIN(" "&CHAR(10),,TEXT(SUBSTITUTE('Non-Functional'!$Y29:$AI29,".",","),"0,00%"))} -> 0,009375 0,00% | K29: 1. Compliant | L29: =H29-(H29*((MATCH('Non-Functional'!$K29,'Non-Functional'!$N29:$X29,0)-1)/(COUNTA('Non-Functional'!$N29:$X29)-COUNTBLANK('Non-Functional'!$N29:$X29)-1))) -> 0.009375 | N29: {=IFERROR(INDEX(_xlfn.UNIQUE(TRIM(_xlfn.TEXTSPLIT('Non-Functional'!$I29,","))),,N$11),"")} -> 1. Compliant | O29: {=IFERROR(INDEX(_xlfn.UNIQUE(TRIM(_xlfn.TEXTSPLIT('Non-Functional'!$I29,","))),,O$11),"")} -> 2. Non-compliant | P29: {=IFERROR(INDEX(_xlfn.UNIQUE(TRIM(_xlfn.TEXTSPLIT('Non-Functional'!$I29,","))),,P$11),"")} | Q29: {=IFERROR(INDEX(_xlfn.UNIQUE(TRIM(_xlfn.TEXTSPLIT('Non-Functional'!$I29,","))),,Q$11),"")} | R29: {=IFERROR(INDEX(_xlfn.UNIQUE(TRIM(_xlfn.TEXTSPLIT('Non-Functional'!$I29,","))),,R$11),"")} | S29: {=IFERROR(INDEX(_xlfn.UNIQUE(TRIM(_xlfn.TEXTSPLIT('Non-Functional'!$I29,","))),,S$11),"")} | T29: {=IFERROR(INDEX(_xlfn.UNIQUE(TRIM(_xlfn.TEXTSPLIT('Non-Functional'!$I29,","))),,T$11),"")} | U29: {=IFERROR(INDEX(_xlfn.UNIQUE(TRIM(_xlfn.TEXTSPLIT('Non-Functional'!$I29,","))),,U$11),"")} | ... X29: {=IFERROR(INDEX(_xlfn.UNIQUE(TRIM(_xlfn.TEXTSPLIT('Non-Functional'!$I29,","))),,X$11),"")} | Y29: {=IF('Non-Functional'!$N29="","",'Non-Functional'!$H29-('Non-Functional'!$H29*((_xlfn.XMATCH('Non-Functional'!$N29,'Non-Functional'!$N29:$X29,0))-1)/(COUNTA('Non-Functional'!$N29:$X29)-COUNTBLANK('Non-Functional'!$N29:$X29)-1)))} -> 0.009375 | Z29: {=IF('Non-Functional'!$O29="","",'Non-Functional'!$H29-('Non-Functional'!$H29*((_xlfn.XMATCH('Non-Functional'!$O29,'Non-Functional'!$N29:$X29,0))-1)/(COUNTA('Non-Functional'!$N29:$X29)-COUNTBLANK('Non-Functional'!$N29:$X29)-1)))} -> 0 | AA29: {=IF('Non-Functional'!$P29="","",'Non-Functional'!$H29-('Non-Functional'!$H29*((_xlfn.XMATCH('Non-Functional'!$P29,'Non-Functional'!$N29:$X29,0))-1)/(COUNTA('Non-Functional'!$N29:$X29)-COUNTBLANK('Non-Functional'!$N29:$X29)-1)))} | AB29: {=IF('Non-Functional'!$Q29="","",'Non-Functional'!$H29-('Non-Functional'!$H29*((_xlfn.XMATCH('Non-Functional'!$Q29,'Non-Functional'!$N29:$X29,0))-1)/(COUNTA('Non-Functional'!$N29:$X29)-COUNTBLANK('Non-Functional'!$N29:$X29)-1)))} | AC29: {=IF('Non-Functional'!$R29="","",'Non-Functional'!$H29-('Non-Functional'!$H29*((_xlfn.XMATCH('Non-Functional'!$R29,'Non-Functional'!$N29:$X29,0))-1)/(COUNTA('Non-Functional'!$N29:$X29)-COUNTBLANK('Non-Functional'!$N29:$X29)-1)))} | AD29: {=IF('Non-Functional'!$S29="","",'Non-Functional'!$H29-('Non-Functional'!$H29*((_xlfn.XMATCH('Non-Functional'!$S29,'Non-Functional'!$N29:$X29,0))-1)/(COUNTA('Non-Functional'!$N29:$X29)-COUNTBLANK('Non-Functional'!$N29:$X29)-1)))} | AE29: {=IF('Non-Functional'!$T29="","",'Non-Functional'!$H29-('Non-Functional'!$H29*((_xlfn.XMATCH('Non-Functional'!$T29,'Non-Functional'!$N29:$X29,0))-1)/(COUNTA('Non-Functional'!$N29:$X29)-COUNTBLANK('Non-Functional'!$N29:$X29)-1)))} | AF29: {=IF('Non-Functional'!$U29="","",'Non-Functional'!$H29-('Non-Functional'!$H29*((_xlfn.XMATCH('Non-Functional'!$U29,'Non-Functional'!$N29:$X29,0))-1)/(COUNTA('Non-Functional'!$N29:$X29)-COUNTBLANK('Non-Functional'!$N29:$X29)-1)))} | AG29: {=IF('Non-Functional'!$V29="","",'Non-Functional'!$H29-('Non-Functional'!$H29*((_xlfn.XMATCH('Non-Functional'!$V29,'Non-Functional'!$N29:$X29,0))-1)/(COUNTA('Non-Functional'!$N29:$X29)-COUNTBLANK('Non-Functional'!$N29:$X29)-1)))} | AH29: {=IF('Non-Functional'!$W29="","",'Non-Functional'!$H29-('Non-Functional'!$H29*((_xlfn.XMATCH('Non-Functional'!$W29,'Non-Functional'!$N29:$X29,0))-1)/(COUNTA('Non-Functional'!$N29:$X29)-COUNTBLANK('Non-Functional'!$N29:$X29)-1)))} | AI29: {=IF('Non-Functional'!$X29="","",'Non-Functional'!$H29-('Non-Functional'!$H29*((_xlfn.XMATCH('Non-Functional'!$X29,'Non-Functional'!$N29:$X29,0))-1)/(COUNTA('Non-Functional'!$N29:$X29)-COUNTBLANK('Non-Functional'!$N29:$X29)-1)))}

Sheet Security
B2: Tender Number: | C2: <insert before tender publication> | E2: Eskom Group Technology: Technical Evaluation Criteria
B3: Transaction Description: | C3: Assurance Data Analytics
B4: Evaluated Tenderer's Registered Name: | C4: <Evaluator to complete> | E4: Security
B5: Evaluator Name and Surname: | C5: <Evaluator to complete>
B6: Date of Evaluation | C6: <Evaluator to complete>
B7: Evaluator Signature
B10: Technical Requirements | D10: Vendor Responses | F10: Evaluator Scores
F11: ='Scoring Summary'!C20 -> 0.2 | G11: =SUM(Table26789[Priority]) -> 124 | H11: =SUM(Table26789[Weight]) -> 0.2 | K11: Sectional Score: | L11: =SUM(Table26789[Score]) -> 0.2 | N11: 1 | O11: 2 | P11: 3 | Q11: 4 | R11: 5 | S11: 6 | T11: 7 | U11: 8 | V11: 9 | W11: 10 | X11: 11 | Y11: 12 | Z11: 13 | AA11: 14 | AB11: 15 | AC11: 16 | AD11: 17 | AE11: 18 | AF11: 19 | AG11: 20 | AH11: 21 | AI11: 22
A12: Intem# | B12: Business requirements | C12: Mandatory Returnables - This colunm lists the mandotory evidence to be provided by the vendor in the technical file and numbered to align with each criteria question. | D12: Vendor Response: Vendor to indicate if, and to what extent they meet the requirement, detail must be provided in the tender submission | E12: Vendor Evidence: Location of Supporting Document/detailed response in your tender submission (state the file number, section & page number) | F12: Priority Description | G12: Priority | H12: Weight | I12: Selection Options | J12: Option Score | K12: Evaluators Response (SELECT) | L12: Score | M12: Evaluator comments | N12: 1 | O12: 2 | P12: 3 | Q12: 4 | R12: 5 | S12: 6 | T12: 7 | U12: 8 | V12: 9 | W12: 10 | X12: 11 | Y12: 12 | Z12: 13 | AA12: 14 | AB12: 15 | AC12: 16 | AD12: 17 | AE12: 18 | AF12: 19 | AG12: 20 | AH12: 21 | AI12: 22
