Workbook

Sheet NOTES
A1: NOTES TO THE TENDERER FOR COMPLETION OF THIS ELECTRONIC DOCUMENT
A3: Item | B3: Note
A4: 1 | B4: The worksheets correlate with the trades in the Price List (Bills of Quantities)
A5: 2 | B5: Cells A1 to G(last row of bill) of each worksheet are locked, except for the yellow cells and outside the designated area.
A6: 3 | B6: Rates must be inserted in the yellow cells
A7: 4 | B7: This document must be read in conjunction with the Price List as the Price List contains photos, which could not be loaded into this document under the relevant items.
A8: 5 | B8: Number of items to be priced: | C8: =+E494-E10-D149 -> 9778
B9: Bill / Trade | C9: Summary of work | D9: Quantity
B10: Preliminaries - DO NOT PRICE | D10: 26 | E10: =+D10 -> 26
B11: Demolitions and Alterations | E11: =SUM(D12:D101) -> 1228
C12: Temporary barriers, fencing and screens | D12: 11
C13: Remove existing asbestos and asbestos containing material | D13: 20
C14: Remove existing concrete work | D14: 8
C15: Remove existing brick walls | D15: 9
C16: Remove existing expansion / contruction joints | D16: 2
C17: Remove existing roofs, fascias, barge boards, eaves soffit closures, etc. | D17: 48
C18: Remove existing rain water goods | D18: 8
C19: Remove existing partitions | D19: 7
C20: Remove existing windows and related work, i.e. cills, ironmongery, burglar proofing, blinds, pelmets, etc, | D20: 30
C21: Remove existing doors and related work, i.e. ironmongery, cladding, frames, etc. | D21: 56
C22: Remove existing glazing to windows, doors, fanlights, etc. | D22: 20
C23: Remove existing roller shutter doors | D23: 6
... C101: Decanting | D101: 1
B102: Earthworks | E102: =SUM(D103:D105) -> 29
C103: Excavations | D103: 18
C104: Filling | D104: 9
C105: Weed killers, insecticides, etc. | D105: 2
B106: Concrete, formwork and reinforcement | E106: =SUM(D107:D109) -> 221
C107: Concrete and related works | D107: 95
C108: Formwork and related works | D108: 114
C109: Reinforcement and related works | D109: 12
B110: Precast concrete | E110: =+D111 -> 1
C111: Window cills | D111: 1
B112: Masonry | E112: =SUM(D113:D115) -> 105
C113: Brickwork and brickwork sundries | D113: 68
C114: Face brickwork and sundries | D114: 29
C115: Stonework (granite tops, etc.) | D115: 8
B116: Waterproofing | E116: =SUM(D117:D132) -> 269
C117: Damp-proofing and waterproofing of walls, floors and roofs: Membranes and sheeting | D117: 2
C118: Damp-proofing and waterproofing of walls, floors and roofs: Priming coats | D118: 23
...

Sheet Preliminaries
A1: PAGE NO | B1: ITEM NO | C1: DESCRIPTION | D1: UNIT | E1: QUANTITY | F1: RATE | G1: AMOUNT
C2: SECTION NO. 1
C3: BILL NO. 1
C4: PRELIMINARIES
C5: RELEVANCE IN THIS TENDER
C6: 1. Preliminaries are project specific and will therefore be itemised, quantified and priced per project in the work package quotation. 2. Preliminaries in this bill are for reference purposes only and NOT for pricing. 3. The items in this section may vary in work package quotation, depending on the scope of the project.
C7: STRUCTURE OF THE SECTION
C8: Section A : Establishment cost Section B : De-establishment cost Section C : Ongoing operational costs
C9: PRICING IN work package quotation
C10: Typical clauses that may be included in the work package quotation:The rates and/or prices for items in this Section shall be deemed to include everything to cover all the contractor's costs, including overheads and profit for all risks, liabilities and obligations in terms of this contract.2. Any item not priced in this bill shall be deemed to be priced at a rate of R0-00 (nil rand). In the event of an item priced at R0-00 (nil rand) the contractor remains liable for the execution of such an item. 3. Amounts for all items priced under the following sections are fixed for the contract, and are not subject to adjustment in compensation event assessments.Section A : Establishment costSection B : De-establishment cost4. Any item of which the unit is "N/A" refers to not applicable, meaning that the item is not applicable to this project and therefore not to be priced.
C11: _______________________________________
C12: SECTION A : ESTABLISHMENT COST
C13: (Claimable for payment upon completion of all related activities associated with each item)
A14: 5 | B14: 1 | C14: Compliance with all clauses of the Contract | D14: Item | F14: Do not price
A15: 5 | B15: 2 | C15: Compliance with the law, regulations and by laws | D15: Item | F15: Do not price
A16: 5 | B16: 3 | C16: Compliance with the Occupational Health and Safety Act, Construction Regulations and Health and Safety Specification | D16: Item | F16: Do not price
A17: 5 | B17: 4 | C17: Compliance with the stipulations of the Environmental Specification | D17: N/A
A18: 5 | B18: 5 | C18: Insurance and liabilities Refer to "Contract Data" for details | D18: Item | F18: Do not price
A19: 5 | B19: 6 | C19: Performance bond | D19: N/A
A20: 5 | B20: 7 | C20: Office accommodation and stores | D20: Item | F20: Do not price
A21: 5 | B21: 8 | C21: Contract name board | D21: Item | F21: Do not price
A22: 6 | B22: 9 | C22: Workshops | D22: N/A
A23: 6 | B23: 10 | C23: Laboratories | D23: N/A
A24: 6 | B24: 11 | C24: Ablution facilities | D24: Item | F24: Do not price
A25: 6 | B25: 12 | C25: Tools and equipment | D25: Item | F25: Do not price
A26: 6 | B26: 13 | C26: Water supply | D26: Item | F26: Do not price
A27: 6 | B27: 14 | C27: Electricity supply | D27: Item | F27: Do not price
A28: 6 | B28: 15 | C28: Communication (Cell phone, telephone, fax, e-mail, data, postage, etc.) | D28: Item | F28: Do not price
C29: SECTION B : DE-ESTABLISHMENT COST
A30: 6 | B30: 16 | C30: Costs for complete removal of site establishment and restoration of the site to the Project Manager's satisfaction at the completion of the contract. | D30: Item | F30: Do not price
C31: SECTION C : ONGOING OPERATIONAL AND OVERHEAD COST
C32: Claimable for payment as a time-related cost during execution of the contract
C33: The term "days" refer to calender days, weeks to a week comprising of seven (7) days and "months" to calendar months
A34: 6 | B34: 17 | C34: Workshops | D34: N/A
A35: 6 | B35: 18 | C35: Laboratories | D35: N/A
A36: 6 | B36: 19 | C36: Management of the project (inclusive of project manager, construction manager, site agent, all employees required for management of the project) | D36: Month | F36: Do not price
A37: 6 | B37: 20 | C37: Ablution facilities | D37: Month | F37: Do not price
A38: 6 | B38: 21 | C38: Tools and equipment | D38: Month | F38: Do not price
A39: 6 | B39: 22 | C39: Provide, erect, maintain, move/reposition/relocate, dismantle and take away scaffolding | D39: Month | F39: Do not price
A40: 6 | B40: 23 | C40: Water supply | D40: Month | F40: Do not price
...

Sheet Demolitions and alterations
A1: PAGE NO | B1: ITEM NO | C1: DESCRIPTION | D1: UNIT | E1: QUANTITY | F1: RATE | G1: AMOUNT | H1: AMOUNT CARRIED TO COLLECTION
C2: SECTION NO. 2 | H2: =SUM(G7:G13) -> 0
C3: BILL NO. 1
C4: DEMOLITIONS AND ALTERATIONS
C5: TEMPORARY FENCING, BARRIERS, SCREENS, ETC.
C6: DESIGN, SUPPLY, INSTALL, MAINTAIN AND REMOVE ON COMPLETION OF WORK TEMPORARY FENCING, BARRIERS, SCREENS, COVERS, ETC.
A7: 9 | B7: 1 | C7: Temporary covering of the area where the existing roof covering has been removed to protect the building and the facility's equipment, furniture, etc. against the weather (sun, rain, etc.), dust intrusion, trees, shrubs, leaves, branches, birds, bats, etc.; the financial implication of any damage to the building and the facility's equipment, furniture, etc. due to no or improper temporary covering shall be claimed from the contractor | D7: m2 | E7: 12 | G7: =+E7*F7 -> 0
A8: 9 | B8: 2 | C8: Temporary covering of existing floor covering (carpets, porcelain tiles, ceramic tiles, vinyl tiles, vinyl sheeting, polyurethane floor coating, epoxy floor coating, etc.) as protection against contractor's tools and equipment used in the execution of works; the financial implication of any damage to the building and the facility's equipment, furniture, etc. due to no or improper temporary covering shall be claimed from the contractor | D8: m2 | E8: 12 | G8: =+E8*F8 -> 0
A9: 9 | B9: 3 | C9: Temporary fence, 1.80 metre high, comprising of and including galvanised 2mm thick x 50mm diamond mesh, suitable steel or timber posts, straining wires, straining eye bolts, footings, etc. | D9: m | E9: 10 | G9: =+E9*F9 -> 0
A10: 9 | B10: 4 | C10: Extra over temporary fencing for SINGLE gate, 1 metre wide x 1.8 metre high, including posts, footings, locking mechanism, lock, etc. | D10: No | E10: 1 | G10: =+E10*F10 -> 0
A11: 9 | B11: 5 | C11: Extra over temporary fencing for DOUBLE gate, 3.60 metre wide x 1.8 metre high, including posts, footings, locking mechanism, lock, etc. | D11: No | E11: 1 | G11: =+E11*F11 -> 0
A12: 9 | B12: 6 | C12: Temporary barrier, 2.10 metre high, comprising of and including galvanised corrugated sheet iron (minimum 0.27mm thick), secured to and including suitable steel or timber framing, posts, concrete footings, etc. | D12: m | E12: 10 | G12: =+E12*F12 -> 0
A13: 9 | B13: 7 | C13: Extra over temporary barrier for SINGLE gate, 1 metre wide x 2.1 metre high, including posts, footings, locking mechanism, lock, etc. | D13: No | E13: 1 | G13: =+E13*F13 -> 0
A14: 10 | B14: 8 | C14: Extra over temporary barrier for DOUBLE gate, 3.50 metre wide x 2.1 metre high, including posts, footings, locking mechanism, lock, etc. | D14: No | E14: 1 | G14: =+E14*F14 -> 0 | H14: =SUM(G14:G17) -> 0
A15: 10 | B15: 9 | C15: Temporary dust screen, approximately 3 metre high, comprising of and including minimum 16mm thick timber board, secured to and including suitable timber or steel framing, posts, etc.; entire timber board covered with and including plastic sheeting; seal all joints between timber boards, plastic sheeting, etc. in dust screen and existing adjacent surfaces solid with and including appropriate material (i.e. duct tape) to prevent any dust intrusion | D15: m | E15: 3 | G15: =+E15*F15 -> 0
A16: 10 | B16: 10 | C16: Extra over temporary dust screen for SINGLE timber hollow core door 813mm wide x 2032mm high, complete with and including timber frame, 2-lever lock set and hinges | D16: No | E16: 1 | G16: =+E16*F16 -> 0
A17: 10 | B17: 11 | C17: Extra over temporary dust screen for DOUBLE timber hollow core door, 1511mm wide x 2032mm high, with rebated meeting styles; door complete with and including timber frame, hinges, 2-lever lock set and two barrel bolts; rebated meeting style to each door leaf formed of and including one continuous 10mm x 20mm timber bead secured along full length of door edge | D17: No | E17: 1 | G17: =+E17*F17 -> 0
C18: REMOVE EXISTING ASBESTOS AND ASBESTOS CONTAINING MATERIAL | H18: =SUM(G23:G31) -> 0
C19: ASBESTOS REGULATIONS
C20: All work is categorised as "type 3 asbestos work"; meaning the removal, repair or encapsulation of any asbestos and asbestos-containing material and requiring registration as a type 3 registered asbestos contractor with the chief inspector.
C21: It shall be deemed that the Contractor allows in his pricing and rates for adhering to the Asbestos Abatement Regulations, 2020, and Health and Safety Plan for all items listed under "Remove existing asbestos and asbestos-contained material". - - - - - - - - - - - - - -
C22: REMOVE EXISTING ASBESTOS AND ASBESTOS CONTAINING MATERIAL: ASBESTOS INSPECTION REPORT AND CLEARANCE CERTIFICATE
A23: 11 | B23: 12 | C23: Allow for the following by a registered asbestos removal company: - Report for submission to the Employer prior removal of asbestos, on at least the following: - Inspection and assessment of asbestos containing material on site - Plan/Method/Procedure of removal, loading, transport and off-loading of asbestos containing material - Monitoring plan of execution of plan/method/procedure - Obtain for submission to the Employer an Asbestos Clearance Certificate stating that: - the asbestos containing materials were inspected, assessed, removed, loaded, transported and off-loaded in accordance with relevant regulations and that the site was cleaned and - the site was cleaned and is free of any asbestos containing material | D23: Item | E23: 1 | G23: =+E23*F23 -> 0
C24: REMOVE EXISTING ASBESTOS AND ASBESTOS CONTAINING MATERIAL: ROOFS, FASCIAS, BARGE BOARDS, RAIN WATER GOODS, ETC.
A25: 11 | B25: 13 | C25: Profiled or flat roof sheeting or roof tiles from existing timber purlins (purlins elsewhere removed) | D25: m2 | E25: 50 | G25: =+E25*F25 -> 0
A26: 11 | B26: 14 | C26: Profiled or flat roof sheeting or roof tiles including timber purlins | D26: m2 | E26: 50 | G26: =+E26*F26 -> 0
A27: 11 | B27: 15 | C27: Eaves and verge soffit covering from existing timber brandering, framework, etc. (brandering, framework, etc. elsewhere removed) | D27: m2 | E27: 5 | G27: =+E27*F27 -> 0
A28: 11 | B28: 16 | C28: Eaves and verge soffit covering, complete with and including timber framework, cover strips, chicken wire mesh, etc. | D28: m2 | E28: 5 | G28: =+E28*F28 -> 0
A29: 11 | B29: 17 | C29: Fascias and barge boards from existing timber or steel purlins, truss ends, etc. | D29: m | E29: 10 | G29: =+E29*F29 -> 0
A30: 11 | B30: 18 | C30: Timber purlins or eaves purlins | D30: m | E30: 10 | G30: =+E30*F30 -> 0
A31: 11 | B31: 19 | C31: Eaves gutters fixed to timber or asbestos fascias, complete with and including angles, outlets, stop ends and brackets | D31: m | E31: 10 | G31: =+E31*F31 -> 0
A32: 12 | B32: 20 | C32: Down pipes, complete with and including eaves offsets, shoes, spreaders and brackets | D32: m | E32: 4 | G32: =+E32*F32 -> 0 | H32: =SUM(G32:G46) -> 0
C33: REMOVE EXISTING ASBESTOS AND ASBESTOS CONTAINING MATERIAL: PARTITIONING
A34: 12 | B34: 21 | C34: Partitioning, approximately 3 metre high complete with and including timber or steel framework, insulation, waterproofing material, etc. | D34: m | E34: 5 | G34: =+E34*F34 -> 0
A35: 12 | B35: 22 | C35: Timber single door and frame not exceeding 2.5 square metre, including side and/or top lights | D35: No | E35: 1 | G35: =+E35*F35 -> 0
A36: 12 | B36: 23 | C36: Timber single door and frame exceeding 2.5 square metre and not exceeding 5 square metre, including side and or top lights | D36: No | E36: 1 | G36: =+E36*F36 -> 0
A37: 12 | B37: 24 | C37: Timber double door and frame exceeding 2.5 square metre and not exceeding 5 square metre, including side and or top lights | D37: No | E37: 1 | G37: =+E37*F37 -> 0
A38: 12 | B38: 25 | C38: Timber double door and frame exceeding 5 square metre and not exceeding 7.5 square metre, including side and/or top lights | D38: No | E38: 1 | G38: =+E38*F38 -> 0
C39: REMOVE EXISTING ASBESTOS AND ASBESTOS CONTAINING MATERIAL: FLOOR FINISHES
A40: 12 | B40: 26 | C40: Vinyl tiles (containing asbestos cement) (skirtings elsewhere removed) | D40: m2 | E40: 16 | G40: =+E40*F40 -> 0
...

Sheet Earthworks
A1: PAGE NO | B1: ITEM NO | C1: DESCRIPTION | D1: UNIT | E1: QUANTITY | F1: RATE | G1: AMOUNT | H1: AMOUNT CARRIED TO COLLECTION
C2: SECTION NO. 2 | H2: =SUM(G2:G22) -> 0
C3: BILL NO. 2
C4: EARTHWORKS
C5: EXCAVATION, FILLING, ETC.
C6: EXCAVATIONS
C7: Open face excavation in earth over sloping site
A8: 120 | B8: 1 | C8: Open face excavation | D8: m3 | E8: 50 | G8: =+E8*F8 -> 0
C9: Excavation in earth not exceeding 2m deep
A10: 120 | B10: 2 | C10: Trenches | D10: m3 | E10: 15 | G10: =+E10*F10 -> 0
A11: 120 | B11: 3 | C11: Holes | D11: m3 | E11: 5 | G11: =+E11*F11 -> 0
A12: 120 | B12: 4 | C12: Reduced levels under floors, slabs, etc. | D12: m3 | E12: 5 | G12: =+E12*F12 -> 0
A13: 120 | B13: 5 | C13: Trenches under existing concrete strip footings, bases, beams, etc. for underpinning | D13: m3 | E13: 5 | G13: =+E13*F13 -> 0
C14: Extra over trench and hole excavations in earth for excavation in
A15: 120 | B15: 6 | C15: Soft rock | D15: m3 | E15: 1 | G15: =+E15*F15 -> 0
A16: 120 | B16: 7 | C16: Hard rock | D16: m3 | E16: 1 | G16: =+E16*F16 -> 0
C17: Extra over trench and hole excavations in earth for breaking up and removing
A18: 120 | B18: 8 | C18: Brickwork | D18: m3 | E18: 1 | G18: =+E18*F18 -> 0
A19: 120 | B19: 9 | C19: Unreinforced concrete | D19: m3 | E19: 1 | G19: =+E19*F19 -> 0
A20: 120 | B20: 10 | C20: Reinforced concrete | D20: m3 | E20: 1 | G20: =+E20*F20 -> 0
C21: Back excavation of vertical sides of excavation in earth or compacted filling for working space including backfilling compacted to 95% Mod AASHTO density in layers not exceeding 150mm thick
A22: 120 | B22: 11 | C22: Not exceeding 500mm for placing and removing formwork to walls, etc. against excavated face | D22: m2 | E22: 10 | G22: =+E22*F22 -> 0
A23: 121 | B23: 12 | C23: Exceeding 500mm and not exceeding 1,5 meter for placing and removing formwork to walls, etc. against excavated face | D23: m2 | E23: 10 | G23: =+E23*F23 -> 0 | H23: =SUM(G23:G42) -> 0
A24: 121 | B24: 13 | C24: Exceeding 1,5 meter and not exceeding 3 meter for placing and removing formwork to walls, etc. against excavated face | D24: m2 | E24: 10 | G24: =+E24*F24 -> 0
C25: Extra over all excavations for carting away
A26: 121 | B26: 14 | C26: Surplus material from excavations and/or stock piles on site to a dumping site to be located by the contractor | D26: m3 | E26: 50 | G26: =+E26*F26 -> 0
C27: Extra over all excavations for spreading and levelling of excavated material
A28: 121 | B28: 15 | C28: Spread and level excavated material over site | D28: m3 | E28: 10 | G28: =+E28*F28 -> 0
C29: Risk of collapse of excavations
A30: 121 | B30: 16 | C30: Sides of trench and hole excavations not exceeding 1,5m deep | D30: m2 | E30: 15 | G30: =+E30*F30 -> 0
A31: 121 | B31: 17 | C31: Sides of trench and hole excavations exceeding 1,5m deep | D31: m2 | E31: 15 | G31: =+E31*F31 -> 0
C32: Keeping excavations free of water
A33: 121 | B33: 18 | C33: Keeping excavations free of all water other than subterranean water | D33: Item | E33: 1 | G33: =+E33*F33 -> 0
C34: FILLING
C35: Earth filling obtained from the excavations and/or prescribed stock piles on site (not compacted)
A36: 121 | B36: 19 | C36: Under floors, steps, pavings, etc. | D36: m3 | E36: 3 | G36: =+E36*F36 -> 0
A37: 121 | B37: 20 | C37: Backfilling to trenches, holes, etc. | D37: m3 | E37: 3 | G37: =+E37*F37 -> 0
C38: Earth filling obtained from the excavations and/or prescribed stock piles on site, compacted to 90% ModAASHTO in layers not exceeding 150mm thick
A39: 121 | B39: 21 | C39: Backfilling to trenches, holes, etc. | D39: m3 | E39: 3 | G39: =+E39*F39 -> 0
C40: Earth filling obtained from the excavations and/or prescribed stock piles on site, compacted to 95% ModAASHTO in layers not exceeding 150mm thick
...

Sheet Concrete,formwork,reinforcement
A1: PAGE NO | B1: ITEM NO | C1: DESCRIPTION | D1: UNIT | E1: QUANTITY | F1: RATE | G1: AMOUNT | H1: AMOUNT CARRIED TO COLLECTION
C2: SECTION NO. 2 | H2: =SUM(G2:G25) -> 0
C3: BILL NO. 3
C4: CONCRETE, FORMWORK AND REINFORCEMENT
C5: CONCRETE
C6: UNREINFORCED CONCRETE
C7: 20MPa/19mm concrete
A8: 124 | B8: 1 | C8: Surface beds | D8: m3 | E8: 2 | G8: =+E8*F8 -> 0
A9: 124 | B9: 2 | C9: Surface beds cast in panels | D9: m3 | E9: 2 | G9: =+E9*F9 -> 0
A10: 124 | B10: 3 | C10: Ramps | D10: m3 | E10: 2 | G10: =+E10*F10 -> 0
A11: 124 | B11: 4 | C11: Ramps cast in panels | D11: m3 | E11: 2 | G11: =+E11*F11 -> 0
A12: 124 | B12: 5 | C12: Steps, plinths, platforms, etc. | D12: m3 | E12: 1 | G12: =+E12*F12 -> 0
C13: 25MPa/19mm concrete
A14: 124 | B14: 6 | C14: Surface beds | D14: m3 | E14: 2 | G14: =+E14*F14 -> 0
A15: 124 | B15: 7 | C15: Surface beds cast in panels | D15: m3 | E15: 2 | G15: =+E15*F15 -> 0
A16: 124 | B16: 8 | C16: Ramps | D16: m3 | E16: 1 | G16: =+E16*F16 -> 0
A17: 124 | B17: 9 | C17: Ramps cast in panels | D17: m3 | E17: 1 | G17: =+E17*F17 -> 0
A18: 124 | B18: 10 | C18: Steps, plinths, platforms, etc. | D18: m3 | E18: 1 | G18: =+E18*F18 -> 0
C19: UNREINFORCED CONCRETE CAST AGAINST EXCAVATED SURFACES
C20: 15MPa/19mm concrete
A21: 124 | B21: 11 | C21: Blinding | D21: m3 | E21: 1 | G21: =+E21*F21 -> 0
C22: 20MPa/19mm concrete
A23: 124 | B23: 12 | C23: Strip footings | D23: m3 | E23: 3 | G23: =+E23*F23 -> 0
A24: 124 | B24: 13 | C24: Bases | D24: m3 | E24: 1 | G24: =+E24*F24 -> 0
A25: 124 | B25: 14 | C25: Underpinning | D25: m3 | E25: 1 | G25: =+E25*F25 -> 0
C26: 25MPa/19mm concrete | H26: =SUM(G26:G51) -> 0
A27: 125 | B27: 15 | C27: Strip footings | D27: m3 | E27: 3 | G27: =+E27*F27 -> 0
A28: 125 | B28: 16 | C28: Bases | D28: m3 | E28: 1 | G28: =+E28*F28 -> 0
A29: 125 | B29: 17 | C29: Underpinning | D29: m3 | E29: 1 | G29: =+E29*F29 -> 0
C30: REINFORCED CONCRETE
C31: 25MPa/19mm concrete
A32: 125 | B32: 18 | C32: Surface beds | D32: m3 | E32: 2 | G32: =+E32*F32 -> 0
A33: 125 | B33: 19 | C33: Surface beds cast in panels | D33: m3 | E33: 2 | G33: =+E33*F33 -> 0
A34: 125 | B34: 20 | C34: Ramps | D34: m3 | E34: 1 | G34: =+E34*F34 -> 0
A35: 125 | B35: 21 | C35: Ramps cast in panels | D35: m3 | E35: 1 | G35: =+E35*F35 -> 0
A36: 125 | B36: 22 | C36: Vanity slabs, plinths, etc. | D36: m3 | E36: 1 | G36: =+E36*F36 -> 0
A37: 125 | B37: 23 | C37: Slabs including down stand and inverted beams | D37: m3 | E37: 3 | G37: =+E37*F37 -> 0
A38: 125 | B38: 24 | C38: Beams and isolated beams | D38: m3 | E38: 1 | G38: =+E38*F38 -> 0
A39: 125 | B39: 25 | C39: Stairs including landings, down stand and inverted beams | D39: m3 | E39: 2 | G39: =+E39*F39 -> 0
A40: 125 | B40: 26 | C40: Walls in foundations | D40: m3 | E40: 1 | G40: =+E40*F40 -> 0
...

Sheet Precast concrete
A1: PAGE NO | B1: ITEM NO | C1: DESCRIPTION | D1: UNIT | E1: QUANTITY | F1: RATE | G1: AMOUNT | H1: AMOUNT CARRIED TO COLLECTION
C2: SECTION NO. 2 | H2: =SUM(G2:G7) -> 0
C3: BILL NO. 4
C4: PRECAST CONCRETE
C5: WINDOW CILLS
C6: 25mPa window cills finished smooth on exposed surfaces, bedded solid in and including 3:1 cement mortar and joints neatly pointed
A7: 139 | B7: 2 | C7: Sloping window sill, 180mm wide x 40mm thick at back and 25mm thick at front, set flat | D7: m | E7: 1 | G7: =+E7*F7 -> 0
C8: TOTAL CARRIED TO SUMMARY OF SECTION 2 | G8: =SUM(G2:G7) -> 0 | H8: =SUM(H2:H6) -> 0

Sheet Masonry
A1: PAGE NO | B1: ITEM NO | C1: DESCRIPTION | D1: UNIT | E1: QUANTITY | F1: RATE | G1: AMOUNT | H1: AMOUNT CARRIED TO COLLECTION
C2: SECTION NO. 2 | H2: =SUM(G2:G23) -> 0
C3: BILL NO. 5
C4: MASONRY
C5: BRICKWORK
C6: WALLS, ETC.
C7: Brickwork of NFX bricks (14 MPa nominal compressive strength) in class II mortar:
A8: 140 | B8: 1 | C8: Piers | D8: m3 | E8: 1 | G8: =+E8*F8 -> 0
A9: 140 | B9: 2 | C9: Piers in foundations | D9: m3 | E9: 1 | G9: =+E9*F9 -> 0
A10: 140 | B10: 3 | C10: Half brick walls | D10: m2 | E10: 10 | G10: =+E10*F10 -> 0
A11: 140 | B11: 4 | C11: Half brick walls in foundations | D11: m2 | E11: 2 | G11: =+E11*F11 -> 0
A12: 140 | B12: 5 | C12: Half brick walls against existing surfaces | D12: m2 | E12: 2 | G12: =+E12*F12 -> 0
A13: 140 | B13: 6 | C13: Half brick walls against existing surfaces in foundations | D13: m2 | E13: 1 | G13: =+E13*F13 -> 0
A14: 140 | B14: 7 | C14: Half brick linings to concrete | D14: m2 | E14: 1 | G14: =+E14*F14 -> 0
A15: 140 | B15: 8 | C15: Half brick linings to concrete in foundations | D15: m2 | E15: 1 | G15: =+E15*F15 -> 0
A16: 140 | B16: 9 | C16: One brick walls | D16: m2 | E16: 10 | G16: =+E16*F16 -> 0
A17: 140 | B17: 10 | C17: One brick walls in foundations | D17: m2 | E17: 2 | G17: =+E17*F17 -> 0
A18: 140 | B18: 11 | C18: One brick walls against existing surfaces | D18: m2 | E18: 1 | G18: =+E18*F18 -> 0
A19: 140 | B19: 12 | C19: One brick walls against existing surfaces in foundations | D19: m2 | E19: 1 | G19: =+E19*F19 -> 0
... A23: 140 | B23: 16 | C23: 280mm Hollow walls of two half brick skins including wire ties and 60mm cavity filled solid with and including 15mPa/19mm stone unreinforced concrete in foundations | D23: m2 | E23: 2 | G23: =+E23*F23 -> 0
A24: 141 | B24: 17 | C24: 330mm Hollow walls of two half brick skins including wire ties and 110mm cavity filled solid with and including 15mPa/19mm stone unreinforced concrete | D24: m2 | E24: 10 | G24: =+E24*F24 -> 0 | H24: =SUM(G24:G46) -> 0
A25: 141 | B25: 18 | C25: 330mm Hollow walls of two half brick skins including wire ties and 110mm cavity filled solid with and including 15mPa/19mm stone unreinforced concrete in foundations | D25: m2 | E25: 2 | G25: =+E25*F25 -> 0
C26: Brickwork of NFP bricks in class II mortar
A27: 141 | B27: 19 | C27: Piers | D27: m3 | E27: 1 | G27: =+E27*F27 -> 0
A28: 141 | B28: 20 | C28: Half brick walls | D28: m2 | E28: 10 | G28: =+E28*F28 -> 0
A29: 141 | B29: 21 | C29: Half brick walls against existing surfaces | D29: m2 | E29: 1 | G29: =+E29*F29 -> 0
A30: 141 | B30: 22 | C30: Half brick walls in beamfilling | D30: m2 | E30: 1 | G30: =+E30*F30 -> 0
A31: 141 | B31: 23 | C31: Half brick linings to concrete | D31: m2 | E31: 1 | G31: =+E31*F31 -> 0
A32: 141 | B32: 24 | C32: One brick walls | D32: m2 | E32: 10 | G32: =+E32*F32 -> 0
A33: 141 | B33: 25 | C33: One brick walls against existing surfaces | D33: m2 | E33: 1 | G33: =+E33*F33 -> 0
A34: 141 | B34: 26 | C34: 280mm Hollow walls of two half brick skins including wire ties | D34: m2 | E34: 10 | G34: =+E34*F34 -> 0
A35: 141 | B35: 27 | C35: 330mm Hollow walls of two half brick skins including wire ties | D35: m2 | E35: 10 | G35: =+E35*F35 -> 0
A36: 141 | B36: 28 | C36: Half brick kerbs 85mm high | D36: m | E36: 1 | G36: =+E36*F36 -> 0
A37: 141 | B37: 29 | C37: Half brick kerbs 170mm high | D37: m | E37: 1 | G37: =+E37*F37 -> 0
C38: BRICKWORK SUNDRIES
C39: Extra over brickwork for building brickwork to a fair face with recessed horizontal and vertical joints
A40: 141 | B40: 30 | C40: Walls | D40: m2 | E40: 10 | G40: =+E40*F40 -> 0
A41: 141 | B41: 31 | C41: Walls in foundations | D41: m2 | E41: 1 | G41: =+E41*F41 -> 0
A42: 141 | B42: 32 | C42: Piers | D42: m2 | E42: 1 | G42: =+E42*F42 -> 0
A43: 141 | B43: 33 | C43: Piers in foundations | D43: m2 | E43: 1 | G43: =+E43*F43 -> 0
...

Sheet Waterproofing
A1: PAGE NO | B1: ITEM NO | C1: DESCRIPTION | D1: UNIT | E1: QUANTITY | F1: RATE | G1: AMOUNT | H1: AMOUNT CARRIED TO COLLECTION
C2: SECTION NO. 2 | H2: =SUM(G2:G17) -> 0
C3: BILL NO. 6
C4: WATERPROOFING
C5: DAMP-PROOFING AND WATERPROOFING OF WALLS, FLOORS AND ROOFS
C6: MEMBRANES AND SHEETING
C7: One layer of 375 micron black polyethylene membrane well lapped at joints and intersections and bedded and joined in cement mortar
A8: 148 | B8: 1 | C8: In walls | D8: m2 | E8: 5 | G8: =+E8*F8 -> 0
C9: One layer of 250 micron green polyethylene waterproof sheeting sealed at laps with pressure sensitive type
A10: 148 | B10: 2 | C10: Under surface beds, slabs, etc. | D10: m2 | E10: 16 | G10: =+E10*F10 -> 0
C11: PRIMING COATS
C12: One coat "Sikalastic-560" or similar approved polyurethane modified acrylic waterborne liquid waterproofing diluted as per manufacturer's instructions
A13: 148 | B13: 3 | C13: On clay brick, cement brick, concrete, stone and cementitious surfaces in walls, piers, columns, linings, claddings, etc. | D13: m2 | E13: 5 | G13: =+E13*F13 -> 0
A14: 148 | B14: 4 | C14: On concrete and cementitious surfaces in roofs and turn-ups/turn-downs exceeding 300mm girth | D14: m2 | E14: 5 | G14: =+E14*F14 -> 0
A15: 148 | B15: 5 | C15: On fibre cement surfaces in walls, piers, columns, linings, claddings, etc. | D15: m2 | E15: 5 | G15: =+E15*F15 -> 0
A16: 148 | B16: 6 | C16: On fibre cement surfaces in roofs | D16: m2 | E16: 5 | G16: =+E16*F16 -> 0
A17: 148 | B17: 7 | C17: On wooden surfaces in roofs, decks, etc. | D17: m2 | E17: 5 | G17: =+E17*F17 -> 0
C18: One coat "abeproof acrylic primer" or "abe hydroproof" or "abe super laycryl" or "Waterproofing Centre Acrylic Primer" or similar approved water-based acrylic primer, diluted as per manufacturer's instructions | H18: =SUM(G18:G33) -> 0
A19: 149 | B19: 8 | C19: On clay brick, cement brick, concrete, stone and cementitious surfaces in walls, piers, columns, linings, claddings, etc. | D19: m2 | E19: 5 | G19: =+E19*F19 -> 0
A20: 149 | B20: 9 | C20: On concrete and cementitious surfaces in roofs and turn-ups/turn-downs exceeding 300mm girth | D20: m2 | E20: 5 | G20: =+E20*F20 -> 0
A21: 149 | B21: 10 | C21: On fibre cement surfaces in walls, piers, columns, linings, claddings, etc. | D21: m2 | E21: 5 | G21: =+E21*F21 -> 0
A22: 149 | B22: 11 | C22: On fibre cement surfaces in roofs | D22: m2 | E22: 5 | G22: =+E22*F22 -> 0
A23: 149 | B23: 12 | C23: On wooden surfaces in roofs, decks, etc. | D23: m2 | E23: 5 | G23: =+E23*F23 -> 0
A24: 149 | B24: 13 | C24: On metal surfaces in walls, piers, columns, linings, claddings, etc. | D24: m2 | E24: 5 | G24: =+E24*F24 -> 0
A25: 149 | B25: 14 | C25: On metal surfaces in roofs, flashings, etc. | D25: m2 | E25: 5 | G25: =+E25*F25 -> 0
C26: One coat "Sikalastic Metal Primer" or "abe 4-metal primer" or similar approved anti-corrosive metal primer
A27: 149 | B27: 15 | C27: On metal surfaces in walls, piers, columns, linings, claddings, etc. | D27: m2 | E27: 5 | G27: =+E27*F27 -> 0
A28: 149 | B28: 16 | C28: On metal surfaces in roofs, flashings, etc. | D28: m2 | E28: 5 | G28: =+E28*F28 -> 0
C29: One coat "Sika BlackSeal Primer" or "abe bitu.prime" or "Waterproofing Centre Bitumen Primer" or "Waterproofing Centre Primer D" or "Waterproofing Centre Neoprene Primer" or similar approved bitumen primer
A30: 149 | B30: 17 | C30: On metal surfaces in walls, piers, columns, linings, claddings, etc. | D30: m2 | E30: 5 | G30: =+E30*F30 -> 0
A31: 149 | B31: 18 | C31: On metal surfaces in roofs, flashings, etc. | D31: m2 | E31: 5 | G31: =+E31*F31 -> 0
C32: One coat "Sika BlackSeal Lastic" or "abe super laykold" or similar approved rubberised bituminous waterproofing, diluted as per manufacturer's instruction
A33: 149 | B33: 19 | C33: On clay brick, cement brick, concrete, stone and cementitious surfaces in walls, piers, columns, linings, claddings, etc. | D33: m2 | E33: 5 | G33: =+E33*F33 -> 0
A34: 150 | B34: 20 | C34: On concrete and cementitious surfaces in roofs and turn-ups/turn-downs exceeding 300mm girth | D34: m2 | E34: 5 | G34: =+E34*F34 -> 0 | H34: =SUM(G34:G51) -> 0
A35: 150 | B35: 21 | C35: On fibre cement surfaces in walls, piers, columns, linings, claddings, etc. | D35: m2 | E35: 5 | G35: =+E35*F35 -> 0
A36: 150 | B36: 22 | C36: On fibre cement surfaces in roofs | D36: m2 | E36: 5 | G36: =+E36*F36 -> 0
A37: 150 | B37: 23 | C37: On wooden surfaces in roofs, decks, etc. | D37: m2 | E37: 5 | G37: =+E37*F37 -> 0
A38: 150 | B38: 24 | C38: On metal surfaces in walls, piers, columns, linings, claddings, etc. | D38: m2 | E38: 5 | G38: =+E38*F38 -> 0
A39: 150 | B39: 25 | C39: On metal surfaces in roofs, flashings, etc. | D39: m2 | E39: 5 | G39: =+E39*F39 -> 0
C40: SILANE/SILOXANE, ACRYLIC, RUBBER AND BITUMEN BASED LIQUID WATERPROOFING
...

Sheet Roof coverings, claddings, etc.
A1: PAGE NO | B1: ITEM NO | C1: DESCRIPTION | D1: UNIT | E1: QUANTITY | F1: RATE | G1: AMOUNT | H1: AMOUNT CARRIED TO COLLECTION
C2: SECTION NO. 2 | H2: =SUM(G2:G18) -> 0
C3: BILL NO. 7
C4: ROOF COVERINGS, CLADDINGS, ETC.
C5: SLATES, TILES AND SHINGLES
C6: CONCRETE ROOF TILES AND ACCESSORIES
C7: The Tenderer must allow as follow for concrete roof tiles and accessories as cost/purchase prices (excluding delivery to site and VAT): Concrete roof tiles: R20/no Tapered ridge tiles: R40/No Tapered hip starter tiles: R90/No - - - - - - - - - - - - - - - - - - - - - - - -
C8: 420 x 332mm "BMI Coverland", "Marley" or similar approved concrete roof tiles in approved colour, secured to EXISTING 38 x 38mm sawn softwood battens spaced at approximately 320mm centres
A9: 173 | B9: 1 | C9: Roof covering with pitch not exceeding 25 degrees | D9: m2 | E9: 100 | G9: =+E9*F9 -> 0
A10: 173 | B10: 2 | C10: Roof covering with 30 degree pitch | D10: m2 | E10: 100 | G10: =+E10*F10 -> 0
A11: 173 | B11: 3 | C11: Roof covering with pitch not exceeding 25 degrees, in patches | D11: m2 | E11: 10 | G11: =+E11*F11 -> 0
A12: 173 | B12: 4 | C12: Roof covering with 30 degree pitch, in patches | D12: m2 | E12: 10 | G12: =+E12*F12 -> 0
A13: 173 | B13: 5 | C13: Extra over roof covering for double course at eaves | D13: m | E13: 40 | G13: =+E13*F13 -> 0
A14: 173 | B14: 6 | C14: Extra over roof covering for double course at eaves, in patches | D14: m | E14: 10 | G14: =+E14*F14 -> 0
C15: 420 x 332mm "BMI Coverland", "Marley" or similar approved concrete roof tiles in approved colour, secured to and including NEW 38 x 38mm sawn softwood (grade 5) battens spaced at approximately 320mm centres (tile underlay/membrane elsewhere measured)
A16: 173 | B16: 7 | C16: Roof covering with pitch not exceeding 25 degrees | D16: m2 | E16: 100 | G16: =+E16*F16 -> 0
A17: 173 | B17: 8 | C17: Roof covering with 30 degree pitch | D17: m2 | E17: 100 | G17: =+E17*F17 -> 0
A18: 173 | B18: 9 | C18: Extra over roof covering for double course at eaves, including 38 x 50mm tilting sawn softwood batten at eaves | D18: m | E18: 40 | G18: =+E18*F18 -> 0
C19: "BMI Coverland", "Marley" or similar approved concrete roof tile accessories mechanically fixed (dry ridge system) with and including non-ventilated/ventilated ridge rolls, ridge trees, ridge clips and kro clips | H19: =SUM(G19:G36) -> 0
A20: 174 | B20: 10 | C20: Tapered ridge/hip | D20: m | E20: 10 | G20: =+E20*F20 -> 0
A21: 174 | B21: 11 | C21: Tapered ridge/hip in patches | D21: m | E21: 3 | G21: =+E21*F21 -> 0
A22: 174 | B22: 12 | C22: Tapered hip starter tile | D22: No | E22: 2 | G22: =+E22*F22 -> 0
C23: "BMI Coverland", "Marley" or similar approved concrete roof tile accessories bedded solid in and including colour pigmented 3:1 cement mortar, including ponting
A24: 174 | B24: 13 | C24: Tapered ridge/hip | D24: m | E24: 10 | G24: =+E24*F24 -> 0
A25: 174 | B25: 14 | C25: Tapered ridge in patches | D25: m | E25: 3 | G25: =+E25*F25 -> 0
A26: 174 | B26: 15 | C26: Tapered hip starter tile | D26: No | E26: 2 | G26: =+E26*F26 -> 0
C27: CLAY ROOF TILES
C28: 410 x 240mm "Italcotto Marseilles" or similar approved clay roof tiles in approved colour, secured to EXISTING 38 x 38mm sawn softwood battens spaced at approximately 350mm centres
A29: 174 | B29: 16 | C29: Roof covering with pitch not exceeding 25 degrees, in patches | D29: m2 | E29: 20 | G29: =+E29*F29 -> 0
A30: 174 | B30: 17 | C30: Roof covering with 30 degree pitch, in patches | D30: m2 | E30: 20 | G30: =+E30*F30 -> 0
A31: 174 | B31: 18 | C31: Extra over roof covering for double course at eaves, in patches | D31: m | E31: 4 | G31: =+E31*F31 -> 0
C32: FIBRE CEMENT ROOF SLATES
C33: 406mm Wide x 610mm long x 7mm thick "Nutec" or similar approved fibre cement roof slates secure to EXISTING timber battens spaced at approximately 250mm centres
A34: 174 | B34: 19 | C34: Roof covering with pitch not exceeding 25 degrees, in patches | D34: m2 | E34: 50 | G34: =+E34*F34 -> 0
A35: 174 | B35: 20 | C35: Roof covering with 30 degree pitch, in patches | D35: m2 | E35: 50 | G35: =+E35*F35 -> 0
A36: 174 | B36: 21 | C36: Extra over roof covering for starter course at eaves, in patches | D36: m | E36: 5 | G36: =+E36*F36 -> 0
A37: 175 | B37: 22 | C37: "Boston" ridge formed of an including two rows of slates laid parallel to each other, overlapping at the ridge/hip with every alternate course overlapping in the opposite direction, in patches | D37: m | E37: 5 | G37: =+E37*F37 -> 0 | H37: =SUM(G37:G43) -> 0
C38: STONE ROOF SLATES
C39: 400 x 280mm Conventional stone roofing slates, approximately 250mm wide x 460mm long x 10mm thick, secured to EXISTING 38 x 38mm sawn softwood battens spaced at approximately 100mm centres
A40: 175 | B40: 23 | C40: Roof covering with pitch not exceeding 25 degrees, in patches | D40: m2 | E40: 50 | G40: =+E40*F40 -> 0
...

Sheet Carpentry and joinery
A1: PAGE NO | B1: ITEM NO | C1: DESCRIPTION | D1: UNIT | E1: QUANTITY | F1: RATE | G1: AMOUNT | H1: AMOUNT CARRIED TO COLLECTION
C2: SECTION NO. 2 | H2: =SUM(G2:G11) -> 0
C3: BILL NO. 8
C4: CARPENTRY AND JOINERY
C5: ROOFS, FLOORS, PERGOLAS, ETC.
C6: TIMBER ROOF CONSTRUCTION
C7: Timber roof trusses will be project specific and included in the work package quotations. The items below is for information purposes only and gives the tenderer an indication of what may included in the work package quotation.
C8: The following is applicable in respect of roof trusses : Trusses designed to approximately ____ degree pitches. Trusses are spaced at approximately ________mm centres. The roof covering is corrugate/troughed/ribbed metal / corrugated fibre cement roof sheeting / cement roof tiles. Ceilings are mainly gypsum plaster skimmed 6,4mm thick gypsum boards and 4mm thick pressed fibre cement boards nailed to 38 x 50mm sawn timbers on 400mm centres in one direction only and 1200 x 600 x 12,5mm thick vinyl cladded gypsum boards on an aluminium tee suspension system. The eaves will be closed with 4mm thick pressed fibre cement boards on 38 x 50mm sawn timbers. The word "span" is the horizontal length measured between the internal faces of the external walls. "Overhang" is the horizontal length measured from the external face of the external wall to the edge of the roof covering. "Height" is the vertical measurement from the bottom of the tie beam to the top of the truss.
A9: 237 | B9: 1 | C9: Rectangular roof construction for building 20 meter long x 10 meter wide with two gable ends and no overhangs / 600mm over hang one side / both sides | D9: Item | F9: Do not price
A10: 237 | B10: 2 | C10: Rectangular roof construction for building 20 meter long x 10 meter wide with two hip ends and no overhangs / 600mm over hang one side / both sides | D10: Item | F10: Do not price
A11: 237 | B11: 3 | C11: Rectangular roof construction for building 20 meter long x 10 meter wide with one gable end and one gable end and no overhangs / 600mm over hang one side / both sides | D11: Item | F11: Do not price
A12: 238 | B12: 4 | C12: L-shaped roof construction for building 20 meter long x 20 meter long x 10 meter wide with two gable ends and no overhangs / 600mm over hang one side / both sides | D12: Item | F12: Do not price | H12: =SUM(G12:G27) -> 0
A13: 238 | B13: 5 | C13: L-shaped roof construction for building 20 meter long x 20 meter long x 10 meter wide with two hip ends and no overhangs / 600mm over hang one side / both sides | D13: Item | F13: Do not price
A14: 238 | B14: 6 | C14: L-shaped roof construction for building 20 meter long x 20 meter long x 10 meter wide with one gable end and one hip end and no overhangs / 600mm over hang one side / both sides | D14: Item | F14: Do not price
A15: 238 | B15: 7 | C15: T-shaped roof construction for building 30 meter long x 10 meter wide and 15 meter long x 10 meter wide with three gable ends and no overhangs / 600mm over hang one side / both sides | D15: Item | F15: Do not price
A16: 238 | B16: 8 | C16: T-shaped roof construction for building 30 meter long x 10 meter wide and 15 meter long x 10 meter wide with three hip ends and no overhangs / 600mm over hang one side / both sides | D16: Item | F16: Do not price
A17: 238 | B17: 9 | C17: T-shaped roof construction for building 30 meter long x 10 meter wide and 15 meter long x 10 meter wide with two gable end and one hip end and no overhangs / 600mm over hang one side / both sides | D17: Item | F17: Do not price
C18: NON-STRUCTURAL TIMBERS IN ROOFS, FLOORS, PERGOLAS, ETC.
C19: Non-structural sawn softwood grade 5
A20: 238 | B20: 10 | C20: 38 x 38mm Purlins, battens, rails, hangers, etc. nailed, screwed or bolted | D20: m | E20: 50 | G20: =+E20*F20 -> 0
A21: 238 | B21: 11 | C21: 38 x 38mm Purlins, battens, rails, hangers, etc. in patches (lengths not exceeding 1 metre), nailed, screwed or bolted | D21: m | E21: 6 | G21: =+E21*F21 -> 0
A22: 238 | B22: 12 | C22: 38 x 50mm Splayed eaves fillet, nailed, screwed or bolted | D22: m | E22: 20 | G22: =+E22*F22 -> 0
A23: 238 | B23: 13 | C23: 38 x 50mm Splayed eaves fillet in patches (lengths not exceeding 1 metre), nailed, screwed or bolted | D23: m | E23: 6 | G23: =+E23*F23 -> 0
A24: 238 | B24: 14 | C24: 38 x 114mm Wall plates | D24: m | E24: 20 | G24: =+E24*F24 -> 0
A25: 238 | B25: 15 | C25: 38 x 114mm Runners, hangers, etc., nailed, screwed or bolted | D25: m | E25: 10 | G25: =+E25*F25 -> 0
A26: 238 | B26: 16 | C26: 52 x 76mm Purlins, rails, etc. nailed, screwed or bolted | D26: m | E26: 20 | G26: =+E26*F26 -> 0
A27: 238 | B27: 17 | C27: 52 x 76mm Purlins, rails, etc., in patches (not exceeding 1 meter in length) nailed, screwed or bolted | D27: m | E27: 6 | G27: =+E27*F27 -> 0
A28: 239 | B28: 18 | C28: 76 x 76mm Splayed eaves purlins, nailed, screwed or bolted | D28: m | E28: 20 | G28: =+E28*F28 -> 0 | H28: =SUM(G28:G46) -> 0
A29: 239 | B29: 19 | C29: 76 x 76mm Splayed eaves purlins in patches (in lengths not exceeding 1 meter), nailed, screwed or bolted | D29: m | E29: 6 | G29: =+E29*F29 -> 0
C30: STRUCTURAL TIMBERS IN ROOFS, FLOORS, PERGOLAS, ETC.
C31: Structural sawn softwood grade 5
A32: 239 | B32: 20 | C32: 38 x 114mm Joists, rafters, etc. in lengths not exceeding 2.4 meter | D32: m | E32: 3 | G32: =+E32*F32 -> 0
A33: 239 | B33: 21 | C33: 38 x 114mm Joists, rafters, etc. in lengths exceeding 2.4 meter and not exceeding 3.9 meter | D33: m | E33: 3 | G33: =+E33*F33 -> 0
A34: 239 | B34: 22 | C34: 38 x 114mm Joists, rafters, etc. in lengths exceeding 3.9 meter and not exceeding 6.6 meter | D34: m | E34: 6 | G34: =+E34*F34 -> 0
A35: 239 | B35: 23 | C35: 38 x 114mm Joists, rafters, etc. in lengths exceeding 6.6 meter | D35: m | E35: 10 | G35: =+E35*F35 -> 0
A36: 239 | B36: 24 | C36: 50 x 228mm Joists, rafters, etc. in lengths not exceeding 2.4 meter | D36: m | E36: 3 | G36: =+E36*F36 -> 0
A37: 239 | B37: 25 | C37: 50 x 228mm Joists, rafters, etc. in lengths exceeding 2.4 meter and not exceeding 3.9 meter | D37: m | E37: 3 | G37: =+E37*F37 -> 0
A38: 239 | B38: 26 | C38: 50 x 228mm Joists, rafters, etc. in lengths exceeding 3.9 meter and not exceeding 6.6 meter | D38: m | E38: 6 | G38: =+E38*F38 -> 0
A39: 239 | B39: 27 | C39: 50 x 228mm Joists, rafters, etc. in lengths exceeding 6.6 meter | D39: m | E39: 10 | G39: =+E39*F39 -> 0
A40: 239 | C40: Structural sawn softwood grade 7
...

Sheet Joinery fittings
A1: PAGE NO | B1: ITEM NO | C1: DESCRIPTION | D1: UNIT | E1: QUANTITY | F1: RATE | G1: AMOUNT | H1: AMOUNT CARRIED TO COLLECTION
C2: SECTION NO. 2 | H2: =SUM(G2:G10) -> 0
C3: BILL NO. 9
C4: JOINERY FITTINGS
C5: Rates for joinery fittings shall be deemed to include the following :
C6: 1. Melamine faced chipboard manufactured in accordance with SANS 50312 : 2015 (EN 312 : 2010) (P2) and EN 14322 : 2017 (Table 1) 2. Melamine faced supawood manufactured in accordance with SANS 540-1 : 2009, EN 622-5 : 2 EN 14322 : 2017 (Table 1) 3. Melamine faced chipboard, comprising of chipboard covered on both faces with 1mm thick melamine-impregnated décor paper 4. Melamine faced supawood, comprising of supawood covered on both faces with 1mm thick melamine-impregnated décor paper 5. Melamine surfaces to be durable and scratch and moisture resistant 6. Components of fittings shall be cut to the required sizes; no joining of components to make up a required size shall be allowed 7. All components of fittings shall be glued and shot-pinned together, unless otherwise described 8. Joinery fittings secured to brick walls with and including nail-in nylon countersunk CSK8 anchors 9. The wording "size overall" refers to the distance measured from external face to the external face of a unit. 10. The term "plugged" refers to the fixing of timbers to brick wall with nail-in nylon countersunk CSK8 anchors - - - - - - - - - - -
C7: GENERAL
C8: Hardboard
A9: 271 | B9: 1 | C9: 3mm Thick backs, linings, etc. | D9: m2 | E9: 3 | G9: =+E9*F9 -> 0
A10: 271 | B10: 2 | C10: 6.4mm Thick backs, linings, etc. | D10: m2 | E10: 3 | G10: =+E10*F10 -> 0
C11: White hardboard | H11: =SUM(G11:G31) -> 0
A12: 272 | B12: 3 | C12: 3mm Thick backs, linings, etc. | D12: m2 | E12: 3 | G12: =+E12*F12 -> 0
C13: Chipboard
A14: 272 | B14: 4 | C14: 20mm Thick shelves, divisions, sides, bottoms, tops, doors, etc. | D14: m2 | E14: 3 | G14: =+E14*F14 -> 0
C15: Laminated pine
A16: 272 | B16: 5 | C16: 20mm Thick shelves | D16: m2 | E16: 3 | G16: =+E16*F16 -> 0
C17: Wrought softwood
A18: 272 | B18: 6 | C18: 20mm Thick shelves, divisions, sides, bottoms, tops, doors, etc. | D18: m2 | E18: 3 | G18: =+E18*F18 -> 0
C19: Wrought hardwod
A20: 272 | B20: 7 | C20: 20mm Thick shelves, divisions, sides, bottoms, tops, doors, etc. | D20: m2 | E20: 3 | G20: =+E20*F20 -> 0
A21: 272 | B21: 8 | C21: 16 x 16mm Bead nailed, glued | D21: m | E21: 10 | G21: =+E21*F21 -> 0
C22: Melamine faced chipboard (colour: White)
A23: 272 | B23: 9 | C23: 16mm Thick shelves, divisions, sides, bottoms, tops, doors, etc. | D23: m2 | E23: 3 | G23: =+E23*F23 -> 0
A24: 272 | B24: 10 | C24: 16mm Wide melamine edging, glued and exposed edges cut back, finished flush with adjacent melamine surfaces of shelves, divisions, sides, tops, doors, etc. | D24: m | E24: 10 | G24: =+E24*F24 -> 0
C25: Melamine faced chipboard (colour: Folkstone Grey Peen)
A26: 272 | B26: 11 | C26: 16mm Thick shelves, divisions, sides, bottoms, tops, doors, etc. | D26: m2 | E26: 3 | G26: =+E26*F26 -> 0
A27: 272 | B27: 12 | C27: 16mm Wide melamine edging, glued and exposed edges cut back, finished flush with adjacent melamine surfaces of shelves, divisions, sides, tops, doors, etc. | D27: m | E27: 10 | G27: =+E27*F27 -> 0
C28: Melamine faced chipboard (colour: Oak)
A29: 272 | B29: 13 | C29: 16mm Thick shelves, divisions, sides, bottoms, tops, doors, etc. | D29: m2 | E29: 3 | G29: =+E29*F29 -> 0
A30: 272 | B30: 14 | C30: 16mm Wide melamine edging, glued and exposed edges cut back, finished flush with adjacent melamine surfaces of shelves, divisions, sides, tops, doors, etc. | D30: m | E30: 10 | G30: =+E30*F30 -> 0
C31: POST-FORMED TOPS
C32: Chipboard with 1mm thick high pressure plastic laminated finish (Formica) to one side and white liner quality on other side (colour:White) | H32: =SUM(G32:G44) -> 0
A33: 273 | B33: 15 | C33: 32mm Thick x 600mm wide post-formed top with one rounded edge | D33: m | E33: 5 | G33: =+E33*F33 -> 0
A34: 273 | B34: 16 | C34: 32mm Thick x 900mm wide post-formed top with one rounded edge | D34: m | E34: 5 | G34: =+E34*F34 -> 0
A35: 273 | B35: 17 | C35: 34mm Wide melamine edging, glued and exposed edges cut back, finished flush with adjacent melamine surfaces of top | D35: m | E35: 5 | G35: =+E35*F35 -> 0
C36: Chipboard with 1mm thick high pressure plastic laminated finish (Formica) to one side and white liner quality on other side (colour:Comet Granite)
A37: 273 | B37: 18 | C37: 32mm Thick x 600mm wide post-formed top with one rounded edge | D37: m | E37: 5 | G37: =+E37*F37 -> 0
A38: 273 | B38: 19 | C38: 32mm Thick x 900mm wide post-formed top with one rounded edge | D38: m | E38: 5 | G38: =+E38*F38 -> 0
A39: 273 | B39: 20 | C39: 34mm Wide melamine edging, glued and exposed edges cut back, finished flush with adjacent melamine surfaces of top | D39: m | E39: 5 | G39: =+E39*F39 -> 0
C40: BUILT-IN CUPBOARDS
...

Sheet Ceilings, partitions
A1: PAGE NO | B1: ITEM NO | C1: DESCRIPTION | D1: UNIT | E1: QUANTITY | F1: RATE | G1: AMOUNT | H1: AMOUNT CARRIED TO COLLECTION
C2: SECTION NO. 2 | H2: =SUM(G2:G21) -> 0
C3: BILL NO. 10
C4: CEILINGS, PARTITIONS AND ACCESS FLOORING
C5: TIMBER BRANDERING, JOISTS, ETC.
C6: Sawn softwood grade 5
A7: 279 | B7: 1 | C7: 38 x 38mm Brandering, nailed and/or screwed | D7: m | E7: 12 | G7: =+E7*F7 -> 0
A8: 279 | B8: 2 | C8: 38 x 50mm Brandering, nailed and/or screwed | D8: m | E8: 12 | G8: =+E8*F8 -> 0
A9: 279 | B9: 3 | C9: 38 x 114mm Joists, rafters, etc. in lengths not exceeding 2.4 meter | D9: m | E9: 2 | G9: =+E9*F9 -> 0
A10: 279 | B10: 4 | C10: 38 x 114mm Joists, rafters, etc. in lengths exceeding 2.4 meter and not exceeding 3.9 meter | D10: m | E10: 3 | G10: =+E10*F10 -> 0
A11: 279 | B11: 5 | C11: 38 x 114mm Joists, rafters, etc. in lengths exceeding 3.9 meter and not exceeding 6.6 meter | D11: m | E11: 6 | G11: =+E11*F11 -> 0
A12: 279 | B12: 6 | C12: 38 x 114mm Joists, rafters, etc. in lengths exceeding 6.6 meter | D12: m | E12: 7 | G12: =+E12*F12 -> 0
A13: 279 | B13: 7 | C13: 50 x 228mm Joists, rafters, etc. in lengths not exceeding 2.4 meter | D13: m | E13: 2 | G13: =+E13*F13 -> 0
A14: 279 | B14: 8 | C14: 50 x 228mm Joists, rafters, etc. in lengths exceeding 2.4 meter and not exceeding 3.9 meter | D14: m | E14: 3 | G14: =+E14*F14 -> 0
A15: 279 | B15: 9 | C15: 50 x 228mm Joists, rafters, etc. in lengths exceeding 3.9 meter and not exceeding 6.6 meter | D15: m | E15: 6 | G15: =+E15*F15 -> 0
A16: 279 | B16: 10 | C16: 50 x 228mm Joists, rafters, etc. in lengths exceeding 6.6 meter | D16: m | E16: 7 | G16: =+E16*F16 -> 0
C17: Sawn softwood grade 7 | G17: =+E17*F17 -> 0
A18: 279 | B18: 11 | C18: 38 x 114mm Joists, rafters, etc. in lengths not exceeding 2.4 meter | D18: m | E18: 2 | G18: =+E18*F18 -> 0
A19: 279 | B19: 12 | C19: 38 x 114mm Joists, rafters, etc. in lengths exceeding 2.4 meter and not exceeding 3.9 meter | D19: m | E19: 3 | G19: =+E19*F19 -> 0
A20: 279 | B20: 13 | C20: 38 x 114mm Joists, rafters, etc. in lengths exceeding 3.9 meter and not exceeding 6.6 meter | D20: m | E20: 6 | G20: =+E20*F20 -> 0
A21: 279 | B21: 14 | C21: 38 x 114mm Joists, rafters, etc. in lengths exceeding 6.6 meter | D21: m | E21: 7 | G21: =+E21*F21 -> 0
A22: 280 | B22: 15 | C22: 50 x 228mm Joists, rafters, etc. in lengths not exceeding 2.4 meter | D22: m | E22: 2 | G22: =+E22*F22 -> 0 | H22: =SUM(G22:G41) -> 0
A23: 280 | B23: 16 | C23: 50 x 228mm Joists, rafters, etc. in lengths exceeding 2.4 meter and not exceeding 3.9 meter | D23: m | E23: 3 | G23: =+E23*F23 -> 0
A24: 280 | B24: 17 | C24: 50 x 228mm Joists, rafters, etc. in lengths exceeding 3.9 meter and not exceeding 6.6 meter | D24: m | E24: 6 | G24: =+E24*F24 -> 0
A25: 280 | B25: 18 | C25: 50 x 228mm Joists, rafters, etc. in lengths exceeding 6.6 meter | D25: m | E25: 7 | G25: =+E25*F25 -> 0
C26: Galvanised sheet iron trust hangers, connector plates, etc.
A27: 280 | B27: 19 | C27: 1.0mm Thick purlin clip | D27: No | E27: 10 | G27: =+E27*F27 -> 0
A28: 280 | B28: 20 | C28: 90-Degree x 38mm wide x 120mm high x 1.6mm thick truss hanger | D28: No | E28: 4 | G28: =+E28*F28 -> 0
A29: 280 | B29: 21 | C29: 90-Degree x 50mm wide x 115mm high x 1.6mm thick truss hanger | D29: No | E29: 4 | G29: =+E29*F29 -> 0
A30: 280 | B30: 22 | C30: 90-Degree x 76mm wide x 175mm high x 1.6mm thick truss hanger | D30: No | E30: 4 | G30: =+E30*F30 -> 0
C31: Bolts
A32: 280 | B32: 23 | C32: Bolts | D32: kg | E32: 1 | G32: =+E32*F32 -> 0
A33: 280 | B33: 24 | C33: 10mm Diameter expansion bolt | D33: No | E33: 2 | G33: =+E33*F33 -> 0
A34: 280 | B34: 25 | C34: 12mm Diameter expansion bolt | D34: No | E34: 2 | G34: =+E34*F34 -> 0
C35: NAILED-UP CEILINGS TO EXISTING TIMBER BRANDERING
C36: NAILED-UP CEILINGS TO EXISTING TIMBER BRANDERING: NON-SKIMMED
C37: 6,4mm Thick gypsum plaster board with and including H-type pressed steel jointing strips
A38: 280 | B38: 26 | C38: Horizontal ceilings | D38: m2 | E38: 16 | G38: =+E38*F38 -> 0
A39: 280 | B39: 27 | C39: Horizontal ceilings in patches not exceeding 1 square metre | D39: m2 | E39: 1 | G39: =+E39*F39 -> 0
A40: 280 | B40: 28 | C40: Bulkhead, 500mm wide x 100mm deep, in horizontal ceilings | D40: m | E40: 6 | G40: =+E40*F40 -> 0
...

Sheet Floor coverings, wall linings
A1: PAGE NO | B1: ITEM NO | C1: DESCRIPTION | D1: UNIT | E1: QUANTITY | F1: RATE | G1: AMOUNT | H1: AMOUNT CARRIED TO COLLECTION
C2: SECTION NO. 2 | H2: =SUM(G2:G19) -> 0
C3: BILL NO. 11
C4: FLOOR COVERINGS, WALL LININGS, ETC.
C5: FLOOR COVERINGS
C6: CARPET TILES
C7: "Belgotex berberpoint 920" or similar approved 500 x 500mm x 8.5mm Thick heavy commercial, PP, structured needle punched colour fast carpet tiles with stainproof polypropylene fibre, bitumen backing, fire index of 3, electrostatic propensity of less than 2.0kV and fibre mass of 920g/ square metre
A8: 316 | B8: 1 | C8: On floors and landings | D8: m2 | E8: 16 | G8: =+E8*F8 -> 0
A9: 316 | B9: 2 | C9: On floors and landings in patches not exceeding 1 square metre | D9: m2 | E9: 1 | G9: =+E9*F9 -> 0
A10: 316 | B10: 3 | C10: On treads and risers of stairs | D10: m2 | E10: 5 | G10: =+E10*F10 -> 0
C11: VINYL TILES
C12: "FloorworX Superflex" 300 x 300 x 2.5mm thick or similar approved or similar approved homogeneous vinyl tiles, including adhesive to cementitious/timber/metal surfaces
A13: 316 | B13: 4 | C13: On floors and landings | D13: m2 | E13: 16 | G13: =+E13*F13 -> 0
A14: 316 | B14: 5 | C14: On floors and landings in patches not exceeding 1 square metre | D14: m2 | E14: 1 | G14: =+E14*F14 -> 0
A15: 316 | B15: 6 | C15: On treads and risers of stairs | D15: m2 | E15: 5 | G15: =+E15*F15 -> 0
C16: "Polyflor Polyflex Plus PU" 300 x 300 x 2mm thick or similar approved homogeneous vinyl tiles, including adhesive to cementitious/timber/metal surfaces
A17: 316 | B17: 7 | C17: On floors and landings | D17: m2 | E17: 16 | G17: =+E17*F17 -> 0
A18: 316 | B18: 8 | C18: On floors and landings in patches not exceeding 1 square metre | D18: m2 | E18: 1 | G18: =+E18*F18 -> 0
A19: 316 | B19: 9 | C19: On treads and risers of stairs | D19: m2 | E19: 5 | G19: =+E19*F19 -> 0
C20: "Gerflor Mactile" 300 x 300 x 2.5mm thick or similar approved homogeneous vinyl tiles, including adhesive to cementitious/timber/metal surfaces | H20: =SUM(G20:G40) -> 0
A21: 317 | B21: 10 | C21: On floors and landings | D21: m2 | E21: 16 | G21: =+E21*F21 -> 0
A22: 317 | B22: 11 | C22: On floors and landings in patches not exceeding 1 square metre | D22: m2 | E22: 1 | G22: =+E22*F22 -> 0
A23: 317 | B23: 12 | C23: On treads and risers of stairs | D23: m2 | E23: 5 | G23: =+E23*F23 -> 0
C24: VINYL SHEETING: STANDARD
C25: 2mm Thick "FloorworX Superflex" or similar approved homogeneous vinyl sheeting, including adhesive to cementitious/timber/metal surfaces
A26: 317 | B26: 13 | C26: On floors and landings | D26: m2 | E26: 40 | G26: =+E26*F26 -> 0
A27: 317 | B27: 14 | C27: On floors and landings in patches not exceeding 1 square metre | D27: m2 | E27: 10 | G27: =+E27*F27 -> 0
A28: 317 | B28: 15 | C28: On treads and risers of stairs | D28: m2 | E28: 5 | G28: =+E28*F28 -> 0
A29: 317 | B29: 16 | C29: On walls | D29: m2 | E29: 4 | G29: =+E29*F29 -> 0
A30: 317 | B30: 17 | C30: In margins, borders, turn-ups, etc. not exceeding 500mm wide | D30: m | E30: 5 | G30: =+E30*F30 -> 0
C31: 2mm Thick "FloorworX Sphera Element" or similar approved homogeneous vinyl sheeting, including adhesive to cementitious/timber/metal surfaces
A32: 317 | B32: 18 | C32: On floors and landings | D32: m2 | E32: 40 | G32: =+E32*F32 -> 0
A33: 317 | B33: 19 | C33: On floors and landings in patches not exceeding 1 square metre | D33: m2 | E33: 10 | G33: =+E33*F33 -> 0
A34: 317 | B34: 20 | C34: On treads and risers of stairs | D34: m2 | E34: 5 | G34: =+E34*F34 -> 0
A35: 317 | B35: 21 | C35: On walls | D35: m2 | E35: 4 | G35: =+E35*F35 -> 0
A36: 317 | B36: 22 | C36: In margins, borders, turn-ups, etc. not exceeding 500mm wide | D36: m | E36: 5 | G36: =+E36*F36 -> 0
C37: 2mm Thick "Polyflor XL PU" or similar approved homogeneous vinyl sheeting, including adhesive to cementitious/timber/metal surfaces (Strip and sealing of sheeting elsewhere measured)
A38: 317 | B38: 23 | C38: On floors and landings | D38: m2 | E38: 40 | G38: =+E38*F38 -> 0
A39: 317 | B39: 24 | C39: On floors and landings in patches not exceeding 1 square metre | D39: m2 | E39: 10 | G39: =+E39*F39 -> 0
A40: 317 | B40: 25 | C40: On treads and risers of stairs | D40: m2 | E40: 5 | G40: =+E40*F40 -> 0
...

Sheet Ironmongery
A1: PAGE NO | B1: ITEM NO | C1: DESCRIPTION | D1: UNIT | E1: QUANTITY | F1: RATE | G1: AMOUNT | H1: AMOUNT CARRIED TO COLLECTION
C2: SECTION NO. 2 | H2: =SUM(G2:G20) -> 0
C3: BILL NO. 12
C4: IRONMONGERY
C5: HINGES, BOLTS, ETC.
C6: Cabin hook and eyes fixed to timber/steel/aluminium
A7: 329 | B7: 1 | C7: 75mm Long chrome/brass plated cabin hook and eye | D7: No | E7: 1 | G7: =+E7*F7 -> 0
A8: 329 | B8: 2 | C8: 100mm Long chrome/brass plated cabin hook and eye | D8: No | E8: 1 | G8: =+E8*F8 -> 0
A9: 329 | B9: 3 | C9: 150mm Long chrome/brass plated cabin hook and eye | D9: No | E9: 1 | G9: =+E9*F9 -> 0
A10: 329 | B10: 4 | C10: 200mm Long chrome/brass plated cabin hook and eye | D10: No | E10: 1 | G10: =+E10*F10 -> 0
A11: 329 | B11: 5 | C11: 100 x 100 x 32mm thick oiled hard wood block with chamfered edges all round, plugged | D11: No | E11: 1 | G11: =+E11*F11 -> 0
C12: Barrel bolts to timber / steel / aluminium
A13: 329 | B13: 6 | C13: Brass/ chrome plated straight/necked barrel bolt, 50mm long, including keep | D13: No | E13: 1 | G13: =+E13*F13 -> 0
A14: 329 | B14: 7 | C14: Brass/ chrome plated straight/necked barrel bolt, 75mm long, including keep | D14: No | E14: 1 | G14: =+E14*F14 -> 0
A15: 329 | B15: 8 | C15: Brass/ chrome plated straight/necked barrel bolt, 100mm long, including keep | D15: No | E15: 1 | G15: =+E15*F15 -> 0
A16: 329 | B16: 9 | C16: Brass/ chrome plated straight/necked barrel bolt, 150mm long, including keep | D16: No | E16: 1 | G16: =+E16*F16 -> 0
C17: Cupboard hinges to timber
A18: 329 | B18: 10 | C18: Chrome plated 90-degree concealed slide-on or clip-on soft close hinge, including four-hole mounting plate | D18: No | E18: 1 | G18: =+E18*F18 -> 0
A19: 329 | B19: 11 | C19: Chrome plated 110-degree concealed slide-on or clip-on soft close hinge, including four-hole mounting plate | D19: No | E19: 1 | G19: =+E19*F19 -> 0
A20: 329 | B20: 12 | C20: Chrome plated 175-degree concealed slide-on or clip-on soft close hinge, including four-hole mounting plate | D20: No | E20: 1 | G20: =+E20*F20 -> 0
C21: "ASSA ABLOY" or similar approved hinges fixed to timber/steel/aluminium | H21: =SUM(G21:G25) -> 0
A22: 330 | B22: 13 | C22: "Union 8352-100SB" 100 x 75 x 3mm satin brass ball bearing butt hinges | D22: No | E22: 1 | G22: =+E22*F22 -> 0
A23: 330 | B23: 14 | C23: "Union JH-BB-STD-2-SS" 102 x 76 x 3mm grade 304 stainless steel ball bearing butt hinge | D23: No | E23: 1 | G23: =+E23*F23 -> 0
A24: 330 | B24: 15 | C24: "Union X-SS194RS-3-SS" 102/114 x 76 x 3mm grade 304 stainless steel rising butt hinge | D24: No | E24: 1 | G24: =+E24*F24 -> 0
A25: 330 | B25: 16 | C25: "Union 8352-100SS/2SP" 100 x 75 x 3mm grade 304 stainless ball bearing security hinge with two (2) security pins | D25: No | E25: 1 | G25: =+E25*F25 -> 0
A26: 331 | B26: 17 | C26: "Union X-SS194FS-3-SS" 102/112 x 76 x 3mm grade 304 stainless steel falling butt hinges | D26: No | E26: 1 | G26: =+E26*F26 -> 0 | H26: =SUM(G26:G29) -> 0
A27: 331 | B27: 18 | C27: "Union AL8352-100AS" 100 x 75 x 3.5mm aluminium butt hinge | D27: No | E27: 1 | G27: =+E27*F27 -> 0
A28: 331 | B28: 19 | C28: "Union 8352-100" 100 x 73 x 3mm sinkless aluminium hinge | D28: No | E28: 1 | G28: =+E28*F28 -> 0
A29: 331 | B29: 20 | C29: "Union 8352-200" 200 x 72 x 3mm sinkless aluminium hinge | D29: No | E29: 1 | G29: =+E29*F29 -> 0
A30: 332 | B30: 21 | C30: "Union 8352-100FLSS" 100 x 75 x 3mm grade 304 stainless steel ball bearing sinkless hinge | D30: No | E30: 1 | G30: =+E30*F30 -> 0 | H30: =SUM(G30:G49) -> 0
C31: Punched piano hinges to timber / steel / aluminium
C32: Note: Information on most of the piano hinges is obtainable from the website of "General Hinges and Aluminium Frames".
A33: 332 | B33: 22 | C33: Brass piano hinge, 0.7mm thick x 32mm wide | D33: m | E33: 1 | G33: =+E33*F33 -> 0
A34: 332 | B34: 23 | C34: Brass piano hinge, 1.2mm thick x 38mm wide | D34: m | E34: 1 | G34: =+E34*F34 -> 0
A35: 332 | B35: 24 | C35: Brass piano hinge, 1.2mm thick x 50mm wide | D35: m | E35: 1 | G35: =+E35*F35 -> 0
A36: 332 | B36: 25 | C36: Brass piano hinge, 1.6mm thick x 38mm wide | D36: m | E36: 1 | G36: =+E36*F36 -> 0
A37: 332 | B37: 26 | C37: Brass piano hinge, 1.6mm thick x 50mm wide | D37: m | E37: 1 | G37: =+E37*F37 -> 0
A38: 332 | B38: 27 | C38: Brass piano hinge, 1.6mm thick x 75mm wide | D38: m | E38: 1 | G38: =+E38*F38 -> 0
