Workbook

Sheet Instructions 
B2: Instructions | C2: TRANSNET CORPORATE CENTRE (TCC) INFRASTRUCTURE REFRESH PRICING WORKBOOK
C3: Service Provider Name
C4: Date
C5: The Exchange Rate to be used when completing this Pricing Workbook: | D5: R16,14
C6: All the Rand Values must be filled in as per the pricing workbook to 2 decimal places.
C7: All pricing must be inclusive of Value Added Tax (VAT).
C8: Validity of Pricing must be for One Hundred and Eighty (180) days
B9: 1. | C9: This MS Excel Workbook contains a separate spreadsheets designed to provide a robust understanding of the costing model. It is ESSENTIAL that this model be used in the pricing response.
B10: 2. | C10: The descriptions and Instructions/context for each spreadsheet, as well as convenient one-click navigation of the workbook are detailed below under the heading of "Pricing Workbook Tab Instructions" .
B11: 3. | C11: The worksheet is designed to elicit specific pricing information related to establishing, managing, developing, and deploying the work required by the TCC Infrastructure Refresh. If your typical pricing model does not normally charge for a specific element provided within this workbook, then please provide a statement in your "Assumptions" regarding your methodology for charging for that element (i.e., not applicable, charged on a time and material (T&M) basis, etc.).
B12: 4. | C12: The worksheet in this Pricing Template is protected to minimize the risk of compromising the integrity of the workbook structure and formulas. As such, the editable cells within each worksheet are indicated in light blue highlight as shown =================================> | D12: This cell is Editable
B13: 5. | C13: Service provider must note that only unconditional discounts will be taken into account for purposes of pricing evaluation.
B16: Pricing Goals
B18: Transnet has developed the following Service pricing goals for RFP respondents to utilise in developing the Service Pricing proposal. RFP respondent pricing should reflect: - Predetermined and Fixed Pricing for services over agreement term - Scalable to account for additions or reductions in business requirements - Ability to plug and unplug services to adapt new service delivery methods - All respondents assumptions in developing pricing are visible - Pricing Models ability to reflect ongoing continuous improvement gains - Pricing is structured so to encourage standardised use and behaviors - Transparent to underlying cost drivers - Enable external benchmarking of competitive services

Sheet Summary
B3: SUMMARY OF TCC DC AND TCC RDC INFRASTRUCTURE REFRESH
B4: Transnet LTD SOC
B5: Name Of Service Provider
B6: Date
B7: SUMMARY OF TOTALS
B8: TCC Infrastructure Refresh | C8: Total Once-Off Cost (Incl. VAT) | D8: Total Cost - Year 1 (Incl. VAT) | E8: Total Cost - Year 2 (Incl. VAT) | F8: Total Cost - Year 3 (Incl. VAT) | G8: Total Cost - Year 4 (Incl. VAT) | H8: Total Cost - Year 5 (Incl. VAT) | I8: Total (Incl. VAT)
B9: TCC DCs Infrastructure Refresh | C9: ='TCC DCs Infrastructure Refresh'!J31 -> 0 | I9: =C9 -> 0
B10: TCC RDC Infrastructure Refresh | C10: ='TCC RDC InfrastructureRefresh'!J120 -> 0 | I10: =C10 -> 0
B11: Services | C11: ='Services '!F222 -> 0 | D11: ='Services '!F227 -> 0 | E11: ='Services '!H227 -> 0 | F11: ='Services '!J227 -> 0 | G11: ='Services '!L227 -> 0 | H11: ='Services '!N227 -> 0 | I11: =SUM(C11:H11) -> 0
B12: Total (Including VAT) | C12: =SUM(C9:C11) -> 0 | D12: =D11 -> 0 | E12: =E11 -> 0 | F12: =F11 -> 0 | G12: =G11 -> 0 | H12: =H11 -> 0 | I12: =SUM(I9:I11) -> 0

Sheet TCC DCs Infrastructure Refresh
B3: TCC DURBAN AND GAUTENG DATA CENTRES INFRASTRUCTURE REFRESH SITES PRICING WORKBOOK
B4: DURBAN
B5: Queens Warehouse Data Centre
B6: Transnet LTD SOC
B7: Name Of Service Provider
B8: Date
B9: Section A : Infrastructure | C9: Location | D9: Province | E9: Category | F9: Description | G9: Unit of Measure | H9: Quantity | I9: Unit Price (Incl. VAT) | J9: Total Once-Off Cost (Incl. VAT)
C10: Queens Warehouse Data Centre | D10: KZN - Durban | E10: Compute Infrastructure | F10: Vcpu = 3041 cores Compute Node | G10: Each | H10: 1 | J10: =H10*I10 -> 0
C11: Queens Warehouse Data Centre | D11: KZN - Durban | E11: Storage | F11: Production Storage All Flash Storage with 256 TB Effective Capacity | G11: Each | H11: 1 | J11: =H11*I11 -> 0
C12: Queens Warehouse Data Centre | D12: KZN - Durban | F12: Backup storage All Flash Backup Storage Appliance with 300 TB Effective Capacity | G12: Each | H12: 1 | J12: =H12*I12 -> 0
C13: Queens Warehouse Data Centre | D13: KZN - Durban | E13: Network | F13: Top-of-Rack (ToR) Switches | G13: Each | H13: 1 | J13: =H13*I13 -> 0
C14: Queens Warehouse Data Centre | D14: KZN - Durban | F14: Network Patch Panels | G14: Each | H14: 1 | J14: =H14*I14 -> 0
C15: Queens Warehouse Data Centre | D15: KZN - Durban | E15: Racks | F15: Server Rack | G15: Each | H15: 1 | J15: =H15*I15 -> 0
C16: Queens Warehouse Data Centre | D16: KZN - Durban | E16: SAN | F16: Fiber Channel Switches (for SAN Connectivity) | G16: Each | H16: 1 | J16: =H16*I16 -> 0
C17: Queens Warehouse Data Centre | D17: KZN - Durban | E17: Power | F17: Rack-Mounted Power Distribution Units (PDUs) | G17: Each | H17: 1 | J17: =H17*I17 -> 0
B18: Total (Including VAT) | J18: =SUM(J10:J17) -> 0
B19: GAUTENG
B20: Colocation Data Centre
B21: Section A : Infrastructure | C21: Location | D21: Province | E21: Category | F21: Description | G21: Unit of Measure | H21: Quantity | I21: Unit Price (Incl. VAT) | J21: Total Once-Off Cost (Incl. VAT)
C22: Colocation Data Centre | D22: Gauteng | E22: Compute Infrastructure | F22: Vcpu = 4257 cores Compute Node | G22: Each | H22: 1 | J22: =H22*I22 -> 0
C23: Colocation Data Centre | D23: Gauteng | E23: Storage | F23: Production Storage All Flash Storage with 356 TB Effective Capacity | G23: Each | H23: 1 | J23: =H23*I23 -> 0
C24: Colocation Data Centre | D24: Gauteng | F24: Backup storage All Flash Backup Storage Appliance with 400 TB Effective Capacity | G24: Each | H24: 1 | J24: =H24*I24 -> 0
C25: Colocation Data Centre | D25: Gauteng | E25: Network | F25: Top-of-Rack (ToR) Switches | G25: Each | H25: 1 | J25: =H25*I25 -> 0
C26: Colocation Data Centre | D26: Gauteng | F26: Network Patch Panels | G26: Each | H26: 1 | J26: =H26*I26 -> 0
C27: Colocation Data Centre | D27: Gauteng | E27: Racks | F27: Server Rack | G27: Each | H27: 1 | J27: =H27*I27 -> 0
C28: Colocation Data Centre | D28: Gauteng | E28: SAN | F28: Fiber Channel Switches (for SAN Connectivity) | G28: Each | H28: 1 | J28: =H28*I28 -> 0
C29: Colocation Data Centre | D29: Gauteng | E29: Power | F29: Rack-Mounted Power Distribution Units (PDUs) | G29: Each | H29: 1 | J29: =H29*I29 -> 0
B30: Total (Including VAT) | J30: =SUM(J22:J29) -> 0
B31: Grand Total ( Including VAT) | J31: =SUM(J18+J30) -> 0

Sheet TCC RDC InfrastructureRefresh
B3: TCC EASTERN CAPE REGIONAL DATA INFRASTRUCTURE REFRESH PRICING WORKBOOK
B4: =[1]INSTRUCTION!C3 -> Transnet Ltd SOC
B5: =[1]INSTRUCTION!C4 -> Name of Service Provider
B6: =[1]INSTRUCTION!C5 -> Date
B7: Section A : Infrastructure | C7: Location | D7: Province | E7: Category | F7: Description | G7: Unit of Measure | H7: Quantity | I7: Unit Price (Incl. VAT) | J7: Total Once-Off Cost (Incl. VAT)
C8: East London Infrastructure Maintenance Building, A1 Cambridge Street | D8: Eastern Cape | E8: Compute Node | F8: 24 CPU Cores @ 2.1 GHz, 64 GB RAM, 1.92 TB SSD Storage - Compute Node | G8: Each | H8: 1 | J8: =H8*I8 -> 0
C9: EC_Port Elizabeth_North End_Corner Broad and Paterson Road | D9: Eastern Cape | F9: 24 CPU Cores @ 2.1 GHz, 64 GB RAM, 1.92 TB SSD Storage - Compute Node | G9: Each | H9: 1 | J9: =H9*I9 -> 0
C10: EC_Uitenhage_Mew | D10: Eastern Cape | F10: 24 CPU Cores @ 2.1 GHz, 64 GB RAM, 1.92 TB SSD Storage - Compute Node | G10: Each | H10: 1 | J10: =H10*I10 -> 0
C11: Port Elizabeth_Ngqura Container | D11: Eastern Cape | F11: 24 CPU Cores @ 2.1 GHz, 64 GB RAM, 1.92 TB SSD Storage - Compute Node | G11: Each | H11: 1 | J11: =H11*I11 -> 0
D12: Eastern Cape | E12: Storage | F12: All Flash Storage, 80 TB | G12: Each | H12: 1 | J12: =H12*I12 -> 0
D13: Eastern Cape | F13: All Flash Backup Storage Appliance, 100 TB Effective Capacity | G13: Each | H13: 1 | J13: =H13*I13 -> 0
D14: Eastern Cape | E14: Network | F14: Top-of-Rack (ToR) Switches | G14: Each | H14: 4 | J14: =H14*I14 -> 0
D15: Eastern Cape | F15: Network Patch Panels | G15: Each | H15: 4 | J15: =H15*I15 -> 0
D16: Eastern Cape | E16: Racks | F16: Server Rack | G16: Each | H16: 4 | J16: =H16*I16 -> 0
D17: Eastern Cape | F17: Rack-Mounted LCD Console | G17: Each | H17: 4 | J17: =H17*I17 -> 0
D18: Eastern Cape | E18: SAN | F18: Fiber Channel Switches (for SAN Connectivity) | G18: Each | H18: 1 | J18: =H18*I18 -> 0
D19: Eastern Cape | E19: Power | F19: Rack-Mounted Power Distribution Units (PDUs) | G19: Each | H19: 4 | J19: =H19*I19 -> 0
D20: Eastern Cape | E20: Peripherals | F20: Keyboard | G20: Each | H20: 4 | J20: =H20*I20 -> 0
D21: Eastern Cape | F21: Mouse | G21: Each | H21: 4 | J21: =H21*I21 -> 0
B22: Total (Including VAT) | J22: =SUM(J8:J21) -> 0
B23: TCC FREE STATE REGIONAL DATA INFRASTRUCTURE REFRESH PRICING WORKBOOK
B24: Section A : Infrastructure | C24: Location | D24: Province | E24: Category | F24: Description | G24: Unit of Measure | H24: Quantity | I24: Unit Price (Incl. VAT) | J24: Total Once-Off Cost (Incl. VAT)
C25: Bloemfontein_Rail Engineering, Transnet Road | D25: Free State | E25: Compute Node | F25: 24 CPU Cores @ 2.1 GHz, 64 GB RAM, 1.92 TB SSD Storage - Compute Node | G25: Each | H25: 1 | J25: =H25*I25 -> 0
C26: FS_Bloemfontein | D26: Free State | F26: 24 CPU Cores @ 2.1 GHz, 64 GB RAM, 1.92 TB SSD Storage - Compute Node | G26: Each | H26: 1 | J26: =H26*I26 -> 0
D27: Free State | E27: Storage | F27: All Flash Storage, 50 TB | G27: Each | H27: 1 | J27: =H27*I27 -> 0
D28: Free State | F28: All Flash Backup Storage Appliance, 70 TB Effective Capacity | G28: Each | H28: 1 | J28: =H28*I28 -> 0
D29: Free State | E29: Network | F29: Top-of-Rack (ToR) Switches | G29: Each | H29: 2 | J29: =H29*I29 -> 0
D30: Free State | F30: Network Patch Panels | G30: Each | H30: 2 | J30: =H30*I30 -> 0
D31: Free State | E31: Racks | F31: Server Rack | G31: Each | H31: 3 | J31: =H31*I31 -> 0
D32: Free State | F32: Rack-Mounted LCD Console | G32: Each | H32: 2 | J32: =H32*I32 -> 0
D33: Free State | E33: SAN | F33: Fiber Channel Switches (for SAN Connectivity) | G33: Each | H33: 1 | J33: =H33*I33 -> 0
D34: Free State | E34: Power | F34: Rack-Mounted Power Distribution Units (PDUs) | G34: Each | H34: 2 | J34: =H34*I34 -> 0
D35: Free State | E35: Peripherals | F35: Keyboard | G35: Each | H35: 2 | J35: =H35*I35 -> 0
D36: Free State | F36: Mouse | G36: Each | H36: 2 | J36: =H36*I36 -> 0
B37: Total (Including VAT) | J37: =SUM(J25:J36) -> 0
B38: TCC GAUTENG REGIONAL DATA INFRASTRUCTURE REFRESH PRICING WORKBOOK
B39: Section A : Infrastructure | C39: Location | D39: Province | E39: Category | F39: Description | G39: Unit of Measure | H39: Quantity | I39: Unit Price (Incl. VAT) | J39: Total Once-Off Cost (Incl. VAT)
C40: Johannesburg_96 Rissik Street, Transnet Building | D40: Gauteng | E40: Compute Node | F40: 24 CPU Cores @ 2.1 GHz, 64 GB RAM, 1.92 TB SSD Storage - Compute Node | G40: Each | H40: 1 | J40: =H40*I40 -> 0
C41: GP_Pretoria Corner Paul Kruger and Minaar Street_Nzasm Building | D41: Gauteng | F41: 24 CPU Cores @ 2.1 GHz, 64 GB RAM, 1.92 TB SSD Storage - Compute Node | G41: Each | H41: 1 | J41: =H41*I41 -> 0
C42: GP_Pretoria_Kilner Park_160 Lynette Street | D42: Gauteng | F42: 24 CPU Cores @ 2.1 GHz, 64 GB RAM, 1.92 TB SSD Storage - Compute Node | G42: Each | H42: 1 | J42: =H42*I42 -> 0
...

Sheet Services 
B3: TCC DATA CENTRES INFRASTRUCTURE REFRESH SITES SERVICES
B4: =[1]SUMMARY!C3 -> Name of Service Provider
B5: =[1]SUMMARY!C4 -> Date
B6: TCC Durban
B7: Queens Warehouse Data Centre
B8: Description | C8: Unit of Measure | D8: Quantity | E8: Unit Price (Incl. VAT) | F8: Total Once-Off Cost (Incl. VAT)
B9: Project management | C9: Each | D9: 1 | F9: =D9*E9 -> 0
B10: Design, Implementation and Commissioning | C10: Each | D10: 1 | F10: =D10*E10 -> 0
B11: Migration | C11: Each | D11: 1 | F11: =D11*E11 -> 0
B12: Transportation | C12: Each | D12: 1 | F12: =D12*E12 -> 0
B13: Training, Skills transfer and Handover | C13: Each | D13: 1 | F13: =D13*E13 -> 0
B14: Total (Including VAT) | F14: =SUM(F9:F13) -> 0
B15: TCC Gauteng
B16: Colocation Data Centre
B17: Description | C17: Unit of Measure | D17: Quantity | E17: Unit Price (Incl. VAT) | F17: Total Once-Off Cost (Incl. VAT)
B18: Project management | C18: Each | D18: 1 | F18: =D18*E18 -> 0
B19: Design, Implementation and Commissioning | C19: Each | D19: 1 | F19: =D19*E19 -> 0
B20: Migration | C20: Each | D20: 1 | F20: =D20*E20 -> 0
B21: Transportation | C21: Each | D21: 1 | F21: =D21*E21 -> 0
B22: Training, Skills transfer and Handover | C22: Each | D22: 1 | F22: =D22*E22 -> 0
B23: Total (Including VAT) | F23: =SUM(F18:F22) -> 0
B24: TCC REGIONAL DATA INFRASTRUCTURE REFRESH SITES SERVICES
B25: TCC Eastern Cape Infrastructure Refresh
B26: East London Infrastructure Maintenance Building, A1 Cambridge Street
B27: Description | C27: Unit of Measure | D27: Quantity | E27: Unit Price (Incl. VAT) | F27: Total Once-Off Cost (Incl. VAT)
B28: Project management | C28: Each | D28: 1 | F28: =D28*E28 -> 0
B29: Design, Implementation and Commissioning | C29: Each | D29: 1 | F29: =D29*E29 -> 0
B30: Migration | C30: Each | D30: 1 | F30: =D30*E30 -> 0
B31: Transportation | C31: Each | D31: 1 | F31: =D31*E31 -> 0
B32: Training, Skills transfer and Handover | C32: Each | D32: 1 | F32: =D32*E32 -> 0
B33: Total (Including VAT) | F33: =SUM(F28:F32) -> 0
B34: EC_Port Elizabeth_North End_Corner Broad and Paterson Road
B35: Description | C35: Unit of Measure | D35: Quantity | E35: Unit Price (Incl. VAT) | F35: Total Once-Off Cost (Incl. VAT)
B36: Project management | C36: Each | D36: 1 | F36: =D36*E36 -> 0
B37: Design, Implementation and Commissioning | C37: Each | D37: 1 | F37: =D37*E37 -> 0
B38: Migration | C38: Each | D38: 1 | F38: =D38*E38 -> 0
B39: Transportation | C39: Each | D39: 1 | F39: =D39*E39 -> 0
B40: Training, Skills transfer and Handover | C40: Each | D40: 1 | F40: =D40*E40 -> 0
B41: Total (Including VAT) | F41: =SUM(F36:F40) -> 0
B42: EC_Uitenhage_Mew
...
