Workbook
Name Airport: #REF!

Sheet Instructions
C3: BIDDER : | D3: Bidder Company name
C4: Project Name | D4: ATNS/RFP05/09/2026/2027/ HF_REPLACEMENT_RE_AD
C5: Foreign Currency: | D5: FC
C6: ROE: 1R= | D6: 0.1
C7: Date:
C10: This file contains the following sheets:
C11: G1 SUMMARY | D11: Summary of all sheets.
C12: G2_1 PMP | D12: Project management and associated costs.
C13: G2_2 ILS | D13: Logistic Support and associated costs.
C14: G3_HF Equipment | D14: All material/ equipment items and associated cost for the HF system
C15: G4 Options | D15: All optional items and associated costs
C16: G5_Support & Maintenance | D16: All maintenance and support items and associated costs.

Sheet G1_Summary
A1: TENDER PRICE SCHEDULE: APPENDIX G1
A2: (INCLUDING VALUE ADDED TAX)
A3: BIDDER : | C3: =Instructions!D3 -> Bidder Company name
A4: DESCRIPTION : | C4: =Instructions!D4 -> ATNS/RFP05/09/2026/2027/ HF_REPLACEMENT_RE_AD
A5: Item Nr: | C5: G1
A6: Item Description: | C6: SUMMARY
A7: Foreign Currancy | C7: =Instructions!D5 -> FC
A8: ROE: 1R = | C8: =Instructions!D6 -> 0.1
C10: Overseas Items | I10: Local Items
A12: Schedule Item Number | B12: Description | C12: Foreign Currency | D12: Quantity | E12: Foreign Amount Unit Cost | F12: Foreign Amount Total Cost | G12: ROE: 1R = … | H12: Total Foreign Cost in Rands | I12: Quantity | J12: Local Amount Unit Cost | K12: Local Amount Total Cost | L12: Total Rands
A16: G2 | B16: SERVICES
A17: G2_1 | B17: Project Management | C17: =$C$7 -> FC | E17: ='G2_1 PM'!E59 -> 0 | F17: ='G2_1 PM'!F59 -> 0 | G17: ='G2_1 PM'!G59 -> 0.1 | H17: ='G2_1 PM'!H59 -> 0 | J17: ='G2_1 PM'!J59 -> 0 | K17: ='G2_1 PM'!K59 -> 0 | L17: ='G2_1 PM'!L59 -> 0
A18: G2_2 | B18: Integrated Logistic Support | C18: =$C$7 -> FC | E18: ='G2_2 ILS'!E57 -> 0 | F18: ='G2_2 ILS'!F57 -> 0 | G18: ='G2_2 ILS'!G57 -> 0.1 | H18: ='G2_2 ILS'!H57 -> 0 | J18: ='G2_2 ILS'!J57 -> 0 | K18: ='G2_2 ILS'!K57 -> 0 | L18: ='G2_2 ILS'!L57 -> 0
A20: G3 | B20: MATERIALS
A21: G3_ | B21: HF Equipment | C21: =$C$7 -> FC | E21: ='G3_HF Equipment'!E77 -> 0 | F21: ='G3_HF Equipment'!F77 -> 0 | G21: ='G3_HF Equipment'!G77 -> 0.1 | H21: ='G3_HF Equipment'!H77 -> 0 | J21: ='G3_HF Equipment'!J77 -> 0 | K21: ='G3_HF Equipment'!K77 -> 0 | L21: ='G3_HF Equipment'!L77 -> 0
B23: TOTAL (Excluding System Support) | C23: =$C$7 -> FC | E23: =SUM(E15:E22) -> 0 | F23: =SUM(F15:F22) -> 0 | H23: =SUM(H15:H22) -> 0 | J23: =SUM(J15:J22) -> 0 | K23: =SUM(K15:K22) -> 0 | L23: =SUM(L15:L22) -> 0
A25: G5 | B25: SYSTEM SUPPORT | C25: =$C$7 -> FC | E25: ='G5_Support & Maintenance'!E$42 -> 0 | F25: ='G5_Support & Maintenance'!F$42 -> 0 | G25: ='G5_Support & Maintenance'!G$42 -> 0.1 | H25: ='G5_Support & Maintenance'!H$42 -> 0 | I25: ='G5_Support & Maintenance'!I$42 -> 0 | J25: ='G5_Support & Maintenance'!J$42 -> 0 | K25: ='G5_Support & Maintenance'!K$42 -> 0 | L25: ='G5_Support & Maintenance'!L$42 -> 0
A26: G5_ | B26: Support & Maintenance | C26: =$C$7 -> FC | E26: ='G5_Support & Maintenance'!E$42 -> 0 | F26: ='G5_Support & Maintenance'!F$42 -> 0 | G26: ='G5_Support & Maintenance'!G$42 -> 0.1 | H26: ='G5_Support & Maintenance'!H$42 -> 0 | I26: ='G5_Support & Maintenance'!I$42 -> 0 | J26: ='G5_Support & Maintenance'!J$42 -> 0 | K26: ='G5_Support & Maintenance'!K$42 -> 0 | L26: ='G5_Support & Maintenance'!L$42 -> 0
B28: GRAND TOTAL | C28: =$C$7 -> FC | E28: =E23+E25 -> 0 | F28: =F23+F25 -> 0 | H28: =H23+H25 -> 0 | J28: =J17+J19 -> 0 | K28: =K17+K19 -> 0 | L28: =L17+L19 -> 0
A30: G4 | B30: OPTIONS | C30: =$C$7 -> FC | E30: =G4_Options!E$41 -> 0 | F30: ='G5_Support & Maintenance'!F$42 -> 0 | G30: =G4_Options!G$41 -> 0.1 | H30: =G4_Options!H$41 -> 0 | I30: =G4_Options!I$41 -> 0 | J30: =G4_Options!J$41 -> 0 | K30: =G4_Options!K$41 -> 0 | L30: =G4_Options!L$41 -> 0
A31: G4_ | B31: Options | C31: =$C$7 -> FC | E31: =G4_Options!E$41 -> 0 | F31: ='G5_Support & Maintenance'!F$42 -> 0 | G31: =G4_Options!G$41 -> 0.1 | H31: =G4_Options!H$41 -> 0 | I31: =G4_Options!I$41 -> 0 | J31: =G4_Options!J$41 -> 0 | K31: =G4_Options!K$41 -> 0 | L31: =G4_Options!L$41 -> 0
B33: GRAND TOTAL (Including Options) | C33: =$C$7 -> FC | E33: =E28+E30 -> 0 | F33: =F28+F30 -> 0 | H33: =H28+H30 -> 0 | J33: =J28+J30 -> 0 | K33: =K28+K30 -> 0 | L33: =L28+L30 -> 0
B35: VAT (15%) | H35: =H33*0.15 -> 0 | K35: =K33*0.15 -> 0 | L35: =L33*0.15 -> 0
B36: OTHER APPLICABLE TAXES
B38: GRAND TOTAL (Including VAT) | C38: =$C$7 -> FC | H38: =H36+H33+H35 -> 0 | K38: =K36+K33+K35 -> 0 | L38: =L33+L35+L36 -> 0

Sheet G2_1 PM
A1: TENDER PRICE SCHEDULE: APPENDIX G2.1
A2: (EXCLUDING VALUE ADDED TAX)
A3: BIDDER : | B3: =Instructions!D3 -> Bidder Company name
A4: PROJECT : | B4: =Instructions!D4 -> ATNS/RFP05/09/2026/2027/ HF_REPLACEMENT_RE_AD
A5: Item Nr: | B5: G2.1
A6: Item Description: | B6: Project Management
A7: Foreign Currancy | B7: =Instructions!D5 -> FC
A8: ROE: 1R = | B8: =Instructions!D6 -> 0.1
C10: Overseas Items | I10: Local Items
A12: Schedule Item Number | B12: Description | C12: Foreign Currency | D12: Quantity | E12: Foreign Amount Unit Cost | F12: Foreign Amount Total Cost | G12: ROE: 1R = … | H12: Total Foreign Cost in Rands | I12: Quantity | J12: Local Amount Unit Cost | K12: Local Amount Total Cost | L12: Total Rands
A15: =B5 -> G2.1 | B15: =B6 -> Project Management
B16: {All project Management items, with at least the following items}
A18: 2.1.1 | B18: Documents:
B19: Project Management Plan | C19: =$B$7 -> FC | F19: =D19*E19 -> 0 | G19: =$B$8 -> 0.1 | H19: =IF(G19<>0,F19/G19,0) -> 0 | K19: =I19*J19 -> 0 | L19: =IF(OR(J19>0,H19>0),H19+K19,0) -> 0
B20: Master Project Schedule | C20: =$B$7 -> FC | F20: =D20*E20 -> 0 | G20: =$B$8 -> 0.1 | H20: =IF(G20<>0,F20/G20,0) -> 0 | K20: =I20*J20 -> 0 | L20: =IF(OR(J20>0,H20>0),H20+K20,0) -> 0
B21: Work Breakdown Structure | C21: =$B$7 -> FC | F21: =D21*E21 -> 0 | G21: =$B$8 -> 0.1 | H21: =IF(G21<>0,F21/G21,0) -> 0 | K21: =I21*J21 -> 0 | L21: =IF(OR(J21>0,H21>0),H21+K21,0) -> 0
B22: Resource Allocation Plan | C22: =$B$7 -> FC | F22: =D22*E22 -> 0 | G22: =$B$8 -> 0.1 | H22: =IF(G22<>0,F22/G22,0) -> 0 | K22: =I22*J22 -> 0 | L22: =IF(OR(J22>0,H22>0),H22+K22,0) -> 0
B23: Contract Data Requirements List | C23: =$B$7 -> FC | G23: =$B$8 -> 0.1
B24: Test and Evaluation Master Plan | C24: =$B$7 -> FC | F24: =D24*E24 -> 0 | G24: =$B$8 -> 0.1 | H24: =IF(G24<>0,F24/G24,0) -> 0 | K24: =I24*J24 -> 0 | L24: =IF(OR(J24>0,H24>0),H24+K24,0) -> 0
B25: Installation, Transitioning and Commissioning Plan | C25: =$B$7 -> FC | F25: =D25*E25 -> 0 | G25: =$B$8 -> 0.1 | H25: =IF(G25<>0,F25/G25,0) -> 0 | K25: =I25*J25 -> 0 | L25: =IF(OR(J25>0,H25>0),H25+K25,0) -> 0
B26: Quality Assurance Plan | C26: =$B$7 -> FC | F26: =D26*E26 -> 0 | G26: =$B$8 -> 0.1 | H26: =IF(G26<>0,F26/G26,0) -> 0 | K26: =I26*J26 -> 0 | L26: =IF(OR(J26>0,H26>0),H26+K26,0) -> 0
B27: Risk Management Plan | C27: =$B$7 -> FC | F27: =D27*E27 -> 0 | G27: =$B$8 -> 0.1 | H27: =IF(G27<>0,F27/G27,0) -> 0 | K27: =I27*J27 -> 0 | L27: =IF(OR(J27>0,H27>0),H27+K27,0) -> 0
B28: Systems Engineering Master Plan | C28: =$B$7 -> FC | G28: =$B$8 -> 0.1
B29: Safety File | C29: =$B$7 -> FC | F29: =D29*E29 -> 0 | G29: =$B$8 -> 0.1 | H29: =IF(G29<>0,F29/G29,0) -> 0 | K29: =I29*J29 -> 0 | L29: =IF(OR(J29>0,H29>0),H29+K29,0) -> 0
B30: Site Survey | C30: =$B$7 -> FC | F30: =D30*E30 -> 0 | G30: =$B$8 -> 0.1 | H30: =IF(G30<>0,F30/G30,0) -> 0 | K30: =I30*J30 -> 0 | L30: =IF(OR(J30>0,H30>0),H30+K30,0) -> 0
B31: Environmental Management Programme | C31: =$B$7 -> FC | F31: =D31*E31 -> 0 | G31: =$B$8 -> 0.1 | H31: =IF(G31<>0,F31/G31,0) -> 0 | K31: =I31*J31 -> 0 | L31: =IF(OR(J31>0,H31>0),H31+K31,0) -> 0
A33: 2.1.2 | B33: Acceptance Tests | F33: =D33*E33 -> 0
B34: Factory Acceptance Test (Design Acceptance) | C34: =$B$7 -> FC | F34: =D34*E34 -> 0 | G34: =$B$8 -> 0.1 | H34: =IF(G34<>0,F34/G34,0) -> 0 | K34: =I34*J34 -> 0 | L34: =IF(OR(J34>0,H34>0),H34+K34,0) -> 0
B35: Site Acceptance Test | C35: =$B$7 -> FC | F35: =D35*E35 -> 0 | G35: =$B$8 -> 0.1 | H35: =IF(G35<>0,F35/G35,0) -> 0 | K35: =I35*J35 -> 0 | L35: =IF(OR(J35>0,H35>0),H35+K35,0) -> 0
C36: =$B$7 -> FC | F36: =D36*E36 -> 0 | G36: =$B$8 -> 0.1 | H36: =IF(G36<>0,F36/G36,0) -> 0 | K36: =I36*J36 -> 0 | L36: =IF(OR(J36>0,H36>0),H36+K36,0) -> 0
C37: =$B$7 -> FC | F37: =D37*E37 -> 0 | G37: =$B$8 -> 0.1 | H37: =IF(G37<>0,F37/G37,0) -> 0 | K37: =I37*J37 -> 0 | L37: =IF(OR(J37>0,H37>0),H37+K37,0) -> 0
C38: =$B$7 -> FC | F38: =D38*E38 -> 0 | G38: =$B$8 -> 0.1 | H38: =IF(G38<>0,F38/G38,0) -> 0 | K38: =I38*J38 -> 0 | L38: =IF(OR(J38>0,H38>0),H38+K38,0) -> 0
C39: =$B$7 -> FC | F39: =D39*E39 -> 0 | G39: =$B$8 -> 0.1 | H39: =IF(G39<>0,F39/G39,0) -> 0 | K39: =I39*J39 -> 0 | L39: =IF(OR(J39>0,H39>0),H39+K39,0) -> 0
C40: =$B$7 -> FC | F40: =D40*E40 -> 0 | G40: =$B$8 -> 0.1 | H40: =IF(G40<>0,F40/G40,0) -> 0 | K40: =I40*J40 -> 0 | L40: =IF(OR(J40>0,H40>0),H40+K40,0) -> 0
C41: =$B$7 -> FC | F41: =D41*E41 -> 0 | G41: =$B$8 -> 0.1 | H41: =IF(G41<>0,F41/G41,0) -> 0 | K41: =I41*J41 -> 0 | L41: =IF(OR(J41>0,H41>0),H41+K41,0) -> 0
A43: 2.1.3 | B43: Project Management Services | F43: =D43*E43 -> 0
B44: All PM Services | C44: =$B$7 -> FC | F44: =D44*E44 -> 0 | G44: =$B$8 -> 0.1 | H44: =IF(G44<>0,F44/G44,0) -> 0 | K44: =I44*J44 -> 0 | L44: =IF(OR(J44>0,H44>0),H44+K44,0) -> 0
B45: Decommissioning and Disposal | C45: =$B$7 -> FC | F45: =D45*E45 -> 0 | G45: =$B$8 -> 0.1 | H45: =IF(G45<>0,F45/G45,0) -> 0 | K45: =I45*J45 -> 0 | L45: =IF(OR(J45>0,H45>0),H45+K45,0) -> 0
B46: Installation and Commissioning | C46: =$B$7 -> FC | F46: =D46*E46 -> 0 | G46: =$B$8 -> 0.1 | H46: =IF(G46<>0,F46/G46,0) -> 0 | K46: =I46*J46 -> 0 | L46: =IF(OR(J46>0,H46>0),H46+K46,0) -> 0
B47: ACSA Permits | C47: =$B$7 -> FC | F47: =D47*E47 -> 0 | G47: =$B$8 -> 0.1 | H47: =IF(G47<>0,F47/G47,0) -> 0 | K47: =I47*J47 -> 0 | L47: =IF(OR(J47>0,H47>0),H47+K47,0) -> 0
C48: =$B$7 -> FC | F48: =D48*E48 -> 0 | G48: =$B$8 -> 0.1 | H48: =IF(G48<>0,F48/G48,0) -> 0 | K48: =I48*J48 -> 0 | L48: =IF(OR(J48>0,H48>0),H48+K48,0) -> 0
A50: 2.1.4 | B50: Shipping, Insurance & Associated costs
B51: Shipping | C51: =$B$7 -> FC | F51: =D51*E51 -> 0 | G51: =$B$8 -> 0.1 | H51: =IF(G51<>0,F51/G51,0) -> 0 | K51: =I51*J51 -> 0 | L51: =IF(OR(J51>0,H51>0),H51+K51,0) -> 0
B52: Insurance | C52: =$B$7 -> FC | F52: =D52*E52 -> 0 | G52: =$B$8 -> 0.1 | H52: =IF(G52<>0,F52/G52,0) -> 0 | K52: =I52*J52 -> 0 | L52: =IF(OR(J52>0,H52>0),H52+K52,0) -> 0
C53: =$B$7 -> FC | F53: =D53*E53 -> 0 | G53: =$B$8 -> 0.1 | H53: =IF(G53<>0,F53/G53,0) -> 0 | K53: =I53*J53 -> 0 | L53: =IF(OR(J53>0,H53>0),H53+K53,0) -> 0
C54: =$B$7 -> FC | F54: =D54*E54 -> 0 | G54: =$B$8 -> 0.1 | H54: =IF(G54<>0,F54/G54,0) -> 0 | K54: =I54*J54 -> 0 | L54: =IF(OR(J54>0,H54>0),H54+K54,0) -> 0
C55: =$B$7 -> FC | F55: =D55*E55 -> 0 | G55: =$B$8 -> 0.1 | H55: =IF(G55<>0,F55/G55,0) -> 0 | K55: =I55*J55 -> 0 | L55: =IF(OR(J55>0,H55>0),H55+K55,0) -> 0
C56: =$B$7 -> FC | F56: =D56*E56 -> 0 | G56: =$B$8 -> 0.1 | H56: =IF(G56<>0,F56/G56,0) -> 0 | K56: =I56*J56 -> 0 | L56: =IF(OR(J56>0,H56>0),H56+K56,0) -> 0
C57: =$B$7 -> FC | F57: =D57*E57 -> 0 | G57: =$B$8 -> 0.1 | H57: =IF(G57<>0,F57/G57,0) -> 0 | K57: =I57*J57 -> 0 | L57: =IF(OR(J57>0,H57>0),H57+K57,0) -> 0
B59: =+"SUB-TOTAL: "&A15 -> SUB-TOTAL: G2.1 | E59: =SUM(E15:E57) -> 0 | F59: =SUM(F15:F57) -> 0 | G59: =$B$8 -> 0.1 | H59: =SUM(H15:H57) -> 0 | J59: =SUM(J15:J57) -> 0 | K59: =SUM(K15:K57) -> 0 | L59: =SUM(L15:L57) -> 0

Sheet G2_2 ILS
A1: TENDER PRICE SCHEDULE: APPENDIX G2.2
A2: (EXCLUDING VALUE ADDED TAX)
A3: BIDDER : | B3: =Instructions!D3 -> Bidder Company name
A4: PROJECT : | B4: =Instructions!D4 -> ATNS/RFP05/09/2026/2027/ HF_REPLACEMENT_RE_AD
A5: Item Nr: | B5: G2.2
A6: Item Description: | B6: Integrated Logistic Support
A7: Foreign Currancy | B7: =Instructions!D5 -> FC
A8: ROE: 1R = | B8: =Instructions!D6 -> 0.1
C10: Overseas Items | I10: Local Items
A12: Schedule Item Number | B12: Description | C12: Foreign Currency | D12: Quantity | E12: Foreign Amount Unit Cost | F12: Foreign Amount Total Cost | G12: ROE: 1R = … | H12: Total Foreign Cost in Rands | I12: Quantity | J12: Local Amount Unit Cost | K12: Local Amount Total Cost | L12: Total Rands
A15: =B5 -> G2.2 | B15: =B6 -> Integrated Logistic Support
B16: { All logistic support items with at least the following items}
A18: 2.2.1 | B18: Logistic Support Services
B19: Logistic Support | C19: =$B$7 -> FC | F19: =D19*E19 -> 0 | G19: =$B$8 -> 0.1 | H19: =IF(G19<>0,F19/G19,0) -> 0 | K19: =I19*J19 -> 0 | L19: =IF(OR(J19>0,H19>0),H19+K19,0) -> 0
B20: Technical Training | C20: =$B$7 -> FC | F20: =D20*E20 -> 0 | G20: =$B$8 -> 0.1 | H20: =IF(G20<>0,F20/G20,0) -> 0 | K20: =I20*J20 -> 0 | L20: =IF(OR(J20>0,H20>0),H20+K20,0) -> 0
B21: Operator Training | C21: =$B$7 -> FC | F21: =D21*E21 -> 0 | G21: =$B$8 -> 0.1 | H21: =IF(G21<>0,F21/G21,0) -> 0 | K21: =I21*J21 -> 0 | L21: =IF(OR(J21>0,H21>0),H21+K21,0) -> 0
C22: =$B$7 -> FC | F22: =D22*E22 -> 0 | G22: =$B$8 -> 0.1 | H22: =IF(G22<>0,F22/G22,0) -> 0 | K22: =I22*J22 -> 0 | L22: =IF(OR(J22>0,H22>0),H22+K22,0) -> 0
C23: =$B$7 -> FC | F23: =D23*E23 -> 0 | G23: =$B$8 -> 0.1 | H23: =IF(G23<>0,F23/G23,0) -> 0 | K23: =I23*J23 -> 0 | L23: =IF(OR(J23>0,H23>0),H23+K23,0) -> 0
C24: =$B$7 -> FC | F24: =D24*E24 -> 0 | G24: =$B$8 -> 0.1 | H24: =IF(G24<>0,F24/G24,0) -> 0 | K24: =I24*J24 -> 0 | L24: =IF(OR(J24>0,H24>0),H24+K24,0) -> 0
A26: 2.2.2 | B26: Documents
B27: Integrated Logistic Support Plan | C27: =$B$7 -> FC | F27: =D27*E27 -> 0 | G27: =$B$8 -> 0.1 | H27: =IF(G27<>0,F27/G27,0) -> 0 | K27: =I27*J27 -> 0 | L27: =IF(OR(J27>0,H27>0),H27+K27,0) -> 0
B28: As Built Documents | C28: =$B$7 -> FC | F28: =D28*E28 -> 0 | G28: =$B$8 -> 0.1 | H28: =IF(G28<>0,F28/G28,0) -> 0 | K28: =I28*J28 -> 0 | L28: =IF(OR(J28>0,H28>0),H28+K28,0) -> 0
B29: Other documents | C29: =$B$7 -> FC | F29: =D29*E29 -> 0 | G29: =$B$8 -> 0.1 | H29: =IF(G29<>0,F29/G29,0) -> 0 | K29: =I29*J29 -> 0 | L29: =IF(OR(J29>0,H29>0),H29+K29,0) -> 0
C30: =$B$7 -> FC | F30: =D30*E30 -> 0 | G30: =$B$8 -> 0.1 | H30: =IF(G30<>0,F30/G30,0) -> 0 | K30: =I30*J30 -> 0 | L30: =IF(OR(J30>0,H30>0),H30+K30,0) -> 0
C31: =$B$7 -> FC | F31: =D31*E31 -> 0 | G31: =$B$8 -> 0.1 | H31: =IF(G31<>0,F31/G31,0) -> 0 | K31: =I31*J31 -> 0 | L31: =IF(OR(J31>0,H31>0),H31+K31,0) -> 0
C32: =$B$7 -> FC | F32: =D32*E32 -> 0 | G32: =$B$8 -> 0.1 | H32: =IF(G32<>0,F32/G32,0) -> 0 | K32: =I32*J32 -> 0 | L32: =IF(OR(J32>0,H32>0),H32+K32,0) -> 0
C33: =$B$7 -> FC | F33: =D33*E33 -> 0 | G33: =$B$8 -> 0.1 | H33: =IF(G33<>0,F33/G33,0) -> 0 | K33: =I33*J33 -> 0 | L33: =IF(OR(J33>0,H33>0),H33+K33,0) -> 0
C34: =$B$7 -> FC | F34: =D34*E34 -> 0 | G34: =$B$8 -> 0.1 | H34: =IF(G34<>0,F34/G34,0) -> 0 | K34: =I34*J34 -> 0 | L34: =IF(OR(J34>0,H34>0),H34+K34,0) -> 0
C35: =$B$7 -> FC | F35: =D35*E35 -> 0 | G35: =$B$8 -> 0.1 | H35: =IF(G35<>0,F35/G35,0) -> 0 | K35: =I35*J35 -> 0 | L35: =IF(OR(J35>0,H35>0),H35+K35,0) -> 0
A36: 2.2.3 | B36: Spares
C37: =$B$7 -> FC | F37: =D37*E37 -> 0 | G37: =$B$8 -> 0.1 | H37: =IF(G37<>0,F37/G37,0) -> 0 | K37: =I37*J37 -> 0 | L37: =IF(OR(J37>0,H37>0),H37+K37,0) -> 0
C38: =$B$7 -> FC | F38: =D38*E38 -> 0 | G38: =$B$8 -> 0.1 | H38: =IF(G38<>0,F38/G38,0) -> 0 | K38: =I38*J38 -> 0 | L38: =IF(OR(J38>0,H38>0),H38+K38,0) -> 0
C39: =$B$7 -> FC | F39: =D39*E39 -> 0 | G39: =$B$8 -> 0.1 | H39: =IF(G39<>0,F39/G39,0) -> 0 | K39: =I39*J39 -> 0 | L39: =IF(OR(J39>0,H39>0),H39+K39,0) -> 0
C40: =$B$7 -> FC | F40: =D40*E40 -> 0 | G40: =$B$8 -> 0.1 | H40: =IF(G40<>0,F40/G40,0) -> 0 | K40: =I40*J40 -> 0 | L40: =IF(OR(J40>0,H40>0),H40+K40,0) -> 0
C41: =$B$7 -> FC | F41: =D41*E41 -> 0 | G41: =$B$8 -> 0.1 | H41: =IF(G41<>0,F41/G41,0) -> 0 | K41: =I41*J41 -> 0 | L41: =IF(OR(J41>0,H41>0),H41+K41,0) -> 0
C42: =$B$7 -> FC | F42: =D42*E42 -> 0 | G42: =$B$8 -> 0.1 | H42: =IF(G42<>0,F42/G42,0) -> 0 | K42: =I42*J42 -> 0 | L42: =IF(OR(J42>0,H42>0),H42+K42,0) -> 0
C43: =$B$7 -> FC | F43: =D43*E43 -> 0 | G43: =$B$8 -> 0.1 | H43: =IF(G43<>0,F43/G43,0) -> 0 | K43: =I43*J43 -> 0 | L43: =IF(OR(J43>0,H43>0),H43+K43,0) -> 0
C44: =$B$7 -> FC | F44: =D44*E44 -> 0 | G44: =$B$8 -> 0.1 | H44: =IF(G44<>0,F44/G44,0) -> 0 | K44: =I44*J44 -> 0 | L44: =IF(OR(J44>0,H44>0),H44+K44,0) -> 0
C45: =$B$7 -> FC | F45: =D45*E45 -> 0 | G45: =$B$8 -> 0.1 | H45: =IF(G45<>0,F45/G45,0) -> 0 | K45: =I45*J45 -> 0 | L45: =IF(OR(J45>0,H45>0),H45+K45,0) -> 0
A47: 2.2.4 | B47: Warranty
C48: =$B$7 -> FC | F48: =D48*E48 -> 0 | G48: =$B$8 -> 0.1 | H48: =IF(G48<>0,F48/G48,0) -> 0 | K48: =I48*J48 -> 0 | L48: =IF(OR(J48>0,H48>0),H48+K48,0) -> 0
C49: =$B$7 -> FC | F49: =D49*E49 -> 0 | G49: =$B$8 -> 0.1 | H49: =IF(G49<>0,F49/G49,0) -> 0 | K49: =I49*J49 -> 0 | L49: =IF(OR(J49>0,H49>0),H49+K49,0) -> 0
C50: =$B$7 -> FC | F50: =D50*E50 -> 0 | G50: =$B$8 -> 0.1 | H50: =IF(G50<>0,F50/G50,0) -> 0 | K50: =I50*J50 -> 0 | L50: =IF(OR(J50>0,H50>0),H50+K50,0) -> 0
C51: =$B$7 -> FC | F51: =D51*E51 -> 0 | G51: =$B$8 -> 0.1 | H51: =IF(G51<>0,F51/G51,0) -> 0 | K51: =I51*J51 -> 0 | L51: =IF(OR(J51>0,H51>0),H51+K51,0) -> 0
C52: =$B$7 -> FC | F52: =D52*E52 -> 0 | G52: =$B$8 -> 0.1 | H52: =IF(G52<>0,F52/G52,0) -> 0 | K52: =I52*J52 -> 0 | L52: =IF(OR(J52>0,H52>0),H52+K52,0) -> 0
C53: =$B$7 -> FC | F53: =D53*E53 -> 0 | G53: =$B$8 -> 0.1 | H53: =IF(G53<>0,F53/G53,0) -> 0 | K53: =I53*J53 -> 0 | L53: =IF(OR(J53>0,H53>0),H53+K53,0) -> 0
C54: =$B$7 -> FC | F54: =D54*E54 -> 0 | G54: =$B$8 -> 0.1 | H54: =IF(G54<>0,F54/G54,0) -> 0 | K54: =I54*J54 -> 0 | L54: =IF(OR(J54>0,H54>0),H54+K54,0) -> 0
C55: =$B$7 -> FC | F55: =D55*E55 -> 0 | G55: =$B$8 -> 0.1 | H55: =IF(G55<>0,F55/G55,0) -> 0 | K55: =I55*J55 -> 0 | L55: =IF(OR(J55>0,H55>0),H55+K55,0) -> 0
B57: =+"SUB-TOTAL: "&A15 -> SUB-TOTAL: G2.2 | E57: =SUM(E15:E55) -> 0 | F57: =SUM(F15:F55) -> 0 | G57: =$B$8 -> 0.1 | H57: =SUM(H15:H55) -> 0 | J57: =SUM(J15:J55) -> 0 | K57: =SUM(K15:K55) -> 0 | L57: =SUM(L15:L55) -> 0

Sheet G3_HF Equipment
A1: TENDER PRICE SCHEDULE: APPENDIX G3
A2: (EXCLUDING VALUE ADDED TAX)
A3: BIDDER : | B3: =Instructions!D3 -> Bidder Company name
A4: PROJECT : | B4: =Instructions!D4 -> ATNS/RFP05/09/2026/2027/ HF_REPLACEMENT_RE_AD
A5: Item Nr: | B5: G3
A6: Item Description: | B6: HF Equipment
A7: Foreign Currancy | B7: =Instructions!D5 -> FC
A8: ROE: 1R = | B8: =Instructions!D6 -> 0.1
C10: Overseas Items | I10: Local Items
A12: Schedule Item Number | B12: Description {Equipment Common to all site} | C12: Foreign Currency | D12: Quantity | E12: Foreign Amount Unit Cost | F12: Foreign Amount Total Cost | G12: ROE: 1R = … | H12: Total Foreign Cost in Rands | I12: Quantity | J12: Local Amount Unit Cost | K12: Local Amount Total Cost | L12: Total Rands
A15: =B5 -> G3 | B15: HF Equipment
A16: 3.1 | B16: Hardware
B17: {List all hardware required for the HF Equipment- include relevant product information and quantities}
B18: Power Supply Unit/s | C18: =$B$7 -> FC | F18: =D18*E18 -> 0 | G18: =$B$8 -> 0.1 | H18: =IF(G18<>0,F18/G18,0) -> 0 | K18: =I18*J18 -> 0 | L18: =IF(OR(J18>0,H18>0),H18+K18,0) -> 0
B19: Server/s | C19: =$B$7 -> FC | F19: =D19*E19 -> 0 | G19: =$B$8 -> 0.1 | H19: =IF(G19<>0,F19/G19,0) -> 0 | K19: =I19*J19 -> 0 | L19: =IF(OR(J19>0,H19>0),H19+K19,0) -> 0
B20: Circuit Breaker/s | C20: =$B$7 -> FC | F20: =D20*E20 -> 0 | G20: =$B$8 -> 0.1 | H20: =IF(G20<>0,F20/G20,0) -> 0 | K20: =I20*J20 -> 0 | L20: =IF(OR(J20>0,H20>0),H20+K20,0) -> 0
B21: VCCS Configuration Equipment | C21: =$B$7 -> FC | F21: =D21*E21 -> 0 | G21: =$B$8 -> 0.1 | H21: =IF(G21<>0,F21/G21,0) -> 0 | K21: =I21*J21 -> 0 | L21: =IF(OR(J21>0,H21>0),H21+K21,0) -> 0
B22: SELCAL system | C22: =$B$7 -> FC | F22: =D22*E22 -> 0 | G22: =$B$8 -> 0.1 | H22: =IF(G22<>0,F22/G22,0) -> 0 | K22: =I22*J22 -> 0 | L22: =IF(OR(J22>0,H22>0),H22+K22,0) -> 0
B23: Equipment Cabinet | C23: =$B$7 -> FC | F23: =D23*E23 -> 0 | G23: =$B$8 -> 0.1 | H23: =IF(G23<>0,F23/G23,0) -> 0 | K23: =I23*J23 -> 0 | L23: =IF(OR(J23>0,H23>0),H23+K23,0) -> 0
B24: Power Distribution Unit | C24: =$B$7 -> FC | F24: =D24*E24 -> 0 | G24: =$B$8 -> 0.1 | H24: =IF(G24<>0,F24/G24,0) -> 0 | K24: =I24*J24 -> 0 | L24: =IF(OR(J24>0,H24>0),H24+K24,0) -> 0
B25: Headset Earpad (Pair) | C25: =$B$7 -> FC | F25: =D25*E25 -> 0 | G25: =$B$8 -> 0.1 | H25: =IF(G25<>0,F25/G25,0) -> 0 | K25: =I25*J25 -> 0 | L25: =IF(OR(J25>0,H25>0),H25+K25,0) -> 0
B26: Network Switch/es | C26: =$B$7 -> FC | F26: =D26*E26 -> 0 | G26: =$B$8 -> 0.1 | H26: =IF(G26<>0,F26/G26,0) -> 0 | K26: =I26*J26 -> 0 | L26: =IF(OR(J26>0,H26>0),H26+K26,0) -> 0
B27: Patch/ Brush Panel/s | C27: =$B$7 -> FC | F27: =D27*E27 -> 0 | G27: =$B$8 -> 0.1 | H27: =IF(G27<>0,F27/G27,0) -> 0 | K27: =I27*J27 -> 0 | L27: =IF(OR(J27>0,H27>0),H27+K27,0) -> 0
B28: Fibre Links | C28: =$B$7 -> FC | F28: =D28*E28 -> 0 | G28: =$B$8 -> 0.1 | H28: =IF(G28<>0,F28/G28,0) -> 0 | K28: =I28*J28 -> 0 | L28: =IF(OR(J28>0,H28>0),H28+K28,0) -> 0
B29: Power Cables | C29: =$B$7 -> FC | F29: =D29*E29 -> 0 | G29: =$B$8 -> 0.1 | H29: =IF(G29<>0,F29/G29,0) -> 0 | K29: =I29*J29 -> 0 | L29: =IF(OR(J29>0,H29>0),H29+K29,0) -> 0
... B33: Redundancy | C33: =$B$7 -> FC | F33: =D33*E33 -> 0 | G33: =$B$8 -> 0.1 | H33: =IF(G33<>0,F33/G33,0) -> 0 | K33: =I33*J33 -> 0 | L33: =IF(OR(J33>0,H33>0),H33+K33,0) -> 0
B34: Transmitters | C34: =$B$7 -> FC | D34: 2 | F34: =D34*E34 -> 0 | G34: =$B$8 -> 0.1 | H34: =IF(G34<>0,F34/G34,0) -> 0 | K34: =I34*J34 -> 0 | L34: =IF(OR(J34>0,H34>0),H34+K34,0) -> 0
B35: Dummy load | C35: =$B$7 -> FC | F35: =D35*E35 -> 0 | G35: =$B$8 -> 0.1 | H35: =IF(G35<>0,F35/G35,0) -> 0 | K35: =I35*J35 -> 0 | L35: =IF(OR(J35>0,H35>0),H35+K35,0) -> 0
B36: RF Switch | C36: =$B$7 -> FC | F36: =D36*E36 -> 0 | G36: =$B$8 -> 0.1 | H36: =IF(G36<>0,F36/G36,0) -> 0 | K36: =I36*J36 -> 0 | L36: =IF(OR(J36>0,H36>0),H36+K36,0) -> 0
B37: Receivers | C37: =$B$7 -> FC | D37: 14 | F37: =D37*E37 -> 0 | G37: =$B$8 -> 0.1 | H37: =IF(G37<>0,F37/G37,0) -> 0 | K37: =I37*J37 -> 0 | L37: =IF(OR(J37>0,H37>0),H37+K37,0) -> 0
B38: HF Receiver Multi-coupler | C38: =$B$7 -> FC | F38: =D38*E38 -> 0 | G38: =$B$8 -> 0.1 | H38: =IF(G38<>0,F38/G38,0) -> 0 | K38: =I38*J38 -> 0 | L38: =IF(OR(J38>0,H38>0),H38+K38,0) -> 0
A41: 3.2 | B41: Software
B42: {List all software required for the simulator} | C42: =$B$7 -> FC | F42: =D42*E42 -> 0 | G42: =$B$8 -> 0.1 | H42: =IF(G42<>0,F42/G42,0) -> 0 | K42: =I42*J42 -> 0 | L42: =IF(OR(J42>0,H42>0),H42+K42,0) -> 0
B43: Computer application for ATC display | C43: =$B$7 -> FC | F43: =D43*E43 -> 0 | G43: =$B$8 -> 0.1 | H43: =IF(G43<>0,F43/G43,0) -> 0 | K43: =I43*J43 -> 0 | L43: =IF(OR(J43>0,H43>0),H43+K43,0) -> 0
B44: Development software | C44: =$B$7 -> FC | F44: =D44*E44 -> 0 | G44: =$B$8 -> 0.1 | H44: =IF(G44<>0,F44/G44,0) -> 0 | K44: =I44*J44 -> 0 | L44: =IF(OR(J44>0,H44>0),H44+K44,0) -> 0
F45: =D45*E45 -> 0 | G45: =$B$8 -> 0.1 | H45: =IF(G45<>0,F45/G45,0) -> 0 | K45: =I45*J45 -> 0 | L45: =IF(OR(J45>0,H45>0),H45+K45,0) -> 0
A47: 3.3 | B47: Consoles
B48: (All equipment as required, with at least the following headings.)
C49: =$B$7 -> FC | F49: =D49*E49 -> 0 | G49: =$B$8 -> 0.1 | H49: =IF(G49<>0,F49/G49,0) -> 0 | K49: =I49*J49 -> 0 | L49: =IF(OR(J49>0,H49>0),H49+K49,0) -> 0
C50: =$B$7 -> FC | F50: =D50*E50 -> 0 | G50: =$B$8 -> 0.1 | H50: =IF(G50<>0,F50/G50,0) -> 0 | K50: =I50*J50 -> 0 | L50: =IF(OR(J50>0,H50>0),H50+K50,0) -> 0
C51: =$B$7 -> FC | F51: =D51*E51 -> 0 | G51: =$B$8 -> 0.1 | H51: =IF(G51<>0,F51/G51,0) -> 0 | K51: =I51*J51 -> 0 | L51: =IF(OR(J51>0,H51>0),H51+K51,0) -> 0
C52: =$B$7 -> FC | F52: =D52*E52 -> 0 | G52: =$B$8 -> 0.1 | H52: =IF(G52<>0,F52/G52,0) -> 0 | K52: =I52*J52 -> 0 | L52: =IF(OR(J52>0,H52>0),H52+K52,0) -> 0
C53: FC | F53: =D53*E53 -> 0 | G53: =$B$8 -> 0.1 | H53: =IF(G53<>0,F53/G53,0) -> 0 | K53: =I53*J53 -> 0 | L53: =IF(OR(J53>0,H53>0),H53+K53,0) -> 0
C54: FC | F54: =D54*E54 -> 0 | G54: =$B$8 -> 0.1 | H54: =IF(G54<>0,F54/G54,0) -> 0 | K54: =I54*J54 -> 0 | L54: =IF(OR(J54>0,H54>0),H54+K54,0) -> 0
C55: FC | F55: =D55*E55 -> 0 | G55: =$B$8 -> 0.1 | H55: =IF(G55<>0,F55/G55,0) -> 0 | K55: =I55*J55 -> 0 | L55: =IF(OR(J55>0,H55>0),H55+K55,0) -> 0
C56: FC | F56: =D56*E56 -> 0 | G56: =$B$8 -> 0.1 | H56: =IF(G56<>0,F56/G56,0) -> 0 | K56: =I56*J56 -> 0 | L56: =IF(OR(J56>0,H56>0),H56+K56,0) -> 0
C57: FC | F57: =D57*E57 -> 0 | G57: =$B$8 -> 0.1 | H57: =IF(G57<>0,F57/G57,0) -> 0 | K57: =I57*J57 -> 0 | L57: =IF(OR(J57>0,H57>0),H57+K57,0) -> 0
C58: FC | F58: =D58*E58 -> 0 | G58: =$B$8 -> 0.1 | H58: =IF(G58<>0,F58/G58,0) -> 0 | K58: =I58*J58 -> 0 | L58: =IF(OR(J58>0,H58>0),H58+K58,0) -> 0
C59: FC | F59: =D59*E59 -> 0 | G59: =$B$8 -> 0.1 | H59: =IF(G59<>0,F59/G59,0) -> 0 | K59: =I59*J59 -> 0 | L59: =IF(OR(J59>0,H59>0),H59+K59,0) -> 0
C60: FC | F60: =D60*E60 -> 0 | G60: =$B$8 -> 0.1 | H60: =IF(G60<>0,F60/G60,0) -> 0 | K60: =I60*J60 -> 0 | L60: =IF(OR(J60>0,H60>0),H60+K60,0) -> 0
C61: FC | F61: =D61*E61 -> 0 | G61: =$B$8 -> 0.1 | H61: =IF(G61<>0,F61/G61,0) -> 0 | K61: =I61*J61 -> 0 | L61: =IF(OR(J61>0,H61>0),H61+K61,0) -> 0
C62: FC | F62: =D62*E62 -> 0 | G62: =$B$8 -> 0.1 | H62: =IF(G62<>0,F62/G62,0) -> 0 | K62: =I62*J62 -> 0 | L62: =IF(OR(J62>0,H62>0),H62+K62,0) -> 0
C63: FC | F63: =D63*E63 -> 0 | G63: =$B$8 -> 0.1 | H63: =IF(G63<>0,F63/G63,0) -> 0 | K63: =I63*J63 -> 0 | L63: =IF(OR(J63>0,H63>0),H63+K63,0) -> 0
A66: 3.5 | B66: Licences
B67: {List all individual licenses required for the software and hardware of the simulator system.}
B68: Support Licences | C68: =$B$7 -> FC | F68: =D68*E68 -> 0 | G68: =$B$8 -> 0.1 | H68: =IF(G68<>0,F68/G68,0) -> 0 | K68: =I68*J68 -> 0 | L68: =IF(OR(J68>0,H68>0),H68+K68,0) -> 0
A71: 3.6 | B71: Miscellaneous
B72: {List items and services necessary for the installation, commissioning, operation and maintenance of the system and not included elsewhere.}
C73: =$B$7 -> FC | F73: =D73*E73 -> 0 | G73: =$B$8 -> 0.1 | H73: =IF(G73<>0,F73/G73,0) -> 0 | K73: =I73*J73 -> 0 | L73: =IF(OR(J73>0,H73>0),H73+K73,0) -> 0
C74: =$B$7 -> FC | F74: =D74*E74 -> 0 | G74: =$B$8 -> 0.1 | H74: =IF(G74<>0,F74/G74,0) -> 0 | K74: =I74*J74 -> 0 | L74: =IF(OR(J74>0,H74>0),H74+K74,0) -> 0
B77: =+"SUB-TOTAL: "&A15 -> SUB-TOTAL: G3 | E77: =SUM(E18:E76) -> 0 | F77: =SUM(F18:F76) -> 0 | G77: =$B$8 -> 0.1 | H77: =SUM(H18:H76) -> 0 | K77: =SUM(K18:K76) -> 0 | L77: =SUM(L18:L76) -> 0

Sheet G4_Options
A1: TENDER PRICE SCHEDULE: APPENDIX G5
A2: (EXCLUDING VALUE ADDED TAX)
A3: TENDERER : | B3: =Instructions!D3 -> Bidder Company name
A4: PROJECT : | B4: =Instructions!D4 -> ATNS/RFP05/09/2026/2027/ HF_REPLACEMENT_RE_AD
A5: Item Nr: | B5: G4
A6: Item Description: | B6: Options
A7: Foreign Currancy | B7: =Instructions!D5 -> FC
A8: ROE: 1R = | B8: =Instructions!D6 -> 0.1
C10: Overseas Items | I10: Local Items
A12: Schedule Item Number | B12: Description | C12: Foreign Currency | D12: Quantity | E12: Foreign Amount Unit Cost | F12: Foreign Amount Total Cost | G12: ROE: 1R = … | H12: Total Foreign Cost in Rands | I12: Quantity | J12: Local Amount Unit Cost | K12: Local Amount Total Cost | L12: Total Rands
A15: =B5 -> G4 | B15: =B6 -> Options
A16: 4.1 | B16: Option 1
C17: =$B$7 -> FC | F17: =D17*E17 -> 0 | G17: =$B$8 -> 0.1 | H17: =IF(G17<>0,F17/G17,0) -> 0 | K17: =I17*J17 -> 0 | L17: =IF(OR(J17>0,H17>0),H17+K17,0) -> 0
C18: =$B$7 -> FC | F18: =D18*E18 -> 0 | G18: =$B$8 -> 0.1 | H18: =IF(G18<>0,F18/G18,0) -> 0 | K18: =I18*J18 -> 0 | L18: =IF(OR(J18>0,H18>0),H18+K18,0) -> 0
C19: =$B$7 -> FC | F19: =D19*E19 -> 0 | G19: =$B$8 -> 0.1 | H19: =IF(G19<>0,F19/G19,0) -> 0 | K19: =I19*J19 -> 0 | L19: =IF(OR(J19>0,H19>0),H19+K19,0) -> 0
C20: =$B$7 -> FC | F20: =D20*E20 -> 0 | G20: =$B$8 -> 0.1 | H20: =IF(G20<>0,F20/G20,0) -> 0 | K20: =I20*J20 -> 0 | L20: =IF(OR(J20>0,H20>0),H20+K20,0) -> 0
C21: =$B$7 -> FC | F21: =D21*E21 -> 0 | G21: =$B$8 -> 0.1 | H21: =IF(G21<>0,F21/G21,0) -> 0 | K21: =I21*J21 -> 0 | L21: =IF(OR(J21>0,H21>0),H21+K21,0) -> 0
C22: =$B$7 -> FC | F22: =D22*E22 -> 0 | G22: =$B$8 -> 0.1 | H22: =IF(G22<>0,F22/G22,0) -> 0 | K22: =I22*J22 -> 0 | L22: =IF(OR(J22>0,H22>0),H22+K22,0) -> 0
C23: =$B$7 -> FC | F23: =D23*E23 -> 0 | G23: =$B$8 -> 0.1 | H23: =IF(G23<>0,F23/G23,0) -> 0 | K23: =I23*J23 -> 0 | L23: =IF(OR(J23>0,H23>0),H23+K23,0) -> 0
C24: =$B$7 -> FC | F24: =D24*E24 -> 0 | G24: =$B$8 -> 0.1 | H24: =IF(G24<>0,F24/G24,0) -> 0 | K24: =I24*J24 -> 0 | L24: =IF(OR(J24>0,H24>0),H24+K24,0) -> 0
C25: =$B$7 -> FC | F25: =D25*E25 -> 0 | G25: =$B$8 -> 0.1 | H25: =IF(G25<>0,F25/G25,0) -> 0 | K25: =I25*J25 -> 0 | L25: =IF(OR(J25>0,H25>0),H25+K25,0) -> 0
A26: 4.2 | B26: Option 2
C27: =$B$7 -> FC | F27: =D27*E27 -> 0 | G27: =$B$8 -> 0.1 | H27: =IF(G27<>0,F27/G27,0) -> 0 | K27: =I27*J27 -> 0 | L27: =IF(OR(J27>0,H27>0),H27+K27,0) -> 0
C28: =$B$7 -> FC | F28: =D28*E28 -> 0 | G28: =$B$8 -> 0.1 | H28: =IF(G28<>0,F28/G28,0) -> 0 | K28: =I28*J28 -> 0 | L28: =IF(OR(J28>0,H28>0),H28+K28,0) -> 0
C29: =$B$7 -> FC | F29: =D29*E29 -> 0 | G29: =$B$8 -> 0.1 | H29: =IF(G29<>0,F29/G29,0) -> 0 | K29: =I29*J29 -> 0 | L29: =IF(OR(J29>0,H29>0),H29+K29,0) -> 0
C30: =$B$7 -> FC | F30: =D30*E30 -> 0 | G30: =$B$8 -> 0.1 | H30: =IF(G30<>0,F30/G30,0) -> 0 | K30: =I30*J30 -> 0 | L30: =IF(OR(J30>0,H30>0),H30+K30,0) -> 0
C31: =$B$7 -> FC | F31: =D31*E31 -> 0 | G31: =$B$8 -> 0.1 | H31: =IF(G31<>0,F31/G31,0) -> 0 | K31: =I31*J31 -> 0 | L31: =IF(OR(J31>0,H31>0),H31+K31,0) -> 0
C32: =$B$7 -> FC | F32: =D32*E32 -> 0 | G32: =$B$8 -> 0.1 | H32: =IF(G32<>0,F32/G32,0) -> 0 | K32: =I32*J32 -> 0 | L32: =IF(OR(J32>0,H32>0),H32+K32,0) -> 0
C33: =$B$7 -> FC | F33: =D33*E33 -> 0 | G33: =$B$8 -> 0.1 | H33: =IF(G33<>0,F33/G33,0) -> 0 | K33: =I33*J33 -> 0 | L33: =IF(OR(J33>0,H33>0),H33+K33,0) -> 0
C34: =$B$7 -> FC | F34: =D34*E34 -> 0 | G34: =$B$8 -> 0.1 | H34: =IF(G34<>0,F34/G34,0) -> 0 | K34: =I34*J34 -> 0 | L34: =IF(OR(J34>0,H34>0),H34+K34,0) -> 0
C35: =$B$7 -> FC | F35: =D35*E35 -> 0 | G35: =$B$8 -> 0.1 | H35: =IF(G35<>0,F35/G35,0) -> 0 | K35: =I35*J35 -> 0 | L35: =IF(OR(J35>0,H35>0),H35+K35,0) -> 0
A36: 4.3 | B36: Option 3
C37: =$B$7 -> FC | F37: =D37*E37 -> 0 | G37: =$B$8 -> 0.1 | H37: =IF(G37<>0,F37/G37,0) -> 0 | K37: =I37*J37 -> 0 | L37: =IF(OR(J37>0,H37>0),H37+K37,0) -> 0
C38: =$B$7 -> FC | F38: =D38*E38 -> 0 | G38: =$B$8 -> 0.1 | H38: =IF(G38<>0,F38/G38,0) -> 0 | K38: =I38*J38 -> 0 | L38: =IF(OR(J38>0,H38>0),H38+K38,0) -> 0
C39: =$B$7 -> FC | F39: =D39*E39 -> 0 | G39: =$B$8 -> 0.1 | H39: =IF(G39<>0,F39/G39,0) -> 0 | K39: =I39*J39 -> 0 | L39: =IF(OR(J39>0,H39>0),H39+K39,0) -> 0
C40: =$B$7 -> FC | F40: =D40*E40 -> 0 | G40: =$B$8 -> 0.1 | H40: =IF(G40<>0,F40/G40,0) -> 0 | K40: =I40*J40 -> 0 | L40: =IF(OR(J40>0,H40>0),H40+K40,0) -> 0
B41: =+"SUB-TOTAL: "&A15 -> SUB-TOTAL: G4 | E41: =SUM(E17:E40) -> 0 | F41: =SUM(F17:F40) -> 0 | G41: =$B$8 -> 0.1 | H41: =SUM(H17:H40) -> 0 | J41: =SUM(J17:J40) -> 0 | K41: =SUM(K17:K40) -> 0 | L41: =SUM(L17:L40) -> 0

Sheet G5_Support & Maintenance
A1: TENDER PRICE SCHEDULE: APPENDIX G5
A2: (EXCLUDING VALUE ADDED TAX)
A3: TENDERER : | B3: =Instructions!D3 -> Bidder Company name
A4: PROJECT : | B4: =Instructions!D4 -> ATNS/RFP05/09/2026/2027/ HF_REPLACEMENT_RE_AD
A5: Item Nr: | B5: G5
A6: Item Description: | B6: Support and Maintenance
A7: Foreign Currancy | B7: =Instructions!D5 -> FC
A8: ROE: 1R = | B8: =Instructions!D6 -> 0.1
C10: Overseas Items | I10: Local Items
A12: Schedule Item Number | B12: Description | C12: Foreign Currency | D12: Quantity | E12: Foreign Amount Unit Cost | F12: Foreign Amount Total Cost | G12: ROE: 1R = … | H12: Total Foreign Cost in Rands | I12: Quantity | J12: Local Amount Unit Cost | K12: Local Amount Total Cost | L12: Total Rands
A15: =B5 -> G5 | B15: =B6 -> Support and Maintenance
B16: {Details on the proposed maintenance and support contract must be included on this schedule}
B17: Year 1 | C17: =$B$7 -> FC | F17: =D17*E17 -> 0 | G17: =$B$8 -> 0.1 | H17: =IF(G17<>0,F17/G17,0) -> 0 | K17: =I17*J17 -> 0 | L17: =IF(OR(J17>0,H17>0),H17+K17,0) -> 0
B18: Year 2 | C18: =$B$7 -> FC | F18: =D18*E18 -> 0 | G18: =$B$8 -> 0.1 | H18: =IF(G18<>0,F18/G18,0) -> 0 | K18: =I18*J18 -> 0 | L18: =IF(OR(J18>0,H18>0),H18+K18,0) -> 0
B19: Year 3 | C19: =$B$7 -> FC | F19: =D19*E19 -> 0 | G19: =$B$8 -> 0.1 | H19: =IF(G19<>0,F19/G19,0) -> 0 | K19: =I19*J19 -> 0 | L19: =IF(OR(J19>0,H19>0),H19+K19,0) -> 0
B20: Year 3 - Comprehensive Technical Training Session | C20: =$B$7 -> FC | F20: =D20*E20 -> 0 | G20: =$B$8 -> 0.1 | H20: =IF(G20<>0,F20/G20,0) -> 0 | K20: =I20*J20 -> 0 | L20: =IF(OR(J20>0,H20>0),H20+K20,0) -> 0
B21: Year 4 | C21: =$B$7 -> FC | F21: =D21*E21 -> 0 | G21: =$B$8 -> 0.1 | H21: =IF(G21<>0,F21/G21,0) -> 0 | K21: =I21*J21 -> 0 | L21: =IF(OR(J21>0,H21>0),H21+K21,0) -> 0
B22: Year 5 | C22: =$B$7 -> FC | F22: =D22*E22 -> 0 | G22: =$B$8 -> 0.1 | H22: =IF(G22<>0,F22/G22,0) -> 0 | K22: =I22*J22 -> 0 | L22: =IF(OR(J22>0,H22>0),H22+K22,0) -> 0
B23: Year 6 | C23: =$B$7 -> FC | F23: =D23*E23 -> 0 | G23: =$B$8 -> 0.1 | H23: =IF(G23<>0,F23/G23,0) -> 0 | K23: =I23*J23 -> 0 | L23: =IF(OR(J23>0,H23>0),H23+K23,0) -> 0
B24: Year 7 | C24: =$B$7 -> FC | F24: =D24*E24 -> 0 | G24: =$B$8 -> 0.1 | H24: =IF(G24<>0,F24/G24,0) -> 0 | K24: =I24*J24 -> 0 | L24: =IF(OR(J24>0,H24>0),H24+K24,0) -> 0
B25: Year 8 | C25: =$B$7 -> FC | F25: =D25*E25 -> 0 | G25: =$B$8 -> 0.1 | H25: =IF(G25<>0,F25/G25,0) -> 0 | K25: =I25*J25 -> 0 | L25: =IF(OR(J25>0,H25>0),H25+K25,0) -> 0
B26: Year 9 | C26: =$B$7 -> FC | F26: =D26*E26 -> 0 | G26: =$B$8 -> 0.1 | H26: =IF(G26<>0,F26/G26,0) -> 0 | K26: =I26*J26 -> 0 | L26: =IF(OR(J26>0,H26>0),H26+K26,0) -> 0
B27: Year 10 | C27: =$B$7 -> FC | F27: =D27*E27 -> 0 | G27: =$B$8 -> 0.1 | H27: =IF(G27<>0,F27/G27,0) -> 0 | K27: =I27*J27 -> 0 | L27: =IF(OR(J27>0,H27>0),H27+K27,0) -> 0
B28: Year 11 | C28: =$B$7 -> FC | F28: =D28*E28 -> 0 | G28: =$B$8 -> 0.1 | H28: =IF(G28<>0,F28/G28,0) -> 0 | K28: =I28*J28 -> 0 | L28: =IF(OR(J28>0,H28>0),H28+K28,0) -> 0
... B32: Year 15 | C32: =$B$7 -> FC | F32: =D32*E32 -> 0 | G32: =$B$8 -> 0.1 | H32: =IF(G32<>0,F32/G32,0) -> 0 | K32: =I32*J32 -> 0 | L32: =IF(OR(J32>0,H32>0),H32+K32,0) -> 0
C33: =$B$7 -> FC | F33: =D33*E33 -> 0 | G33: =$B$8 -> 0.1 | H33: =IF(G33<>0,F33/G33,0) -> 0 | K33: =I33*J33 -> 0 | L33: =IF(OR(J33>0,H33>0),H33+K33,0) -> 0
C34: =$B$7 -> FC | F34: =D34*E34 -> 0 | G34: =$B$8 -> 0.1 | H34: =IF(G34<>0,F34/G34,0) -> 0 | K34: =I34*J34 -> 0 | L34: =IF(OR(J34>0,H34>0),H34+K34,0) -> 0
C35: =$B$7 -> FC | F35: =D35*E35 -> 0 | G35: =$B$8 -> 0.1 | H35: =IF(G35<>0,F35/G35,0) -> 0 | K35: =I35*J35 -> 0 | L35: =IF(OR(J35>0,H35>0),H35+K35,0) -> 0
C36: =$B$7 -> FC | F36: =D36*E36 -> 0 | G36: =$B$8 -> 0.1 | H36: =IF(G36<>0,F36/G36,0) -> 0 | K36: =I36*J36 -> 0 | L36: =IF(OR(J36>0,H36>0),H36+K36,0) -> 0
C37: =$B$7 -> FC | F37: =D37*E37 -> 0 | G37: =$B$8 -> 0.1 | H37: =IF(G37<>0,F37/G37,0) -> 0 | K37: =I37*J37 -> 0 | L37: =IF(OR(J37>0,H37>0),H37+K37,0) -> 0
C38: =$B$7 -> FC | F38: =D38*E38 -> 0 | G38: =$B$8 -> 0.1 | H38: =IF(G38<>0,F38/G38,0) -> 0 | K38: =I38*J38 -> 0 | L38: =IF(OR(J38>0,H38>0),H38+K38,0) -> 0
C39: =$B$7 -> FC | F39: =D39*E39 -> 0 | G39: =$B$8 -> 0.1 | H39: =IF(G39<>0,F39/G39,0) -> 0 | K39: =I39*J39 -> 0 | L39: =IF(OR(J39>0,H39>0),H39+K39,0) -> 0
C40: =$B$7 -> FC | F40: =D40*E40 -> 0 | G40: =$B$8 -> 0.1 | H40: =IF(G40<>0,F40/G40,0) -> 0 | K40: =I40*J40 -> 0 | L40: =IF(OR(J40>0,H40>0),H40+K40,0) -> 0
C41: =$B$7 -> FC | F41: =D41*E41 -> 0 | G41: =$B$8 -> 0.1 | H41: =IF(G41<>0,F41/G41,0) -> 0 | K41: =I41*J41 -> 0 | L41: =IF(OR(J41>0,H41>0),H41+K41,0) -> 0
B42: =+"SUB-TOTAL: "&A15 -> SUB-TOTAL: G5 | E42: =SUM(E17:E41) -> 0 | F42: =SUM(F17:F41) -> 0 | G42: =$B$8 -> 0.1 | H42: =SUM(H17:H41) -> 0 | J42: =SUM(J17:J41) -> 0 | K42: =SUM(K17:K41) -> 0 | L42: =SUM(L17:L41) -> 0
