Workbook

Sheet Section 001
A1: ITEM | B1: DESCRIPTION | C1: UNIT | D1: QTY | E1: RATE | F1: AMOUNT
A3: SERIES 0 | B3: GENERAL
A5: Section 001 | B5: General Requirements and Charges
A7: 001.01 | B7: Preliminary and General Charges:
A9: 001.01.01 | B9: Fixed charges | C9: Lump sum | D9: 1
A11: 001.01.02 | B11: Time-related charges | C11: Months | D11: 6
A13: 001.03 | B13: Excavate by hand to expose existing
B14: services and backfill | C14: m³ | D14: 15
A16: 001.04 | B16: Compliance with the Occupational
B17: Health and Safety Act and applicable
B18: regulations
A20: 001.04.01 | B20: Provision of a Health and Safety Plan | C20: Lump sum | D20: 1
A22: 001.04.02 | B22: Provision of a Health and Safety File | C22: Lump sum | D22: 1
A24: 001.04.03 | B24: Provision of construction supervisors-
A26: 001.04.03.02 | B26: Full time | C26: Month | D26: =D11 -> 6
A28: 001.04.04 | B28: Provision of a safety officer-
A30: 001.04.04.02 | B30: Full time | C30: Month | D30: =D26 -> 6
A32: 001.04.05 | B32: Health and safety training | C32: Prov Sum | D32: 1
A35: TOTAL CARRIED FORWARD | F35: =SUM(F9:F34) -> 0
A37: Signature of person authorised to sign the tender: | E37: Date
A39: ITEM | B39: DESCRIPTION | C39: UNIT | D39: QTY | E39: RATE | F39: AMOUNT
A40: TOTAL BROUGHT FORWARD | F40: =F35 -> 0
A42: 001.04.06 | B42: Provision of personal protective
B43: clothing and equipment | C43: Lump sum | D43: 1
A45: B001.04.07 | B45: Provision of safety fences, signs and
B46: barricades | C46: Lump sum | D46: 1
A49: 001.05 | B49: Community liaison officer
A51: 001.05.01 | B51: Monthly Wage | C51: Lump sum | D51: 1 | E51: 105123 | F51: =E51*D51 -> 105123
A53: 001.05.02 | B53: Percentage on item 001.05.01 for
B54: charges and profit | C54: % | D54: =F51 -> 105123
A56: 001.06 | B56: Contract Notice Board | C56: no | D56: 2
B57: (See Drawing STD-001)
A60: TOTAL CARRIED FORWARD
A62: Signature of person authorised to sign the tender: | E62: Date

Sheet Section 002
A1: ITEM | B1: DESCRIPTION | C1: UNIT | D1: QTY | E1: RATE | F1: AMOUNT
A3: SERIES 0 | B3: GENERAL
A5: Section 002 | B5: Engineer's Accommodation
A7: 002.01 | B7: Services
A9: 002.01.01 | B9: Services for offices and laboratories | C9: Lump Sum | D9: 1
A11: 002.01.02 | B11: Services for cooking and ablution facilities | C11: Lump Sum | D11: 1
B12: on site for the Engineer's Site Staff
A14: 002.02 | B14: Treatment and maintenance of areas
B15: surrounding offices and
B16: laboratories | C16: Month | D16: =D9 -> 1
A19: 002.03 | B19: Office and laboratory accommodation
A21: 002.03.01 | B21: Provision of office and laboratory
B22: accommodation, including fittings,
B23: furniture and equipment and car ports,
B24: as specified | C24: Lump sum | D24: 1
A26: 002.03.02 | B26: Re-use of office and laboratory
B27: accommodation, including fittings,
B28: furniture and equipment and car ports | C28: Lump sum | D28: 1
A31: 002.04 | B31: Provision of survey equipment and
B32: assistants
A34: 002.04.01 | B34: Dumpy level | C34: days | D34: 60
A41: TOTAL CARRIED TO SUMMARY | F41: =SUM(F2:F40) -> 0
A43: Signature of person authorised to sign the tender: | E43: Date

Sheet Section 101
A1: ITEM | B1: DESCRIPTION | C1: UNIT | D1: QTY | E1: RATE | F1: AMOUNT
A3: SERIES 1 | B3: ANCILLARY WORK
A5: Section 101 | B5: Site Clearing and Grubbing
A7: 101.01 | B7: Clearing and grubbing
A9: 101.01.01 | B9: Areas | C9: m² | D9: 30000
A11: 101.04 | B11: Re-clearing of areas (only on the
B12: written instructions of the Engineer)
A14: 101.04.02 | B14: Areas not classified as strips | C14: m² | D14: 5000
A16: 101.05 | B16: Removal and disposal of specific
B17: elements
A19: 101.05.02.01 | B19: 230mm brickwork | C19: m² | D19: 20
A21: 101.05.02.02 | B21: 115mm brickwork | C21: m² | D21: 20
A23: 101.05.02.04 | B23: Concrete elements (unreinforced) | C23: m³ | D23: 12
A25: 101.05.02.05 | B25: Concrete elements (reinforced) | C25: m² | D25: 15
A50: TOTAL CARRIED TO SUMMARY | F50: =SUM(F2:F49) -> 0
A52: Signature of person authorised to sign the tender: | E52: Date

Sheet Section 102
A1: ITEM | B1: DESCRIPTION | C1: UNIT | D1: QTY | E1: RATE | F1: AMOUNT
A3: SERIES 1 | B3: ANCILLARY WORK
A5: Section 102: | B5: Accommodation of Traffic
A7: 102.01 | B7: Accommodation of traffic and
B8: maintenance of bypasses | C8: m² | D8: 1700
A10: 102.05 | B10: Blading of bypasses by motor grader | C10: km.pass | D10: 1.5
A12: 102.07 | B12: Existing roads used as bypasses | C12: m² | D12: 500
A14: 102.08 | B14: Maintenance of surfacing of
B15: pavement layers of bitumen-surfaced
B16: bypasses and existing bitumen-
B17: surfaced roads used as bypasses | C17: m² | D17: 500
A19: 102.14 | B19: Temporary traffic-control facilities
A21: 102.14.01 | B21: Flagmen | C21: pd | D21: =6*22*6 -> 792
A23: 102.14.02 | B23: Portable Stop and Go signs | C23: no | D23: 4
A25: 102.14.03 | B25: Amber flashing lights | C25: no | D25: 4
A27: 102.14.04 | B27: Road signs, TR-series, 1200mm in
B28: diameter or 900mm x 675mm if
B29: rectangular | C29: no | D29: 4
A31: 102.14.05 | B31: Road signs, TW-series, 1524mm
B32: sides | C32: no | D32: 5
A34: 102.14.06 | B34: Road signs, TG-series | C34: m² | D34: 5
A36: 102.14.07 | B36: Danger plates and delineators | C36: no | D36: 50
A38: 102.14.08 | B38: Moveable barricade / road sign
B39: combination | C39: no | D39: 4
A41: 102.14.09 | B41: Traffic cones | C41: no | D41: 10
A43: 102.14.10 | B43: Plastic New Jersey barrier | C43: no | D43: 20
A45: 102.15 | B45: Re-use or removal of traffic-control
B46: facilities
A48: 102.15.01 | B48: Amber flicker lights | C48: no | D48: 1
A50: TOTAL CARRIED FORWARD | F50: =SUM(F2:F49) -> 0
A52: Signature of person authorised to sign the tender: | E52: Date
A54: ITEM | B54: DESCRIPTION | C54: UNIT | D54: QTY | E54: RATE | F54: AMOUNT
A55: TOTAL BROUGHT FORWARD | F55: =F50 -> 0
A59: 102.15 | B59: Re-use or removal of traffic-control
B60: facilities
A62: 102.15.01 | B62: Amber flicker lights | C62: no | D62: 1 | E62: 500 | F62: =IF(TRIM(D62)="rate only","ro",IF(ISBLANK(E62)," ",D62*E62)) -> 500
A64: 102.15.02 | B64: Road signs, TR and TW series | C64: no | D64: 2 | E64: 500 | F64: =IF(TRIM(D64)="rate only","ro",IF(ISBLANK(E64)," ",D64*E64)) -> 1000
A66: 102.15.03 | B66: Road signs, TG-series | C66: no | D66: 2 | E66: 500 | F66: =IF(TRIM(D66)="rate only","ro",IF(ISBLANK(E66)," ",D66*E66)) -> 1000
A68: 102.15.04 | B68: Danger plates and delineators | C68: no | D68: 50 | E68: 198 | F68: =IF(TRIM(D68)="rate only","ro",IF(ISBLANK(E68)," ",D68*E68)) -> 9900
A70: 102.15.05 | B70: Plastic New Jersey barrier | C70: no | D70: 10 | E70: 500 | F70: =IF(TRIM(D70)="rate only","ro",IF(ISBLANK(E70)," ",D70*E70)) -> 5000
...

Sheet Section 103
A1: ITEM | B1: DESCRIPTION | C1: UNIT | D1: QTY | E1: RATE | F1: AMOUNT
A3: SERIES 1 | B3: ANCILLARY WORK
A5: Section 103 | B5: Overhaul
A7: 103.01 | B7: Overhaul on material hauled outside
B8: the defined free-haul boundaries | C8: m³.km | D8: 15000
B10: (Free-haul boundaries will be defined
B11: as 1km outside the indicated site
B12: boundaries)
A15: TOTAL CARRIED TO SUMMARY | F15: =SUM(F2:F14) -> 0
A17: Signature of person authorised to sign the tender: | E17: Date

Sheet Section 104
A1: ITEM | B1: DESCRIPTION | C1: UNIT | D1: QTY | E1: RATE | F1: AMOUNT
A3: SERIES 1 | B3: ANCILLARY WORK
A5: Section 104 | B5: Landscaping and Grassing
A7: 104.01 | B7: Trimming
A9: 104.01.02 | B9: Hand trimming | C9: m² | D9: 200
A11: 104.03 | B11: Preparing areas for grassing and
B12: ground covers
A14: 104.03.01 | B14: Scarifying | C14: ha | D14: 1
A16: 104.03.02 | B16: Top soiling on the Site with -
A18: 104.03.02.02 | B18: Topsoil provided by the Contractor
B19: from other sources (including all
B20: haul) | C20: m³ | D20: 150
A22: 104.03.04 | B22: Supplying and applying chemical
B23: fertilizers
A25: 104.03.04.01 | B25: Lime | C25: t | D25: 1
A27: 104.03.05 | B27: Stockpiling of topsoil | C27: m³ | D27: 150
A29: 104.04 | B29: Grassing
A31: 104.04.02 | B31: Sodding | C31: m² | D31: 100
A33: 104.03.04 | B33: Hydro seeding
A35: 104.03.04.01 | B35: Providing approved seed mixture
B36: for hydro seeding | C36: kg | D36: 5
A38: 104.03.04.02 | B38: Hydro seeding | C38: ha | D38: 1
A45: TOTAL CARRIED TO SUMMARY | F45: =SUM(F2:F44) -> 0
A47: Signature of person authorised to sign the tender: | E47: Date

Sheet Section 105
A1: ITEM | B1: DESCRIPTION | C1: UNIT | D1: QTY | E1: RATE | F1: AMOUNT
A3: SERIES 1 | B3: ANCILLARY WORK
A5: Section 105 | B5: Fencing
A7: 105.01 | B7: Supply and erection of new fencing
B8: material
A10: 105.03.01.01 | B10: Ordinary Fences | C10: m | D10: 30
A12: 105.03.01.02 | B12: Security Fences | C12: m | D12: 30
A14: 105.04 | B14: Dismanteling of existing fences | C14: m | D14: 50
A53: TOTAL CARRIED TO SUMMARY | F53: =SUM(F7:F12) -> 0
A55: Signature of person authorised to sign the tender: | E55: Date

Sheet Section 106
A1: ITEM | B1: DESCRIPTION | C1: UNIT | D1: QTY | E1: RATE | F1: AMOUNT
A3: SERIES 1 | B3: ANCILLARY WORK
A5: Series 106 | B5: Service Ducts
A7: 106.01 | B7: Bedding and backfilling up to
B8: 300mm above pipes
A10: 106.01.01 | B10: Using selected excavated material | C10: m³ | D10: 45
A12: 106.01.05 | B12: Using stabilized material | C12: m³ | D12: 5
A15: 106.02 | B15: The casting of in situ concrete in
B16: bedding and the encasing of pipes
B17: (Class 20/19 concrete) | C17: m³ | D17: 15
A19: 106.03 | B19: Soilcrete | C19: m³ | D19: 5
A21: 106.04 | B21: Service duct pipes
A23: 106.04.01 | B23: Ordinary pipes
A25: 106.04.01.01 | B25: NexTube DN110 or similar approved | C25: m | D25: 50
A27: 106.04.03 | B27: Pipe fittings
A29: 106.04.03.01 | B29: NexTube coupling for DN110 pipes
B30: or similar approved | C30: no | D30: 40
A32: 106.05 | B32: Duct markers | C32: no | D32: 20
A34: 106.06 | B34: Extra over item 106.01 and 106.03
B35: for using material obtained from
B36: sources provided by the Contractor | C36: m³ | D36: 20
A38: TOTAL CARRIED TO SUMMARY | F38: =SUM(F2:F37) -> 0
A40: Signature of person authorised to sign the tender: | E40: Date

Sheet Section 107
A1: ITEM | B1: DESCRIPTION | C1: UNIT | D1: QTY | E1: RATE | F1: AMOUNT
A3: SERIES 1 | B3: ANCILLARY WORK
A5: Series B107 | B5: Dayworks
A7: B107.01 | B7: Labour during normal working hours
A9: B107.01.01 | B9: Unskilled labour | C9: h | D9: 20
A11: B107.01.02 | B11: Semi-skilled labour | C11: h | D11: 20
A13: B107.01.03 | B13: Skilled labour | C13: h | D13: 20
A16: B107.02 | B16: Extra-over item B107.02 for charges
B17: and overheads
A19: B107.02.01 | B19: Unskilled labour | C19: % | D19: =F9 -> 0
A21: B107.02.02 | B21: Semi-skilled labour | C21: % | D21: =F11 -> 0
A23: B107.02.03 | B23: Skilled labour | C23: % | D23: =F13 -> 0
A26: B107.03 | B26: Construction Plant
A28: B107.03.01 | B28: Tipper trucks
A30: B107.03.01.01 | B30: 6m³ capacity | C30: h | D30: 20
A32: B107.03.01.02 | B32: 10m³ capacity | C32: h | D32: 20
A35: B107.03.02 | B35: Backhoe loaders (Mass 7 - 8 ton) | C35: h | D35: 20
A37: B107.03.04 | B37: Tracked Excavator (Mass 18 - 22 ton,
B38: Power 70 - 105 kW) | C38: h | D38: 10
A40: B107.03.05 | B40: Generator (15kVA) | C40: h | D40: 10
A42: B107.03.06 | B42: Grader (Mass 16 - 20 ton) | C42: h | D42: rate only
A49: TOTAL CARRIED FORWARD | F49: =SUM(F2:F48) -> 0
A51: Signature of person authorised to sign the tender: | E51: Date
A53: ITEM | B53: DESCRIPTION | C53: UNIT | D53: QTY | E53: RATE | F53: AMOUNT
A54: TOTAL BROUGHT FORWARD | F54: =F49 -> 0
A56: B107.03.09 | B56: Rollers | F56: =E56*D56 -> 0
A58: B107.03.09.01 | B58: Pneumatic Roller (14 - 21 ton) | C58: h | D58: 10
A60: B107.03.09.03 | B60: Single drum vibratory padfoot roller
B61: (10 - 14 ton) | C61: h | D61: 10
A63: B107.03.09.05 | B63: Single drum vibratory smooth roller
B64: (10 - 14 ton) | C64: h | D64: 8
A66: B107.03.09.11 | B66: Pedestrian roller (1000 - 1500kg,
B67: width 900mm) | C67: h | D67: 12
A77: TOTAL CARRIED FORWARD | F77: =SUM(F54:F76) -> 0
A79: Signature of person authorised to sign the tender: | E79: Date
A81: ITEM | B81: DESCRIPTION | C81: UNIT | D81: QTY | E81: RATE | F81: AMOUNT
A82: TOTAL BROUGHT FORWARD | F82: =F77 -> 0
A84: B107.04 | B84: Transport of Construction Plant
A86: B107.04.01 | B86: Flatbed truck (2 - 4 ton) | C86: km | D86: 50
A88: B107.04.02 | B88: Lowbed (30 - 40 ton) | C88: km | D88: 50
...

Sheet Section 201
A1: ITEM | B1: DESCRIPTION | C1: UNIT | D1: QTY | E1: RATE | F1: AMOUNT
A3: SERIES 2 | B3: EARTHWORKS
A5: Section 201 | B5: General
A7: 201.01 | B7: Excess overburden at borrow pits
B8: provided by the Employer | C8: m³ | D8: 200
A10: 201.02 | B10: Temporary stockpiling of material | C10: m³ | D10: 2800
A49: TOTAL CARRIED TO SUMMARY | F49: =SUM(F2:F48) -> 0
A51: Signature of person authorised to sign the tender: | E51: Date

Sheet Section 202
A1: ITEM | B1: DESCRIPTION | C1: UNIT | D1: QTY | E1: RATE | F1: AMOUNT
A3: SERIES 2 | B3: EARTHWORKS
A5: Section 202 | B5: Trenching
A7: 202.01 | B7: Trench excavation
A9: 202.01.01 | B9: Up to 1,0m wide
A11: 202.01.01.01 | B11: Up to 1,0m deep | C11: m³ | D11: 355
A13: 202.01.01.02 | B13: Over 1,0m deep and up to 1,5m deep | C13: m³ | D13: =566+340 -> 906
A15: 202.01.01.03 | B15: Over 1,5m deep and up to 2,5m deep | C15: m³ | D15: =855+384 -> 1239
A17: 202.02 | B17: Extra over items 202.01, 202.03 and
B18: 202.09 for excavating in -
A20: 202.02.01 | B20: Intermediate material | C20: m³ | D20: 99
A22: 202.02.02 | B22: Hard material | C22: m³ | D22: 60
A25: 202.03 | B25: Excavations outside the normal
B26: trench profile | C26: m³ | D26: 25
A28: 202.04 | B28: Hand excavation (extra over item
B29: 202.01) | C29: m³ | D29: 10
A32: TOTAL CARRIED FORWARD | F32: =SUM(F2:F31) -> 0
A34: Signature of person authorised to sign the tender: | E34: Date
A36: ITEM | B36: DESCRIPTION | C36: UNIT | D36: QTY | E36: RATE | F36: AMOUNT
A37: TOTAL BROUGHT FORWARD | F37: =F32 -> 0
A39: 202.06 | B39: The backfilling of trenches (excluding
B40: the backfill around the pipe barrel)
B41: with material obtained from
B42: excavations | C42: m³ | D42: 1672
A44: 202.07 | B44: Extra over items 202.06 and 202.13
B45: for using backfill material obtained -
A47: 202.07.01 | B47: From borrow areas | C47: m³ | D47: 60
A49: 202.07.02 | B49: From sources provided by the
B50: contractor | C50: m³ | D50: 12
A53: 202.10 | B53: Removal of spoil material -
A55: 202.10.01 | B55: To positions indicated on the
B56: Drawings or by the Engineer | C56: m³ | D56: 16
A58: 202.10.02 | B58: To dumping areas to be provided by
B59: Contractor | C59: m³ | D59: 80
A61: 202.12 | B61: Extra over item 202.06 for additional
B62: compaction of backfill to 93% of
B63: modified AASHTO density in road
B64: reserves | C64: m³ | D64: 500
A66: 202.13 | B66: Backfilling trenches with soilcrete | C66: m³ | D66: 105
A80: TOTAL CARRIED TO SUMMARY | F80: =SUM(F37:F79) -> 0
...

Sheet Section 203
A1: ITEM | B1: DESCRIPTION | C1: UNIT | D1: QTY | E1: RATE | F1: AMOUNT
A3: SERIES 2 | B3: EARTHWORKS
A5: Section 203 | B5: Mass Earthworks
A7: 203.01 | B7: Excavation and borrow to fill
A9: 203.01.01 | B9: Compaction to 90% of modified
B10: AASHTO density | C10: m³ | D10: =1100*1*0.3 -> 330
A13: 203.02 | B13: Extra over item 203.01 for excavating
B14: in -
A16: 203.02.01 | B16: Intermediate material | C16: m³ | D16: 150
A18: 203.02.02 | B18: Hard material | C18: m³ | D18: 150
A20: 203.02.03 | B20: Boulder material class A | C20: m³ | D20: 20
A22: 203.02.04 | B22: Boulder material class B | C22: m³ | D22: 20
A25: 203.03 | B25: Excavate and spoil of -
A27: 203.03.01 | B27: Soft material | C27: m³ | D27: 265
A29: 203.03.02 | B29: Intermediate material | C29: m³ | D29: 65
A31: 203.03.03 | B31: Hard material | C31: m³ | D31: 300
A33: 203.03.04 | B33: Boulder material class A | C33: m³ | D33: 50
A35: 203.03.05 | B35: Boulder material class B | C35: m³ | D35: 35
A38: 203.04 | B38: Removal of oversize material | C38: m³ | D38: 300
A40: 203.05 | B40: Variations in compactive effort
B41: (applicable to sub item 203.01.03
B42: and item 203.07)
A44: 203.05.01 | B44: Vibratory rollers | C44: m².pass | D44: =1100*8*3 -> 26400
A46: 203.05.02 | B46: Impact rollers | C46: m².pass | D46: =D44 -> 26400
A49: TOTAL CARRIED TO SUMMARY | F49: =SUM(F4:F48) -> 0
A51: Signature of person authorised to sign the tender: | E51: Date

Sheet Section 502
A1: ITEM | B1: DESCRIPTION | C1: UNIT | D1: QTY | E1: RATE | F1: AMOUNT
A3: SERIES 5 | B3: DRAINAGE AND EROSION
B4: PROTECTION
A6: Section 502 | B6: Prefabricated Culverts and
B7: Stormwater Sewers
A9: 502.01 | B9: Backfilling with selected excavated
B10: material compacted to -
A12: 502.01.01 | B12: 90% of modified AASHTO density | C12: m³ | D12: =1100*1.5*1 -> 1650 | H12: =D12+D14+D16 -> 2310
A14: 502.01.02 | B14: 93% of modified AASHTO density | C14: m³ | D14: =1100*0.3*1 -> 330
A16: 502.01.03 | B16: 95% of modified AASHTO density | C16: m³ | D16: =D14 -> 330
D17: ,
A19: 502.02 | B19: Supplying and laying of concrete
B20: pipe culverts (type SC-pipes)
A22: 502.02.01 | B22: Class B bedding / Class 100D
A24: 502.02.01.01 | B24: 600mm Ø | C24: m | D24: 229.88
A26: 502.02.01.02 | B26: 750mm Ø | C26: m | D26: 217.162
A28: 502.02.01.03 | B28: 900mm Ø | C28: m | D28: 46.82
A30: TOTAL CARRIED FORWARD | F30: =SUM(F2:F29) -> 0
A32: Signature of person authorised to sign the tender: | E32: Date
A34: ITEM | B34: DESCRIPTION | C34: UNIT | D34: QTY | E34: RATE | F34: AMOUNT | J34: Kis | K34: JBs
A35: TOTAL BROUGHT FORWARD | F35: =F30 -> 0 | J35: 30 | K35: 27
A37: 502.02.01.04 | B37: 1050mm Ø | C37: m | D37: 345.31
A39: 502.02.01.05 | B39: 1200mm Ø | C39: m | D39: 291.167
A41: 502.06 | B41: Supplying and laying portal
B42: and rectangular culverts
A44: 502.06.02 | B44: Without precast invert slab
A46: 502.06.02.01 | B46: 900mm x 1200mm BC | C46: m | D46: 26.62
A48: 502.06.02.02 | B48: 1200mm x 900mm BC | C48: m | D48: 94.249
A50: 502.06.02.03 | B50: 1200mm x 1200mm BC | C50: m | D50: 129.829
A52: 502.10.03 | B52: Inlet and outlet structures, catchpits,
B53: manholes and junction boxes
B54: excluding formwork, but including
B55: U2 surface finish
A57: 502.10.03.01 | B57: Class 20/19 | C57: m³ | D57: 45
A59: 502.10.03.02 | B59: Class 25/19 | C59: m³ | D59: 80
A61: 502.17 | B61: Brick work
A63: 502.17.02 | B63: 230mm thick | C63: m² | D63: 75
A65: 502.18 | B65: Plaster | C65: m² | D65: =(D63)*2 -> 150
A67: 502.19 | B67: Benching | C67: m² | D67: 50
A69: 502.20 | B69: Accessories
...

Sheet Section 503
A1: ITEM | B1: DESCRIPTION | C1: UNIT | D1: QTY | E1: RATE | F1: AMOUNT
A3: SERIES 5 | B3: DRAINAGE AND EROSION
B4: PROTECTION
A6: Section 503 | B6: Kerbing and Channelling
A8: 503.01 | B8: Concrete kerbing Class 20/19
B9: concrete
B10: (See drawing STD007 - Sheet 1)
A12: 503.01.01 | B12: Edge beam | C12: m | D12: 66
A14: 503.01.05 | B14: Extra over item 503.01.01 for variations
B15: in concrete volume due to variations
B16: in standard dimensions | C16: m³ | D16: 10
A18: 503.02 | B18: Concrete kerbing-channelling
B19: combination
B20: (See drawing STD007 - Sheet 1)
A22: 503.02.01 | B22: Semi-vertical kerb (Fig. 8c) with 300mm
B23: concrete channel | C23: m | D23: 2200
A25: 503.03 | B25: Transition sections
B26: (See drawing STD007 - Sheet 2)
A28: 503.03.01 | B28: Semi-vertical kerb (Fig. 8c) to
B29: 300mm sloping kerb | C29: no | D29: 10
A43: TOTAL CARRIED TO SUMMARY | F43: =SUM(F2:F42) -> 0
A45: Signature of person authorised to sign the tender: | E45: Date

Sheet Section 504
A1: ITEM | B1: DESCRIPTION | C1: UNIT | D1: QTY | E1: RATE | F1: AMOUNT
A3: SERIES 5 | B3: DRAINAGE AND EROSION
B4: PROTECTION
A6: Section 504 | B6: Open Drains
A8: 504.03 | B8: Side drains
B9: (See drawing STD17 - Sheet 2)
A11: 504.03.01 | B11: Type 1.1 - Small side drain allowing
B12: erf access | C12: m | D12: 100
A14: 504.03.02 | B14: Type 1.2 - Small side drain allowing
B15: erf access | C15: m | D15: 400
A51: TOTAL CARRIED TO SUMMARY | F51: =SUM(F2:F50) -> 0
A53: Signature of person authorised to sign the tender: | E53: Date

Sheet Section 505
A1: ITEM | B1: DESCRIPTION | C1: UNIT | D1: QTY | E1: RATE | F1: AMOUNT
A3: SERIES 5 | B3: EROSION PROTECTION
A6: Section 505 | B6: Prefabricated Culverts and
B7: Stormwater Sewers
A9: 505.01 | B9: Foundation trench excavation
B10: and backfilling
A12: 505.01.01 | B12: In solid rock (material which requires blasting) | C12: m³ | D12: 100
A14: 505.01.02 | B14: In all other classes of material | C14: m³ | D14: =D24+D26 -> 60
A16: 505.02 | B16: Surface Preparation for the bedding | C16: m² | D16: =60/0.3 -> 200
B17: of Gabions
A19: 505.03 | B19: Gabions
A21: 505.03.02 | B21: Galvanized gabion mattresses, 80mm x 100mm
B22: mesh, 2.7 mm nominal dia mesh wire:
A24: 505.03.02.01 | B24: 2 m x 1,0 m x 0,3 m | C24: m³ | D24: 28
A26: 505.03.02.02 | B26: 6 m x 2,0 m x 0,3 m | C26: m³ | D26: 32
A28: 505.05 | B28: Filter fabric, (Class U34 Kaymat or equivalent
B29: approved filter fabric) | C29: m² | D29: 98
A31: 505.06 | B31: Stone Pitching
A33: 505.06.02 | B33: Grouted stone pitching | C33: m² | D33: 20
A35: 505.10 | B35: Concrete (Class 30/19)
A37: 505.10.01 | B37: Edge beams | C37: m³ | D37: 10
A39: 505.10.02 | B39: Foundation Trenches | C39: m³ | D39: 25
A47: TOTAL CARRIED FORWARD
A49: Signature of person authorised to sign the tender: | E49: Date

Sheet Section 601
A1: ITEM | B1: DESCRIPTION | C1: UNIT | D1: QTY | E1: RATE | F1: AMOUNT
A3: SERIES 6 | B3: ROADS AND PARKING AREAS
A5: Section 601 | B5: Gravel Pavement Layers
A7: 601.01 | B7: Preparation and compaction of in situ subgrade material to -
A9: 601.01.02 | B9: Compacted to 93% of modified
B10: AASHTO density | C10: m³ | D10: =(1100*0.175*8*1.1)+(4*0.175*1100) -> 2464
A12: 601.03 | B12: Gravel layers constructed from material obtained from excavations:
A14: 601.03.01 | B14: Subgrade
A16: 601.03.01.02 | B16: Upper Subgrade, G7 Compacted to 93% of
B17: modified AASHTO density | C17: m³ | D17: =1100*0.175*8*1.1 -> 1694
A19: 601.04 | B19: Extra over item 601.03 for obtaining
B20: material from
A22: 601.04.01 | B22: Intermediate excavations | C22: m³ | D22: 150
A24: 601.06 | B24: Extra over Item 601.02 for borrow
B25: material from sources to be supplied
B26: by the Contractor
A28: 601.06.03.01 | B28: Upper Subgrade, G7 Compacted to 93% of
B29: modified AASHTO density | C29: m³ | D29: =D17*40% -> 677.6
A34: TOTAL CARRIED TO SUMMARY | F34: =SUM(F16:F33) -> 0
A36: Signature of person authorised to sign the tender: | E36: Date

Sheet Section 602
A1: ITEM | B1: DESCRIPTION | C1: UNIT | D1: QTY | E1: RATE | F1: AMOUNT
A3: SERIES 6 | B3: ROADS AND PARKING AREAS
A5: Section 602 | B5: Crushed-stone Pavement Layers
A7: 602.01 | B7: Crushed-stone base constructed
B8: with material obtained from
A10: 602.01.01 | B10: Commercial sources
A12: 602.01.01.04 | B12: G4 material compacted to 100% of
B13: modified AASHTO density | C13: m³ | D13: =(1100*0.175*(3.4+3.7+0.3+0.6))*1.1 -> 1694
A15: 602.01.01.05 | B15: G5 material compacted to 98% of
B16: modified AASHTO density | C16: m³ | D16: ='Section 601'!D17+(4*0.175*1100*1.1) -> 2541
A45: TOTAL CARRIED TO SUMMARY | F45: =SUM(F2:F44) -> 0
A47: Signature of person authorised to sign the tender: | E47: Date

Sheet Section 604
A1: ITEM | B1: DESCRIPTION | C1: UNIT | D1: QTY | E1: RATE | F1: AMOUNT
A3: SERIES 6 | B3: ROADS AND PARKING AREAS
A5: Section 604 | B5: Stabilization
A7: 604.01 | B7: Chemical stabilization extra over
B8: unstabilized compacted layers
A10: 604.01.01 | B10: Base | C10: m³ | D10: ='Section 602'!D13 -> 1694
A12: 604.01.02 | B12: Subbase | C12: m³ | D12: ='Section 602'!D16 -> 2541
A15: 604.02 | B15: Chemical stabilizing agent
A17: 604.02.01 | B17: Cement | C17: t | D17: =(D12+D10)*0.03*2200/1000 -> 279.51
A19: 604.03 | B19: Mechanical modification, extra over
B20: untreated layer | C20: m³ | D20: =D12+D10 -> 4235
A23: TOTAL CARRIED TO SUMMARY
A25: Signature of person authorised to sign the tender: | E25: Date

Sheet Section 605
A1: ITEM | B1: DESCRIPTION | C1: UNIT | D1: QTY | E1: RATE | F1: AMOUNT
A3: SERIES 6 | B3: ROADS AND PARKING AREAS
A5: Section 605 | B5: Prime Coat
A7: 605.01 | B7: Prime coat
A9: 605.01.04 | B9: Invert bitumen emulsion which complies
B10: with SANS 1260 (MSP 1) | C10: ℓ | D10: =(1100*7.1*0.9)+(6*(0.5*(8+12)*4)) -> 7269
A17: TOTAL CARRIED TO SUMMARY | F17: =SUM(F2:F16) -> 0
A19: Signature of person authorised to sign the tender: | E19: Date

Sheet Section 606
A1: ITEM | B1: DESCRIPTION | C1: UNIT | D1: QTY | E1: RATE | F1: AMOUNT
A3: SERIES 6 | B3: ROADS AND PARKING AREAS
A5: Section 606 | B5: Asphalt Base and Surfacing
A7: 606.02 | B7: Asphalt surfacing
A9: 606.02.01 | B9: 30mm Continuously graded (medium) | C9: m2 | D9: =(1100*7.1)+(6*0.5*(8+12)*4) -> 8050
A11: 606.07 | B11: Traffic Calming measures
A13: 606.07.01 | B13: Construction of speed hump | C13: No | D13: 6
B14: (See drawing STD016 - Sheet 1)
A16: 606.07.02 | B16: Construction of raised pedestrian crossings | C16: No | D16: 3
B17: (See drawing STD016 - Sheet 2 of 7)
A20: TOTAL CARRIED TO SUMMARY
A22: Signature of person authorised to sign the tender: | E22: Date

Sheet Section 609
A1: ITEM | B1: DESCRIPTION | C1: UNIT | D1: QTY | E1: RATE | F1: AMOUNT
A2: Section 609 | B2: Segmented Paving
A3: 609.01 | B3: Construction of segmental block
B4: paving made from -
A6: 609.01.01 | B6: 60mm Type S-A, Class 25 (Grey in Colour) | C6: m² | D6: =((1100+50)*4)*0.85 -> 3910
A8: 609.01.02 | B8: 60mm Type S-A, Class 25 (Charcoal in Colour) | C8: m²
A10: 609.01.03 | B10: 60mm Type S-A, Class 25 (Terrecota in Colour) | C10: m² | D10: =((1100+50)*4)*0.15 -> 690
A12: 609.03 | B12: The construction of edge restraints
B13: with
A15: 609.03.01 | B15: Precast concrete edge beam | C15: m | D15: =11*6 -> 66
A17: 609.03.02 | B17: In situ concrete Grade 25/12 according to
B18: Drawing No STD008 | C18: m³ | D18: 20
A20: 609.06 | B20: Construction of pedestrian ramps
B21: for the disabled | C21: no | D21: 6
B22: (See drawing STD009)
A28: TOTAL CARRIED TO SUMMARY | F28: =SUM(F6:F21) -> 0
A30: Signature of person authorised to sign the tender: | E30: Date

Sheet Section 612
A1: ITEM | B1: DESCRIPTION | C1: UNIT | D1: QTY | E1: RATE | F1: AMOUNT
A2: Series 612 | B2: Traffic Signs
A4: 612.01 | B4: Sign boards with painted background, symbols,
B5: lettering and borders in engineering-grade retro-
B6: reflective material with sign boards constructed
B7: from:
A9: 612.01.03 | B9: Sheet steel (Chromadek) with an:
A10: 612.01.03.01 | B10: Area not exceeding 2 m² | C10: m² | D10: 20
A12: 612.02 | B12: Extra over Item 612.01 for:
A14: 612.02.01 | B14: Background of retro-reflective material of:
A16: 612.02.01.01 | B16: Engineering grade | C16: m² | D16: =D10 -> 20
A18: 612.02.02 | B18: Lettering, symbols and borders of retro-reflec-
B19: tive material of:
A21: 612.02.02.01 | B21: High-intensity grade | C21: m² | D21: 35
A23: 612.03 | B23: Sign supports
A25: 612.03.02 | B25: Steel tubing | C25: t | D25: 1.8
A27: 612.04 | B27: Extra over Items 612.03.01 and
B28: 612.03.02 for providing
A30: 612.04.01 | B30: Unpainted galvanized steel members | C30: t | D30: =D25 -> 1.8
A32: 612.05 | B32: Excavation and backfilling for sign supports | C32: m³ | D32: 70
A35: TOTAL CARRIED TO SUMMARY
A37: Signature of person authorised to sign the tender: | E37: Date

Sheet Section 613
A1: ITEM | B1: DESCRIPTION | C1: UNIT | D1: QTY | E1: RATE | F1: AMOUNT
A3: Section 613 | B3: Traffic Marking
A5: 613.01 | B5: Road-marking paint
A7: 613.01.06 | B7: Kerb markings (any colour) | C7: m² | D7: 8
A9: 613.02 | B9: Retro-reflective road-marking paint
A11: 613.02.01 | B11: White lines (broken or unbroken) 100 mm wide | C11: km | D11: 1.1
A13: 613.02.02 | B13: Yellow lines (broken or unbroken) 100 mm wide | C13: km | D13: =1.1*2 -> 2.2
A15: 613.02.03 | B15: White lettering and symbols | C15: m² | D15: 65
A17: 613.02.04 | B17: Yellow lettering and symbols | C17: m² | D17: 35
A19: 613.02.05 | B19: Traffic-island markings (any colour) | C19: m² | D19: 20
A21: B613.02.06 | B21: Reflective tape | C21: m² | D21: 10
A23: 613.04 | B23: Variation in the rate of application
A25: 613.04.01 | B25: White paint | C25: ℓ | D25: 30
A27: 613.04.02 | B27: Yellow paint | C27: ℓ | D27: 15
A29: 613.04.03 | B29: Glass beads | C29: kg | D29: 50
A31: 613.06 | B31: Setting out and the premarking of lines (excluding
B32: traffic-island markings, lettering and symbols) | C32: km | D32: =D11+D13 -> 3.3
A36: TOTAL CARRIED TO SUMMARY | F36: =SUM(F7:F35) -> 0
A38: Signature of person authorised to sign the tender: | E38: Date

Sheet Section 903
A1: ITEM | B1: DESCRIPTION | C1: UNIT | D1: QTY | E1: RATE | F1: AMOUNT
A3: SERIES 9 | B3: QUALITY CONTROL
A5: Section 903 | B5: Testing
A7: 903.01 | B7: Provision of testing equipment
A9: 903.01.03 | B9: 150mm x 150mm x150mm concrete-
B10: cube moulds | C10: no | D10: 5
A13: 903.03 | B13: Special tests on concrete and asphalt
A15: 903.03.01 | B15: Compressive-strength tests on
B16: concrete cubes | C16: no | D16: 25
A31: TOTAL CARRIED TO SUMMARY | F31: =SUM(F9:F30) -> 0
A33: Signature of person authorised to sign the tender: | E33: Date

Sheet Summary
A1: SUMMARY OF PRICING SCHEDULE
A2: SECTION | B2: DESCRIPTION | C2: AMOUNT
A4: SERIES 0 | B4: GENERAL
A5: 001 | B5: General Requirements and Charges | C5: ='Section 001'!F60 -> 0
A6: 002 | B6: Engineers Accommodation | C6: ='Section 002'!F41 -> 0
A8: SERIES 1 | B8: ANCILLARY WORK
A9: 101 | B9: Site Clearing and Grubbing | C9: ='Section 101'!F50 -> 0
A10: 102 | B10: Accommodation of Traffic
A11: 103 | B11: Overhaul | C11: =+'Section 103'!F15 -> 0
A12: 104 | B12: Landscaping and Grassing | C12: ='Section 104'!F45 -> 0
A13: 105 | B13: Fencing
A14: 106 | B14: Service Ducts | C14: ='Section 106'!F38 -> 0
A15: 107 | B15: Dayworks | C15: ='Section 107'!F129 -> 0
A17: SERIES 2 | B17: EARTHWORKS
A18: 201 | B18: General | C18: ='Section 201'!F49 -> 0
A19: 202 | B19: Trenching | C19: ='Section 202'!F80 -> 0
A20: 203 | B20: Mass Earthworks | C20: ='Section 203'!F49 -> 0
A22: SERIES 5 | B22: DRAINAGE AND EROSION PROTECTION
A23: 502 | B23: Prefabricated Culverts and Stormwater Drainage | C23: ='Section 502'!F141 -> 0
A24: 503 | B24: Kerbing and Channelling | C24: ='Section 503'!F43 -> 0
A25: 504 | B25: Open Drains | C25: ='Section 504'!F51 -> 0
A26: 505 | B26: Gabions and Renomattressing | C26: ='Section 505'!F47 -> 0
A28: SERIES 6 | B28: ROADS AND PARKING AREAS
A29: 601 | B29: Gravel Pavement Layers | C29: ='Section 601'!F34 -> 0
A30: 602 | B30: Crushed-stone Pavement Layers | C30: ='Section 602'!F45 -> 0
A31: 604 | B31: Stabilisation | C31: ='Section 604'!F23 -> 0
A32: 605 | B32: Prime Coat | C32: ='Section 605'!F17 -> 0
A33: 606 | B33: Asphalt Base and Surfacing | C33: ='Section 606'!F20 -> 0
A34: 609 | B34: Construction of Segmental Block Paving | C34: ='Section 609'!F28 -> 0
A35: 612 | B35: Traffic Signs | C35: ='Section 612'!F35 -> 0
A36: 613 | B36: Traffic Markings | C36: ='Section 613'!F36 -> 0
A38: SERIES 9 | B38: QUALITY CONTROL
A39: 903 | B39: Testing | C39: ='Section 903'!F31 -> 0
A41: TOTAL SCHEDULE OF PRICES
A43: Signature of person authorised to sign the tender:
A46: DESCRIPTION | C46: AMOUNT
A48: TOTAL OF SCHEDULED PRICES | C48: =C41 -> 0
A49: Add 10% for contingencies | C49: =C48*0.1 -> 0
A50: SUBTOTAL | C50: =C48+C49 -> 0
A51: Add 15% VAT | C51: =C50*0.15 -> 0
...
