Workbook
Name \0: #REF!
Name \0: #REF!
Name \A: #REF!
Name \A: #REF!
Name \B: #REF!
Name \B: #REF!
Name \C: #REF!
Name \CA: #REF!
Name \CO: #REF!
Name \D: #REF!
Name \E: #REF!
Name \F: #REF!
Name \G: #REF!
Name \h: #REF!
Name \K: #REF!
Name \m: #REF!
Name \N: #REF!
Name \P: #REF!
Name \Q: '[1]6.0 ESTIMATE IMPROVEMENT COSTS'!#REF!
Name \r: #REF!
Name \s: #REF!
Name \t: #REF!
Name \u: #REF!
Name \W: #REF!
Name \X: #REF!
Name \y: #REF!
Name _______________SEC1200: #REF!
Name _____________T2: '[2]Estimate Warehouse'!#REF!
Name ____________T2: '[2]Estimate Warehouse'!#REF!
Name ___________T2: '[2]Estimate Warehouse'!#REF!
Name __________T2: '[2]Estimate Warehouse'!#REF!
Name _______RoE1: [3]RoE!$A$4:$D$8
Name _______T2: '[2]Estimate Warehouse'!#REF!
Name ______RoE1: [3]RoE!$A$4:$D$8
Name ______T2: '[2]Estimate Warehouse'!#REF!
Name _____Int1: #REF!
Name _____Int2: #REF!
Name _____RoE1: [3]RoE!$A$4:$D$8
Name _____T2: '[2]Estimate Warehouse'!#REF!
Name ____Int1: #REF!
Name ____Int2: #REF!
Name ____PC1: #REF!
Name ____RoE1: [3]RoE!$A$4:$D$8
Name ____T2: '[2]Estimate Warehouse'!#REF!
Name ___aux10: #REF!
Name ___aux3: #REF!
Name ___aux5: #REF!
Name ___aux7: #REF!
Name ___CAT07: [4]Equip!#REF!
Name ___CAT12: [4]Equip!#REF!
Name ___CAT21: [4]Equip!#REF!
Name ___CAT22: [4]Equip!#REF!
Name ___CAT31: [4]Equip!#REF!
Name ___CAT33: [4]Equip!#REF!
Name ___CAT34: [4]Equip!#REF!
Name ___CAT35: [4]Equip!#REF!
Name ___CAT36: [4]Equip!#REF!
Name ___CAT39: [4]Equip!#REF!
Name ___CAT42: [4]Equip!#REF!
Name ___CAT43: [4]Equip!#REF!

Sheet COVER
B42: Document Created By :

Sheet SECURITY OFFICE BUILDING
J1: REFURBISHMENT OF TRAIN STATIONS FOR PRASA SUB CORRIDOR 1
J2: NGR/CRES/13/2021
J4: CENTURION STATION (SECURITY OFFICE)
A5: PAGE NO | B5: SEC NO | C5: BILL NO | D5: ITEM NO | E5: DESCRIPTION | F5: LOCAL CONTENT THRESHOLD | G5: UNIT | H5: QUANTITY | I5: RATE | J5: AMOUNT
F6: 1
A7: 4 | B7: 2 | C7: 3 | E7: SECTION NO. 2 | G7: H2
A9: 4 | B9: 2 | C9: 3 | E9: BILL NO. 3 | G9: H2
A11: 4 | B11: 2 | C11: 3 | E11: ROOF COVERING | G11: H2
A13: 4 | B13: 2 | C13: 3 | E13: PREAMBLES | G13: H2
A15: 4 | B15: 2 | C15: 3 | E15: Tenderers are to refer to the Model Preambles for Trades (Latest Edition) and Supplementary Preambles for further description and amplification of work in this section
A17: 4 | B17: 2 | C17: 3 | E17: SUPPLEMENTARY PREAMBLES
G18: H2
A19: 4 | B19: 2 | C19: 3 | E19: Notes: 1.Tenderers are advised to study the Prasa Norms, Guidelines and Standards (NGS) for Station Facilities and Part B of the Prasa Specifications before pricing this bill
A21: 4 | B21: 2 | C21: 3 | E21: Straight cutting
A23: 4 | B23: 2 | C23: 3 | E23: Descriptions of all roof coverings are deemed to include for all straight cutting
A25: 4 | B25: 2 | C25: 3 | E25: PROFILED METAL SHEETING AND ACCESSORIES
A27: 4 | B27: 2 | C27: 3 | E27: Where roof coverings are fixed on top of rigid board insulation to purlins etc, descriptions of roof coverings shall include therefore:
G28: H2
A30: 4 | B30: 2 | C30: 3 | E30: PROFILED SHEETING OF METAL, FIBRE-CEMENT, PLASTICS, ETC. | G30: H2
A32: 4 | B32: 2 | C32: 3 | E32: Heto Roofing Solutions, equivalent or approved by the PM. 0,53mm thick Clean COLORBOND AZ150 Colonial Green finish top coat and grey backing coat roll top ridge capping, size 600 x 2450mm long, sealed with continuous moulded poly closure strips. Ridging to have minimum 150mm sealed end laps and fixed through broad flute aluminium closures at every crest with main fastening system (elsewhere specified). | G32: H3
A34: 4 | B34: 2 | C34: 3 | D34: 1 | E34: Roof coverings, etc. | F34: 100% Steel Products | G34: m2 | H34: 22.5 | J34: =H34*I34 -> 0
A36: 4 | B36: 2 | C36: 3 | E36: Flashings, etc.: | G36: H3
A38: 4 | B38: 2 | C38: 3 | D38: 3 | E38: flashing. | F38: 100% Steel Products | G38: m | H38: 68 | J38: =H38*I38 -> 0
A41: 4 | B41: 2 | C41: 3 | E41: ="TOTAL "& E11 -> TOTAL ROOF COVERING | J41: =SUM(J11:J40) -> 0
A43: 5 | B43: 2 | C43: 6 | E43: SECTION NO. 2 | G43: H2
A45: 5 | B45: 2 | C45: 6 | E45: BILL NO. 6 | G45: H2
A47: 5 | B47: 2 | C47: 6 | E47: IRONMONGERY | G47: H2
A49: 5 | B49: 2 | C49: 6 | E49: PREAMBLES
A51: 5 | B51: 2 | C51: 6 | E51: Tenderers are to refer to the Model Preambles for Trades (Latest Edition) and Supplementary Preambles for further description and amplification of work in this section
A53: 6 | B53: 2 | C53: 6 | E53: SUPPLEMENTARY PREAMBLES
A55: 6 | B55: 2 | C55: 6 | E55: Notes: 1.Tenderers are advised to study the Prasa Norms, Guidelines and Standards (NGS) for Station Facilities and Part B of the Prasa Specifications before pricing this bill
A57: 6 | B57: 2 | C57: 6 | E57: Finishes to ironmongery
A59: 6 | B59: 2 | C59: 6 | E59: Where applicable finishes to ironmongery are indicated by suffixes in accordance with the following list: BS Satin bronze lacquered CH Chromium plated SC Satin chromium plated SE Silver enamelled GE Grey enamelled AS Anodised silver AB Anodised bronze AG
A62: 6 | B62: 2 | C62: 6 | E62: HINGES, BOLTS, ETC. | G62: H2
A64: 6 | B64: 2 | C64: 6 | E64: Stainless steel: | G64: H3
A66: 6 | B66: 2 | C66: 6 | D66: 1 | E66: 100mm Butt hinges. | F66: 100% Steel Products | G66: No | H66: 4 | J66: =H66*I66 -> 0
A68: 6 | B68: 2 | C68: 6 | E68: LOCKS | G68: H2
A70: 6 | B70: 2 | C70: 6 | E70: Stainless steel: | G70: H3
A72: 6 | B72: 2 | C72: 6 | D72: 2 | E72: Dorma D036S, equivalent or approved by the PM. cylinder sash lock with stainless steel forend. | F72: =F66 -> 100% Steel Products | G72: No | H72: 4 | J72: =H72*I72 -> 0
A74: 6 | B74: 2 | C74: 6 | D74: 3 | E74: "Dorma D035S, equivalent or approved by the PM. wc indicator cylinder sash lock with stainless steel forend and ""Dorma DWC-115"", equivalent or approved by the PM. indicator." | F74: =F72 -> 100% Steel Products | G74: No | H74: 1 | J74: =H74*I74 -> 0
...

Sheet ADMIN OFFICE
J1: REFURBISHMENT OF TRAIN STATIONS FOR PRASA SUB CORRIDOR 1
J2: NGR/CRES/13/2021
J4: CENTURION STATION (ADMIN OFFICE)
A5: PAGE NO | B5: SEC NO | C5: BILL NO | D5: ITEM NO | E5: DESCRIPTION | F5: LOCAL CONTENT THRESHOLD | G5: UNIT | H5: QUANTITY | I5: RATE | J5: AMOUNT
F6: 1
A8: 4 | B8: 2 | C8: 3 | E8: SECTION NO. 2 | G8: H2
A10: 4 | B10: 2 | C10: 3 | E10: BILL NO. 3 | G10: H2
A12: 4 | B12: 2 | C12: 3 | E12: ROOF COVERING | G12: H2
A14: 4 | B14: 2 | C14: 3 | E14: PREAMBLES
A16: 4 | B16: 2 | C16: 3 | E16: Tenderers are to refer to the Model Preambles for Trades (Latest Edition) and Supplementary Preambles for further description and amplification of work in this section
A18: 4 | B18: 2 | C18: 3 | E18: SUPPLEMENTARY PREAMBLES
A20: 4 | B20: 2 | C20: 3 | E20: Notes: 1.Tenderers are advised to study the Prasa Norms, Guidelines and Standards (NGS) for Station Facilities and Part B of the Prasa Specifications before pricing this bill
A22: 4 | B22: 2 | C22: 3 | E22: Straight cutting
A24: 4 | B24: 2 | C24: 3 | E24: Descriptions of all roof coverings are deemed to include for all straight cutting
A26: 4 | B26: 2 | C26: 3 | E26: PROFILED METAL SHEETING AND ACCESSORIES
A28: 4 | B28: 2 | C28: 3 | E28: Where roof coverings are fixed on top of rigid board insulation to purlins etc, descriptions of roof coverings shall include therefore:
A30: 4 | B30: 2 | C30: 3 | E30: PROFILED SHEETING OF METAL, FIBRE-CEMENT, PLASTICS, ETC. | G30: H2
A32: 4 | B32: 2 | C32: 3 | E32: Flashings, etc.: | G32: H3
A34: 4 | B34: 2 | C34: 3 | D34: 2 | E34: flashing. | F34: 100% Steel Products | G34: m | H34: 68 | J34: =H34*I34 -> 0
A37: 4 | B37: 2 | C37: 3 | E37: ="TOTAL "& E12 -> TOTAL ROOF COVERING | J37: =SUM(J12:J36) -> 0
A39: 5 | B39: 2 | C39: 6 | E39: SECTION NO. 2 | G39: H2
A41: 5 | B41: 2 | C41: 6 | E41: BILL NO. 6 | G41: H2
A43: 5 | B43: 2 | C43: 6 | E43: IRONMONGERY | G43: H2
A45: 5 | B45: 2 | C45: 6 | E45: PREAMBLES
A47: 6 | B47: 2 | C47: 6 | E47: Tenderers are to refer to the Model Preambles for Trades (Latest Edition) and Supplementary Preambles for further description and amplification of work in this section
A49: 6 | B49: 2 | C49: 6 | E49: SUPPLEMENTARY PREAMBLES
A51: 6 | B51: 2 | C51: 6 | E51: Notes: 1.Tenderers are advised to study the Prasa Norms, Guidelines and Standards (NGS) for Station Facilities and Part B of the Prasa Specifications before pricing this bill
A53: 6 | B53: 2 | C53: 6 | E53: Finishes to ironmongery
A55: 6 | B55: 2 | C55: 6 | E55: Where applicable finishes to ironmongery are indicated by suffixes in accordance with the following list: BS Satin bronze lacquered CH Chromium plated SC Satin chromium plated SE Silver enamelled GE Grey enamelled AS Anodised silver AB Anodised bronze AG
A57: 6 | B57: 2 | C57: 6 | E57: HINGES, BOLTS, ETC. | G57: H2
A59: 6 | B59: 2 | C59: 6 | E59: Stainless steel: | G59: H3
A61: 6 | B61: 2 | C61: 6 | D61: 1 | E61: 100mm Butt hinges. | F61: 100% Steel Products | G61: No | H61: 11 | J61: =H61*I61 -> 0
A63: 6 | B63: 2 | C63: 6 | E63: LOCKS | G63: H2
A65: 6 | B65: 2 | C65: 6 | E65: Stainless steel: | G65: H3
A67: 6 | B67: 2 | C67: 6 | D67: 2 | E67: Dorma D036S, equivalent or approved by the PM. cylinder sash lock with stainless steel forend. | F67: =F61 -> 100% Steel Products | G67: No | H67: 11 | J67: =H67*I67 -> 0
A69: 6 | B69: 2 | C69: 6 | D69: 3 | E69: "Dorma D035S, equivalent or approved by the PM. wc indicator cylinder sash lock with stainless steel forend and ""Dorma DWC-115"", equivalent or approved by the PM. indicator." | F69: =F67 -> 100% Steel Products | G69: No | H69: 1 | J69: =H69*I69 -> 0
A71: 6 | B71: 2 | C71: 6 | E71: HANDLES | G71: H2
A73: 6 | B73: 2 | C73: 6 | E73: Natural Anodised Aluminium: | G73: H3
A75: 6 | B75: 2 | C75: 6 | D75: 4 | E75: """DORMA SH815"", equivalent or approved by the PM. Lever handle with rose." | F75: =F69 -> 100% Steel Products | G75: No | H75: 11 | J75: =H75*I75 -> 0
A77: 6 | B77: 2 | C77: 6 | D77: 5 | E77: "Dorma TH120/BP, equivalent or approved by the PM. tubular spring loaded pull handle on and including ""Dorma TH120/BP"", equivalent or approved by the PM. cylinder backplate." | F77: =F75 -> 100% Steel Products | G77: No | H77: 1 | J77: =H77*I77 -> 0
...

Sheet SIGNAL RM, ENT & EXIT HOUSING
J1: REFURBISHMENT OF TRAIN STATIONS FOR PRASA SUB CORRIDOR 1
J2: NGR/CRES/13/2021
J4: CENTURION STATION (SIGNAL RM, ENT & EXIT HOUSING 2)
A5: PAGE NO | B5: SEC NO | C5: BILL NO | D5: ITEM NO | E5: DESCRIPTION | F5: LOCAL CONTENT THRESHOLD | G5: UNIT | H5: QUANTITY | I5: RATE | J5: AMOUNT
F6: 1
A8: 4 | B8: 2 | C8: 4 | E8: SECTION NO. 2 | G8: H2
A10: 4 | B10: 2 | C10: 4 | E10: BILL NO. 4 | G10: H2
A12: 4 | B12: 2 | C12: 4 | E12: IRONMONGERY | G12: H2
A14: 4 | B14: 2 | C14: 4 | E14: PREAMBLES
A16: 4 | B16: 2 | C16: 4 | E16: Tenderers are to refer to the Model Preambles for Trades (Latest Edition) and Supplementary Preambles for further description and amplification of work in this section
A18: 4 | B18: 2 | C18: 4 | E18: SUPPLEMENTARY PREAMBLES
A20: 4 | B20: 2 | C20: 4 | E20: Notes: 1.Tenderers are advised to study the Prasa Norms, Guidelines and Standards (NGS) for Station Facilities and Part B of the Prasa Specifications before pricing this bill
A22: 4 | B22: 2 | C22: 4 | E22: Finishes to ironmongery
A24: 4 | B24: 2 | C24: 4 | E24: Where applicable finishes to ironmongery are indicated by suffixes in accordance with the following list: BS Satin bronze lacquered CH Chromium plated SC Satin chromium plated SE Silver enamelled GE Grey enamelled AS Anodised silver AB Anodised bronze AG
A26: 4 | B26: 2 | C26: 4 | E26: HINGES, BOLTS, ETC. | G26: H2
A28: 4 | B28: 2 | C28: 4 | E28: Stainless steel: | G28: H3
A30: 4 | B30: 2 | C30: 4 | D30: 1 | E30: 100mm Butt hinges. | F30: 100% Steel Products | G30: No | H30: 3 | J30: =H30*I30 -> 0
A32: 4 | B32: 2 | C32: 4 | E32: LOCKS | G32: H2
A34: 4 | B34: 2 | C34: 4 | E34: Stainless steel: | G34: H3
A36: 4 | B36: 2 | C36: 4 | D36: 2 | E36: Dorma D036S, equivalent or approved by the PM. cylinder sash lock with stainless steel forend. | F36: =F30 -> 100% Steel Products | G36: No | H36: 3 | J36: =H36*I36 -> 0
A38: 4 | B38: 2 | C38: 4 | D38: 3 | E38: "Dorma D035S, equivalent or approved by the PM. wc indicator cylinder sash lock with stainless steel forend and ""Dorma DWC-115"", equivalent or approved by the PM. indicator." | F38: =F36 -> 100% Steel Products | G38: No | H38: 1 | J38: =H38*I38 -> 0
A40: 4 | B40: 2 | C40: 4 | E40: HANDLES | G40: H2
A42: 4 | B42: 2 | C42: 4 | E42: Natural Anodised Aluminium: | G42: H3
A44: 4 | B44: 2 | C44: 4 | D44: 4 | E44: """DORMA SH815"", equivalent or approved by the PM. Lever handle with rose." | F44: =F38 -> 100% Steel Products | G44: No | H44: 3 | J44: =H44*I44 -> 0
A46: 4 | B46: 2 | C46: 4 | D46: 5 | E46: "Dorma TH120/BP, equivalent or approved by the PM. tubular spring loaded pull handle on and including ""Dorma TH120/BP"", equivalent or approved by the PM. cylinder backplate." | F46: =F44 -> 100% Steel Products | G46: No | H46: 1 | J46: =H46*I46 -> 0
A48: 4 | B48: 2 | C48: 4 | E48: SUNDRIES | G48: H2
A50: 4 | B50: 2 | C50: 4 | D50: 6 | E50: Floor mounted door stop. | F50: =F38 -> 100% Steel Products | G50: No | H50: 3 | J50: =H50*I50 -> 0
A53: 5 | B53: 2 | C53: 4 | E53: ="TOTAL " &E12 -> TOTAL IRONMONGERY | J53: =SUM(J8:J52) -> 0
A55: 5 | B55: 2 | C55: 5 | E55: SECTION NO. 2 | G55: H2
A57: 5 | B57: 2 | C57: 5 | E57: BILL NO. 5 | G57: H2
A59: 5 | B59: 2 | C59: 5 | E59: METALWORK | G59: H2
A61: 5 | B61: 2 | C61: 5 | E61: PREAMBLES
A63: 5 | B63: 2 | C63: 5 | E63: Tenderers are to refer to the Model Preambles for Trades (Latest Edition) and Supplementary Preambles for further description and amplification of work in this section
A65: 5 | B65: 2 | C65: 5 | E65: SUPPLEMENTARY PREAMBLES
G66: H2
A67: 5 | B67: 2 | C67: 5 | E67: Notes: 1.Tenderers are advised to study the Prasa Norms, Guidelines and Standards (NGS) for Station Facilities and Part B of the Prasa Specifications before pricing this bill
A69: 5 | B69: 2 | C69: 5 | E69: Descriptions of bolts shall be deemed to include nuts and washers Descriptions of expansion anchors and bolts and chemical anchors and bolts shall be deemed to include nuts, washers and mortices in brickwork or concrete Metalwork described as "holed for bolt(s)" shall be deemed to exclude the bolts unless otherwise described
A71: 5 | B71: 2 | C71: 5 | E71: PRESSED STEEL DOOR FRAMES | G71: H2
A73: 5 | B73: 2 | C73: 5 | E73: 1,6mm Thick Single rebated frames suitable for half brick walls complete with hoop iron anchors welded to frame, one adjustable stainless steel striking plate suitable for cylinder locks, three rubber shock absorbers in rebate and one pair of 100mm standard heavy duty brass butt hinges welded to frame: | G73: H3
A75: 5 | B75: 2 | C75: 5 | D75: 1 | E75: Frame for door size 813 x 2032mm high. | F75: 100% Steel Products | G75: No | H75: 1 | J75: =H75*I75 -> 0
...

Sheet PLATFORM WC & ENT_EXIT HOUSING
J1: REFURBISHMENT OF TRAIN STATIONS FOR PRASA SUB CORRIDOR 1
J2: NGR/CRES/13/2021
J4: CENTURION STATION (PLATFORM WC & ENT_EXIT HOUSING)
A5: PAGE NO | B5: SEC NO | C5: BILL NO | D5: ITEM NO | E5: DESCRIPTION | F5: LOCAL CONTENT THRESHOLD | G5: UNIT | H5: QUANTITY | I5: RATE | J5: AMOUNT
F6: 1
A7: 4 | B7: 2 | C7: 3 | E7: SECTION NO. 2 | G7: H2
A9: 4 | B9: 2 | C9: 3 | E9: BILL NO. 3 | G9: H2
A11: 4 | B11: 2 | C11: 3 | E11: ROOF COVERING | G11: H2
A13: 4 | B13: 2 | C13: 3 | E13: PREAMBLES
A15: 4 | B15: 2 | C15: 3 | E15: Tenderers are to refer to the Model Preambles for Trades (Latest Edition) and Supplementary Preambles for further description and amplification of work in this section
A17: 4 | B17: 2 | C17: 3 | E17: SUPPLEMENTARY PREAMBLES
A19: 4 | B19: 2 | C19: 3 | E19: Notes: 1.Tenderers are advised to study the Prasa Norms, Guidelines and Standards (NGS) for Station Facilities and Part B of the Prasa Specifications before pricing this bill
A21: 4 | B21: 2 | C21: 3 | E21: Straight cutting
G22: H2
A23: 4 | B23: 2 | C23: 3 | E23: Descriptions of all roof coverings are deemed to include for all straight cutting
A25: 4 | B25: 2 | C25: 3 | E25: PROFILED SHEETING OF METAL, FIBRE-CEMENT, PLASTICS, ETC. | G25: H2
A27: 4 | B27: 2 | C27: 3 | E27: Flashings, etc.: | G27: H3
A29: 4 | B29: 2 | C29: 3 | D29: 2 | E29: flashing. | F29: 100% Steel Products | G29: m | H29: 68 | J29: =H29*I29 -> 0
A32: 4 | B32: 2 | C32: 3 | E32: ="TOTAL "& E11 -> TOTAL ROOF COVERING | J32: =SUM(J11:J31) -> 0
A34: 5 | B34: 2 | C34: 6 | E34: SECTION NO. 2 | G34: H2
A36: 6 | B36: 2 | C36: 6 | E36: BILL NO. 6 | G36: H2
A38: 6 | B38: 2 | C38: 6 | E38: IRONMONGERY | G38: H2
A40: 6 | B40: 2 | C40: 6 | E40: PREAMBLES
A42: 6 | B42: 2 | C42: 6 | E42: Tenderers are to refer to the Model Preambles for Trades (Latest Edition) and Supplementary Preambles for further description and amplification of work in this section
A44: 6 | B44: 2 | C44: 6 | E44: SUPPLEMENTARY PREAMBLES
A46: 6 | B46: 2 | C46: 6 | E46: Notes: 1.Tenderers are advised to study the Prasa Norms, Guidelines and Standards (NGS) for Station Facilities and Part B of the Prasa Specifications before pricing this bill
A48: 6 | B48: 2 | C48: 6 | E48: Finishes to ironmongery
A50: 6 | B50: 2 | C50: 6 | E50: Where applicable finishes to ironmongery are indicated by suffixes in accordance with the following list: BS Satin bronze lacquered CH Chromium plated SC Satin chromium plated SE Silver enamelled GE Grey enamelled AS Anodised silver AB Anodised bronze AG
A52: 6 | B52: 2 | C52: 6 | E52: HINGES, BOLTS, ETC. | G52: H2
A54: 6 | B54: 2 | C54: 6 | E54: Stainless steel: | G54: H3
A56: 6 | B56: 2 | C56: 6 | D56: 1 | E56: 100mm Butt hinges. | F56: 100% Steel Products | G56: No | H56: 11 | J56: =H56*I56 -> 0
A58: 6 | B58: 2 | C58: 6 | E58: LOCKS | G58: H2
A60: 6 | B60: 2 | C60: 6 | E60: Stainless steel: | G60: H3
A62: 6 | B62: 2 | C62: 6 | D62: 2 | E62: Dorma D036S, equivalent or approved by the PM. cylinder sash lock with stainless steel forend. | F62: =F56 -> 100% Steel Products | G62: No | H62: 11 | J62: =H62*I62 -> 0
A64: 6 | B64: 2 | C64: 6 | D64: 3 | E64: "Dorma D035S, equivalent or approved by the PM. wc indicator cylinder sash lock with stainless steel forend and ""Dorma DWC-115"", equivalent or approved by the PM. indicator." | F64: =F62 -> 100% Steel Products | G64: No | H64: 1 | J64: =H64*I64 -> 0
A66: 6 | B66: 2 | C66: 6 | E66: HANDLES | G66: H2
A68: 6 | B68: 2 | C68: 6 | E68: Natural Anodised Aluminium: | G68: H3
A70: 6 | B70: 2 | C70: 6 | D70: 4 | E70: """DORMA SH815"", equivalent or approved by the PM. Lever handle with rose." | F70: =F64 -> 100% Steel Products | G70: No | H70: 11 | J70: =H70*I70 -> 0
A72: 6 | B72: 2 | C72: 6 | D72: 5 | E72: "Dorma TH120/BP, equivalent or approved by the PM. tubular spring loaded pull handle on and including ""Dorma TH120/BP"", equivalent or approved by the PM. cylinder backplate." | F72: =F70 -> 100% Steel Products | G72: No | H72: 1 | J72: =H72*I72 -> 0
A74: 6 | B74: 2 | C74: 6 | E74: DOOR CLOSERS | G74: H2
...

Sheet MAINTENANCE WC
J1: REFURBISHMENT OF TRAIN STATIONS FOR PRASA SUB CORRIDOR 1
J2: NGR/CRES/13/2021
J4: CENTURION STATION (MAINTENANCE WC)
A5: PAGE NO | B5: SEC NO | C5: BILL NO | D5: ITEM NO | E5: DESCRIPTION | F5: ='PLATFORM WC & ENT_EXIT HOUSING'!F5 -> LOCAL CONTENT THRESHOLD | G5: UNIT | H5: QUANTITY | I5: RATE | J5: AMOUNT
F6: 1
A7: 4 | B7: 2 | C7: 3 | E7: SECTION NO. 2 | G7: H2
A9: 4 | B9: 2 | C9: 3 | E9: BILL NO. 3 | G9: H2
A11: 4 | B11: 2 | C11: 3 | E11: ROOF COVERING | G11: H2
A13: 4 | B13: 2 | C13: 3 | E13: PREAMBLES
A15: 4 | B15: 2 | C15: 3 | E15: Tenderers are to refer to the Model Preambles for Trades (Latest Edition) and Supplementary Preambles for further description and amplification of work in this section
A17: 4 | B17: 2 | C17: 3 | E17: SUPPLEMENTARY PREAMBLES
A19: 4 | B19: 2 | C19: 3 | E19: Notes: 1.Tenderers are advised to study the Prasa Norms, Guidelines and Standards (NGS) for Station Facilities and Part B of the Prasa Specifications before pricing this bill
A21: 4 | B21: 2 | C21: 3 | E21: Straight cutting
G22: H2
A23: 4 | B23: 2 | C23: 3 | E23: Descriptions of all roof coverings are deemed to include for all straight cutting
A25: 4 | B25: 2 | C25: 3 | E25: PROFILED SHEETING OF METAL, FIBRE-CEMENT, PLASTICS, ETC. | G25: H2
A27: 4 | B27: 2 | C27: 3 | E27: Flashings, etc.: | G27: H3
A29: 4 | B29: 2 | C29: 3 | D29: 2 | E29: flashing. | F29: =F56 -> 100% Steel Products | G29: m | H29: 68 | J29: =H29*I29 -> 0
A32: 4 | B32: 2 | C32: 3 | E32: ="TOTAL "& E11 -> TOTAL ROOF COVERING | J32: =SUM(J11:J31) -> 0
A34: 5 | B34: 2 | C34: 6 | E34: SECTION NO. 2 | G34: H2
A36: 5 | B36: 2 | C36: 6 | E36: BILL NO. 6 | G36: H2
A38: 5 | B38: 2 | C38: 6 | E38: IRONMONGERY | G38: H2
A40: 5 | B40: 2 | C40: 6 | E40: PREAMBLES
A42: 5 | B42: 2 | C42: 6 | E42: Tenderers are to refer to the Model Preambles for Trades (Latest Edition) and Supplementary Preambles for further description and amplification of work in this section
A44: 5 | B44: 2 | C44: 6 | E44: SUPPLEMENTARY PREAMBLES
A46: 5 | B46: 2 | C46: 6 | E46: Notes: 1.Tenderers are advised to study the Prasa Norms, Guidelines and Standards (NGS) for Station Facilities and Part B of the Prasa Specifications before pricing this bill
A48: 5 | B48: 2 | C48: 6 | E48: Finishes to ironmongery
A50: 5 | B50: 2 | C50: 6 | E50: Where applicable finishes to ironmongery are indicated by suffixes in accordance with the following list: BS Satin bronze lacquered CH Chromium plated SC Satin chromium plated SE Silver enamelled GE Grey enamelled AS Anodised silver AB Anodised bronze AG
A52: 5 | B52: 2 | C52: 6 | E52: HINGES, BOLTS, ETC. | G52: H2
A54: 5 | B54: 2 | C54: 6 | E54: Stainless steel: | G54: H3
A56: 5 | B56: 2 | C56: 6 | D56: 1 | E56: 100mm Butt hinges. | F56: 100% Steel Products | G56: No | H56: 5 | J56: =H56*I56 -> 0
A58: 5 | B58: 2 | C58: 6 | E58: LOCKS | G58: H2
A60: 5 | B60: 2 | C60: 6 | E60: Stainless steel: | G60: H3
A62: 5 | B62: 2 | C62: 6 | D62: 2 | E62: Dorma D036S, equivalent or approved by the PM. cylinder sash lock with stainless steel forend. | F62: =F56 -> 100% Steel Products | G62: No | H62: 5 | J62: =H62*I62 -> 0
A64: 6 | B64: 2 | C64: 6 | D64: 3 | E64: "Dorma D035S, equivalent or approved by the PM. wc indicator cylinder sash lock with stainless steel forend and ""Dorma DWC-115"", equivalent or approved by the PM. indicator." | F64: =F62 -> 100% Steel Products | G64: No | H64: 1 | J64: =H64*I64 -> 0
A66: 6 | B66: 2 | C66: 5 | E66: HANDLES | G66: H2
A68: 6 | B68: 2 | C68: 5 | E68: Natural Anodised Aluminium: | G68: H3
A70: 6 | B70: 2 | C70: 6 | D70: 4 | E70: """DORMA SH815"", equivalent or approved by the PM. Lever handle with rose." | F70: =F64 -> 100% Steel Products | G70: No | H70: 5 | J70: =H70*I70 -> 0
A72: 6 | B72: 2 | C72: 6 | D72: 5 | E72: "Dorma TH120/BP, equivalent or approved by the PM. tubular spring loaded pull handle on and including ""Dorma TH120/BP"", equivalent or approved by the PM. cylinder backplate." | F72: =F70 -> 100% Steel Products | G72: No | H72: 1 | J72: =H72*I72 -> 0
A74: 6 | B74: 2 | C74: 6 | E74: DOOR CLOSERS | G74: H2
...

Sheet MAIN BUILDING
J1: REFURBISHMENT OF TRAIN STATIONS FOR PRASA SUB CORRIDOR 1
J2: NGR/CRES/13/2021
J4: CENTURION STATION (MAIN BUILDING)
A5: PAGE NO | B5: SEC NO | C5: BILL NO | D5: ITEM NO | E5: DESCRIPTION | F5: LOCAL CONTENT THRESHOLD | G5: UNIT | H5: QUANTITY | I5: RATE | J5: AMOUNT
F6: 1
A7: 4 | B7: 2 | C7: 3 | E7: SECTION NO. 2 | G7: H2
A9: 4 | B9: 2 | C9: 3 | E9: BILL NO. 3 | G9: H2
A11: 4 | B11: 2 | C11: 3 | E11: ROOF COVERING | G11: H2
A13: 4 | B13: 2 | C13: 3 | E13: PREAMBLES
A15: 4 | B15: 2 | C15: 3 | E15: Tenderers are to refer to the Model Preambles for Trades (Latest Edition) and Supplementary Preambles for further description and amplification of work in this section
A17: 4 | B17: 2 | C17: 3 | E17: SUPPLEMENTARY PREAMBLES
A19: 4 | B19: 2 | C19: 3 | E19: Notes: 1.Tenderers are advised to study the Prasa Norms, Guidelines and Standards (NGS) for Station Facilities and Part B of the Prasa Specifications before pricing this bill
A21: 4 | B21: 2 | C21: 3 | E21: Straight cutting | G21: H2
A23: 4 | B23: 2 | C23: 3 | E23: Descriptions of all roof coverings are deemed to include for all straight cutting
A25: 4 | B25: 2 | C25: 3 | E25: Flashings, etc.: | G25: H3
A27: 4 | B27: 2 | C27: 3 | D27: 2 | E27: flashing. | F27: 100% Steel Product | G27: m | H27: 68 | J27: =H27*I27 -> 0
A30: 4 | B30: 2 | C30: 3 | E30: ="TOTAL "& E11 -> TOTAL ROOF COVERING | J30: =SUM(J11:J29) -> 0
A32: 5 | B32: 2 | C32: 6 | E32: SECTION NO. 2 | G32: H2
A34: 5 | B34: 2 | C34: 6 | E34: BILL NO. 6 | G34: H2
A36: 5 | B36: 2 | C36: 6 | E36: IRONMONGERY | G36: H2
A38: 5 | B38: 2 | C38: 6 | E38: PREAMBLES
A40: 6 | B40: 2 | C40: 6 | E40: Tenderers are to refer to the Model Preambles for Trades (Latest Edition) and Supplementary Preambles for further description and amplification of work in this section
A42: 6 | B42: 2 | C42: 6 | E42: SUPPLEMENTARY PREAMBLES
A44: 6 | B44: 2 | C44: 6 | E44: Notes: 1.Tenderers are advised to study the Prasa Norms, Guidelines and Standards (NGS) for Station Facilities and Part B of the Prasa Specifications before pricing this bill
A46: 6 | B46: 2 | C46: 6 | E46: Finishes to ironmongery
A48: 6 | B48: 2 | C48: 6 | E48: Where applicable finishes to ironmongery are indicated by suffixes in accordance with the following list: BS Satin bronze lacquered CH Chromium plated SC Satin chromium plated SE Silver enamelled GE Grey enamelled AS Anodised silver AB Anodised bronze AG
A50: 6 | B50: 2 | C50: 6 | E50: HINGES, BOLTS, ETC. | G50: H2
A52: 6 | B52: 2 | C52: 6 | E52: Stainless steel: | G52: H3
A54: 6 | B54: 2 | C54: 6 | D54: 1 | E54: 100mm Butt hinges. | F54: 100% Steel Products | G54: No | H54: 17 | J54: =H54*I54 -> 0
A56: 6 | B56: 2 | C56: 6 | E56: LOCKS | G56: H2
A58: 6 | B58: 2 | C58: 6 | E58: Stainless steel: | G58: H3
A60: 6 | B60: 2 | C60: 6 | D60: 2 | E60: Dorma D036S, equivalent or approved by the PM. cylinder sash lock with stainless steel forend. | F60: =F54 -> 100% Steel Products | G60: No | H60: 17 | J60: =H60*I60 -> 0
A62: 6 | B62: 2 | C62: 6 | D62: 3 | E62: "Dorma D035S, equivalent or approved by the PM. wc indicator cylinder sash lock with stainless steel forend and ""Dorma DWC-115"", equivalent or approved by the PM. indicator." | F62: =F60 -> 100% Steel Products | G62: No | H62: 2 | J62: =H62*I62 -> 0
A64: 6 | B64: 2 | C64: 6 | E64: HANDLES | G64: H2
A66: 6 | B66: 2 | C66: 6 | E66: Natural Anodised Aluminium: | G66: H3
A68: 6 | B68: 2 | C68: 6 | D68: 4 | E68: """DORMA SH815"", equivalent or approved by the PM. Lever handle with rose." | F68: =F62 -> 100% Steel Products | G68: No | H68: 17 | J68: =H68*I68 -> 0
A70: 6 | B70: 2 | C70: 6 | D70: 5 | E70: "Dorma TH120/BP, equivalent or approved by the PM. tubular spring loaded pull handle on and including ""Dorma TH120/BP"", equivalent or approved by the PM. cylinder backplate." | F70: =F68 -> 100% Steel Products | G70: No | H70: 1 | J70: =H70*I70 -> 0
A72: 6 | B72: 2 | C72: 6 | E72: DOOR CLOSERS | G72: H2
A74: 6 | B74: 2 | C74: 6 | D74: 5 | E74: Standard overhead door closer in accordance with SABS 1510 with adjustable closing force strength 2-4, adjustable arm, etc. | F74: =F62 -> 100% Steel Products | G74: No | H74: 2 | J74: =H74*I74 -> 0
A76: 6 | B76: 2 | C76: 6 | E76: SIGNAGE | G76: H2
...

Sheet Centurion Elec
D1: ELECTRICAL INSTALLATION BOQ
D2: CENTURION STATION: PRASA
A4: PAGE NO | B4: SEC NO | C4: BILL NO | D4: Item | E4: Description | F4: LOCAL CONTENT THRESHOLD | H4: Unit | I4: Qty | J4: Rate | K4: Amount
E5: SECTION NO. 3 | F5: 1
A7: 1 | B7: 3 | C7: 1 | D7: 1 | E7: BILL 1: RETICULATION AND DISTRIBUTION BOARDS
A9: 1 | B9: 3 | C9: 1 | D9: 1.1 | E9: Distribution Boards
A10: 1 | B10: 3 | C10: 1 | E10: Distribution boards complete with all MCBs, switchgear, accessories, sheet metal frames, sub-frames, busbars, terminals, wiring, conduit terminations, labelling, fixtures and fittings as specified, with all equipment fitted and equipped in factory all strictly as per schematic diagram.
A11: 1 | B11: 3 | C11: 1 | E11: (Please note that the distribution board's shop drawing should be submitted to the Engineer for approval prior to manufacture).
D13: 1.2 | E13: Low voltage cables
A14: 1 | B14: 3 | C14: 1 | E14: 600/1 000V PVC/PVC/SWA/PVC multi-core copper cable installed in sleeves (sleeves measured elsewhere)
D16: 1.2.1 | E16: 35mm² 4 Core | F16: 100% Electrical cables | G16: Supply | H16: m | I16: 150 | K16: =J16*I16 -> 0
A17: 1 | B17: 3 | C17: 1 | G17: Install | H17: m | I17: =+I16 -> 150 | K17: =J17*I17 -> 0
A19: 1 | B19: 3 | C19: 1 | D19: 1.2.2 | E19: 16mm² 4 Core | F19: 100% Electrical cables | G19: Supply | H19: m | I19: 100 | K19: =J19*I19 -> 0
G20: Install | H20: m | I20: =SUM(I19) -> 100 | K20: =J20*I20 -> 0
A22: 1 | B22: 3 | C22: 1 | D22: 1.2.3 | E22: 10mm² 4 Core | F22: 100% Electrical cables | G22: Supply | H22: m | I22: rate only
G23: Install | H23: m | I23: rate only
A25: 1 | B25: 3 | C25: 1 | D25: 1.4 | E25: Earthing Conductors
E26: Bare stranded copper earth conductor installed in sleeves (sleeves measured elsewhere)
A28: 1 | B28: 3 | C28: 1 | D28: 1.4.1 | E28: 16mm² | F28: 100% Electrical cables | G28: Supply | H28: m | I28: 300 | K28: =J28*I28 -> 0
G29: Install | H29: m | I29: 300 | K29: =J29*I29 -> 0
A31: 1 | B31: 3 | C31: 1 | D31: 1.4.2 | E31: 10mm² | F31: 100% Electrical cables | G31: Supply | H31: m | I31: 250 | K31: =J31*I31 -> 0
G32: Install | H32: m | I32: 250 | K32: =J32*I32 -> 0
D33: Carried forward to next page | K33: =SUM(K5:K32) -> 0
A34: PAGE NO | B34: SEC NO | C34: BILL NO | D34: Item | E34: Description | H34: Unit | I34: Qty | J34: Rate | K34: Amount
E35: Brought forward from previous page | K35: =+K33 -> 0
A38: 2 | B38: 3 | C38: 1 | D38: 1.7 | E38: Sleeves
A40: 2 | B40: 3 | C40: 1 | E40: Kabelflex high density (or equal and approved) polyethylene (HDPE) sleeve with double wall construction, corrugated outer wall and smooth inner wall finish inclusive of couplers, bends, etc
A42: 2 | B42: 3 | C42: 1 | D42: 1.7.1 | E42: 110mm diameter | F42: 100% HDPE | G42: Supply | H42: m | I42: 100 | K42: =J42*I42 -> 0
G43: Install | H43: m | I43: =SUM(I42) -> 100 | K43: =J43*I43 -> 0
A45: 2 | B45: 3 | C45: 1 | D45: 1.7.2 | E45: 50mm diameter | F45: 100% HDPE | G45: Supply | H45: m | I45: 50 | K45: =J45*I45 -> 0
G46: Install | H46: m | I46: =SUM(I45) -> 50 | K46: =J46*I46 -> 0
D49: Carried forward to next page | K49: =SUM(K35:K48) -> 0
A50: PAGE NO | B50: SEC NO | C50: BILL NO | D50: Item | E50: Description | H50: Unit | I50: Qty | J50: Rate | K50: Amount
E51: Brought forward from previous page | K51: =+K49 -> 0
A54: 3 | B54: 3 | C54: 1 | D54: 1.13 | E54: Galvanised steel conduits
A55: 3 | B55: 3 | C55: 1 | D55: 1.13.1 | E55: Galvanised steel conduit including bending, short lengths, draw boxes, cutting,bands, jointing, couplings, saddles and accessories as per SABS 1065. Fixed to surface or laid in or flush mounted in brickwork, dry walls (partitions), concrete, roof space or ceiling void. The rate to allow for the conduit mounting brackets to suspend conduits from concrete slab as would be required in the ceiling void.
A56: 3 | B56: 3 | C56: 1 | E56: 20mm
F57: 100% steel conduits | G57: Supply | H57: m | I57: 150 | K57: =J57*I57 -> 0
G58: Install | H58: m | I58: 150 | K58: =J58*I58 -> 0
D63: Carried forward to next page | K63: =SUM(K51:K62) -> 0
...

Sheet HOT & COLD WATER 
D1: PRASA: CENTURION STATION - MECHANICAL INSTALLATION - WET SERVICES
A3: PAGE NO | B3: SEC NO | C3: BILL NO | D3: Item | E3: Description | F3: LOCAL CONTENT THRESHOLD | G3: Unit | H3: Qty | I3: Rate | J3: Amount
A4: 1 | B4: 4 | C4: 1 | E4: BILL 1 - HOT AND COLD WATER INSTALLATION
A6: 1 | B6: 4 | C6: 1 | E6: ITEMS IN RED WERE ADDED AFTER TENDER FOR FULL FUNCTIONALITY
A7: 1 | B7: 4 | C7: 1 | E7: All rates supplied in this bill of quantities will be deemed to include scaffolding to any height and fixing of cold and hot water pipes up to and including roof height.
A8: 1 | B8: 4 | C8: 1 | E8: All pipes shall be deemed to include in the rates all necessary hanger brackets, threaded rod (irrespective of the suspension length), nuts, washers, anchors and drilling of holes in the concrete slab.
A11: 1 | B11: 4 | C11: 1 | D11: 1 | E11: Cold and Hot Water Piping
A12: 1 | B12: 4 | C12: 1 | D12: =D11+0.1 -> 1.1 | E12: Supply, deliver, install and pressure test of copper Class 0 SANS 460 piping c/w consumables, supports, hangers, anchors, etc
A13: 1 | B13: 4 | C13: 1 | D13: 3,1,1 | E13: Dia. 15mm pipe | F13: 90% copper pipe | G13: m | H13: 400 | J13: =H13*I13 -> 0
A14: 1 | B14: 4 | C14: 1 | D14: 3,1,2 | E14: Dia. 22mm pipe | F14: 90% copper pipe | G14: m | H14: 200 | J14: =H14*I14 -> 0
L16: =SUM(#REF!)+#REF!+#REF! -> #REF!
A17: 1 | B17: 4 | C17: 1 | D17: 2 | E17: Supply, deliver, install and pressure test of HDPE piping c/w consumables, fittings and supports
A18: 1 | B18: 4 | C18: 1 | D18: 2.1 | E18: Dia. 75mm pipe | F18: 100% HDPE pipe | G18: m | H18: 250 | J18: =I18*H18 -> 0
A19: 1 | B19: 4 | C19: 1
E20: Carry forward to next page | J20: =SUM(J10:J18) -> 0
E21: Carried forward from the previous page | J21: =J20 -> 0
A23: 1 | B23: 4 | C23: 1 | D23: =D11+1 -> 2 | E23: Isolating Valves
A24: 1 | B24: 4 | C24: 1 | D24: =D23+0.1 -> 2.1 | E24: Dia. 15mm | F24: 100% valves | G24: No | H24: 50 | J24: =H24*I24 -> 0
A25: 1 | B25: 4 | C25: 1 | D25: =D24+0.1 -> 2.2 | E25: Dia. 22mm | F25: 100% valves | G25: No | H25: 10 | J25: =H25*I25 -> 0
A27: 1 | B27: 4 | C27: 1 | D27: =D23+1 -> 3 | E27: Non-Return Valves
A28: 1 | B28: 4 | C28: 1 | D28: 3.1 | E28: Dia.75mm | F28: 100% valves | G28: No | H28: 2 | J28: =H28*I28 -> 0
A30: 1 | B30: 4 | C30: 1 | D30: 4 | E30: Pressure Reducing Valve (Adjustable)
A31: 1 | B31: 4 | C31: 1 | D31: =D30+0.1 -> 4.1 | E31: Dia. 75mm, with gauge | F31: 100% valves | G31: No | H31: 1 | J31: =H31*I31 -> 0
A34: 1 | B34: 4 | C34: 1 | D34: 5 | E34: Extra over copper pipework as follows:
A35: 1 | B35: 4 | C35: 1 | D35: =D34+0.1 -> 5.1 | E35: Tee's
A36: 1 | B36: 4 | C36: 1 | D36: 5,1,1 | E36: Dia. 15mm Equal Tee | F36: 90% copper pipe | G36: No | H36: 7 | J36: =H36*I36 -> 0
A37: 1 | B37: 4 | C37: 1 | D37: 5.1.2 | E37: Dia. 22mm Equal Tee | F37: 90% copper pipe | G37: No | H37: 23 | J37: =H37*I37 -> 0
A38: 1 | B38: 4 | C38: 1 | D38: 6 | E38: Elbows
A39: 1 | B39: 4 | C39: 1 | D39: 6,1,1 | E39: Dia. 15mm 90° elbow | F39: 90% copper pipe | G39: No | H39: 108 | J39: =H39*I39 -> 0
A40: 1 | B40: 4 | C40: 1 | D40: 6,1,2 | E40: Dia. 22mm 90° elbow | F40: 90% copper pipe | G40: No | H40: 89 | J40: =H40*I40 -> 0
E42: Carry forward to summary | J42: =SUM(J21:J40) -> 0

Sheet FIRE PROTECTION 
D1: PRASA: CENTURION STATION- MECHANICAL INSTALLATION - FIRE PROTECTION SYSTEM
A3: PAGE NO | B3: SEC NO | C3: BILL NO | D3: Item | E3: Description | F3: LOCAL CONTENT THRESHOLD | G3: Unit | H3: Qty | I3: Rate | J3: Amount
E4: BILL 2 - FIRE PROTECTION | F4: 1
A6: 1 | B6: 4 | C6: 2 | E6: Tenderers are referred to the specification and drawings numbered annexed to these bills of quantities for the mechanical work, for the full descriptions of the following items which are to be read and priced in conjunction with the said specification and drawings. All Fire Protection Equipment, including portable extinguishers, hose reels, hydrants and compliance to SANS 10400
A7: 1 | B7: 4 | C7: 2 | E7: Fire Protection Services shall be as per relevant specifications, schedules, scope of works, drawings and technical information.
A8: 1 | B8: 4 | C8: 2 | E8: Fire Protection equipment offered shall generally be of a good quality standard and shall be approved.
A9: 1 | B9: 4 | C9: 2 | E9: The engineer and/or Client will authorize the installation as well as ordering equipment by way of signing off each pre-defined building area's audit and scope of works report
E12: HDPE class 16
A13: 1 | B13: 4 | C13: 2 | D13: 4.3 | E13: 110mm dia piping | F13: 100% HDPE pipe | G13: m | H13: 300 | J13: =H13*I13 -> 0
E16: Carry forward to next page | J16: =SUM(J11:J15) -> 0
E17: Carried forward from the previous page | J17: =J16 -> 0
A20: 2 | B20: 4 | C20: 2 | D20: 5 | E20: Extra over pipework as follows:
E21: 90 Degree Bends
A22: 2 | B22: 4 | C22: 2 | D22: 5.3 | E22: 25mm dia HDPE | F22: 100% HDPE pipe | G22: No. | H22: 3 | J22: =H22*I22 -> 0
A23: 2 | B23: 4 | C23: 2 | D23: 5.4 | E23: 75mm dia HDPE | F23: 100% HDPE pipe | G23: No. | H23: 10 | J23: =H23*I23 -> 0
E25: Reducers
A26: 2 | B26: 4 | C26: 2 | D26: 5.5 | E26: 75mm to 65mm dia | G26: No. | H26: 4 | J26: =H26*I26 -> 0
A27: 2 | B27: 4 | C27: 2 | D27: 5.6 | E27: 110mm to 25mm dia HDPE | F27: 100% HDPE pipe | G27: No. | H27: 3 | J27: =H27*I27 -> 0
A28: 2 | B28: 4 | C28: 2 | D28: 5.7 | E28: 110mm to 75mm dia HDPE | F28: 100% HDPE pipe | G28: No. | H28: 4 | J28: =H28*I28 -> 0
E30: Tees
A31: 2 | B31: 4 | C31: 2 | D31: 5.8 | E31: 110x110x110mm dia HDPE | F31: 100% HDPE pipe | G31: No. | H31: 3 | J31: =H31*I31 -> 0
A32: 2 | B32: 4 | C32: 2 | D32: 5.9 | E32: 110x110x75mm dia HDPE | F32: 100% HDPE pipe | G32: No. | H32: 4 | J32: =H32*I32 -> 0
A33: 2 | B33: 4 | C33: 2 | D33: 5.1 | E33: 110x110x25mm dia HDPE | F33: 100% HDPE pipe | G33: No. | H33: 2 | J33: =H33*I33 -> 0
A34: 2
A35: 2 | B35: 4 | C35: 2 | D35: 6 | E35: Valves
E36: Supply, deliver and install the following complete:
A38: 2 | B38: 4 | C38: 2 | D38: 6.1 | E38: 110mm dia isolation valves | F38: 100% valves | G38: No. | H38: 15 | J38: =H38*I38 -> 0
A39: 2 | B39: 4 | C39: 2 | D39: 6.2 | E39: 65mm dia isolation valves | F39: 100% valves | G39: No. | H39: 1 | J39: =H39*I39 -> 0
A40: 2 | B40: 4 | C40: 2 | D40: 6.3 | E40: 25mm dia isolation valves | F40: 100% valves | G40: No. | H40: 3 | J40: =H40*I40 -> 0
A41: 2 | B41: 4 | C41: 2 | D41: 6.4 | E41: 110mm non-return valves | F41: 100% valves | G41: No. | H41: 3 | J41: =H41*I41 -> 0
A42: 2 | B42: 4 | C42: 2 | D42: 6.5 | E42: 110mm strainers | F42: 100% valves | G42: No. | H42: 2 | J42: =H42*I42 -> 0
A43: 2 | B43: 4 | C43: 2 | D43: 6.6 | E43: 110mm adjustable pressure reducing valve | F43: 100% valves | G43: No. | H43: 1 | J43: =H43*I43 -> 0
A44: 2
E48: Carry forward to summary | J48: =SUM(J17:J47) -> 0

Sheet DRAINAGE 
D1: PRASA: CENTURION STATION- MECHANICAL INSTALLATION - WET SERVICES
A3: PAGE NO | B3: SEC NO | C3: BILL NO | D3: Item | E3: Description | F3: LOCAL CONTENT THRESHOLD | G3: Unit | H3: Qty | I3: Rate | J3: Amount
E4: BILL 3 - BUILDING DRAINAGE RETICULATION | F4: 1
A6: 1 | B6: 4 | C6: 3 | E6: All pipes shall be deemed to include in the rates all necessary adaptors, couplers, brackets, reducers, expansion sockets, couplings necessary in joining of pipes and drilling of holes in the concrete slab and walls.
A8: 1 | B8: 4 | C8: 3 | D8: 1 | E8: Piping
E9: Supply, deliver and install soil and waste drainage piping. PVC pipe fixed vertically or horizontally on any structure i.e concrete or brick walls etc.
A11: 1 | B11: 4 | C11: 3 | D11: =D8+0.1 -> 1.1 | E11: 50mm PVC SV SABS pipes | F11: 100% PVC products | G11: m | H11: 50 | J11: =I11*H11 -> 0
A12: 1 | B12: 4 | C12: 3 | D12: =D11+0.1 -> 1.2 | E12: 110mm PVC SV SABS pipe | F12: 100% PVC products | G12: m | H12: 100 | J12: =I12*H12 -> 0
A14: 1 | B14: 4 | C14: 3 | D14: =D8+1 -> 2 | E14: Extra over pipework
E15: Supply, deliver and install soil and waste pipe fittings, junctions, bends, etc complete with rodding eye, pan connectors, branches, etc.
A17: 1 | B17: 4 | C17: 3 | D17: =D14+0.1 -> 2.1 | E17: 110mmx45˚ PVC UG L/Hand IE junction | F17: 100% PVC products | G17: No | H17: 20 | J17: =I17*H17 -> 0
A18: 1 | B18: 4 | C18: 3 | D18: =D17+0.1 -> 2.2 | E18: 110mmx45˚ PVC UG plain bend | F18: 100% PVC products | G18: No | H18: 20 | J18: =I18*H18 -> 0
A19: 1 | B19: 4 | C19: 3 | D19: =D18+0.1 -> 2.3 | E19: 110mmx45˚ R/Hand IE junction | F19: 100% PVC products | G19: No | H19: 10 | J19: =I19*H19 -> 0
A20: 1 | B20: 4 | C20: 3 | D20: =D19+0.1 -> 2.4 | E20: 110mmx45˚ ABC PVC UG IE end (RE) | F20: 100% PVC products | G20: No | H20: 8 | J20: =I20*H20 -> 0
A21: 1 | B21: 4 | C21: 3 | D21: =D20+0.1 -> 2.5 | E21: 110mm PVC P trap gully + overflow | F21: 100% PVC products | G21: No | H21: 33 | J21: =I21*H21 -> 0
A22: 1 | B22: 4 | C22: 3 | D22: =D21+0.1 -> 2.6 | E22: Dish gully tops | F22: 100% PVC products | G22: No | H22: 33 | J22: =I22*H22 -> 0
A23: 1 | B23: 4 | C23: 3 | D23: 2.7 | E23: 110mm PVC UG gully hopper heads | F23: 100% PVC products | G23: No | H23: 33 | J23: =I23*H23 -> 0
A24: 1 | B24: 4 | C24: 3 | D24: 2.8 | E24: 50mmx45˚ PVC SV IE bends | F24: 100% PVC products | G24: No | H24: 28 | J24: =I24*H24 -> 0
A25: 1 | B25: 4 | C25: 3 | D25: 2.9 | E25: 110mmx90˚ PVC UP plain bend | F25: 100% PVC products | G25: No | H25: 2 | J25: =I25*H25 -> 0
A26: 1 | B26: 4 | C26: 3 | D26: 2.1 | E26: 110mmx90˚ PVC SV IE bend | F26: 100% PVC products | G26: No | H26: 13 | J26: =I26*H26 -> 0
A27: 1 | B27: 4 | C27: 3 | D27: 2.11 | E27: 110mmx110mm PVC SV IE junction | F27: 100% PVC products | G27: No | H27: 3 | J27: =I27*H27 -> 0
A28: 1 | B28: 4 | C28: 3 | D28: 2.12 | E28: 110mm 2 way vent valve | F28: 100% PVC products | G28: No | H28: 9 | J28: =I28*H28 -> 0
A29: 1 | B29: 4 | C29: 3 | D29: 2.13 | E29: 110mmx50mm PVC SV horn bend | F29: 100% PVC products | G29: No | H29: 9 | J29: =I29*H29 -> 0
A30: 1 | B30: 4 | C30: 3 | D30: 2.14 | E30: 50mm 2 way vent valves | F30: 100% PVC products | G30: No | H30: 31 | J30: =I30*H30 -> 0
A31: 1 | B31: 4 | C31: 3 | D31: 2.15 | E31: 110mmx45˚ PVC UG plain junction | F31: 100% PVC products | G31: No | H31: 5 | J31: =I31*H31 -> 0
A32: 1 | B32: 4 | C32: 3 | D32: 2.16 | E32: 50mmx90˚ PVC SV plain junction | F32: 100% PVC products | G32: No | H32: 18 | J32: =I32*H32 -> 0
A33: 1 | B33: 4 | C33: 3 | D33: 2.17 | E33: 50mmx90˚ PVC SV plain bends | F33: 100% PVC products | G33: No | H33: 40 | J33: =I33*H33 -> 0
A34: 1 | B34: 4 | C34: 3 | D34: 2.18 | E34: 50mmx90˚ PVC SV IE bends | F34: 100% PVC products | G34: No | H34: 35 | J34: =I34*H34 -> 0
A35: 1 | B35: 4 | C35: 3 | D35: 2.19 | E35: 50mmx90˚ PVC SV IE junction | F35: 100% PVC products | G35: No | H35: 2 | J35: =I35*H35 -> 0
E37: Carry forward to summary | J37: =SUM(J11:J35) -> 0

Sheet MECH SUMMARY 
C1: PRASA: CENTURION STATION - MECHANICAL INSTALLATION - SUMMARY
A2: PAGE NO | B2: SEC NO | C2: Bill No | D2: Description | E2: Amount
A4: 1 | B4: 3 | C4: 1 | D4: ='HOT & COLD WATER '!E4 -> BILL 1 - HOT AND COLD WATER INSTALLATION | E4: ='HOT & COLD WATER '!J42 -> 0
A5: 1 | B5: 3 | C5: 2 | D5: ='FIRE PROTECTION '!E4 -> BILL 2 - FIRE PROTECTION | E5: ='FIRE PROTECTION '!J48 -> 0
A6: 1 | B6: 3 | C6: 3 | D6: BILL 3 - BUILDING DRAINAGE RETICULATION | E6: ='DRAINAGE '!J37 -> 0
D7: Total excluding VAT | E7: =SUM(E4:E6) -> 0
E8: =SUM(E4:E7) -> 0
D9: Total exci VAT | E9: =SUM(E4:E8) -> 0
D10: VAT 14% | E10: =SUM(E5:E9) -> 0
D11: TOTAL AMOUNT CARRIED TO FORM OF TENDER | E11: =SUM(E6:E10) -> 0
A14: 1 | B14: 4
A17: 1 | B17: 4
A18: 1 | B18: 4
A19: 1 | B19: 4
A20: 1 | B20: 4
A21: 1 | B21: 4
A22: 1 | B22: 4
A23: 1 | B23: 4
A24: 1 | B24: 4
A25: 1 | B25: 4
A26: 1 | B26: 4
A27: 1 | B27: 4
... A37: 1 | B37: 4
A38: 1
A39: 1 | B39: 4
A41: 1 | B41: 4

Sheet C PROV SUMS + FINAL SUMMARY 
I1: REFURBISHMENT OF TRAIN STATIONS FOR PRASA SUB CORRIDOR 1
I2: NGR/CRES/13/2021
I4: CENTURION STATION
A5: PAGE NO | B5: SEC NO | C5: BILL NO | D5: ITEM NO | E5: DESCRIPTION | F5: UNIT | G5: QUANTITY | H5: RATE | I5: AMOUNT
A8: 1 | B8: 5 | E8: FINAL SUMMARY
A12: 1 | B12: 5 | D12: 2 | E12: BUILDING WORK | I12: ='SECURITY OFFICE BUILDING'!I207+'ADMIN OFFICE'!I198+'SIGNAL RM, ENT & EXIT HOUSING'!I119+'PLATFORM WC & ENT_EXIT HOUSING'!I198+'MAINTENANCE WC'!I193+'MAIN BUILDING'!I202 -> 0
A14: 1 | B14: 5 | D14: 3 | E14: ELECTRICAL WORK | I14: ='Centurion Elec'!K200 -> 0
A16: 1 | B16: 5 | D16: 4 | E16: MECHANICAL WORK | I16: ='MECH SUMMARY '!E7 -> 0
A18: 1 | B18: 5 | E18: Sub-Total | I18: =SUM(I11:I17) -> 0
A20: 2 | B20: 5 | E20: Contingency @75% | I20: =I18*7.5% -> 0
A22: 2 | B22: 5 | E22: SUBTOTAL | F22: ST | I22: =I18+I20 -> 0
A24: 2 | B24: 5 | E24: Value Added Tax (15%) | F24: TAX | G24: 0.15 | I24: =I22*15% -> 0
A26: 2 | B26: 5 | E26: Total carried to form of tender | F26: ST | I26: =I22+I24 -> 0

Sheet Annex C
Q2: SATS 1286.2011
D3: Annex C
D5: Local Content Declaration - Summary Schedule
C7: (C1) | D7: Tender No. | P7: Note: VAT to be excluded from all calculations
C8: (C2) | D8: Tender description:
C9: (C3) | D9: Designated product(s)
C10: (C4) | D10: Tender Authority:
C11: (C5) | D11: Tendering Entity name:
C12: (C6) | D12: Tender Exchange Rate: | F12: Pula | H12: EU | J12: GBP
C13: (C7) | D13: Specified local content %
G14: Calculation of local content | N14: Tender summary
D15: Tender item no's | E15: List of items | G15: Tender price - each (excl VAT) | H15: Exempted imported value | I15: Tender value net of exempted imported content | J15: Imported value | K15: Local value | L15: Local content % (per item) | N15: Tender Qty | O15: Total tender value | P15: Total exempted imported content | Q15: Total Imported content
D16: (C8) | E16: (C9) | G16: (C10) | H16: (C11) | I16: (C12) | J16: (C13) | K16: (C14) | L16: (C15) | N16: (C16) | O16: (C17) | P16: (C18) | Q16: (C19)
E17: SECURITY BUILDING
E18: SECTION NO. 2
E19: BILL NO. 1
E20: ALTERATIONS, DEMOLITIONS, ETC.
D21: 19 | E21: Plaster on walls in patches. | N21: 387
D22: 20 | E22: Making good cement plaster on walls where tiles removed. | N22: 2.75
E23: SECTION NO. 2
E24: BILL NO. 3
E25: ROOF COVERING
D26: 1 | E26: Roof coverings, etc. | N26: 23
D27: 2 | E27: Roof coverings, etc. | N27: 23
D28: 3 | E28: Flashing | N28: 68
D29: 4 | E29: Ridge cappings. | N29: 122
E30: SECTION NO. 2
E31: BILL NO. 6
E32: IRONMONGERY
D33: 1 | E33: 100mm Butt hinges. | N33: 4
D34: 7 | E34: 150 x 150 x 3mm thick stainless steel pictogram sign with ""Toilet"" | N34: 4
D35: 10 | E35: 1,2/1,5mm thick satin finished stainless steel automatic hands free hand dryer size 280 x 207 x 245mm high with 2 vandal proof lock screws and key wrench, plugged and screwed to the wall with stainless steel screws, 200 W motor connected to 230/240 volt power supply. With 5 year warranty. | N35: 1
D36: 11 | E36: Stainless Steel Toilet Tissue Dispenser, overall size 130 x 135 x 256mm high, installed by a installation team. | N36: 1
D37: 12 | E37: Floor mounted door stop. | N37: 4
E38: SECTION NO. 2
E39: BILL NO. 7
E40: METALWORK
D41: 1 | E41: Frame for door size 813 x 2032mm high. | N41: 2
D42: 2 | E42: Frame for door size 813 x 2032mm high. | N42: 2
D43: 3 | E43: Steel windows with burglar bars | N43: 5
...

Sheet Sheet1

Sheet Annex D
P2: SATS 1286.2011
C3: Annex D
C5: Imported Content Declaration - Supporting Schedule to Annex C
B7: (D1) | C7: Tender No. | K7: Note: VAT to be excluded from all calculations
B8: (D2) | C8: Tender description:
B9: (D3) | C9: Designated Products:
B10: (D4) | C10: Tender Authority:
B11: (D5) | C11: Tendering Entity name:
B12: (D6) | C12: Tender Exchange Rate: | E12: Pula | G12: EU | H12: 9 | I12: GBP | J12: 12
C14: A. Exempted imported content | H14: Calculation of imported content | O14: Summary
C15: Tender item no's | D15: Description of imported content | F15: Local supplier | G15: Overseas Supplier | H15: Forign currency value as per Commercial Invoice | I15: Tender Exchange Rate | J15: Local value of imports | K15: Freight costs to port of entry | L15: All locally incurred landing costs & duties | M15: Total landed cost excl VAT | O15: Tender Qty | P15: Exempted imported value
C16: (D7) | D16: (D8) | F16: (D9) | G16: (D10) | H16: (D11) | I16: (D12) | J16: (D13) | K16: (D14) | L16: (D15) | M16: (D16) | O16: (D17) | P16: (D18)
O20: (D19) Total exempt imported value | P20: =SUM(P17:P18) -> 0
N21: This total must correspond with Annex C - C 21
C24: B. Imported directly by the Tenderer | H24: Calculation of imported content | O24: Summary
C25: Tender item no's | D25: Description of imported content | F25: Unit of measure | G25: Overseas Supplier | H25: Forign currency value as per Commercial Invoice | I25: Tender Rate of Exchange | J25: Local value of imports | K25: Freight costs to port of entry | L25: All locally incurred landing costs & duties | M25: Total landed cost excl VAT | O25: Tender Qty | P25: Total imported value
C26: (D20) | D26: (D21) | F26: (D22) | G26: (D23) | H26: (D24) | I26: (D25) | J26: (D26) | K26: (D27) | L26: (D28) | M26: (D29) | O26: (D30) | P26: (D31)
D34: `
O35: (D32)Total imported value by tenderer | P35: =SUM(P27:P34) -> 0
C37: C. Imported by a 3rd party and supplied to the Tenderer | H37: Calculation of imported content | O37: Summary
C38: Description of imported content | E38: Unit of measure | F38: Local supplier | G38: Overseas Supplier | H38: Forign currency value as per Commercial Invoice | I38: Tender Rate of Exchange | J38: Local value of imports | K38: Freight costs to port of entry | L38: All locally incurred landing costs & duties | M38: Total landed cost excl VAT | O38: Quantity imported | P38: Total imported value
C39: (D33) | E39: (D34) | F39: (D35) | G39: (D36) | H39: (D37) | I39: (D38) | J39: (D39) | K39: (D40) | L39: (D41) | M39: (D42) | O39: (D43) | P39: (D44)
C45: `
O46: (D45) Total imported value by 3rd party | P46: =SUM(P40:P45) -> 0
C48: D. Other foreign currency payments | G48: Calculation of foreign currency payments | P48: Summary of payments
C49: Type of payment | E49: Local supplier making the payment | F49: Overseas beneficiary | G49: Foreign currency value paid | H49: Tender Rate of Exchange | P49: Local value of payments
C50: (D46) | E50: (D47) | F50: (D48) | G50: (D49) | H50: (D50) | P50: (D51)
O55: (D52) Total of foreign currency payments declared by tenderer and/or 3rd party
C56: Signature of tenderer from Annex B
O57: (D53) Total of imported content & foreign currency payments - (D32), (D45) & (D52) above | P57: =+P35+P46+P55 -> 0
N58: This total must correspond with Annex C - C 23
C59: Date:

Sheet Annex E
I2: SATS 1286.2011
C3: Annex E
C5: Local Content Declaration - Supporting Schedule to Annex C
B7: (E1) | C7: Tender No. | H7: Note: VAT to be excluded from all calculations
B8: (E2) | C8: Tender description:
B9: (E3) | C9: Designated products:
B10: (E4) | C10: Tender Authority:
B11: (E5) | C11: Tendering Entity name:
D14: Local Products (Goods, Services and Works) | E14: Description of items purchased | H14: Local suppliers | I14: Value | J14: % of LC
E15: (E6) | H15: (E7) | I15: (E8)
H28: (E9) Total local products (Goods, Services and Works) | I28: =SUM(I16:I27) -> 0
C30: (E10) | D30: Manpower costs | E30: ( Tenderer's manpower cost) | I30: 0
C32: (E11) | D32: Factory overheads | E32: (Rental, depreciation & amortisation, utility costs, consumables etc.) | I32: 0
C34: (E12) | D34: Administration overheads and mark-up | F34: (Marketing, insurance, financing, interest etc.) | I34: 0
H36: (E13) Total local content | I36: 0
H37: This total must correspond with Annex C - C24
C39: Signature of tenderer from Annex B
C43: Date:
