Workbook
Name \a: #N/A
Name \d: #N/A
Name _____CXX1: '[1]1'!$F$175:$F$182
Name _____CXX2: '[1]2'!$F$175:$F$182
Name _____CXX3: '[1]3'!$F$175:$F$182
Name _____CXX4: '[1]4'!$F$175:$F$182
Name _____CXX5: '[1]5'!$F$175:$F$182
Name _____CXX6: '[1]6'!$F$175:$F$182
Name _____CXX7: '[1]7'!$F$175:$F$182
Name _____CXX8: '[1]8'!$F$175:$F$182
Name _____CXX9: '[1]9'!$F$175:$F$182
Name _____EXX1: '[1]1'!$F$129:$F$168
Name _____EXX2: '[1]2'!$F$129:$F$168
Name _____EXX3: '[1]3'!$F$129:$F$168
Name _____EXX4: '[1]4'!$F$129:$F$168
Name _____EXX5: '[1]5'!$F$129:$F$168
Name _____EXX6: '[1]6'!$F$129:$F$168
Name _____EXX7: '[1]7'!$F$129:$F$168
Name _____EXX8: '[1]8'!$F$129:$F$168
Name _____EXX9: '[1]9'!$F$129:$F$168
Name _____MXX1: '[1]1'!$F$13:$F$64
Name _____MXX2: '[1]2'!$F$13:$F$64
Name _____MXX3: '[1]3'!$F$13:$F$64
Name _____MXX4: '[1]4'!$F$13:$F$64
Name _____MXX5: '[1]5'!$F$13:$F$64
Name _____MXX6: '[1]6'!$F$13:$F$64
Name _____MXX7: '[1]7'!$F$13:$F$64
Name _____MXX8: '[1]8'!$F$13:$F$64
Name _____MXX9: '[1]9'!$F$13:$F$64
Name _____SXX1: '[1]1'!$F$71:$F$122
Name _____SXX2: '[1]2'!$F$71:$F$122
Name _____SXX3: '[1]3'!$F$71:$F$122
Name _____SXX4: '[1]4'!$F$71:$F$122
Name _____SXX5: '[1]5'!$F$71:$F$122
Name _____SXX6: '[1]6'!$F$71:$F$122
Name _____SXX7: '[1]7'!$F$71:$F$122
Name _____SXX8: '[1]8'!$F$71:$F$122
Name _____SXX9: '[1]9'!$F$71:$F$122
Name ____CXX1: '[1]1'!$F$175:$F$182
Name ____CXX2: '[1]2'!$F$175:$F$182
Name ____CXX3: '[1]3'!$F$175:$F$182
Name ____CXX4: '[1]4'!$F$175:$F$182
Name ____CXX5: '[1]5'!$F$175:$F$182
Name ____CXX6: '[1]6'!$F$175:$F$182
Name ____CXX7: '[1]7'!$F$175:$F$182
Name ____CXX8: '[1]8'!$F$175:$F$182
Name ____CXX9: '[1]9'!$F$175:$F$182
Name ____EXX1: '[1]1'!$F$129:$F$168
Name ____EXX2: '[1]2'!$F$129:$F$168
Name ____EXX3: '[1]3'!$F$129:$F$168
Name ____EXX4: '[1]4'!$F$129:$F$168
Name ____EXX5: '[1]5'!$F$129:$F$168
Name ____EXX6: '[1]6'!$F$129:$F$168
Name ____EXX7: '[1]7'!$F$129:$F$168
Name ____EXX8: '[1]8'!$F$129:$F$168
Name ____EXX9: '[1]9'!$F$129:$F$168
Name ____MXX1: '[1]1'!$F$13:$F$64
Name ____MXX2: '[1]2'!$F$13:$F$64
Name ____MXX3: '[1]3'!$F$13:$F$64
Name ____MXX4: '[1]4'!$F$13:$F$64

Sheet Read Me FIRST
A1: Project: | C1: KUSILE POWER STATION PROJECT
A2: Enquiry No. | C2: ='5.1Tender Cover Sheet'!C19 -> 0
A3: Package Name: | C3: Provision of Office Cleaning and Janitorial Services at the Kusile Power Station Project
A4: Tenderer's Name: | C4: ='5.1Tender Cover Sheet'!C23 -> 0
A7: READ ME
B9: Read these notes BEFORE you commence input or make any changes to this workbook
B11: The Tenderer must provide a clear indication on the Cover Sheet as to whether the offer is "main" or "alternative" (and if there are several alternatives, to number them). There must be a separate Excel file for each ooffer if applicable
B13: NOTE: ALL CALCULATIONS ARE THE RESPONSIBILITY OF THE TENDERER, AND MUST BE CHECKED THOROUGHLY. ANY DISCREPANCY FOUND IN THE CALCULATIONS IN THIS WORKBOOK MUST BE BROUGHT TO THE ATTENTION OF ESKOM, THROUGH THE DEIGNATED BUYER!
A16: 1 | B16: This workbook contains the following sheets:
B17: Read Me | C17: This sheet provides an overview to the Tenderer of the content and role of the sheets making up the Price Schedules. It will not form part of the tender or contract.
B18: 5.1 Tender Cover Sheet | C18: This is the cover sheet for Section 5.1 and provides the total tender price. It is also the source of the package name, tenderer name etc for the other sheets.
B19: 5.1.1 Preamble | C19: This sheet provides general guidelines for this section.
B20: 5.1.2 Summary | C20: This is where the total amounts of all the trades are shown
B21: 5.1.3 BOQ | C21: This is the main data entry sheet for the Tenderer to complete.
B22: 5.1.4 CPA Formulae | C22: This is where the tenderer selects the CPA Formulae
A26: 2 | B26: Conventions used in this workbook
B27: The following conventions have been used in this workbook to facilitate its accurate use:
B28: Red | C28: This GREEN shading is used for cells where DATA ENTRY is required from the Tenderer. The Tenderer must complete the information in these GREEN shaded cells.
C29: PLEASE REFRAIN from tampering with ANY other cells contained in this workbook as it may affect Eskom's standard formulae and lead to data integrity issues.

Sheet 5.1Tender Cover Sheet
B2: KUSILE POWER STATION PROJECT
B15: PRICING INFORMATION
B17: TENDER INFORMATION
B19: ENQUIRY No.
B21: NAME OF PACKAGE: | C21: ='Read Me FIRST'!C3 -> Provision of Office Cleaning and Janitorial Services at the Kusile Power Station Project
B23: TENDERER’S NAME:
B26: Annexure IT 5.1 Price Schedules
B29: THE PRICE: IN ZAR
B30: (excluding VAT)
B31: RAND VALUE IN WORDS
B36: DATE :
B40: FULL NAMES OF SIGNATORY:
B44: DESIGNATION OF SIGNATORY:
B48: SIGNATURE :

Sheet 5.1.1.1 Preamble
A1: Project: | C1: KUSILE POWER STATION PROJECT
A2: Enquiry No. | C2: ='5.1Tender Cover Sheet'!C19 -> 0
A3: Package Name: | C3: ='5.1Tender Cover Sheet'!C21 -> Provision of Office Cleaning and Janitorial Services at the Kusile Power Station Project
A4: Tenderer's Name: | C4: ='5.1Tender Cover Sheet'!C23 -> 0
A6: 5.1.1.1 PREAMBLE TO PRICE SCHEDULE
A8: 1 | B8: The Provisional Price Schedule provides the basis of valuation of all the work activities and inputs and information for general contract progress monitoring.
A9: 2 | B9: The amount due at each application for payment date is based on activities and/or milestones completed as indicated on the Price Schedule/Bills of Quantities. The Tenderer must provide all necessary information which is required to determine amounts due in respect of each application for payment relative to the activities.
A10: 3 | B10: The total of the prices must include for all direct and indirect costs, overheads, profits, on costs, risks, liabilities, obligations, etc. relative to the contract.

Sheet 5.1.2 Summary
C3: FINAL SUMMARY
B6: ITEM NO. | C6: SECTION | D6: UNIT | E6: AMOUNT
B8: 1 | C8: FIXED PRELIMINARIES AND GENERAL | D8: SUM | E8: ='5.1.3 BOQ'!G12 -> 0
B10: 2 | C10: TIME RELATED PRELIMINARIES AND GENERAL | D10: SUM | E10: ='5.1.3 BOQ'!G19 -> 0
B12: 3 | C12: OPERATION AND MAINTENANCE OF FACILITIES ON SITE | D12: SUM | E12: ='5.1.3 BOQ'!G72 -> 0
B16: TOTAL AMOUNT | E16: =SUM(E8:E15) -> 0
C21: ='5.1.2 Summary'!E16 -> 0

Sheet 5.1.3 BOQ
A1: PROJECT : | B1: KUSILE POWER STATION OFFICE CLEANING
A2: ENQUIRY No:
A3: TENDERER NAME :
C4: BOQ
A5: ITEM NO. | B5: Schedule Description | C5: Unit | D5: Duration | E5: Qty | F5: Rate | G5: Amount
A6: 1.1 | B6: FIXED PRELIMINARIES AND GENERAL
A7: 1.1.1 | B7: Establishment | C7: Sum | D7: 1 | E7: 1 | G7: =D7*E7*F7 -> 0
A8: 1.1.2 | B8: Fixed health & safety related costs (PPE, first aid box, entry, periodic & exit medicals, Hepatitis vaccination) | C8: Sum | D8: 1 | E8: 1 | G8: =D8*E8*F8 -> 0
A9: 1.1.3 | B9: Contractual requirements (including but not limited to SHE File, Environmental file, and mandatory SHE trainings) | C9: Sum | D9: 1 | E9: 1 | G9: =D9*E9*F9 -> 0
A10: 1.1.4 | B10: Supply, installation and maintenance of hygiene equipment and mats. | C10: Sum | D10: 1 | E10: 1 | G10: =D10*E10*F10 -> 0
A11: 1.1.5 | B11: Site de-establishment | C11: Sum | D11: 1 | E11: 1 | G11: =D11*E11*F11 -> 0
B12: Sub Total Fixed preliminaries | G12: =SUM(G7:G11) -> 0
A14: 2 | B14: TIME RELATED PRELIMINARIES AND GENERAL
A15: 2.1.1 | B15: Operation and maintenance of facilities on site | C15: Month | D15: 18 | E15: 1 | G15: =D15*E15*F15 -> 0
A16: 2.1.2 | B16: PPE consumables | C16: Month | D16: 18 | E16: 1 | G16: =D16*E16*F16 -> 0
A17: 2.1.3 | B17: Environmental related costs (Removal of Hazardous waste, SHE Bins ect) | C17: Month | D17: 18 | E17: 1 | G17: =D17*E17*F17 -> 0
A18: 2.1.4 | B18: PPE clothing | C18: Bi annualy | D18: 1 | E18: 3 | G18: =D18*E18*F18 -> 0
B19: Sub Total Time Related preliminaries and General | G19: =SUM(G16:G18) -> 0
A21: 3 | B21: OPERATION AND MAINTENANCE OF FACILITIES ON SITE
A22: 3.1 | B22: Supervision for Duration of Construction
A23: 3.1.1 | B23: Supervisor | C23: No/month | D23: 18 | E23: 3 | G23: =D23*E23*F23 -> 0
A24: 3.1.2 | B24: Cleaners | C24: No/month | D24: 18 | E24: 55 | G24: =D24*E24*F24 -> 0
A25: 3.1.4 | B25: SHE Officer | C25: No/month | D25: 18 | E25: 1 | G25: =D25*E25*F25 -> 0
A26: 3.1.6 | B26: Manager | C26: No/month | D26: 18 | E26: 1 | G26: =D26*E26*F26 -> 0
A28: 3.2 | B28: Provisional Sum (Bonuses and night allowance)
A29: 3.2.1 | B29: Supervision for Night shift
A30: 3.2.1.1 | B30: Supervisor | C30: No/month | D30: 18 | E30: 1 | G30: =D30*E30*F30 -> 0
A31: 3.2.1.2 | B31: Cleaners | C31: No/month | D31: 18 | E31: 20 | G31: =D31*E31*F31 -> 0
A33: 3.2.2 | B33: PA/SS Agreement (15.5 hours accumilated by cleaners per month x 12 months, paid once a year. 0.5 hours absorbed by contractors costs)
A34: 3.2.3.1 | B34: PA Bonuses | C34: sum | D34: 1 | E34: 1 | G34: =D34*E34*F34 -> 0
A36: 3.2.4 | B36: Transport for Night shift (Note: Taxi association prices to be taken into consideration when pricing-refer to 5.2.4 scope of work).
A37: 3.2.4.1 | B37: Cleaners and Management (on and off site) | C37: Month | D37: 18 | E37: 1 | G37: =D37*E37*F37 -> 0
A39: 3.2.5 | B39: Saturday work
A40: 3.2.5.1 | B40: Supervisor (1 Supervisor) | C40: Hrs/Month | D40: 18 | E40: 36 | G40: =D40*E40*F40 -> 0
A41: 3.2.5.2 | B41: Cleaners | C41: Hrs/Month | D41: 18 | E41: 1000 | G41: =D41*E41*F41 -> 0
A42: 3.2.5.3 | B42: Manager (1 Manager) | C42: Hrs/Month | D42: 18 | E42: 36 | G42: =D42*E42*F42 -> 0
A44: 3.2.6 | B44: Sunday Work
A45: 3.2.6.1 | B45: Supervisor (1 Supervisor) | C45: Hrs/Month | D45: 18 | E45: 36 | G45: =D45*E45*F45 -> 0
A46: 3.2.6.2 | B46: Cleaners | C46: Hrs/Month | D46: 18 | E46: 1000 | G46: =D46*E46*F46 -> 0
A47: 3.2.6.3 | B47: Manager (1 Manager) | C47: Hrs/Month | D47: 18 | E47: 36 | G47: =D47*E47*F47 -> 0
...

Sheet 5.1.4 CPA Formulae
A1: KUSILE POWER STATION PROJECT
A2: ENQUIRY No. | D2: ='5.1Tender Cover Sheet'!C19 -> 0
A3: TENDERER NAME: | D3: ='5.1Tender Cover Sheet'!C23 -> 0
A4: NAME OF PACKAGE: | D4: ='5.1Tender Cover Sheet'!C21 -> Provision of Office Cleaning and Janitorial Services at the Kusile Power Station Project
A5: PRICE ADJUSTMENT FOR INFLATION
A6: Summary
A7: No | B7: Description
A8: A | B8: 0 | E8: Type in description of formula which is carried through below
A12: GENERAL NOTES :
A13: a. | B13: References to "indices" below have the meaning of "cost indices or reference prices", unless otherwise stated.
A14: b. | B14: Where historical information is applicable as requested below, internet address references which are accessible to the
B15: general public may be submitted instead, with the specific electronic route and web page reflecting the applicable data.
A16: c. | B16: Each formula is related to one unique currency. Mixing of currencies in a specific formula is not acceptable.
A17: CPA FORMULA REQUIREMENTS :
A18: i. | B18: Formulae must be linked to independent cost indices or other benchmarks ("reference prices") and must be clearly and
B19: completely defined. The source must be a recognised statistical publishing source and must not be in-house indices.
A20: ii. | B20: Local Indices: Where local indices other than SEIFSA or StatsSA are specified, the tenderer is to submit 5 years' historical data
B21: for such indices. Note that the Contractor must ensure that indices are published and recommended by the "Source" as
B22: applicable to the work involved. For example SEIFSA has terminated the publication of Table E and is replaced by Table E-A and
B23: or E-EX and the specific sub breakdown of such must be identified. Also SEIFSA recommends utilisation of Table L-2 for road
B24: transport rather than Table L-1.
A25: iii. | B25: Foreign Price Adjustments: In the case of foreign price adjustments, the Contractor is to submit 5 years' historical data for the
B26: tendered indices. Where a formula is linked to indices in a country, payment of the amounts for that formula must be in the
B27: currency of the same country. A formula may not be linked to indices of more than one country.
A28: iv. | B28: Commodity Price Linked Payments: The reference price is considered as the base price (index) for purpose of the CPA formula
B29: and is incuded in the applicable tables below and must be in the currency in which the CPA will be payable. The exchange
B30: rate applied to convert the base price in a foreign currency into that of the currency of the formula must also be indicated in
B31: the tables below if the price is not in the same currency as the applicable formula.. ie exposure to the movement in a
B32: reference price is in the same currency as that of the CPA formula. The Contractor is to submit 5 years' historical price data
B33: for such commodity,
A34: v. | B34: London Metal Exchange (LME) Prices: For metals traded on the LME, the tonnage will be required before contract award in
B35: order for Eskom to hedge the metal price fluctuations. This applies also for prices linked to local indices or reference prices.
B36: Though these metals are traded in US$, prices are daily quoted in various other currencies.
B37: The LME price in the currency of the formula must apply and thus not the US$ unless the amount payable in terms of the
B38: formula is US$. Refer to the "LME" Sheet in this file for more detail regarding this aspect. By indicating any of these metals in
B39: the formulae below, the contractor declares that neither he nor any other body avails or will avail of forward price and/or
B40: currency cover for the metal(s).
A41: vi. | B41: CPA Base Date: The CPA base date for calculating price movements is the Base Date as defined in the Particular Conditions,
B42: Clause 1.1.3.1. For indices or reference prices published as at certain dates, and where such a date is not the Base Date, the
B43: latest date for which it is published before the Base Date will be considered as the Base Date index or reference price. In
...
