Workbook
Name Airport: G4_Options!#REF!

Sheet Instructions
C3: BIDDER : | D3: Bidder Company name
C4: Project Name | D4: ATNS/RFP06/06/2026/27/TPG_CNS PLANNING TOOL
C5: Foreign Currency: | D5: FC
C6: ROE: 1R= | D6: 0.1
C7: Date:
C10: This file contains the following sheets:
C11: G1 Summary | D11: Summary of all sheets.
C12: G2_1 PMP | D12: Project management and associated costs.
C13: G2_2 ILS | D13: Logistic Support and associated costs.
C14: G3_1_Equipment | D14: All hardware and equipment items, and associated cost for the CNS planning tool
C15: G3_2_Software | D15: All software, licenses, and associated cost for the CNS planning tool
C16: G4 Options | D16: All optional items and associated costs
C17: G5_Support_Base | D17: All maintenance and support items and associated costs in base cost
C18: G6_1_Support_Inflated | D18: All maintenance and support items and associated costs with inflation
C19: G6_2_Midlife_Intervention | D19: All mid-life intervention items and associated costs
C23: VAT SHALL BE CLEARLY INDICATED ON THE G1 SUMMARY SHEET
C24: THE BIDDER SHALL BE RESPONSIBLE FOR VERIFYING THAT THERE ARE NO ERRORS IN QUANTITIES, PRICING, CALCULATIONS AND TOTALS AS INDICATED ON THEIR SUBMITTED PRICING SCHEDULE

Sheet G1 Summary
A1: TENDER PRICE SCHEDULE: APPENDIX G1
A2: (INCLUDING VALUE ADDED TAX)
A3: BIDDER : | C3: =Instructions!D3 -> Bidder Company name
A4: DESCRIPTION : | C4: =Instructions!D4 -> ATNS/RFP06/06/2026/27/TPG_CNS PLANNING TOOL
A5: Item Nr: | C5: G1
A6: Item Description: | C6: SUMMARY
A7: Foreign Currency | C7: =Instructions!D5 -> FC
A8: ROE: 1R = | C8: =Instructions!D6 -> 0.1
C10: Overseas Items | I10: Local Items
A12: Schedule Item Number | B12: Description | C12: Foreign Currency | D12: Quantity | E12: Foreign Amount Unit Cost | F12: Foreign Amount Total Cost | G12: ROE: 1R = … | H12: Total Foreign Cost in Rands | I12: Quantity | J12: Local Amount Unit Cost | K12: Local Amount Total Cost | L12: Total Rands
A16: G2 | B16: SERVICES
A17: G2.1 | B17: Project Management | C17: =$C$7 -> FC | E17: ='G2_1 PM'!E57 -> 0 | F17: ='G2_1 PM'!F57 -> 0 | G17: ='G2_1 PM'!G57 -> 0.1 | H17: ='G2_1 PM'!H57 -> 0 | J17: ='G2_1 PM'!J57 -> 0 | K17: ='G2_1 PM'!K57 -> 0 | L17: ='G2_1 PM'!L57 -> 0
A18: G2.2 | B18: Integrated Logistic Support | C18: =$C$7 -> FC | E18: ='G2_2 ILS'!E48 -> 0 | F18: ='G2_2 ILS'!F48 -> 0 | G18: ='G2_2 ILS'!G48 -> 0.1 | H18: ='G2_2 ILS'!H48 -> 0 | J18: ='G2_2 ILS'!J48 -> 0 | K18: ='G2_2 ILS'!K48 -> 0 | L18: ='G2_2 ILS'!L48 -> 0
A20: G3 | B20: EQUIPMENT AND SOFTWARE
A21: G3.1 | B21: Equipment | C21: =$C$7 -> FC | E21: =G3_1_Equipment!E51 -> 0 | F21: =G3_1_Equipment!F51 -> 0 | G21: =G3_1_Equipment!G51 -> 0.1 | H21: =G3_1_Equipment!H51 -> 0 | J21: =G3_1_Equipment!J51 -> 0 | K21: =G3_1_Equipment!K51 -> 0 | L21: =G3_1_Equipment!L51 -> 0
A22: G3.2 | B22: Software | C22: =$C$7 -> FC | E22: =G3_2_Software!E49 -> 0 | F22: =G3_2_Software!F49 -> 0 | G22: 0.1 | H22: =G3_2_Software!H49 -> 0 | J22: =G3_2_Software!J49 -> 0 | K22: =G3_2_Software!K49 -> 0 | L22: =G3_2_Software!L49 -> 0
B24: TOTAL EXCLUDING OPTIONS : | C24: =$C$7 -> FC | E24: =SUM(E17,E18,E21,E22) -> 0 | F24: =SUM(F17,F18,F21,F22) -> 0 | H24: =SUM(H17,H18,H21,H22) -> 0 | J24: =SUM(J17,J18,J21,J22) -> 0 | K24: =SUM(K17,K18,K21,K22) -> 0 | L24: =SUM(L17,L18,L21,L22) -> 0
A26: G4 | B26: OPTIONS | C26: =$C$7 -> FC | E26: =G4_Options!E$55 -> 0 | F26: =G4_Options!F$55 -> 0 | G26: =G4_Options!G$55 -> 0.1 | H26: =G4_Options!H$55 -> 0 | J26: =G4_Options!J$55 -> 0 | K26: =G4_Options!K$55 -> 0 | L26: =G4_Options!L$55 -> 0
B28: TOTAL INCLUDING OPTIONS | C28: =$C$7 -> FC | E28: =E24+E26 -> 0 | F28: =F24+F26 -> 0 | H28: =H24+H26 -> 0 | J28: =J24+J26 -> 0 | K28: =K24+K26 -> 0 | L28: =L24+L26 -> 0
A30: G6 | B30: SUPPORT
A31: G6.1 | B31: Support (Inflated) | C31: =$C$7 -> FC | E31: =G6_1_Support_Inflated!E61 -> 0 | F31: =G6_1_Support_Inflated!F61 -> 0 | G31: =G6_1_Support_Inflated!G61 -> 0.1 | H31: =G6_1_Support_Inflated!H61 -> 0 | J31: =G6_1_Support_Inflated!J61 -> 0 | K31: =G6_1_Support_Inflated!K61 -> 0 | L31: =G6_1_Support_Inflated!L61 -> 0
A32: G6.2 | B32: Midlife Intervention | C32: =$C$7 -> FC | E32: =G6_2_Midlife_Intervention!E49 -> 0 | F32: =G6_2_Midlife_Intervention!F49 -> 0 | G32: =G6_2_Midlife_Intervention!G49 -> 0.1 | H32: =G6_2_Midlife_Intervention!H49 -> 0 | J32: =G6_2_Midlife_Intervention!J49 -> 0 | K32: =G6_2_Midlife_Intervention!K49 -> 0 | L32: =G6_2_Midlife_Intervention!L49 -> 0
B34: GRAND TOTAL INCLUDING SUPPORT AND OPTIONS | C34: =$C$7 -> FC | E34: =E28+E31+E32 -> 0 | F34: =F28+F31+F32 -> 0 | H34: =H28+H31+H32 -> 0 | J34: =J28+J31+J32 -> 0 | K34: =K28+K31+K32 -> 0 | L34: =L28+L31+L32 -> 0
B36: VAT (15%) | C36: =$C$7 -> FC | E36: =E34*0.15 -> 0 | F36: =F34*0.15 -> 0 | H36: =H34*0.15 -> 0 | J36: =J34*0.15 -> 0 | K36: =K34*0.15 -> 0 | L36: =L34*0.15 -> 0
B38: GRAND TOTAL INCLUDING SUPPORT, OPTIONS AND VAT | C38: FC | E38: =E36+E34 -> 0 | F38: =F36+F34 -> 0 | H38: =H36+H34 -> 0 | J38: =J36+J34 -> 0 | K38: =K36+K34 -> 0 | L38: =L36+L34 -> 0

Sheet G2_1 PM
A1: TENDER PRICE SCHEDULE: APPENDIX G2.1
A2: (INCLUDE VALUE ADDED TAX ON SHEET "G1: SUMMARY")
A3: BIDDER : | B3: =Instructions!D3 -> Bidder Company name
A4: PROJECT : | B4: =Instructions!D4 -> ATNS/RFP06/06/2026/27/TPG_CNS PLANNING TOOL
A5: Item Nr: | B5: G2.1
A6: Item Description: | B6: Project Management
A7: Foreign Currency | B7: =Instructions!D5 -> FC
A8: ROE: 1R = | B8: =Instructions!D6 -> 0.1
C10: Overseas Items | I10: Local Items
A12: Schedule Item Number | B12: Description | C12: Foreign Currency | D12: Quantity | E12: Foreign Amount Unit Cost | F12: Foreign Amount Total Cost | G12: ROE: 1R = … | H12: Total Foreign Cost in Rands | I12: Quantity | J12: Local Amount Unit Cost | K12: Local Amount Total Cost | L12: Total Rands
A15: =B5 -> G2.1 | B15: =B6 -> Project Management
B16: (All project Management items, with at least the following items)
A18: 2.1.1 | B18: Documents:
B19: Project Management Plan | C19: =$B$7 -> FC | F19: =D19*E19 -> 0 | G19: =$B$8 -> 0.1 | H19: =IF(G19<>0,F19/G19,0) -> 0 | K19: =I19*J19 -> 0 | L19: =IF(OR(J19>0,H19>0),H19+K19,0) -> 0
B20: Master Project Schedule | C20: =$B$7 -> FC | F20: =D20*E20 -> 0 | G20: =$B$8 -> 0.1 | H20: =IF(G20<>0,F20/G20,0) -> 0 | K20: =I20*J20 -> 0 | L20: =IF(OR(J20>0,H20>0),H20+K20,0) -> 0
C21: =$B$7 -> FC | F21: =D21*E21 -> 0 | G21: =$B$8 -> 0.1 | H21: =IF(G21<>0,F21/G21,0) -> 0 | K21: =I21*J21 -> 0 | L21: =IF(OR(J21>0,H21>0),H21+K21,0) -> 0
C22: =$B$7 -> FC | F22: =D22*E22 -> 0 | G22: =$B$8 -> 0.1 | H22: =IF(G22<>0,F22/G22,0) -> 0 | K22: =I22*J22 -> 0 | L22: =IF(OR(J22>0,H22>0),H22+K22,0) -> 0
C23: =$B$7 -> FC | F23: =D23*E23 -> 0 | G23: =$B$8 -> 0.1 | H23: =IF(G23<>0,F23/G23,0) -> 0 | K23: =I23*J23 -> 0 | L23: =IF(OR(J23>0,H23>0),H23+K23,0) -> 0
C24: =$B$7 -> FC | F24: =D24*E24 -> 0 | G24: =$B$8 -> 0.1 | H24: =IF(G24<>0,F24/G24,0) -> 0 | K24: =I24*J24 -> 0 | L24: =IF(OR(J24>0,H24>0),H24+K24,0) -> 0
C25: =$B$7 -> FC | F25: =D25*E25 -> 0 | G25: =$B$8 -> 0.1 | H25: =IF(G25<>0,F25/G25,0) -> 0 | K25: =I25*J25 -> 0 | L25: =IF(OR(J25>0,H25>0),H25+K25,0) -> 0
C26: =$B$7 -> FC | F26: =D26*E26 -> 0 | G26: =$B$8 -> 0.1 | H26: =IF(G26<>0,F26/G26,0) -> 0 | K26: =I26*J26 -> 0 | L26: =IF(OR(J26>0,H26>0),H26+K26,0) -> 0
C27: =$B$7 -> FC | F27: =D27*E27 -> 0 | G27: =$B$8 -> 0.1 | H27: =IF(G27<>0,F27/G27,0) -> 0 | K27: =I27*J27 -> 0 | L27: =IF(OR(J27>0,H27>0),H27+K27,0) -> 0
C28: =$B$7 -> FC | F28: =D28*E28 -> 0 | G28: =$B$8 -> 0.1 | H28: =IF(G28<>0,F28/G28,0) -> 0 | K28: =I28*J28 -> 0 | L28: =IF(OR(J28>0,H28>0),H28+K28,0) -> 0
C29: =$B$7 -> FC | F29: =D29*E29 -> 0 | G29: =$B$8 -> 0.1 | H29: =IF(G29<>0,F29/G29,0) -> 0 | K29: =I29*J29 -> 0 | L29: =IF(OR(J29>0,H29>0),H29+K29,0) -> 0
A31: 2.1.2 | B31: Acceptance Tests | F31: =D31*E31 -> 0
B32: Factory Acceptance Test (Design Acceptance) | C32: =$B$7 -> FC | F32: =D32*E32 -> 0 | G32: =$B$8 -> 0.1 | H32: =IF(G32<>0,F32/G32,0) -> 0 | K32: =I32*J32 -> 0 | L32: =IF(OR(J32>0,H32>0),H32+K32,0) -> 0
B33: Site Acceptance Test (Implementation Acceptance) | C33: =$B$7 -> FC | F33: =D33*E33 -> 0 | G33: =$B$8 -> 0.1 | H33: =IF(G33<>0,F33/G33,0) -> 0 | K33: =I33*J33 -> 0 | L33: =IF(OR(J33>0,H33>0),H33+K33,0) -> 0
C34: =$B$7 -> FC | F34: =D34*E34 -> 0 | G34: =$B$8 -> 0.1 | H34: =IF(G34<>0,F34/G34,0) -> 0 | K34: =I34*J34 -> 0 | L34: =IF(OR(J34>0,H34>0),H34+K34,0) -> 0
C35: =$B$7 -> FC | F35: =D35*E35 -> 0 | G35: =$B$8 -> 0.1 | H35: =IF(G35<>0,F35/G35,0) -> 0 | K35: =I35*J35 -> 0 | L35: =IF(OR(J35>0,H35>0),H35+K35,0) -> 0
C36: =$B$7 -> FC | F36: =D36*E36 -> 0 | G36: =$B$8 -> 0.1 | H36: =IF(G36<>0,F36/G36,0) -> 0 | K36: =I36*J36 -> 0 | L36: =IF(OR(J36>0,H36>0),H36+K36,0) -> 0
C37: =$B$7 -> FC | F37: =D37*E37 -> 0 | G37: =$B$8 -> 0.1 | H37: =IF(G37<>0,F37/G37,0) -> 0 | K37: =I37*J37 -> 0 | L37: =IF(OR(J37>0,H37>0),H37+K37,0) -> 0
C38: =$B$7 -> FC | F38: =D38*E38 -> 0 | G38: =$B$8 -> 0.1 | H38: =IF(G38<>0,F38/G38,0) -> 0 | K38: =I38*J38 -> 0 | L38: =IF(OR(J38>0,H38>0),H38+K38,0) -> 0
C39: =$B$7 -> FC | F39: =D39*E39 -> 0 | G39: =$B$8 -> 0.1 | H39: =IF(G39<>0,F39/G39,0) -> 0 | K39: =I39*J39 -> 0 | L39: =IF(OR(J39>0,H39>0),H39+K39,0) -> 0
A41: 2.1.3 | B41: Project Management Services | F41: =D41*E41 -> 0
B42: All PM Services | C42: =$B$7 -> FC | F42: =D42*E42 -> 0 | G42: =$B$8 -> 0.1 | H42: =IF(G42<>0,F42/G42,0) -> 0 | K42: =I42*J42 -> 0 | L42: =IF(OR(J42>0,H42>0),H42+K42,0) -> 0
B43: Installation and Commissioning | C43: =$B$7 -> FC | F43: =D43*E43 -> 0 | G43: =$B$8 -> 0.1 | H43: =IF(G43<>0,F43/G43,0) -> 0 | K43: =I43*J43 -> 0 | L43: =IF(OR(J43>0,H43>0),H43+K43,0) -> 0
C44: =$B$7 -> FC | F44: =D44*E44 -> 0 | G44: =$B$8 -> 0.1 | H44: =IF(G44<>0,F44/G44,0) -> 0 | K44: =I44*J44 -> 0 | L44: =IF(OR(J44>0,H44>0),H44+K44,0) -> 0
C45: =$B$7 -> FC | F45: =D45*E45 -> 0 | G45: =$B$8 -> 0.1 | H45: =IF(G45<>0,F45/G45,0) -> 0 | K45: =I45*J45 -> 0 | L45: =IF(OR(J45>0,H45>0),H45+K45,0) -> 0
C46: =$B$7 -> FC | F46: =D46*E46 -> 0 | G46: =$B$8 -> 0.1 | H46: =IF(G46<>0,F46/G46,0) -> 0 | K46: =I46*J46 -> 0 | L46: =IF(OR(J46>0,H46>0),H46+K46,0) -> 0
A48: 2.1.4 | B48: Shipping, Insurance & Associated costs
...

Sheet G2_2 ILS
A1: TENDER PRICE SCHEDULE: APPENDIX G2.2
A2: (INCLUDE VALUE ADDED TAX ON SHEET "G1: SUMMARY")
A3: BIDDER : | B3: =Instructions!D3 -> Bidder Company name
A4: PROJECT : | B4: =Instructions!D4 -> ATNS/RFP06/06/2026/27/TPG_CNS PLANNING TOOL
A5: Item Nr: | B5: G2.2
A6: Item Description: | B6: Integrated Logistic Support
A7: Foreign Currency | B7: =Instructions!D5 -> FC
A8: ROE: 1R = | B8: =Instructions!D6 -> 0.1
C10: Overseas Items | I10: Local Items
A12: Schedule Item Number | B12: Description | C12: Foreign Currency | D12: Quantity | E12: Foreign Amount Unit Cost | F12: Foreign Amount Total Cost | G12: ROE: 1R = … | H12: Total Foreign Cost in Rands | I12: Quantity | J12: Local Amount Unit Cost | K12: Local Amount Total Cost | L12: Total Rands
A15: =B5 -> G2.2 | B15: =B6 -> Integrated Logistic Support
B16: (All logistic support items with at least the following items)
A17: 2.2.1 | B17: Logistic Support Services
B18: Logistic Support | C18: =$B$7 -> FC | F18: =D18*E18 -> 0 | G18: =$B$8 -> 0.1 | H18: =IF(G18<>0,F18/G18,0) -> 0 | K18: =I18*J18 -> 0 | L18: =IF(OR(J18>0,H18>0),H18+K18,0) -> 0
B19: Training | C19: =$B$7 -> FC | F19: =D19*E19 -> 0 | G19: =$B$8 -> 0.1 | H19: =IF(G19<>0,F19/G19,0) -> 0 | K19: =I19*J19 -> 0 | L19: =IF(OR(J19>0,H19>0),H19+K19,0) -> 0
C20: =$B$7 -> FC | F20: =D20*E20 -> 0 | G20: =$B$8 -> 0.1 | H20: =IF(G20<>0,F20/G20,0) -> 0 | K20: =I20*J20 -> 0 | L20: =IF(OR(J20>0,H20>0),H20+K20,0) -> 0
C21: =$B$7 -> FC | F21: =D21*E21 -> 0 | G21: =$B$8 -> 0.1 | H21: =IF(G21<>0,F21/G21,0) -> 0 | K21: =I21*J21 -> 0 | L21: =IF(OR(J21>0,H21>0),H21+K21,0) -> 0
C22: =$B$7 -> FC | F22: =D22*E22 -> 0 | G22: =$B$8 -> 0.1 | H22: =IF(G22<>0,F22/G22,0) -> 0 | K22: =I22*J22 -> 0 | L22: =IF(OR(J22>0,H22>0),H22+K22,0) -> 0
C23: =$B$7 -> FC | F23: =D23*E23 -> 0 | G23: =$B$8 -> 0.1 | H23: =IF(G23<>0,F23/G23,0) -> 0 | K23: =I23*J23 -> 0 | L23: =IF(OR(J23>0,H23>0),H23+K23,0) -> 0
A25: 2.2.2 | B25: Documents
B26: Integrated Logistic Support Plan | C26: =$B$7 -> FC | F26: =D26*E26 -> 0 | G26: =$B$8 -> 0.1 | H26: =IF(G26<>0,F26/G26,0) -> 0 | K26: =I26*J26 -> 0 | L26: =IF(OR(J26>0,H26>0),H26+K26,0) -> 0
B27: As Built Documents | C27: =$B$7 -> FC | F27: =D27*E27 -> 0 | G27: =$B$8 -> 0.1 | H27: =IF(G27<>0,F27/G27,0) -> 0 | K27: =I27*J27 -> 0 | L27: =IF(OR(J27>0,H27>0),H27+K27,0) -> 0
B28: Training Plan | C28: =$B$7 -> FC | F28: =D28*E28 -> 0 | G28: =$B$8 -> 0.1 | H28: =IF(G28<>0,F28/G28,0) -> 0 | K28: =I28*J28 -> 0 | L28: =IF(OR(J28>0,H28>0),H28+K28,0) -> 0
B29: Training Manuals
B30: Other documents | C30: =$B$7 -> FC | F30: =D30*E30 -> 0 | G30: =$B$8 -> 0.1 | H30: =IF(G30<>0,F30/G30,0) -> 0 | K30: =I30*J30 -> 0 | L30: =IF(OR(J30>0,H30>0),H30+K30,0) -> 0
C31: =$B$7 -> FC | F31: =D31*E31 -> 0 | G31: =$B$8 -> 0.1 | H31: =IF(G31<>0,F31/G31,0) -> 0 | K31: =I31*J31 -> 0 | L31: =IF(OR(J31>0,H31>0),H31+K31,0) -> 0
C32: =$B$7 -> FC | F32: =D32*E32 -> 0 | G32: =$B$8 -> 0.1 | H32: =IF(G32<>0,F32/G32,0) -> 0 | K32: =I32*J32 -> 0 | L32: =IF(OR(J32>0,H32>0),H32+K32,0) -> 0
C33: =$B$7 -> FC | F33: =D33*E33 -> 0 | G33: =$B$8 -> 0.1 | H33: =IF(G33<>0,F33/G33,0) -> 0 | K33: =I33*J33 -> 0 | L33: =IF(OR(J33>0,H33>0),H33+K33,0) -> 0
C34: =$B$7 -> FC | F34: =D34*E34 -> 0 | G34: =$B$8 -> 0.1 | H34: =IF(G34<>0,F34/G34,0) -> 0 | K34: =I34*J34 -> 0 | L34: =IF(OR(J34>0,H34>0),H34+K34,0) -> 0
C35: =$B$7 -> FC | F35: =D35*E35 -> 0 | G35: =$B$8 -> 0.1 | H35: =IF(G35<>0,F35/G35,0) -> 0 | K35: =I35*J35 -> 0 | L35: =IF(OR(J35>0,H35>0),H35+K35,0) -> 0
C36: =$B$7 -> FC | F36: =D36*E36 -> 0 | G36: =$B$8 -> 0.1 | H36: =IF(G36<>0,F36/G36,0) -> 0 | K36: =I36*J36 -> 0 | L36: =IF(OR(J36>0,H36>0),H36+K36,0) -> 0
A37: 2.2.3 | B37: Warranty
C38: =$B$7 -> FC | F38: =D38*E38 -> 0 | G38: =$B$8 -> 0.1 | H38: =IF(G38<>0,F38/G38,0) -> 0 | K38: =I38*J38 -> 0 | L38: =IF(OR(J38>0,H38>0),H38+K38,0) -> 0
C39: =$B$7 -> FC | F39: =D39*E39 -> 0 | G39: =$B$8 -> 0.1 | H39: =IF(G39<>0,F39/G39,0) -> 0 | K39: =I39*J39 -> 0 | L39: =IF(OR(J39>0,H39>0),H39+K39,0) -> 0
C40: =$B$7 -> FC | F40: =D40*E40 -> 0 | G40: =$B$8 -> 0.1 | H40: =IF(G40<>0,F40/G40,0) -> 0 | K40: =I40*J40 -> 0 | L40: =IF(OR(J40>0,H40>0),H40+K40,0) -> 0
C41: =$B$7 -> FC | F41: =D41*E41 -> 0 | G41: =$B$8 -> 0.1 | H41: =IF(G41<>0,F41/G41,0) -> 0 | K41: =I41*J41 -> 0 | L41: =IF(OR(J41>0,H41>0),H41+K41,0) -> 0
C42: =$B$7 -> FC | F42: =D42*E42 -> 0 | G42: =$B$8 -> 0.1 | H42: =IF(G42<>0,F42/G42,0) -> 0 | K42: =I42*J42 -> 0 | L42: =IF(OR(J42>0,H42>0),H42+K42,0) -> 0
C43: =$B$7 -> FC | F43: =D43*E43 -> 0 | G43: =$B$8 -> 0.1 | H43: =IF(G43<>0,F43/G43,0) -> 0 | K43: =I43*J43 -> 0 | L43: =IF(OR(J43>0,H43>0),H43+K43,0) -> 0
C44: =$B$7 -> FC | F44: =D44*E44 -> 0 | G44: =$B$8 -> 0.1 | H44: =IF(G44<>0,F44/G44,0) -> 0 | K44: =I44*J44 -> 0 | L44: =IF(OR(J44>0,H44>0),H44+K44,0) -> 0
C45: =$B$7 -> FC | F45: =D45*E45 -> 0 | G45: =$B$8 -> 0.1 | H45: =IF(G45<>0,F45/G45,0) -> 0 | K45: =I45*J45 -> 0 | L45: =IF(OR(J45>0,H45>0),H45+K45,0) -> 0
...

Sheet G3_1_Equipment
A1: TENDER PRICE SCHEDULE: APPENDIX G3
A2: (INCLUDE VALUE ADDED TAX ON SHEET "G1: SUMMARY")
A3: BIDDER : | B3: =Instructions!D3 -> Bidder Company name
A4: PROJECT : | B4: =Instructions!D4 -> ATNS/RFP06/06/2026/27/TPG_CNS PLANNING TOOL
A5: Item Nr: | B5: G3.1
A6: Item Description: | B6: Equipment
A7: Foreign Currency | B7: =Instructions!D5 -> FC
A8: ROE: 1R = | B8: =Instructions!D6 -> 0.1
C10: Overseas Items | I10: Local Items
A12: Schedule Item Number | B12: Description {Equipment Common to all site} | C12: Foreign Currency | D12: Quantity | E12: Foreign Amount Unit Cost | F12: Foreign Amount Total Cost | G12: ROE: 1R = … | H12: Total Foreign Cost in Rands | I12: Quantity | J12: Local Amount Unit Cost | K12: Local Amount Total Cost | L12: Total Rands
A15: =B5 -> G3.1 | B15: =B6 -> Equipment
A16: 3.1.1 | B16: Hardware
B17: (List all hardware required for the CNS Planning Tool including relevant product information and quantities)
B18: CNS Planning Tool Workstation | C18: =$B$7 -> FC | F18: =D18*E18 -> 0 | G18: =$B$8 -> 0.1 | H18: =IF(G18<>0,F18/G18,0) -> 0 | K18: =I18*J18 -> 0 | L18: =IF(OR(J18>0,H18>0),H18+K18,0) -> 0
B19: Computer | C19: =$B$7 -> FC | F19: =D19*E19 -> 0 | G19: =$B$8 -> 0.1 | H19: =IF(G19<>0,F19/G19,0) -> 0 | I19: 6 | K19: =I19*J19 -> 0 | L19: =IF(OR(J19>0,H19>0),H19+K19,0) -> 0
B20: Display/s | C20: =$B$7 -> FC | F20: =D20*E20 -> 0 | G20: =$B$8 -> 0.1 | H20: =IF(G20<>0,F20/G20,0) -> 0 | I20: 6 | K20: =I20*J20 -> 0 | L20: =IF(OR(J20>0,H20>0),H20+K20,0) -> 0
B21: Computer Mouse | C21: =$B$7 -> FC | F21: =D21*E21 -> 0 | G21: =$B$8 -> 0.1 | H21: =IF(G21<>0,F21/G21,0) -> 0 | I21: 6 | K21: =I21*J21 -> 0 | L21: =IF(OR(J21>0,H21>0),H21+K21,0) -> 0
B22: Keyboard | C22: =$B$7 -> FC | F22: =D22*E22 -> 0 | G22: =$B$8 -> 0.1 | H22: =IF(G22<>0,F22/G22,0) -> 0 | I22: 6 | K22: =I22*J22 -> 0 | L22: =IF(OR(J22>0,H22>0),H22+K22,0) -> 0
B23: Speaker/s | C23: =$B$7 -> FC | F23: =D23*E23 -> 0 | G23: =$B$8 -> 0.1 | H23: =IF(G23<>0,F23/G23,0) -> 0 | I23: 6 | K23: =I23*J23 -> 0 | L23: =IF(OR(J23>0,H23>0),H23+K23,0) -> 0
B24: Network Attached Storage/ Backup System | C24: =$B$7 -> FC | F24: =D24*E24 -> 0 | G24: =$B$8 -> 0.1 | H24: =IF(G24<>0,F24/G24,0) -> 0 | K24: =I24*J24 -> 0 | L24: =IF(OR(J24>0,H24>0),H24+K24,0) -> 0
B25: Database Server | C25: =$B$7 -> FC | F25: =D25*E25 -> 0 | G25: =$B$8 -> 0.1 | H25: =IF(G25<>0,F25/G25,0) -> 0 | K25: =I25*J25 -> 0 | L25: =IF(OR(J25>0,H25>0),H25+K25,0) -> 0
C26: =$B$7 -> FC | F26: =D26*E26 -> 0 | G26: =$B$8 -> 0.1 | H26: =IF(G26<>0,F26/G26,0) -> 0 | K26: =I26*J26 -> 0 | L26: =IF(OR(J26>0,H26>0),H26+K26,0) -> 0
C27: =$B$7 -> FC | F27: =D27*E27 -> 0 | G27: =$B$8 -> 0.1 | H27: =IF(G27<>0,F27/G27,0) -> 0 | K27: =I27*J27 -> 0 | L27: =IF(OR(J27>0,H27>0),H27+K27,0) -> 0
C28: =$B$7 -> FC | F28: =D28*E28 -> 0 | G28: =$B$8 -> 0.1 | H28: =IF(G28<>0,F28/G28,0) -> 0 | K28: =I28*J28 -> 0 | L28: =IF(OR(J28>0,H28>0),H28+K28,0) -> 0
C29: =$B$7 -> FC | F29: =D29*E29 -> 0 | G29: =$B$8 -> 0.1 | H29: =IF(G29<>0,F29/G29,0) -> 0 | K29: =I29*J29 -> 0 | L29: =IF(OR(J29>0,H29>0),H29+K29,0) -> 0
C30: =$B$7 -> FC | F30: =D30*E30 -> 0 | G30: =$B$8 -> 0.1 | H30: =IF(G30<>0,F30/G30,0) -> 0 | K30: =I30*J30 -> 0 | L30: =IF(OR(J30>0,H30>0),H30+K30,0) -> 0
C31: =$B$7 -> FC | F31: =D31*E31 -> 0 | G31: =$B$8 -> 0.1 | H31: =IF(G31<>0,F31/G31,0) -> 0 | K31: =I31*J31 -> 0 | L31: =IF(OR(J31>0,H31>0),H31+K31,0) -> 0
C32: =$B$7 -> FC | F32: =D32*E32 -> 0 | G32: =$B$8 -> 0.1 | H32: =IF(G32<>0,F32/G32,0) -> 0 | K32: =I32*J32 -> 0 | L32: =IF(OR(J32>0,H32>0),H32+K32,0) -> 0
C33: =$B$7 -> FC | F33: =D33*E33 -> 0 | G33: =$B$8 -> 0.1 | H33: =IF(G33<>0,F33/G33,0) -> 0 | K33: =I33*J33 -> 0 | L33: =IF(OR(J33>0,H33>0),H33+K33,0) -> 0
C34: =$B$7 -> FC | F34: =D34*E34 -> 0 | G34: =$B$8 -> 0.1 | H34: =IF(G34<>0,F34/G34,0) -> 0 | K34: =I34*J34 -> 0 | L34: =IF(OR(J34>0,H34>0),H34+K34,0) -> 0
A36: 3.1.2 | B36: Cables and Connectors
B37: (List all cables and connectors required for the CNS Planning Tool including relevant product information and quantities} | C37: =$B$7 -> FC | F37: =D37*E37 -> 0 | G37: =$B$8 -> 0.1 | H37: =IF(G37<>0,F37/G37,0) -> 0 | K37: =I37*J37 -> 0 | L37: =IF(OR(J37>0,H37>0),H37+K37,0) -> 0
C38: =$B$7 -> FC | F38: =D38*E38 -> 0 | G38: =$B$8 -> 0.1 | H38: =IF(G38<>0,F38/G38,0) -> 0 | K38: =I38*J38 -> 0 | L38: =IF(OR(J38>0,H38>0),H38+K38,0) -> 0
C39: =$B$7 -> FC | F39: =D39*E39 -> 0 | G39: =$B$8 -> 0.1 | H39: =IF(G39<>0,F39/G39,0) -> 0 | K39: =I39*J39 -> 0 | L39: =IF(OR(J39>0,H39>0),H39+K39,0) -> 0
C40: FC | F40: =D40*E40 -> 0 | G40: =$B$8 -> 0.1 | H40: =IF(G40<>0,F40/G40,0) -> 0 | K40: =I40*J40 -> 0 | L40: =IF(OR(J40>0,H40>0),H40+K40,0) -> 0
C41: =$B$7 -> FC | F41: =D41*E41 -> 0 | G41: =$B$8 -> 0.1 | H41: =IF(G41<>0,F41/G41,0) -> 0 | K41: =I41*J41 -> 0 | L41: =IF(OR(J41>0,H41>0),H41+K41,0) -> 0
C42: =$B$7 -> FC | F42: =D42*E42 -> 0 | G42: =$B$8 -> 0.1 | H42: =IF(G42<>0,F42/G42,0) -> 0 | K42: =I42*J42 -> 0 | L42: =IF(OR(J42>0,H42>0),H42+K42,0) -> 0
C43: =$B$7 -> FC | F43: =D43*E43 -> 0 | G43: =$B$8 -> 0.1 | H43: =IF(G43<>0,F43/G43,0) -> 0 | K43: =I43*J43 -> 0 | L43: =IF(OR(J43>0,H43>0),H43+K43,0) -> 0
C44: =$B$7 -> FC | F44: =D44*E44 -> 0 | G44: =$B$8 -> 0.1 | H44: =IF(G44<>0,F44/G44,0) -> 0 | K44: =I44*J44 -> 0 | L44: =IF(OR(J44>0,H44>0),H44+K44,0) -> 0
C45: =$B$7 -> FC | F45: =D45*E45 -> 0 | G45: =$B$8 -> 0.1 | H45: =IF(G45<>0,F45/G45,0) -> 0 | K45: =I45*J45 -> 0 | L45: =IF(OR(J45>0,H45>0),H45+K45,0) -> 0
...

Sheet G3_2_Software
A1: TENDER PRICE SCHEDULE: APPENDIX G3
A2: (INCLUDE VALUE ADDED TAX ON SHEET "G1: SUMMARY")
A3: BIDDER : | B3: =Instructions!D3 -> Bidder Company name
A4: PROJECT : | B4: =Instructions!D4 -> ATNS/RFP06/06/2026/27/TPG_CNS PLANNING TOOL
A5: Item Nr: | B5: G3.2
A6: Item Description: | B6: Software
A7: Foreign Currancy | B7: =Instructions!D5 -> FC
A8: ROE: 1R = | B8: =Instructions!D6 -> 0.1
C10: Overseas Items | I10: Local Items
A12: Schedule Item Number | B12: Description {Equipment Common to all site} | C12: Foreign Currency | D12: Quantity | E12: Foreign Amount Unit Cost | F12: Foreign Amount Total Cost | G12: ROE: 1R = … | H12: Total Foreign Cost in Rands | I12: Quantity | J12: Local Amount Unit Cost | K12: Local Amount Total Cost | L12: Total Rands
A15: =B5 -> G3.2 | B15: SOFTWARE
A16: 3.2.1 | B16: (List all once-off software required for CNS Planning Tool including relevant product information and quantities)
B17: CNS Planning Tool software | C17: =$B$7 -> FC | D17: 1 | F17: =D17*E17 -> 0 | G17: =$B$8 -> 0.1 | H17: =IF(G17<>0,F17/G17,0) -> 0 | K17: =I17*J17 -> 0 | L17: =IF(OR(J17>0,H17>0),H17+K17,0) -> 0
B18: Workstation software | C18: =$B$7 -> FC | F18: =D18*E18 -> 0 | G18: =$B$8 -> 0.1 | H18: =IF(G18<>0,F18/G18,0) -> 0 | K18: =I18*J18 -> 0 | L18: =IF(OR(J18>0,H18>0),H18+K18,0) -> 0
C19: =$B$7 -> FC | F19: =D19*E19 -> 0 | G19: =$B$8 -> 0.1 | H19: =IF(G19<>0,F19/G19,0) -> 0 | K19: =I19*J19 -> 0 | L19: =IF(OR(J19>0,H19>0),H19+K19,0) -> 0
C20: =$B$7 -> FC | F20: =D20*E20 -> 0 | G20: =$B$8 -> 0.1 | H20: =IF(G20<>0,F20/G20,0) -> 0 | K20: =I20*J20 -> 0 | L20: =IF(OR(J20>0,H20>0),H20+K20,0) -> 0
C21: =$B$7 -> FC | F21: =D21*E21 -> 0 | G21: =$B$8 -> 0.1 | H21: =IF(G21<>0,F21/G21,0) -> 0 | K21: =I21*J21 -> 0 | L21: =IF(OR(J21>0,H21>0),H21+K21,0) -> 0
C22: =$B$7 -> FC | F22: =D22*E22 -> 0 | G22: =$B$8 -> 0.1 | H22: =IF(G22<>0,F22/G22,0) -> 0 | K22: =I22*J22 -> 0 | L22: =IF(OR(J22>0,H22>0),H22+K22,0) -> 0
C23: =$B$7 -> FC | F23: =D23*E23 -> 0 | G23: =$B$8 -> 0.1 | H23: =IF(G23<>0,F23/G23,0) -> 0 | K23: =I23*J23 -> 0 | L23: =IF(OR(J23>0,H23>0),H23+K23,0) -> 0
C24: =$B$7 -> FC | F24: =D24*E24 -> 0 | G24: =$B$8 -> 0.1 | H24: =IF(G24<>0,F24/G24,0) -> 0 | K24: =I24*J24 -> 0 | L24: =IF(OR(J24>0,H24>0),H24+K24,0) -> 0
C25: =$B$7 -> FC | F25: =D25*E25 -> 0 | G25: =$B$8 -> 0.1 | H25: =IF(G25<>0,F25/G25,0) -> 0 | K25: =I25*J25 -> 0 | L25: =IF(OR(J25>0,H25>0),H25+K25,0) -> 0
C26: =$B$7 -> FC | F26: =D26*E26 -> 0 | G26: =$B$8 -> 0.1 | H26: =IF(G26<>0,F26/G26,0) -> 0 | K26: =I26*J26 -> 0 | L26: =IF(OR(J26>0,H26>0),H26+K26,0) -> 0
C27: =$B$7 -> FC | F27: =D27*E27 -> 0 | G27: =$B$8 -> 0.1 | H27: =IF(G27<>0,F27/G27,0) -> 0 | K27: =I27*J27 -> 0 | L27: =IF(OR(J27>0,H27>0),H27+K27,0) -> 0
C28: =$B$7 -> FC | F28: =D28*E28 -> 0 | G28: =$B$8 -> 0.1 | H28: =IF(G28<>0,F28/G28,0) -> 0 | K28: =I28*J28 -> 0 | L28: =IF(OR(J28>0,H28>0),H28+K28,0) -> 0
C29: =$B$7 -> FC | F29: =D29*E29 -> 0 | G29: =$B$8 -> 0.1 | H29: =IF(G29<>0,F29/G29,0) -> 0 | K29: =I29*J29 -> 0 | L29: =IF(OR(J29>0,H29>0),H29+K29,0) -> 0
C30: =$B$7 -> FC | F30: =D30*E30 -> 0 | G30: =$B$8 -> 0.1 | H30: =IF(G30<>0,F30/G30,0) -> 0 | K30: =I30*J30 -> 0 | L30: =IF(OR(J30>0,H30>0),H30+K30,0) -> 0
... C32: =$B$7 -> FC | F32: =D32*E32 -> 0 | G32: =$B$8 -> 0.1 | H32: =IF(G32<>0,F32/G32,0) -> 0 | K32: =I32*J32 -> 0 | L32: =IF(OR(J32>0,H32>0),H32+K32,0) -> 0
A34: 3.2.2 | B34: (List all individual licenses required for CNS Planning Tool including relevant product information and quantities)
B35: Product license | C35: =$B$7 -> FC | F35: =D35*E35 -> 0 | G35: =$B$8 -> 0.1 | H35: =IF(G35<>0,F35/G35,0) -> 0 | K35: =I35*J35 -> 0 | L35: =IF(OR(J35>0,H35>0),H35+K35,0) -> 0
B36: Workstation license | C36: =$B$7 -> FC | F36: =D36*E36 -> 0 | G36: =$B$8 -> 0.1 | H36: =IF(G36<>0,F36/G36,0) -> 0 | K36: =I36*J36 -> 0 | L36: =IF(OR(J36>0,H36>0),H36+K36,0) -> 0
C37: =$B$7 -> FC | F37: =D37*E37 -> 0 | G37: =$B$8 -> 0.1 | H37: =IF(G37<>0,F37/G37,0) -> 0 | K37: =I37*J37 -> 0 | L37: =IF(OR(J37>0,H37>0),H37+K37,0) -> 0
C38: FC | F38: =D38*E38 -> 0 | G38: =$B$8 -> 0.1 | H38: =IF(G38<>0,F38/G38,0) -> 0 | K38: =I38*J38 -> 0 | L38: =IF(OR(J38>0,H38>0),H38+K38,0) -> 0
C39: =$B$7 -> FC | F39: =D39*E39 -> 0 | G39: =$B$8 -> 0.1 | H39: =IF(G39<>0,F39/G39,0) -> 0 | K39: =I39*J39 -> 0 | L39: =IF(OR(J39>0,H39>0),H39+K39,0) -> 0
C40: =$B$7 -> FC | F40: =D40*E40 -> 0 | G40: =$B$8 -> 0.1 | H40: =IF(G40<>0,F40/G40,0) -> 0 | K40: =I40*J40 -> 0 | L40: =IF(OR(J40>0,H40>0),H40+K40,0) -> 0
C41: =$B$7 -> FC | F41: =D41*E41 -> 0 | G41: =$B$8 -> 0.1 | H41: =IF(G41<>0,F41/G41,0) -> 0 | K41: =I41*J41 -> 0 | L41: =IF(OR(J41>0,H41>0),H41+K41,0) -> 0
C42: =$B$7 -> FC | F42: =D42*E42 -> 0 | G42: =$B$8 -> 0.1 | H42: =IF(G42<>0,F42/G42,0) -> 0 | K42: =I42*J42 -> 0 | L42: =IF(OR(J42>0,H42>0),H42+K42,0) -> 0
C43: =$B$7 -> FC | F43: =D43*E43 -> 0 | G43: =$B$8 -> 0.1 | H43: =IF(G43<>0,F43/G43,0) -> 0 | K43: =I43*J43 -> 0 | L43: =IF(OR(J43>0,H43>0),H43+K43,0) -> 0
C44: =$B$7 -> FC | F44: =D44*E44 -> 0 | G44: =$B$8 -> 0.1 | H44: =IF(G44<>0,F44/G44,0) -> 0 | K44: =I44*J44 -> 0 | L44: =IF(OR(J44>0,H44>0),H44+K44,0) -> 0
C45: =$B$7 -> FC | F45: =D45*E45 -> 0 | G45: =$B$8 -> 0.1 | H45: =IF(G45<>0,F45/G45,0) -> 0 | K45: =I45*J45 -> 0 | L45: =IF(OR(J45>0,H45>0),H45+K45,0) -> 0
C46: =$B$7 -> FC | F46: =D46*E46 -> 0 | G46: =$B$8 -> 0.1 | H46: =IF(G46<>0,F46/G46,0) -> 0 | K46: =I46*J46 -> 0 | L46: =IF(OR(J46>0,H46>0),H46+K46,0) -> 0
...

Sheet G4_Options
A1: TENDER PRICE SCHEDULE: APPENDIX G4
A2: (INCLUDE VALUE ADDED TAX ON SHEET "G1: SUMMARY")
A3: TENDERER : | B3: =Instructions!D3 -> Bidder Company name
A4: PROJECT : | B4: =Instructions!D4 -> ATNS/RFP06/06/2026/27/TPG_CNS PLANNING TOOL
A5: Item Nr: | B5: G4
A6: Item Description: | B6: Options
A7: Foreign Currancy | B7: =Instructions!D5 -> FC
A8: ROE: 1R = | B8: =Instructions!D6 -> 0.1
C10: Overseas Items | I10: Local Items
A12: Schedule Item Number | B12: Description | C12: Foreign Currency | D12: Quantity | E12: Foreign Amount Unit Cost | F12: Foreign Amount Total Cost | G12: ROE: 1R = … | H12: Total Foreign Cost in Rands | I12: Quantity | J12: Local Amount Unit Cost | K12: Local Amount Total Cost | L12: Total Rands
A15: =B5 -> G4 | B15: =B6 -> Options
A16: 4.1 | B16: (List all products and services which are offered as optional)
B17: Additional Workstations (FABL, FAKM, FAUP, FAGG, FAEL, FAPE, FALE) | C17: =$B$7 -> FC | F17: =D17*E17 -> 0 | G17: =$B$8 -> 0.1 | H17: =IF(G17<>0,F17/G17,0) -> 0 | K17: =I17*J17 -> 0 | L17: =IF(OR(J17>0,H17>0),H17+K17,0) -> 0
B18: Computer | C18: =$B$7 -> FC | F18: =D18*E18 -> 0 | G18: =$B$8 -> 0.1 | H18: =IF(G18<>0,F18/G18,0) -> 0 | I18: 7 | K18: =I18*J18 -> 0 | L18: =IF(OR(J18>0,H18>0),H18+K18,0) -> 0
B19: Display/ monitor | C19: =$B$7 -> FC | F19: =D19*E19 -> 0 | G19: =$B$8 -> 0.1 | H19: =IF(G19<>0,F19/G19,0) -> 0 | I19: 7 | K19: =I19*J19 -> 0 | L19: =IF(OR(J19>0,H19>0),H19+K19,0) -> 0
B20: Computer Mouse | C20: =$B$7 -> FC | F20: =D20*E20 -> 0 | G20: =$B$8 -> 0.1 | H20: =IF(G20<>0,F20/G20,0) -> 0 | I20: 7 | K20: =I20*J20 -> 0 | L20: =IF(OR(J20>0,H20>0),H20+K20,0) -> 0
B21: Keyboard | C21: =$B$7 -> FC | F21: =D21*E21 -> 0 | G21: =$B$8 -> 0.1 | H21: =IF(G21<>0,F21/G21,0) -> 0 | I21: 7 | K21: =I21*J21 -> 0 | L21: =IF(OR(J21>0,H21>0),H21+K21,0) -> 0
B22: Speaker/s | C22: =$B$7 -> FC | F22: =D22*E22 -> 0 | G22: =$B$8 -> 0.1 | H22: =IF(G22<>0,F22/G22,0) -> 0 | I22: 7 | K22: =I22*J22 -> 0 | L22: =IF(OR(J22>0,H22>0),H22+K22,0) -> 0
B23: Additonal licenses (FABL, FAKM, FAUP, FAGG, FAEL, FAPE, FALE) | C23: =$B$7 -> FC | F23: =D23*E23 -> 0 | G23: =$B$8 -> 0.1 | H23: =IF(G23<>0,F23/G23,0) -> 0 | I23: 7 | K23: =I23*J23 -> 0 | L23: =IF(OR(J23>0,H23>0),H23+K23,0) -> 0
B55: =+"SUB-TOTAL: "&A15 -> SUB-TOTAL: G4 | E55: =SUM(E17:E54) -> 0 | F55: =SUM(F17:F54) -> 0 | G55: =$B$8 -> 0.1 | H55: =SUM(H17:H54) -> 0 | J55: =SUM(J17:J54) -> 0 | K55: =SUM(K17:K54) -> 0 | L55: =SUM(L17:L54) -> 0

Sheet G5_Support_Base
A1: TENDER PRICE SCHEDULE: APPENDIX G5
A2: (INCLUDE VALUE ADDED TAX ON SHEET "G1: SUMMARY")
A3: TENDERER : | B3: =Instructions!D3 -> Bidder Company name
A4: PROJECT : | B4: =Instructions!D4 -> ATNS/RFP06/06/2026/27/TPG_CNS PLANNING TOOL
A5: Item Nr: | B5: G5
A6: Item Description: | B6: Support and Maintenance in base cost
A7: Foreign Currancy | B7: =Instructions!D5 -> FC
A8: ROE: 1R = | B8: =Instructions!D6 -> 0.1
C10: Overseas Items | I10: Local Items
A12: Schedule Item Number | B12: Description | C12: Foreign Currency | D12: Quantity | E12: Foreign Amount Unit Cost | F12: Foreign Amount Total Cost | G12: ROE: 1R = … | H12: Total Foreign Cost in Rands | I12: Quantity | J12: Local Amount Unit Cost | K12: Local Amount Total Cost | L12: Total Rands
A15: =B5 -> G5 | B15: =B6 -> Support and Maintenance in base cost
A16: 5.1 | B16: (Details on the proposed maintenance and support contract must be included on this schedule. This must include any license costs)
B17: Year 1 | C17: =$B$7 -> FC | D17: 1 | F17: =D17*E17 -> 0 | G17: =$B$8 -> 0.1 | H17: =IF(G17<>0,F17/G17,0) -> 0 | K17: =I17*J17 -> 0 | L17: =IF(OR(J17>0,H17>0),H17+K17,0) -> 0
B18: Year 2 | C18: =$B$7 -> FC | F18: =D18*E18 -> 0 | G18: =$B$8 -> 0.1 | H18: =IF(G18<>0,F18/G18,0) -> 0 | K18: =I18*J18 -> 0 | L18: =IF(OR(J18>0,H18>0),H18+K18,0) -> 0
B19: Year 3 | C19: =$B$7 -> FC | F19: =D19*E19 -> 0 | G19: =$B$8 -> 0.1 | H19: =IF(G19<>0,F19/G19,0) -> 0 | K19: =I19*J19 -> 0 | L19: =IF(OR(J19>0,H19>0),H19+K19,0) -> 0
B20: Year 4 | C20: =$B$7 -> FC | F20: =D20*E20 -> 0 | G20: =$B$8 -> 0.1 | H20: =IF(G20<>0,F20/G20,0) -> 0 | K20: =I20*J20 -> 0 | L20: =IF(OR(J20>0,H20>0),H20+K20,0) -> 0
B21: Year 5 | C21: =$B$7 -> FC | F21: =D21*E21 -> 0 | G21: =$B$8 -> 0.1 | H21: =IF(G21<>0,F21/G21,0) -> 0 | K21: =I21*J21 -> 0 | L21: =IF(OR(J21>0,H21>0),H21+K21,0) -> 0
B22: Year 6 | C22: =$B$7 -> FC | F22: =D22*E22 -> 0 | G22: =$B$8 -> 0.1 | H22: =IF(G22<>0,F22/G22,0) -> 0 | K22: =I22*J22 -> 0 | L22: =IF(OR(J22>0,H22>0),H22+K22,0) -> 0
B23: Year 7 | C23: =$B$7 -> FC | F23: =D23*E23 -> 0 | G23: =$B$8 -> 0.1 | H23: =IF(G23<>0,F23/G23,0) -> 0 | K23: =I23*J23 -> 0 | L23: =IF(OR(J23>0,H23>0),H23+K23,0) -> 0
B24: Year 8 | C24: =$B$7 -> FC | F24: =D24*E24 -> 0 | G24: =$B$8 -> 0.1 | H24: =IF(G24<>0,F24/G24,0) -> 0 | K24: =I24*J24 -> 0 | L24: =IF(OR(J24>0,H24>0),H24+K24,0) -> 0
B25: Year 9 | C25: =$B$7 -> FC | F25: =D25*E25 -> 0 | G25: =$B$8 -> 0.1 | H25: =IF(G25<>0,F25/G25,0) -> 0 | K25: =I25*J25 -> 0 | L25: =IF(OR(J25>0,H25>0),H25+K25,0) -> 0
B26: Year 10 | C26: =$B$7 -> FC | F26: =D26*E26 -> 0 | G26: =$B$8 -> 0.1 | H26: =IF(G26<>0,F26/G26,0) -> 0 | K26: =I26*J26 -> 0 | L26: =IF(OR(J26>0,H26>0),H26+K26,0) -> 0
C27: =$B$7 -> FC | F27: =D27*E27 -> 0 | G27: =$B$8 -> 0.1 | H27: =IF(G27<>0,F27/G27,0) -> 0 | K27: =I27*J27 -> 0 | L27: =IF(OR(J27>0,H27>0),H27+K27,0) -> 0
C28: =$B$7 -> FC | F28: =D28*E28 -> 0 | G28: =$B$8 -> 0.1 | H28: =IF(G28<>0,F28/G28,0) -> 0 | K28: =I28*J28 -> 0 | L28: =IF(OR(J28>0,H28>0),H28+K28,0) -> 0
C29: =$B$7 -> FC | F29: =D29*E29 -> 0 | G29: =$B$8 -> 0.1 | H29: =IF(G29<>0,F29/G29,0) -> 0 | K29: =I29*J29 -> 0 | L29: =IF(OR(J29>0,H29>0),H29+K29,0) -> 0
C30: =$B$7 -> FC | F30: =D30*E30 -> 0 | G30: =$B$8 -> 0.1 | H30: =IF(G30<>0,F30/G30,0) -> 0 | K30: =I30*J30 -> 0 | L30: =IF(OR(J30>0,H30>0),H30+K30,0) -> 0
C31: =$B$7 -> FC | F31: =D31*E31 -> 0 | G31: =$B$8 -> 0.1 | H31: =IF(G31<>0,F31/G31,0) -> 0 | K31: =I31*J31 -> 0 | L31: =IF(OR(J31>0,H31>0),H31+K31,0) -> 0
A32: 5.2 | B32: (Any other costs related to maintenance and support, not included under 5.1)
B33: Support and Maintenance of 7 x additional workstations listed under options | C33: =$B$7 -> FC | F33: =D33*E33 -> 0 | G33: =$B$8 -> 0.1 | H33: =IF(G33<>0,F33/G33,0) -> 0 | K33: =I33*J33 -> 0 | L33: =IF(OR(J33>0,H33>0),H33+K33,0) -> 0
C34: =$B$7 -> FC | F34: =D34*E34 -> 0 | G34: =$B$8 -> 0.1 | H34: =IF(G34<>0,F34/G34,0) -> 0 | K34: =I34*J34 -> 0 | L34: =IF(OR(J34>0,H34>0),H34+K34,0) -> 0
C35: =$B$7 -> FC | F35: =D35*E35 -> 0 | G35: =$B$8 -> 0.1 | H35: =IF(G35<>0,F35/G35,0) -> 0 | K35: =I35*J35 -> 0 | L35: =IF(OR(J35>0,H35>0),H35+K35,0) -> 0
C36: =$B$7 -> FC | F36: =D36*E36 -> 0 | G36: =$B$8 -> 0.1 | H36: =IF(G36<>0,F36/G36,0) -> 0 | K36: =I36*J36 -> 0 | L36: =IF(OR(J36>0,H36>0),H36+K36,0) -> 0
C37: =$B$7 -> FC | F37: =D37*E37 -> 0 | G37: =$B$8 -> 0.1 | H37: =IF(G37<>0,F37/G37,0) -> 0 | K37: =I37*J37 -> 0 | L37: =IF(OR(J37>0,H37>0),H37+K37,0) -> 0
C38: =$B$7 -> FC | F38: =D38*E38 -> 0 | G38: =$B$8 -> 0.1 | H38: =IF(G38<>0,F38/G38,0) -> 0 | K38: =I38*J38 -> 0 | L38: =IF(OR(J38>0,H38>0),H38+K38,0) -> 0
C39: =$B$7 -> FC | F39: =D39*E39 -> 0 | G39: =$B$8 -> 0.1 | H39: =IF(G39<>0,F39/G39,0) -> 0 | K39: =I39*J39 -> 0 | L39: =IF(OR(J39>0,H39>0),H39+K39,0) -> 0
C40: =$B$7 -> FC | F40: =D40*E40 -> 0 | G40: =$B$8 -> 0.1 | H40: =IF(G40<>0,F40/G40,0) -> 0 | K40: =I40*J40 -> 0 | L40: =IF(OR(J40>0,H40>0),H40+K40,0) -> 0
C41: =$B$7 -> FC | F41: =D41*E41 -> 0 | G41: =$B$8 -> 0.1 | H41: =IF(G41<>0,F41/G41,0) -> 0 | K41: =I41*J41 -> 0 | L41: =IF(OR(J41>0,H41>0),H41+K41,0) -> 0
C42: =$B$7 -> FC | F42: =D42*E42 -> 0 | G42: =$B$8 -> 0.1 | H42: =IF(G42<>0,F42/G42,0) -> 0 | K42: =I42*J42 -> 0 | L42: =IF(OR(J42>0,H42>0),H42+K42,0) -> 0
C43: =$B$7 -> FC | F43: =D43*E43 -> 0 | G43: =$B$8 -> 0.1 | H43: =IF(G43<>0,F43/G43,0) -> 0 | K43: =I43*J43 -> 0 | L43: =IF(OR(J43>0,H43>0),H43+K43,0) -> 0
C44: =$B$7 -> FC | F44: =D44*E44 -> 0 | G44: =$B$8 -> 0.1 | H44: =IF(G44<>0,F44/G44,0) -> 0 | K44: =I44*J44 -> 0 | L44: =IF(OR(J44>0,H44>0),H44+K44,0) -> 0
...

Sheet G6_1_Support_Inflated
A1: TENDER PRICE SCHEDULE: APPENDIX G5
A2: (INCLUDE VALUE ADDED TAX ON SHEET "G1: SUMMARY")
A3: TENDERER : | B3: =Instructions!D3 -> Bidder Company name
A4: PROJECT : | B4: =Instructions!D4 -> ATNS/RFP06/06/2026/27/TPG_CNS PLANNING TOOL
A5: Item Nr: | B5: G6.1
A6: Item Description: | B6: Support and Maintenance with inflation
A7: Foreign Currancy | B7: =Instructions!D5 -> FC
A8: ROE: 1R = | B8: =Instructions!D6 -> 0.1
C10: Overseas Items | I10: Local Items
A12: Schedule Item Number | B12: Description | C12: Foreign Currency | D12: Quantity | E12: Foreign Amount Unit Cost | F12: Foreign Amount Total Cost | G12: ROE: 1R = … | H12: Total Foreign Cost in Rands | I12: Quantity | J12: Local Amount Unit Cost | K12: Local Amount Total Cost | L12: Total Rands
A15: =B5 -> G6.1 | B15: =B6 -> Support and Maintenance with inflation
A16: 6.1.1 | B16: (Details on the proposed maintenance and support contract must be included on this schedule. This must include any license costs)
B17: Year 1 | C17: =$B$7 -> FC | F17: =D17*E17 -> 0 | G17: =$B$8 -> 0.1 | H17: =IF(G17<>0,F17/G17,0) -> 0 | K17: =I17*J17 -> 0 | L17: =IF(OR(J17>0,H17>0),H17+K17,0) -> 0
B18: Year 2 | C18: =$B$7 -> FC | F18: =D18*E18 -> 0 | G18: =$B$8 -> 0.1 | H18: =IF(G18<>0,F18/G18,0) -> 0 | K18: =I18*J18 -> 0 | L18: =IF(OR(J18>0,H18>0),H18+K18,0) -> 0
B19: Year 3 | C19: =$B$7 -> FC | F19: =D19*E19 -> 0 | G19: =$B$8 -> 0.1 | H19: =IF(G19<>0,F19/G19,0) -> 0 | K19: =I19*J19 -> 0 | L19: =IF(OR(J19>0,H19>0),H19+K19,0) -> 0
B20: Year 4 | C20: =$B$7 -> FC | F20: =D20*E20 -> 0 | G20: =$B$8 -> 0.1 | H20: =IF(G20<>0,F20/G20,0) -> 0 | K20: =I20*J20 -> 0 | L20: =IF(OR(J20>0,H20>0),H20+K20,0) -> 0
B21: Year 5 | C21: =$B$7 -> FC | F21: =D21*E21 -> 0 | G21: =$B$8 -> 0.1 | H21: =IF(G21<>0,F21/G21,0) -> 0 | K21: =I21*J21 -> 0 | L21: =IF(OR(J21>0,H21>0),H21+K21,0) -> 0
B22: Year 6 | C22: =$B$7 -> FC | F22: =D22*E22 -> 0 | G22: =$B$8 -> 0.1 | H22: =IF(G22<>0,F22/G22,0) -> 0 | K22: =I22*J22 -> 0 | L22: =IF(OR(J22>0,H22>0),H22+K22,0) -> 0
B23: Year 7 | C23: =$B$7 -> FC | F23: =D23*E23 -> 0 | G23: =$B$8 -> 0.1 | H23: =IF(G23<>0,F23/G23,0) -> 0 | K23: =I23*J23 -> 0 | L23: =IF(OR(J23>0,H23>0),H23+K23,0) -> 0
B24: Year 8 | C24: =$B$7 -> FC | F24: =D24*E24 -> 0 | G24: =$B$8 -> 0.1 | H24: =IF(G24<>0,F24/G24,0) -> 0 | K24: =I24*J24 -> 0 | L24: =IF(OR(J24>0,H24>0),H24+K24,0) -> 0
B25: Year 9 | C25: =$B$7 -> FC | F25: =D25*E25 -> 0 | G25: =$B$8 -> 0.1 | H25: =IF(G25<>0,F25/G25,0) -> 0 | K25: =I25*J25 -> 0 | L25: =IF(OR(J25>0,H25>0),H25+K25,0) -> 0
B26: Year 10 | C26: =$B$7 -> FC | F26: =D26*E26 -> 0 | G26: =$B$8 -> 0.1 | H26: =IF(G26<>0,F26/G26,0) -> 0 | K26: =I26*J26 -> 0 | L26: =IF(OR(J26>0,H26>0),H26+K26,0) -> 0
C27: =$B$7 -> FC | F27: =D27*E27 -> 0 | G27: =$B$8 -> 0.1 | H27: =IF(G27<>0,F27/G27,0) -> 0 | K27: =I27*J27 -> 0 | L27: =IF(OR(J27>0,H27>0),H27+K27,0) -> 0
C28: =$B$7 -> FC | F28: =D28*E28 -> 0 | G28: =$B$8 -> 0.1 | H28: =IF(G28<>0,F28/G28,0) -> 0 | K28: =I28*J28 -> 0 | L28: =IF(OR(J28>0,H28>0),H28+K28,0) -> 0
C29: =$B$7 -> FC | F29: =D29*E29 -> 0 | G29: =$B$8 -> 0.1 | H29: =IF(G29<>0,F29/G29,0) -> 0 | K29: =I29*J29 -> 0 | L29: =IF(OR(J29>0,H29>0),H29+K29,0) -> 0
C30: =$B$7 -> FC | F30: =D30*E30 -> 0 | G30: =$B$8 -> 0.1 | H30: =IF(G30<>0,F30/G30,0) -> 0 | K30: =I30*J30 -> 0 | L30: =IF(OR(J30>0,H30>0),H30+K30,0) -> 0
C31: =$B$7 -> FC | F31: =D31*E31 -> 0 | G31: =$B$8 -> 0.1 | H31: =IF(G31<>0,F31/G31,0) -> 0 | K31: =I31*J31 -> 0 | L31: =IF(OR(J31>0,H31>0),H31+K31,0) -> 0
A32: 6.1.2 | B32: (Any other costs related to maintenance and support, not included under 6.1.1)
B33: Support and Maintenance of 7 x additional workstations listed under options | C33: =$B$7 -> FC | F33: =D33*E33 -> 0 | G33: =$B$8 -> 0.1 | H33: =IF(G33<>0,F33/G33,0) -> 0 | K33: =I33*J33 -> 0 | L33: =IF(OR(J33>0,H33>0),H33+K33,0) -> 0
C34: =$B$7 -> FC | F34: =D34*E34 -> 0 | G34: =$B$8 -> 0.1 | H34: =IF(G34<>0,F34/G34,0) -> 0 | K34: =I34*J34 -> 0 | L34: =IF(OR(J34>0,H34>0),H34+K34,0) -> 0
C35: =$B$7 -> FC | F35: =D35*E35 -> 0 | G35: =$B$8 -> 0.1 | H35: =IF(G35<>0,F35/G35,0) -> 0 | K35: =I35*J35 -> 0 | L35: =IF(OR(J35>0,H35>0),H35+K35,0) -> 0
C36: =$B$7 -> FC | F36: =D36*E36 -> 0 | G36: =$B$8 -> 0.1 | H36: =IF(G36<>0,F36/G36,0) -> 0 | K36: =I36*J36 -> 0 | L36: =IF(OR(J36>0,H36>0),H36+K36,0) -> 0
C37: =$B$7 -> FC | F37: =D37*E37 -> 0 | G37: =$B$8 -> 0.1 | H37: =IF(G37<>0,F37/G37,0) -> 0 | K37: =I37*J37 -> 0 | L37: =IF(OR(J37>0,H37>0),H37+K37,0) -> 0
C38: =$B$7 -> FC | F38: =D38*E38 -> 0 | G38: =$B$8 -> 0.1 | H38: =IF(G38<>0,F38/G38,0) -> 0 | K38: =I38*J38 -> 0 | L38: =IF(OR(J38>0,H38>0),H38+K38,0) -> 0
C39: =$B$7 -> FC | F39: =D39*E39 -> 0 | G39: =$B$8 -> 0.1 | H39: =IF(G39<>0,F39/G39,0) -> 0 | K39: =I39*J39 -> 0 | L39: =IF(OR(J39>0,H39>0),H39+K39,0) -> 0
C40: =$B$7 -> FC | F40: =D40*E40 -> 0 | G40: =$B$8 -> 0.1 | H40: =IF(G40<>0,F40/G40,0) -> 0 | K40: =I40*J40 -> 0 | L40: =IF(OR(J40>0,H40>0),H40+K40,0) -> 0
C41: =$B$7 -> FC | F41: =D41*E41 -> 0 | G41: =$B$8 -> 0.1 | H41: =IF(G41<>0,F41/G41,0) -> 0 | K41: =I41*J41 -> 0 | L41: =IF(OR(J41>0,H41>0),H41+K41,0) -> 0
C42: =$B$7 -> FC | F42: =D42*E42 -> 0 | G42: =$B$8 -> 0.1 | H42: =IF(G42<>0,F42/G42,0) -> 0 | K42: =I42*J42 -> 0 | L42: =IF(OR(J42>0,H42>0),H42+K42,0) -> 0
C43: =$B$7 -> FC | F43: =D43*E43 -> 0 | G43: =$B$8 -> 0.1 | H43: =IF(G43<>0,F43/G43,0) -> 0 | K43: =I43*J43 -> 0 | L43: =IF(OR(J43>0,H43>0),H43+K43,0) -> 0
C44: =$B$7 -> FC | F44: =D44*E44 -> 0 | G44: =$B$8 -> 0.1 | H44: =IF(G44<>0,F44/G44,0) -> 0 | K44: =I44*J44 -> 0 | L44: =IF(OR(J44>0,H44>0),H44+K44,0) -> 0
...

Sheet G6_2_Midlife_Intervention
A1: TENDER PRICE SCHEDULE: APPENDIX G3
A2: (INCLUDE VALUE ADDED TAX ON SHEET "G1: SUMMARY")
A3: BIDDER : | B3: =Instructions!D3 -> Bidder Company name
A4: PROJECT : | B4: =Instructions!D4 -> ATNS/RFP06/06/2026/27/TPG_CNS PLANNING TOOL
A5: Item Nr: | B5: G6.2
A6: Item Description: | B6: Midlife Intervention
A7: Foreign Currancy | B7: =Instructions!D5 -> FC
A8: ROE: 1R = | B8: =Instructions!D6 -> 0.1
C10: Overseas Items | I10: Local Items
A12: Schedule Item Number | B12: Description {Equipment Common to all site} | C12: Foreign Currency | D12: Quantity | E12: Foreign Amount Unit Cost | F12: Foreign Amount Total Cost | G12: ROE: 1R = … | H12: Total Foreign Cost in Rands | I12: Quantity | J12: Local Amount Unit Cost | K12: Local Amount Total Cost | L12: Total Rands
A15: =B5 -> G6.2 | B15: =B6 -> Midlife Intervention
A16: 6.2.1 | B16: Hardware
B17: (List all hardware required for the CNS planning tool midlife intervention, including relevant product information and quantities)
C18: =$B$7 -> FC | F18: =D18*E18 -> 0 | G18: =$B$8 -> 0.1 | H18: =IF(G18<>0,F18/G18,0) -> 0 | K18: =I18*J18 -> 0 | L18: =IF(OR(J18>0,H18>0),H18+K18,0) -> 0
C19: =$B$7 -> FC | F19: =D19*E19 -> 0 | G19: =$B$8 -> 0.1 | H19: =IF(G19<>0,F19/G19,0) -> 0 | K19: =I19*J19 -> 0 | L19: =IF(OR(J19>0,H19>0),H19+K19,0) -> 0
C20: =$B$7 -> FC | F20: =D20*E20 -> 0 | G20: =$B$8 -> 0.1 | H20: =IF(G20<>0,F20/G20,0) -> 0 | K20: =I20*J20 -> 0 | L20: =IF(OR(J20>0,H20>0),H20+K20,0) -> 0
C21: =$B$7 -> FC | F21: =D21*E21 -> 0 | G21: =$B$8 -> 0.1 | H21: =IF(G21<>0,F21/G21,0) -> 0 | K21: =I21*J21 -> 0 | L21: =IF(OR(J21>0,H21>0),H21+K21,0) -> 0
C22: =$B$7 -> FC | F22: =D22*E22 -> 0 | G22: =$B$8 -> 0.1 | H22: =IF(G22<>0,F22/G22,0) -> 0 | K22: =I22*J22 -> 0 | L22: =IF(OR(J22>0,H22>0),H22+K22,0) -> 0
C23: =$B$7 -> FC | F23: =D23*E23 -> 0 | G23: =$B$8 -> 0.1 | H23: =IF(G23<>0,F23/G23,0) -> 0 | K23: =I23*J23 -> 0 | L23: =IF(OR(J23>0,H23>0),H23+K23,0) -> 0
C24: =$B$7 -> FC | F24: =D24*E24 -> 0 | G24: =$B$8 -> 0.1 | H24: =IF(G24<>0,F24/G24,0) -> 0 | K24: =I24*J24 -> 0 | L24: =IF(OR(J24>0,H24>0),H24+K24,0) -> 0
C25: =$B$7 -> FC | F25: =D25*E25 -> 0 | G25: =$B$8 -> 0.1 | H25: =IF(G25<>0,F25/G25,0) -> 0 | K25: =I25*J25 -> 0 | L25: =IF(OR(J25>0,H25>0),H25+K25,0) -> 0
C26: =$B$7 -> FC | F26: =D26*E26 -> 0 | G26: =$B$8 -> 0.1 | H26: =IF(G26<>0,F26/G26,0) -> 0 | K26: =I26*J26 -> 0 | L26: =IF(OR(J26>0,H26>0),H26+K26,0) -> 0
C27: =$B$7 -> FC | F27: =D27*E27 -> 0 | G27: =$B$8 -> 0.1 | H27: =IF(G27<>0,F27/G27,0) -> 0 | K27: =I27*J27 -> 0 | L27: =IF(OR(J27>0,H27>0),H27+K27,0) -> 0
C28: =$B$7 -> FC | F28: =D28*E28 -> 0 | G28: =$B$8 -> 0.1 | H28: =IF(G28<>0,F28/G28,0) -> 0 | K28: =I28*J28 -> 0 | L28: =IF(OR(J28>0,H28>0),H28+K28,0) -> 0
C29: =$B$7 -> FC | F29: =D29*E29 -> 0 | G29: =$B$8 -> 0.1 | H29: =IF(G29<>0,F29/G29,0) -> 0 | K29: =I29*J29 -> 0 | L29: =IF(OR(J29>0,H29>0),H29+K29,0) -> 0
... C39: =$B$7 -> FC | F39: =D39*E39 -> 0 | G39: =$B$8 -> 0.1 | H39: =IF(G39<>0,F39/G39,0) -> 0 | K39: =I39*J39 -> 0 | L39: =IF(OR(J39>0,H39>0),H39+K39,0) -> 0
A41: 6.2.2 | B41: Miscellaneous
B42: (List items and services necessary for the installation, commissioning. To be individually itemized and priced.)
C43: =$B$7 -> FC | F43: =D43*E43 -> 0 | G43: =$B$8 -> 0.1 | H43: =IF(G43<>0,F43/G43,0) -> 0 | K43: =I43*J43 -> 0 | L43: =IF(OR(J43>0,H43>0),H43+K43,0) -> 0
C44: =$B$7 -> FC | F44: =D44*E44 -> 0 | G44: =$B$8 -> 0.1 | H44: =IF(G44<>0,F44/G44,0) -> 0 | K44: =I44*J44 -> 0 | L44: =IF(OR(J44>0,H44>0),H44+K44,0) -> 0
C45: =$B$7 -> FC | F45: =D45*E45 -> 0 | G45: =$B$8 -> 0.1 | H45: =IF(G45<>0,F45/G45,0) -> 0 | K45: =I45*J45 -> 0 | L45: =IF(OR(J45>0,H45>0),H45+K45,0) -> 0
C46: =$B$7 -> FC | F46: =D46*E46 -> 0 | G46: =$B$8 -> 0.1 | H46: =IF(G46<>0,F46/G46,0) -> 0 | K46: =I46*J46 -> 0 | L46: =IF(OR(J46>0,H46>0),H46+K46,0) -> 0
C47: =$B$7 -> FC | F47: =D47*E47 -> 0 | G47: =$B$8 -> 0.1 | H47: =IF(G47<>0,F47/G47,0) -> 0 | K47: =I47*J47 -> 0 | L47: =IF(OR(J47>0,H47>0),H47+K47,0) -> 0
B49: =+"SUB-TOTAL: "&A15 -> SUB-TOTAL: G6.2 | E49: =SUM(E18:E48) -> 0 | F49: =SUM(F18:F48) -> 0 | G49: =$B$8 -> 0.1 | H49: =SUM(H18:H48) -> 0 | K49: =SUM(K18:K48) -> 0 | L49: =SUM(L18:L48) -> 0
