Workbook
Name _ftn1: '1.Requirements of Spec'!$D$19
Name _ftnref1: '1.Requirements of Spec'!#REF!
Name _Ref116978520: '1.Requirements of Spec'!#REF!
Name _Ref116978521: '1.Requirements of Spec'!#REF!
Name _Ref116978527: '1.Requirements of Spec'!#REF!
Name _Ref116978549: '1.Requirements of Spec'!$D$152
Name _Ref116978554: '1.Requirements of Spec'!$D$153
Name _Ref116978555: '1.Requirements of Spec'!$D$154
Name _Ref116978933: '1.Requirements of Spec'!$D$107
Name _Ref116978934: '1.Requirements of Spec'!#REF!
Name _Ref116978935: '1.Requirements of Spec'!#REF!
Name _Ref116978936: '1.Requirements of Spec'!$D$108
Name _Ref116978937: '1.Requirements of Spec'!#REF!
Name _Ref116978939: '1.Requirements of Spec'!#REF!
Name _Ref419269376: '1.Requirements of Spec'!#REF!
Name _Ref419269376: '2. Experience'!#REF!
Name _Ref429756239: '1.Requirements of Spec'!#REF!
Name _Ref429756239: '2. Experience'!#REF!
Name _Ref429756240: '1.Requirements of Spec'!$E$51
Name _Ref429756240: '2. Experience'!#REF!
Name _Ref429756241: '1.Requirements of Spec'!#REF!
Name _Ref429756241: '2. Experience'!#REF!
Name _Toc149640947: '1.Requirements of Spec'!$D$106
Name _Toc414971165: 'Evaluation Summary'!#REF!
Name _Toc426377555: '1.Requirements of Spec'!#REF!
Name _Toc426377555: '2. Experience'!#REF!
Name _Toc426377556: '1.Requirements of Spec'!#REF!
Name _Toc426377556: '2. Experience'!#REF!
Name _Toc426377557: '1.Requirements of Spec'!#REF!
Name _Toc426377557: '2. Experience'!#REF!
Name _Toc426377564: '1.Requirements of Spec'!#REF!
Name _Toc426377564: '2. Experience'!#REF!
Name _Toc426377572: '1.Requirements of Spec'!#REF!
Name _Toc426377572: '2. Experience'!#REF!
Name _Toc427314390: 'Evaluation Summary'!#REF!
Name _Toc427314437: '1.Requirements of Spec'!#REF!
Name _Toc427314437: '2. Experience'!#REF!
Name _Toc427314438: '1.Requirements of Spec'!#REF!
Name _Toc427314438: '2. Experience'!#REF!
Name _Toc427314440: '1.Requirements of Spec'!#REF!
Name _Toc427314440: '2. Experience'!#REF!

Sheet Introduction
B2: Introduction - Tenderers to read carefully
B4: The following section details the Technical Evaluation process to be followed. It is imperative that tenderers familiarise themselves with this and direct any questions as early as possible to the commercial representative for this tender. Scoring for all evaluations will be conducted as per sheet: Scoring Lookup Important: It is not compulsory to complete the orange-shaded "Tenderer's response" / "B-schedule" columns in any of these sheets. However these will assist the evaluators in confirming compliance. Tender submissions must however confirm / detail how they meet all requirements.
B6: General notes: | C6: Tenderers are encouraged to complete all questions & B-schedule columns, and provide all references to supporting documentation. Note: Completing "Tenderers Response" and B-schedule columns are not mandatory (orange-shaded fields), however if not completed, evaluators will use other submitted documents to ascertain the level of compliance.
C7: Tenderers are encouraged to complete all orange-shaded fields
C8: Eskom evaluators will use blue-shaded fields
B9: Technical Returnables | C9: 1. Technical Evaluation (this Excel). All sheets recommended to be fully completed, and all justification & references provided, as required.
C10: 2. Completed AB schedule contained in 240-170000103 - Lithium Iron Phosphate Batteries Standard (pg. 18-21)
C11: 3. All items listed as tender returnables in 34-127T, e.g. see section 8, as well as Schedule A returnables listed in the following sheets.
B13: Sheet: 0. Mandatory Requirements | C13: This criteria is mandatory. Tender submissions must prove compliance as stipulated. Its recommended to complete all orange-shaded "Tenderer's Response" columns with references. Completing these fields will assist evaluators in confirming compliance. Tenderers that do not meet this requirement will NOT be further evaluated.
C14: Tenderers are encouraged to complete all orange-shaded fields
C15: Eskom evaluators will use blue-shaded fields
B17: Sheet: 1. Requirements of Spec | C17: Compliance to Eskom URS 34-127T: "User Requirement Specification for a Microgrid at Eskom’s Brackenfell Complex: M-Block Carports" will be determined in this section.
C18: Compliance will be determined by means of a clause-by-clause evaluation, as well as a deviation schedule for all clauses not explicitly listed. Although not compulsory, its recommended to complete the B-schedules with references (sheets 1-3)
C19: The specific requirements of this tender is stipulated in the column labelled: Schedule A.
C20: Schedule A may require specific information to be provided by the tenderer. Where allowed or appropriate, this may be provided as text directly in the column labelled: Schedule B. Should further supporting information be required, this shall be provided separately (i.e. attached) and preferably referred to from Schedule B.
C21: Items for which Schedule A requires only "Comply", the tenderer may only state their compliance, i.e. "Comply", "Do Not Comply", or "Partially Comply" (and provide reasons for not/partially complying). Evaluators will use the B-schedule responses (if completed) along with the tenderer's full submission to ascertain compliance.
C22: Tenderers are encouraged to state their compliance to each requirement in Schedule B (orange-shaded fields).
C23: Eskom evaluators will use blue-shaded fields
B25: Sheet: 2. Experience | C25: These sections are heavily weighted.
C26: By not providing satisfactory detail, the tenderer risks being penalised during Eskom's evaluation.
C27: Where appropriate, detail can be provided directly within the Schedule B column.
C28: Where required, additional documentation must be provided. Tenderers are encouraged to add suitable references (e.g. "See File XYZ attached") to the Schedule B.
C29: Tenderer are encouraged state their compliance to each requirement in Schedule B (orange-shaded fields).
C30: Eskom evaluators will use blue-shaded fields
B32: Sheet: 3. Deviations | C32: Tenderer to list all deviations for the standards referenced. This is an assessment of non-compliance and potential risks with the submission. Tenderers should be aware that the evaluation process will assess the acceptability of project deviations and risks, with recommendations presented to governance committees for review, and acceptance or not.
C33: Tenderer to complete all orange-shaded fields
C34: Eskom evaluators will use blue-shaded fields

Sheet Evaluation Summary
B2: Technical Evaluation Results
B4: Supplier: | D4: <= Tenderer to insert name
B5: Evaluator:
B6: Date:
B8: Mandatory Technical Criteria
B9: Tenderer meets all Mandatory items
C11: Available | D11: Achieved
B12: Functional Evaluation Criteria | C12: Percentage of Total
B13: 1. Requirements of 34-127T | C13: 0.8 | D13: ='1.Requirements of Spec'!G5 -> 0
B14: 2. Experience [section minimum pass-rate: 70%] | C14: 0.2 | D14: ='2. Experience'!F5 -> 0
B15: Minimum Total Percentage to be Achieved: 80% | D15: =(C13*D13)+(C14*D14) -> 0
B17: Noteworthy Risks and Deviations identified: | C17: Recommendation:

Sheet 0. Mandatory Requirements
B3: =Introduction!C13 -> This criteria is mandatory. Tender submissions must prove compliance as stipulated. Its recommended to complete all orange-shaded "Tenderer's Response" columns with references. Completing these fields will assist evaluators in confirming compliance. Tenderers that do not meet this requirement will NOT be further evaluated.
B7: Requirements: | D7: Justification required from Tenderer: | E7: Tenderer's response Completion encouraged (not mandatory) | F7: Justification / References Completion encouraged (not mandatory) | G7: Assessment | H7: Assessment Comment
B8: 4.1.1 Primary metrics: | C8: Value
A9: 0.1 | B9: Point of Generator Connection (PGC) | C9: 2x LV (M-Block and E-Block buildings) | D9: Provide documentation as specified in section 8.1 of 32-127T and other relevant tender returnables. Submissions lacking the necessary design and/or supporting documentation to justify compliance with this requirement will be deemed unacceptable and will not proceed to the next evaluation stage.
A10: 0.2 | B10: Inverters | C10: *Hybrid (PV and BESS integrated) | D10: Provide documentation as specified in section 8.1 of 32-127T and other relevant tender returnables. Submissions lacking the necessary design and/or supporting documentation to justify compliance with this requirement will be deemed unacceptable and will not proceed to the next evaluation stage.
A11: 0.3 | B11: Inverter Continuous AC Output, per PGC | C11: 100 kW | D11: Provide documentation as specified in section 8.1 of 32-127T and other relevant tender returnables. Submissions lacking the necessary design and/or supporting documentation to justify compliance with this requirement will be deemed unacceptable and will not proceed to the next evaluation stage.
A12: 0.6 | B12: PV Peak Capacity (DC) | C12: 200 kWp Total, 100kW per PGC | D12: Provide documentation as specified in section 8.1 of 32-127T and other relevant tender returnables. Submissions lacking the necessary design and/or supporting documentation to justify compliance with this requirement will be deemed unacceptable and will not proceed to the next evaluation stage.
A13: 0.7 | B13: Battery Usable AC Storage Capacity, at OEM recommended DoD, per PGC | C13: 70 kWh | D13: Provide documentation as specified in section 8.1 of 32-127T and other relevant tender returnables. Submissions lacking the necessary design and/or supporting documentation to justify compliance with this requirement will be deemed unacceptable and will not proceed to the next evaluation stage.
A14: 0.8 | B14: Battery Continuous Power Output, per PGC | C14: 70 kW | D14: Provide documentation as specified in section 8.1 of 32-127T and other relevant tender returnables. Submissions lacking the necessary design and/or supporting documentation to justify compliance with this requirement will be deemed unacceptable and will not proceed to the next evaluation stage.
A15: 0.9 | B15: Battery Chemistry | C15: Lithium iron phosphate (LiFePO4) | D15: Provide documentation as specified in section 8.1 of 32-127T and other relevant tender returnables. Submissions lacking the necessary design and/or supporting documentation to justify compliance with this requirement will be deemed unacceptable and will not proceed to the next evaluation stage.
B16: *Hybrid inverters with a single DC bus and single inverter step shall be utilised. This is to avoid any future whereby the complex's total PV and BESS inverters collectively surpasses the City of Cape Town's 1 MVA threshold, whereby a dedicated protected substation will be required.
C18: Continue on the next sheet….........

Sheet 1.Requirements of Spec
A1: 1 | B1: .1 | C1: Requirements of 34-127T
C2: This section evaluates key sections of the user requirement specification 34-127T. Note that all sections of 34-127T are applicable to the final solution, whether measured here or not.
C3: Supplier: | D3: ='Evaluation Summary'!C4 -> 0 | F3: Points Available | G3: =SUM(M:M) -> 1590
C4: Evaluator: | D4: ='Evaluation Summary'!C5 -> 0 | F4: Points Achieved | G4: =SUM(L:L) -> 0
C5: Date: | D5: ='Evaluation Summary'!C6 -> 0 | F5: Section score | G5: =G4/G3 -> 0
F6: Section Weighting % | G6: ='Evaluation Summary'!C13 -> 0.8
A8: Number | D8: Clause | E8: Specification | F8: Schedule A | G8: Schedule B (Tenderer encouraged to complete below, based on Specification and Schedule A (not mandatory)) | H8: Further Justification / References (Tenderer to complete, as required) | I8: Assessment | J8: Assessment Comment | K8: Weight | L8: Points Achieved | M8: Points Available
C9: Total
A10: 1 | C10: =C1 -> Requirements of 34-127T | D10: 4 | E10: SYSTEM REQUIREMENTS
D11: 4.1 | E11: PROJECT BASELINE
D12: 4.1.1 (4) | E12: Inverter Peak AC Output for 5 seconds, per PGC (PV + BESS): 120 kW | F12: Comply and provide proof as part of 32-127T section 8.1 and other/related tender returnables. | K12: 20 | L12: =VLOOKUP(I12,'Scoring Lookup'!$B$3:$C$7,2)*K12 -> 0 | M12: =K12*5 -> 100
D13: 4.1.1 (5) | E13: Inverter Continuous Passthrough (Direct Grid -> Essential), per PGC: 200 A | F13: Comply. Note, relaxation of requirement to 200A passthrough per PGC. Provide proof as part of 32-127T section 8.1 and other/related tender returnables. | K13: 20 | L13: =VLOOKUP(I13,'Scoring Lookup'!$B$3:$C$7,2)*K13 -> 0 | M13: =K13*5 -> 100
D14: 4.1.1 (10) | E14: Battery Minimum Cycle Life: 5000 Cycles, under Warranty. (see 4.9.6) | F14: Comply and provide proof as part of 32-127T section 8.1 and/or other tender returnables. Note cycle life requirement under Warranty. | K14: 30 | L14: =VLOOKUP(I14,'Scoring Lookup'!$B$3:$C$7,2)*K14 -> 0 | M14: =K14*5 -> 150
D15: 4.1.1 (11) | E15: Battery Voltage: HV | F15: Comply and provide proof as part of 32-127T section 8.1 and/or other tender returnables. | K15: 10 | L15: =VLOOKUP(I15,'Scoring Lookup'!$B$3:$C$7,2)*K15 -> 0 | M15: =K15*5 -> 50
D16: 4.1.2 - 4.1.5 | F16: Specify deviations in sheet 3
D17: 4.2 | E17: MODES OF OPERATION
E18: The solution will support the following modes of operation, at each PGC: | F18: Introduction
D19: 4.2.1 | E19: Seamless and automatic islanding and synchronisation, to and from the grid in the event of an outage. | F19: Comply | K19: 5 | L19: =VLOOKUP(I19,'Scoring Lookup'!$B$3:$C$7,2)*K19 -> 0 | M19: =K19*5 -> 25
D20: 4.2.2 | E20: User-configurable prioritisation of PV energy production to either essential loads, or battery storage first, with the excess supplied to the other. | F20: Comply | K20: 5 | L20: =VLOOKUP(I20,'Scoring Lookup'!$B$3:$C$7,2)*K20 -> 0 | M20: =K20*5 -> 25
D21: 4.2.3 | E21: Support the feature to export any excess energy to the PGC's grid-facing connection, up to a specified power limit. | F21: Comply | K21: 5 | L21: =VLOOKUP(I21,'Scoring Lookup'!$B$3:$C$7,2)*K21 -> 0 | M21: =K21*5 -> 25
D22: 4.2.4 | E22: Support the option to utilise MV connected CTs at the complex's PUCs, to enable control of energy exports. This will not be implemented at this time, however the solution must support this, should it be required in the future. | F22: Comply | K22: 5 | L22: =VLOOKUP(I22,'Scoring Lookup'!$B$3:$C$7,2)*K22 -> 0 | M22: =K22*5 -> 25
D23: 4.2.5 | E23: Programmable behaviour to perform scheduled grid charge and discharges in a 24h period, using various setting setpoints and sensors / measurements. This and similar functions will allow for flexible peak-shaving schedules to be programmed, and in addition allow for: | F23: Introduction
D24: 4.2.5.1 | E24: Limiting the rate of discharge, | F24: Comply | K24: 5 | L24: =VLOOKUP(I24,'Scoring Lookup'!$B$3:$C$7,2)*K24 -> 0 | M24: =K24*5 -> 25
D25: 4.2.5.2 | E25: Setup of battery SOC limits to start and stop discharging at, | F25: Comply | K25: 5 | L25: =VLOOKUP(I25,'Scoring Lookup'!$B$3:$C$7,2)*K25 -> 0 | M25: =K25*5 -> 25
D26: 4.2.5.3 | E26: At least six programmable time-periods per day where different charge, discharge, thresholds, export enable / disable, and other settings can be automatically switched between, supporting a minute-resolution time setting, | F26: Comply | K26: 5 | L26: =VLOOKUP(I26,'Scoring Lookup'!$B$3:$C$7,2)*K26 -> 0 | M26: =K26*5 -> 25
D27: 4.2.5.4 | E27: Load shaving during times of peak demand or high TOU tariffs, up to 100% of the BESS' peak AC discharge rate, sustained for its full capacity. | F27: Comply | K27: 5 | L27: =VLOOKUP(I27,'Scoring Lookup'!$B$3:$C$7,2)*K27 -> 0 | M27: =K27*5 -> 25
D28: 4.3 | E28: KEY DESIGN CONSTRAINTS
D29: 4.3.1 | E29: All PGCs and PUCs will be at three (3) phases. | F29: Comply | K29: 3 | L29: =VLOOKUP(I29,'Scoring Lookup'!$B$3:$C$7,2)*K29 -> 0 | M29: =K29*5 -> 15
D30: 4.3.2 | E30: The solution shall support a 100% unbalanced load. | F30: Comply | K30: 3 | L30: =VLOOKUP(I30,'Scoring Lookup'!$B$3:$C$7,2)*K30 -> 0 | M30: =K30*5 -> 15
D31: 4.3.8 | E31: All outdoor equipment shall be suitably rated for exposure to UV rays and highly corrosive conditions (e.g. rated / protected against rust). Where required, equipment shall be located to maximise protection against such elements and may necessitate dedicated covers. | F31: Comply | K31: 3 | L31: =VLOOKUP(I31,'Scoring Lookup'!$B$3:$C$7,2)*K31 -> 0 | M31: =K31*5 -> 15
D32: 4.3.9 | E32: All outdoor inverter and battery installations shall be protected by a lockable wire mesh security cage, suitably treated for a highly corrosive environment. This cage shall fully enclose the area, whilst allowing for all O&M activities to occur unobstructed and with no added risks. | F32: Comply | K32: 3 | L32: =VLOOKUP(I32,'Scoring Lookup'!$B$3:$C$7,2)*K32 -> 0 | M32: =K32*5 -> 15
D33: 4.4 | E33: STATUTORY, REGULATORY AND MUNICIPAL
D34: 4.4.2 | E34: Only equipment approved by the City of Cape Town shall be used (where required). | F34: Comply | K34: 5 | L34: =VLOOKUP(I34,'Scoring Lookup'!$B$3:$C$7,2)*K34 -> 0 | M34: =K34*5 -> 25
D35: 4.5 | E35: PHOTOVOLTAIC MODULES
D36: 4.5.1 | E36: Crystalline silicon (c-Si) based PV modules shall be used. | F36: Comply | K36: 5 | L36: =VLOOKUP(I36,'Scoring Lookup'!$B$3:$C$7,2)*K36 -> 0 | M36: =K36*5 -> 25
D37: 4.5.4 | E37: To ensure efficient use of space, module efficiencies shall be at least 19% at a Standard Test Condition (STC) of irradiance 1000 W/m2, spectrum AM 1.5 and cell temperature of 25°C. | F37: Comply & specify efficiency. Provide PV panel datasheets as justification. | K37: 5 | L37: =VLOOKUP(I37,'Scoring Lookup'!$B$3:$C$7,2)*K37 -> 0 | M37: =K37*5 -> 25
D38: 4.5.7 | E38: Within the first year, the actual output power of PV modules shall be within 3% of its rated capacity. | F38: Comply | K38: 5 | L38: =VLOOKUP(I38,'Scoring Lookup'!$B$3:$C$7,2)*K38 -> 0 | M38: =K38*5 -> 25
D39: 4.5.8 | E39: Modules shall not decline in output power by more than 0.8% per year from year 2 to 20, this shall be warranted by the OEM. | F39: Comply | K39: 5 | L39: =VLOOKUP(I39,'Scoring Lookup'!$B$3:$C$7,2)*K39 -> 0 | M39: =K39*5 -> 25
D40: 4.6 | E40: INVERTERS
D41: 4.6.5 | E41: Inverters shall support communication to external data-loggers using Modbus TCP, or Modbus RTU over TCP for real time data transmission. As such, an Ethernet network interface shall be provided. | F41: Comply | K41: 3 | L41: =VLOOKUP(I41,'Scoring Lookup'!$B$3:$C$7,2)*K41 -> 0 | M41: =K41*5 -> 15
D42: 4.6.6 | E42: Inverters shall support a dedicated generator input, capable of accepting the inverter's full rated continuous power output. This input shall also support the charging of batteries. | F42: Comply | K42: 2 | L42: =VLOOKUP(I42,'Scoring Lookup'!$B$3:$C$7,2)*K42 -> 0 | M42: =K42*5 -> 10
D43: 4.7 | E43: AC LV RETICULATION, COMMS & OUTDOOR DB(S) | M43: =K43*5 -> 0
D44: 4.7.1 | E44: AC LV cabling supporting at least 500 A shall be installed from each PGC to the inverters (grid-input). | F44: Specify | K44: 2 | L44: =VLOOKUP(I44,'Scoring Lookup'!$B$3:$C$7,2)*K44 -> 0 | M44: =K44*5 -> 10
D45: 4.7.2 | E45: AC LV cabling supporting at least 500 A shall be installed from each inverter load / essential supply output to its respective PGC (load / essential -output). | F45: Specify | K45: 2 | L45: =VLOOKUP(I45,'Scoring Lookup'!$B$3:$C$7,2)*K45 -> 0 | M45: =K45*5 -> 10
D46: 4.7.5 | E46: Inverters will have both a DC disconnect, and AC disconnect switch (or multiples thereof) for isolation and maintenance purposes. | F46: Comply | K46: 2 | L46: =VLOOKUP(I46,'Scoring Lookup'!$B$3:$C$7,2)*K46 -> 0 | M46: =K46*5 -> 10
D47: 4.7.6 | E47: A 500A (or larger) three phase AC changeover / bypass shall be included for each PGC. This shall be installed within either the outdoor distribution boards, or existing building's board. | F47: Specify | K47: 3 | L47: =VLOOKUP(I47,'Scoring Lookup'!$B$3:$C$7,2)*K47 -> 0 | M47: =K47*5 -> 15
D48: 4.7.10 | E48: 110mm HDPE Ducts shall be installed alongside the new LV cabling to provide for current and future communication between each PGC and its outdoor equipment. A draw-wire shall be left within the ducts to aid in future communication cabling. | F48: Comply | K48: 3 | L48: =VLOOKUP(I48,'Scoring Lookup'!$B$3:$C$7,2)*K48 -> 0 | M48: =K48*5 -> 15
D49: 4.7.11 | E49: Within the 110mm HDPE pipes, a 10-pair or bigger signalling cable shall be provided between each set of outdoor generation equipment and respective PGC. I.e. two cables will be required. The supplied cables shall be suitably rated for the installation environment. At each end the cable shall be labelled and terminated onto suitable terminals. This cable shall support future low bandwidth communication (e.g. RS-485) as well as direct contactor operating (minimum 230Vac @ 10A). | F49: Comply | K49: 2 | L49: =VLOOKUP(I49,'Scoring Lookup'!$B$3:$C$7,2)*K49 -> 0 | M49: =K49*5 -> 10
D50: 4.7.12 | E50: 4.7.12 A 12-core multimode cable shall be provided between each set of outdoor generation equipment and the M-Block Server Room, i.e. two cables will be required. Furthermore, dedicated 32/26mm (outer/inner diameter) HDPE pipes shall be installed. The supplied cables shall be suitably rated for the installation environment. | F50: Comply | K50: 3 | L50: =VLOOKUP(I50,'Scoring Lookup'!$B$3:$C$7,2)*K50 -> 0 | M50: =K50*5 -> 15
D51: 4.9 | E51: BATTERY STORAGE
D52: 4.9.2 | E52: LFP batteries will comply with Eskom standard 240-170000103 - Lithium Iron Phosphate Batteries Standard. A completed schedule B shall be returned as part of the tender package. | F52: Tender Returnable: Tenderer to complete Schedule B of 240-170000103. See pages 18-21. | K52: 20 | L52: =VLOOKUP(I52,'Scoring Lookup'!$B$3:$C$7,2)*K52 -> 0 | M52: =K52*5 -> 100
D53: 4.9.3 | E53: All unspecified schedule A options of 240-170000103 shall be as per the intended application, as per the tenderer's proposal. Deviations to this shall be clearly noted by the tenderer, with special care taken to highlight differences between the design options. | F53: Complete the deviation schedule included within this sheet (Sheet 3).
D54: 4.9.12 | E54: The battery BMS and Controllers shall support communication to external data-loggers using Modbus TCP, or Modbus RTU over TCP for real time data transmission. As such, a network interface shall be provided. | F54: Comply | K54: 2 | L54: =VLOOKUP(I54,'Scoring Lookup'!$B$3:$C$7,2)*K54 -> 0 | M54: =K54*5 -> 10
D55: 4.11 | E55: SYSTEM EFFICIENCIES
D56: All | F56: Specify deviations in sheet 3
D57: 4.12 | E57: ENERGY METERING
D58: 4.12.2 | E58: Two statistical meters will be installed for each PGC, one on the grid and one on the load/essential side. As such four meters will be required in total. | F58: Comply | K58: 3 | L58: =VLOOKUP(I58,'Scoring Lookup'!$B$3:$C$7,2)*K58 -> 0 | M58: =K58*5 -> 15
D59: 4.13 | E59: SAFETY
D60: All | F60: Specify deviations in sheet 3
D61: 4.15 | E61: MONITORING, CONTROL & INSTRUMENTATION (SCADA)
D62: 4.15.1 | E62: An HTML5-based webserver supervisory, control and data acquisition (SCADA) system will be provided, allowing for full visibility, setting changes and control of the system. | F62: Comply - Note: The SCADA system does not have to be Substation class as it will be installed in a stable controlled area in the M-block. | K62: 15 | L62: =VLOOKUP(I62,'Scoring Lookup'!$B$3:$C$7,2)*K62 -> 0 | M62: =K62*5 -> 75
D63: 4.15.6 | E63: All equipment will be monitored and controlled through the SCADA system, inclusive of inverters, chargers, battery BMS and controllers, monitoring, and management systems. | F63: Comply | K63: 15 | L63: =VLOOKUP(I63,'Scoring Lookup'!$B$3:$C$7,2)*K63 -> 0 | M63: =K63*5 -> 75
D64: 4.16 | E64: SCADA HARDWARE
D65: All | F65: Specify deviations in sheet 3
D66: 4.18 | E66: METEOROLOGICAL INSTRUMENTATION
E67: A meteorological system providing climatic data shall be provided and include: | F67: Introduction
D68: 4.18.1 | E68: 1 x high-accuracy calibrated solar reference cells installed per module tilt and orientation. The cell will have the same technology and type as the installed PV modules and installed at the centre of the PV array. The calibration of the reference cell must perform according to IEC 60904-2: Photovoltaic device - Part 2: Requirements for reference solar devices. | F68: Comply | K68: 2 | L68: =VLOOKUP(I68,'Scoring Lookup'!$B$3:$C$7,2)*K68 -> 0 | M68: =K68*5 -> 10
D69: 4.18.2 | E69: 1 x shielded ventilated thermocouple installed at the centre of the PV array to measure the ambient temperature with a measurement accuracy of ±1°C (Pt 100 class B according to IEC 60751). | F69: Comply | K69: 2 | L69: =VLOOKUP(I69,'Scoring Lookup'!$B$3:$C$7,2)*K69 -> 0 | M69: =K69*5 -> 10
D70: 4.18.3 | E70: 1 x thermal sensor installed at the back sheet of the PV module, centre to the PV array to measure module surface temperature with a measurement resolution up to ± 1°C (Pt 100 class B according to IEC 60751). | F70: Comply | K70: 2 | L70: =VLOOKUP(I70,'Scoring Lookup'!$B$3:$C$7,2)*K70 -> 0 | M70: =K70*5 -> 10
D71: 5. | E71: CODES AND STANDARDS
D72: All | F72: Specify deviations in sheet 3
D73: 6. | E73: SITE DESCRIPTION
D74: All | F74: Specify deviations in sheet 3
D75: 7. | E75: WARRANTIES
D76: 7.1 | E76: BASE AND RELATED WARRANTIES
D77: 7.1.2 | E77: The solution shall be offered with a 2-year base warranty where the Tenderer warrants Eskom that the furnished equipment and materials and the completed project are fit for the purpose of producing and storing electricity in accordance with the requirements and are free from defects in workmanship and materials. | F77: Comply | K77: 10 | L77: =VLOOKUP(I77,'Scoring Lookup'!$B$3:$C$7,2)*K77 -> 0 | M77: =K77*5 -> 50
D78: 7.1.4 | E78: A workmanship warranty of minimum of 5-years shall be provided, with the Contractor responsible for addressing and rectifying any defects or issues related to the installation within this period. | F78: Comply | K78: 10 | L78: =VLOOKUP(I78,'Scoring Lookup'!$B$3:$C$7,2)*K78 -> 0 | M78: =K78*5 -> 50
D79: 7.2 | E79: PERFORMANCE WARRANTY
D80: 7.2.1 | E80: Performance warrantees guarantee aspects of the system's operation such as capacity (power and energy), availability and efficiency for the duration of the performance warranty period which should be guaranteed as per the requirements. | F80: Introduction
D81: 7.2.2 | E81: The intended and permissible use of the equipment installed shall be clearly described to avoid disputes on warranty, particularly when the utilisation of a particular system has been changed from initial intent. | F81: Comply & specify permissible use. | K81: 2 | L81: =VLOOKUP(I81,'Scoring Lookup'!$B$3:$C$7,2)*K81 -> 0 | M81: =K81*5 -> 10
D82: 7.2.3 | E82: Under the capacity warranty, the contractor shall guarantee that the solution is able to deliver the minimum power and energy capacities as specified in the requirements, with degrading factors not exceeding those directly specified, or indirectly through references to normative standards. | F82: Comply | K82: 2 | L82: =VLOOKUP(I82,'Scoring Lookup'!$B$3:$C$7,2)*K82 -> 0 | M82: =K82*5 -> 10
D83: 7.2.4 | E83: Under the availability warranty, the contractor shall specify the minimum availability of their solution. This shall be calculated as the weighted peak power output of units out of service, with respect to the overall installed capacity, over the different time periods. An availability warranty of at least 98% shall be provided. | F83: Specify | K83: 2 | L83: =VLOOKUP(I83,'Scoring Lookup'!$B$3:$C$7,2)*K83 -> 0 | M83: =K83*5 -> 10
D84: 8. | E84: SCOPE OF WORK
D85: 8.1 | E85: TENDERING PHASE
E86: Tendered proposals shall include the following technical documentation: | F86: Introduction
D87: 8.1.1 | E87: Completed technical evaluation criteria. | F87: This document
D88: 8.1.2 | E88: Preliminary design package for review. This shall include relevant power, capacity, etc. calculations of all major electrical equipment, inclusive of the inverters, batteries, AC and DC cabling. | F88: Tender Returnable | G88: Tenderer to submit this document with the submission. | K88: 15 | L88: =VLOOKUP(I88,'Scoring Lookup'!$B$3:$C$7,2)*K88 -> 0 | M88: =K88*5 -> 75
D89: 8.1.3 | E89: BOM (Bill of Materials), to include detail of individual inverters, BESS / batteries, PV modules, integration equipment, SCADA, metering, major cable, structural works, etc. | F89: Tender Returnable | G89: Tenderer to submit this document with the submission. | K89: 10 | L89: =VLOOKUP(I89,'Scoring Lookup'!$B$3:$C$7,2)*K89 -> 0 | M89: =K89*5 -> 50
D90: 8.1.4 | E90: BESS specifications, including the minimum guaranteed usable capacity at its DC interface and cycle lifetime with recommended DoD. | F90: Tender Returnable | G90: Tenderer to submit this document with the submission. | K90: 2 | L90: =VLOOKUP(I90,'Scoring Lookup'!$B$3:$C$7,2)*K90 -> 0 | M90: =K90*5 -> 10
D91: 8.1.5 | E91: Calculated solar DC and AC peak power capabilities, per PGC. | F91: Tender Returnable | G91: Tenderer to submit this document with the submission. | K91: 2 | L91: =VLOOKUP(I91,'Scoring Lookup'!$B$3:$C$7,2)*K91 -> 0 | M91: =K91*5 -> 10
D92: 8.1.6 | E92: Preliminary power network diagram of the microgrid system. | F92: Tender Returnable | G92: Tenderer to submit this document with the submission. | K92: 5 | L92: =VLOOKUP(I92,'Scoring Lookup'!$B$3:$C$7,2)*K92 -> 0 | M92: =K92*5 -> 25
D93: 8.1.7 | E93: Preliminary logic diagrams of the control systems. | F93: Tender Returnable | G93: Tenderer to submit this document with the submission. | K93: 2 | L93: =VLOOKUP(I93,'Scoring Lookup'!$B$3:$C$7,2)*K93 -> 0 | M93: =K93*5 -> 10
D94: 8.1.8 | E94: Preliminary Communication network diagram, including a typical SCADA data/points list. | F94: Tender Returnable | G94: Tenderer to submit this document with the submission. | K94: 2 | L94: =VLOOKUP(I94,'Scoring Lookup'!$B$3:$C$7,2)*K94 -> 0 | M94: =K94*5 -> 10
D95: 8.1.9 | E95: Basic project schedule, from contract signing to handover. | F95: Tender Returnable | G95: Tenderer to submit this document with the submission. | K95: 5 | L95: =VLOOKUP(I95,'Scoring Lookup'!$B$3:$C$7,2)*K95 -> 0 | M95: =K95*5 -> 25
D96: 8.1.10 | E96: Details of how each of the modes of operations are achieved by the solution. | F96: Tender Returnable | G96: Tenderer to submit this document with the submission. | K96: 2 | L96: =VLOOKUP(I96,'Scoring Lookup'!$B$3:$C$7,2)*K96 -> 0 | M96: =K96*5 -> 10
D97: 8.1.11 | E97: Detail of any risks and necessary mitigations that the tenderer has identified. | F97: Tender Returnable | G97: Tenderer to submit this document with the submission. | K97: 2 | L97: =VLOOKUP(I97,'Scoring Lookup'!$B$3:$C$7,2)*K97 -> 0 | M97: =K97*5 -> 10
D98: 8.1.12 | E98: All other documentation as required by the tender. | F98: General
D99: 8.1.13 | E99: List of spares & quantities that should be kept by Eskom (Tenderer to include failure calculations, based on MTBF of equivalent). | F99: Tender Returnable | G99: Tenderer to submit this document with the submission. | K99: 1 | L99: =VLOOKUP(I99,'Scoring Lookup'!$B$3:$C$7,2)*K99 -> 0 | M99: =K99*5 -> 5
D100: 8.2 | E100: ENGINEERING & DESIGN
D101: All | F101: Specify deviations in sheet 3
...

Sheet 2. Experience
A1: =A9 -> 2.1 | B1: =B9 -> CVs & Previous related experience
B3: Supplier: | C3: ='Evaluation Summary'!C4 -> 0 | E3: Points Available | F3: =SUM(J11:J15) -> 70
B4: Evaluator: | C4: ='Evaluation Summary'!C5 -> 0 | E4: Points Achieved | F4: =SUM(I11:I15) -> 0
B5: Date: | C5: ='Evaluation Summary'!C6 -> 0 | E5: Score | F5: =F4/F3 -> 0 | G5: NB: Section minimum pass-rate 70%
E6: Section Weighting % | F6: ='Evaluation Summary'!C14 -> 0.2
A8: Number | B8: Qualitative Technical Criteria Description | C8: Reference to Technical Specification / Tender Returnable | D8: Specification | E8: Schedule A | F8: Schedule B | G8: Assessment | H8: Weight | I8: Points Achieved | J8: Points Available
A9: 2.1 | B9: CVs & Previous related experience
C10: Section | D10: Proof of previous related experience and company structure
C11: A | D11: CVs with related experience / competencies for three or more of the company's most experienced staff, in relation to the scope of this project. Ensure the CVs submitted address the design, execution (installation & commissioning), and maintenance experience. | E11: Provide CV with years of experience per staff member, indicating the specific experience of each member as required. This is a heavily weighted requirement, ensure enough detail is provided. | F11: Tenderer: Provide CVs requested. | H11: 3 | I11: =VLOOKUP(G11,'Scoring Lookup'!$E$3:$F$7,2)*H11 -> 0 | J11: =H11*5 -> 15
C12: B | D12: List of similar (relevant) installations projects showing:
D13: i. Value (Rands) and size (in PV peak kW and Battery kWh) of at least three (3) of the largest projects completed in the last two years. Projects provided shall include both PV and Battery storage, enabling a microgrid. | E13: To be provided in detail - this is a heavily weighted requirement, ensure enough detail is provided. | F13: Tenderer: Provide info requested. | H13: 5 | I13: =VLOOKUP(G13,'Scoring Lookup'!H3:I7,2)*H13 -> 0 | J13: =H13*5 -> 25
D14: ii. Customer contact information including contact person for projects above, | E14: To be provided. Eskom may contact the customer based on risks otherwise identified. Full points will be scored if references are not contacted and/or no risks otherwise has been noted. | F14: Tenderer: Provide info requested. | H14: 1 | I14: =VLOOKUP(G14,'Scoring Lookup'!K3:L7,2)*H14 -> 0 | J14: =H14*5 -> 5
D15: iii. Complexity of project: For projects completed in the last two years, provide information on experience with: - Hybrid inverters - Large scale commercial solar arrays (>100kW) - Enabling of the different "Modes of operations" as required - SCADA and control systems - Training provided as per this project's scope | E15: To be provided in detail - this is a heavily weighted requirement, ensure enough detail is provided. | F15: Tenderer: Provide info requested. | H15: 5 | I15: =VLOOKUP(G15,'Scoring Lookup'!$K$12:$L$16,2)*H15 -> 0 | J15: =H15*5 -> 25
D17: Continue on the next sheet….........

Sheet 3. Deviations
B2: Supplier: | C2: ='Evaluation Summary'!C3 -> 0
B3: Evaluator: | C3: ='Evaluation Summary'!C4 -> 0
B4: Date: | C4: ='Evaluation Summary'!C5 -> 0
B6: How to complete: Tenderer to list all deviations, i.e. requirements of the standards they will not fully comply with. All deviations must be accompanied by a justification and/or references (e.g. documents / specification, etc.). Requirements fully compliant with (without alternation), do not require the tenderer to note any deviation. ***if deviations are not listed, full compliance will be assumed..
A7: 3.1 | B7: Deviation Schedule for 240-170000103 - Lithium Iron Phosphate Batteries Standard
B8: Number | C8: Deviation (Tenderer to complete, as required) | G8: Further Justification / References | H8: Assessment | I8: Assessment Comment
B9: 1
B10: 2
B11: 3
B12: 4
B13: 5
B14: 6
B15: * Add more lines as required.
B16: * If the tenderer has no deviations from the specification, this section should be left clear. However if deviations are not listed, full compliance will be assumed..
A18: 3.2 | B18: Deviation Schedule for 34-127T
B19: Number | C19: Deviation (Tenderer to complete, as required) | G19: Further Justification / References | H19: Assessment | I19: Assessment Comment
B20: 1
B21: 2
B22: 3
B23: 4
B24: 5
B25: 6
B26: 7
B27: 8
B28: 9
B29: 10
B30: 11
B31: * Add more lines as required.
B32: * If the tenderer has no deviations from the specification, this section should be left clear. However if deviations are not listed, full compliance will be assumed..

Sheet Scoring Lookup
B1: General | E1: Years Experience | H1: Value and Size of Projects | K1: References
B2: Criteria | C2: Score | E2: Criteria | F2: Score | H2: Criteria | I2: Score | K2: Criteria | L2: Score
B4: 0.Non-compliant (major deviation) | C4: 0 | E4: 0. Less than 1 year on average, for all competencies | F4: 0 | H4: 0. None | I4: 0 | K4: 0. Major risks, and/or customers dissatisfied on average | L4: 0
B5: 2.Partially compliant (major deviation, correctable) | C5: 2 | E5: 2. Less than 2 years on average, for all competencies | F5: 2 | H5: 2. Less than R1million, 50kW PV, and 50kWh storage (on average) | I5: 2 | K5: 2. Significant risks identified, and/or customers not fully satisfied on average | L5: 2
B6: 4.Partially compliant (minor deviation) | C6: 4 | E6: 4. Less than 2-3 years on average, for all competencies | F6: 4 | H6: 2. Less than R3million, 120kW PV, and 120kWh storage (on average) | I6: 4 | K6: 4. Minimal risks identified, and/or customers mostly satisfied on average | L6: 4
B7: 5.Fully compliant | C7: 5 | E7: 5. More than 3 years on average, for all competencies | F7: 5 | H7: 2. R3million or more, 200kW PV, and 150kWh storage (on average) | I7: 5 | K7: 5. No risks identified, and/or customers satisfied | L7: 5
K10: Perform Complex Tasks / Projects
K11: Criteria | L11: Score
B12: Criteria | C12: 1. Spec Weights | E12: Criteria | F12: 0. Spec Weights
B13: Low immediate importance. Intent to comply tested. | C13: 1 | E13: Mandatory | K13: 0. Minimal to no experience on listed area | L13: 0
B14: Important, but can't be proved at this stage and/or based on design from Eskom. Intent to comply tested. | C14: 2 | E14: 0. No | F14: 0 | K14: 2. Basic experience on listed area, lacking key areas | L14: 2
B15: Very Important, but can't be proved at this stage and/or based on design from Eskom. Intent to comply tested. | C15: 3 | E15: 1. Yes | F15: 1 | K15: 4. Intermediate experience, has good experience in all listed areas, for most projects | L15: 4
B16: Important and can be proved at this stage by means of training/evidence/documents | C16: 4 | K16: 5. Excellent experience on all listed areas, for all projects | L16: 5
B17: Very important and can be proved at this stage by means of training/evidence/documents | C17: 5
