Workbook

Sheet FINAL SUMMARY
B3: MPDOE - MAINTENANCE PROJECT - CLUSTER 6 - ACTIVITY SCHEDULE
B4: FINAL SUMMARY OF COSTS | C4: BUILDING | D4: PROFESSIONAL FEES | E4: TOTAL
A5: 1 | B5: PHAKGAMANG PRIMARY SCHOOL | C5: =PHAKGAMANG!D43 -> 0 | E5: =C5+D5 -> 0
A6: 2 | B6: MKHUTSHWA SECONDARY SCHOOL | C6: =MKHUTSHWA!D47 -> 0 | E6: =C6+D6 -> 0
A7: 3 | B7: MAKHOSANA SENIOR SECONDARY SCHOOL | C7: =MAKHOSANA!D18 -> 0 | E7: =C7+D7 -> 0
A8: 4 | B8: FUNDAWAZI PRIMARY SCHOOL | C8: =FUNDAWAZI!D18 -> 0 | E8: =C8+D8 -> 0
A9: 5 | B9: MALEBO SECONDARY SCHOOL | C9: =MALEBO!D21 -> 0 | E9: =C9+D9 -> 0
A10: 6 | B10: SAKHILE PRIMARY SCHOOL | C10: =SAKHILE!D42 -> 0 | E10: =C10+D10 -> 0
A11: 7 | B11: NDZUNDZA MABHOKO SECONDARY SCHOOL | C11: =NDZUNDZA!D19 -> 0 | E11: =C11+D11 -> 0
A12: 8 | B12: REKWELE PRIMARY SCHOOL | C12: =REKWELE!D17 -> 0 | E12: =C12+D12 -> 0
A13: 9 | B13: SIZABANTWANA PRIMARY SCHOOL | C13: =SIZABANTWANA!D38 -> 0 | E13: =C13+D13 -> 0
A14: 10 | B14: SIKHULISIWE PRIMARY SCHOOL | C14: =SIKHULISIWE!D20 -> 0 | E14: =C14+D14 -> 0
A15: 11 | B15: BOROLO PRIMARY SCHOOL | C15: =BOROLO!D17 -> 0 | E15: =C15+D15 -> 0
A16: 12 | B16: SENZANGAKHONA SECONDARY SCHOOL | C16: =SENZANGAKHONA!D26 -> 0 | E16: =C16+D16 -> 0
A17: 13 | B17: ZAMANI PRIMARY SCHOOL | C17: =ZAMANI!D17 -> 0 | E17: =C17+D17 -> 0
A18: 14 | B18: PHELWANE PRIMARY SCHOOL | C18: =PHELWANE!D27 -> 0 | E18: =C18+D18 -> 0
A19: 15 | B19: MATIMBA PRIMARY SCHOOL | C19: =MATIMBA!D35 -> 0 | E19: =C19+D19 -> 0
A20: 16 | B20: POTSANYANE PRIMARY SCHOOL | C20: =NDAYI!D17 -> 0 | E20: =C20+D20 -> 0
A21: 17 | B21: NDAYI PRIMARY SCHOOL | C21: =NDAYI!D17 -> 0 | E21: =C21+D21 -> 0
A22: 18 | B22: SEMONATE COMBINED SCHOOL | C22: =SEMONATE!D53 -> 0 | E22: =C22+D22 -> 0
A23: 19 | B23: SIBONGILE PRIMARY SCHOOL | C23: =SIBONGILE!D52 -> 0 | E23: =C23+D23 -> 0
A24: 20 | B24: KOME PRIMARY SCHOOL | C24: =KOME!D51 -> 0 | E24: =C24+D24 -> 0
A25: 21 | B25: NKOSIPHILE PRIMARY SCHOOL | C25: =NKOSIPHILE!D46 -> 0 | E25: =C25+D25 -> 0
A26: 22 | B26: SERUANE SECONDARY SCHOOL | C26: =SERUANE!D51 -> 0 | E26: =C26+D26 -> 0
A27: 23 | B27: STEVE TSHWETE CIRCUIT | C27: ='STEVE TSHWETE'!D32 -> 0 | E27: =C27+D27 -> 0
A28: 24 | B28: LIBANGENI SECONDARY SCHOOL | C28: =LIBANGENI!D55 -> 0 | E28: =C28+D28 -> 0
A29: 25 | B29: MBONGO PRIMARY SCHOOL | C29: ='MBONGO '!D18 -> 0 | E29: =C29+D29 -> 0
A30: 26 | B30: LODING PRIMARY SCHOOL | C30: =LODING!D18 -> 0 | E30: =C30+D30 -> 0
A31: 27 | B31: MMAMETLHAKE SECONDARY SCHOOL | C31: =MMAMETLHAKE!D18 -> 0 | E31: =C31+D31 -> 0
A32: 28 | B32: LIBANGENI CIRCUIT | C32: ='LIBANGENI CIRCUIT'!D58 -> 0 | E32: =C32+D32 -> 0
B36: Sub-Total | C36: =SUM(C5:C35) -> 0 | D36: =SUM(D5:D35) -> 0 | E36: =SUM(E5:E35) -> 0
B37: VAT at 15% | C37: =C36*15% -> 0 | D37: =D36*15% -> 0 | E37: =E36*15% -> 0
B38: TOTAL CARRIED TO FORM OF OFFER & ACCEPTANCE | C38: =SUM(C36:C37) -> 0 | D38: =SUM(D36:D37) -> 0 | E38: =SUM(E36:E37) -> 0

Sheet PHAKGAMANG
A2: PHAKGAMANG PRIMARY SCHOOL
A3: REF | B3: SCOPE | C3: UNIT | D3: AMOUNT
B4: Replacement of 4 classrooms damaged roof coverings, trusess, ceiling, electricity, glazing, doors
B6: BUILDING WORKS | D6: =SUM(D8:D42) -> 0
A7: 1 | B7: ALTERATIONS AND REPAIRS
B8: Removal of all damaged existing work, etc | C8: Item
A10: 2 | B10: ROOF COVERINGS
B11: Roof sheeeting including ridge covers, etc | C11: Item
A13: 3 | B13: CARPENTRY AND JOINERY
B14: Supply and install prefabricated timber roof trusses to engineer's approval including fascias, bargeboards, etc | C14: Item
B15: Supply and installation of skirtings, doors, pinning boards, etc. | C15: Item
A17: 4 | B17: CEILINGS, PARTITIONING AND ACCESS FLOORING
B18: Installation of ceilings, including cornices, trap doors, etc | C18: Item
A20: 5 | B20: PLASTERING
B21: Internal, external wall plaster and floor screeds, etc | C21: Item
A23: 6 | B23: PLUMBING AND DRAINAGE
B24: Servicing and repairs of plumbing including replacement of sanitaryware, eave gutters, rainwater downpipes, etc where necessary. Scope to be verified on site. | C24: Item
A26: 7 | B26: GLAZING
B27: 5 mm thick clear float glass in panes | C27: Item
A29: 8 | B29: PAINTWORK
B30: All paintwork to internal and external walls, including paintwork to ceilings, doors and frames, etc. | C30: Item
A32: 9 | B32: ELECTRICAL WORKS
B33: Inspection and refurbishment of existing electrical works, complete including the issuing of CoC. | C33: Item
A35: 10 | B35: PRELIMINARIES AND GENERAL
B36: Contractor to allow for related P&G costs | C36: Item
A38: 11 | B38: CONTINGENCIES
B39: Add 10% Contingencies to be used at client's discretion | C39: Item
B43: Total Carried to Final Summary | D43: =D6 -> 0

Sheet MKHUTSHWA
A2: MKHUTSHWA SECONDARY SCHOOL
A3: REF | B3: SCOPE | C3: UNIT | D3: AMOUNT
B4: Refurbishment of existing 8 classrooms
B6: BUILDING WORKS | D6: =SUM(D8:D46) -> 0
A7: 1 | B7: ALTERATIONS AND REPAIRS
B8: Removal of all damaged existing work, etc | C8: Item
B9: High pressure washing of external walls | C9: Item
A11: 2 | B11: ROOF COVERINGS
B12: Roof sheeeting including ridge covers, etc | C12: Item
A14: 3 | B14: CARPENTRY AND JOINERY
B15: Supply and install prefabricated timber roof trusses to engineer's approval including fascias, bargeboards, etc | C15: Item
B16: Supply and installation of skirtings, doors, pinning boards, etc. | C16: Item
A18: 4 | B18: CEILINGS, PARTITIONING AND ACCESS FLOORING
B19: Installation of ceilings, including cornices, trap doors, etc | C19: Item
A21: 5 | B21: FLOOR COVERINGS, PLASTIC LININGS, ETC.
B22: Floor coverings, etc | C22: Item
A24: 6 | B24: PLASTERING
B25: Internal, external wall plaster and floor screeds, etc | C25: Item
A27: 7 | B27: PLUMBING AND DRAINAGE
B28: Servicing and repairs of plumbing including replacement of sanitaryware, eave gutters, rainwater downpipes, etc where necessary. Scope to be verified on site. | C28: Item
A30: 8 | B30: GLAZING
B31: 5 mm thick clear float glass in panes | C31: Item
A33: 9 | B33: PAINTWORK
B34: All paintwork to internal and external walls, including paintwork to ceilings, doors and frames, etc. | C34: Item
A36: 10 | B36: ELECTRICAL WORKS
B37: Inspection and refurbishment of existing electrical works, complete including the issuing of CoC. | C37: Item
A39: 11 | B39: PRELIMINARIES AND GENERAL
B40: Contractor to allow for related P&G costs | C40: Item
A42: 12 | B42: CONTINGENCIES
B43: Add 10% Contingencies to be used at client's discretion | C43: Item
B47: Total Carried to Final Summary | D47: =D6 -> 0

Sheet MAKHOSANA
A2: MAKHOSANA SENIOR SECONDARY SCHOOL
A3: REF | B3: SCOPE | C3: UNIT | D3: AMOUNT
B4: Demolish 12 existing plain pit toilets to and clear the site to acceptable Health and Environmental standards
B6: BUILDING WORKS | D6: =SUM(D8:D17) -> 0
A7: 1 | B7: EXTERNAL WORKS
B8: Clear rubbles on site to a dumping site to be located by the contractor. Area onsite to to cleaned. | C8: Item
A10: 2 | B10: PRELIMINARIES AND GENERAL
B11: Contractor to allow for related P&G costs | C11: Item
A13: 3 | B13: CONTINGENCIES
B14: Add 10% Contingencies to be used at client's discretion | C14: Item
B18: Total Carried to Final Summary | D18: =D6 -> 0

Sheet FUNDAWAZI
A2: FUNDAWAZI PRIMARY SCHOOL
A3: REF | B3: SCOPE | C3: UNIT | D3: AMOUNT
B4: Demolish 6 existing plain pit toilets to and clear the site to acceptable Health and Environmental standards
B6: BUILDING WORKS | D6: =SUM(D8:D17) -> 0
A7: 1 | B7: EXTERNAL WORKS
B8: Backfilling with imported normal material and to be compacted | C8: Item
A10: 2 | B10: PRELIMINARIES AND GENERAL
B11: Contractor to allow for related P&G costs | C11: Item
A13: 3 | B13: CONTINGENCIES
B14: Add 10% Contingencies to be used at client's discretion | C14: Item
B18: Total Carried to Final Summary | D18: =D6 -> 0

Sheet MALEBO
A2: MALEBO SECONDARY SCHOOL
A3: REF | B3: SCOPE | C3: UNIT | D3: AMOUNT
B4: Repair of storm damage and refurbish and toilets
B6: BUILDING WORKS | D6: =SUM(D11:D20) -> 0
A7: 1 | B7: ALTERATIONS
B8: Hack up and remove existing gutters, downpipes, etc | C8: Item
A10: 2 | B10: PLUMBING AND DRAINAGE
B11: Servicing and repairs of plumbing including replacement of sanitaryware where necessary. Scope to be verified on site. | C11: Item
A13: 3 | B13: PRELIMINARIES AND GENERAL
B14: Contractor to allow for related P&G costs | C14: Item
A16: 4 | B16: CONTINGENCIES
B17: Add 10% Contingencies to be used at client's discretion | C17: Item
B21: Total Carried to Final Summary | D21: =D6 -> 0

Sheet SAKHILE
A2: SAKHILE SECONDARY SCHOOL
A3: REF | B3: SCOPE | C3: UNIT | D3: AMOUNT
B4: Replacement of 4 classrooms damaged roof covering, lipped channels and ceiling panels complete with strips
B6: BUILDING WORKS | D6: =SUM(D8:D41) -> 0
A7: 1 | B7: ALTERATIONS AND REPAIRS
B8: Removal of all damaged existing work, etc | C8: Item
A10: 2 | B10: ROOF COVERINGS
B11: Roof sheeeting including ridge covers, etc | C11: Item
A13: 3 | B13: CARPENTRY AND JOINERY
B14: Supply and install fascias, bargeboards, etc | C14: Item
A16: 4 | B16: CEILINGS, PARTITIONING AND ACCESS FLOORING
B17: Installation of ceilings, including cornices, trap doors, etc | C17: Item
A19: 5 | B19: PLASTERING
B20: Internal, external wall plaster and floor screeds, etc | C20: Item
A22: 6 | B22: PLUMBING AND DRAINAGE
B23: Supply and install eave gutters, rainwater downpipes, etc | C23: Item
A25: 7 | B25: GLAZING
B26: 5 mm thick clear float glass in panes | C26: Item
A28: 8 | B28: PAINTWORK
B29: All paintwork to internal and external walls, including paintwork to ceilings, doors and frames, etc. | C29: Item
A31: 9 | B31: STRUCTURAL STEELWORK
B32: Repair and replace steel roof structure if required | C32: Item
A34: 10 | B34: PRELIMINARIES AND GENERAL
B35: Contractor to allow for related P&G costs | C35: Item
A37: 11 | B37: CONTINGENCIES
B38: Add 10% Contingencies to be used at client's discretion | C38: Item
B42: Total Carried to Final Summary | D42: =D6 -> 0

Sheet NDZUNDZA
A2: NDZUNDZA MABHOKO SECONDARY SCHOOL
A3: REF | B3: SCOPE | C3: UNIT | D3: AMOUNT
B4: Demolish 30 existing plain pit toilets to and clear the site to acceptable Health and Environmental standards
B6: BUILDING WORKS | D6: =SUM(D8:D18) -> 0
A7: 1 | B7: EXTERNAL WORKS
B8: Clear rubbles on site to a dumping site to be located by the contractor. Area onsite to to cleaned. | C8: Item
B9: Backfilling with imported normal material and to be compacted | C9: Item
A11: 2 | B11: PRELIMINARIES AND GENERAL
B12: Contractor to allow for related P&G costs | C12: Item
A14: 3 | B14: CONTINGENCIES
B15: Add 10% Contingencies to be used at client's discretion | C15: Item
B19: Total Carried to Final Summary | D19: =D6 -> 0

Sheet REKWELE
A2: REKWELE PRIMARY SCHOOL
A3: REF | B3: SCOPE | C3: UNIT | D3: PRICE (Excl. VAT)
B4: Demolish 6 existing plain pit toilets to and clear the site to acceptable Health and Environmental standards
B6: BUILDING WORKS | D6: =SUM(D7:D16) -> 0
A7: 1 | B7: DEMOLITION OF EXISTING TOILETS
B8: Demolition of existing toilets, including the carting away from site all rubble and including rehabilitating and backfilling redundant pits where applicable | C8: Item
A10: 2 | B10: PRELIMINARIES AND GENERAL
B11: Contractor to allow for related P&G costs | C11: Item
A13: 3 | B13: CONTINGENCIES
B14: Add 10% Contingencies to be used at client's discretion | C14: Item
B17: Total Carried to Final Summary | D17: =D6 -> 0

Sheet SIZABANTWANA
A2: SIZABANTWANA PRIMARY SCHOOL
A3: REF | B3: SCOPE | C3: UNIT | D3: AMOUNT
B4: Refurbishment of 8 classrooms and Adjustment on sewage system
B6: BUILDING WORKS | D6: =SUM(D8:D37) -> 0
A7: 1 | B7: ALTERATIONS AND REPAIRS
B8: Remove any damaged sheets,insulation , boards etc | C8: Item
B9: Treatment of roof structure for rust including rafters and sheets | C9: Item
B10: Pressure washing of External walls | C10: Item
A12: 2 | B12: ROOF COVERINGS
B13: Roof sheeeting including ridge covers, etc | C13: Item
A15: 3 | B15: CEILINGS, PARTITIONING AND ACCESS FLOORING
B16: Installation of ceilings, including cornices, trap doors, etc | C16: Item
A18: 4 | B18: PLASTERING
B19: Internal, external wall plaster and floor screeds, etc | C19: Item
A21: 5 | B21: TILING
B22: Tiling floors, etc | C22: Item
A24: 6 | B24: PAINTWORK
B25: All paintwork to internal and external walls, including paintwork to ceilings, doors and frames, etc. | C25: Item
A27: 7 | B27: EXTERNAL WORKS
B28: Adjustment of the sewer line and clearing up any blockages, etc | C28: Item
A30: 8 | B30: PRELIMINARIES AND GENERAL
B31: Contractor to allow for related P&G costs | C31: Item
A33: 9 | B33: CONTINGENCIES
B34: Add 10% Contingencies to be used at client's discretion | C34: Item
B38: Total Carried to Final Summary | D38: =D6 -> 0

Sheet SIKHULISIWE
A2: SIKHULISIWE PRIMARY SCHOOL
A3: REF | B3: SCOPE | C3: UNIT | D3: PRICE (Excl. VAT)
B4: Demolish 20 existing plain pit toilets to and clear the site to acceptable Health and Environmental standards
B6: BUILDING WORKS | D6: =SUM(D7:D19) -> 0
A7: 1 | B7: DEMOLITION OF EXISTING TOILETS
B8: Demolition of existing toilets, including the carting away from site all rubble and including rehabilitating and backfilling redundant pits where applicable | C8: Item
A10: 2 | B10: PLUMBING WORKS
B11: Supply and install new drainage and plumbing connections as required | C11: Item
A13: 3 | B13: PRELIMINARIES AND GENERAL
B14: Contractor to allow for related P&G costs | C14: Item
A16: 4 | B16: CONTINGENCIES
B17: Add 10% Contingencies to be used at client's discretion | C17: Item
B20: Total Carried to Final Summary | D20: =D6 -> 0

Sheet BOROLO
A2: BOROLO PRIMARY SCHOOL
A3: REF | B3: SCOPE | C3: UNIT | D3: PRICE (Excl. VAT)
B4: Refurbishment and renovation of 8 ablution facilities
B6: BUILDING WORKS | D6: =SUM(D7:D16) -> 0
A7: 1 | B7: DEMOLITION OF EXISTING TOILETS
B8: Demolition of existing toilets, including the carting away from site all rubble and including rehabilitating and backfilling redundant pits where applicable | C8: Item
A10: 2 | B10: PRELIMINARIES AND GENERAL
B11: Contractor to allow for related P&G costs | C11: Item
A13: 3 | B13: CONTINGENCIES
B14: Add 10% Contingencies to be used at client's discretion | C14: Item
B17: Total Carried to Final Summary | D17: =D6 -> 0

Sheet SENZANGAKHONA
A2: SENZANGAKHONA SECONDARY SCHOOL
A3: REF | B3: SCOPE | C3: UNIT | D3: PRICE (Excl. VAT)
B4: Phase 1: Renovation of 20 waterborne toilets
B6: BUILDING WORKS | D6: =SUM(D7:D25) -> 0
A7: 1 | B7: DEMOLITION OF EXISTING TOILETS
B8: Demolition of existing toilets, including the carting away from site all rubble and including rehabilitating and backfilling redundant pits where applicable | C8: Item
A10: 2 | B10: CONSTRUCTION OF SAFE DRY SANITATION
B11: Provision of brick and mortar toilet structures completed in full including all pipework, fittings and connections, etc. Number of toilet blocks to be confirmed on site | C11: Item
A13: 3 | B13: EXTERNAL WORKS
B14: Provision of adequate water tanks on elevated steel stands and platforms | C14: Item
A16: 4 | B16: ELECTRICAL WORKS
B17: Provide new light fittings, etc. | C17: Item
A19: 5 | B19: PRELIMINARIES AND GENERAL
B20: Contractor to allow for related P&G costs | C20: Item
A22: 6 | B22: CONTINGENCIES
B23: Add 10% Contingencies to be used at client's discretion | C23: Item
B26: Total Carried to Final Summary | D26: =D6 -> 0

Sheet ZAMANI
A2: ZAMANI PRIMARY SCHOOL
A3: REF | B3: SCOPE | C3: UNIT | D3: PRICE (Excl. VAT)
B4: Demolish 12 existing plain pit toilets to and clear the site to acceptable Health and Environmental standards
B6: BUILDING WORKS | D6: =SUM(D7:D16) -> 0
A7: 1 | B7: DEMOLITION OF EXISTING TOILETS
B8: Demolition of existing toilets, including the carting away from site all rubble and including rehabilitating and backfilling redundant pits where applicable all to acceptable Health and Environmental standards | C8: Item
A10: 2 | B10: PRELIMINARIES AND GENERAL
B11: Contractor to allow for related P&G costs | C11: Item
A13: 3 | B13: CONTINGENCIES
B14: Add 10% Contingencies to be used at client's discretion | C14: Item
B17: Total Carried to Final Summary | D17: =D6 -> 0

Sheet PHELWANE
A2: PHELWANE PRIMARY SCHOOL
A3: REF | B3: SCOPE | C3: UNIT | D3: PRICE (Excl. VAT)
B4: Phase 1: Refurbishment of enviro-loo toilets Future Phase: Construction of administration block , kitchen , library and computer centre
B6: BUILDING WORKS | D6: =SUM(D7:D26) -> 0
A7: 1 | B7: CONSTRUCTION OF SAFE DRY SANITATION
B8: Provision of brick and mortar toilet structures completed in full including all pipework, fittings and connections, etc. Number of toilet blocks to be confirmed on site | C8: Item
A10: 2 | B10: EXTERNAL WORKS
B11: Provision of adequate water tanks on elevated steel stands and platforms | C11: Item
B12: Construction of concrete walkways and ramps to connect ablutions to classrooms | C12: Item
A14: 3 | B14: ELECTRICAL WORKS
B15: Provide new light fittings, etc. | C15: Item
A17: 4 | B17: REPAIRS TO TOILETS
B18: Repair of broken windows, stolen and broken doors, and replacement of missing sanitary fittings, etc | C18: Item
A20: 5 | B20: PRELIMINARIES AND GENERAL
B21: Contractor to allow for related P&G costs | C21: Item
A23: 6 | B23: CONTINGENCIES
B24: Add 10% Contingencies to be used at client's discretion | C24: Item
B27: Total Carried to Final Summary | D27: =D6 -> 0

Sheet MATIMBA
A2: MATIMBA PRIMARY SCHOOL
A3: REF | B3: SCOPE | C3: UNIT | D3: AMOUNT
B4: Repair of storm damages
B6: BUILDING WORKS | D6: =SUM(D8:D34) -> 0
A7: 1 | B7: ALTERATIONS AND REPAIRS
B8: Hack up and remove existing gutters, downpipes, etc. | C8: Item
B9: Making good walls in patches | C9: Item
B10: Making good floors in patches | C10: Item
A12: 2 | B12: CARPENTRY AND JOINERY
B13: Supply and installation of fascias, barge boards, etc. | C13: Item
A15: 3 | B15: CEILINGS, PARTITIONING AND ACCESS FLOORING
B16: Installation of ceilings, including cornices, trap doors, etc | C16: Item
A18: 4 | B18: TILING
B19: Tiling floors, etc | C19: Item
A21: 5 | B21: PAINTWORK
B22: All paintwork to internal and external walls, including paintwork to ceilings, doors and frames, etc. | C22: Item
A24: 6 | B24: ELECTRICAL WORKS
B25: Provide new light fittings, etc. | C25: Item
A27: 7 | B27: PRELIMINARIES AND GENERAL
B28: Contractor to allow for related P&G costs | C28: Item
A30: 8 | B30: CONTINGENCIES
B31: Add 10% Contingencies to be used at client's discretion | C31: Item
B35: Total Carried to Final Summary | D35: =D6 -> 0

Sheet POTSANYANE
A2: POTSANYANE PRIMARY SCHOOL
A3: REF | B3: SCOPE | C3: UNIT | D3: AMOUNT
B4: Renovation and refurbishment of existing 12 waterborne ablutions
B6: BUILDING WORKS | D6: =SUM(D7:D20) -> 0
A7: 1 | B7: TILING
B8: Tiling to floors, etc | C8: Item
A10: 2 | B10: PLUMBING AND DRAINAGE
B11: Replacing of missing toilet seats including covers | C11: Item
A13: 3 | B13: PRELIMINARIES AND GENERAL
B14: Contractor to allow for related P&G costs | C14: Item
A16: 4 | B16: CONTINGENCIES
B17: Add 10% Contingencies to be used at client's discretion | C17: Item
B21: Total Carried to Final Summary | D21: =D6 -> 0

Sheet NDAYI
A2: NDAYI PRIMARY SCHOOL
A3: REF | B3: SCOPE | C3: UNIT | D3: PRICE (Excl. VAT)
B4: Clearing of demolished Pit latrines site and rehabilitation of grounds to acceptable OHS Standards
B6: BUILDING WORKS | D6: =SUM(D7:D16) -> 0
A7: 1 | B7: DEMOLITION OF EXISTING TOILETS
B8: Carting away from site all rubble and including rehabilitating and backfilling redundant pits where applicable all to acceptable Health and Environmental standards | C8: Item
A10: 2 | B10: PRELIMINARIES AND GENERAL
B11: Contractor to allow for related P&G costs | C11: Item
A13: 3 | B13: CONTINGENCIES
B14: Add 10% Contingencies to be used at client's discretion | C14: Item
B17: Total Carried to Final Summary | D17: =D6 -> 0

Sheet SEMONATE
A2: SEMONATE COMBINED SCHOOL
A3: REF | B3: SCOPE | C3: UNIT | D3: PRICE (Excl. VAT)
B4: Refurbishment of existing 9 classrooms and administration
B6: BUILDING WORKS | D6: =SUM(D8:D52) -> 0
A7: 1 | B7: ALTERATIONS
B8: Removal of all damaged existing work, etc | C8: Item
B9: Servicing existing sanitary fittings, accessories,doors, windows, etc | C9: Item
B10: Wash external facebricks, etc | C10: Item
A12: 2 | B12: ROOF COVERINGS ETC
B13: Roof sheeeting including ridge covers, etc | C13: Item
A15: 3 | B15: CARPENTRY AND JOINERY
B16: Supply and installation of skirtings, doors, pinning boards, fascias, barge boards etc. | C16: Item
B17: Localised truss repairs, etc | C17: Item
A19: 4 | B19: CEILINGS, PARTITIONS AND ACCESS FLOORING
B20: Installation of ceilings, including cornices, trap doors, etc | C20: Item
A22: 5 | B22: FLOOR COVERINGS, PLASTIC LININGS, ETC.
B23: Floor coverings, etc | C23: Item
A25: 6 | B25: IRONMONGERY
B26: Door and window components, etc | C26: Item
A28: 7 | B28: METALWORK
B29: Steel door frames, doors, gates, balustrading, handrails, etc | C29: Item
A31: 8 | B31: PLASTERING
B32: Internal, external wall plaster and floor screeds, etc | C32: Item
A34: 9 | B34: PLUMBING AND DRAINAGE
B35: Servicing and repairs of plumbing including replacement of sanitaryware where necessary. Scope to be verified on site. | C35: Item
A37: 10 | B37: GLAZING
B38: Matching Clear float glass to steel panes including putty | C38: Item
A40: 11 | B40: PAINTWORK
B41: All paintwork to internal and external walls, including paintwork to ceilings, doors and frames, etc. | C41: Item
A43: 12 | B43: EXTERNAL WORKS
B44: Provision for stormwater channels, etc. | C44: Item
A46: 13 | B46: PRELIMINARIES AND GENERAL
B47: Contractor to allow for related P&G costs | C47: Item
A49: 14 | B49: CONTINGENCIES
B50: Add 10% Contingencies to be used at client's discretion | C50: Item
B53: Total Carried to Final Summary | D53: =D6 -> 0

Sheet SIBONGILE
A2: SIBONGILE PRIMARY SCHOOL
A3: REF | B3: SCOPE | C3: UNIT | D3: PRICE (Excl. VAT)
B4: Refurbishment of existing 8 classrooms, administration block
B6: BUILDING WORKS | D6: =SUM(D8:D51) -> 0
A7: 1 | B7: ALTERATIONS
B8: Removal of all damaged existing work, etc | C8: Item
B9: Servicing existing sanitary fittings, accessories,doors, windows, etc | C9: Item
B10: Wash external facebricks, etc | C10: Item
A12: 2 | B12: ROOF COVERINGS ETC
B13: Roof sheeeting including ridge covers, etc | C13: Item
A15: 3 | B15: CARPENTRY AND JOINERY
B16: Supply and installation of skirtings, doors, pinning boards, fascias, barge boards etc. | C16: Item
A18: 4 | B18: CEILINGS, PARTITIONS AND ACCESS FLOORING
B19: Installation of ceilings, including cornices, trap doors, etc | C19: Item
A21: 5 | B21: FLOOR COVERINGS, PLASTIC LININGS, ETC.
B22: Floor coverings, etc | C22: Item
A24: 6 | B24: IRONMONGERY
B25: Door and window components, etc | C25: Item
A27: 7 | B27: METALWORK
B28: Steel door frames, doors, gates, balustrading, handrails, etc | C28: Item
A30: 8 | B30: PLASTERING
B31: Internal, external wall plaster and floor screeds, etc | C31: Item
A33: 9 | B33: PLUMBING AND DRAINAGE
B34: Servicing and repairs of plumbing including replacement of sanitaryware where necessary. Scope to be verified on site. | C34: Item
A36: 10 | B36: GLAZING
B37: Matching Clear float glass to steel panes including putty | C37: Item
A39: 11 | B39: PAINTWORK
B40: All paintwork to internal and external walls, including paintwork to ceilings, doors and frames, etc. | C40: Item
A42: 12 | B42: EXTERNAL WORKS
B43: Provision for stormwater channels, etc. | C43: Item
A45: 13 | B45: PRELIMINARIES AND GENERAL
B46: Contractor to allow for related P&G costs | C46: Item
A48: 14 | B48: CONTINGENCIES
B49: Add 10% Contingencies to be used at client's discretion | C49: Item
B52: Total Carried to Final Summary | D52: =D6 -> 0

Sheet KOME
A2: KOME PRIMARY SCHOOL
A3: REF | B3: SCOPE | C3: UNIT | D3: PRICE (Excl. VAT)
B4: Replacement of damaged roof coverings, trusses, ceiling, electricity, verandah coloumn and painting of external and internal walls in 4 offices
B6: BUILDING WORKS | D6: =SUM(D8:D50) -> 0
A7: 1 | B7: ALTERATIONS
B8: Removal of all damaged existing work, etc | C8: Item
B9: Servicing existing sanitary fittings, accessories, doors, windows, etc | C9: Item
A11: 2 | B11: ROOF COVERINGS ETC
B12: Roof sheeeting including ridge covers, etc | C12: Item
A14: 3 | B14: CARPENTRY AND JOINERY
B15: Supply and installation of skirtings, doors, pinning boards, fascias, barge boards etc. | C15: Item
A17: 4 | B17: CEILINGS, PARTITIONS AND ACCESS FLOORING
B18: Installation of ceilings, including cornices, trap doors, etc | C18: Item
A20: 5 | B20: FLOOR COVERINGS, PLASTIC LININGS, ETC.
B21: Floor coverings, etc | C21: Item
A23: 6 | B23: IRONMONGERY
B24: Door and window components, etc | C24: Item
A26: 7 | B26: METALWORK
B27: Steel door frames, doors, gates, balustrading, handrails, etc | C27: Item
A29: 8 | B29: PLASTERING
B30: Internal, external wall plaster and floor screeds, etc | C30: Item
A32: 9 | B32: PLUMBING AND DRAINAGE
B33: Servicing and repairs of plumbing including replacement of sanitaryware where necessary. Scope to be verified on site. | C33: Item
A35: 10 | B35: GLAZING
B36: Matching Clear float glass to steel panes including putty | C36: Item
A38: 11 | B38: PAINTWORK
B39: All paintwork to internal and external walls, including paintwork to ceilings, doors and frames, etc. | C39: Item
A41: 12 | B41: EXTERNAL WORKS
B42: Provision for stormwater channels, etc. | C42: Item
A44: 13 | B44: PRELIMINARIES AND GENERAL
B45: Contractor to allow for related P&G costs | C45: Item
A47: 14 | B47: CONTINGENCIES
B48: Add 10% Contingencies to be used at client's discretion | C48: Item
B51: Total Carried to Final Summary | D51: =D6 -> 0

Sheet NKOSIPHILE
A2: NKOSIPHILE PRIMARY SCHOOL
A3: REF | B3: SCOPE | C3: UNIT | D3: PRICE (Excl. VAT)
B4: Renovation of 8 classrooms and Library
B6: BUILDING WORKS | D6: =SUM(D8:D45) -> 0
A7: 1 | B7: ALTERATIONS
B8: Removal of all damaged existing work, etc | C8: Item
B9: Servicing existing sanitary fittings, accessories, doors, windows, etc | C9: Item
B10: High pressure washing of external walls | C10: Item
A12: 2 | B12: CARPENTRY AND JOINERY
B13: Supply and installation of skirtings, doors, pinning boards, fascias, barge boards etc. | C13: Item
A15: 3 | B15: FLOOR COVERINGS, PLASTIC LININGS, ETC.
B16: Floor coverings, etc | C16: Item
A18: 4 | B18: IRONMONGERY
B19: Door and window components, etc | C19: Item
A21: 5 | B21: METALWORK
B22: Steel door frames, doors, gates, balustrading, handrails, etc | C22: Item
A24: 6 | B24: PLASTERING
B25: Internal, external wall plaster and floor screeds, etc | C25: Item
A27: 7 | B27: PLUMBING AND DRAINAGE
B28: Servicing and repairs of plumbing including replacement of sanitaryware where necessary. Scope to be verified on site. | C28: Item
A30: 8 | B30: GLAZING
B31: Matching Clear float glass to steel panes including putty | C31: Item
A33: 9 | B33: PAINTWORK
B34: All paintwork to internal and external walls, including paintwork to ceilings, doors and frames, etc. | C34: Item
A36: 10 | B36: EXTERNAL WORKS
B37: Provision for stormwater channels, etc. | C37: Item
A39: 11 | B39: PRELIMINARIES AND GENERAL
B40: Contractor to allow for related P&G costs | C40: Item
A42: 12 | B42: CONTINGENCIES
B43: Add 10% Contingencies to be used at client's discretion | C43: Item
B46: Total Carried to Final Summary | D46: =D6 -> 0

Sheet SERUANE
A2: SERUANE SECONDARY SCHOOL
A3: REF | B3: SCOPE | C3: UNIT | D3: PRICE (Excl. VAT)
B4: Replacement of damaged roof covering, ceiling, electrification, sanitary fittings, plumbing and glazing on 6 waterborne toilets
B6: BUILDING WORKS | D6: =SUM(D8:D50) -> 0
A7: 1 | B7: ALTERATIONS
B8: Removal of all damaged existing work, etc | C8: Item
B9: Servicing existing sanitary fittings, accessories, doors, windows, etc | C9: Item
A11: 2 | B11: ROOF COVERINGS ETC
B12: Roof sheeeting including ridge covers, etc | C12: Item
A14: 3 | B14: CARPENTRY AND JOINERY
B15: Supply and installation of skirtings, doors, pinning boards, fascias, barge boards etc. | C15: Item
A17: 4 | B17: CEILINGS, PARTITIONS AND ACCESS FLOORING
B18: Installation of ceilings, including cornices, trap doors, etc | C18: Item
A20: 5 | B20: FLOOR COVERINGS, PLASTIC LININGS, ETC.
B21: Floor coverings, etc | C21: Item
A23: 6 | B23: IRONMONGERY
B24: Door and window components, etc | C24: Item
A26: 7 | B26: METALWORK
B27: Steel door frames, doors, gates, balustrading, handrails, etc | C27: Item
A29: 8 | B29: PLASTERING
B30: Internal, external wall plaster and floor screeds, etc | C30: Item
A32: 9 | B32: PLUMBING AND DRAINAGE
B33: Servicing and repairs of plumbing including replacement of sanitaryware where necessary. Scope to be verified on site. | C33: Item
A35: 10 | B35: GLAZING
B36: Matching Clear float glass to steel panes including putty | C36: Item
A38: 11 | B38: PAINTWORK
B39: All paintwork to internal and external walls, including paintwork to ceilings, doors and frames, etc. | C39: Item
A41: 12 | B41: EXTERNAL WORKS
B42: Provision for stormwater channels, etc. | C42: Item
A44: 13 | B44: PRELIMINARIES AND GENERAL
B45: Contractor to allow for related P&G costs | C45: Item
A47: 14 | B47: CONTINGENCIES
B48: Add 10% Contingencies to be used at client's discretion | C48: Item
B51: Total Carried to Final Summary | D51: =D6 -> 0

Sheet STEVE TSHWETE
A2: STEVE TSHWETE CIRCUIT
A3: REF | B3: SCOPE | C3: UNIT | D3: PRICE (Excl. VAT)
B4: Repairs and refurbishment of storm damaged circuit offices
B6: BUILDING WORKS | D6: =SUM(D8:D31) -> 0
A7: 1 | B7: ALTERATIONS
B8: Allow for making good in all trades to existing work damaged or disturbed through alterations with all necessary new materials to match and generally described for new work and leave perfect in every respect | C8: Item
A10: 2 | B10: ROOF COVERINGS ETC
B11: Roof sheeeting including ridge covers, etc | C11: Item
A13: 3 | B13: CARPENTRY AND JOINERY
B14: Supply and installation of skirtings, fascias, barge boards etc. | C14: Item
A16: 4 | B16: PLASTERING
B17: Internal, external wall plaster and floor screeds, etc | C17: Item
A19: 5 | B19: GLAZING
B20: Matching Clear float glass to steel panes including putty | C20: Item
A22: 6 | B22: PAINTWORK
B23: All paintwork to internal and external walls, including paintwork to ceilings, doors and frames, etc. | C23: Item
A25: 7 | B25: PRELIMINARIES AND GENERAL
B26: Contractor to allow for related P&G costs | C26: Item
A28: 8 | B28: CONTINGENCIES
B29: Add 10% Contingencies to be used at client's discretion | C29: Item
B32: Total Carried to Final Summary | D32: =D6 -> 0

Sheet LIBANGENI
A2: LIBANGENI SECONDARY SCHOOL
A3: REF | B3: SCOPE | C3: UNIT | D3: PRICE (Excl. VAT)
B4: Demolish 12 existing plain pit toilets to and clear the site to acceptable Health and Environmental standards
B6: BUILDING WORKS | D6: =SUM(D12:D54) -> 0
A7: 1 | B7: DEMOLITION OF EXISTING TOILETS
B8: Demolition of existing toilets, including the carting away from site all rubble and including rehabilitating and backfilling redundant pits where applicable all to acceptable Health and Environmental standards | C8: Item
B9: De-sludging of existing "long drop" pit latrines | C9: Item
A11: 2 | B11: ALTERATIONS
B12: Removal of all damaged existing work, etc | C12: Item
B13: Servicing existing sanitary fittings, accessories, doors, windows, etc | C13: Item
A15: 3 | B15: ROOF COVERINGS ETC
B16: Roof sheeeting including ridge covers, etc | C16: Item
A18: 4 | B18: CARPENTRY AND JOINERY
B19: Supply and installation of skirtings, doors, pinning boards, fascias, barge boards etc. | C19: Item
A21: 5 | B21: CEILINGS, PARTITIONS AND ACCESS FLOORING
B22: Installation of ceilings, including cornices, trap doors, etc | C22: Item
A24: 6 | B24: FLOOR COVERINGS, PLASTIC LININGS, ETC.
B25: Floor coverings, etc | C25: Item
A27: 7 | B27: IRONMONGERY
B28: Door and window components, etc | C28: Item
A30: 8 | B30: METALWORK
B31: Steel door frames, doors, gates, balustrading, handrails, etc | C31: Item
A33: 9 | B33: PLASTERING
B34: Internal, external wall plaster and floor screeds, etc | C34: Item
A36: 10 | B36: PLUMBING AND DRAINAGE
B37: Servicing and repairs of plumbing including replacement of sanitaryware where necessary. Scope to be verified on site. | C37: Item
A39: 11 | B39: GLAZING
B40: Matching Clear float glass to steel panes including putty | C40: Item
A42: 12 | B42: PAINTWORK
B43: All paintwork to internal and external walls, including paintwork to ceilings, doors and frames, etc. | C43: Item
A45: 13 | B45: EXTERNAL WORKS
B46: Provision for stormwater channels, etc.
A48: 14 | B48: PRELIMINARIES AND GENERAL
B49: Contractor to allow for related P&G costs | C49: Item
A51: 15 | B51: CONTINGENCIES
B52: Add 10% Contingencies to be used at client's discretion | C52: Item
B55: Total Carried to Final Summary | D55: =D6 -> 0

Sheet MBONGO 
A2: MBONGO PRIMARY SCHOOL
A3: REF | B3: SCOPE | C3: UNIT | D3: PRICE (Excl. VAT)
B4: Demolish 10 existing plain pit toilets to and clear the site to acceptable Health and Environmental standards
B6: BUILDING WORKS | D6: =SUM(D7:D17) -> 0
A7: 1 | B7: DEMOLITION OF EXISTING TOILETS
B8: Demolition of existing toilets, including the carting away from site all rubble and including rehabilitating and backfilling redundant pits where applicable all to acceptable Health and Environmental standards | C8: Item
B9: De-sludging of existing "long drop" pit latrines | C9: Item
A11: 2 | B11: PRELIMINARIES AND GENERAL
B12: Contractor to allow for related P&G costs | C12: Item
A14: 3 | B14: CONTINGENCIES
B15: Add 10% Contingencies to be used at client's discretion | C15: Item
B18: Total Carried to Final Summary | D18: =D6 -> 0

Sheet LODING
A2: LODING PRIMARY SCHOOL
A3: REF | B3: SCOPE | C3: UNIT | D3: PRICE (Excl. VAT)
B4: Demolish 25 existing plain pit toilets to and clear the site to acceptable Health and Environmental standards
B6: BUILDING WORKS | D6: =SUM(D7:D17) -> 0
A7: 1 | B7: DEMOLITION OF EXISTING TOILETS
B8: Demolition of existing toilets, including the carting away from site all rubble and including rehabilitating and backfilling redundant pits where applicable all to acceptable Health and Environmental standards | C8: Item
B9: De-sludging of existing "long drop" pit latrines | C9: Item
A11: 2 | B11: PRELIMINARIES AND GENERAL
B12: Contractor to allow for related P&G costs | C12: Item
A14: 3 | B14: CONTINGENCIES
B15: Add 10% Contingencies to be used at client's discretion | C15: Item
B18: Total Carried to Final Summary | D18: =D6 -> 0

Sheet MMAMETLHAKE
A2: MMAMETLHAKE SECONDARY SCHOOL
A3: REF | B3: SCOPE | C3: UNIT | D3: PRICE (Excl. VAT)
B4: Demolish 10 existing plain pit toilets to and clear the site to acceptable Health and Environmental standards
B6: BUILDING WORKS | D6: =SUM(D7:D17) -> 0
A7: 1 | B7: DEMOLITION OF EXISTING TOILETS
B8: Demolition of existing toilets, including the carting away from site all rubble and including rehabilitating and backfilling redundant pits where applicable all to acceptable Health and Environmental standards | C8: Item
B9: De-sludging of existing "long drop" pit latrines | C9: Item
A11: 2 | B11: PRELIMINARIES AND GENERAL
B12: Contractor to allow for related P&G costs | C12: Item
A14: 3 | B14: CONTINGENCIES
B15: Add 10% Contingencies to be used at client's discretion | C15: Item
B18: Total Carried to Final Summary | D18: =D6 -> 0

Sheet LIBANGENI CIRCUIT
A2: LIBANGENI CIRCUIT
A3: REF | B3: SCOPE | C3: UNIT | D3: PRICE (Excl. VAT)
B4: Renovation of circuit facilities and toilets. Drilling of Borehole
B6: BUILDING WORKS | D6: =SUM(D8:D57) -> 0
A7: 1 | B7: ALTERATIONS
B8: Removal of all damaged existing work, etc | C8: Item
B9: Servicing existing sanitary fittings, accessories, doors, windows, etc | C9: Item
A11: 2 | B11: ROOF COVERINGS ETC
B12: Roof sheeeting including ridge covers, etc | C12: Item
A14: 3 | B14: CARPENTRY AND JOINERY
B15: Supply and installation of skirtings, doors, pinning boards, fascias, barge boards etc. | C15: Item
B16: Localised truss repair | C16: Item
A18: 4 | B18: CEILINGS, PARTITIONS AND ACCESS FLOORING
B19: Installation of ceilings, including cornices, trap doors, etc | C19: Item
A21: 5 | B21: FLOOR COVERINGS, PLASTIC LININGS, ETC.
B22: Floor coverings, etc | C22: Item
A24: 6 | B24: IRONMONGERY
B25: Door and window components, etc | C25: Item
A27: 7 | B27: METALWORK
B28: Steel door frames, doors, gates, balustrading, handrails, etc | C28: Item
A30: 8 | B30: PLASTERING
B31: Internal, external wall plaster and floor screeds, etc | C31: Item
A33: 9 | B33: TILING
B34: Tiling to floors, etc | C34: Item
A36: 10 | B36: PLUMBING AND DRAINAGE
B37: Servicing and repairs of plumbing including replacement of sanitaryware where necessary. Scope to be verified on site. | C37: Item
A39: 11 | B39: GLAZING
B40: Matching Clear float glass to steel panes including putty | C40: Item
A42: 12 | B42: PAINTWORK
B43: All paintwork to internal and external walls, including paintwork to ceilings, doors and frames, etc. | C43: Item
A45: 13 | B45: WATER PROVISION
B46: Supply and Installation of a fully functional borehole, including all pipework and electric pump complete by specialists | C46: Item
A48: 14 | B48: EXTERNAL WORKS
B49: Provision for stormwater channels, etc. | C49: Item
A51: 15 | B51: PRELIMINARIES AND GENERAL
B52: Contractor to allow for related P&G costs | C52: Item
A54: 16 | B54: CONTINGENCIES
B55: Add 10% Contingencies to be used at client's discretion | C55: Item
B58: Total Carried to Final Summary | D58: =D6 -> 0
