Workbook
Name \0: #REF!
Name \A: #REF!
Name \B: #REF!
Name \C: #REF!
Name \CC: #REF!
Name \D: #REF!
Name \E: #REF!
Name \F: [1]INFO!#REF!
Name \G: [1]INFO!#REF!
Name \H: #REF!
Name \I: #REF!
Name \J: #REF!
Name \K: #REF!
Name \L: #REF!
Name \M: #REF!
Name \N: #REF!
Name \NN: #REF!
Name \P: #REF!
Name \Q: #REF!
Name \R: #REF!
Name \S: #REF!
Name \T: #REF!
Name \X: #REF!
Name \Y: #REF!
Name \Z: #REF!
Name __________ALL1: #REF!
Name __________ALL3: #REF!
Name ________ALL1: #REF!
Name ________ALL3: #REF!
Name ________ESC2: [2]Summary!#REF!
Name _______ALL1: #REF!
Name _______ALL3: #REF!
Name _______esc1: '[2]Imp Cost'!$F$68
Name ______ALL2: #REF!
Name ______BLK100: [3]Database!$F$99
Name ______DPM375: [3]Database!$F$56
Name ______esc1: '[2]Imp Cost'!$F$68
Name ______ESC2: [2]Summary!#REF!
Name ______OPS1: #REF!
Name ______PE2000: [3]Database!$F$73
Name _____ALL1: #REF!
Name _____ALL2: #REF!
Name _____ALL3: #REF!
Name _____BLK100: [3]Database!$F$99
Name _____DPM375: [3]Database!$F$56
Name _____ESC2: [2]Summary!#REF!
Name _____MES193: #REF!
Name _____OPS1: #REF!
Name _____PE2000: [3]Database!$F$73
Name ____ALL2: [4]CostPlan!#REF!
Name ____BLK100: [3]Database!$F$99
Name ____DPM375: [3]Database!$F$56
Name ____esc1: '[2]Imp Cost'!$F$68
Name ____ESC2: [2]Summary!#REF!
Name ____OPS1: #REF!
Name ____PE2000: [3]Database!$F$73
Name ____SCR40: #REF!
Name ____SEC1200: #REF!
Name ___ALL1: #REF!
Name ___ALL2: #REF!

Sheet 1; P&G 
A1: CONTRACT TITLE: | C1: REFURBISHMENT AND UPGRADE OF MARGATE STORM-DAMAGED INFRASTRUCTURE, WASTEWATER TREATMENT WORKS AND EFFLUENT MAIN (PHASE 2)
A2: CONTRACT NUMBER | C2: UGU-07-1734-2026
A3: ='7. Swr HH Conn'!A3 -> SECTION: | C3: =D5 -> SCHEDULE 1: GENERAL
A4: ITEM NO | B4: LI | C4: PAYMENT | D4: DESCRIPTION | E4: UNIT | F4: QTY | G4: RATE | H4: AMOUNT
A5: 1 | C5: SANS 1200A | D5: SCHEDULE 1: GENERAL
C7: 8.3 | D7: SCHEDULED FIXED-CHARGE AND VALUE RELATED ITEMS
A9: 1.01 | C9: PS A8.3.1 | D9: Contractual Requirements | E9: Sum | F9: 1
C11: PS A 8.3.2 | D11: Establishment of Facilities on the Site:
C13: PS A 8.3.2.1 | D13: Facilities for Engineer (SANS 1200 AB)
A15: 1.02 | C15: PS A 8.3.2.1 (a) | D15: Engineers Office | E15: Sum | F15: 1
A17: 1.03 | C17: PS A 8.3.2.1 (b) | D17: Communication costs (cellular phone) | E17: Sum | F17: 1
A19: 1.04 | C19: PS A 8.3.2.1 (c) | D19: Nameboards (2 No.) | E19: Sum | F19: 1
A21: 1.05 | C21: PS A 8.3.2.1 (d) | D21: Computer facilities complete with printer, modem with 4G connection | E21: Sum | F21: 1
A23: 1.06 | C23: PS A 8.3.2.1 (e) | D23: Provision of survey equipment | E23: Sum | F23: 1
C25: PS A 8.3.2.2 | D25: Facilities for Contractor
A27: 1.07 | C27: PS A 8.3.2.2 (a) | D27: Offices and storage sheds | E27: Sum | F27: 1
A29: 1.08 | C29: PS A 8.3.2.2 (b) | D29: Workshops | E29: Sum | F29: 1
A31: 1.09 | C31: PS A 8.3.2.2 (c) | D31: Laboratories | E31: Sum | F31: 1
A33: 1.10 | C33: PS A 8.3.2.2 (d) | D33: Ablution and latrine facilities | E33: Sum | F33: 1
A35: 1.11 | C35: PS A 8.3.2.2 (e) | D35: Tools and equipment | E35: Sum | F35: 1
A37: 1.12 | C37: PS A 8.3.2.2 (f) | D37: Water supplies, electric power and communications | E37: Sum | F37: 1
A39: 1.13 | C39: PS A 8.3.2.2 (g) | D39: Dealing with water (Sub-clause 5.5) | E39: Sum | F39: 1
A41: 1.14 | C41: PS A 8.3.2.2 (h) | D41: Access (Sub-clause 5.8) | E41: Sum | F41: 1
A43: 1.15 | C43: PS A 8.3.2.2. (i) | D43: Plant. | E43: Sum | F43: 1
A45: 1.16 | C45: PS A 8.3.3 | D45: Other fixed-charge obligations | E45: Sum | F45: 1
A47: 1.17 | C47: PS A 8.3.4 | D47: Removal of Site establishment | E47: Sum | F47: 1
A63: TOTAL CARRIED FORWARD
A64: TOTAL BROUGHT FORWARD
C65: PSA 8.3.5 | D65: OHS Act Obligations:
A67: 1.18 | C67: PS A B.8.3.5.1 | D67: Contractor's initial obligations in respect of the Occupation Health and Safety Act and Contractual Regulations | E67: Sum | F67: 1
A69: 1.19 | C69: PS A B.8.3.5.2 | D69: Occupational Health and Safety Act | E69: Sum | F69: 1
A71: 1.20 | D71: iii) Fulfil legislated and/or specified requirements for blasting (incl. submission of plans). | E71: Sum | F71: 1
A73: 1.21 | C73: PSA 8.3.3.3 | D73: Environmental Management Plan Obligations | E73: Sum | F73: 1
C75: 8.4 | D75: SCHEDULED TIME-RELATED ITEMS
A77: 1.22 | C77: PSA 8.4.1 | D77: Contractual Requirements. | E77: Sum | F77: 1
A79: 1.23 | C79: 8.4.2 | D79: Operate and maintain facilities on the Site for duration of Construction: | E79: Sum | F79: 1
C81: PSA 8.4.2.1 | D81: Facilities for the Employer's Agent:
A83: 1.24 | C83: 8.4.2.1. (a) | D83: Engineers Office | E83: Sum | F83: 1
A85: 1.25 | C85: 8.4.2.1. (b) | D85: Provision of name board | E85: Sum | F85: 1
A87: 1.26 | C87: 8.4.2.1. (c) | D87: Provision of cellular phone | E87: Sum | F87: 1
...

Sheet 2. Ertwrks(Pipe)
A1: CONTRACT TITLE: | C1: REFURBISHMENT AND UPGRADE OF MARGATE STORM-DAMAGED INFRASTRUCTURE, WASTEWATER TREATMENT WORKS AND EFFLUENT MAIN (PHASE 2)
A2: CONTRACT NUMBER | C2: ='1; P&G '!$C$2 -> UGU-07-1734-2026
A3: SECTION: | C3: =D5 -> SCHEDULE 2: EARTHWORKS (PIPE TRENCHES)
A4: ITEM NO | B4: LI | C4: PAYMENT | D4: DESCRIPTION | E4: UNIT | F4: QTY | G4: RATE | H4: AMOUNT
A5: 2.1 | C5: SANS1200 C | D5: SCHEDULE 2: EARTHWORKS (PIPE TRENCHES)
A7: 2.1.1 | B7: LI | C7: 8.2.1 | D7: Clear vegetation and grub | E7: m² | F7: 51710
A9: 2.1.2 | B9: LI | C9: 8.2.2 | D9: Remove large trees and tree stumps of girth up to 1 m | E9: No. | F9: 185
A11: 2.1.3 | C11: 8.2.10 | D11: Remove topsoil to a nominal depth of 150mm and stockpile | E11: m² | F11: 51710
A13: 2.1.4 | C13: PSC 8.2.11 | D13: Take Down and Re-erect Fence | E13: m | F13: 469.5
A15: 2.1.5 | C15: PSC 8.2.12 | D15: Demarcation Staking | E15: m | F15: 150
A17: 2.1.6 | C17: PSC 8.2.13 | D17: Fencing of Pipeline Servitudes in populated areas | E17: m | F17: 600
A19: 2.1.7 | C19: PSC 8.2.14 | D19: Removal and Re-Erection of Structures | E19: Prov Sum | F19: 1 | G19: 600000 | H19: =G19*F19 -> 600000
A21: 2.1.8 | D21: (i) Overheads, charges and profit on item 2.1.7 above | E21: % | F21: =H19 -> 600000
C23: SANS1200 DB | D23: PIPE TRENCHES
A25: 2.2 | D25: EXCAVATION
C27: 8.3.2(a) | D27: Excavate in all materials for trenches, backfill, compact, and dispose of surplus/ unsuitable material, for up to 110 mm dia. pipes for total trench depth:
A29: 2.2.1 | B29: LI | D29: a) Exceeding 0,0 m but not exceeding 1,0 m | E29: m | F29: 140
A31: 2.2.2 | D31: b) Exceeding 1,0 m but not exceeding 2,0 m | E31: m | F31: 40
A33: 2.2.3 | D33: c) Exceeding 2,0 m but not exceeding 3,0 m | E33: m | F33: 20
A46: TOTAL CARRIED FORWARD
A47: TOTAL BROUGHT FORWARD
C48: 8.3.2(a) | D48: Excavate in all materials for trenches, backfill, compact, and dispose of surplus/ unsuitable material, for 160 mm dia. pipes for total trench depth:
A50: 2.2.4 | B50: LI | D50: a) Exceeding 0,0 m but not exceeding 1,0 m | E50: m | F50: 4200
A52: 2.2.5 | D52: b) Exceeding 1,0 m but not exceeding 2,0 m | E52: m | F52: 1200
A54: 2.2.6 | D54: c) Exceeding 2,0 m but not exceeding 3,0 m | E54: m | F54: 600
A56: 2.2.7 | D56: d) Exceeding 3,0 m but not exceeding 4,0 m | E56: m | F56: 50
C64: 8.3.2(a) | D64: Excavate in all materials for trenches, backfill, compact, and dispose of surplus/ unsuitable material, for 200 mm dia. pipes for total trench depth:
A66: 2.2.8 | B66: LI | D66: a) Exceeding 0,0 m but not exceeding 1,0 m | E66: m | F66: 1428
A68: 2.2.9 | D68: b) Exceeding 1,0 m but not exceeding 2,0 m | E68: m | F68: 408
A70: 2.2.10 | D70: c) Exceeding 2,0 m but not exceeding 3,0 m | E70: m | F70: 204
A72: 2.2.11 | D72: d) Exceeding 3,0 m but not exceeding 4,0 m | E72: m | F72: 10
A78: TOTAL CARRIED FORWARD
A79: TOTAL BROUGHT FORWARD
C80: 8.3.2(a) | D80: Excavate in all materials for trenches, backfill, compact, and dispose of surplus/ unsuitable material, for 250 mm dia. pipes for total trench depth:
A82: 2.2.12 | B82: LI | D82: a) Exceeding 0,0 m but not exceeding 1,0 m | E82: m | F82: 210
A84: 2.2.13 | D84: b) Exceeding 1,0 m but not exceeding 2,0 m | E84: m | F84: 60
A86: 2.2.14 | D86: c) Exceeding 2,0 m but not exceeding 3,0 m | E86: m | F86: 30
A88: 2.2.15 | D88: d) Exceeding 3,0 m but not exceeding 4,0 m | E88: m | F88: 10
C94: 8.3.2(a) | D94: Excavate in all materials for trenches, backfill, compact, and dispose of surplus/ unsuitable material, for 315 mm dia. pipes for total trench depth:
A96: 2.2.16 | B96: LI | D96: a) Exceeding 0,0 m but not exceeding 1,0 m | E96: m | F96: 210
...

Sheet 3; BED
A1: CONTRACT TITLE: | C1: REFURBISHMENT AND UPGRADE OF MARGATE STORM-DAMAGED INFRASTRUCTURE, WASTEWATER TREATMENT WORKS AND EFFLUENT MAIN (PHASE 2)
A2: CONTRACT NUMBER | C2: ='1; P&G '!$C$2 -> UGU-07-1734-2026
A3: SECTION: | C3: =D5 -> SCHEDULE 3: BEDDING (PIPES)
A4: ITEM NO | B4: LI | C4: PAYMENT | D4: DESCRIPTION | E4: UNIT | F4: QTY | G4: RATE | H4: AMOUNT
C5: SANS 1200LB | D5: SCHEDULE 3: BEDDING (PIPES)
A7: 3.1 | D7: BEDDING FOR SUBSURFACE DRAIN PIPES
C9: 8.2.1 | D9: Provision of Bedding from trench excavation within 0,5 km including screening
A11: 3.1.1 | D11: Selected granular material | E11: m³ | F11: 18
A13: 3.1.2 | D13: Selected fill material | E13: m³ | F13: 460
C15: 8.2.2.2 | D15: From borrow pits (Provisional)
A17: 3.1.3 | D17: 1) Selected granular material | E17: m³ | F17: 18
A19: 3.1.4 | D19: 2) Selected fill material | E19: m³ | F19: 153
C21: PSLB 8.2.2 | D21: Supply only of bedding by importation:
D23: From commercial sources:
A25: 3.1.5 | D25: 1) Selected granular material | E25: m³ | F25: 3535
A27: 3.1.6 | D27: 2) Selected fill material | E27: m³ | F27: 921
C29: PSLB 8.2.6 | D29: Drainage Layer
A31: 3.1.7 | D31: a) Stone Filling | E31: m³ | F31: 48
A33: 3.1.8 | D33: b) Dump rock | E33: m³ | F33: 240
A35: 3.1.9 | D35: c) Geofabric filter material (Bidim Grade A4 or similar) | E35: m² | F35: 1640
A37: 3.1.10 | B37: 7.1.11 | C37: 8.2.4 | D37: Encasing of pipes (all Diameters) in Concrete (20Mpa) | E37: m³ | F37: 55.088
A39: 3.1.11 | B39: 7.1.11 | C39: 8.2.5 | D39: Overhaul of Material for Bedding Cradle and Selected Fill Blanket | E39: m³.km | F39: 3245
A46: TOTAL CARRIED FORWARD TO SUMMARY

Sheet 4. SEWER
A1: CONTRACT TITLE: | C1: REFURBISHMENT AND UPGRADE OF MARGATE STORM-DAMAGED INFRASTRUCTURE, WASTEWATER TREATMENT WORKS AND EFFLUENT MAIN (PHASE 2)
A2: CONTRACT NUMBER | C2: UGU-07-1734-2026
A3: SECTION: | C3: =D5 -> SCHEDULE 4: SEWERS
A4: ITEM NO | B4: LI | C4: PAYMENT | D4: DESCRIPTION | E4: UNIT | F4: QTY | G4: RATE | H4: AMOUNT
C5: SANS1200 LD | D5: SCHEDULE 4: SEWERS
C7: 8.2 | D7: SCHEDULED ITEM
C9: 8.2.1 | D9: Supply , Lay, Joint, Bed, backfill on flexible bedding Pipes Complete with couplings and Test pipeline
A11: 4.1 | D11: a) Pipes: Class 34 Solid wall or 400kPa uPVC, SANS 791/1601/21138-1/21138-2/21138-3
A13: 4.1.1 | D13: i) 110mm dia. | E13: m | F13: 200
A15: 4.1.2 | D15: ii) 160mm dia. | E15: m | F15: 6000
A17: 4.1.3 | D17: iii) 200mm dia. | E17: m | F17: 2040
A19: 4.1.4 | D19: iv) 250mm dia. | E19: m | F19: 300
A21: 4.1.5 | D21: v) 315mm dia. | E21: m | F21: 450
A23: 4.1.6 | D23: vi) 355 mm dia. | E23: m | F23: 450
A25: 4.2 | D25: b) Pipes: 75D Concrete pipes, SANS 791/1601/21138-1/21138-2/21138-3
A27: 4.2.1 | D27: i) 450mm dia. | E27: m | F27: 200
A29: 4.2.2 | D29: ii) 525mm dia. | E29: m | F29: 110
A31: 4.3 | D31: MANHOLES
D33: Supply and Install Manholes complete with Channels, cover & frame for depths including excvation over and up to:
A35: 4.3.1 | D35: a) 0m to 2.0m | E35: No | F35: 75
A37: 4.3.2 | D37: b) 2.0m to 3.0m | E37: No | F37: 81
A39: 4.3.3 | D39: c) 3.0m to 4.0m | E39: No | F39: 19
A41: 4.3.4 | D41: d) 4.0m to 5.0m | E41: No | F41: 9
A43: 4.3.5 | D43: e) 5.0m to 6.0m | E43: No | F43: 4
A51: TOTAL CARRIED FORWARD
A52: TOTAL BROUGHT FORWARD
D53: CCTV CAMERA AND CLEANING
A55: 4.4 | C55: PZA 5.1 | D55: Cleaning Sewer Pipes and Manholes
A57: 4.4.1 | D57: a) Cleaning of up to DN <350. sewer using mechanical means. | E57: m | F57: 200
A59: 4.4.2 | D59: b) Extra over for levels of silting greater than 20% of the pipe diameter | E59: m | F59: 80
A61: 4.4.3 | D61: c) Cleaning of up to DN 630. sewer using mechanical means. | E61: m | F61: 10
A63: 4.4.4 | D63: d) Extra over for levels of silting greater than 20% of the pipe diameter | E63: m | F63: 10
A65: 4.5 | C65: PZC 6 | D65: CLOSED CIRCUIT TELEVISION (CCTV) INSPECTION OF SEWERS
A67: 4.5.1 | C67: PZC 6,1 | D67: Site Establishment | E67: Sum | F67: 1
C69: PZC 5.1 | D69: CCTV camera survey of pipelines after upgrade works including any cleaning required
A71: 4.5.2 | D71: i) up to 900mm dia. | E71: m | F71: 500
A73: 4.5.3 | D73: Lateral Connections | E73: No. | F73: 10
A75: 4.5.4 | D75: Plugging of Sewers | E75: No. | F75: 10
A77: 4.5.5 | D77: Over-Pumping of Sewer Flows | E77: hr | F77: 500
A93: TOTAL CARRIED FORWARD TO SUMMARY

Sheet 5; Gabions
A1: CONTRACT TITLE: | C1: REFURBISHMENT AND UPGRADE OF MARGATE STORM-DAMAGED INFRASTRUCTURE, WASTEWATER TREATMENT WORKS AND EFFLUENT MAIN (PHASE 2)
A2: CONTRACT NUMBER | C2: UGU-07-1734-2026
A3: SECTION: | C3: =D5 -> SCHEDULE 5: GABIONS AND PITCHING
A4: ITEM NO | B4: LI | C4: PAYMENT | D4: DESCRIPTION | E4: UNIT | F4: QTY | G4: RATE | H4: AMOUNT
C5: SANS 1200 DK | D5: SCHEDULE 5: GABIONS AND PITCHING
A7: 5.1 | C7: 8.2.1 | D7: Surface preparation for bedding of gabions
A9: 5.1.1 | D9: a) Cavities filled with approved excavated material | E9: m³ | F9: 1500
A11: 5.1.2 | D11: b) Cavities filled with grade 15 concrete | E11: m³ | F11: 100
A13: 5.2 | C13: 8.2.2 | D13: Gabions
D15: Supply, place, fill with stones, lacing and bracing gabions boxes or mattresses, the rate should include the supply of stones:
D17: (Double twist hexagonal wire mesh to SANS 1580:2005) Mesh Type 80 with 2,7/3,7mm Class A Galvanized and uPVC coated wire
A19: 5.2.1 | D19: a) Gabion mattresses: 2m x 1m x 0.6m | E19: m³ | F19: 1950
A21: 5.2.2 | D21: (b) Gabion boxes: 1m x 1m x1m | E21: m³ | F21: 812
A23: 5.3 | C23: 8.2.4 | D23: Supply and install Geotextile membrane:
A25: 5.3.1 | D25: a) AG150 - Minimum Energy Absorption - 4,0kN/m | E25: m² | F25: 4062
A27: 5.4 | C27: 8.2.5 | D27: Pitching
A29: 5.4.1 | D29: a) Medium pitching - plain | E29: m² | F29: 140
F30: .
A37: TOTAL CARRIED FORWARD TO SUMMARY

Sheet 6. Jack
A1: CONTRACT TITLE: | C1: REFURBISHMENT AND UPGRADE OF MARGATE STORM-DAMAGED INFRASTRUCTURE, WASTEWATER TREATMENT WORKS AND EFFLUENT MAIN (PHASE 2)
A2: CONTRACT NUMBER | C2: UGU-07-1734-2026
A3: SECTION: | C3: =D5 -> SCHEDULE 6: PIPE JACKING
A4: ITEM NO | B4: LI | C4: PAYMENT | D4: DESCRIPTION | E4: UNIT | F4: QTY | G4: RATE | H4: AMOUNT
C5: SABS 1200LG | D5: SCHEDULE 6: PIPE JACKING
A7: 6.1 | C7: 8.2.1 | D7: Jacking establishment:
A9: 6.1.1 | D9: Fixed charges | E9: Sum | F9: 1
A11: 6.1.2 | D11: Time-related charges for jacking operations up to 400m in length | E11: Sum | F11: 1
A13: 6.2 | C13: 8.2.4 | D13: Excavation for jacking - excavate for pipes at jacking face, including removal and disposal of material within 0,5 km of working area in:
A15: 6.2.1 | D15: a) Soft cohesive soil | E15: m3 | F15: 38
A17: 6.2.2 | D17: b) Non-cohesive soil | E17: m3 | F17: 76
A19: 6.2.3 | D19: c) Hard pickable soil | E19: m3 | F19: 38
A21: 6.2.4 | D21: d) Cobbles and boulders larger than 150 mm but not larger than 0,10 m3 | E21: m3 | F21: 114
A23: 6.2.5 | D23: e) Very hard material occuring in bulk requiring extraordinary techniques for breaking, or boulders larger than 0,01 m3, or both | E23: m3 | F23: 610
A25: 6.2.6 | D25: f) A mixture of two or more of (a) to (e) above | E25: m3 | F25: 38
A27: 6.2.7 | D27: Overhaul in excess of 0,5 km for disposal of surplus excavation | E27: m3.km | F27: 7624
A29: 6.3 | C29: 8.2.2 | D29: Supply of 100D Concrete Jacking Pipe larger than installed pipe road crossings.
A31: 6.3.1 | D31: i) for 110 mm diameter | E31: m | F31: 1
A33: 6.3.2 | D33: ii) for 160 mm diameter | E33: m | F33: 1
A35: 6.3.3 | D35: iii) for 200 mm diameter | E35: m | F35: 1
A37: 6.3.4 | D37: iv) for 250 mm diameter | E37: m | F37: 1
A39: 6.3.5 | D39: v) for 315 mm diameter | E39: m | F39: 1
A41: 6.3.6 | D41: vi) for 355 mm diameter | E41: m | F41: 1
A43: 6.3.7 | D43: vii) for 450 mm diameter | E43: m | F43: 18
A45: 6.3.8 | D45: viii) for 600 mm diameter | E45: m | F45: 36
A47: 6.3.9 | D47: ix) for 900 mm diameter | E47: m | F47: 306
A52: TOTAL CARRIED FORWARD
A53: TOTAL BROUGHT FORWARD
A55: 6.4 | C55: 8.2.3 | D55: Jacking of 100D Concrete Jacking Pipe into final position
A57: 6.4.1 | D57: i) for 110 mm diameter | E57: m | F57: 1
A59: 6.4.2 | D59: ii) for 160 mm diameter | E59: m | F59: 1
A61: 6.4.3 | D61: iii) for 200 mm diameter | E61: m | F61: 1
A63: 6.4.4 | D63: iv) for 250 mm diameter | E63: m | F63: 1
A65: 6.4.5 | D65: v) for 315 mm diameter | E65: m | F65: 1
A67: 6.4.6 | D67: vi) for 355 mm diameter | E67: m | F67: 1
A69: 6.4.7 | D69: vii) for 450 mm diameter | E69: m | F69: 18
A71: 6.4.8 | D71: viii) for 600 mm diameter | E71: m | F71: 36
A73: 6.4.9 | D73: ix) for 900 mm diameter | E73: m | F73: 306
A75: 6.5 | C75: 8.2.9 | D75: Stabilization of unstable areas where ordered:
A77: 6.5.1 | D77: a) Provision and establishment of equipment on site, and removal on completion of operation | E77: Sum | F77: 1
...

Sheet 7. Swr HH Conn
A1: CONTRACT TITLE: | C1: REFURBISHMENT AND UPGRADE OF MARGATE STORM-DAMAGED INFRASTRUCTURE, WASTEWATER TREATMENT WORKS AND EFFLUENT MAIN (PHASE 2)
A2: CONTRACT NUMBER | C2: UGU-07-1734-2026
A3: SECTION: | C3: =D5 -> SCHEDULE 7: SEWER HOUSEHOLD CONNECTIONS
A4: ITEM NO | B4: LI | C4: PAYMENT | D4: DESCRIPTION | E4: UNIT | F4: QTY | G4: RATE | H4: AMOUNT
A5: 7.1 | D5: SCHEDULE 7: SEWER HOUSEHOLD CONNECTIONS
C7: SANS1200 DC | D7: EARTHWORKS (Pipe Trenches)
A9: 7.1.1 | B9: LI | C9: 8.2.1 | D9: Clear vegetation and grub | E9: m² | F9: 76538
A11: 7.1.2 | B11: LI | C11: 8.2.2 | D11: Remove large trees and tree stumps of girth up to 1 m | E11: No. | F11: 185
A13: 7.1.3 | C13: 8.2.10 | D13: Remove topsoil to a nominal depth of 150mm and stockpile | E13: m² | F13: 76538
A15: 7.1.4 | C15: PSC 8.2.11 | D15: Take Down and Re-erect Fence | E15: m | F15: 3750
A17: 7.1.5 | C17: PSC 8.2.12 | D17: Demarcation Staking | E17: m | F17: 150
A19: 7.1.6 | C19: PSC 8.2.13 | D19: Fencing of Pipeline Servitudes in populated areas | E19: m | F19: 1
A21: 7.1.7 | C21: PSC 8.2.14 | D21: Removal and Re-Erection of Structures | E21: Prov Sum | F21: 1 | G21: 3000000 | H21: =G21*F21 -> 3000000
A23: 7.1.8 | D23: (i) Overheads, charges and profit on item 2.1.7 above | E23: % | F23: =H21 -> 3000000
C25: SANS1200 DB | D25: PIPE TRENCHES
A27: 7.2 | D27: EXCAVATION
C29: 8.3.2(a) | D29: Excavate in all materials for trenches, backfill, compact, and dispose of surplus/ unsuitable material, for up to 110 mm dia. pipes for total trench depth:
A31: 7.2.1 | B31: LI | D31: a) Exceeding 0,0 m but not exceeding 1,0 m | E31: m | F31: 11375
A33: 7.2.2 | D33: b) Exceeding 1,0 m but not exceeding 2,0 m | E33: m | F33: 3250
A35: 7.2.3 | D35: c) Exceeding 2,0 m but not exceeding 3,0 m | E35: m | F35: 125
A45: TOTAL CARRIED FORWARD
A46: TOTAL BROUGHT FORWARD
A48: 7.3 | C48: 8.3.2(b) | D48: Extra-over items 2.2.1-2.2.27 included for:
A50: 7.3.1 | D50: 1) Intermediate excavation | E50: m³ | F50: 5460
A52: 7.3.2 | D52: 2) Hard rock excavation by Hand (Pneumatic) | E52: m³ | F52: 8190
A54: 7.3.3 | D54: 3) Hard rock excavation (Controlled Blasting) | E54: m³ | F54: 364
A56: 7.3.4 | D56: 4) Boulder excavation Class A | E56: m³ | F56: 455
A58: 7.3.5 | D58: 5) Boulder excavation Class B | E58: m³ | F58: 455
A60: 7.3.6 | C60: 8.3.2(c) | D60: 6) Excavate and dispose of unsuitable material from trench bottom (Provisional) | E60: m³ | F60: 910
A62: 7.3.7 | D62: 7) Hand excavation and backfill only where ordered by the Engineer | E62: m³ | F62: 1000
A64: 7.3.8 | D64: 8) Backfill stabilsed with 5% cement where directed by the Engineer | E64: m³ | F64: 165
A66: 7.4 | C66: 8.3.3 | D66: EXCAVATION ANCILLARIES
C68: 8.3.3.1 | D68: Make-up deficiency in backfill material
A70: 7.4.1 | C70: 8.3.3.1(a) | D70: i) From other necessary excavations on site | E70: m³ | F70: 1374
A72: 7.4.2 | C72: 8.3.3.1(a) | D72: ii) From Borrow Pits | E72: m³ | F72: 9619
A74: 7.4.3 | C74: 8.3.3.1(a) | D74: iii) From Commercial Sources | E74: m³ | F74: 1374
A76: 7.4.4 | C76: 8.3.3.3 | D76: ii) Compaction in road reserves to 90% Mod Aashto as instructed by Employer’s Agent | E76: m³ | F76: 1170
A78: 7.5 | C78: 8.3.4 | D78: Shoring of trenches
A80: 7.5.1 | D80: Opposite existing pipe service where instructed by Employer’s Agent in the following depth Categories)
A82: 7.5.2 | D82: a) Exceeding 0,0m but not exceeding 2,0 m. | E82: m | F82: 1625
...

Sheet 8; Aeration
A1: CONTRACT TITLE: | C1: REFURBISHMENT AND UPGRADE OF MARGATE STORM-DAMAGED INFRASTRUCTURE, WASTEWATER TREATMENT WORKS AND EFFLUENT MAIN (PHASE 2)
A2: CONTRACT NUMBER | C2: UGU-07-1734-2026
A3: SECTION: | C3: =D5 -> SCHEDULE 8: AREATION BASIN
A4: ITEM NO | B4: LI | C4: PAYMENT | D4: DESCRIPTION | E4: UNIT | F4: QTY | G4: RATE | H4: AMOUNT
D5: SCHEDULE 8: AREATION BASIN
A7: 8.1 | D7: General and Concrete repairs on existing tank
A9: 8.1.1 | D9: Remove all existing handrail baseplates and bolts from concrete | E9: No | F9: 12
A11: 8.1.2 | D11: Expose concrete surface by sandblasting or cleaning with high pressure water jet | E11: m2 | F11: 2032
A13: 8.1.3 | D13: Level corroded concrete floor /wall area with Pro-Struct 513 levelling mortar or Sika equivalent | E13: m2 | F13: 2032
A15: 8.1.4 | D15: Desluging of tank. Removal using Honey sucker or pump. Including safe disposal | E15: m3 | F15: 2842
A17: 8.1.5 | D17: Removal of heavy grit/sediment from tank | E17: m3 | F17: 1894
A19: 8.1.6 | D19: Sum for complete removal of areation pipework | E19: Sum | F19: 1
A21: 8.1.7 | D21: Construct stainless steel canopy over existing areation pipes | E21: m | F21: 94
A23: 8.1.8 | D23: Mentis handrail, ball type MT 90 complete installed. Stainless steel 316L SS SCH 10 | E23: m | F23: 110
A25: 8.1.9 | D25: Grid floor, bearer 25 x 4.5 mm light duty, 450 mm wide, galvanized & banded over canals | E25: m2 | F25: 10
A27: 8.1.10 | D27: Mentis stair threads, 900 x 245 mm, 6 per stair | E27: No | F27: 2
A32: TOTAL CARRIED FORWARD
A33: TOTAL BROUGHT FORWARD
C35: 8.2.5 | D35: PIPE FITTINGS Steel
D37: Copon coated = Cc; Galvanised = gs; oef=one end flanged; bef = both ends flanged; pf=puddle flange pipework 316L SS, class Sch 10. Flanges SABS 1123 table 1000/3
A39: 8.2 | D39: a) 90°
A41: 8.2.1 | D41: 200 mm dia bef | E41: No | F41: 6
A43: 8.3 | D43: TEE PIECE (Flanged 1000/3)
A45: 8.3.1 | D45: a) 200mm x 200mm | E45: No | F45: 2
A47: 8.3.2 | D47: a) 500mm x 500mm | E47: No | F47: 2
A49: 8.4 | D49: 200 mm dia (mm)
A51: 8.4.1 | D51: a) L=3000, bef | E51: No | F51: 12
A53: 8.4.2 | D53: b) L=295, bef | E53: No | F53: 8
A55: 8.4.3 | D55: c) L = 6000 bef | E55: No | F55: 12
A57: 8.5 | D57: 500 mm dia (mm)
A59: 8.5.1 | D59: a) L=5000, oef | E59: No | F59: 4
A61: 8.5.2 | D61: b) L=1000, oef | E61: No | F61: 2
A63: 8.6 | D63: 150 mm dia (mm)
A65: 8.6.1 | D65: a) L=1000, oef | E65: No | F65: 2
D67: 75mm uPVC class 9 with holes drilled for aeartor dome installation | E67: m | F67: 720
A69: 8.7 | D69: 200 mm Ø NB, Supply and install fittings below including all fixures
A71: 8.7.1 | D71: a) RSV Gate valve class 10 | E71: No | F71: 6
A73: 8.7.2 | D73: b) Flange adapter VJ or Simlair | E73: No | F73: 6
A75: 8.7.3 | D75: Supply and install 8m long stem and spindle valve wheel | E75: No | F75: 6
A77: 8.7.4 | D77: Supply and install Stainless steel ladder and protective cage H=8m | E77: No | F77: 2
...

Sheet 9; Upper inlet
A1: CONTRACT TITLE: | C1: REFURBISHMENT AND UPGRADE OF MARGATE STORM-DAMAGED INFRASTRUCTURE, WASTEWATER TREATMENT WORKS AND EFFLUENT MAIN (PHASE 2)
A2: CONTRACT NUMBER | C2: UGU-07-1734-2026
A3: SECTION: | C3: =D5 -> SCHEDULE 9: UPPER INLET
A4: ITEM NO | B4: LI | C4: PAYMENT | D4: DESCRIPTION | E4: UNIT | F4: QTY | G4: RATE | H4: AMOUNT
D5: SCHEDULE 9: UPPER INLET
A7: 9.1 | D7: General and Concrete repairs on existing inlet canal
A9: 9.1.1 | D9: Remove all existing handrail baseplates and bolts from concrete | E9: No | F9: 24
A11: 9.1.2 | D11: Expose concrete surface by sandblasting or cleaning with high pressure water jet | E11: m2 | F11: 430
A13: 9.1.3 | D13: Level corroded concrete floor /wall area with Pro-Struct 513 levelling mortar or Sika equivalent | E13: m2 | F13: 430
A15: 9.1.4 | D15: Desluging of tank. Removal using Honey sucker or pump. Including safe disposal | E15: m3 | F15: 135
A17: 9.1.5 | D17: Mentis handrail, ball type MT 90 complete installed. Stainless steel 316L SS SCH 10 | E17: m | F17: 90
A19: 9.1.6 | D19: Grid floor, bearer 25 x 4.5 mm light duty, 450 mm wide, galvanized & banded over canals | E19: m2 | F19: 30
A21: 9.1.7 | D21: Mentis stair threads, 900 x 245 mm, 6 per stair | E21: No | F21: 2
A23: 9.1.8 | D23: Supply, deliver, install, and commission a , wall-mounted Rising Spindle Sluice Gate (Penstock) suitable for wastewater treatment applications. Including frame and other fixtures. W=600mm, H=1500mm. Gate height= 800mm(including freeboard) | E23: No | F23: 12
A25: 9.1.9 | D25: Demolish existing rising mainhole and dispose of all material | E25: No | F25: 2
A30: TOTAL CARRIED FORWARD
A31: TOTAL BROUGHT FORWARD
C33: 8.2.5 | D33: PIPE FITTINGS Steel
D35: Copon coated = Cc; Galvanised = gs; oef=one end flanged; bef = both ends flanged; pf=puddle flange pipework 316L SS, class Sch 10. Flanges SABS 1123 table 1000/3
A37: 9.2 | D37: a) 90°
A39: 9.2.1 | D39: 150 mm dia bef | E39: No | F39: 6
A41: 9.3 | D41: TEE PIECE (Flanged 1000/3)
A43: 9.3.1 | D43: a) 150mm x 150mm | E43: No | F43: 2
A45: 9.3.2 | D45: a) 200mm x 200mm | E45: No | F45: 2
A47: 9.4 | D47: 150 mm dia (mm)
A49: 9.4.1 | D49: b) L=295, bef | E49: No | F49: 4
A51: 9.5 | D51: 150mm Ø NB, Supply and install fittings below including all fixures
A53: 9.5.1 | D53: a) RSV Gate valve class 10, Flanged to SANS 1123 | E53: No | F53: 3
A55: 9.5.2 | D55: b) Flange adapter VJ or Simlair | E55: No | F55: 6
A57: 9.5.3 | D57: Supply and install 8m long stem and spindle valve wheel | E57: No | F57: 6
A59: 9.5.4 | D59: Supply and install Stainless steel ladder and protective cage H=8m | E59: No | F59: 2
A70: TOTAL CARRIED FORWARD
A71: TOTAL BROUGHT FORWARD
A73: 9.6 | D73: Mechanical equipment
A75: 9.6.1 | D75: 600 mm Wide SS 304L drip tray for screenings | E75: no | F75: 1
A77: 9.6.2 | D77: 410 mm x 600 mm 304L SS U-frame and 400 mm x 600 mm 304L SS handstop with handle to replace existing | E77: no | F77: 4
A79: 9.7 | D79: Flow measuring equipment
A81: 9.7.1 | D81: a) Open canal Ultrasonic liquid level detector & 304L SS frame for mounting over the canal | E81: no | F81: 1
A83: 9.7.2 | D83: b) Flow meter transmitter with data logger with connection to MCC & PC in Admin control room | E83: no | F83: 1
A85: 9.7.3 | D85: c) 304L SS canopy mounted on top of frame over Ultrasonic liquid level detector | E85: no | F85: 1
...

Sheet 10; Lower inlet
A1: CONTRACT TITLE: | C1: REFURBISHMENT AND UPGRADE OF MARGATE STORM-DAMAGED INFRASTRUCTURE, WASTEWATER TREATMENT WORKS AND EFFLUENT MAIN (PHASE 2)
A2: CONTRACT NUMBER | C2: UGU-07-1734-2026
A3: SECTION: | C3: =D5 -> SCHEDULE 10: LOWER INLET
A4: ITEM NO | B4: LI | C4: PAYMENT | D4: DESCRIPTION | E4: UNIT | F4: QTY | G4: RATE | H4: AMOUNT
D5: SCHEDULE 10: LOWER INLET
A7: 10.1 | D7: General and Concrete repairs on existing inlet canal
A9: 10.1.1 | D9: Remove all existing handrail baseplates and bolts from concrete | E9: No | F9: 24
A11: 10.1.2 | D11: Expose concrete surface by sandblasting or cleaning with high pressure water jet | E11: m2 | F11: 280
A13: 10.1.3 | D13: Level corroded concrete floor /wall area with Pro-Struct 513 levelling mortar or Sika equivalent | E13: m2 | F13: 280
A15: 10.1.4 | D15: Desluging of tank. Removal using Honey sucker or pump. Including safe disposal | E15: m3 | F15: 75
A17: 10.1.5 | D17: Mentis handrail, ball type MT 90 complete installed. Stainless steel 316L SS SCH 10 | E17: m | F17: 50
A19: 10.1.6 | D19: Grid floor, bearer 25 x 4.5 mm light duty, 450 mm wide, galvanized & banded over canals | E19: m2 | F19: 30
A21: 10.1.7 | D21: Mentis stair threads, 900 x 245 mm, 6 per stair | E21: No | F21: 2
A23: 10.1.8 | D23: Supply, deliver, install, and commission a , wall-mounted Rising Spindle Sluice Gate (Penstock) suitable for wastewater treatment applications. Including frame and other fixtures. W=900mm, H=1000mm. Gate height= 800mm(including freeboard) | E23: No | F23: 9
A25: 10.1.9 | D25: Demolish existing existing concrete wall and dispose of material | E25: m3 | F25: 5
A27: 10.1.10 | D27: Refurbish existing inlet chambers and surrounding fittings | E27: Prov Sum | F27: 1 | G27: 450000 | H27: =ROUND(F27 * G27,2) -> 450000
A29: 10.1.11 | D29: Allowance for profit on above item | E29: % | F29: =H27 -> 450000
A38: TOTAL CARRIED FORWARD TO SUMMARY

Sheet 11; Pipes WWTW
A1: CONTRACT TITLE: | C1: REFURBISHMENT AND UPGRADE OF MARGATE STORM-DAMAGED INFRASTRUCTURE, WASTEWATER TREATMENT WORKS AND EFFLUENT MAIN (PHASE 2)
A2: CONTRACT NUMBER | C2: UGU-07-1734-2026
A3: SECTION: | C3: =D5 -> SCHEDULE 11: MEDIUM PRESSURE PIPELINES
A4: ITEM NO | B4: LI | C4: PAYMENT | D4: DESCRIPTION | E4: UNIT | F4: QTY | G4: RATE | H4: AMOUNT
C5: SABS 1200 L | D5: SCHEDULE 11: MEDIUM PRESSURE PIPELINES
A7: 11.1 | D7: Supply, handle, lay and bed and test uPVC pipes to SABS 966-1, on class C bedding and test
A9: 11.1.1 | D9: a) 160 mm dia class 16 | E9: m | F9: 835
A11: 11.1.2 | D11: b) 200 mm dia class 16 | E11: m | F11: 250
A13: 11.1.3 | D13: c) 250 mm dia class 16 | E13: m | F13: 120
A15: 11.1.4 | D15: d) 315 mm dia class 16 | E15: m | F15: 80
D17: PIPE FITTINGS uPVC
D19: Extra over 5.1 & 5.2 for supplying, laying and bedding of fittings and couplings complete
A21: 11.2 | D21: uPVC Class 16 bends
A23: 11.2.1 | D23: a)(i) 160 mm dia x 90° | E23: No | F23: 6
A25: 11.2.2 | D25: a)(ii) 160 mm dia x 45° | E25: No | F25: 6
A27: 11.2.3 | D27: a)(iii) 160 mm dia x 22½° | E27: No | F27: 6
A29: 11.2.4 | D29: a)(iv) 160 mm dia x 11¼° | E29: No | F29: 6
A31: 11.2.5 | D31: b)(i) 200 mm dia x 90° | E31: No | F31: 6
A33: 11.2.6 | D33: b)(ii) 200 mm dia x 45° | E33: No | F33: 6
A35: 11.2.7 | D35: b)(iii) 200 mm dia x 22½° | E35: No | F35: 6
A37: 11.2.8 | D37: b)(iv) 200 mm dia x 11¼° | E37: No | F37: 6
A42: TOTAL CARRIED FORWARD
A43: TOTAL BROUGHT FORWARD
A45: 11.2.9 | D45: c)(i) 250 mm dia x 90° | E45: No | F45: 6
A47: 11.2.10 | D47: c)(ii) 250 mm dia x 45° | E47: No | F47: 6
A49: 11.2.11 | D49: c)(iii) 250 mm dia x 22½° | E49: No | F49: 6
A51: 11.2.12 | D51: c)(iv) 250 mm dia x 11¼° | E51: No | F51: 6
A53: 11.2.13 | D53: d)(i) 315 mm dia x 90° | E53: No | F53: 6
A55: 11.2.14 | D55: d)(ii) 315 mm dia x 45° | E55: No | F55: 6
A57: 11.2.15 | D57: d)(iii) 315 mm dia x 22½° | E57: No | F57: 6
A59: 11.2.16 | D59: d)(iv) 315 mm dia x 11¼° | E59: No | F59: 6
D61: PIPE FITTINGS CI
A63: 11.3 | D63: CI TEES to fit uPVC
A65: 11.3.1 | D65: 150 x 150 mm (DL 04) | E65: No | F65: 4
A67: 11.4 | D67: FLANGE ADAPTORS TO uPVC PIPES
A69: 11.4.1 | D69: 160 mm dia | E69: No | F69: 6
A71: 11.5 | D71: Supply and Install Manholes complete with Channels, cover & frame for depths including excvation over and up to:
A73: 11.5.1 | D73: i) 0m to 2.0m | E73: No | F73: 10
A75: 11.5.2 | D75: ii) 2.0m to 3.0m | E75: No | F75: 3
A79: TOTAL CARRIED FORWARD TO SUMMARY

Sheet 12; Ertwrks WWTW
A1: CONTRACT TITLE: | C1: REFURBISHMENT AND UPGRADE OF MARGATE STORM-DAMAGED INFRASTRUCTURE, WASTEWATER TREATMENT WORKS AND EFFLUENT MAIN (PHASE 2)
A2: CONTRACT NUMBER | C2: UGU-07-1734-2026
A3: SECTION: | C3: =D5 -> SCHEDULE 12: EARTHWORKS (PIPE TRENCHES)
A4: ITEM NO | B4: LI | C4: PAYMENT | D4: DESCRIPTION | E4: UNIT | F4: QTY | G4: RATE | H4: AMOUNT
C5: SANS1200 C | D5: SCHEDULE 12: EARTHWORKS (PIPE TRENCHES)
A7: 12.1.1 | B7: LI | C7: PS C 8.2.1 | D7: Clear vegetation and grub | E7: m² | F7: 3005
A9: 12.1.2 | B9: LI | C9: PS 8.2.3 | D9: Remove large trees and tree stumps of girth up to 1 m | E9: No. | F9: 3
A11: 12.1.3 | C11: 8.2.3 | D11: Remove topsoil to a nominal depth of 150mm and stockpile | E11: m² | F11: 3005
A13: 12.1.4 | C13: PS C 8.2.5 | D13: Take Down and Re-erect new fences | E13: m | F13: 50
A15: 12.1.5 | C15: PSC 8.2.5 | D15: Demarcation Staking | E15: m | F15: 10
A17: 12.1.6 | C17: PSC 8.2.6 | D17: Fencing of Pipeline Servitudes in populated areas | E17: m | F17: 2
C23: SANS1200 DB | D23: PIPE TRENCHES
A25: 12.2 | C25: PS DB 8.3.2 | D25: EXCAVATION
C27: 8.3.1 (a) | D27: Excavate in all materials for trenches, backfill, compact, and dispose of surplus/ unsuitable material, for up to 450 mm dia. pipes for total trench depth:
A29: 12.2.1 | B29: LI | D29: a) Exceeding 0,0 m but not exceeding 1,0 m | E29: m | F29: 334
A31: 12.2.2 | D31: b) Exceeding 1,0 m but not exceeding 2,0 m | E31: m | F31: 334
A33: 12.2.3 | D33: c) Exceeding 2,0 m but not exceeding 3,0 m | E33: m | F33: 168
A35: 12.2.4 | D35: d) Exceeding 3,0 m but not exceeding 4,0 m | E35: m | F35: 10
AI38: =$T$37*AA38 -> 0
AI39: =$T$37*AA39 -> 0
AI40: =$T$37*AA40 -> 0
AI41: =$T$37*AA41 -> 0
AI43: =$T$37*AA43 -> 0
A46: TOTAL CARRIED FORWARD
A47: TOTAL BROUGHT FORWARD
C48: 8.3.1 (c) | D48: Extra-over items 12.2.1 to 12.2.4 included for:
A50: 12.2.5 | D50: a) Intermediate excavation | E50: m³ | F50: 541
A52: 12.2.6 | D52: b) Hard rock excavation | E52: m³ | F52: 271
A54: 12.2.7 | D54: c) Boulder excavation Class A | E54: m³ | F54: 90
A56: 12.2.8 | D56: d) Boulder excavation Class B | E56: m³ | F56: 90
A58: 12.2.9 | C58: 8.3.1.1 | D58: Excavate and dispose of unsuitable material from trench bottom (Provisional) | E58: m³ | F58: 135
A60: 12.2.10 | D60: Hand excavation and backfill only where ordered by the Engineer | E60: m³ | F60: 10
A62: 12.2.11 | D62: Backfill stabilsed with 5% cement where directed by the Engineer | E62: m³ | F62: 35
A64: 12.3 | C64: PS DB 8.3.3 | D64: EXCAVATION ANCILLARIES
C66: PS DB 8.3.3.1 | D66: Make-up deficiency in backfill material
A68: 12.3.1 | C68: 8.3.3.1(a) | D68: From other necessary excavations on site | E68: m³ | F68: 1020
A70: 12.3.2 | C70: 8.3.3.3 | D70: Compaction in road reserves to 90% Mod Aashto as instructed by Employer’s Agent | E70: m³ | F70: 50
C72: 8.3.4 | D72: Shoring of trenches
A74: 12.3.3 | D74: Opposite existing pipe service where instructed by Employer’s Agent in the following depth categories:
A76: 12.3.4 | D76: a) Exceeding 0,0m but not exceeding 2,0 m. | E76: m | F76: 55
...

Sheet 13; Bed WWTW
A1: CONTRACT TITLE: | C1: REFURBISHMENT AND UPGRADE OF MARGATE STORM-DAMAGED INFRASTRUCTURE, WASTEWATER TREATMENT WORKS AND EFFLUENT MAIN (PHASE 2)
A2: CONTRACT NUMBER | C2: UGU-07-1734-2026
A3: SECTION: | C3: =D5 -> SCHEDULE 13: BEDDING (PIPES)
A4: ITEM NO | B4: LI | C4: PAYMENT | D4: DESCRIPTION | E4: UNIT | F4: QTY | G4: RATE | H4: AMOUNT
C5: SANS 1200LB | D5: SCHEDULE 13: BEDDING (PIPES)
D7: BEDDING FOR SUBSURFACE DRAIN PIPES
A9: 13.1 | C9: 8.2.1 | D9: Provision of Bedding from trench excavation within 0,5 km including screening
A11: 13.1.1 | B11: LI | D11: Selected granular material | E11: m³ | F11: 17
A13: 13.1.2 | B13: LI | D13: Selected fill material | E13: m³ | F13: 18
A15: 13.2 | C15: 8.2.2.2 | D15: From borrow pits (Provisional)
A17: 13.2.1 | D17: a) Selected granular material | E17: m³ | F17: 49
A19: 13.2.2 | D19: b) Selected fill material | E19: m³ | F19: 13
C21: PSLB 8.2.2 | D21: Supply only of bedding by importation:
A23: 13.3 | D23: From commercial sources:
A25: 13.3.1 | D25: Selected granular material complying with SANS 1083 | E25: m³ | F25: 29
A27: 13.3.2 | D27: Selected fill material | E27: m³ | F27: 8
C29: PSLB 8.2.6 | D29: Drainage Layer
A31: 13.3.3 | D31: a) Stone Filling | E31: m³ | F31: 10
A33: 13.3.4 | D33: b) Dump rock | E33: m³ | F33: 15
A35: 13.3.5 | D35: c) Geofabric filter material (Bidim Grade A4 or similar) | E35: m² | F35: 150
A37: 13.3.6 | B37: 7.1.11 | C37: 8.2.4 | D37: Encasing of pipes (all Diameters) in Concrete (20Mpa) | E37: m³ | F37: 5
A39: 13.3.7 | B39: 7.1.11 | C39: 8.2.5 | D39: Overhaul of Material for Bedding Cradle and Selected Fill Blanket | E39: m³.km | F39: 350
A46: TOTAL CARRIED FORWARD TO SUMMARY

Sheet 14. SST Ertwrks
A1: CONTRACT TITLE: | C1: REFURBISHMENT AND UPGRADE OF MARGATE STORM-DAMAGED INFRASTRUCTURE, WASTEWATER TREATMENT WORKS AND EFFLUENT MAIN (PHASE 2)
A2: CONTRACT NUMBER | C2: UGU-07-1734-2026
A3: SECTION: | C3: =D5 -> SCHEDULE 14: SECONDARY SEDIMENTATION TANKS
A4: ITEM NO | B4: LI | C4: PAYMENT | D4: DESCRIPTION | E4: UNIT | F4: QTY | G4: RATE | H4: AMOUNT
D5: SCHEDULE 14: SECONDARY SEDIMENTATION TANKS
C7: SANS 1200D | D7: EARTHWORKS
A9: 14.1 | D9: BULK EXCAVATION
C11: 8.3.2 | D11: Excavate in all material and transport to crusher or spoil. Contractor to crush & grade rock material at crusher site for re-use
A13: 14.1.1 | D13: 1) To form terraces | E13: m³ | F13: 730
A15: 14.1.2 | D15: 2) For structures below terrace level | E15: m³ | F15: 1365
A17: 14.2 | D17: Restricted excavation
A19: 14.2.1 | D19: 1) For foundations | E19: m³ | F19: 2210
A21: 14.2.2 | D21: 2) For pipes coming from under structures, up to 3 m deep and 1 m wide | E21: m³ | F21: 200
A23: 14.2.3 | D23: 3) For outlet canal | E23: m³ | F23: 350
A25: 14.2.4 | D25: 4) For column footings | E25: m³ | F25: 300
A27: 14.3 | D27: Extra over for excavating in:
A29: 14.3.1 | D29: Intermediate material | E29: m³ | F29: 1377
A31: 14.3.2 | D31: Hard material using chemical rock breaking or pecker to prevent damage to existing structures | E31: m³ | F31: 1071
A33: 14.3.3 | D33: Hard material using controlled blasting | E33: m³ | F33: 918
A38: TOTAL CARRIED FORWARD
A39: TOTAL BROUGHT FORWARD
A40: 14.4 | D40: Import material for backfilling in over break areas
A42: 14.4.1 | D42: Import G5 material for backfill | E42: m³ | F42: 1330
A44: 14.4.2 | D44: Backfill & compact in layers with G5 material | E44: m³ | F44: 780
A46: 14.4.3 | D46: Mix G5 material with 5% cement and backfill & compact in layers | E46: m³ | F46: 335
A48: 14.4.4 | D48: Cement for soilcrete where indicated by employers agent | E48: t | F48: 56
A50: 14.5 | D50: Import material for foundation bedding layers
A52: 14.5.1 | D52: 75mm No-fines concrete layer beneath tank floor panels (including placing and compaction) | E52: m³ | F52: 38
A54: 14.5.2 | D54: 500mm Upper stabilized G7 sub-base layer compacted to 95% MOD AASHTO | E54: m³ | F54: 250
A56: 14.5.3 | D56: 500mm Lower stabilized G7 sub-base layer compacted to 93% MOD AASHTO | E56: m³ | F56: 250
A63: TOTAL CARRIED FORWARD
A64: TOTAL BROUGHT FORWARD
C65: SANS 1200DB | D65: EARTHWORKS (Pipe trenches)
C67: SANS 1200 DB | D67: EXCAVATION PIPE TRENCHES (Pipes connecting units)
C69: PSDB 8.3.2 (a) | D69: Excavate in all materials for trenches, backfill, compact and dispose of surplus or unsuitable material
A71: 14.6 | D71: 0.9 m Deep for 110 & 160 mm Ø sleeve pipes to the following trench widths
A73: 14.6.1 | D73: 1) 600 mm | E73: m | F73: 200
A75: 14.6.2 | D75: 2) 900 mm | E75: m | F75: 100
A77: 14.7 | D77: For 300 mm PVCO pipes, 900 mm trench width to the following depths
A79: 14.7.1 | D79: 1) 1.0 to 1.5 m | E79: m | F79: 200
...

Sheet 15. SST Concr
A1: CONTRACT TITLE: | C1: REFURBISHMENT AND UPGRADE OF MARGATE STORM-DAMAGED INFRASTRUCTURE, WASTEWATER TREATMENT WORKS AND EFFLUENT MAIN (PHASE 2)
A2: CONTRACT NUMBER | C2: UGU-07-1734-2026
A3: SECTION: | C3: =D5 -> SCHEDULE 15: CONCRETE STRUCTURAL
A4: ITEM NO | B4: LI | C4: PAYMENT | D4: DESCRIPTION | E4: UNIT | F4: QTY | G4: RATE | H4: AMOUNT
C5: SANS 1200G | D5: SCHEDULE 15: CONCRETE STRUCTURAL
A7: 15.1 | D7: Rough formwork Vertical
A9: 15.1.1 | D9: a) Side of foundations outside 400 mm wide | E9: m² | F9: 143
A11: 15.1.2 | D11: b) Walls | E11: m² | F11: 835
C13: 8.2.5 | D13: Rough formwork to narrow widths ≤ 300 mm
A15: 15.1.3 | D15: a) Edges, risers, walkways & walls | E15: m² | F15: 18
A17: 15.2 | C17: 8.2.2 | D17: Smooth formwork
D19: a) Horizontal
A21: 15.2.1 | D21: 1) Walkway slabs, slabs & landings | E21: m² | F21: 221
A23: 15.2.2 | D23: 2) Beam above weir openings | E23: m² | F23: 3.6
A25: 15.2.3 | D25: 3) Inlet canals in tanks | E25: m² | F25: 19
A27: 15.2.4 | D27: 4) Down pipe boxes | E27: m² | F27: 2
A29: 15.2.5 | D29: 5) Concrete Pier | E29: m² | F29: 43
C31: 8.2.2 | D31: b) Vertical
A33: 15.2.6 | D33: 1) Walls | E33: m² | F33: 612
A35: 15.2.7 | D35: 2) Inside & outside of canals (wider than 300 mm) | E35: m² | F35: 177
A37: 15.2.8 | D37: 3) Inside & outside of down pipe boxes | E37: m² | F37: 0
A39: 15.2.9 | D39: 4) Inside & outside of inlet boxes | E39: m² | F39: 39
A41: 15.2.10 | D41: 5) Columns | E41: m² | F41: 115
A43: 15.2.11 | D43: 6) Concrete Pier | E43: m² | F43: 52
A48: TOTAL CARRIED FORWARD
A49: TOTAL BROUGHT FORWARD
C50: 8.2.2 | D50: c) Sloping
A52: 15.2.12 | D52: 1) Stairs | E52: m² | F52: 23
A54: 15.2.13 | D54: 2) Internal face of sludge cone | E54: m² | F54: 23
C56: 8.2.5 | D56: Smooth formwork to narrow widths ( ≤ 300 mm)
A58: 15.2.14 | D58: 1) Edges, risers, etc. not > 300 mm | E58: m² | F58: 2
A60: 15.2.15 | D60: 2) Edges of walkways 150 mm wide | E60: m² | F60: 37
A62: 15.2.16 | D62: 3) Side of stairs | E62: m² | F62: 2.6
A64: 15.2.17 | D64: 4) 150 x 150 mm x 750 mm long mm chamfers at overflow weirs | E64: no | F64: 160
D66: d) Smooth formwork to rebates & chamfers
A68: 15.2.18 | D68: 1) 30 x 30 mm chamfers | E68: m | F68: 149
C70: 8.2.6 | D70: Boxed out holes up to 300 mm deep (inside recess for key bonding)
A72: 15.2.19 | D72: 1) Square, up to 0.5 m² area | E72: no | F72: 2
A74: 15.2.20 | D74: 2) Square, up to 1.0 m² area | E74: no | F74: 2
A76: 15.3 | C76: 8.3 | D76: REINFORCEMENT
...

Sheet 16 SST Steel
A1: CONTRACT TITLE: | C1: REFURBISHMENT AND UPGRADE OF MARGATE STORM-DAMAGED INFRASTRUCTURE, WASTEWATER TREATMENT WORKS AND EFFLUENT MAIN (PHASE 2)
A2: CONTRACT NUMBER | C2: UGU-07-1734-2026
A3: SECTION: | C3: =D5 -> SCHEDULE 16: SST STRUCTURAL STEELWORK
A4: ITEM NO | B4: LI | C4: PAYMENT | D4: DESCRIPTION | E4: UNIT | F4: QTY | G4: RATE | H4: AMOUNT
C5: SANS 1200 HA | D5: SCHEDULE 16: SST STRUCTURAL STEELWORK
A7: 16.1 | C7: PSHA-.5.2.10 | D7: Supply and deliver to site tubular handrails with type B90 stanchions with anchor bolts & nuts (stanchion spacing=1.8 m), hot dipped galvanized to SANS 763 | E7: m | F7: 80
A9: 16.1.1 | D9: 90° Corners (2 pipes each) | E9: no | F9: 28
A11: 16.1.2 | D11: Closures | E11: no | F11: 16
A13: 16.1.3 | D13: Self closing half gate | E13: no | F13: 8
A15: 16.1.4 | D15: Install complete handrail on site including drilling and grouting in of anchor bolts (± 110 stanchions) | E15: m | F15: 80
A17: 16.1.5 | D17: Priming all rails & stanchions with a "Galvo Grip" primer | E17: m² | F17: 118
A19: 16.1.6 | D19: Painting all rails with 2 coats of Plascon enamel (yellow) paint | E19: m² | F19: 90
A21: 16.1.7 | D21: Painting all stanchions with 2 coats of Plascon enamel (black) paint | E21: m² | F21: 28
A23: 16.1.8 | D23: Supply & install stainless steel ladders, complete with cage and anchor bolts (± 3.5 m long) to Drawing J1-109(A) _DTL_001 | E23: no | F23: 8
A25: 16.2 | D25: HANDSTOPS, WEIRS, V-NOTCH & REGTANGULAR WEIRS AND BUILT IN FRAMES
A27: 16.2.1 | D27: Supply and install type A Stainless steel weir plate - | E27: no | F27: 108
A29: 16.2.2 | D29: Supply and install type B stainless steel weir plate - | E29: no | F29: 108
A31: 16.2.3 | D31: Supply & built in stainless steel U channel frame | E31: no | F31: 4
A33: 16.2.4 | D33: Supply and slide in type A aluminium U plate weir | E33: no | F33: 4
A35: 16.2.5 | D35: Supply and install stainless steel U channel for handstops | E35: no | F35: 4
A37: 16.2.6 | D37: Supply and install aluminium handstops | E37: no | F37: 4
A39: 16.2.7 | D39: Supply and build in galvanized mild steel step irons in tank wall, spaced at 300 mm centres. | E39: no | F39: 20
A41: 16.3 | D41: VALVES AND HYDRAULIC FITTINGS
A43: 16.3.1 | D43: Supply and install 300mm diameter circular relief flap in floor panels | E43: no | F43: 8
A44: TOTAL CARRIED FORWARD
A45: TOTAL BROUGHT FORWARD
A47: 16.4 | D47: EQUIPMENT at SEDIMENTATION TANKS
A49: 16.4.1 | D49: Complete rotating half bridge with walkway, vertical tubes for scraper blades, scraper blades with rubber scraping blade edge, scum plate etc. (304L SS) | E49: no | F49: 2
A51: 16.4.2 | D51: Centre support mounting with bearing (304L SS) | E51: no | F51: 2
A53: 16.4.3 | D53: Electrical drive motor assembly with gearbox & drive wheel | E53: no | F53: 2
A55: 16.4.4 | D55: Centre stilling chamber with support mountings & bottom support (304L SS) | E55: no | F55: 2
A57: 16.4.5 | D57: Scum draw off collection bin with lever trigger arm for valve opening. Valve build into bin with pipe outlet to the bottom & through side wall of tank below lauder (304L SS) | E57: no | F57: 2
A72: TOTAL CARRIED FORWARD TO SUMMARY

Sheet 17 SST MPP
A1: CONTRACT TITLE: | C1: REFURBISHMENT AND UPGRADE OF MARGATE STORM-DAMAGED INFRASTRUCTURE, WASTEWATER TREATMENT WORKS AND EFFLUENT MAIN (PHASE 2)
A2: CONTRACT NUMBER | C2: UGU-07-1734-2026
A3: SECTION: | C3: =D5 -> SCHEDULE 17: SST MEDIUM PRESSURE PIPE LINES
A4: ITEM NO | B4: LI | C4: PAYMENT | D4: DESCRIPTION | E4: UNIT | F4: QTY | G4: RATE | H4: AMOUNT
C5: SANS 1200 L | D5: SCHEDULE 17: SST MEDIUM PRESSURE PIPE LINES
C7: 8.2.1 | D7: Steel pipes to SANS 719, Grade B, t = 4.5 mm, epoxy coated inside & outside, outside also wrapped with bitumen fibre glass coating
D9: BEF = both ends flanged
D11: OEF = one end flanged
D13: PF = puddle flange
D15: PE = plain ended
A17: 17.1 | D17: a) Pipes & pipe specials, Flanges 1000/3 SANS 1123
D19: • 500 mm NB
A21: 17.1.1 | D21: PS-R13: L = 6000 mm OEF | E21: no | F21: 2
A23: 17.1.2 | D23: PS-R14: L = 600 mm OEF, PF 150 mm from PE | E23: no | F23: 7
A25: 17.2 | D25: Stainless steel pipes & fittings, ASTM A312, PSW_304L, wall thickness t, to Sch10S (100 mm Ø, t = 3.05 mm, 150 mm Ø, t = 3.4 mm etc)
D27: for abbreviations - see top C
D29: • 150 mm NB
A31: 17.2.1 | D31: PS3.1, PS4.15: 45° Elbow, long radius, welded to 2565 mm pipe, OEF, & 300 mm pipe, PF 185 mm from PE | E31: no | F31: 2
A33: 17.2.2 | D33: PS3.2, PS4.16: 45° Elbow, long radius, OEF, welded to 2500 mm pipe, OEF | E33: no | F33: 4
A35: 17.2.3 | D35: PS3.3, PS3.3A, PS4.17, PS4.17A: L = 4515 BEF | E35: no | F35: 8
A37: 17.2.4 | D37: PS3.10, PS3.11, PS4.6, PS4.7: 45° Elbow, long radius welded to 665 mm pipe, OEF, & 300 mm pipe, PF 185 mm from PE | E37: no | F37: 8
A39: 17.2.5 | D39: PS3.12, PS4.8: Y junction 150 x 200 mm | E39: no | F39: 4
A41: 17.2.6 | D41: PS5.6: 90° Elbow (short radius) OEF welded to pipe L = 1800 mm with PF 100 mm from PE | E41: no | F41: 2
A43: 17.2.7 | D43: PS5.7: L = 1465 BEF | E43: no | F43: 2
A46: TOTAL CARRIED FORWARD
A47: TOTAL BROUGHT FORWARD
D48: • 300 mm NB
A50: 17.2.8 | D50: PS3.13, PS4.9: 300 x 200 mm Concentric reducer, 200 EF, welded to L = 6710 mm pipe, OEF | E50: no | F50: 2
A52: 17.3 | D52: Scum Drying beds -HDPE LINER
A54: 17.3.1 | D54: 1.5 mm HDPE liner in sludge drying beds | E54: m² | F54: 190
A56: 17.3.2 | D56: Welding of joints for HDPE liner | E56: m | F56: 32
A58: 17.3.3 | D58: 13 mm Washed concrete stone (drying beds) | E58: m³ | F58: 38
A60: 17.3.4 | D60: 6.7 mm Washed concrete stone (drying beds) | E60: m³ | F60: 19
A62: 17.3.5 | D62: Fine sand (0.5 mm) (drying beds) | E62: m³ | F62: 57
A64: 17.3.6 | D64: Coarse sand (1.6 mm) (drying beds) | E64: m³ | F64: 28
A66: 17.4 | D66: PRECAST ELEMENTS
A68: 17.4.1 | D68: 750 mm dia Plumber shaft MH section rings 250 mm | E68: No | F68: 8
A70: 17.4.2 | D70: 1m dia Concrete manhole sections for draught tubes | E70: m | F70: 8
A72: 17.5 | D72: Sludge outlet pipe work tank - SS 304L Sch 40, flanges SABS 1123 Table 1000/3
A74: 17.5.1 | D74: a) S0 1 - Pipe L = 1200, OEF, PF 150 mm FPE | E74: No | F74: 2
...

Sheet 18 Road&Prkg
A1: CONTRACT TITLE: | C1: REFURBISHMENT AND UPGRADE OF MARGATE STORM-DAMAGED INFRASTRUCTURE, WASTEWATER TREATMENT WORKS AND EFFLUENT MAIN (PHASE 2)
A2: CONTRACT NUMBER | C2: UGU-07-1734-2026
A3: SECTION: | C3: =D5 -> SCHEDULE 18: ACCESS ROAD AND PARKING
A4: ITEM NO | B4: LI | C4: PAYMENT | D4: DESCRIPTION | E4: UNIT | F4: QTY | G4: RATE | H4: AMOUNT
C5: COTO | D5: SCHEDULE 18: ACCESS ROAD AND PARKING
A7: 18.1 | C7: C1.6 | D7: CLEARING AND GRUBBING
C9: C1.6.1 | D9: Clearing:
A11: 18.1.1 | C11: C1.6.1.1 | D11: Clearing with machines and some hand labour where necessary | E11: ha | F11: 0.65
C13: C1.6.2 | D13: Grubbing:
A15: 18.1.2 | C15: C1.6.2.1 | D15: Grubbing with machines and some hand labour where necessary | E15: ha | F15: 0.65
A17: 18.2 | C17: C1.7 | D17: LOADING AND HAULING
C19: C1.7.1 | D19: Loading:
A21: 18.2.1 | C21: C1.7.1.1 | D21: Loading from stockpile using machines and some hand labour where necessary | E21: m³ | F21: 1600
C23: C1.7.2 | D23: Hauling:
C25: C1.7.2.1 | D25: Hauling material for use in the works and off-loading it on site of the works
A27: 18.2.2 | D27: (a) Soil, gravel, crushed stone and Pavement Layer Material | E27: m³-km | F27: 1000
C29: C1.7.2.2 | D29: Hauling material to spoil and off-loading it at a designated spoil area:
A31: 18.2.3 | D31: (b) Soil and gravel material | E31: m³-km | F31: 7200
A33: 18.2.4 | D33: (c) Boulders | E33: m³-km | F33: 1100
A44: TOTAL CARRIED FORWARD
A45: TOTAL BROUGHT FORWARD
C47: C3.1 | D47: DRAINS
C49: C3.1.1 | D49: Excavation for open drains:
A51: 18.3 | C51: C3.1.1.1 | D51: Excavating all material situated within the following depth ranges below the surface level using conventional methods:
A53: 18.3.1 | D53: (a) 0 m to 1,5 m | E53: m³ | F53: 100
A55: 18.3.2 | C55: C3.1.1.2 | D55: Extra over sub-item C3.1.1.1 for excavation in hard and boulder material, irrespective of depth | E55: m³ | F55: 10
A57: 18.4 | C57: C3.1.4 | D57: Excavation and disposal of material for subsoil drainage systems:
C59: C3.1.4.1 | D59: Excavating in all material situated within the following depth ranges below the surface:
A61: 18.4.1 | D61: (a) 1,5 m to 2,0 m | E61: m³ | F61: 15
A63: 18.4.2 | C63: C3.1.4.4 | D63: Extra over sub-item C3.1.4.1 for excavation in hard and boulder material, irrespective of depth | E63: m³ | F63: 5
A65: 18.5 | C65: C3.1.5 | D65: Impermeable backfilling to subsoil drainage systems
A67: 18.5.1 | C67: C3.1.5.2 | D67: G5 material obtained from commercial sources | E67: m³ | F67: 10
A69: 18.5.2 | C69: C3.1.5.3 | D69: Extra over items C3.1.5.2 for stabilisation with 4,0 % CEM II (32.5) cement | E69: m³ | F69: 10
A71: 18.6 | C71: C3.1.7 | D71: Natural permeable material in subsoil drainage systems (approved crushed stone):
A73: 18.6.1 | C73: C3.1.7.2 | D73: Crushed stone obtained from commercial sources (13.5mm) | E73: m³ | F73: 14
C75: C3.1.8 | D75: Natural permeable material in subsoil drainage systems (approved natural sand):
A77: 18.6.2 | C77: C3.1.8.2 | D77: Natural sand from commercial sources | E77: m³ | F77: 25
A79: 18.7 | C79: C3.1.9 | D79: Pipes in subsoil drainage systems:
A81: 18.7.1 | C81: C3.1.9.1 | D81: U-PVC pipes and fittings, normal duty, complete with couplings (100mm dia. slotted) | E81: m | F81: 50
A83: 18.7.2 | C83: C3.1.10 | D83: Geotextiles (Type Kaytech U14 or similar approved) | E83: m² | F83: 130
...

Sheet 19; Conc
A1: CONTRACT TITLE: | C1: REFURBISHMENT AND UPGRADE OF MARGATE STORM-DAMAGED INFRASTRUCTURE, WASTEWATER TREATMENT WORKS AND EFFLUENT MAIN (PHASE 2)
A2: CONTRACT NUMBER | C2: UGU-07-1734-2026
A3: SECTION: | C3: =D5 -> SCHEDULE 19: CONCRETE
A4: ITEM NO | B4: LI | C4: PAYMENT | D4: DESCRIPTION | E4: UNIT | F4: QTY | G4: RATE | H4: AMOUNT
C5: SANS1200 GA | D5: SCHEDULE 19: CONCRETE
A7: 19.1 | C7: PSG8.1.1 | D7: FORMWORK
C9: 8.2.1 | D9: Rough:
A11: 19.1.1 | D11: a) Vertical plane walls | E11: m² | F11: 150
C13: 8.2.2 | D13: Smooth:
A15: 19.1.2 | D15: a) Vertical to wall and roof | E15: m² | F15: 250
A17: 19.1.3 | D17: b) Roof support shattering | E17: m² | F17: 69
A19: 19.1.4 | D19: c) Smooth formwork to walls supporting pipes | E19: m² | F19: 50
A21: 19.1.5 | D21: d) Smooth formwork for pump plinths and floor slab | E21: m² | F21: 2
A23: 19.1.6 | D23: e) Smooth formwork for drains | E23: m² | F23: 50
A25: 19.1.7 | D25: f) Narrow widths (up to 300 mm wide): | E25: m² | F25: 408
A27: 19.2 | C27: PSG8.1.2.2 & 8.1.2.3 | D27: REINFORCEMENT
C29: 8.3.1 | D29: Mild steel bars:
A31: 19.2.1 | D31: a) R 10 | E31: t | F31: 0.1
C33: 8.3.2 | D33: High-tensile steel bars:
A35: 19.2.2 | D35: a) Y10 | E35: t | F35: 7.6
A37: 19.2.3 | D37: b) Y12 | E37: t | F37: 30
A39: 19.2.4 | D39: c) Y16 | E39: t | F39: 30
A41: 19.2.5 | D41: d) Y20 | E41: t | F41: 8
C43: 8.3.2 | D43: High-tensile welded mesh of:
A45: 19.2.6 | D45: a) Ref 193 | E45: m² | F45: 163
A47: 19.2.7 | D47: b) Ref 245 | E47: m² | F47: 163
A49: 19.2.8 | D49: c) Ref 395 | E49: m² | F49: 82
A51: TOTAL CARRIED FORWARD
A52: TOTAL BROUGHT FORWARD
A54: 19.3 | C54: 8.4 & PSG8.1.3 | D54: CONCRETE
A56: 19.3.1 | C56: 8.4.2 | D56: Strength concrete, Class 15/19 concrete, blinding layer 75mm thick | E56: m² | F56: 4.2
C58: 8.4.3 | D58: Strength concrete
D60: a) Class 20/19 for:
A62: 19.3.2 | D62: i) Aprons and drains | E62: m³ | F62: 30
A64: 19.3.3 | D64: ii) Blinding | E64: m³ | F64: 10
D66: b) Class 25/19 for:
A68: 19.3.4 | D68: i) Surface Slabs | E68: m³ | F68: 82
A70: 19.3.5 | D70: ii) Roof slab | E70: m³ | F70: 12
A72: 19.3.6 | D72: iii) Foundation footings | E72: m³ | F72: 300
A74: 19.3.7 | D74: iv) Foundation | E74: m³ | F74: 6
...

Sheet 20; SuperStr
A1: CONTRACT TITLE: | C1: REFURBISHMENT AND UPGRADE OF MARGATE STORM-DAMAGED INFRASTRUCTURE, WASTEWATER TREATMENT WORKS AND EFFLUENT MAIN (PHASE 2)
A2: CONTRACT NUMBER | C2: UGU-07-1734-2026
A3: SECTION: | C3: =D5 -> SCHEDULE 20: SUPERSTRUCTURE
A4: ITEM NO | B4: LI | C4: PAYMENT | D4: DESCRIPTION | E4: UNIT | F4: QTY | G4: RATE | H4: AMOUNT
C5: PA | D5: SCHEDULE 20: SUPERSTRUCTURE
A7: 20.1 | D7: BRICKWORK
A9: 20.1.1 | C9: PA - 4.1 | D9: Brickwall, 330 mm thick cavity wall, clay facebrick in class 1 mortar "Corobrick Fire Light Satin" or similar approved (include hot dipped galvanised wall ties) | E9: m² | F9: 504
A11: 20.1.2 | D11: One brickwall in NFX bricks | E11: m² | F11: 40
A13: 20.1.3 | D13: 150mm wide brick reinforcement built in horizontally every third course | E13: m | F13: 481
A15: 20.1.4 | D15: Brick on edge header course over door and window openings | E15: m | F15: 28
C17: PA - 4.1.2 | D17: Air bricks
A19: 20.1.5 | D19: 230 x 152 clay vermin proof built in | E19: No | F19: 16
A21: 20.1.6 | D21: 233 mm x 175 plastic air vent built in | E21: No | F21: 16
A23: 20.1.7 | D23: Pre-cast concrete lintels above doors and windows built in 330 wide x 100mm thick x 2100 mm long | E23: No | F23: 16
A25: 20.1.8 | D25: Fibre cement window sills 150 x 10 mm to in side face of windows. | E25: m | F25: 21
A27: 20.2 | C27: PA - 4.17 | D27: WATERPROOFING
A29: 20.2.1 | C29: PA4.4 | D29: One layer of 375 micron damp proof course 330mm wide in walls | E29: m | F29: 55
A31: 20.2.2 | D31: 250 micron USB Green Water proof sheeting under surface beds | E31: m² | F31: 30
A33: 20.2.3 | D33: 4mm ABE index argo torch-on waterproofing system applied to smooth concrete as per manufacture's specifications (Include for hot applied slate granules-to act as mineral self protection | E33: m² | F33: 56
A35: 20.2.4 | D35: Supply and install water stop bar at kickers as per drawing | E35: m | F35: 50
A37: 20.3 | C37: PB 12 | D37: METALWORK
A39: 20.3.1 | D39: D.V. steel door frame and double transformer steel door, 2040W x 3065 H fully louvred Type M, complete with suitable 3 lever lockset built into walls with galvanised vermin proof mesh on the inside (as shown on drawings) | E39: No | F39: 3
A41: 20.3.2 | D41: Extra over 6.6.1 for purpose made opening 300 x 150mm to permit removal of pumps by use of gantry, including locking device as shown on the drawings | E41: No | F41: 3
A43: 20.3.3 | D43: Supply and build in Industrial windows type BLU, 2100 x 600mm with pressed steel louvres and galvanised vermin proof mesh on the inside | E43: No | F43: 10
A44: TOTAL CARRIED FORWARD
A45: TOTAL BROUGHT FORWARD
A46: 20.4 | D46: CRAWL BEAM AND HOIST
A48: 20.4.1 | D48: Supply and fix in place hot dipped galvanised crawl beam including the supply and casting in of all fixings | E48: No | F48: 3
A50: 20.4.2 | D50: Supply and fix hot dipped galvanised crawl beam support column complete as detailed, including the supply and casting in of all fixing bolts | E50: No | F50: 3
A52: 20.4.3 | B52: 5.1.12 | D52: Supply install 4.0 tonne push/pull beam crawl to suit crawl beam, complete with hand chain block. | E52: No | F52: 5
A54: 20.4.4 | B54: 5.1.13 | D54: Stormwater sump detail within pumpstation as per relevant drawing | E54: Sum | F54: 3
A56: 20.5 | D56: EPOXY MORTAR ON FLOORS
A58: 20.5.1 | D58: Surface preparation, screeding and curing of floors | E58: m² | F58: 85
A88: TOTAL CARRIED FORWARD TO SUMMARY

Sheet 21; RAS & WAS
A1: CONTRACT TITLE: | C1: REFURBISHMENT AND UPGRADE OF MARGATE STORM-DAMAGED INFRASTRUCTURE, WASTEWATER TREATMENT WORKS AND EFFLUENT MAIN (PHASE 2)
A2: CONTRACT NUMBER | C2: UGU-07-1734-2026
A3: SECTION: | C3: =D5 -> SCHEDULE 21: RETURN ACTIVATED SLUDGE PUMPSTATION
A4: ITEM NO | B4: LI | C4: PAYMENT | D4: DESCRIPTION | E4: UNIT | F4: QTY | G4: RATE | H4: AMOUNT
D5: SCHEDULE 21: RETURN ACTIVATED SLUDGE PUMPSTATION
C7: PSHA3 | D7: STRUCTURAL STEELWORK
A9: 21.1 | C9: SANS 1200 HA | D9: STEELWORK (Sundry Items)
A11: 21.1.1 | D11: Mentis handrail, ball type MT 90 complete installed | E11: m | F11: 18
A13: 21.1.2 | D13: Mentis stair threads, 900 x 245 mm, 6 per stair | E13: No | F13: 2
A15: 21.1.3 | D15: Cast iron manhole covers & frames
A17: 21.1.4 | D17: a) 450 x 600 | E17: No | F17: 6
A19: 21.1.5 | D19: b) 600 x 900 | E19: No | F19: 2
A21: 21.1.6 | D21: c) Grid floor, bearer 25 x 4.5 mm light duty, 450 mm wide, galvanized & banded over canals | E21: m | F21: 45
A23: 21.2 | D23: STEEL TANK REFURBISHMENT
A25: 21.2.1 | D25: Allowance for removal of a debris from tank and general cleaning | E25: Sum | F25: 1
A27: 21.2.2 | D27: High-pressure water jetting (5000+ PSI) of internal and external surfaces | E27: m² | F27: 200
A29: 21.2.3 | D29: Sand blast and recoat with preimer and two compound epoxy paint. | E29: m² | F29: 200
A31: 21.2.4 | D31: Stainless steel SCH304 support beams, width = 100mm | E31: m | F31: 13
A33: 21.2.5 | D33: Allowance for removal existing pipework, pumps, etc and transportation to HGDM storages | E33: Sum | F33: 1
A35: 21.2.6 | D35: Internal lining with potable-grade or heavy-duty bitumen/epoxy coating | E35: m² | F35: 200
A37: 21.2.7 | D37: Supply and install pipe support as per detail | E37: No | F37: 4
A42: TOTAL CARRIED FORWARD
A43: TOTAL BROUGHT FORWARD
C44: 8.2.5 | D44: PIPE FITTINGS Stainless Steel
D46: Copon coated = Cc; Galvanised = gs; oef=one end flanged; bef = both ends flanged; pf=puddle flange pipework 304L SS, class Sch 10. Flanges SABS 1123 table 1000/3
A48: 21.3 | D48: SHORT RADUIS BENDS (Flanged 1000/3)
D50: a) 90°
A52: 21.3.1 | D52: 150 mm dia bef | E52: No | F52: 14
D54: b) 45°
A56: 21.3.2 | D56: 150 mm dia bef | E56: No | F56: 2
D58: c) TEE PIECE WITH LATERAL OF ANGLE = 60˚
A60: 21.3.3 | D60: 150 x 150mm | E60: No | F60: 2
A62: 21.4 | D62: REDUCER
A64: 21.4.1 | D64: a) 150mm x 50mm Eccentric Reducer | E64: No | F64: 6
A66: 21.4.2 | D66: b) 150mm x 50mm Concentric Reducer | E66: No | F66: 6
D68: 150 mm dia straight pipe
A70: 21.4.3 | D70: a) L=300, bef with BSP slot, Pf | E70: No | F70: 6
A72: 21.4.4 | D72: b) L=300, oef | E72: No | F72: 6
A74: 21.4.5 | D74: c) L=1500, bef | E74: No | F74: 6
A76: 21.4.6 | D76: d) L=1950, bef,PF with BSP slot, Pf | E76: No | F76: 6
...

Sheet 22 Bldg Ref
A1: CONTRACT TITLE: | C1: REFURBISHMENT AND UPGRADE OF MARGATE STORM-DAMAGED INFRASTRUCTURE, WASTEWATER TREATMENT WORKS AND EFFLUENT MAIN (PHASE 2)
A2: CONTRACT NUMBER | C2: UGU-07-1734-2026
A3: SECTION: | C3: =D5 -> SCHEDULE 22: BUILDING REFURBISHMENT
A4: ITEM NO | B4: LI | C4: PAYMENT | D4: DESCRIPTION | E4: UNIT | F4: QTY | G4: RATE | H4: AMOUNT
D5: SCHEDULE 22: BUILDING REFURBISHMENT
A7: 22.1 | D7: BUILDING 1 REFURBISHMENT
D9: a) Roof coverings
A11: 22.1.1 | D11: Ex. Fibre cement roof to be waterproofed where leaking. | E11: m² | F11: 34
D13: Prepare and paint with roof paint
