Workbook
Name \0: #REF!
Name \0: #REF!
Name \0: #REF!
Name \c: #REF!
Name \c: #REF!
Name \d: #REF!
Name \h: #REF!
Name \i: #REF!
Name \m: #REF!
Name \n: #REF!
Name \o: #REF!
Name \p: #REF!
Name \u: #REF!
Name _0: #REF!
Name _0: #REF!
Name _0: #REF!
Name _0_1: #REF!
Name _0_10: #REF!
Name _0_14: #REF!
Name _0_9: #REF!
Name _1Excel_BuiltIn_Print_Area_4: #REF!
Name _1Excel_BuiltIn_Print_Area_4_1_1: #REF!
Name _c: #REF!
Name _c: #REF!
Name _c: #REF!
Name _c_1: #REF!
Name _c_10: #REF!
Name _c_14: #REF!
Name _c_9: #REF!
Name _d: #REF!
Name _d: #REF!
Name _d: #REF!
Name _d_1: #REF!
Name _d_10: #REF!
Name _d_14: #REF!
Name _d_9: #REF!
Name _h: #REF!
Name _h: #REF!
Name _h: #REF!
Name _h_1: #REF!
Name _h_10: #REF!
Name _h_14: #REF!
Name _h_9: #REF!
Name _i: #REF!
Name _i: #REF!
Name _i: #REF!
Name _i_1: #REF!
Name _i_10: #REF!
Name _i_14: #REF!
Name _i_9: #REF!
Name _m: #REF!
Name _m: #REF!
Name _m: #REF!
Name _m_1: #REF!
Name _m_10: #REF!
Name _m_14: #REF!
Name _m_9: #REF!
Name _n: #REF!
Name _n: #REF!
Name _n_1: #REF!

Sheet RYH HOBBS
A1: ZS-RYH | B1: BELL 407
A3: NICHOLSON HELICOPTERS
A5: JOB No: | B5: 8353 | C5: 300 Hr MPI | D5: TCDS | E5: H2SW
A6: OPENED ON: | B6: 45474
A8: AIRFRAME SERIAL NO: | C8: 53950 | D8: D of M | E8: June 2009
A9: ENGINE SERIAL NO: | C9: CAE 848228 | D9: D of M | E9: 39891
A10: AIRCRAFT REGISTRATION : | C10: ZS-RYH
A11: APPROVED FLIGHT MANUAL Part No | C11: BHT-407-FM1
A12: FLIGHT MANUAL REV Date/Number | C12: Rev 23/ 24 August 2023
A13: REGISTERED OWNER: | C13: ESKOM HOLDINGS (PTY) Ltd
A14: DATE OF REPORT: | C14: 45502
A15: DATE OF LAST FLIGHT: | C15: 45502
A17: HOBBS HOURS AT DATE OF REPORT: | C17: 7723.9
A18: NEW (''0''Hrs) HOBBS FITTED A/F & ENG Hrs: | C18: 0
A19: AIRFRAME HOURS AT DATE OF REPORT: | C19: =C18+C17 -> 7723.9
A20: ENGINE HOURS AT DATE OF REPORT: | C20: ='RYH AF OH'!I35 -> 7562.9
A21: ENGINE SNo CAE848228 IN AT A/F HRS : | C21: 6731
A22: AIRFRAME RINS AT DATE OF REPORT: | C22: 20393
A23: AIRFRAME LDGS AT DATE OF REPORT: | C23: 12323
A24: ENGINE STARTS AT DATE OF REPORT: | C24: 6343
A25: CARGO HOOK TIME: | C25: 798.6
E26: KEY
A27: WEIGHT & BALANCE DUE ON: | C27: ='RYH MISC 6'!I18 -> 45672 | E27: LESS THAN 100 Hrs/2 Month REMAINING
A28: C of A DUE ON: | C28: ='RYH MISC 6'!I19 -> 45656 | E28: Between 100-150Hrs/1 Month REMAINING
A29: RADIO LICENCE DUE ON: | C29: ='RYH MISC 6'!I23 -> 46113
A30: BATTERY CAP CHECK DUE ON: | C30: N/A
A31: COMPASS SWING DUE ON: | C31: ='RYH MISC 6'!I17 -> 45723
A32: FIRE EXTINGUISHER DUE ON: | C32: ='RYH MISC 6'!I24 -> 45534
A33: C of R WAS DONE ON: | C33: ='RYH MISC 6'!D20 -> 40052
A34: PITOT/STATIC SYSTEM CHECK DUE ON: | C34: ='RYH MISC 6'!I29 -> 45717
A35: ELT SYSTEM CHECK DUE ON: | C35: ='RYH MISC 6'!I26 -> 45716
A36: ELT BATTERY REPLACEMENT CHECK DUE ON: | C36: ='RYH MISC 6'!I28 -> 46333
A37: TRANSPONDER SYSTEM CHECK DUE ON: | C37: ='RYH MISC 6'!I30 -> 45728 | E37: 02-05-2023 | F37: 15-4-2024 | G37: 10-06-2024 | H37: 29-07-2024
A38: XMSN/HYD OILS & FILTERS CHANGE DUE AT: | C38: ='RYH AF OH'!K26 -> 8023.9 | D38: Oil Flow: | E38: 180cc | F38: 190cc | G38: 180cc | H38: 180cc
A39: ENG OIL CHANGE DUE AT: | C39: ='RYH ENG LIFE'!H17 -> 8023.9 | D39: Pwr Chk: | E39: +25 | F39: + 25 | G39: + 25 | H39: + 21
A40: BARRIER FILTER WASHES: | C40: 5 | G40: Rental | H40: Original
A42: 1. This report provides a detailed record of the remaining time to overhaul
A43: and remaining life to retirement of relevant components installed in the
A44: above mentioned helicopter.
A46: 2. The report is provided to assist helicopter owners/operators in the forward
A47: planning and budgeting relating to helicopter use.
A49: 3. While every effort is made to ensure the accuracy of these figures we
A50: cannot be held responsible for any errors.
C54: Power assurance archive | E54: 10-01-19 | F54: 18-02-19 | G54: 09-04-19 | H54: 03-06-19 | I54: 03-02-20 | J54: 24-02-20 | K54: 16-03-20 | L54: 31-08-20 | M54: 29-11-20
D55: Oil Flow: | E55: 250cc | F55: 190cc | G55: 160cc | H55: 230cc | I55: 180cc | J55: 175cc | K55: 220cc | L55: 240cc | M55: 240cc
D56: Pwr Chk: | E56: +22 | F56: +26 | G56: +22 | H56: + 25 | I56: + 32 | J56: + 28 | K56: + 19 | L56: + 30 | M56: + 32
E58: 01-04-21 | F58: 24-05-21 | G58: 15-11-21 | H58: 23-12-21 | I58: 07-2-22 | J58: 13-04-22 | K58: 20-09-22 | L58: 01-11-22 | M58: 02-02-23
D59: Oil Flow: | E59: 250cc | F59: 240cc | G59: 200cc | H59: 180cc | I59: 170cc | J59: 210cc | K59: 210cc | L59: 200cc | M59: 190cc
D60: Pwr Chk: | E60: + 32 | F60: + 24 | G60: + 36 | H60: + 21 | I60: +28 | J60: +23 | K60: +23 | L60: + 24 | M60: +27
G61: Rental | H61: Original
E63: 01-04-21 | F63: 24-05-21 | G63: 15-11-21 | H63: 23-12-21 | I63: 07-2-22 | J63: 13-04-22 | K63: 20-09-22 | L63: 01-11-22 | M63: 02-02-23
D64: Oil Flow: | E64: 250cc | F64: 240cc | G64: 200cc | H64: 180cc | I64: 170cc | J64: 210cc | K64: 210cc | L64: 200cc | M64: 190cc
D65: Pwr Chk: | E65: + 32 | F65: + 24 | G65: + 36 | H65: + 21 | I65: +28 | J65: +23 | K65: +23 | L65: + 24 | M65: +27

Sheet RYH AF LIFE
A1: ='RYH HOBBS'!A10 -> AIRCRAFT REGISTRATION : | C1: ='RYH HOBBS'!C10 -> ZS-RYH
A2: ='RYH HOBBS'!A19 -> AIRFRAME HOURS AT DATE OF REPORT: | C2: ='RYH HOBBS'!C19 -> 7723.9
A3: ='RYH HOBBS'!A22 -> AIRFRAME RINS AT DATE OF REPORT: | C3: ='RYH HOBBS'!C22 -> 20393
A4: ='RYH HOBBS'!A24 -> ENGINE STARTS AT DATE OF REPORT: | C4: ='RYH HOBBS'!C24 -> 6343
A6: AIRFRAME COMPONENTS
A8: A. LIFED COMPONENT ITEMS
A9: COMPONENT | B9: COMPONENT | C9: COMPONENT | D9: AIRFRAME | E9: COMP | F9: COMP | G9: COMP | H9: HOURS | I9: COMP | J9: REMAINING | K9: DUE
A10: DESCRIPTION | B10: PART NUMBER | C10: SER NO. | D10: TIME AT | E10: TIME AT | F10: TOTAL | G10: LIFE | H10: DUE | I10: LIFE | J10: hrs TO O/H | K10: DATE
D11: INST | E11: INST | F11: TIME | G11: LIMIT | H11: RETIRE | I11: REMAIN | J11: COMPONENT
A13: GRIP RED | B13: 406-010-108-131 | C13: LP 6298 | D13: 4982.8 | E13: 0 | F13: =$C$2-D13+E13 -> 2741.1 | G13: 5000 | H13: =G13-F13+$C$2 -> 9982.8 | I13: =G13-F13 -> 2258.9 | J13: N/A | K13: N/A
A14: GRIP ORANGE | B14: 406-010-108-131 | C14: LP 6345 | D14: 4982.8 | E14: 0 | F14: =$C$2-D14+E14 -> 2741.1 | G14: 5000 | H14: =G14-F14+$C$2 -> 9982.8 | I14: =G14-F14 -> 2258.9 | J14: N/A | K14: N/A
A15: GRIP BLUE | B15: 406-010-108-131 | C15: MJ 1238 | D15: 4982.8 | E15: 0 | F15: =$C$2-D15+E15 -> 2741.1 | G15: 5000 | H15: =G15-F15+$C$2 -> 9982.8 | I15: =G15-F15 -> 2258.9 | J15: N/A | K15: N/A
A16: GRIP GREEN | B16: 406-010-108-131 | C16: MJ 1258 | D16: 4982.8 | E16: 0 | F16: =$C$2-D16+E16 -> 2741.1 | G16: 5000 | H16: =G16-F16+$C$2 -> 9982.8 | I16: =G16-F16 -> 2258.9 | J16: N/A | K16: N/A
A17: UPPER PLATE | B17: 406-010-115-127 | C17: AZ 3714 | D17: 7479.4 | E17: 0 | F17: =$C$2-D17+E17 -> 244.5 | G17: 2500 | H17: =G17-F17+$C$2 -> 9979.4 | I17: =G17-F17 -> 2255.5 | J17: N/A | K17: N/A
A18: LOWER PLATE | B18: 406-010-117-125 | C18: AZ 3739 | D18: 7479.4 | E18: 0 | F18: =$C$2-D18+E18 -> 244.5 | G18: 2500 | H18: =G18-F18+$C$2 -> 9979.4 | I18: =G18-F18 -> 2255.5 | J18: N/A | K18: N/A
A19: LOWER CONE SEAT | B19: 407-010-107-105 | C19: LK 337 | D19: 0 | E19: 0 | F19: =$C$2-D19+E19 -> 7723.9 | G19: O/C | H19: N/A | I19: N/A | J19: N/A | K19: N/A
A20: CLEVIS-Red | B20: 406-010-416-103 | C20: SUFS 2675 | D20: 7479.4 | E20: 0 | F20: =$C$2-D20+E20 -> 244.5 | G20: O/C | H20: N/A | I20: N/A | J20: N/A | K20: N/A
A21: CLEVIS-Green | B21: 406-010-416-103 | D21: 4982.8 | E21: 0 | F21: =$C$2-D21+E21 -> 2741.1 | G21: O/C | H21: N/A | I21: N/A | J21: N/A | K21: N/A
A22: CLEVIS | B22: 406-010-416-103 | C22: DI 4165 | D22: 4982.8 | E22: 0 | F22: =$C$2-D22+E22 -> 2741.1 | G22: O/C | H22: N/A | I22: N/A | J22: N/A | K22: N/A
A23: CLEVIS-Orange | B23: 406-010-416-101 | C23: SUFS 3099 | D23: 4982.8 | E23: 0 | F23: =$C$2-D23+E23 -> 2741.1 | G23: O/C | H23: N/A | I23: N/A | J23: N/A | K23: N/A
A24: BEARING-Red | B24: 406-310-405-105 | C24: RX03410 | D24: 7057.9 | E24: 0 | F24: =$C$2-D24+E24 -> 666 | G24: O/C | H24: N/A | I24: N/A | J24: N/A | K24: N/A
A25: BEARING-Orange | B25: 406-310-405-103 | C25: RXFS 29734 | D25: 6387.6 | E25: 0 | F25: =$C$2-D25+E25 -> 1336.3 | G25: O/C | H25: N/A | I25: N/A | J25: N/A | K25: N/A
A26: BEARING-Green | B26: 406-310-405-103 | C26: RXFS 27149 | D26: 4424.1 | E26: 0 | F26: =$C$2-D26+E26 -> 3299.8 | G26: O/C | H26: N/A | I26: N/A | J26: N/A | K26: O/C
A27: BEARING-Blue | B27: 406-310-405-103 | C27: RXFS 29214 | D27: 4982.8 | E27: 0 | F27: =$C$2-D27+E27 -> 2741.1 | G27: O/C | H27: N/A | I27: N/A | J27: N/A | K27: O/C
A28: ROD END BEARING | B28: 406-310-404-105 | C28: NH 19744 | D28: 4424.1 | E28: 0 | F28: =$C$2-D28+E28 -> 3299.8 | G28: O/C | H28: N/A | I28: N/A | J28: N/A | K28: 5000
A29: ROD END BEARING | B29: 406-310-404-105 | C29: NH 19771 | D29: 4424.1 | E29: 0 | F29: =$C$2-D29+E29 -> 3299.8 | G29: O/C | H29: N/A | I29: N/A | J29: N/A | K29: 5000
A30: ROD END BEARING | B30: 406-310-404-105 | C30: NH 19795 | D30: 4424.1 | E30: 0 | F30: =$C$2-D30+E30 -> 3299.8 | G30: O/C | H30: N/A | I30: N/A | J30: N/A | K30: 5000
A31: ROD END BEARING | B31: 406-310-404-105 | C31: NH 19821 | D31: 4424.1 | E31: 0 | F31: =$C$2-D31+E31 -> 3299.8 | G31: O/C | H31: N/A | I31: N/A | J31: N/A | K31: 5000
A32: ANTI DRIVE LINK ASSY | B32: 406-010-432-101 | C32: TIFS 1902 | D32: 4982.8 | E32: 0 | F32: =$C$2-D32+E32 -> 2741.1 | G32: 5000 | H32: =G32-F32+$C$2 -> 9982.8 | I32: =G32-F32 -> 2258.9 | J32: N/A | K32: 5000
A33: ANTI DRIVE LEVER | B33: 406-010-431-109 | C33: TI 1834 | D33: 4982.8 | E33: 0 | F33: =$C$2-D33+E33 -> 2741.1 | G33: 5000 | H33: =G33-F33+$C$2 -> 9982.8 | I33: =G33-F33 -> 2258.9 | K33: 5000
A34: CYC LONG. BELLCRANK | B34: 407-001-526-109 | C34: TI 1757 | D34: 4982.8 | E34: 0 | F34: =$C$2-D34+E34 -> 2741.1 | G34: 5000 | H34: =G34-F34+$C$2 -> 9982.8 | I34: =G34-F34 -> 2258.9 | J34: N/A | K34: 5000
A35: COLL TRANS BELLCRANK | B35: 407-001-524-109 | C35: TI2209 | D35: 4982.8 | E35: 0 | F35: =$C$2-D35+E35 -> 2741.1 | G35: 5000 | H35: =G35-F35+$C$2 -> 9982.8 | I35: =G35-F35 -> 2258.9 | J35: N/A | K35: 5000
A36: CYC LAT TRANS BELLCRANK | B36: 407-001-528-105 | C36: TI 1618 | D36: 4982.8 | E36: 0 | F36: =$C$2-D36+E36 -> 2741.1 | G36: 5000 | H36: =G36-F36+$C$2 -> 9982.8 | I36: =G36-F36 -> 2258.9 | J36: N/A | K36: 5000
A37: BELLCRANK SUPPORT | B37: 407-001-511-101 | C37: TI 1537 | D37: 4982.8 | E37: 0 | F37: =$C$2-D37+E37 -> 2741.1 | G37: 5000 | H37: =G37-F37+$C$2 -> 9982.8 | I37: =G37-F37 -> 2258.9 | J37: N/A | K37: 5000
A38: TAIL ROTOR YOKE | B38: 406-012-102-109 | C38: HBFS 1983 | D38: 4982.8 | E38: 0 | F38: =$C$2-D38+E38 -> 2741.1 | G38: 5000 | H38: =G38-F38+$C$2 -> 9982.8 | I38: =G38-F38 -> 2258.9 | J38: N/A | K38: 5000
A39: MAST POLE | B39: 407-040-038-123 | C39: N-1677 | D39: 4982.8 | E39: 0 | F39: =$C$2-D39+E39 -> 2741.1 | G39: 5000 | H39: =G39-F39+$C$2 -> 9982.8 | I39: =G39-F39 -> 2258.9 | J39: N/A | K39: 5000
A40: L/H BEAM | B40: 407-010-201-105 | C40: TI 3676 | D40: 7479.4 | E40: 0 | F40: =$C$2-D40+E40 -> 244.5 | G40: 5000 | H40: =G40-F40+$C$2 -> 12479.4 | I40: =G40-F40 -> 4755.5 | J40: N/A | K40: 5000
A41: R/H BEAM | B41: 407-010-203-105 | C41: TI 3602 | D41: 7479.4 | E41: 0 | F41: =$C$2-D41+E41 -> 244.5 | G41: 5000 | H41: =G41-F41+$C$2 -> 12479.4 | I41: =G41-F41 -> 4755.5 | J41: N/A | K41: 5000
A42: PYLON RESTRAINT SPRING | B42: 407-010-206-103 | C42: BP-03474 | D42: 4982.8 | E42: 0 | F42: =$C$2-D42+E42 -> 2741.1 | G42: 5000 | H42: =G42-F42+$C$2 -> 9982.8 | I42: =G42-F42 -> 2258.9 | J42: N/A | K42: 5000
A43: PYLON RESTRAINT SPRING | B43: 407-010-206-103 | C43: BP-03594 | D43: 4982.8 | E43: 0 | F43: =$C$2-D43+E43 -> 2741.1 | G43: 5000 | H43: =G43-F43+$C$2 -> 9982.8 | I43: =G43-F43 -> 2258.9 | J43: N/A | K43: 5000
A44: TAILBOOM (INSPECTION) | B44: 407-030-801-205 | C44: 53949 | D44: 7723.9 | E44: 0 | F44: =$C$2-D44+E44 -> 0 | G44: 300 | H44: =G44-F44+$C$2 -> 8023.9 | I44: =G44-F44 -> 300 | J44: N/A | K44: 300
A46: C. COMPONENT RUN ON RINS
A47: COMPONENT | B47: COMPONENT | C47: COMPONENT | D47: A/F | E47: COMP | F47: COMP | G47: RINS | H47: RINS | I47: COMP
A48: DESCRIPTION | B48: PART NUMBER | C48: SER NO. | D48: RINS AT | E48: RINS AT | F48: TOTAL | G48: LIFE | H48: DUE | I48: RINS
D49: INST | E49: INST | F49: RINS | G49: LIMIT | H49: RETIRE | I49: REMAIN
A50: DRIVE RING SET | B50: 406-010-126-113 | C50: A-878 | D50: 19912 | E50: 0 | F50: 26065 | G50: 100000 | H50: =G50-F50+$C$3 -> 94328 | I50: =G50-F50 -> 73935
A51: MAST | B51: 407-040-038-123 | C51: N-1677 | D51: 14882 | E51: 0 | F51: =$C$3-D51+E51 -> 5511 | G51: 18000 | H51: =G51-F51+$C$3 -> 32882 | I51: =G51-F51 -> 12489
A52: L/H BEAM | B52: 407-010-201-105 | C52: TI 3676 | D52: 19912 | E52: 0 | F52: =$C$3-D52+E52 -> 481 | G52: 17000 | H52: =G52-F52+$C$3 -> 36912 | I52: =G52-F52 -> 16519
A53: R/H BEAM | B53: 407-010-203-105 | C53: TI 3602 | D53: 19912 | E53: 0 | F53: =$C$3-D53+E53 -> 481 | G53: 17000 | H53: =G53-F53+$C$3 -> 36912 | I53: =G53-F53 -> 16519

Sheet RYH AF OH
A1: ='RYH HOBBS'!A10 -> AIRCRAFT REGISTRATION : | C1: ='RYH HOBBS'!C10 -> ZS-RYH
A2: AIRFRAME HOURS AT DATE OF REPORT: | C2: ='RYH HOBBS'!C19 -> 7723.9
A3: AIRFRAME RINS AT DATE OF REPORT: | C3: ='RYH HOBBS'!C22 -> 20393
A6: AIRFRAME COMPONENTS
A8: B. OVERHAULED COMPONENT ITEMS
A9: COMPONENT | B9: COMPONENT | C9: COMP | D9: AIRFRAME | E9: COMP | F9: COMP | G9: AIRFRAME | H9: COMP | I9: COMP | K9: A/F HRS | L9: HRS
A10: DESCRIPTION | B10: PART NUMBER | C10: SERIAL NO. | D10: TIME AT | E10: TSN AT | F10: TSO AT | G10: TIME AT | H10: TSO | I10: TSN | J10: TBO | K10: DUE | L10: REMAINING
D11: INST | E11: INST | F11: INST | G11: LAST O/H | K11: O/H | L11: TO O/H
A12: MAIN ROTOR HUB | B12: 407-010-100-123 | C12: LK 532 | D12: 7479.4 | E12: 0 | F12: 0 | G12: 7479.4 | H12: =C2-G12 -> 244.5 | J12: 2500 | K12: =J12-H12+C2 -> 9979.4 | L12: =J12-H12 -> 2255.5
A13: SWASHPLATE & SUPPORT ASSY | B13: 406-010-401-117 | C13: TI 511 | D13: 7479.4 | E13: 0 | F13: 0 | G13: 7479.4 | H13: =C2-G13 -> 244.5 | J13: 2500 | K13: =J13-H13+C2 -> 9979.4 | L13: =J13-H13 -> 2255.5
A14: MAST | B14: 407-040-011-107 | C14: 53950 | D14: 7479.4 | E14: 0 | F14: 0 | G14: 7479.4 | H14: =C2-G14 -> 244.5 | J14: 2500 | K14: =J14-H14+C2 -> 9979.4 | L14: =J14-H14 -> 2255.5
A15: TRANSMISSION | B15: 407-040-006-115 | C15: A-985 | D15: 0 | E15: 0 | F15: 0 | G15: 4982.8 | H15: =C2-G15 -> 2741.1 | I15: =C2-D15+E15 -> 7723.9 | J15: 5000 | K15: =J15-H15+C2 -> 9982.8 | L15: =J15-H15 -> 2258.9
A16: INPUT DRIVE SHAFT | B16: 407-340-310-101 | C16: KC 2076 | D16: 7479.4 | E16: 0 | F16: 0 | G16: 7479.4 | H16: =C2-G16 -> 244.5 | J16: 2500 | K16: =J16-H16+C2 -> 9979.4 | L16: =J16-H16 -> 2255.5
A17: FREEWHEEL SHAFT ASSY. | B17: 406-040-500-143 | C17: A-7204 | D17: 2998.2 | E17: 2998.2 | F17: 0 | G17: 5993.1 | H17: =C2-G17 -> 1730.8 | J17: 3000 | K17: =J17-H17+C2 -> 8993.1 | L17: =J17-H17 -> 1269.2
A18: ROT0R BRAKE DISK | B18: 407-340-318-101 | C18: 2423 | D18: 7479.4 | E18: 0 | F18: 0 | G18: 7479.4 | H18: =C2-G18 -> 244.5 | J18: 3600 | K18: =J18-H18+C2 -> 11079.4 | L18: =J18-H18 -> 3355.5
A19: ROT0R BRAKE CALIPER | B19: 427-340-352-113 | C19: 1672 | D19: 7479.4 | E19: 78 | F19: 0 | G19: 7401.4 | H19: =C2-G19 -> 322.5 | J19: 1200 | K19: =J19-H19+C2 -> 8601.4 | L19: =J19-H19 -> 877.5
A20: ROT0R BRAKE CALIPER | B20: 427-340-352-113 | C20: 1606 | D20: 7479.4 | E20: 78 | F20: 0 | G20: 7401.4 | H20: =C2-G20 -> 322.5 | J20: 1200 | K20: =J20-H20+C2 -> 8601.4 | L20: =J20-H20 -> 877.5
A21: ROT0R BRAKE CALIPER | B21: 427-340-352-113 | C21: 1672 | D21: 7479.4 | E21: 78 | F21: 0 | G21: 7401.4 | H21: =C2-G21 -> 322.5 | J21: 3600 | K21: =J21-H21+C2 -> 11001.4 | L21: =J21-H21 -> 3277.5
A22: ROT0R BRAKE CALIPER | B22: 427-340-352-113 | C22: 1606 | D22: 7479.4 | E22: 78 | F22: 0 | G22: 7401.4 | H22: =C2-G22 -> 322.5 | J22: 3600 | K22: =J22-H22+C2 -> 11001.4 | L22: =J22-H22 -> 3277.5
A23: TAIL ROTOR HUB | B23: 407-012-101-113 | C23: HB 460 | D23: 7375.2 | E23: 7847.8 | F23: 0 | G23: 6917.9 | H23: 457.3 | J23: 2500 | K23: =J23-H23+C2 -> 9766.6 | L23: =J23-H23 -> 2042.7
A24: TAIL ROTOR GEARBOX | B24: 407-540-400-121 | C24: A-1890 | D24: 0 | E24: 0 | F24: 0 | G24: 4982.8 | H24: =C2-G24 -> 2741.1 | I24: =C2-D24+E24 -> 7723.9 | J24: 5000 | K24: =J24-H24+C2 -> 9982.8 | L24: =J24-H24 -> 2258.9
A25: STARTER GENERATOR | B25: 206-062-200-113 | C25: 9270 | D25: 7479.4 | E25: 0 | F25: 0 | G25: 7479.4 | H25: =C2-G25 -> 244.5 | J25: 1000 | K25: =J25-H25+C2 -> 8479.4 | L25: =J25-H25 -> 755.5
A26: XMSN OILS CHANGE | B26: ROYCO 555 | E26: 0 | F26: 0 | G26: 7723.9 | H26: =C2-G26 -> 0 | J26: 300 | K26: =J26-H26+C2 -> 8023.9 | L26: =J26-H26 -> 300
A27: HYDRAULIC OIL AND FILTER CHG | B27: AS Fluid 41 | E27: 0 | F27: 0 | G27: 7723.9 | H27: =C2-G27 -> 0 | J27: 300 | K27: =J27-H27+C2 -> 8023.9 | L27: =J27-H27 -> 300
A28: CARGO HOOK-PRIMARY* NOTE 1 | B28: 528-023-01 | C28: 703 | D28: 5271.5 | E28: 0 | F28: 0 | G28: 5271.5 | H28: ='RYH HOBBS'!C25 -> 798.6 | J28: 1000 | K28: N/A | L28: =J28-H28 -> 201.4
A29: CARGO HOOK-SECONDARY* NB1 | B29: 528-023-01 | C29: 580 | D29: 5271.5 | E29: 0 | F29: 0 | G29: 5271.5 | H29: ='RYH HOBBS'!C25 -> 798.6 | J29: 1000 | K29: N/A | L29: =J29-H29 -> 201.4
A30: 50 Hr Lubrication | E30: 0 | F30: 0 | G30: 7723.9 | H30: =C2-G30 -> 0 | J30: 50 | K30: N/A | L30: =J30-H30 -> 50
A31: 300 Hr Insp(Optional equip.). | E31: 0 | F31: 0 | G31: 7723.9 | H31: =C2-G31 -> 0 | J31: 300 | K31: =J31-H31+C2 -> 8023.9 | L31: =J31-H31 -> 300
A32: 600 Hr Insp. | E32: 0 | F32: 0 | G32: 7723.9 | H32: =C2-G32 -> 0 | J32: 600 | K32: =J32-H32+C2 -> 8323.9 | L32: =J32-H32 -> 600
A33: 1200 Hr Insp. | E33: 0 | F33: 0 | G33: 7246.8 | H33: =C2-G33 -> 477.1 | J33: 1200 | K33: =J33-H33+C2 -> 8446.8 | L33: =J33-H33 -> 722.9
A34: 2500 Hr Insp. | E34: 0 | F34: 0 | G34: 7479.4 | H34: =C2-G34 -> 244.5 | J34: 2500 | K34: =J34-H34+C2 -> 9979.4 | L34: =J34-H34 -> 2255.5
A35: Engine | B35: 250-C47B | C35: CAE848228 | D35: 6731 | E35: 6570 | F35: N/A | G35: N/A | H35: N/A | I35: =C2-D35+E35 -> 7562.9 | J35: N/A | K35: N/A | L35: N/A
A38: *NOTE 1. CARGO HOOK HOURS RUN TO BE CHECKED AND ADJUSTED AT EACH MPI (REF PAGE RYH AF 1)

Sheet RYH MISC 6
A1: ='RYH HOBBS'!A10 -> AIRCRAFT REGISTRATION : | C1: ='RYH HOBBS'!C10 -> ZS-RYH
A2: ='RYH HOBBS'!A19 -> AIRFRAME HOURS AT DATE OF REPORT: | C2: ='RYH HOBBS'!C19 -> 7723.9
A3: ='RYH HOBBS'!A22 -> AIRFRAME RINS AT DATE OF REPORT: | C3: ='RYH HOBBS'!C22 -> 20393
A4: ='RYH HOBBS'!A23 -> AIRFRAME LDGS AT DATE OF REPORT: | C4: ='RYH HOBBS'!C23 -> 12323
A8: MISCELLANEOUS ITEMS:
A10: D. COMPONENTS WITH CALENDAR LIFE LIMITS
A11: DESCRIPTION | B11: COMPONENT | C11: COMPONENT | D11: INST | G11: COMP | H11: TIME BETWEEN | I11: DUE
B12: PART NUMBER | C12: SER. NO. | D12: DATE | G12: LIFE | H12: INSPECTIONS | I12: DATE
A13: MAST ASSY | B13: 407-040-011-107 | C13: 53950 | D13: 45359 | F13: INSP | H13: 5 YEARS | I13: =D13+1825 -> 47184
A14: MAIN TRANSMISSION | B14: 407-040-006-115 | C14: A-985 | D14: 44879 | F14: INSP | H14: 5 YEARS | I14: =D14+1825 -> 46704
A15: FREEWHEEL SHAFT | B15: 406-040-500-123 | C15: A-7204 | D15: 45397 | F15: INSP | H15: 5 YEARS | I15: =D15+1825 -> 47222
A16: TAIL ROTOR GEARBOX | B16: 406-040-400-121 | C16: A-1890 | D16: 44879 | F16: INSP | H16: 5 YEARS | I16: =D16+1825 -> 46704
A17: COMPASS SWING | B17: MAGNETIC | D17: 45359 | F17: C/0 | H17: 1 YEAR | I17: =D17+364 -> 45723
A18: RE-WEIGH | D18: 43847 | F18: C/0 | H18: 5 YEARS | I18: =D18+1825 -> 45672
A19: CURRENCY (C of A) | B19: CAR24L | C19: ZS-RYH/5 | D19: 45291 | F19: RENEW | H19: 1 YEAR | I19: =D19+365 -> 45656
A20: CERTIFICATE OF REGISTRATION | B20: CAR47B | C20: 588/ZS-RYH/1 | D20: 40052 | H20: N/A | I20: N/A
A21: ANNUAL/100HR MPI | D21: ='RYH C of R to S '!J25 -> 45502 | F21: C/0 | H21: 1 YEAR | I21: =D21+364 -> 45866
A22: BATTERY Cap Check | B22: RG407 | C22: 41236953
A23: RADIO STATION LICENCE | C23: 10186380 | D23: 45016 | F23: RENEW | H23: 3 YEAR | I23: =D23+1097 -> 46113
A24: FIRE EXTINGUISHER | D24: 45169 | F24: INSP | H24: 1 YEAR | I24: =D24+365 -> 45534
A25: FIRST AID PACK | D25: 45382 | F25: INSP | H25: 1 YEAR | I25: =D25+365 -> 45747
A26: ELT CHECK | C26: 170-07642 | D26: 45351 | F26: TEST | H26: 1 YEAR | I26: =D26+365 -> 45716 | K26: Beacon ID: 4B28553BB4FFBFF
A27: ELT CHECK | C27: 170-07642 | D27: 45351 | F27: BENCH CHECK | H27: 2 YEARS | I27: =D27+730 -> 46081
A28: ELT BATTERY CHECK (ARTEX) | D28: 44508 | F28: REPLACE | H28: 5 YEARS | I28: =D28+1825 -> 46333
A29: PITOT/STATIC CHECK | D29: 45352 | F29: CHECK | H29: 1 YEAR | I29: =D29+365 -> 45717
A30: TRANSPONDER TEST | D30: 45363 | F30: TEST | H30: 1 YEAR | I30: =D30+365 -> 45728 | K30: Hex Code: 00AF6C
A31: 12 Month Inspection | D31: 45359 | F31: INSP | H31: 1 YEAR | I31: =D31+365 -> 45724
A32: 24 Month Inspection. | D32: 45359 | F32: INSP | H32: 2 YEARS | I32: =D32+730 -> 46089

Sheet RYH ENG LIFE
A1: ='RYH HOBBS'!A10 -> AIRCRAFT REGISTRATION : | C1: ='RYH HOBBS'!C10 -> ZS-RYH
A2: ='RYH HOBBS'!A19 -> AIRFRAME HOURS AT DATE OF REPORT: | C2: ='RYH HOBBS'!C19 -> 7723.9
A3: ='RYH HOBBS'!A22 -> AIRFRAME RINS AT DATE OF REPORT: | C3: ='RYH HOBBS'!C22 -> 20393
A4: ='RYH HOBBS'!A24 -> ENGINE STARTS AT DATE OF REPORT: | C4: ='RYH HOBBS'!C24 -> 6343
A6: A. LIFED COMPONENTS-HOURS
A7: COMPONENT | B7: COMPONENT | C7: COMPONENT | D7: AIRFRAME | E7: COMP | F7: COMP | G7: COMP | H7: A/F HRS | I7: COMP | J7: TIME | O7: REMAINING
A8: DESCRIPTION | B8: PART NUMBER | C8: SER. NO. | D8: TIME AT | E8: TIME AT | F8: TOTAL | G8: LIFE | H8: DUE | I8: LIFE | J8: BETWEEN | O8: hrs TO O/H
D9: INST | E9: INST | F9: TIME | G9: LIMIT | H9: RETIRE | I9: REMAIN | J9: OVERHAULS | O9: COMPONENT
A10: ENGINE ASSY | B10: 250-C47B | C10: CAE-848228 | D10: 6731 | E10: 6570 | F10: =C2-D10+E10 -> 7562.9 | G10: O/C | H10: O/C | I10: O/C | J10: MODULAR | O10: N/A
A11: GEARBOX ASSY | B11: 23063393 | C11: CAG-48228 | D11: 6731 | E11: 6570 | F11: =C2-D11+E11 -> 7562.9 | G11: O/C | H11: O/C | I11: O/C | J11: N/A | O11: N/A
A12: IMPELLER | B12: 23065591 | C12: JY105549 | D12: 6731 | E12: 6375.9 | F12: =C2-D12+E12 -> 7368.8 | G12: 7500 | H12: =G12-F12+C2 -> 7855.1 | I12: =G12-F12 -> 131.2 | J12: N/A | O12: N/A
A13: 1ST STG WHEEL | B13: M250-10227 | C13: X648763 | D13: 6731 | E13: 498.6 | F13: =C2-D13+E13 -> 1491.5 | G13: 2025 | H13: =G13-F13+C2 -> 8257.4 | I13: =G13-F13 -> 533.5 | J13: N/A | O13: N/A
A14: 2ND STG WHEEL | B14: M250-10658 | C14: X667444 | D14: 6731 | E14: 498.6 | F14: =C2-D14+E14 -> 1491.5 | G14: 2025 | H14: =G14-F14+C2 -> 8257.4 | I14: =G14-F14 -> 533.5 | J14: N/A | O14: N/A
A15: 3RD STG WHEEL | B15: 23092511 | C15: X619779 | D15: 6731 | E15: 2481.9 | F15: =C2-D15+E15 -> 3474.8 | G15: 4550 | H15: =G15-F15+C2 -> 8799.1 | I15: =G15-F15 -> 1075.2 | J15: N/A | O15: N/A
A16: 4TH STG WHEEL | B16: 23066744 | C16: X620494 | D16: 6731 | E16: 2481.9 | F16: =C2-D16+E16 -> 3474.8 | G16: 4550 | H16: =G16-F16+C2 -> 8799.1 | I16: =G16-F16 -> 1075.2 | J16: N/A | O16: N/A
A17: OIL CHANGE | B17: ROYCO 560 | D17: 7723.9 | E17: 0 | F17: =SUM(C2-D17+E17) -> 0 | G17: 300 | H17: =G17-F17+C2 -> 8023.9 | I17: =G17-F17 -> 300
A18: CEFA oil Filter | D18: 6071.4 | E18: 0 | F18: =SUM(C2-D18+E18) -> 1652.5 | G18: O/C | H18: N/A | I18: N/A
A20: B. LIFED COMPONENT-CYCLES
A21: COMPONENT | B21: COMPONENT | C21: COMPONENT | D21: ENG. | E21: COMP | F21: COMP | G21: ENG CYCS | H21: COMP | I21: COMP
A22: DESCRIPTION | B22: PART NUMBER | C22: SER. NO. | D22: CYCS AT | E22: CYCS AT | F22: LIFE | G22: WHEN DUE | H22: TOTAL | I22: CYCLES
D23: INST | E23: INST | F23: CYCLES | G23: RETIRE | H23: CYCLES | I23: REMAINING
A24: ENGINE | B24: 250-C47B | C24: CAE-847747 | D24: 5511 | E24: 5511 | F24: O/C | G24: O/C | H24: =C4-D24+E24 -> 6343 | I24: O/C
A25: IMPELLER | B25: 23065591 | C25: JY105549 | D25: 5511 | E25: 5409 | F25: 15000 | G25: =D25+F25-E25 -> 15102 | H25: =C4-D25+E25 -> 6241 | I25: =G25-C4 -> 8759
A26: 1ST STG WHEEL | B26: M250-10227 | C26: X648763 | D26: 5511 | E26: 384 | F26: 3000 | G26: =D26+F26-E26 -> 8127 | H26: =C4-D26+E26 -> 1216 | I26: =G26-C4 -> 1784
A27: 2ND STG WHEEL | B27: M250-10658 | C27: X667444 | D27: 5511 | E27: 384 | F27: 3000 | G27: =D27+F27-E27 -> 8127 | H27: =C4-D27+E27 -> 1216 | I27: =G27-C4 -> 1784
A28: 3RD STG WHEEL | B28: 23092511 | C28: X619779 | D28: 5511 | E28: 2119 | F28: 6000 | G28: =D28+F28-E28 -> 9392 | H28: =C4-D28+E28 -> 2951 | I28: =G28-C4 -> 3049
A29: 4TH STG WHEEL | B29: 23066744 | C29: X620494 | D29: 5511 | E29: 2119 | F29: 6000 | G29: =D29+F29-E29 -> 9392 | H29: =C4-D29+E29 -> 2951 | I29: =G29-C4 -> 3049

Sheet RYH ENG OH
A1: ='RYH HOBBS'!A10 -> AIRCRAFT REGISTRATION : | C1: ='RYH HOBBS'!C10 -> ZS-RYH
A2: ='RYH HOBBS'!A19 -> AIRFRAME HOURS AT DATE OF REPORT: | C2: ='RYH HOBBS'!C19 -> 7723.9
A3: ='RYH HOBBS'!A22 -> AIRFRAME RINS AT DATE OF REPORT: | C3: ='RYH HOBBS'!C22 -> 20393
A4: ='RYH HOBBS'!A24 -> ENGINE STARTS AT DATE OF REPORT: | C4: ='RYH HOBBS'!C24 -> 6343
A6: OVERHAULED COMPONENTS
A7: COMPONENT | B7: COMP | C7: COMP | D7: A/F HRS | E7: COMP | F7: COMP | G7: A/F HRS | H7: COMP | I7: COMP | K7: A/F HRS | L7: HOURS
A8: DESCRIPTION | B8: PART NO. | C8: SER. NO. | D8: AT | E8: TSN AT | F8: TSO AT | G8: AT | H8: TSO | I8: TTSN | J8: TBO | K8: DUE | L8: TO O/H
D9: INST | E9: INST | F9: INST | G9: O/H | K9: OVERHAUL | L9: REMAIN
A10: Accessory Gearbox | B10: 23063393 | C10: CAG-48228 | D10: 6731 | E10: 6570 | F10: N/A | G10: N/A | H10: N/A | I10: =C2-D10+E10 -> 7562.9 | J10: O/C | K10: O/C | L10: O/C
A11: Compressor | B11: 23065593 | C11: CAC-45878 | D11: 6731 | E11: 6375.9 | F11: N/A | G11: N/A | H11: N/A | I11: =C2-D11+E11 -> 7368.8 | J11: O/C | K11: O/C | L11: O/C
A12: Turbine | B12: 23063354 | C12: CAT-45412 | D12: 6731 | E12: 6375.9 | F12: 498.6 | G12: 6232.4 | H12: =C2-D12+F12 -> 1491.5 | I12: =C2-D12+E12 -> 7368.8 | J12: 2000 | K12: =SUM(J12-F12+D12) -> 8232.4 | L12: =K12-C2 -> 508.5
A13: Hyd Mechanical unit | B13: 23078029 Rev A | C13: JGALM0866 | D13: 7609.1 | E13: 7661.7 | F13: 833 | G13: 6802.3 | H13: =C2-D13+F13 -> 947.8 | I13: =C2-D13+E13 -> 7776.5 | J13: 2500 | K13: =SUM(J13-F13+D13) -> 9276.1 | L13: =K13-C2 -> 1552.2
A14: Fadec control assy | B14: 23088484 | C14: JG06ALK0177 | D14: 6069.5 | E14: 5737.6 | F14: N/A | G14: N/A | H14: N/A | I14: =C2-D14+E14 -> 7392 | J14: O/C | K14: O/C | L14: O/C
A15: Bleed valve | B15: 23073353 | C15: FF57140 | D15: 6731 | E15: UNK | F15: 0 | G15: 6304.9 | H15: =C2-G15+F15 -> 1419 | I15: UNK | J15: 1500 | K15: =SUM(J15-F15+G15) -> 7804.9 | L15: =K15-C2 -> 81
A16: Fuel nozzle | B16: M250-10604 | C16: 1NG05738 | D16: 6731 | E16: UNK | F16: 0 | G16: 6232.4 | H16: =C2-G16 -> 1491.5 | I16: UNK | J16: 2000 | K16: =SUM(J16-F16+G16) -> 8232.4 | L16: =K16-C2 -> 508.5
I18: .
A22: FORECAST OF UPCOMING WORK/ESTIMATES:
A24: COMPONENT | B24: COMPONENT | C24: COMPONENT | D24: ESTIMATE | E24: ESTIMATE
A25: DESCRIPTION | B25: PART NO. | C25: SER. NO. | D25: REQUIRED | E25: FAXED TO | F25: ORDER | G25: REMARKS
E26: CLIENT | F26: NO.

Sheet RYH CATS Part 43
B1: Part 43 | M1: CATS
A3: MAINTENANCE PROGRAMME FOR HELICOPTERS
A4: WITH AN MCM OF 3175 KG OR LESS.
A8: Provided the Maintenance Programme has been drawn up in accordance with this
A9: Technical Standard it serves as the approved Aircraft Maintenance Programme for
A10: the particular helicopter, without the need to forward it to the Director for
A11: his or her approval. However, any deviation from the provisions of this Technical
A12: Standard shall require the prior approval of the Director.
A14: CHECK LIST
A15: MINIMUM REQUIREMENTS
A17: 1. | B17: General:
B18: Helicopter type: | D18: ='RYH HOBBS'!B1 -> BELL 407 | E18: Registration | G18: ='RYH MISC 6'!C1 -> ZS-RYH | I18: S/N | J18: ='RYH HOBBS'!C8 -> 53950
B19: Engine type (give full designation) | G19: Rolls Royce | I19: 250-C47B
B20: Main Rotor type (as applicable)
B21: No. 1 | C21: N/A | H21: Tail rotor serial number | J21: N/A
A23: 2. | B23: Hours or cycles of operation:
B24: Airframe Total time | D24: ='RYH HOBBS'!C19 -> 7723.9 | F24: Hrs | H24: Landings: | J24: ='RYH HOBBS'!C23 -> 12323
B25: Cycles/Rins: | D25: ='RYH HOBBS'!C22 -> 20393
B26: Engine(s) since new or last overhaul and date of last overhaul
B27: No. 1 | D27: ='RYH HOBBS'!C20 -> 7562.9 | E27: Hrs | F27: ='RYH HOBBS'!C24 -> 6343 | G27: Cycles | H27: No.2 | I27: N/A | J27: Hrs | L27: N/A | M27: Cycles
B28: No. 1 Date of O/H | D28: TSN | H28: No.2 | I28: Date of O/H | J28: N/A
A30: 3. | B30: Mass and balance:
B31: Date last established: | E31: ='RYH MISC 6'!D18 -> 43847
A33: 4. | B33: Component overhauls due:
B34: (List:)
D35: Nil
A39: 5. | B39: Aircraft documentation:
B40: C of A No. | C40: ='RYH MISC 6'!C19 -> ZS-RYH/5 | F40: Currency date: | H40: ='RYH MISC 6'!I19 -> 45656 | J40: Available and current | M40: YES
B41: C of R No. | C41: ='RYH MISC 6'!C20 -> 588/ZS-RYH/1 | F41: Radio Station Licence | J41: Currency date: | L41: ='RYH MISC 6'!I23 -> 46113
F42: No. | G42: ='RYH MISC 6'!C23 -> 10186380
A44: 6. | B44: Record of avionics equipment installed (name, type and serial nos.):
D45: MANUF. | F45: MODEL | H45: S/N
B46: VHF 1 | D46: GARMIN | F46: SL 40 | H46: 25809698
B47: VHF 2 | D47: GARMIN | F47: GNS 530W | H47: 23823042
B48: TXPDR | D48: GARMIN | F48: GTX 330 | H48: 84133958
B49: ADF | D49: N/A
B50: DME | D50: N/A
B51: STORMSCOPE | D51: N/A
B52: RADAR | D52: N/A
B53: GPS 1 | D53: GARMIN | F53: GNS 530W | H53: 23823042
B54: GPS 2 | D54: GARMIN | F54: MAP 296
B55: OTHER | D55: ELT ARTEK | F55: ELT C-406-2 | H55: 170-07642
B59: Part 43 | M59: CATS
E62: MPI MINIMUM CHECK-LIST
B64: [Note: Only the minimum requirements for an MPI are listed. The manufacture's check sheets
B65: must be integrated in the appropriate places for the check-list to be acceptable as an approved
B66: aircraft maintenance programme for a particular make and type of aircraft. | L66: SIGNED/CHECKED
A68: 1. | B68: Before the inspection, remove or open all necessary inspection panels, access doors, | L68: INCORP. IN
B69: fairings and cowlings and thoroughly clean the aircraft, engine, gearbox and rotors. | L69: MAINT. SCHED.
A71: 2. | B71: Inspect the metal, Fiberglas or fabric skin for deterioration, distortion, cracks, corrosion | L71: INCORP. IN
B72: and other evidence of failure and defective or unsecure attachments. | L72: MAINT. SCHED.
A74: 3. | B74: Inspect the interior of the fuselage hull, empennage, centre section, rotor blades for
B75: deterioration, distortion, cracks, corrosion and other evidence of failure and defective or | L75: INCORP. IN
B76: unsecure attachments. | L76: MAINT. SCHED.
A78: 4. | B78: Inspect fuel tanks for condition, leaks and corrosion on the tanks and in the tank bays. | L78: INCORP. IN
B79: Integral tank interiors for sealing and microbiological growth. Sender units for condition. | L79: MAINT. SCHED.
A81: 5. | B81: Inspect registration and other markings for conformity.
A83: 6. | B83: Where applicable ensure that all water drain holes are open. | L83: INCORP. IN
L84: MAINT. SCHED.
A86: 7. | B86: Inspect area beneath floor including, lines, hoses, wires, control cables and pulleys for | L86: INCORP. IN
B87: condition, cleanliness, security, routing and proper functioning. | L87: MAINT. SCHED.
A89: 8. | B89: Seats for condition and apparent defects, seat rails for condition, wear, locking mecha- | L89: INCORP. IN
B90: nisms and stops. Safety belts and harnesses for wear, attachment and buckles. | L90: MAINT. SCHED.
A92: 9. | B92: Canopy windshields and windows for cleanliness, distortion, crazing, cracks, delimita- | L92: INCORP. IN
B93: tion, deterioration and breakage. | L93: MAINT. SCHED.
A95: 10. | B95: Instruments for poor condition, mounting, marking, placarding, where practicable: | L95: INCORP. IN
B96: proper operation. | L96: MAINT. SCHED.
A98: 11. | B98: Test pitot and static systems with calibrated test equipment for freedom from obstruc-
B99: tions and leaks.
A101: 11a. | B101: Drain Pitot/Static water traps | L101: INCORP. IN
L102: MAINT. SCHED.
A104: 12. | B104: Inspect compass for discolouration and bubbles, check for freedom of rotation.
A106: 12a. | B106: Ensure that compass has been swung in accordance with the requirements and periods
B107: specified in Technical Standards 43.02.18.
A109: 13. | B109: Check altimeters and airspeed indicators for accuracy. Carry out a pitot static check
B110: with calibrated test equipment. (Note: this check needs to be carried out only once per
B111: annum.) See also Technical Standards 43.02.9.
A113: 14. | B113: Batteries, terminals and boxes for condition, corrosion, attachment, installation, venting | L113: INCORP. IN
B114: and proper charge. | L114: MAINT. SCHED.
A116: 15. | B116: Inspect general condition of all drive belts for wear, serviceability. Drive belts must be
B117: replaced on condition or in accordance with the manufacturer's recommendation. | L117: N/A
A119: 16. | B119: Main and tail rotor gearboxes, rotorheads, drive trains for condition, corrosion, freedom | L119: INCORP. IN
B120: of movement and balancing as required. | L120: MAINT. SCHED.
A122: 17. | B122: Inspect main, nose landing gear or skids for wear, play, corrosion, rigging, oleos,
B123: latches, torque links, rods, doors and locking mechanisms. Operate landing gear
B124: through five fault free cycles or follow the manufacturer's recommendations and record | L124: INCORP. IN
B125: findings, if applicable. | L125: MAINT. SCHED.
A127: 18. | B127: Inspect tyres for wear, cuts and abrasion. Wheels for condition, wear, damage and cor-
B128: rosion. Carry out NDT inspections as required. Brakes for condition, wear, wear pins,
B129: pads, drum discs and callipers, as required. | L129: N/A
A131: 19. | B131: Flying controls and trim tabs for damage, wear, corrosion, play, freedom of movement
B132: and condition. Attachment brackets, operating components, rods and rod-ends for
B133: damage, wear, play and freedom of movement. Balance weights for security of attach- | L133: INCORP. IN
B134: ment. | L134: MAINT. SCHED.
B139: Part 43 | M139: CATS
A142: 20. | B142: Carry out fuel flow checks: | L142: SIGNED/CHECKED
B143: Left: | H143: Auxiliary Left | J143: N/A
B144: Right | C144: N/A | H144: Auxiliary Right | J144: N/A
B145: All: | C145: N/A | H145: Off | J145: N/A | L145: N/A
A147: 21. | B147: Check that the rotor blades have been overhauled within the time limit specified by the | L147: N/A
...

Sheet CA43-03-1
A1: Section/division AIRWORTHINESS Form Number: CA 43-03 Telephone number: 011-545-1000 Physical address Ikhaya Lokundiza, 16 Treur Close, Waterfall Park, Bekker Street, Midrand, Gauteng Postal address: Private Bag X73, Halfway House 1685 Website: www.caa.co.za
C2: ANNUAL MAINTENANCE REVIEW REPORT-HELICOPTER
A3: 1 | B3: Aircraft Registration | F3: Z | G3: S | I3: ― | J3: R | L3: Y | M3: H | N3: Airframe serial number | V3: 53950
A4: 2 | B4: Make/model of helicopter | L4: Make/model of Engine(s)
B5: Bell 407 | L5: Rolls Royce 250-C47B
A6: 3 | B6: Current Airframe hours | D6: ='RYH HOBBS'!C19 -> 7723.9 | G6: Current Airframe cycles | N6: ='RYH HOBBS'!C23 -> 12323 | R6: Current Hobbs | W6: ='RYH HOBBS'!C17 -> 7723.9
A7: 4 | B7: Engine serial numbers(s) | C7: Hours operated since new | F7: Hours operated since overhaul | K7: Cycles since new | Q7: Cycles since overhaul | V7: Date of overhaul or manufacture
A8: i | B8: CAE848228 | C8: ='RYH HOBBS'!C20 -> 7562.9 | F8: TSN | K8: ='RYH HOBBS'!C24 -> 6343 | Q8: N/A | V8: 39891
A9: ii
A10: 5 | B10: Gearboxes | C10: Serial Numbers | H10: Date newly installed | N10: Time since new | U10: Time since overhaul
A11: i | B11: Main rotor | C11: ='RYH AF OH'!C15 -> A-985 | H11: 39873 | N11: ='RYH AF OH'!I15 -> 7723.9 | U11: ='RYH AF OH'!H15 -> 2741.1
A12: ii | B12: Intermediate
A13: iii | B13: Tail | C13: ='RYH AF OH'!C24 -> A-1890 | H13: 39873 | N13: ='RYH AF OH'!I24 -> 7723.9 | U13: ='RYH AF OH'!H24 -> 2741.1
A14: iv | B14: Combiner
A15: 6 | B15: Type of inspection program (Tick applicable) | D15: Mandatory periodic inspection | I15: X | L15: Phase inspection | T15: Approved maintenance program
A16: 7 | B16: CAA approved maintenance programme ref: | O16: Issue/amendment
A17: 8 | B17: Since the last C of A renewal/ issue, the following were complied with or carried out (attach logbook copies or status report):
A18: i | B18: Record showing details of major maintenance checks carried out | N18: Job No. 7628, 7728, 7905, 7955, 8100, 8265, 8353
A19: ii | B19: Major component changes (serialized life limited components as per OEM chapter 5 or equivalent) | L19: Nil
A20: iii | B20: Compass swing | D20: ='RYH MISC 6'!D17 -> 45359
A21: iv | B21: Airworthiness Directive numbers | F21: Nil
A22: v | B22: Manufacturer’s recommendations (e.g., SB’s, SI’s, SL’s etc.) numbers | H22: Nil
A23: vi | B23: Modification Records | F23: Nil
A24: 9 | B24: Radio station license (proof of application) available and current | S24: YES | V24: X | X24: NO
A25: 10 | B25: Helicopter flight manual available and current | S25: YES | V25: X | X25: NO
A26: 11 | B26: Date of last weighing | D26: 43847
A27: 12 | B27: Is mass and balance data available / amended to date (if the helicopter has been reweighed attach copy of the weigh report) | S27: YES | V27: X | X27: NO
A28: 13 | B28: Is the equipment list available / amended to date? | S28: YES | V28: X | X28: NO
A29: 14 | B29: Are the engine and propeller models installed, the correct models as required by the aircraft Type Certificate Data Sheet? | S29: YES | V29: X | X29: NO
A30: CA 43-03 | E30: 44893 | P30: Page 1 of 2

Sheet CA43-03-2
A1: 15 | B1: Does the radio equipment list comply with the original aircarft equipment list, or are modification / STC approvals available for any non-standard equipment installed? | S1: YES | V1: X | W1: NO
A2: 16 | B2: Is the aircraft fitted with a 406 MHZ Emergency Locating Transmitter? | S2: YES | V2: X | W2: NO
A3: 17 | C3: Enter beacon ID Hex code (If answered yes) | E3: 4 | F3: B | G3: 2 | I3: 8 | J3: 5 | L3: 5 | M3: 3 | O3: B | Q3: B | R3: 4 | S3: F | U3: F | V3: B | W3: F | X3: F
A4: 18 | B4: Are the relevant approved documents to be carried in the helicopter available as per Part 91 of the CARs? | S4: YES | V4: X | W4: NO
A5: 19 | B5: Flight folio copies attached (most recent page) | S5: YES | V5: X | W5: NO
A6: 20 | B6: Date of last flight | D6: ='RYH HOBBS'!C15 -> 45502 | K6: Hours by which inspection was over flown | S6: Nil
A7: 21 | B7: Has the aircraft and engine(s) been maintained in accordance with the manufacturer’s procedures for storage or preservation protection during inactivity? | O7: YES | Q7: X | S7: NO | W7: N/A
A8: 22 | B8: If “NO”, supply details of alternative procedures | H8: N/A
A9: 23 | B9: Certificate of Airworthiness expiry date | H9: ='RYH MISC 6'!I19 -> 45656
A10: 24 | B10: COMPLIANCE STATEMENT
A11: I, the undersigned, hereby certify that I have completed the annual maintenance review on helicopter | L11: Z | N11: S | P11: ― | R11: R | T11: Y | V11: H | W11: and that
A12: i. All mandatory overhauls, modifications, and special inspections due in accordance with the approved maintenance programme have been done and are recorded in the applicable logbooks. ii. This helicopter is airworthy, and a maintenance certificate of release is available and current. iii. The information given on this form is true in every aspect to the best of my knowledge and belief.
Q13: ='RYH C of R to S '!J25 -> 45502
A14: SIGNATURE OF AIRCRAFT MAINTENANCE ENGINEER | F14: NAME IN BLOCK LETTERS | Q14: DATE
A15: AME licence number / AMO approval number
A16: CA 43-03 | F16: 44893 | P16: Page 2 of 2

Sheet RYH C of R to S 
C2: NICHOLSON HELICOPTERS C.C.
F5: AMO/040 | H5: Job No. . | I5: 8353
C6: CK 93/29016/23
C8: CERTIFICATE of RELEASE to SERVICE
D10: Nationality and registration marks | H10: ZS-RYH
C12: Aircraft Type:- | F12: BELL 407 | H12: Serial No:- | I12: 53950
C14: I hereby certify that I am satisfied that the above mentioned aircraft and all its equipment
C15: are in every way serviceable for flight and that all maintenance has been carried out in accordance
C16: with the Civil Aviation Regulations, 2011 and the aircraft's approved maintenance programme.
C18: Maintenance check | E18: 300 Hr MPI | H18: Completed on | I18: 45502
C19: Data used: | E19: 407 MPI chap. 05-40, Eng. O&M manual chap. 72-00-00 Table 603, FAA AD's, TCAD's, Bell ASB's and Engine CEB's
C21: This certificate lapses at a total of | F21: 7823.9 | G21: Flight Time | H21: 7823.9 | I21: Hobbs Time | J21: or
C23: on | E23: =J25+364 -> 45866
C25: Signature of Aircraft Maintenance Engineer | F25: Name in Block letters | G25: G. Kotze | I25: Date of Issue | J25: 45502
C27: Identification Stamp | D27: Date . . | I27: Time of Issue | J27: 0.47916667
B29: NB This Certificate of Release to Service shall remain valid providing the
B30: Certificate of Airworthiness is Valid/Current

Sheet RYH AD's
A1: AD LISTING-BELL 407
A3: A/C Reg: | B3: ZS-RYH
A4: A/C S/N: | B4: 53950
A5: A/C TT | B5: ='RYH HOBBS'!C19 -> 7723.9
A6: DATE: | B6: ='RYH HOBBS'!C14 -> 45502
A7: Airframe
A8: FAA AD No | B8: DATE | C8: TITLE | D8: ONE TIME | E8: RECURRING | F8: ACTION TAKEN
A9: 2022-27-08 | B9: 44938 | C9: ALS update for Tailboom inspection | D9: X | F9: Spreadsheet updated.
A10: 2021-19-01 | B10: 44482 | C10: Seat belt comfort clips removal. | D10: X | F10: C/W ASB 407-15-111 01 Mar 2016
A11: 2019-08-10 | B11: 43640 | C11: Freewheel Shaft oil supply orifice insp. | D11: X | F11: C/W ASB 407-16-106 15 June 2016
A12: 2018-10-06 | B12: 07/23/2018 | C12: T/R Driveshaft couplings | E12: 300 hours | F12: Incorporated into MPI schedule
A13: 2015-17-02 | B13: 09/24/2015 | C13: Main Rotor Drive System | D13: X | F13: N/A by P/N of Driveshaft
A14: 42128 | B14: 04/20/2015 | C14: Fuselage Main, Longeron/Stringer | E14: X | F14: Incorporated into MPI schedule
A15: 41736 | B15: 07/28/2014 | C15: Rotorcraft Tail Boom and Middle Section | D15: X | F15: N/A by P/N of Tailboom
A16: 2013-22-21 | B16: 12/13/2013 | C16: Emergency Flotation Section | D16: X | F16: N/A. Floats not fitted.
A17: 2013-22-01 | B17: 12/05/2013 | C17: Main Rotor Drive System | D17: X | F17: C/W i.a.w ASB 407-04-66
A18: 2013-20-05 | B18: 12/05/2013 | C18: Turbine Section | D18: X | F18: C/W i.a.w ASB 407-05-67
A19: 2013-18-06 | B19: 10/17/2013 | C19: Main Rotor Control | D19: X | F19: C/W i.a.w ASB 407-09-88
A20: 41615 | B20: 08/01/2013 | C20: Rotorcraft tailboom | E20: X | F20: Incorporated into MPI schedule
A21: 2012-18-09 | B21: 10/22/2012 | C21: Rotorcraft tailboom (New Hardware) | D21: X | F21: C/W i.a.w ASB 407-10-93
A22: 2012-14-07 | B22: 08/03/2012 | C22: Rotorcraft Servo System | D22: X | F22: C/W i.a.w ASB 407-11-96
A23: 2011-25-01 | B23: 01/17/2012 | C23: Liferafts | D23: X | F23: N/A. Floats not fitted.
A24: 2010-26-51 | B24: Upon Receipt | C24: Tail Rotor Blades | D24: X | F24: N/A by T/R blade P/N
A25: 2010-26-51 | B25: 03/25/2011 | C25: Tail rotor blade | D25: X | F25: N/A by T/R blade P/N
A26: 2009-25-08 | B26: 12/28/2009 | C26: Hydraulic pump driveshaft assembly | D26: X | F26: N/A by S/N
A27: 2009-22-11 | B27: 11/16/2009 | C27: Swashplate link assembly bearing | D27: X | F27: C/W i.a.w ASB 407-09-87
A28: 2009-07-52 | B28: 05/01/2009 | C28: Cyclic control lever assembly | D28: X | F28: C/W @ Manufacture
A29: 2009-07-52 | B29: Upon Receipt | C29: Lever assembly | D29: X | F29: C/W @ Manufacture
A30: 2008-14-06 | B30: 08/14/2008 | C30: Horizontal stabilizers | D30: X | F30: C/W @ Manufacture
A31: 38418 | B31: 03/17/2005 | C31: Crosstube assembly | D31: X | F31: C/W @ Manufacture
A32: 38267 | B32: 06/04/2004 | C32: Oil cooler blower bearings | D32: X | F32: C/W @ Manufacture
A33: 37752 | B33: 04/02/2003 | C33: Swashplate outer ring | D33: X | F33: C/W @ Manufacture
A34: 37658 | B34: 02/10/2003 | C34: Tailboom gearbox support castings | D34: X | F34: C/W @ Manufacture
A35: 2002-22-10 | B35: 11/21/2002 | C35: Horizontal stabilizer slat (slat) | D35: X | F35: C/W @ Manufacture
A36: 2002-20-05 | B36: 11/07/2002 | C36: Rescue hoists | D36: X | F36: C/W @ Manufacture
A37: 2002-17-03 | B37: 09/20/2002 | C37: Fuel Filler Cap | D37: X | F37: C/W @ Manufacture
A38: 37569 | B38: 07/16/2002 | C38: Forward Bearing Hanger Bracket | D38: X | F38: C/W @ Manufacture
A39: 2001-13-02 | B39: 08/01/2001 | C39: Cockpit Warning Horns | D39: X | F39: C/W @ Manufacture
A40: 2000-14-16 | B40: 08/29/2000 | C40: Tail Rotor System | D40: X | F40: C/W @ Manufacture
A41: 36641 | B41: 04/12/2000 | C41: Door Latch Assembly | D41: X | F41: C/W @ Manufacture
A42: 36636 | B42: 04/05/2000 | C42: Hydraulic Relief Valve | D42: X | F42: C/W @ Manufacture
A43: 99-23-18 | B43: 11/30/1999 | C43: Revised Life Limit | D43: X | F43: C/W @ Manufacture
A44: 99-22-13 | B44: 12/02/1999 | C44: Fin Assembly For Reduced Skin Thickness Inspection | D44: X | F44: C/W @ Manufacture
A45: 98-25-02 | B45: 12/22/1998 | C45: Top-mounted Antenna | D45: X | F45: C/W @ Manufacture
A46: 98-19-13 | B46: 01/27/1999 | C46: Driveshaft | D46: X | F46: C/W @ Manufacture
A47: 36151 | B47: 07/15/1998 | C47: Tail Rotor Drive System Bearing Supports | D47: X | F47: C/W @ Manufacture
A48: 97-24-17 | B48: 04/16/1998 | C48: Tail Rotor Drive Coupling Disc Pack | E48: X | F48: N/A. New type couplings fitted
A50: Engine
A51: FAA AD No | B51: DATE | C51: TITLE | D51: ONE TIME | E51: RECURRING | F51: ACTION TAKEN
A52: 2006-20-07 | B52: 11/02/2006 | C52: Adds an additional life limit for third- and fourth-stage turbine wheels | E52: X | F52: Download C/O at MPI
A53: 2006-16-04 | B53: 09/07/2006 | C53: Inspection of the fuel nozzle screen | D53: X | F53: C/W @ Manufacture
A54: 2004-24-04 | B54: 01/03/2005 | C54: Hydromechanical unit (HMU) Power Lever Angle (PLA) potentiometer | D54: X | F54: C/W @ Manufacture
A55: 36071 | B55: 05/26/1998 | C55: Hydromechanical Unit | D55: X | F55: C/W @ Manufacture
A56: 82-24-05 | B56: 11/26/1982 | C56: Control Assembly and Power Turbine Governor Assembly | D56: X | F56: C/W @ Manufacture

Sheet RYH ASBs
K1: NICHOLSON HELICOPTERS
K2: ALERT SERVICE BULLETINS
K4: BELL 407 | S4: ZS-RYH
Q5: UPDATED: | R5: ='RYH HOBBS'!C14 -> 45502
Q6: A/F TTSN: | R6: =#REF!-100 -> #REF!
K8: NUMBER | L8: ISSUE | M8: REV | N8: FAA AD | O8: TCAD | P8: SUBJECT | Q8: COMPLIANCE | R8: COMPLIANCE DATE | S8: RECUR | T8: SIGN
K10: 407-96-1 to | Q10: Complied with at Manufacture | R10: June 2009 | T10: BHTC
K11: 407-09-89
K12: 407-09-90 | L12: 11-03-09 | P12: Servo inspection | Q12: C/W at 103.6 hrs | R12: 40245 | S12: X | T12: AMO 040
K13: 407-09-91 | L13: 17-12-09 | P13: Fuel hose inspection. | Q13: C/W Pt I at 103.6 hrs | R13: 40245 | S13: X | T13: AMO 040
K14: 407-09-91 | L14: 17-12-09 | P14: Fuel hose inspection. | Q14: C/W Pt II at 198.3 Hrs | R14: 40290 | S14: X | T14: AMO 040
K15: 407-10-92 | L15: 13-04-10 | M15: B | P15: Tail rotor blades Inspection | Q15: Inc. in Maint Sched-Nov 2010 | R15: N/A | S15: X | T15: AMO 040
K16: 407-10-93 | L16: 30-08-10 | M16: A | N16: 2012-18-09 | O16: CF-2010-33 | P16: Tail Boom attachment hardware | Q16: C/W @ A/F hrs 394.3(Re-Torqued 4041.2) | R16: 42024 | S16: X | T16: AMO 040
K17: 407-11-94 | L17: 02-08-11 | P17: Main rotor mast insp. | Q17: Incorporated into documentation. | R17: 41143 | S17: Annual/600Hr | T17: AMO 040
K18: 407-11-95 | L18: 21-08-20 | M18: D | N18: 2015-05-04 | O18: CF-2011-42 | P18: Upper Longeron, Insp | Q18: Incorporated into documentation. | R18: 42024 | S18: 150hrs | T18: AMO 040
K19: 407-11-96 | L19: 29-08-11 | M19: B | N19: 2012-14-07 | O19: CF-2011-17R1 | P19: Clevis Assy, Hyd Servo Assy | Q19: N/A by Servo Ser. No's. | R19: 40791 | S19: X | T19: AMO 040
K20: 407-11-97 | L20: 30-06-11 | P20: Crew seat clip retainers, Inst | Q20: C/W at 1749.0 Hrs | R20: 41103 | S20: X | T20: AMO 040
K21: 407-11-98 | L21: 24-10-12 | P21: Planetary Pinion Gear inspection | Q21: C/W @ 4982.9 Hrs | R21: 42989 | S21: O/H | T21: AMO 040
K22: 407-13-99 | L22: 24-07-13 | M22: A | P22: Engine Chip detectors insp. | Q22: Incorporated into documentation. | R22: 42648 | S22: 20 Hrs | T22: AMO 040
K23: 407-13-100 | L23: 20-11-13 | P23: ECU replacement | Q23: C/W @ 3272.3 | R23: 41873 | S23: X | T23: AMO 040
K24: 407-13-101 | L24: 20-11-13 | P24: ECU replacement | Q24: C/W @ 3272.3 | R24: 41873 | S24: X | T24: AMO 040
K25: 407-14-102 | L25: 04-05-16 | M25: C | P25: ECU Harness overspeed adapter. | Q25: C/O at 3181.1 | R25: 41834 | S25: X | T25: AMO 040
K26: 407-14-103 | L26: 21-05-14 | P26: Eng spurgear adapter insp. | Q26: Inspection C/O on adapter 3089.1 Hrs | R26: 41803 | S26: X | T26: AMO 040
K27: 407-14-104 | L27: 03-11-15 | M27: A | P27: Inspection of 3rd stage tubine wheels. | Q27: C/W @ next shop visit. | R27: 41873 | S27: X | T27: AMO 040
K28: 407-14-105 | L28: 03-09-14 | P28: Compressor front support oil flow | Q28: Oil flow check C/O @ 3460.0 Hrs | R28: 42024 | S28: X | T28: AMO 040
K29: 407-14-106 | L29: 09-02-16 | M29: A | N29: 2019-08-10 | O29: CF-2016-13 | P29: Freewheel oil supply supply blockage | Q29: Inspection C/O @ 4330.1 Hrs | R29: 42536 | S29: X | T29: AMO 040
K30: 407-15-107 | L30: 07-10-14 | P30: Fuel vent hose recall | Q30: N/A by P/N. | R30: 42080 | S30: X | T30: AMO 040
K31: 407-15-108 | L31: 03-09-15 | M31: B | P31: Mast 407-040-038-123 inspection | Q31: N/A by P/N. | R31: 42080 | S31: X | T31: AMO 040
K32: 407-15-109 | L32: 07-10-14 | P32: Fuel cell recall. | Q32: N/A by P/N. | R32: 42080 | S32: X | T32: AMO 040
K33: 407-15-110 | L33: 14-07-15 | P33: Pylon Support | Q33: N/A by Ship S/N | R33: 42215 | S33: X | T33: AMO 040
K34: 407-15-111 | L34: 05-01-16 | N34: 2021-19-01 | O34: CF-2018-16 | P34: Seat belt comfort clips | Q34: All clips removed from seat belts | R34: 42430 | S34: X | T34: AMO 040
K35: 407-16-112 | L35: 10-07-19 | M35: C | P35: Air conditionor blower motor connector | Q35: N/A (A/C not fitted) | R35: 42430 | S35: X | T35: AMO 040
K36: 407-16-113 | L36: 12-02-16 | N36: 2018-10-06 | O36: CF-2016-21 | P36: T/R driveshaft coupling inspection | Q36: C/O @ 4041.2 Hrs | R36: 42430 | S36: X | T36: AMO 040
K37: 407-16-114 | L37: 03-03-17 | M37: C | P37: Outer Combustion Case | Q37: N/A by A/C S/N. | R37: 42716 | S37: X | T37: AMO 040
K38: 407-17-115 | L38: 14-02-17 | P38: M/R blade expanding bolt insp. | Q38: N/A by installation. | R38: 42857 | S38: X | T38: AMO 040
K39: 407-18-117 | L39: 18-02-18 | P39: T/R Gearbox pitch change mechanism | Q39: N/A by A/C S/N. | R39: 43238 | S39: X | T39: AMO 040
K40: 407-19-118 | L40: 22-02-19 | P40: Oil specs | Q40: N/A by A/C S/N. | R40: 43616 | S40: X | T40: AMO 040
K41: 407-19-119 | L41: 11-07-19 | P41: Air con fan blower electrical plugs replace | Q41: N/A by installation. | R41: 43698 | S41: X | T41: AMO 040
K42: 407-19-120 | L42: 30-07-20 | M42: B | P42: Eng fwd firewall plug button insp. | Q42: N/A by A/C S/N. | R42: 43698 | S42: X | T42: AMO 040
K43: 407-20-121 | L43: 18-01-21 | P43: Side body fairing fasteners insp. | Q43: N/A by Ship S/N | R43: 44292 | S43: X | T43: AMO 040
K44: 407-21-122 | L44: 09-02-21 | P44: M/R Pitch links insp. | Q44: C/W at 6478.9 Hrs | R44: 44292 | S44: 300 | T44: AMO 040
K45: 407-21-123 | L45: 14-07-21 | N45: 2022-27-08 | O45: CF-2021-34 | P45: ALS update for tailboom insp. | Q45: ALS updated | R45: 44515 | S45: X | T45: AMO 040
K46: 407-21-124 | L46: 01-02-22 | P46: Fuel system standpipe | Q46: N/A by Ship S/N | R46: 44599 | S46: X | T46: AMO 040
K47: 407-21-125 | L47: 28-09-21 | P47: Coll pitch transducer | Q47: N/A by ship S/N | R47: 44515 | S47: X | T47: AMO 040
K48: 407-21-126 | L48: 06-10-21 | P48: Pilot control stick balance | Q48: N/A by Ship S/N | R48: 44515 | S48: X | T48: AMO 040
K49: 407-22-127 | L49: 09-11-22 | M49: A | P49: Freewheel assy Aft cap insp | Q49: N/A by Ship S/N | R49: 44915 | S49: X | T49: AMO 040
K50: 407-22-128 | L50: 09-12-22 | P50: Tailboom attachment hardware | Q50: C/W at 7237.9 Hrs | R50: 44915 | S50: X | T50: AMO 040
K51: 407-23-129 | L51: 29-06-23 | P51: Electrical harnesses,inspection | Q51: N/A by Ship S/N | R51: 45131 | S51: X | T51: AMO 040
K52: 407-23-130 | L52: 27-03-23 | O52: CF-2024-18 | P52: Pilot cyclic stick insp. | Q52: C/W @ 7338,25 | R52: 45051 | S52: X | T52: AMO 040
K53: 407-23-131 | L53: 30-Oct-23 | P53: Garmin Gsu 75h air data attitude & heading | Q53: N/A by Ship S/N | R53: 45364 | S53: X | T53: AMO 040
K54: 407-23-132 | L54: 14-Aug-23 | P54: Tail rotor blades inspections | Q54: N/A by Ship S/N | R54: 45364 | S54: X | T54: AMO 040
K55: 407-23-133 | L55: 26-Jan-24 | P55: Horizontal Stabilizer and Cargo Hook insp | Q55: C/W @7479.4 | R55: 45364 | S55: 50hr | T55: AMO 040
K56: 407-24-134 | L56: 12-Feb-24 | P56: Tailboom attachment hardware and hardw | Q56: C/W@7479.4 | R56: 45364 | S56: 50hr | T56: AMO 040
K57: 407-24-135 | L57: 21-May-24 | P57: Cyclic control AFCS kit incorrect hardware | Q57: N/A by Ship S/N | R57: 45453 | S57: X | T57: AMO 040
K58: 407-24-136 | L58: 25-Jul-24 | P58: FWD crosstube inspection | Q58: To be complied with at 36000 Landings | R58: 45503 | S58: X
K61: AD LISTING (NO SUPPORTING ASB Etc) | U61: Signature
U62: BHTC
K63: AD No. | L63: Date | M63: Av. Auth. | O63: DESCRIPTION | Q63: COMPLIANCE | R63: Date | S63: Rec. | T63: Hours | U63: BHTC
K64: CF-96-19R4 | L64: 35402 | M64: TC | O64: Action reqiured to return fleet back to flight status. | Q64: Previously complied with at manuf. | R64: N/A | S64: X | U64: BHTC
K65: CF-98-15 | L65: 36021 | M65: TC | O65: Rescue hoist | Q65: N/A by config | R65: N/A | S65: X | U65: BHTC
K66: CF-97-20R1 | L66: 36518 | M66: TC | O66: Cancellation of 25 hr check on coplings. | Q66: Previously complied with at manuf. | R66: N/A | S66: X | U66: BHTC
K67: CF-2001-01R1 | L67: 36984 | M67: TC | O67: VNE speed reduction | Q67: Previously complied with at manuf. | R67: N/A | S67: X | U67: AMO 040
K68: CF-2005-32 | L68: 38590 | M68: TC | O68: RFM revision | Q68: Previously complied with at manuf. | R68: N/A | S68: X | U68: BHTC
K69: CF-2014-26 | L69: 42231 | M69: TC | O69: Emergency floatation | Q69: N/A by config | R69: N/A | S69: X | U69: AMO 040
K70: CF-1999-04R1 | L70: 42411 | M70: TC | O70: Life limited parts. | Q70: Previously complied with at manuf. | R70: N/A | S70: X | U70: BHTC
K71: CF2015-0093 | M71: TC | O71: Attitude ref system. | Q71: N/A by config | R71: N/A | S71: X | U71: BHTC
K72: 98-25-02 | L72: 36151 | M72: FAA | O72: Skywatch antenna | Q72: N/A by config | R72: N/A | S72: X | U72: AMO 040
K73: 2002-20-05 | L73: 37567 | M73: FAA | O73: Rescue hoist | Q73: N/A by config | R73: N/A | S73: X | U73: AMO 040
K74: 2011-25-01 | L74: 40925 | M74: FAA | O74: Liferafts | Q74: N/A by config | R74: N/A | S74: X | U74: AMO 040
K75: 2013-20-05 | L75: 41613 | M75: FAA | O75: RFM update | Q75: RFM updated. | R75: N/A | S75: X
K76: 2013-22-21 | L76: 41621 | M76: FAA | O76: Apical SB 1013-03 | Q76: N/A by config | R76: N/A | S76: X

Sheet RYH CEB`s
A1: NICHOLSON HELICOPTERS
A3: ROLLS ROYCE ENGINE CEB`s
A4: ZS-RYH
E5: UPDATED: | F5: ='RYH HOBBS'!C14 -> 45502
A7: NUMBER | B7: ISSUE | C7: REV | D7: SUBJECT | E7: COMPLIANCE | F7: DATE | G7: RECUR | H7: SIGN | I7: AD REF.
A8: 72-6001 | E8: C/W at Manufacture. | F8: 35369 | G8: X | H8: Rolls Royce
A9: to
A10: A-72-6033
A11: A-72-6037 | C11: 9 | D11: Insp. Of 1st Stage nozzle shield dome | E11: N/A by date of engine manufacture. | F11: 39686 | G11: X | H11: Rolls Royce
A12: 72-6040 | D12: Replacement of 3rd stage nozzle | E12: C/W at Manufacture. | F12: 43299 | G12: X | H12: Rolls Royce
A13: 72-6051 | D13: New 2nd stage splined adapter. | E13: C/W at Manufacture. | F13: 45508 | G13: X | H13: Rolls Royce
A14: A-72-6054 | C14: 2 | D14: PT Wheel overspeed events entries. | E14: At each ECU download. | F14: 43475 | G14: Y | H14: Rolls Royce | I14: 2006-20-07
A15: A-72-6060 | C15: 3 | D15: Pwr Turb. Outer Shaft Insp. | E15: C/W at Manufacture. | F15: 39938 | G15: X | H15: Rolls Royce
A16: A-72-6075 | D16: Chip detectors | E16: Bearings replaced | F16: 42614 | G16: X | H16: AMO 040
A17: A-72-6077 | D17: Spur Adapter | E17: Inspection C/O at 3089.1 Hrs | F17: 17-Mar-15 | G17: X | H17: AMO 040
A18: A-72-6078 | D18: 3rd stage whel inspection | E18: C/W at last shop visit (New wheels fitted) | F18: 26-Feb-16 | G18: X | H18: AMO 040
A19: A-72-6079 | D19: Compressor front support inspection | E19: N/A by P/N | F19: 26-Feb-16 | G19: X | H19: AMO 040
A20: A-72-6080 | D20: No 5 bearing retaining ring | E20: Found embodied | F20: 26-Feb-16 | G20: X | H20: AMO 040
A21: A-72-6083 | D21: No 8 bearing inspection | E21: N/A due to S/N | F21: 26-Feb-16 | G21: X | H21: AMO 040
A22: A-72-6085 | D22: Inspection of OCC | E22: N/A by P/N | F22: 11-Sep-17 | G22: X | H22: AMO 040
A23: A-72-6086 | C23: 0 | D23: OCC replacement | E23: C/W at 6071.4 Eng. Hrs | F23: 43882 | G23: X | H23: AMO 040
A24: A-72-7002 | D24: Inspection of OCC | E24: N/A by P/N | F24: 11-Sep-17 | G24: X | H24: AMO 040
A25: 73-6001 | E25: C/W at Manufacture. | F25: 35369 | G25: X | H25: Rolls Royce
A26: to
A27: A-73-6042
A28: A-73-6044 | D28: HMU spline insp. (supersedes 6030) | E28: C/W at 2500 Hrs | F28: 05-05-09 | G28: X | H28: Rolls Royce
A29: 73-6048 | C29: 3 | D29: Intro of reversionary Gov. | E29: C/W at Manufacture. | F29: 05-05-09 | G29: X | H29: Rolls Royce
A30: 73-6051 | D30: HMU relief valve insp. | E30: N/A by HMU P/N installed. | F30: 24-Jul-09 | G30: X | H30: Rolls Royce
A31: A-73-6059 | D31: Overspeed adapter, introduction of | E31: Installed 14 July 2014 | F31: 41834 | G31: X | H31: AMO 040
A32: 73-6060 | D32: New ECU software | E32: C/W @ 3272.3 | F32: 41873 | G32: X | H32: AMO 040
A33: A-73-6061 | D33: Fuel Pump Power Unit | E33: N/A by Engine model | F33: 22-02-2018 | G33: X | H33: AMO 040
A34: 73-6062 | D34: Electronic Engine Controle | E34: N/A by Engine model | F34: 22-02-2018 | G34: X | H34: AMO 040
A35: 73-6063 | D35: ECU one time inspection | E35: To be C/W at next shop visit | F35: 22-02-2018 | G35: X
A36: 75-6001 | D36: New bleed valve. | E36: C/W at Manufacture. | F36: 30-Jan-03 | G36: X | H36: Rolls Royce

Sheet RYH M & B
A2: NICHOLSON HELICOPTERS AMO No 040
A3: MASS & BALANCE:
B5: A/C TYPE: BELL 407
B7: REGISTRATION: ZS – RYH | E7: HELICOPTER SER. NO: 53950
B9: DATUM IS LOCATED: 100 Inches Fwd of M/R MAST C/Line
B11: 1KG=2.204LBS | D11: SUSPENSION METHOD
C13: READING(kg) | D13: TARE(kg) | E13: NET(lbs) | F13: ARM(inches) | G13: MOMENT
B14: Main | C14: 1378.86 | D14: 0 | E14: 3039.02 | F14: 122.2 | G14: =(E14*F14) -> 371368.24
B15: Camera | C15: 31.75 | D15: 0 | E15: =(C15-D15)*2.204 -> 69.977 | F15: 379.1 | G15: =(E15*F15) -> 26528.281
B16: Camera Table | C16: 7.35 | D16: 0 | E16: 16.2 | F16: 122.2 | G16: =F16*E16 -> 1979.64
B17: Ballast Removed | C17: -14.55 | D17: 0 | E17: -32.06 | F17: 14.3 | G17: =F17*E17 -> -458.458
C20: C of G | E20: =SUM(E14:E19) -> 3093.137 | F20: =(G20/E20) -> 129.1303 | G20: =SUM(G14:G19) -> 399417.71
B22: MASSMETER Ser No's.:- Calculation only | F22: Calibrated
B23: WEIGHED BY: GJJ Strydom
B24: AME SIGNATURE: …………………………………………………………………..
B26: AMO STAMP:
B28: DATE: | C28: 42479

Sheet  RYH Compass Card
B2: Date | C2: =G16 -> 44508
B3: FOR | D3: Steer | F3: Fill in this one ONLY! The 2 fill in AUTO | G3: ZS-RYH
B4: N | D4: 001
B5: 045 | D5: 045
B6: E | D6: 092
B7: 135 | D7: 135
B8: S | D8: 184
B9: 225 | D9: 227
B10: W | D10: 272
B11: 315 | D11: 316
B12: RADIO ON
G15: COMPASS SWING DATE:
B16: FILL IN THIS DATE ONLY > | G16: 44508 | I16: < FILL IN THIS DATE ONLY
B19: Date | C19: =G16 -> 44508
B20: FOR | D20: Steer
B21: N | D21: 001
B22: 045 | D22: 045
B23: E | D23: 091
B24: 135 | D24: 135
B25: S | D25: 181
B26: 225 | D26: 227
B27: W | D27: 271
B28: 315 | D28: 316
B29: RADIO ON

Sheet Compass Swing
A1: COMPASS SWING (45° Increments)
A3: A/C Reg: | B3: ='RYH HOBBS'!C10 -> ZS-RYH | D3: DATE: | G3: SWUNG BY:
A5: 1. Set the aircraft on 360 deg as per landing compass.
A6: 2. Adjust aircraft compass to read 360 deg (N/S adjustment screw)
A7: 3. Set aircraft on 090 deg on landing compass.
A8: 4. Adjust aircraft compass to read 090 deg (E/W adjustment screw)
A9: 5. Set aircraft on 180 deg on aircraft compass.
A10: 6. Adjust out half landing compass error.
A11: 7. Set aircraft on 270 deg on landing compass.
A12: 8. Adjust out half landing compass error.
A13: 9. Carry out a check swing and fill out below.
A15: 10. | B15: Aircraft | D15: Landing | F15: Dev
B16: compass | D16: compass | F16: compass
B17: 360
B18: 45
B19: 90
B20: 135
B21: 180
B22: 225
B23: 270
B24: 315
A26: 11. Sum of deviation / 8 - "A" error | E26: Total | G26: /8 - | I26: ("A")
A27: NOTE: | B27: To calculate compass deviation in degrees. This is the difference between a/c & landing
B28: compass + if landing compass reading is greater than a/c compass & - if landing
B29: compass reading is less than a/c compass.
A31: 12. If "A" error exist remove it and fill out correction card with residuals errors as outlined below:
D33: Dev | F33: Less "A" | H33: Final
F34: Errror adj | H34: dev
B35: 360
B36: 045
B37: 090
B38: 135
B39: 180
B40: 225
B41: 270
B42: 315
A44: 14. Correction card | F44: For | H44: Steer
F45: N
F46: 45
F47: E
F48: 135
F49: S
F50: 225
F51: W
F52: 315
A54: REMEMBER: | B54: Change the sign on the "final deviation" figure and apply to the aircraft compass
B55: cardinal heading for the "corrected" heading to steer.
A59: SIGNED:
