Workbook
Name _Ref461368450: 'C11.6'!#REF!
Name _Ref461368450: 'C3.1'!#REF!
Name _Ref461368450: 'C3.2'!#REF!
Name _Ref461368450: 'C4.2'!#REF!
Name _Ref461368450: 'C4.3'!#REF!
Name _Ref461368450: 'C5.2'!#REF!
Name _Ref461372205: 'C11.6'!#REF!
Name _Ref461372205: 'C3.1'!#REF!
Name _Ref461372205: 'C3.2'!#REF!
Name _Ref461372205: 'C4.2'!#REF!
Name _Ref461372205: 'C4.3'!#REF!
Name _Ref461372205: 'C5.2'!#REF!
Name _Ref461373091: 'C11.6'!#REF!
Name _Ref461373091: 'C3.1'!#REF!
Name _Ref461373091: 'C3.2'!#REF!
Name _Ref461373091: 'C4.2'!#REF!
Name _Ref461373091: 'C4.3'!#REF!
Name _Ref461373091: 'C5.2'!#REF!
Name _Ref461373122: 'C11.6'!#REF!
Name _Ref461373122: 'C3.1'!#REF!
Name _Ref461373122: 'C3.2'!#REF!
Name _Ref461373122: 'C4.2'!#REF!
Name _Ref461373122: 'C4.3'!#REF!
Name _Ref461373122: 'C5.2'!#REF!
Name _Ref461373150: 'C11.6'!#REF!
Name _Ref461373150: 'C3.1'!#REF!
Name _Ref461373150: 'C3.2'!#REF!
Name _Ref461373150: 'C4.2'!#REF!
Name _Ref461373150: 'C4.3'!#REF!
Name _Ref461373150: 'C5.2'!#REF!

Sheet C1.2
A1: SANRAL N.002-300-2027/1
A2: THE URGENT REPAIR TO EMBANKMENT AND PAVEMENT FAILURE ON THE SOUTH BOUND OF NATIONAL ROUTE 2, SECTION 30 BETWEEN KM 0.80 AND KM 1.20
A4: C1.2 | D4: GENERAL REQUIREMENTS AND PROVISIONS
A5: ITEM | D5: DESCRIPTION | E5: UNIT | F5: QUANTITY | G5: RATE | H5: AMOUNT
A6: C1.2.1 | D6: Environmental Management
B7: C1.2.1.1 | D7: Monitoring of compliance with and reporting on the EMP | E7: month | F7: 6 | H7: =F7*G7 -> 0
B8: C1.2.1.2 | D8: Dedicated environmental officer | E8: month | F8: 6 | H8: =F8*G8 -> 0
A9: C1.2.2 | D9: Programming and Reporting
B10: C1.2.2.1 | D10: Submission of a Scheme 1 Programme | E10: lump sum | F10: 1 | H10: =F10*G10 -> 0
B11: C1.2.2.2 | D11: Reviewing and updating a Scheme 1 Programme | E11: month | F11: 6 | H11: =F11*G11 -> 0
B12: C1.2.2.6 | D12: Preparation and submission of all information and reports specified in the Contract Documentation | E12: month | F12: 6 | H12: =F12*G12 -> 0
A13: C1.2.5 | D13: Safety
B14: C1.2.5.1 | D14: Health and safety plan | E14: lump sum | F14: 1 | H14: =F14*G14 -> 0
B15: C1.2.5.2 | D15: Implementation of health and safety plan | E15: month | F15: 6 | H15: =F15*G15 -> 0
A16: C1.2.8 | D16: Dayworks
B17: C1.2.8.1 | D17: Personnel
C18: (a) | D18: Unskilled labourer | E18: hour (h) | F18: 90 | H18: =F18*G18 -> 0
C19: (b) | D19: Semi-skilled labourer | E19: hour (h) | F19: 75 | H19: =F19*G19 -> 0
C20: (c) | D20: Skilled labourer | E20: hour (h) | F20: 60 | H20: =F20*G20 -> 0
C21: (d) | D21: Gang leader | E21: hour (h) | F21: 30 | H21: =F21*G21 -> 0
C22: (e) | D22: Foreman | E22: hour (h) | F22: 30 | H22: =F22*G22 -> 0
C23: (f) | D23: Skilled artisan | E23: hour (h) | F23: 30 | H23: =F23*G23 -> 0
B24: C1.2.8.2 | D24: Construction equipment
C25: (d) | D25: Front end loader | E25: hour (h) | F25: 15 | H25: =F25*G25 -> 0
A26: C1.2.3 | D26: Routine road maintenance of existing public roads within the Site of the Works or other public roads outside the Site of the Works which are used as detours
B27: C1.2.3.9 | D27: Grading of temporary gravel deviations and existing roads used as detours | E27: kilometre (km) | F27: 2
B28: C1.2.3.10 | D28: Watering of temporary gravel deviations and existing roads used as detours | E28: kilolitre (kℓ) | F28: 20
B29: C1.2.3.11 | D29: Other road maintenance work ordered by the Engineer | E29: provisional sum | F29: 1 | G29: 700000 | H29: =F29*G29 -> 700000
B30: C1.2.3.12 | D30: Handling cost, profit and all other charges in respect of item C1.2.3.11 | E30: percentage (%) | F30: =H29 -> 700000 | H30: =F30*G30 -> 0
B31: C1.2.3.13 | D31: Liaison with the routine road maintenance contractor | E31: month | F31: 6
A32: PC1.2.10 | D32: Dispute Adjudication Board (DAB)
B33: C1.2.10.1 | D33: Employer’s contribution to DAB (50%) | E33: prime cost (PC) sum | F33: 1 | G33: =150000 -> 150000 | H33: =F33*G33 -> 150000
A35: TOTAL CARRIED FORWARD TO SUMMARY | H35: =ROUND(SUM(H7:H33),2) -> 850000

Sheet C1.3
A1: SANRAL N.002-300-2027/1
A2: THE URGENT REPAIR TO EMBANKMENT AND PAVEMENT FAILURE ON THE SOUTH BOUND OF NATIONAL ROUTE 2, SECTION 30 BETWEEN KM 0.80 AND KM 1.20
A4: C1.3 | D4: CONTRACTOR’S SITE ESTABLISHMENT AND GENERAL OBLIGATIONS
A5: ITEM | D5: DESCRIPTION | E5: UNIT | F5: QUANTITY | G5: RATE | H5: AMOUNT
A6: PC1.3.1 | D6: The Contractor's general obligations
B7: C1.3.1.1 | D7: Fixed obligations
B8: C1.3.1.1 | C8: (b)_ | D8: Execution of the works | E8: lump sum | F8: 1 | H8: =F8*G8 -> 0
B9: C1.3.1.2 | D9: Value-related obligations | E9: lump sum | F9: 1 | H9: =F9*G9 -> 0
B10: C1.3.1.3 | D10: Time-related obligations
C11: (b) | D11: Execution of the works | E11: month | F11: 6 | H11: =F11*G11 -> 0
A12: C1.3.2 | D12: Contract sign boards | E12: square metre (m2) | F12: 20 | H12: =F12*G12 -> 0
A14: TOTAL CARRIED FORWARD TO SUMMARY | H14: =SUM(H7:H13) -> 0

Sheet C1.4
A1: SANRAL N.002-300-2027/1
A2: THE URGENT REPAIR TO EMBANKMENT AND PAVEMENT FAILURE ON THE SOUTH BOUND OF NATIONAL ROUTE 2, SECTION 30 BETWEEN KM 0.80 AND KM 1.20
A4: C1.4 | D4: FACILITIES FOR THE ENGINEER
A5: ITEM | D5: DESCRIPTION | E5: UNIT | F5: QUANTITY | G5: RATE | H5: AMOUNT
B6: C1.4.1 | D6: Site Accomodation
C7: C1.4.1.1 | D7: Offices and conference room | E7: square metre (m2) | F7: 150 | H7: =F7*G7 -> 0
C8: C1.4.1.2 | D8: Laboratories | E8: square metre (m2) | F8: 150 | H8: =F8*G8 -> 0
C9: C1.4.1.3 | D9: Open concrete working floors and verandas | E9: square metre (m2) | F9: 55 | H9: =F9*G9 -> 0
C10: C1.4.1.5 | D10: Store rooms inside the laboratory | E10: square metre (m2) | F10: 30 | H10: =F10*G10 -> 0
C11: C1.4.1.6 | D11: Car ports | E11: number (No.) | F11: 5 | H11: =F11*G11 -> 0
C12: C1.4.1.7 | D12: Ablution unit (equipped as specified) | E12: number (No.) | F12: 2 | H12: =F12*G12 -> 0
C13: C1.4.1.9 | D13: Kitchen unit (equipped as specified) | E13: number (No.) | F13: 1 | H13: =F13*G13 -> 0
C14: C1.4.1.13 | D14: Rented housing paid for by the Contractor | E14: provisional sum | F14: 1 | G14: 100000 | H14: 100000
C15: C1.4.1.14 | D15: Contractor's handling costs, profit and all other charges in respect of item C1.4.1.13 | E15: percentage (%) | F15: =G14 -> 100000 | H15: =F15*G15 -> 0
B16: C1.4.2 | D16: Items measured by area
C17: C1.4.2.1 | D17: Shelving as specified, complete with brackets | E17: square metre (m2) | F17: 20
C18: C1.4.2.2 | D18: Work benches with a concrete slab top | E18: square metre (m2) | F18: 25 | H18: =F18*G18 -> 0
C19: C1.4.2.3 | D19: Work-benches with a wooden top | E19: square metre (m2) | F19: 15 | H19: =F19*G19 -> 0
C20: C1.4.2.4 | D20: Constant-temperature baths of concrete and/or plastered brick | E20: square metre (m2) | F20: 20 | H20: =F20*G20 -> 0
C21: C1.4.2.5 | D21: Concrete footings and pedestals for laboratory equipment | E21: square metre (m2) | F21: 10 | H21: =F21*G21 -> 0
B22: C1.4.2 | D22: Items measured by number
C23: C1.4.3.2 | D23: Office chair | E23: number (No.) | F23: 6 | H23: =F23*G23 -> 0
C24: C1.4.3.4 | D24: Laboratory high chair | E24: number (No.) | F24: 3 | H24: =F24*G24 -> 0
C25: C1.4.3.8 | D25: Conference table and chairs (12 seater) | E25: number (No.) | F25: 1 | H25: =F25*G25 -> 0
B26: C1.4.4 | D26: Prime cost items
C27: C1.4.4.5 | D27: The provision of internet connectivity and WiFi data for Engineer’s site staff | E27: prime cost (PC) sum | F27: 1 | G27: 50000 | H27: 50000
C28: C1.4.4.6 | D28: Handling costs and profit in respect of item C1.4.4.5 | E28: percentage (%) | F28: =G27 -> 50000 | H28: =F28*G28 -> 0
B29: C1.4.5 | D29: Services at site offices, laboratories and site accommodation
C30: C1.4.5.1 | D30: Fixed costs | E30: lump sum | F30: 1 | H30: =F30*G30 -> 0
C31: C1.4.5.2 | D31: Running costs | E31: month | F31: 6 | H31: =F31*G31 -> 0
B32: C1.4.7 | D32: Site inspection transport
C33: C1.4.7.1 | D33: Provision of a bus, mini-bus or combi van for site inspection purposes (specify type and size of vehicle) | E33: per day | F33: 12 | H33: =F33*G33 -> 0
B34: C1.4.8 | D34: Site security measures for the Engineer’s facilities
C35: C1.4.8.1 | D35: Supply and installation of all required security measures at the Engineer’s site offices and laboratories | E35: lump sum | F35: 1 | H35: =F35*G35 -> 0
C36: C1.4.8.2 | D36: Provision of security guards / watchmen and an armed response service at the Engineer’s site offices and laboratories | E36: month | F36: 6 | H36: =F36*G36 -> 0
A38: TOTAL CARRIED FORWARD TO SUMMARY | H38: =ROUND(SUM(H6:H36),2) -> 150000

Sheet C1.5
A1: SANRAL N.002-300-2027/1
A2: THE URGENT REPAIR TO EMBANKMENT AND PAVEMENT FAILURE ON THE SOUTH BOUND OF NATIONAL ROUTE 2, SECTION 30 BETWEEN KM 0.80 AND KM 1.20
A4: C1.5 | D4: ACCOMMODATION OF TRAFFIC
A5: ITEM | D5: DESCRIPTION | E5: UNIT | F5: QUANTITY | G5: RATE | H5: AMOUNT
A6: C1.5.2 | D6: Accommodation of vehicular traffic | E6: month | F6: 6 | H6: =F6*G6 -> 0
A7: C1.5.3 | D7: Liaison with traffic authorities | E7: month | F7: 6 | H7: =F7*G7 -> 0
A8: C1.5.7 | D8: Temporary traffic control facilities:
B9: C1.5.7.1 | D9: Delineators including mounting bases and ballast:
C10: a) | D10: Single sided, reversible left or right (size indicated) | E10: number (No.) | F10: 100 | H10: =F10*G10 -> 0
C11: b) | D11: Double sided, reversible left or right (size indicated) | E11: number (No.) | F11: 120 | H11: =F11*G11 -> 0
B12: C1.5.7.2 | D12: Traffic cones, minimum height 750 mm | E12: number (No.) | F12: 60 | H12: =F12*G12 -> 0
B13: C1.5.7.3 | D13: Flagmen | E13: man-shift | F13: =1500*1.5 -> 2250 | H13: =F13*G13 -> 0
B14: C1.5.7.4 | D14: Traffic controllers | E14: man-shift | F14: =500*1.5 -> 750 | H14: =F14*G14 -> 0
B15: C1.5.7.5 | D15: Provision of illuminated traffic signs:
C16: a) | D16: Sign mounted flashing amber lights (2 lights with the specified power supply) mounted on a backing board which is:
C17: (i) | D17: 900 mm wide x 150 mm high | E17: No | F17: 2 | H17: =F17*G17 -> 0
C18: b) | D18: Flashing LED illuminated arrow board | E18: No | F18: 2 | H18: =F18*G18 -> 0
B19: C1.5.7.6 | D19: Maintenance of illuminated traffic signs:
C20: (a) | D20: Sign mounted flashing amber lights (a pair of two lights mounted on a separate backing board) | E20: month | F20: 6 | H20: =F20*G20 -> 0
C21: (b) | D21: Flashing LED illuminated arrow board | E21: month | F21: 6 | H21: =F21*G21 -> 0
B22: C1.5.7.10 | D22: Provision of temporary Traffic control facilities:
C23: C1.5.7.10.1 | D23: R & TR series (1200mm diameter) | E23: number (No.) | F23: 75 | H23: =F23*G23 -> 0
C24: C1.5.7.10.2 | D24: TW series (1200mm sides) | E24: number (No.) | F24: 15 | H24: =F24*G24 -> 0
C25: C1.5.7.10.3 | D25: Mobile variable message sign
C26: (i) | D26: TIN 11-3 (600m) | E26: number (No.) | F26: 10 | H26: =F26*G26 -> 0
C27: (ii) | D27: TIN 11-3 (400m) | E27: number (No.) | F27: 10 | H27: =F27*G27 -> 0
C28: (iii) | D28: TIN 11-3 (200m) | E28: number (No.) | F28: 10 | H28: =F28*G28 -> 0
C29: (iv) | D29: TIN 11-4 (End/Thank you) | E29: number (No.) | F29: 5 | H29: =F29*G29 -> 0
C30: (v) | D30: Portable STOP and GO-RY signs | E30: number (No.) | F30: 5 | H30: =F30*G30 -> 0
C31: (vi) | D31: TIN 11-2 (1km) | E31: number (No.) | F31: 5 | H31: =F31*G31 -> 0
C32: (vii) | D32: TIN 11-2 (4km) | E32: number (No.) | F32: 5 | H32: =F32*G32 -> 0
C33: (viii) | D33: Road signs, STW-, DTG-, TGS- AND TG-series (excluding delineators and barricades) | E33: square metre (m2) | F33: 40 | H33: =F33*G33 -> 0
A34: C1.5.8 | D34: Traffic safety officer, complete with vehicle, Cell phone, labour and any required equipment | E34: man-month | F34: 6 | H34: =F34*G34 -> 0
A35: C1.5.11 | D35: Provision of safety equipment for visitors
B36: C1.5.11.1 | D36: Provision of reflective safety vests for visitors | E36: number (No.) | F36: 5 | H36: =F36*G36 -> 0
B37: C1.5.11.2 | D37: Provision of hard hats for visitors | E37: number (No.) | F37: 5 | H37: =F37*G37 -> 0
B38: PC1.5.13 | D38: Penalties
C39: (a) | D39: Fixed penalty for non compliance for traffic safety requirements per occurrence | E39: number (No.) | F39: 1 | G39: 5000 | H39: rate only
C40: (b) | D40: Time related penalty for PC1.5.13 (a) | E40: hour (h) | F40: 1 | G40: 500 | H40: rate only
C41: C1.5.12.1 | D41: Provision of additional traffic accommodation facilities | E41: Prov. Sum | F41: 1 | G41: 150000 | H41: =F41*G41 -> 150000
...

Sheet C1.6
A1: SANRAL N.002-300-2027/1
A2: THE URGENT REPAIR TO EMBANKMENT AND PAVEMENT FAILURE ON THE SOUTH BOUND OF NATIONAL ROUTE 2, SECTION 30 BETWEEN KM 0.80 AND KM 1.20
A4: C1.6 | D4: CLEARING AND GRUBBING
A5: ITEM | D5: DESCRIPTION | E5: UNIT | F5: QUANTITY | G5: RATE | H5: AMOUNT
A6: C1.6.1 | D6: Clearing
B7: C1.6.1.1 | D7: Clearing with machines and some hand labour where necessary | E7: hectare (ha) | F7: 0.4 | H7: =F7*G7 -> 0
B8: C1.6.1.2 | D8: Clearing with hand labour only when labour enhanced work is specified | E8: hectare (ha) | F8: 0.4 | H8: =F8*G8 -> 0
A9: C1.6.2 | D9: Grubbing
B10: C1.6.2.1 | D10: Grubbing with machines and some hand labour where necessary | E10: hectare (ha) | F10: 0.4 | H10: =F10*G10 -> 0
B11: C1.6.2.2 | D11: Grubbing with hand labour when labour enhancement work is specified or it is not practical to use a machine | E11: hectare (ha) | F11: 0.4 | H11: =F11*G11 -> 0
A12: C1.6.3 | D12: Removal and grubbing of large trees and tree stumps
B13: C1.6.3.1 | D13: Girth equal to or exceeding 1,0m up to and including 2,0m | E13: number (No.) | F13: 10 | H13: =F13*G13 -> 0
B14: C1.6.3.2 | D14: Girth exceeding 2,0m up to and including 3,0m | E14: number (No.) | F14: 2 | H14: =F14*G14 -> 0
A15: C1.6.9 | D15: Conservation of topsoil
B16: C1.6.9.1 | D16: Stockpiling topsoil | E16: cubic metre (m3) | F16: 500 | H16: =F16*G16 -> 0
A17: TOTAL CARRIED FORWARD TO SUMMARY | H17: =ROUND(SUM(H6:H16),2) -> 0

Sheet C1.7
A1: SANRAL N.002-300-2027/1
A2: THE URGENT REPAIR TO EMBANKMENT AND PAVEMENT FAILURE ON THE SOUTH BOUND OF NATIONAL ROUTE 2, SECTION 30 BETWEEN KM 0.80 AND KM 1.20
A4: C1.7 | D4: LOADING AND HAULING
A5: ITEM | D5: DESCRIPTION | E5: UNIT | F5: QUANTITY | G5: RATE | H5: AMOUNT
A6: C1.7.1 | D6: Loading
B7: C1.7.1.1 | D7: Loading from stockpile using machines and some hand labour where necessary | E7: cubic metre (m3) | F7: 500 | H7: =F7*G7 -> 0
A8: C1.7.2 | D8: Hauling
B9: C1.7.2.2 | D9: Hauling material to spoil and off-loading it at a designated spoil or stockpile area:
C10: (a) | D10: Cleared and grubbed material (organic matter and all other unsuitable waste material) | E10: cubic metre - kilometre (m3 - km) | F10: 4000 | H10: =F10*G10 -> 0
C11: (b) | D11: Soil and gravel material | E11: cubic metre - kilometre (m3 - km) | F11: 1000 | H11: =F11*G11 -> 0
A12: TOTAL CARRIED FORWARD TO SUMMARY | H12: =ROUND(SUM(H6:H11),2) -> 0

Sheet C2.1
A1: SANRAL N.002-300-2027/1
A2: THE URGENT REPAIR TO EMBANKMENT AND PAVEMENT FAILURE ON THE SOUTH BOUND OF NATIONAL ROUTE 2, SECTION 30 BETWEEN KM 0.80 AND KM 1.20
A4: C2.1 | D4: GENERAL REQUIREMENTS AND TRENCHING FOR SERVICES
A5: ITEM | D5: DESCRIPTION | E5: UNIT | F5: QUANTITY | G5: RATE | H5: AMOUNT
A6: C2.1.1 | D6: Location, identification, protection and relocation of existing services
B7: C2.1.1.1 | D7: Contractor’s obligations | E7: lump sum | F7: 1 | H7: =F7*G7 -> 0
B8: C2.1.1.2 | D8: Permanent services relocation or protection work by others | E8: prime cost (PC) sum | F8: 1 | G8: 100000 | H8: =F8*G8 -> 100000
B9: C2.1.1.3 | D9: Handling costs and profit in respect of item C2.1.1.2 above | E9: percentage (%) | F9: =H8 -> 100000 | H9: =F9*G9 -> 0
B10: C2.1.1.4 | D10: Permanent services relocation or protection work by the Contractor | E10: Prov. Sum | F10: 1 | G10: 100000 | H10: =F10*G10 -> 100000
B11: C2.1.1.5 | D11: Handling costs and profit in respect of item C2.1.1.3 above | E11: percentage (%) | F11: =H10 -> 100000 | H11: =F11*G11 -> 0
A12: C2.1.2 | D12: Existing services location, detection and verification
B13: C2.1.2.1 | D13: Using specialist detection services (ground penetrating radar, radio detection etc.) | E13: prime cost (PC) sum | F13: 1 | G13: 100000 | H13: =F13*G13 -> 100000
B14: C2.1.2.2 | D14: Handling costs and profit in respect of item C2.1.2.1 above | E14: percentage (%) | F14: =H13 -> 100000 | H14: =F14*G14 -> 0
B15: C2.1,2.5 | D15: Using hand excavation to locate, expose and verify services | E15: cubic metre (m3) | F15: 50 | H15: =F15*G15 -> 0
A16: C2.1.23 | D16: Reinstatement of trenches in existing surfaced roads using
B17: C2.1.23.1 | D17: Sand from commercial sources | E17: cubic metre (m3) | F17: 30 | H17: =F17*G17 -> 0
A20: TOTAL CARRIED FORWARD TO SUMMARY | H20: =ROUND(SUM(H6:H17),2) -> 300000

Sheet C3.1
A1: SANRAL N.002-300-2027/1
A2: THE URGENT REPAIR TO EMBANKMENT AND PAVEMENT FAILURE ON THE SOUTH BOUND OF NATIONAL ROUTE 2, SECTION 30 BETWEEN KM 0.80 AND KM 1.20
A4: C3.1 | D4: EXISTING ROAD MATERIALS
A5: ITEM | D5: DESCRIPTION | E5: UNIT | F5: QUANTITY | G5: RATE | H5: AMOUNT
A6: C3.1.1 | D6: Excacating all material situated within the following depth ranges below the surface level using conventional methods:
B7: C3.1.1.1 | D7: 0m to 1,5m | E7: (m3) | F7: 100 | H7: =F7*G7 -> 0
A8: TOTAL CARRIED FORWARD TO SUMMARY | H8: =SUM(H6:H7) -> 0

Sheet C3.2
A1: SANRAL N.002-300-2027/1
A2: THE URGENT REPAIR TO EMBANKMENT AND PAVEMENT FAILURE ON THE SOUTH BOUND OF NATIONAL ROUTE 2, SECTION 30 BETWEEN KM 0.80 AND KM 1.20
A4: C3.2 | D4: CULVERTS
A5: ITEM | D5: DESCRIPTION | E5: UNIT | F5: QUANTITY | G5: RATE | H5: AMOUNT
A6: C3.2.4 | D6: Metal and U-PVC culverts:
B7: C3.2.4.1 | D7: 300mm dia, normal duty (100kPa pipe stiffness), unplastisized PVC pipe | E7: metre (m) | F7: 60 | H7: =F7*G7 -> 0
B8: C3.2.4.3 | D8: Anchor bolts (20mm Ø Bar- 4 Galvanized Anchor Bolt) | E8: number (No.) | F8: 12 | H8: =F8*G8 -> 0
A9: C3.2.7 | D9: Cast in situ concrete and formwork:
B10: C3.2.7.1 | D10: In Class A bedding, screeds, concrete backfill and the encasing for pipes, including formwork (Class C24/30-20 concrete) | E10: cubic metre (m3) | F10: 5 | H10: =F10*G10 -> 0
B11: C3.2.7.5 | D11: In inlet and outlet structures including kerbs, chutes and downpipes, skewed ends, catchpits, manholes, thrust and anchor blocks, excluding formwork but including Class U2 surfacing finish (Class C24/30-20 concrete) | E11: cubic metre (m3) | F11: 30 | H11: =F11*G11 -> 0
B12: C3.2.7.6 | D12: Formwork of concrete under items C3.2.7.3 to 5 above (Class C24/30-20 concrete) | E12: square metre (m2) | F12: 55 | H12: =F12*G12 -> 0
C14: (a) | D14: Vertical formwork for F1 surface finish | E14: square metre (m2) | F14: 55 | H14: =F14*G14 -> 0
C15: (b) | D15: Vertical formwork for F2 surface finish | E15: square metre (m2) | F15: 55 | H15: =F15*G15 -> 0
A16: C3.2.12 | D16: Demolition of concrete members or elements:
B17: C3.2.12.1 | D17: Full member or element (location and description) | E17: cubic metre (m3) | F17: 2 | H17: =F17*G17 -> 0
A18: C3.2.24 | D18: Compaction of bedding for inlets, outlets, manholes and catchpits:
B19: C3.2.24.1 | D19: Preparation and compaction of in situ bedding material to 90% of MDD (75mm) | E19: cubic metre (m3) | F19: 10 | H19: =F19*G19 -> 0
B20: C3.2.24.2 | D20: Extra-over sub-item C3.2.24.1 for compaction to 93% of MDD (75mm) | E20: cubic metre (m3) | F20: 5 | H20: =F20*G20 -> 0
A21: TOTAL CARRIED FORWARD TO SUMMARY | H21: =SUM(H6:H20) -> 0

Sheet C3.3
A1: SANRAL N.002-300-2027/1
A2: THE URGENT REPAIR TO EMBANKMENT AND PAVEMENT FAILURE ON THE SOUTH BOUND OF NATIONAL ROUTE 2, SECTION 30 BETWEEN KM 0.80 AND KM 1.20
A4: C3.3 | D4: CONCRETE KERBING AND CHANNELING, ASPHALT BERMS, CHUTES, DOWNPIPES, AS WELL AS CONCRETE, STONE PITCHED AND GABION LININGS FOR OPEN DRAINS
A5: ITEM | D5: DESCRIPTION | E5: UNIT | F5: QUANTITY | G5: RATE | H5: AMOUNT
A6: C3.3.2 | D6: Concrete kerbing-channeling combination
B7: C3.3.2.1 | D7: Prefabricated kerbing-channeling (Cast Insitu Channel as per drawing No. 2023_02_ST_10)
C8: (a) | D8: Prefabricated kerbing-channel (Precast Fig 7 kerb with a 300mm wide cast insitu channel class C25/30-20 | E8: metre (m) | F8: 350 | H8: =F8*G8 -> 0
A9: C3.3.6 | D9: Chutes (typical designs):
A10: PC 3.3.6.4 | D10: 300mm diameter UPVC Downpipes for side inlet ((Prefabricated concrete chutes as per drawing No. STD2) | E10: metre (m) | F10: 64 | H10: =F10*G10 -> 0
A11: C3.3.7 | D11: Cast in situ concrete chutes (measured by components):
B12: C3.3.7.1 | D12: Concrete (30MPa) | E12: m3 | F12: 60 | H12: =F12*G12 -> 0
B13: C3.3.7.2 | D13: Formwork (surface finish indicated) | E13: m2 | F13: 15 | H13: =F13*G13 -> 0
A14: C3.3.8 | D14: Linings for open drains:
B15: C3.3.8.3 | D15: Stone pitched lining (200mm thickness)
C16: (a) | D16: Grouted stone pitching (Type E) | E16: square metre (m2) | F16: 350 | H16: =F16*G16 -> 0
A17: C3.3.10 | D17: Sealed joints in concrete and stone pitched linings of open drains ) | E17: metre (m) | F17: 150 | H17: =F17*G17 -> 0
A18: C3.3.12 | D18: Reinforcement:
B19: C3.3.12.1 | D19: Mild steel bars | E19: ton (t) | F19: 0.5 | H19: =F19*G19 -> 0
B20: C3.3.12.3 | D20: Welded steel fabric | E20: kilogram (kg) | F20: 400 | H20: =F20*G20 -> 0
A21: C3.3.15 | D21: Energy dissipaters in outlet structures
B22: C3.3.15.1 | D22: Precast concrete blocks in outlet structures (Precast concrete blocks in outlet structures as per drawing No. 2023_02_ST_10) | E22: number (No.) | F22: 10 | H22: =F22*G22 -> 0
A23: C3.3.16 | D23: Demolition and removal of existing kerbs and/or channel (as per existing drainage structure) | E23: cubic metre (m3) | F23: 100 | H23: =F23*G23 -> 0
A24: TOTAL CARRIED FORWARD TO SUMMARY | H24: =ROUND(SUM(H6:H22),2) -> 0

Sheet C4.2
A1: SANRAL N.002-300-2027/1
A2: THE URGENT REPAIR TO EMBANKMENT AND PAVEMENT FAILURE ON THE SOUTH BOUND OF NATIONAL ROUTE 2, SECTION 30 BETWEEN KM 0.80 AND KM 1.20
A4: C4.2 | D4: CUT MATERIALS
A5: ITEM | D5: DESCRIPTION | E5: UNIT | F5: QUANTITY | G5: RATE | H5: AMOUNT
A8: C4.2.8 | D8: Excavate material to spoil in sites designated by the Employer, material obtained from
B9: C4.2.8.1 | D9: Soft excavation, overburden and unsuitable material | E9: cubic metre (m3) | F9: 610 | H9: =F9*G9 -> 0
A10: TOTAL CARRIED FORWARD TO SUMMARY | H10: =SUM(H8:H9) -> 0

Sheet C4.3
A1: SANRAL N.002-300-2027/1
A2: THE URGENT REPAIR TO EMBANKMENT AND PAVEMENT FAILURE ON THE SOUTH BOUND OF NATIONAL ROUTE 2, SECTION 30 BETWEEN KM 0.80 AND KM 1.20
A4: C4.3 | D4: EXISTING ROAD MATERIALS
A5: ITEM | D5: DESCRIPTION | E5: UNIT | F5: QUANTITY | G5: RATE | H5: AMOUNT
A6: C4.3.6 | D6: Milling and removal of existing asphalt layers with an average milling depth (Contractor takes ownership)
B7: C4.3.6.1 | D7: Not exceeding 50mm | E7: (m3) | F7: =300*3.7*0.05 -> 55.5 | H7: =F7*G7 -> 0
A8: TOTAL CARRIED FORWARD TO SUMMARY | H8: =SUM(H6:H7) -> 0

Sheet C5.2
A1: SANRAL N.002-300-2027/1
A2: THE URGENT REPAIR TO EMBANKMENT AND PAVEMENT FAILURE ON THE SOUTH BOUND OF NATIONAL ROUTE 2, SECTION 30 BETWEEN KM 0.80 AND KM 1.20
A4: C5.2 | D4: FILL
A5: ITEM | D5: DESCRIPTION | E5: UNIT | F5: QUANTITY | G5: RATE | H5: AMOUNT
A6: C5.2.2 | D6: Fill construction:
B7: C5.2.2.2 | D7: Coarse fill material in compacted layer thicknesses exceeding 200 mm but less than 500mm:
C8: (b) | D8: Compacted to 93% of MDD | E8: cubic metre (m3) | F8: 330 | H8: =F8*G8 -> 0
A9: TOTAL CARRIED FORWARD TO SUMMARY | H9: =SUM(H6:H8) -> 0

Sheet C11.4
A1: SANRAL N.002-300-2027/1
A2: THE URGENT REPAIR TO EMBANKMENT AND PAVEMENT FAILURE ON THE SOUTH BOUND OF NATIONAL ROUTE 2, SECTION 30 BETWEEN KM 0.80 AND KM 1.20
A4: C11.4 | D4: ROAD RESTRAINT SYSTEMS
A5: ITEM | D5: DESCRIPTION | E5: UNIT | F5: QUANTITY | G5: RATE | H5: AMOUNT
A6: C11.4.6 | D6: Reflective plates
B7: C11.4.6.1 | D7: Steel plates | E7: number (No.) | F7: 65 | H7: =F7*G7 -> 0
A8: C11.4.7 | D8: Removing existing guardrails: | E8: metre (m) | F8: 350 | H8: =F8*G8 -> 0
A9: C11.4.9 | D9: Re-erection of guardrails with recovered or provided material:
B10: C11.4.9.1 | D10: Single guardrail | E10: metre (m) | F10: 50 | H10: =F10*G10 -> 0
A11: C11.4.11 | D11: New material required for the re-erection guardrails with recovered materials:
B12: C11.4.11.1 | D12: Guardrails, 3,81m compliant to SANS 1350 | E12: number (No.) | F12: 350 | H12: =F12*G12 -> 0
B13: C11.4.11.2 | D13: Timber posts compliant to SANS 457 | E13: number (No.) | F13: 100 | H13: =F13*G13 -> 0
B14: C11.4.11.4 | D14: Reflective plates | E14: number (No.) | F14: 100 | H14: =F14*G14 -> 0
B15: C11.4.11.5 | D15: Spacer blocks compliant to SANS 457 | E15: number (No.) | F15: 100 | H15: =F15*G15 -> 0
B16: C11.4.11.6 | D16: Splice bolt complete with nut and washer compliant to SANS 1350 | E16: number (No.) | F16: 100 | H16: =F16*G16 -> 0
B17: C11.4.11.7 | D17: Post bolt complete with nut and washer compliant to SANS 1350 | E17: number (No.) | F17: 100 | H17: =F17*G17 -> 0
A18: TOTAL CARRIED FORWARD TO SUMMARY | H18: =ROUND(SUM(H6:H17),2) -> 0

Sheet C11.6
A1: SANRAL N.002-300-2027/1
A2: THE URGENT REPAIR TO EMBANKMENT AND PAVEMENT FAILURE ON THE SOUTH BOUND OF NATIONAL ROUTE 2, SECTION 30 BETWEEN KM 0.80 AND KM 1.20
A4: C11.6 | D4: ROAD SIGNS
A5: ITEM | D5: DESCRIPTION | E5: UNIT | F5: QUANTITY | G5: RATE | H5: AMOUNT
A6: C11.6.3 | D6: Road sign supports (overhead road sign structures excluded):
B7: C11.6.3.1 | D7: Steel tubing (diameter and wall thickness indicated) | E7: ton (t) | F7: 0.05 | H7: =F7*G7 -> 0
A8: C11.6.5 | D8: Excavation and backfilling for road sign supports (not applicable to kilometre posts)
B9: C11.6.5.1 | D9: Excavating soft material and backfilling | E9: cubic metre (m3) | F9: 2 | H9: =F9*G9 -> 0
A10: C11.6.8 | D10: Danger plates at culverts/structures
B11: C11.6.8.1 | D11: Size 150 x 600mm (steel post and Class I) | E11: number (No.) | F11: 10 | H11: =F11*G11 -> 0
A12: TOTAL CARRIED FORWARD TO SUMMARY | H12: =SUM(H6:H11) -> 0

Sheet C11.8
A1: SANRAL N.002-300-2027/1
A2: THE URGENT REPAIR TO EMBANKMENT AND PAVEMENT FAILURE ON THE SOUTH BOUND OF NATIONAL ROUTE 2, SECTION 30 BETWEEN KM 0.80 AND KM 1.20
A4: C11.8 | D4: LANDSCAPING AND PLANTING PLANTS
A5: ITEM | D5: DESCRIPTION | E5: UNIT | F5: QUANTITY | G5: RATE | H5: AMOUNT
A6: C11.8.1 | D6: Trimming:
B7: C11.8.1.1 | D7: Machine trimming | E7: square metre (m2) | F7: 3500 | H7: =F7*G7 -> 0
B8: C11.8.1.2 | D8: Hand trimming | E8: square metre (m2) | F8: 1000 | H8: =F8*G8 -> 0
A9: C11.8.3 | D9: Preparing the areas for grassing:
B10: C11.8.3.3 | D10: Topsoiling within the road reserve where the following materials are used
C11: (a) | D11: Topsoil obtained from within the road reserve or borrow areas | E11: cubic metre (m3) | F11: 780 | H11: =F11*G11 -> 0
A12: C11.8.4 | D12: Grassing
B13: C11.8.4.1 | D13: The planting of grass cuttings (Vetiver grass - Chrysopogon zizanioides) | E13: hectare (ha) | F13: 0.5 | H13: =F13*G13 -> 0
A14: C11.8.5 | D14: Watering the grass when established by topsoiling only | E14: kilolitre (kℓ) | F14: 100 | H14: =F14*G14 -> 0
A15: TOTAL CARRIED FORWARD TO SUMMARY | H15: =ROUND(SUM(H6:H14),2) -> 0

Sheet C12.2
A1: SANRAL N.002-300-2027/1
A2: THE URGENT REPAIR TO EMBANKMENT AND PAVEMENT FAILURE ON THE SOUTH BOUND OF NATIONAL ROUTE 2, SECTION 30 BETWEEN KM 0.80 AND KM 1.20
A4: C12.2 | D4: GROUND ANCHORS
A5: ITEM | D5: DESCRIPTION | E5: UNIT | F5: QUANTITY | G5: RATE | H5: AMOUNT
A6: C12.2.13 | D6: Establishment on the site for drilling of soil nails | E6: lump sum | F6: 1 | H6: =G6*F6 -> 0
A7: C12.2.14 | D7: Move to and set up at each soil nail position | E7: number (No.) | F7: 360 | H7: =F7*G7 -> 0
A8: C12.2.15 | D8: Install, grout and protect soil nails: fully grouted, threaded bar of minimum characteristic strength 500MPa to SANS920, galvanised & passivated, with plate, nut, connection bolts, spider, grout pipes, spacers, etc. COMPLETE - as indicated on drawings
C9: a) | D9: 6.0m long, 25mm diameter bar | E9: number (No.) | F9: 180 | H9: =F9*G9 -> 0
C10: a) | D10: 9.0m long, 25mm diameter bar | E10: number (No.) | F10: 180 | H10: =F10*G10 -> 0
A11: PC12.2.20 | D11: Pull out tests
C12: a) | D12: for soil nail (including anchor "pad"; reinforcement, shotcrete, and complete installation set with nail, grout, spider, bearing plate, nut, grout pipes and testing there-of) | E12: number (No.) | F12: 3 | H12: =F12*G12 -> 0
A13: TOTAL CARRIED FORWARD TO SUMMARY | H13: =ROUND(SUM(H6:H12),2) -> 0

Sheet C12.3
A2: SANRAL N.002-300-2027/1
A3: THE URGENT REPAIR TO EMBANKMENT AND PAVEMENT FAILURE ON THE SOUTH BOUND OF NATIONAL ROUTE 2, SECTION 30 BETWEEN KM 0.80 AND KM 1.20
A4: C12.3 | C4: GROUND IMPROVEMENT
A5: ITEM | C5: DESCRIPTION | D5: UNIT | E5: QUANTITY | F5: RATE | G5: AMOUNT
A6: PC12.3.25 | C6: Supply and placement of HDPE Geocell 150mm high, suitable for use on a 35 deg slope INCLUSIVE of growing medium | D6: square metre (m2) | E6: 3000 | G6: =E6*F6 -> 0
A7: TOTAL CARRIED FORWARD TO SUMMARY | G7: =SUM(G6:G6) -> 0

Sheet C12.6
A1: SANRAL N.002-300-2027/1
A2: THE URGENT REPAIR TO EMBANKMENT AND PAVEMENT FAILURE ON THE SOUTH BOUND OF NATIONAL ROUTE 2, SECTION 30 BETWEEN KM 0.80 AND KM 1.20
A4: C12.6 | D4: MECHANICALLY STABILISED EARTH AND GABIONS
A5: ITEM | D5: DESCRIPTION | E5: UNIT | F5: QUANTITY | G5: RATE | H5: AMOUNT
A6: C12.6.1 | D6: Establishment on site for MSE | E6: lump sum | F6: 1 | H6: =F6*G6 -> 0
A7: C12.6.2 | D7: Excavation for wall base foundation | E7: cubic metre (m3) | F7: 300 | H7: =F7*G7 -> 0
A8: C12.6.11 | D8: Backfill
C9: (a) | D9: G7 engineered fill, compacted to 93% Mod. AASHTO | E9: cubic metre (m3) | F9: 430 | H9: =F9*G9 -> 0
C10: (b) | D10: General fill for soil nail drilling platforms | E10: cubic metre (m3) | F10: 1000 | H10: =F10*G10 -> 0
A11: C12.6.15 | D11: Surface preparation for bedding the gabions | E11: square metre (m2) | F11: 560 | H11: =F11*G11 -> 0
A12: C12.6.16 | D12: Gabions and mattresses:
B13: C12.6.16.1 | D13: Galvanised with PVC coating gabion boxes (3.0x1.0x1.0m) | E13: cubic metre (m3) | F13: 800 | H13: =F13*G13 -> 0
A14: C12.6.17 | D14: Geotextile (Non-woven needle punched, min. 2.5kN puncture resistance) | E14: square metre (m2) | F14: 1650 | H14: =F14*G14 -> 0
A15: PC12.6.18 | D15: Geotechnical Investigation | E15: Prov. Sum | F15: 1 | G15: 500000 | H15: =F15*G15 -> 500000
B16: C12.8.18.1 | D16: Handling costs and profit in respect of item C12.6.18 above | E16: percentage (%) | F16: =G15 -> 500000 | H16: =F16*G16 -> 0
A17: PC12.6/C5.1.3 | D17: Excavate material to spoil sites designated by the Contractor
B18: PC12.6/C5.1.3.1 | D18: Excavate material to spoil from roadbed construction, material obtained from:
C19: (a) | D19: Soft excavation | E19: cubic metre (m3) | F19: 330 | H19: =F19*G19 -> 0
A20: TOTAL CARRIED FORWARD TO SUMMARY | H20: =ROUND(SUM(H6:H19),2) -> 500000

Sheet C20.1
A1: SANRAL N.002-300-2027/1
A2: THE URGENT REPAIR TO EMBANKMENT AND PAVEMENT FAILURE ON THE SOUTH BOUND OF NATIONAL ROUTE 2, SECTION 30 BETWEEN KM 0.80 AND KM 1.20
A4: C20.1 | D4: TESTING MATERIALS AND JUDGEMENT OF WORKMANSHIP
A5: C20.1.2 | D5: Special tests required by the Engineer
B6: C20.1.2.2 | D6: Employer’s contribution to other special tests
C7: (a) | D7: Non-destructive concrete tests as required by the Engineer | E7: prime cost (PC) sum | F7: 1 | G7: 100000 | H7: =F7*G7 -> 100000
C8: (i) | D8: Handling costs and profit in respect of item C20.1.2.2(a) | E8: percentage (%) | F8: =H7 -> 100000 | H8: =F8*G8 -> 0
A9: PC20.1.5 | D9: Financial contribution for an independent commercial laboratory (TO BE A NEGATIVE RATE) | E9: month | F9: 6 | H9: =-F9*G9 -> 0
A10: PC20.1.6 | D10: Direct payment by contractor | E10: PC Sum | F10: 1 | G10: 250000 | H10: =F10*G10 -> 250000
A11: C20.1.6.1 | D11: Handling cost and profit in respect of item C20.1.6.1 | E11: % | F11: =G10 -> 250000 | H11: =F11*G11 -> 0
A12: TOTAL CARRIED FORWARD TO SUMMARY | H12: =ROUND(SUM(H4:H11),2) -> 350000

Sheet D1000
A1: SANRAL N.002-300-2027/1
A2: THE URGENT REPAIR TO EMBANKMENT AND PAVEMENT FAILURE ON THE SOUTH BOUND OF NATIONAL ROUTE 2, SECTION 30 BETWEEN KM 0.80 AND KM 1.20
A4: D1000 | D4: STAKEHOLDER AND COMMUNITY LIAISON, AND TARGETED LABOUR AND TARGETED ENTERPRISES UTILISATION AND DEVELOPMENT
A5: D10.02 | D5: Stakeholder and Community Liaison and Social Facilitation
B6: D10.02 | C6: (a) | D6: Cost of liaison, social facilitation and PLC support | E6: prime cost (PC) sum | F6: 1 | G6: 50000 | H6: =F6*G6 -> 50000
B7: D10.02 | C7: (b) | D7: Handling cost and profit in respect of sub-item D10.02(a) | E7: percentage (%) | F7: =H6 -> 50000 | H7: =F7*G7 -> 0
A8: D10.04 | D8: Responsibilities of the Contractor towards Targeted Enterprises
B9: D10.04 | C9: (a) | D9: Contractor’s establishment, management, management support, assistance, coaching, guidance, mentoring and supervision of Targeted Enterprises | E9: month | F9: 6 | H9: =F9*G9 -> 0
B10: D10.04 | C10: (b) | D10: Targeted Enterprise Construction Manager | E10: Person.Month | F10: 6 | H10: =F10*G10 -> 0
B11: D10.04 | C11: (c) | D11: Targeted Enterprise Site Supervisors | E11: Person.Month | F11: 6 | H11: =F11*G11 -> 0
A12: D10.05 | D12: Construction Works by Targeted Enterprises
B13: D10.05(c) | C13: (c) | D13: Fluctuation between the main contractor’s rates and that of the Targeted Enterprise subcontractors | E13: lump sum | F13: 1 | H13: =F13*G13 -> 0
B14: D10.05(d) | C14: (d) | D14: Preliminary and General Obligations of Targeted Enterprise sub-contractors appointed in terms of Section D of the Specifications | E14: lump sum | F14: 1 | H14: =F14*G14 -> 0
A15: D10.07 | D15: Utilisation of updated Section D during contract implementation
B16: D10.07 | C16: (a) | D16: Payments associated with the utilisation, as part of contract amendment, of Section D during contract implementation. | E16: Prov. Sum | F16: 1 | G16: 150000 | H16: =F16*G16 -> 150000
B17: D10.02 | C17: (b) | D17: Handling cost and profit in respect of sub-item D10.07(a) | E17: percentage (%) | F17: =H16 -> 150000 | H17: =F17*G17 -> 0
A19: TOTAL CARRIED FORWARD TO SUMMARY | H19: =ROUND(SUM(H6:H18),2) -> 200000

Sheet Summary of Pricing
A1: SANRAL N.002-300-2027/1
A2: THE URGENT REPAIR TO EMBANKMENT AND PAVEMENT FAILURE ON THE SOUTH BOUND OF NATIONAL ROUTE 2, SECTION 30 BETWEEN KM 0.80 AND KM 1.20
A4: SUMMARY OF PRICING SCHEDULE
A6: GENERAL
A7: C1.2 | B7: GENERAL REQUIREMENTS AND PROVISIONS | C7: ='C1.2'!H35 -> 850000
A8: C1.3 | B8: CONTRACTOR’S SITE ESTABLISHMENT AND GENERAL OBLIGATIONS | C8: ='C1.3'!H14 -> 0
A9: C1.4 | B9: FACILITIES OF ENGINEER | C9: ='C1.4'!H38 -> 150000
A10: C1.5 | B10: ACCOMMODATION OF TRAFFIC | C10: ='C1.5'!H53 -> 150000
A11: C1.6 | B11: CLEARING AND GRUBBING | C11: ='C1.6'!H17 -> 0
A12: C1.7 | B12: LOADING AND HAULING | C12: ='C1.7'!H12 -> 0
C13: =SUM(C7:C12) -> 1150000
A15: SERVICES
A16: C2.1 | B16: GENERAL REQUIREMENTS AND TRENCHING FOR SERVICES | C16: ='C2.1'!H20 -> 300000
C17: ='C2.1'!H20 -> 300000
A19: DRAINAGE
A20: C3.1 | B20: DRAINS | C20: ='C3.1'!H8 -> 0
A21: C3.2 | B21: CULVERTS | C21: ='C3.2'!H21 -> 0
A22: C3.3 | B22: CONCRETE KERBING AND CHANNELING, ASPHALT BERMS, CHUTES, DOWNPIPES, AS WELL AS CONCRETE, STONE PITCHED AND GABION LININGS FOR OPEN DRAINS | C22: ='C3.3'!H24 -> 0
C23: =SUM(C20:C22) -> 0
A25: EARTHWORKS AND PAVEMENT LAYERS MATERIALS
A26: C4.2 | B26: CUT MATERIALS | C26: ='C4.2'!H10 -> 0
A27: C4.3 | B27: EXISTING ROAD MATERIALS | C27: ='C4.3'!H8 -> 0
C28: =SUM(C26:C27) -> 0
A29: EARTHWORKS AND PAVEMENT LAYERS CONSTRUCTION
A30: C5.2 | B30: FILL | C30: ='C5.2'!H9 -> 0
C31: =SUM(C30) -> 0
A32: ANCILLIARY ROAD WORKS
A33: C11.4 | B33: ROAD RESTRAINT SYSTEMS | C33: ='C11.4'!H18 -> 0
A34: C11.6 | B34: ROAD SIGNS | C34: ='C11.6'!H12 -> 0
A35: C11.8 | B35: LANDSCAPING AND PLANTING PLANTS | C35: ='C11.8'!H15 -> 0
C36: =SUM(C33:C35) -> 0
A38: GEOTECHNICAL
A39: C12.2 | B39: GROUND ANCHORS | C39: ='C12.2'!H13 -> 0
A40: C12.3 | B40: GROUND IMPROVEMENT | C40: ='C12.3'!G7 -> 0
A41: C12.6 | B41: MECHANICALLY STABILISED EARTH WALLS AND GABIONS | C41: ='C12.6'!H20 -> 500000
C42: =SUM(C39:C41) -> 500000
A43: TESTING MATERIALS AND JUDGEMENT OF WORKMANSHIP
A44: C20.1 | B44: TESTING AND MATERIAL JUDGEMENT | C44: ='C20.1'!H12 -> 350000
C45: =SUM(C44) -> 350000
A47: STAKEHOLDER AND COMMUNITY LIAISON, AND TARGETED LABOUR AND TARGETED ENTERPRISES UTILISATION AND DEVELOPMENT
...
