Workbook
Name Priority: [1]Config!$E$3:$E$9
Name Priority: [2]Config!$E$3:$E$9

Sheet Response Guidlines
B2: Tenderer to take note of the following key instructions:
B5: Technical Evaluation Guidelines
B7: * | C7: Complete ALL the worksheets listed below.
C8: Scoring Summary (Gatekeeper questions)
C9: Key Requirements
C10: Project Management
C11: Functional - VW and CET | D11: Respond to CET, Virtual Wheeling or both.
C12: Non-Functional
C13: Security
C14: Architecture
C15: Cloud
C16: Demonstration - VW and CET
B18: *
B22: Reference Information
B24: * | C24: Definitions and Abbreviations | D24: Provides information on the definitions and abbreviations used in the Evaluation workbook.
C71: Data Ranges
C72: Gatekeeper drop down
C73: Pass
C74: Fail
C76: Summary highlight based on GK response
C80: Priority Rating
C81: 0 | D81: No interest
C82: 1 | D82: Nice to have
C83: 2 | D83: Useful
C84: 3 | D84: Important
C85: 4 | D85: Very important
C86: 5 | D86: Critical
C87: 6 | D87: Show stopper
C90: Weight calculation formula
C91: Divide by | D91: category weight
C92: 1 | D92: 1
C93: 1.010101 | D93: 0.99
C94: 1.0204082 | D94: 0.98
C95: 1.0309278 | D95: 0.97
C96: 1.0416667 | D96: 0.96
C97: 1.0526316 | D97: 0.95
C98: 1.0638298 | D98: 0.94
C99: 1.0752688 | D99: 0.93
C100: 1.0869565 | D100: 0.92
C101: 1.0989011 | D101: 0.91
...

Sheet Gate keepers
A1: Gatekeepers by nature should be utilised in instances where there is a need to comply with legislative requirements, or when the project risk analysis highlights that the absence of compliance to certain requirements, would lead to the delivery of non-compliant goods/equipment/services.
A3: Gatekeepers should not be utilised as a mechanism to unfairly limit competition or disqualify competent suppliers - Section 217 of the Constitution of the Republic of South Africa states that: “where State Organs contract for goods or services they must do so in accordance with the system, which is: “Fair, Equitable, Transparent, Competitive and Cost effective”.”
A5: As part of Group IT’s “Tender Cancellation Reduction Strategy”, the use of Mandatory Requirements/Gatekeepers needs to be applied in line with Section 217 of the Constitution of the Republic of South Africa.
A7: Eskom Procurement and Supply Chain Management Procedure, Unique Identifier: 32-1034 provides the following guidelines with regards to how Mandatory Requirements/Gatekeepers are to be utilised:
A9: “F.4 Mandatory Requirements
A10: The Procurement Practitioner, together with the CFT, would have discussed and agreed the mandatory requirements to be applied to the evaluation of tenders during the procurement strategy and planning phase. These requirements (if any), and the supporting documents required to verify the tenderer’s compliance, should be listed and where applicable, attached in the enquiry for completion.
A11: Due to the compulsory nature of mandatory requirements, Procurement Practitioners are cautioned against including too many mandatory requirements, as this may result in the disqualification of all tenders and a re-issuing of the enquiry. A condition should also be added to the enquiry, stating that these are “must meet” criteria i.e., they must be met in order to successfully qualify for further evaluation or award.”
A13: With immediate effect, Group IT stakeholders need to ensure that all Mandatory Requirements/Gatekeepers are fairly applied and are in line with legislative requirements.

Sheet Scoring Summary
B2: Tender Number: | C2: <insert before tender publication> | E2: Eskom Group IT: Technical Evaluation Criteria Scoring Summary
B3: Transaction Description: | C3: IT00641 Dx Commercial Energy Trader (Dx CET)
B4: Technical Threshold: | C4: 0.7
B5: Evaluated Tenderer's Registered Name: | C5: <Evaluator to complete>
B6: Evaluator Name and Surname: | C6: <Evaluator to complete>
B7: Date of Evaluation | C7: <Evaluator to complete>
B8: Evaluator Signature
A10: Gatekeeper Requirements: | C10: Mandatory Returnables - Evidence below to be provided in the technical file and numbered to align with each criteria question. | D10: Vendor Response: Vendor to provide answer the questions below and provide detail in their tender submission | E10: Vendor Evidence: Location of Supporting Document/Info (state the file number, section & page number) | F10: Vendor Comments: Vendor to indicate any deviation or exception from the business requirement. | G10: Scoring Options | H10: Evaluators Response | K10: Evaluator comments
A11: 1 | B11: Eskom requires the vendor to be a certified solution installer / implementor / partner for the proposed solution. | C11: In your technical response provide a certificate or OEM letter as evidence that your company is an accredited solution installer / implementor / partner for the proposed solution.
A12: 2
B14: Note: Tenderers who do not meet the gatekeeper requirements will be disqualified and not move to the Desktop evaluations.
C16: Desktop Evaluation Scoring summary | H16: Note: Tenderers who do not meet the minimum threshold of 70% for Desktop Evaluation will be disqualified and will not proceed to the Technical Demonstration evaluations.
C17: Evaluation Categories | D17: Weight | E17: Threshold | F17: Score
C18: Key Requirements | D18: 0.15 | F18: ='Key Requirements'!L43 -> 0
C19: Functional - VW | D19: 0.2 | F19: ='Functional - VW'!M78 -> 0
C20: Functional - CET | D20: 0.2 | F20: ='Functional - CET'!O58 -> 0
C21: Non-Functional | D21: 0.1 | F21: ='Non-Functional'!M83 -> 0
C22: Security | D22: 0.1 | F22: =Security!L54 -> 0
C23: Architecture | D23: 0.1 | F23: =Architecture!L51 -> 0
C24: Cloud | D24: 0.1 | F24: =Cloud!M89 -> 0
C25: Project Management | D25: 0.05 | F25: ='Project Management'!L23 -> 0
C26: Total | D26: =SUM(D18:D25) -> 1 | E26: 0.7 | F26: =SUM(F18:F25) -> 0
C28: Demonstration Scoring summary | H28: Note: Tenderers who do not meet the minimum threshold of 60% for the Technical Demonstration will be disqualified and will not proceed to the next stage of evaluation
C29: Demonstration | D29: Weight | E29: Threshold | F29: Score
C30: Demonstration - VW | D30: 1 | E30: 0.6 | F30: ='Demo - VW'!J47 -> 0
C31: Demonstration - CET | D31: 1 | E31: 0.6 | F31: ='Demo - CET'!K50 -> 0

Sheet Key Requirements
B2: Tender Number: | C2: ='Scoring Summary'!C2 -> <insert before tender publication> | E2: Eskom Group IT: Technical Evaluation Criteria Category: Key Requirements
B3: Transaction Description: | C3: ='Scoring Summary'!C3 -> IT00641 Dx Commercial Energy Trader (Dx CET)
B4: Technical Threshold: | C4: ='Scoring Summary'!C4 -> 0.7
B5: Tenderer Registered Name: | C5: ='Scoring Summary'!C5 -> <Evaluator to complete>
B6: Evaluator Name and Surname: | C6: ='Scoring Summary'!C6 -> <Evaluator to complete>
B7: Date of Evaluation | C7: ='Scoring Summary'!C7 -> <Evaluator to complete>
B8: Evaluator Signature | D8: Select Vendors Response in column D and add evidence and comments in columns E and F
J9: Select Evaluators Response in column L and add comments in column M
A10: Item # | B10: Technical Requirements | D10: Vendor Responses | I10: Evaluator Scores
B11: Business requirements | C11: Mandatory Returnables - Evidence below to be provided in the technical file and numbered to align with each criteria question. | D11: Vendor Response: Select from drop down list | E11: Vendor Evidence: Location of Supporting Document/Info (state the file number, section & page number) | F11: Vendor Comments: Vendor to indicate any comments for information/clarification. (Not for scoring purposes) | G11: Priority Description | H11: Priority | I11: Weight / Max score | J11: Scoring guideline | K11: Selection Options | L11: Evaluators Response | M11: Evaluator comments
A12: K1 | B12: Eskom requires a proven solution that has a track record of use in top utilities. See examples of "top utilities" in Top energy providers sheet. | C12: In your technical submission please list the "active" (still used) implementations of your solution at top utilities with more than 5000 points of supply. Provide: - Company name - Implementation year - Implementation status - active - Size of implementation - number of points of supply - Country - Company website | E12: <Example for how to complete this whole column: Technical File, section 5 (company background section), page 11> | G12: Show stopper | H12: =IF(G12='Response Guidlines'!$D$81,'Response Guidlines'!$C$81, IF(G12='Response Guidlines'!$D$82,'Response Guidlines'!$C$82,IF(G12='Response Guidlines'!$D$83,'Response Guidlines'!$C$83,IF(G12='Response Guidlines'!$D$84,'Response Guidlines'!$C$84,IF(G12='Response Guidlines'!$D$85,'Response Guidlines'!$C$85,IF(G12='Response Guidlines'!$D$86,'Response Guidlines'!$C$86,IF(G12='Response Guidlines'!$D$87,'Response Guidlines'!$C$87,"No Rating"))))))) -> 6 | I12: =(H12/$H$43)/_xlfn.XLOOKUP('Scoring Summary'!$D$18,'Response Guidlines'!$D$92:$D$191,'Response Guidlines'!$C$92:$C$191,"",0,1) -> 0.021428571 | J12: 1. Solution is currently being used in more than 5 top utilities | K12: =I12 -> 0.021428571 | L12: 0
J13: 2. Solution is currently being used in 2 to 5 top utilities | K13: =K12*0.6666 -> 0.014284286
J14: 3. Solution is currently being used in 1 top utility | K14: =K12*0.3333 -> 0.0071421429
J15: 4. Solution is NOT currently being used in a top utility | K15: 0
A16: K2 | B16: Eskom requires a proven solution that has been in the market for a number of years i.e. a mature system used by top utilities. | C16: In your technical submission please indicate how long your solution has been used by top utilities with more than 5000 points of supply. Provide: - Company name - Implementation year - Implementation status - active - Size of implementation - number of points of supply - Country - Company website | G16: Show stopper | H16: =IF(G16='Response Guidlines'!$D$81,'Response Guidlines'!$C$81, IF(G16='Response Guidlines'!$D$82,'Response Guidlines'!$C$82,IF(G16='Response Guidlines'!$D$83,'Response Guidlines'!$C$83,IF(G16='Response Guidlines'!$D$84,'Response Guidlines'!$C$84,IF(G16='Response Guidlines'!$D$85,'Response Guidlines'!$C$85,IF(G16='Response Guidlines'!$D$86,'Response Guidlines'!$C$86,IF(G16='Response Guidlines'!$D$87,'Response Guidlines'!$C$87,"No Rating"))))))) -> 6 | I16: =(H16/$H$43)/_xlfn.XLOOKUP('Scoring Summary'!$D$18,'Response Guidlines'!$D$92:$D$191,'Response Guidlines'!$C$92:$C$191,"",0,1) -> 0.021428571 | J16: 1. Solution has been used at top utilities in the market for more than 5 years | K16: =I16 -> 0.021428571 | L16: 0
J17: 2. Solution has been used at top utilities in the market for 2 to 5 years | K17: =K16*0.6666 -> 0.014284286
J18: 3. Solution has been used at top utilities in the market for at least 1 year | K18: =K16*0.3333 -> 0.0071421429
J19: 4. Solution is NOT used in the market yet | K19: 0
A20: K3 | B20: Eskom requires the vendor to have previous experience in the implementation of the system/solution: - Installation / implementation of the solution at top utilities. - At least 5+ years experience. | C20: In your technical submission please list the implementations of the system/solution you have done for top utilities with a more than 5000 points of supply and indicate the number of implementations. Provide: - Role: Leading role, venture partner / sub-contractor, no-experience etc. - Time taken to implement - Size of implementation - number of points of supply - Implementation year - Implementation status - active - Reference letters from individual projects/clients | G20: Critical | H20: =IF(G20='Response Guidlines'!$D$81,'Response Guidlines'!$C$81, IF(G20='Response Guidlines'!$D$82,'Response Guidlines'!$C$82,IF(G20='Response Guidlines'!$D$83,'Response Guidlines'!$C$83,IF(G20='Response Guidlines'!$D$84,'Response Guidlines'!$C$84,IF(G20='Response Guidlines'!$D$85,'Response Guidlines'!$C$85,IF(G20='Response Guidlines'!$D$86,'Response Guidlines'!$C$86,IF(G20='Response Guidlines'!$D$87,'Response Guidlines'!$C$87,"No Rating"))))))) -> 5 | I20: =(H20/$H$43)/_xlfn.XLOOKUP('Scoring Summary'!$D$18,'Response Guidlines'!$D$92:$D$191,'Response Guidlines'!$C$92:$C$191,"",0,1) -> 0.017857143 | J20: 1. Vendor has implemented solution at greater than 3 top utilities (with > 5000 points of supply) | K20: =I20 -> 0.017857143 | L20: 0
J21: 2. Vendor has implemented solution at 2 to 3 top utilities (with > 5000 points of supply). | K21: =K20*0.75 -> 0.013392857
J22: 3. Vendor has implemented solution at 1 top utility (with > 5000 points of supply). | K22: =K20*0.5 -> 0.0089285714
J23: 4. Vendor has NOT implemented solution at a top utility (with > 5000 points of supply). | K23: 0
A24: K4 | B24: Eskom requires the vendor to have previous experience in the implementation of the system/solution: - Installation / implementation of the solution at top utilities. - At least 5+ years experience. | C24: In your technical submission please list the implementations of the system/solution you have done for top utilities with a more than 5000 points of supply and indicate the time taken to implement. Provide: - Role: Leading role, venture partner / sub-contractor, no-experience etc. - Time taken to implement - Size of implementation - number of points of supply - Implementation year - Implementation status - active - Reference letters from individual projects/clients | G24: Critical | H24: =IF(G24='Response Guidlines'!$D$81,'Response Guidlines'!$C$81, IF(G24='Response Guidlines'!$D$82,'Response Guidlines'!$C$82,IF(G24='Response Guidlines'!$D$83,'Response Guidlines'!$C$83,IF(G24='Response Guidlines'!$D$84,'Response Guidlines'!$C$84,IF(G24='Response Guidlines'!$D$85,'Response Guidlines'!$C$85,IF(G24='Response Guidlines'!$D$86,'Response Guidlines'!$C$86,IF(G24='Response Guidlines'!$D$87,'Response Guidlines'!$C$87,"No Rating"))))))) -> 5 | I24: =(H24/$H$43)/_xlfn.XLOOKUP('Scoring Summary'!$D$18,'Response Guidlines'!$D$92:$D$191,'Response Guidlines'!$C$92:$C$191,"",0,1) -> 0.017857143 | J24: 1. The quickest implementation at a top utility (with > 5000 points of supply), took less than 18 months | K24: =I24 -> 0.017857143 | L24: 0
J25: 2. The quickest implementation at a top utility (with > 5000 points of supply), took from 18 to 24 months | K25: =K24*0.6666 -> 0.011903571
J26: 3. The quickest implementation at a top utility (with > 5000 points) of supply, took from 25 to 36 months | K26: =K24*0.3333 -> 0.0059517857
J27: 4. The quickest implementation at a top utility (with > 5000 points of supply), took longer than 36 months | K27: 0
A28: K5 | B28: Eskom requires the solution to cater for virtual wheeling as part of the core solution (could be built / plugged in as part of the final solution). Virtual wheeling: The aggregating of data from the loads and generators and against this a refund is provided for the wheeled energy on a consolidated basis. | C28: In your technical response select one of the options below to describe how the required functionality could be delivered, and indicate via screenshots and / or indicate the relevant modules required to provide the functionality: 1. Standard functionality or deliver by configuration 2. Deliver by built in customization tools or deliver by development (changes are preserved in future upgrades) 3. Deliver by development (BUT changes NOT preserved in future upgrades) or not possible | G28: Critical | H28: =IF(G28='Response Guidlines'!$D$81,'Response Guidlines'!$C$81, IF(G28='Response Guidlines'!$D$82,'Response Guidlines'!$C$82,IF(G28='Response Guidlines'!$D$83,'Response Guidlines'!$C$83,IF(G28='Response Guidlines'!$D$84,'Response Guidlines'!$C$84,IF(G28='Response Guidlines'!$D$85,'Response Guidlines'!$C$85,IF(G28='Response Guidlines'!$D$86,'Response Guidlines'!$C$86,IF(G28='Response Guidlines'!$D$87,'Response Guidlines'!$C$87,"No Rating"))))))) -> 5 | I28: =(H28/$H$43)/_xlfn.XLOOKUP('Scoring Summary'!$D$18,'Response Guidlines'!$D$92:$D$191,'Response Guidlines'!$C$92:$C$191,"",0,1) -> 0.017857143 | J28: 1. Standard functionality or can be delivered by configuration. | K28: =I28 -> 0.017857143 | L28: 0
J29: 2. Functionality can be delivered by built in customization tools or by development (changes are preserved in future upgrades) | K29: =K28*0.5 -> 0.0089285714
J30: 3. Functionality can be delivered by development (BUT changes NOT preserved in future upgrades) or it is not possible to provide this functionality. | K30: 0
A31: K6 | B31: Eskom requires the solution to include a (wheeling) portal dealing with external buyers (traders, customers and corporate entities) i.e. a client facing portal. | C31: In your technical response select one of the options below to describe how the required functionality could be delivered, and indicate via screenshots and / or indicate the relevant modules required to provide the functionality: 1. Standard functionality or deliver by configuration 2. Deliver by built in customization tools or deliver by development (changes are preserved in future upgrades) 3. Deliver by development (BUT changes NOT preserved in future upgrades) or not possible | G31: Critical | H31: =IF(G31='Response Guidlines'!$D$81,'Response Guidlines'!$C$81, IF(G31='Response Guidlines'!$D$82,'Response Guidlines'!$C$82,IF(G31='Response Guidlines'!$D$83,'Response Guidlines'!$C$83,IF(G31='Response Guidlines'!$D$84,'Response Guidlines'!$C$84,IF(G31='Response Guidlines'!$D$85,'Response Guidlines'!$C$85,IF(G31='Response Guidlines'!$D$86,'Response Guidlines'!$C$86,IF(G31='Response Guidlines'!$D$87,'Response Guidlines'!$C$87,"No Rating"))))))) -> 5 | I31: =(H31/$H$43)/_xlfn.XLOOKUP('Scoring Summary'!$D$18,'Response Guidlines'!$D$92:$D$191,'Response Guidlines'!$C$92:$C$191,"",0,1) -> 0.017857143 | J31: 1. Standard functionality or can be delivered by configuration. | K31: =I31 -> 0.017857143 | L31: 0
J32: 2. Functionality can be delivered by built in customization tools or by development (changes are preserved in future upgrades) | K32: =K31*0.5 -> 0.0089285714
J33: 3. Functionality can be delivered by development (BUT changes NOT preserved in future upgrades) or it is not possible to provide this functionality. | K33: 0
A34: K7 | B34: Eskom requires easy access to solution support human resources, preferably local on-site support. | C34: In your technical response indicate how solution support human resources will be accessed. 1. Local (onsite) 2. Hybrid - Local (on site) and online 3. Online | G34: Very important | H34: =IF(G34='Response Guidlines'!$D$81,'Response Guidlines'!$C$81, IF(G34='Response Guidlines'!$D$82,'Response Guidlines'!$C$82,IF(G34='Response Guidlines'!$D$83,'Response Guidlines'!$C$83,IF(G34='Response Guidlines'!$D$84,'Response Guidlines'!$C$84,IF(G34='Response Guidlines'!$D$85,'Response Guidlines'!$C$85,IF(G34='Response Guidlines'!$D$86,'Response Guidlines'!$C$86,IF(G34='Response Guidlines'!$D$87,'Response Guidlines'!$C$87,"No Rating"))))))) -> 4 | I34: =(H34/$H$43)/_xlfn.XLOOKUP('Scoring Summary'!$D$18,'Response Guidlines'!$D$92:$D$191,'Response Guidlines'!$C$92:$C$191,"",0,1) -> 0.014285714 | J34: 1. Local (on site) | K34: =I34 -> 0.014285714 | L34: 0
J35: 2. Hybrid - Local (on site) and online | K35: =K34*0.5 -> 0.0071428571
J36: 3. Online | K36: =K34*0 -> 0
A37: K8 | B37: Eskom requires the solution to have an average hit rate greater than 114 hits / sec for 500 concurrent users. | C37: In your technical response, please provide performance testing results for average hits per second for 500 concurrent users. | G37: Important | H37: =IF(G37='Response Guidlines'!$D$81,'Response Guidlines'!$C$81, IF(G37='Response Guidlines'!$D$82,'Response Guidlines'!$C$82,IF(G37='Response Guidlines'!$D$83,'Response Guidlines'!$C$83,IF(G37='Response Guidlines'!$D$84,'Response Guidlines'!$C$84,IF(G37='Response Guidlines'!$D$85,'Response Guidlines'!$C$85,IF(G37='Response Guidlines'!$D$86,'Response Guidlines'!$C$86,IF(G37='Response Guidlines'!$D$87,'Response Guidlines'!$C$87,"No Rating"))))))) -> 3 | I37: =(H37/$H$43)/_xlfn.XLOOKUP('Scoring Summary'!$D$18,'Response Guidlines'!$D$92:$D$191,'Response Guidlines'!$C$92:$C$191,"",0,1) -> 0.010714286 | J37: Solution supports an average hit rate > 114 hits / sec. | K37: =I37 -> 0.010714286 | L37: 0
J38: Solution supports an average hit rate <= 114 hits / sec. | K38: =K37*0.5 -> 0.0053571429
J39: No performance testing results received. | K39: 0
A40: K9 | B40: Eskom requires the solution to be able to handle 500 concurrent users. | C40: In your technical response, please provide performance testing results showing how many concurrent users the solution can handle. | G40: Important | H40: =IF(G40='Response Guidlines'!$D$81,'Response Guidlines'!$C$81, IF(G40='Response Guidlines'!$D$82,'Response Guidlines'!$C$82,IF(G40='Response Guidlines'!$D$83,'Response Guidlines'!$C$83,IF(G40='Response Guidlines'!$D$84,'Response Guidlines'!$C$84,IF(G40='Response Guidlines'!$D$85,'Response Guidlines'!$C$85,IF(G40='Response Guidlines'!$D$86,'Response Guidlines'!$C$86,IF(G40='Response Guidlines'!$D$87,'Response Guidlines'!$C$87,"No Rating"))))))) -> 3 | I40: =(H40/$H$43)/_xlfn.XLOOKUP('Scoring Summary'!$D$18,'Response Guidlines'!$D$92:$D$191,'Response Guidlines'!$C$92:$C$191,"",0,1) -> 0.010714286 | J40: Solution supports >= 500 concurrent users. | K40: =I40 -> 0.010714286 | L40: 0
J41: Solution supports < 500 concurrent users. | K41: =K40*0.5 -> 0.0053571429
...

Sheet Project Management
B2: Tender Number: | C2: ='Scoring Summary'!C2 -> <insert before tender publication> | E2: Eskom Group IT: Technical Evaluation Criteria
B3: Transaction Description: | C3: ='Scoring Summary'!C3 -> IT00641 Dx Commercial Energy Trader (Dx CET) | E3: Category: | F3: Project Management
B4: Technical Threshold: | C4: ='Scoring Summary'!C4 -> 0.7
B5: Tenderer Registered Name: | C5: ='Scoring Summary'!C5 -> <Evaluator to complete>
B6: Evaluator Name and Surname: | C6: ='Scoring Summary'!C6 -> <Evaluator to complete>
B7: Date of Evaluation | C7: ='Scoring Summary'!C7 -> <Evaluator to complete>
B8: Evaluator Signature | D8: Select Vendors Response in column D and add evidence and comments in columns E and F
J9: Select Evaluators Response in column L and add comments in column M
A10: Item # | B10: Technical Requirements | D10: Vendor Responses | I10: Evaluator Scores
B11: Business requirements | C11: Mandatory Returnables - Evidence below to be provided in the technical file and numbered to align with each criteria question. | D11: Vendor Response: Select from drop down list where applicable | E11: Vendor Evidence: Location of Supporting Document/Info (state the file number, section & page number) | F11: Vendor Comments: Vendor to indicate any comments for information/clarification. (Not for scoring purposes) | G11: Priority Description | H11: Priority | I11: Weight / Max score | J11: Scoring guideline | K11: Selection Options | L11: Evaluators Response | M11: Evaluator comments
A12: PM1 | B12: Project management will be done according to a structured, internationally-recognised project management methodology, as such Agile or waterfall | C12: In your technical response describe the project management methodology used. e.g. Agile, Waterfall by your company. Provide a project plan for the system upgrade showing milestones with completion dates. | E12: <Example for how to complete this whole column: Technical File, section 5 (company background section), page 11> | G12: Show stopper | H12: =IF(G12='Response Guidlines'!$D$81,'Response Guidlines'!$C$81, IF(G12='Response Guidlines'!$D$82,'Response Guidlines'!$C$82,IF(G12='Response Guidlines'!$D$83,'Response Guidlines'!$C$83,IF(G12='Response Guidlines'!$D$84,'Response Guidlines'!$C$84,IF(G12='Response Guidlines'!$D$85,'Response Guidlines'!$C$85,IF(G12='Response Guidlines'!$D$86,'Response Guidlines'!$C$86,IF(G12='Response Guidlines'!$D$87,'Response Guidlines'!$C$87,"No Rating"))))))) -> 6 | I12: =(H12/$H$23)/_xlfn.XLOOKUP('Scoring Summary'!$D$25,'Response Guidlines'!$D$92:$D$191,'Response Guidlines'!$C$92:$C$191,"",0,1) -> 0.016666667 | J12: Vendor uses agile or waterfall methodology. | K12: =I12 -> 0.016666667 | L12: 0
J13: Vendor uses a different project management methodology - Not agile or waterfall. | K13: =K12/2 -> 0.0083333333
J14: Vendor did not show evidence of a structured project management methodology. | K14: 0
A15: PM2 | B15: Eskom requires the vendor to appoint a project manager who has experience managing similar projects | C15: In your technical response provide details of the proposed project manager, including qualifications and experience on projects of similar size and complexity, provide the project managers CV as evidence. | G15: Critical | H15: =IF(G15='Response Guidlines'!$D$81,'Response Guidlines'!$C$81, IF(G15='Response Guidlines'!$D$82,'Response Guidlines'!$C$82,IF(G15='Response Guidlines'!$D$83,'Response Guidlines'!$C$83,IF(G15='Response Guidlines'!$D$84,'Response Guidlines'!$C$84,IF(G15='Response Guidlines'!$D$85,'Response Guidlines'!$C$85,IF(G15='Response Guidlines'!$D$86,'Response Guidlines'!$C$86,IF(G15='Response Guidlines'!$D$87,'Response Guidlines'!$C$87,"No Rating"))))))) -> 5 | I15: =(H15/$H$23)/_xlfn.XLOOKUP('Scoring Summary'!$D$25,'Response Guidlines'!$D$92:$D$191,'Response Guidlines'!$C$92:$C$191,"",0,1) -> 0.013888889 | J15: Project manager has more than 5 years experience managing similar projects. | K15: =I15 -> 0.013888889 | L15: 0
J16: Project manager has 3-5 years experience managing similar projects. | K16: =K15/2 -> 0.0069444444
J17: Project manager has less than 3 years experience in managing similar projects. | K17: 0
A18: PM3 | B18: Eskom prefers the appointed project manager to be based in South Africa for the duration of the contract period to allow for training and skill transfer | C18: In your technical response indicate the city and country where the appointed project manager will be located. | G18: Useful | H18: =IF(G18='Response Guidlines'!$D$81,'Response Guidlines'!$C$81, IF(G18='Response Guidlines'!$D$82,'Response Guidlines'!$C$82,IF(G18='Response Guidlines'!$D$83,'Response Guidlines'!$C$83,IF(G18='Response Guidlines'!$D$84,'Response Guidlines'!$C$84,IF(G18='Response Guidlines'!$D$85,'Response Guidlines'!$C$85,IF(G18='Response Guidlines'!$D$86,'Response Guidlines'!$C$86,IF(G18='Response Guidlines'!$D$87,'Response Guidlines'!$C$87,"No Rating"))))))) -> 2 | I18: =(H18/$H$23)/_xlfn.XLOOKUP('Scoring Summary'!$D$25,'Response Guidlines'!$D$92:$D$191,'Response Guidlines'!$C$92:$C$191,"",0,1) -> 0.0055555556 | J18: Project manager is based in South Africa. | K18: =I18 -> 0.0055555556 | L18: 0
J19: Project manager is not based in South Africa. | K19: 0
A20: PM4 | B20: Eskom requires the vendor to have a detailed resource plan to execute the upgrade. | C20: In your technical response provide a detailed resource plan indicating the utilization of each resource. | G20: Critical | H20: =IF(G20='Response Guidlines'!$D$81,'Response Guidlines'!$C$81, IF(G20='Response Guidlines'!$D$82,'Response Guidlines'!$C$82,IF(G20='Response Guidlines'!$D$83,'Response Guidlines'!$C$83,IF(G20='Response Guidlines'!$D$84,'Response Guidlines'!$C$84,IF(G20='Response Guidlines'!$D$85,'Response Guidlines'!$C$85,IF(G20='Response Guidlines'!$D$86,'Response Guidlines'!$C$86,IF(G20='Response Guidlines'!$D$87,'Response Guidlines'!$C$87,"No Rating"))))))) -> 5 | I20: =(H20/$H$23)/_xlfn.XLOOKUP('Scoring Summary'!$D$25,'Response Guidlines'!$D$92:$D$191,'Response Guidlines'!$C$92:$C$191,"",0,1) -> 0.013888889 | J20: For each statement below that is true award the corresponding score cumulatively.
J21: The plan shows the type and number of resources that will be allocated to each project stage. | K21: =I20/2 -> 0.0069444444 | O21: =K21 -> 0.0069444444
J22: The plan shows the utilization of each resource i.e. percentage of time each resource will spend on the Eskom project. | K22: =I20/2 -> 0.0069444444 | O22: =O21+K22 -> 0.013888889
B23: Total | H23: =SUM(H12:H22) -> 18 | I23: =SUM(I12:I22) -> 0.05 | J23: Final Score | L23: =SUM(L12:L22) -> 0
I25: =5/18*0.05 -> 0.013888889

Sheet Functional - VW
C2: Tender Number: | D2: ='Scoring Summary'!C2 -> <insert before tender publication> | F2: Eskom Group IT: Technical Evaluation Criteria
C3: Transaction Description: | D3: ='Scoring Summary'!C3 -> IT00641 Dx Commercial Energy Trader (Dx CET) | F3: Category: | G3: Functional Virtual Wheeling
C4: Technical Threshold: | D4: ='Scoring Summary'!C4 -> 0.7
C5: Tenderer Registered Name: | D5: ='Scoring Summary'!C5 -> <Evaluator to complete>
C6: Evaluator Name and Surname: | D6: ='Scoring Summary'!C6 -> <Evaluator to complete>
C7: Date of Evaluation | D7: ='Scoring Summary'!C7 -> <Evaluator to complete>
C8: Evaluator Signature | E8: Select Vendors Response in column E and add evidence and comments in columns F and G
K9: Select Evaluators Response in column M and add comments in column N
A10: Item # | B10: Technical Requirements | E10: Vendor Responses | J10: Evaluator Scores
B11: Business requirement group | C11: Business requirements | D11: Mandatory Returnables - Evidence below to be provided in the technical file and numbered to align with each criteria question. | E11: Vendor Response: Select from drop down list | F11: Vendor Evidence: Location of Supporting Document/Info (state the file number, section & page number) | G11: Vendor Comments: Vendor to indicate any comments for information/clarification. (Not for scoring purposes) | H11: Priority Description | I11: Priority | J11: Weight / Max score | K11: Scoring guideline | L11: Selection Options | M11: Evaluators Response | N11: Evaluator comments
A12: F_VW1 | B12: Consolidated wheeling data environment | C12: Eskom requires a "consolidated wheeling data environment" to be able to store all of the following data for energy wheeling calculations / reporting: 1. Interval meter read data (Generators, Eskom customers and customer behind municipal boundaries) 2a. Basic customer information from the billing system (Persons, Accounts, Service agreements and Premises, Detailed bill line items, Business areas (Clusters, Operating Units etc. for both retail and wires perspectives). 2b. Basic customer information for customers beyond municipal boundaries (Persons (customers), meters, premise address) 3. Energy wheeling configuration (Contracted energy wheeling configuration and history) 4. Wheeled energy refunds / credits | D12: In your technical response select one of the options below to describe how the required functionality could be delivered, and indicate via screenshots and / or indicate the relevant modules required to provide the functionality: 1. Standard functionality or deliver by configuration 2. Deliver by built in customization tools or deliver by development (changes are preserved in future upgrades) 3. Deliver by development (BUT changes NOT preserved in future upgrades) or not possible | F12: <Example for how to complete this whole column: Technical File, section 5 (company background section), page 11> | H12: Critical | I12: =IF(H12='Response Guidlines'!$D$81,'Response Guidlines'!$C$81, IF(H12='Response Guidlines'!$D$82,'Response Guidlines'!$C$82,IF(H12='Response Guidlines'!$D$83,'Response Guidlines'!$C$83,IF(H12='Response Guidlines'!$D$84,'Response Guidlines'!$C$84,IF(H12='Response Guidlines'!$D$85,'Response Guidlines'!$C$85,IF(H12='Response Guidlines'!$D$86,'Response Guidlines'!$C$86,IF(H12='Response Guidlines'!$D$87,'Response Guidlines'!$C$87,"No Rating"))))))) -> 5 | J12: =(I12/$I$78)/_xlfn.XLOOKUP('Scoring Summary'!$D$19,'Response Guidlines'!$D$92:$D$191,'Response Guidlines'!$C$92:$C$191,"",0,1) -> 0.012820513 | K12: 1. Standard functionality or can be delivered by configuration. | L12: =J12 -> 0.012820513 | M12: 0
K13: 2. Functionality can be delivered by built in customization tools or by development (changes are preserved in future upgrades) | L13: =L12*0.5 -> 0.0064102564
K14: 3. Functionality can be delivered by development (BUT changes NOT preserved in future upgrades) or it is not possible to provide this functionality. | L14: 0
A15: F_VW2 | B15: Consolidated wheeling data environment | C15: Eskom requires the "consolidated wheeling data environment" to be able to calculate wheeled energy allocations and refunds / credits for configured qualifying customer premises (or municipal customers) using available interval meter read data. | D15: In your technical response select one of the options below to describe how the required functionality could be delivered, and indicate via screenshots and / or indicate the relevant modules required to provide the functionality: 1. Standard functionality or deliver by configuration 2. Deliver by built in customization tools or deliver by development (changes are preserved in future upgrades) 3. Deliver by development (BUT changes NOT preserved in future upgrades) or not possible | H15: Critical | I15: =IF(H15='Response Guidlines'!$D$81,'Response Guidlines'!$C$81, IF(H15='Response Guidlines'!$D$82,'Response Guidlines'!$C$82,IF(H15='Response Guidlines'!$D$83,'Response Guidlines'!$C$83,IF(H15='Response Guidlines'!$D$84,'Response Guidlines'!$C$84,IF(H15='Response Guidlines'!$D$85,'Response Guidlines'!$C$85,IF(H15='Response Guidlines'!$D$86,'Response Guidlines'!$C$86,IF(H15='Response Guidlines'!$D$87,'Response Guidlines'!$C$87,"No Rating"))))))) -> 5 | J15: =(I15/$I$78)/_xlfn.XLOOKUP('Scoring Summary'!$D$19,'Response Guidlines'!$D$92:$D$191,'Response Guidlines'!$C$92:$C$191,"",0,1) -> 0.012820513 | K15: 1. Standard functionality or can be delivered by configuration. | L15: =J15 -> 0.012820513 | M15: 0
K16: 2. Functionality can be delivered by built in customization tools or by development (changes are preserved in future upgrades) | L16: =L15*0.5 -> 0.0064102564
K17: 3. Functionality can be delivered by development (BUT changes NOT preserved in future upgrades) or it is not possible to provide this functionality. | L17: 0
A18: F_VW3 | B18: Consolidated wheeling data environment | C18: Eskom requires the "consolidated wheeling data environment" to be able to calculate consolidated wheeled energy allocations and refunds / credits for a large customer with many customer premises i.e., single refund / credit for all customer premises. | D18: In your technical response select one of the options below to describe how the required functionality could be delivered, and indicate via screenshots and / or indicate the relevant modules required to provide the functionality: 1. Standard functionality or deliver by configuration 2. Deliver by built in customization tools or deliver by development (changes are preserved in future upgrades) 3. Deliver by development (BUT changes NOT preserved in future upgrades) or not possible | H18: Critical | I18: =IF(H18='Response Guidlines'!$D$81,'Response Guidlines'!$C$81, IF(H18='Response Guidlines'!$D$82,'Response Guidlines'!$C$82,IF(H18='Response Guidlines'!$D$83,'Response Guidlines'!$C$83,IF(H18='Response Guidlines'!$D$84,'Response Guidlines'!$C$84,IF(H18='Response Guidlines'!$D$85,'Response Guidlines'!$C$85,IF(H18='Response Guidlines'!$D$86,'Response Guidlines'!$C$86,IF(H18='Response Guidlines'!$D$87,'Response Guidlines'!$C$87,"No Rating"))))))) -> 5 | J18: =(I18/$I$78)/_xlfn.XLOOKUP('Scoring Summary'!$D$19,'Response Guidlines'!$D$92:$D$191,'Response Guidlines'!$C$92:$C$191,"",0,1) -> 0.012820513 | K18: 1. Standard functionality or can be delivered by configuration. | L18: =J18 -> 0.012820513 | M18: 0
K19: 2. Functionality can be delivered by built in customization tools or by development (changes are preserved in future upgrades) | L19: =L18*0.5 -> 0.0064102564
K20: 3. Functionality can be delivered by development (BUT changes NOT preserved in future upgrades) or it is not possible to provide this functionality. | L20: 0
A21: F_VW4 | B21: Consolidated wheeling data environment | C21: Eskom requires the "consolidated wheeling data environment" to be able to receive and process information from other data aggregators / platforms: - Ability to received and process information from other data aggregators e.g., large customers or market traders. | D21: In your technical response select one of the options below to describe how the required functionality could be delivered, and indicate via screenshots and / or indicate the relevant modules required to provide the functionality: 1. Standard functionality or deliver by configuration 2. Deliver by built in customization tools or deliver by development (changes are preserved in future upgrades) 3. Deliver by development (BUT changes NOT preserved in future upgrades) or not possible | H21: Useful | I21: =IF(H21='Response Guidlines'!$D$81,'Response Guidlines'!$C$81, IF(H21='Response Guidlines'!$D$82,'Response Guidlines'!$C$82,IF(H21='Response Guidlines'!$D$83,'Response Guidlines'!$C$83,IF(H21='Response Guidlines'!$D$84,'Response Guidlines'!$C$84,IF(H21='Response Guidlines'!$D$85,'Response Guidlines'!$C$85,IF(H21='Response Guidlines'!$D$86,'Response Guidlines'!$C$86,IF(H21='Response Guidlines'!$D$87,'Response Guidlines'!$C$87,"No Rating"))))))) -> 2 | J21: =(I21/$I$78)/_xlfn.XLOOKUP('Scoring Summary'!$D$19,'Response Guidlines'!$D$92:$D$191,'Response Guidlines'!$C$92:$C$191,"",0,1) -> 0.0051282051 | K21: 1. Standard functionality or can be delivered by configuration. | L21: =J21 -> 0.0051282051 | M21: 0
K22: 2. Functionality can be delivered by built in customization tools or by development (changes are preserved in future upgrades) | L22: =L21*0.5 -> 0.0025641026
K23: 3. Functionality can be delivered by development (BUT changes NOT preserved in future upgrades) or it is not possible to provide this functionality. | L23: 0
A24: F_VW5 | B24: Buyer / business portal | C24: Eskom requires a "buyer / business portal" for all wheeling related activities e.g., registration of users and associated meters, energy wheeling configuration, uploading of meter read data (where applicable), viewing of dashboards and reports etc. - Buyer / business wheeling portal to use data from the “consolidated wheeling data environment”. | D24: In your technical response select one of the options below to describe how the required functionality could be delivered, and indicate via screenshots and / or indicate the relevant modules required to provide the functionality: 1. Standard functionality or deliver by configuration 2. Deliver by built in customization tools or deliver by development (changes are preserved in future upgrades) 3. Deliver by development (BUT changes NOT preserved in future upgrades) or not possible | H24: Very important | I24: =IF(H24='Response Guidlines'!$D$81,'Response Guidlines'!$C$81, IF(H24='Response Guidlines'!$D$82,'Response Guidlines'!$C$82,IF(H24='Response Guidlines'!$D$83,'Response Guidlines'!$C$83,IF(H24='Response Guidlines'!$D$84,'Response Guidlines'!$C$84,IF(H24='Response Guidlines'!$D$85,'Response Guidlines'!$C$85,IF(H24='Response Guidlines'!$D$86,'Response Guidlines'!$C$86,IF(H24='Response Guidlines'!$D$87,'Response Guidlines'!$C$87,"No Rating"))))))) -> 4 | J24: =(I24/$I$78)/_xlfn.XLOOKUP('Scoring Summary'!$D$19,'Response Guidlines'!$D$92:$D$191,'Response Guidlines'!$C$92:$C$191,"",0,1) -> 0.01025641 | K24: 1. Standard functionality or can be delivered by configuration. | L24: =J24 -> 0.01025641 | M24: 0
K25: 2. Functionality can be delivered by built in customization tools or by development (changes are preserved in future upgrades) | L25: =L24*0.5 -> 0.0051282051
K26: 3. Functionality can be delivered by development (BUT changes NOT preserved in future upgrades) or it is not possible to provide this functionality. | L26: 0
A27: F_VW6 | B27: Buyer / business portal | C27: Eskom requires the ability for users (or Eskom application support) to configure / customize the "buyer / business portal" landing page for the applicable types of users e.g., Eskom management, Eskom user and buyers. | D27: In your technical response select one of the options below to describe how the required functionality could be delivered, and indicate via screenshots and / or indicate the relevant modules required to provide the functionality: 1. Standard functionality or deliver by configuration 2. Deliver by built in customization tools or deliver by development (changes are preserved in future upgrades) 3. Deliver by development (BUT changes NOT preserved in future upgrades) or not possible | H27: Very important | I27: =IF(H27='Response Guidlines'!$D$81,'Response Guidlines'!$C$81, IF(H27='Response Guidlines'!$D$82,'Response Guidlines'!$C$82,IF(H27='Response Guidlines'!$D$83,'Response Guidlines'!$C$83,IF(H27='Response Guidlines'!$D$84,'Response Guidlines'!$C$84,IF(H27='Response Guidlines'!$D$85,'Response Guidlines'!$C$85,IF(H27='Response Guidlines'!$D$86,'Response Guidlines'!$C$86,IF(H27='Response Guidlines'!$D$87,'Response Guidlines'!$C$87,"No Rating"))))))) -> 4 | J27: =(I27/$I$78)/_xlfn.XLOOKUP('Scoring Summary'!$D$19,'Response Guidlines'!$D$92:$D$191,'Response Guidlines'!$C$92:$C$191,"",0,1) -> 0.01025641 | K27: 1. Standard functionality or can be delivered by configuration. | L27: =J27 -> 0.01025641 | M27: 0
K28: 2. Functionality can be delivered by built in customization tools or by development (changes are preserved in future upgrades) | L28: =L27*0.5 -> 0.0051282051
K29: 3. Functionality can be delivered by development (BUT changes NOT preserved in future upgrades) or it is not possible to provide this functionality. | L29: 0
A30: F_VW7 | B30: Buyer / business portal | C30: Eskom requires the "buyer / business portal" to create users and profiles for buyers and Eskom users, as per below: - Ability to create users for buyers and Eskom users. - Ability to create user profiles e.g., o View relevant allocated buyer and energy information. o Edit relevant energy wheeling configuration parameters. o Upload relevant buyer interval meter read data. o Create / apply energy wheeling configurations. o View relevant dashboards, views or reports. o Etc. - Ability to apply user profiles to users. | D30: In your technical response select one of the options below to describe how the required functionality could be delivered, and indicate via screenshots and / or indicate the relevant modules required to provide the functionality: 1. Standard functionality or deliver by configuration 2. Deliver by built in customization tools or deliver by development (changes are preserved in future upgrades) 3. Deliver by development (BUT changes NOT preserved in future upgrades) or not possible | H30: Useful | I30: =IF(H30='Response Guidlines'!$D$81,'Response Guidlines'!$C$81, IF(H30='Response Guidlines'!$D$82,'Response Guidlines'!$C$82,IF(H30='Response Guidlines'!$D$83,'Response Guidlines'!$C$83,IF(H30='Response Guidlines'!$D$84,'Response Guidlines'!$C$84,IF(H30='Response Guidlines'!$D$85,'Response Guidlines'!$C$85,IF(H30='Response Guidlines'!$D$86,'Response Guidlines'!$C$86,IF(H30='Response Guidlines'!$D$87,'Response Guidlines'!$C$87,"No Rating"))))))) -> 2 | J30: =(I30/$I$78)/_xlfn.XLOOKUP('Scoring Summary'!$D$19,'Response Guidlines'!$D$92:$D$191,'Response Guidlines'!$C$92:$C$191,"",0,1) -> 0.0051282051 | K30: 1. Standard functionality or can be delivered by configuration. | L30: =J30 -> 0.0051282051 | M30: 0
K31: 2. Functionality can be delivered by built in customization tools or by development (changes are preserved in future upgrades) | L31: =L30*0.5 -> 0.0025641026
K32: 3. Functionality can be delivered by development (BUT changes NOT preserved in future upgrades) or it is not possible to provide this functionality. | L32: 0
A33: F_VW8 | B33: Buyer / business portal | C33: Eskom requires the "buyer / business portal" to be able to limit user access in the following ways: - Ability to grant a buyer access to only buyer’s own data and energy wheeling configuration. - Ability to grant Eskom users access to a selection of customer accounts by ring-fencing individual based on: o A selection of accounts e.g., for a customer executive o Accounts in a certain business area e.g., per OU o Etc. | D33: In your technical response select one of the options below to describe how the required functionality could be delivered, and indicate via screenshots and / or indicate the relevant modules required to provide the functionality: 1. Standard functionality or deliver by configuration 2. Deliver by built in customization tools or deliver by development (changes are preserved in future upgrades) 3. Deliver by development (BUT changes NOT preserved in future upgrades) or not possible | H33: Useful | I33: =IF(H33='Response Guidlines'!$D$81,'Response Guidlines'!$C$81, IF(H33='Response Guidlines'!$D$82,'Response Guidlines'!$C$82,IF(H33='Response Guidlines'!$D$83,'Response Guidlines'!$C$83,IF(H33='Response Guidlines'!$D$84,'Response Guidlines'!$C$84,IF(H33='Response Guidlines'!$D$85,'Response Guidlines'!$C$85,IF(H33='Response Guidlines'!$D$86,'Response Guidlines'!$C$86,IF(H33='Response Guidlines'!$D$87,'Response Guidlines'!$C$87,"No Rating"))))))) -> 2 | J33: =(I33/$I$78)/_xlfn.XLOOKUP('Scoring Summary'!$D$19,'Response Guidlines'!$D$92:$D$191,'Response Guidlines'!$C$92:$C$191,"",0,1) -> 0.0051282051 | K33: 1. Standard functionality or can be delivered by configuration. | L33: =J33 -> 0.0051282051 | M33: 0
K34: 2. Functionality can be delivered by built in customization tools or by development (changes are preserved in future upgrades) | L34: =L33*0.5 -> 0.0025641026
K35: 3. Functionality can be delivered by development (BUT changes NOT preserved in future upgrades) or it is not possible to provide this functionality. | L35: 0
A36: F_VW9 | B36: Buyer / business portal | C36: Eskom requires the "buyer / business portal" to be able to register data associated with buyers e.g., accounts, premises and meters: - Formally register (make available) new data in the “consolidated wheeling data environment”. | D36: In your technical response select one of the options below to describe how the required functionality could be delivered, and indicate via screenshots and / or indicate the relevant modules required to provide the functionality: 1. Standard functionality or deliver by configuration 2. Deliver by built in customization tools or deliver by development (changes are preserved in future upgrades) 3. Deliver by development (BUT changes NOT preserved in future upgrades) or not possible | H36: Very important | I36: =IF(H36='Response Guidlines'!$D$81,'Response Guidlines'!$C$81, IF(H36='Response Guidlines'!$D$82,'Response Guidlines'!$C$82,IF(H36='Response Guidlines'!$D$83,'Response Guidlines'!$C$83,IF(H36='Response Guidlines'!$D$84,'Response Guidlines'!$C$84,IF(H36='Response Guidlines'!$D$85,'Response Guidlines'!$C$85,IF(H36='Response Guidlines'!$D$86,'Response Guidlines'!$C$86,IF(H36='Response Guidlines'!$D$87,'Response Guidlines'!$C$87,"No Rating"))))))) -> 4 | J36: =(I36/$I$78)/_xlfn.XLOOKUP('Scoring Summary'!$D$19,'Response Guidlines'!$D$92:$D$191,'Response Guidlines'!$C$92:$C$191,"",0,1) -> 0.01025641 | K36: 1. Standard functionality or can be delivered by configuration. | L36: =J36 -> 0.01025641 | M36: 0
K37: 2. Functionality can be delivered by built in customization tools or by development (changes are preserved in future upgrades) | L37: =L36*0.5 -> 0.0051282051
K38: 3. Functionality can be delivered by development (BUT changes NOT preserved in future upgrades) or it is not possible to provide this functionality. | L38: 0
A39: F_VW10 | B39: Buyer / business portal | C39: Eskom requires the "buyer / business portal" to be able to register more than one user per buyer. - Eskom to provide maximum registered users per buyer. | D39: In your technical response select one of the options below to describe how the required functionality could be delivered, and indicate via screenshots and / or indicate the relevant modules required to provide the functionality: 1. Standard functionality or deliver by configuration 2. Deliver by built in customization tools or deliver by development (changes are preserved in future upgrades) 3. Deliver by development (BUT changes NOT preserved in future upgrades) or not possible | H39: Useful | I39: =IF(H39='Response Guidlines'!$D$81,'Response Guidlines'!$C$81, IF(H39='Response Guidlines'!$D$82,'Response Guidlines'!$C$82,IF(H39='Response Guidlines'!$D$83,'Response Guidlines'!$C$83,IF(H39='Response Guidlines'!$D$84,'Response Guidlines'!$C$84,IF(H39='Response Guidlines'!$D$85,'Response Guidlines'!$C$85,IF(H39='Response Guidlines'!$D$86,'Response Guidlines'!$C$86,IF(H39='Response Guidlines'!$D$87,'Response Guidlines'!$C$87,"No Rating"))))))) -> 2 | J39: =(I39/$I$78)/_xlfn.XLOOKUP('Scoring Summary'!$D$19,'Response Guidlines'!$D$92:$D$191,'Response Guidlines'!$C$92:$C$191,"",0,1) -> 0.0051282051 | K39: 1. Standard functionality or can be delivered by configuration. | L39: =J39 -> 0.0051282051 | M39: 0
K40: 2. Functionality can be delivered by built in customization tools or by development (changes are preserved in future upgrades) | L40: =L39*0.5 -> 0.0025641026
K41: 3. Functionality can be delivered by development (BUT changes NOT preserved in future upgrades) or it is not possible to provide this functionality. | L41: 0
...

Sheet Functional - VW - BK
C2: Tender Number: | D2: ='Scoring Summary'!C2 -> <insert before tender publication> | F2: Eskom Group IT: Technical Evaluation Criteria
C3: Transaction Description: | D3: ='Scoring Summary'!C3 -> IT00641 Dx Commercial Energy Trader (Dx CET) | F3: Category: | G3: Functional Virtual Wheeling
C4: Technical Threshold: | D4: ='Scoring Summary'!C4 -> 0.7
C5: Tenderer Registered Name: | D5: ='Scoring Summary'!C5 -> <Evaluator to complete>
C6: Evaluator Name and Surname: | D6: ='Scoring Summary'!C6 -> <Evaluator to complete>
C7: Date of Evaluation | D7: ='Scoring Summary'!C7 -> <Evaluator to complete>
C8: Evaluator Signature
A15: Item # | B15: Technical Requirements | E15: Vendor Responses | J15: Evaluator Scores
B16: Business requirement group | C16: Business requirements | D16: Mandatory Returnables - Evidence below to be provided in the technical file and numbered to align with each criteria question. | E16: Vendor Response: Select from drop down list | F16: Vendor Evidence: Location of Supporting Document/Info (state the file number, section & page number) | G16: Vendor Comments: Vendor to inidcate any comments for information/clarification. (Not for scoring purposes) | H16: Priority Description | I16: Priority | J16: Weight / Max score | K16: Scoring guideline | L16: Selection Options | M16: Evaluators Response | N16: Evaluator comments
A17: F_VW1 | B17: Consolidated wheeling data environment | C17: Eskom requires a "consolidated wheeling data environment" to be able to source (XYZ contains / store) data for energy wheeling calculations / reporting: 1. Interval meter read data (Generators, Eskom customers and customer behind municipal boundaries) 2. Basic customer information from the billing system (Persons, Accounts, Service agreements and Premises, Detailed bill line items, Business areas (Clusters, Operating Units etc. for both retail and wires perspectives). 3. Energy wheeling configuration (Contracted energy wheeling configuration and history) XYZ Additional info for cust beyond munic boundaries (munic connected points) e.g. mtr, address, cust person info... | D17: In your technical response select one of the options below to describe how the required functionality could be delivered, and indicate via screenshots and / or indicate the relevant modules required to provide the functionality: 5. Standard functionality 4. Deliver by configuration 3. Deliver by built in customization tools 2. Deliver by development (changes are preserved in future upgrades) 1. Deliver by development (BUT changes NOT preserved in future upgrades) 0. Not Possible | F17: <Example for how to complete this whole column: Technical File, section 5 (company backgroun section), page 11> | H17: Very important | I17: =IF(H17='Response Guidlines'!$D$81,'Response Guidlines'!$C$81, IF(H17='Response Guidlines'!$D$82,'Response Guidlines'!$C$82,IF(H17='Response Guidlines'!$D$83,'Response Guidlines'!$C$83,IF(H17='Response Guidlines'!$D$84,'Response Guidlines'!$C$84,IF(H17='Response Guidlines'!$D$85,'Response Guidlines'!$C$85,IF(H17='Response Guidlines'!$D$86,'Response Guidlines'!$C$86,IF(H17='Response Guidlines'!$D$87,'Response Guidlines'!$C$87,"No Rating"))))))) -> 4 | J17: =(I17/$I$192)/_xlfn.XLOOKUP('Scoring Summary'!$D$19,'Response Guidlines'!$D$92:$D$191,'Response Guidlines'!$C$92:$C$191,"",0,1) -> 0.0057142857 | K17: Standard functionality or can be delivered by configuration. | L17: =J17 -> 0.0057142857
L18: =L17*0.75 -> 0.0042857143
K19: Functionality can be delivered by built in customization tools or can be delivered by development with changes preserved in future upgrades. | L19: =L17*0.5 -> 0.0028571429
L20: =L17*0.25 -> 0.0014285714
K21: Functionality can be delivered by development but changes are not preserved in future upgrades or it is not possible to provide this functionality. | L21: 0
A22: F_VW2 | B22: Consolidated wheeling data environment | C22: Eskom requires the "consolidated wheeling data environment" to be able to calculate wheeled energy refunds / credits: - Ability to calculate wheeled energy allocations and refunds / credits for configured qualifying customer premises (or municipal customers) using available interval meter read data. - Ability to calculate consolidated wheeled energy allocations and refunds / credits for a large customer with many customer premises i.e., single refund / credit for all customer premises. | D22: In your technical response select one of the options below to describe how the required functionality could be delivered, and indicate via screenshots and / or indicate the relevant modules required to provide the functionality: 5. Standard functionality 4. Deliver by configuration 3. Deliver by built in customization tools 2. Deliver by development (changes are preserved in future upgrades) 1. Deliver by development (BUT changes NOT preserved in future upgrades) 0. Not Possible | H22: Very important | I22: =IF(H22='Response Guidlines'!$D$81,'Response Guidlines'!$C$81, IF(H22='Response Guidlines'!$D$82,'Response Guidlines'!$C$82,IF(H22='Response Guidlines'!$D$83,'Response Guidlines'!$C$83,IF(H22='Response Guidlines'!$D$84,'Response Guidlines'!$C$84,IF(H22='Response Guidlines'!$D$85,'Response Guidlines'!$C$85,IF(H22='Response Guidlines'!$D$86,'Response Guidlines'!$C$86,IF(H22='Response Guidlines'!$D$87,'Response Guidlines'!$C$87,"No Rating"))))))) -> 4 | J22: =(I22/$I$192)/_xlfn.XLOOKUP('Scoring Summary'!$D$19,'Response Guidlines'!$D$92:$D$191,'Response Guidlines'!$C$92:$C$191,"",0,1) -> 0.0057142857 | K22: Standard functionality or can be delivered by configuration. | L22: =J22 -> 0.0057142857
L23: =L22*0.75 -> 0.0042857143
K24: Functionality can be delivered by built in customization tools or can be delivered by development with changes preserved in future upgrades. | L24: =L22*0.5 -> 0.0028571429
L25: =L22*0.25 -> 0.0014285714
K26: Functionality can be delivered by development but changes are not preserved in future upgrades or it is not possible to provide this functionality. | L26: 0
A27: F_VW3 | B27: Consolidated wheeling data environment | C27: Eskom requires the "consolidated wheeling data environment" to transfer wheeled energy refunds / credits to the billing system for further processing. | D27: In your technical response select one of the options below to describe how the required functionality could be delivered, and indicate via screenshots and / or indicate the relevant modules required to provide the functionality: 5. Standard functionality 4. Deliver by configuration 3. Deliver by built in customization tools 2. Deliver by development (changes are preserved in future upgrades) 1. Deliver by development (BUT changes NOT preserved in future upgrades) 0. Not Possible | H27: Very important | I27: =IF(H27='Response Guidlines'!$D$81,'Response Guidlines'!$C$81, IF(H27='Response Guidlines'!$D$82,'Response Guidlines'!$C$82,IF(H27='Response Guidlines'!$D$83,'Response Guidlines'!$C$83,IF(H27='Response Guidlines'!$D$84,'Response Guidlines'!$C$84,IF(H27='Response Guidlines'!$D$85,'Response Guidlines'!$C$85,IF(H27='Response Guidlines'!$D$86,'Response Guidlines'!$C$86,IF(H27='Response Guidlines'!$D$87,'Response Guidlines'!$C$87,"No Rating"))))))) -> 4 | J27: =(I27/$I$192)/_xlfn.XLOOKUP('Scoring Summary'!$D$19,'Response Guidlines'!$D$92:$D$191,'Response Guidlines'!$C$92:$C$191,"",0,1) -> 0.0057142857 | K27: Standard functionality or can be delivered by configuration. | L27: =J27 -> 0.0057142857 | N27: JB: Not needed here… just integration stuff?? Out…
L28: =L27*0.75 -> 0.0042857143
K29: Functionality can be delivered by built in customization tools or can be delivered by development with changes preserved in future upgrades. | L29: =L27*0.5 -> 0.0028571429
L30: =L27*0.25 -> 0.0014285714
K31: Functionality can be delivered by development but changes are not preserved in future upgrades or it is not possible to provide this functionality. | L31: 0
A32: F_VW4 | B32: Consolidated wheeling data environment | C32: Eskom requires the "consolidated wheeling data environment" to transfer energy wheeling configuration (or configuration changes) to the billing system. | D32: In your technical response select one of the options below to describe how the required functionality could be delivered, and indicate via screenshots and / or indicate the relevant modules required to provide the functionality: 5. Standard functionality 4. Deliver by configuration 3. Deliver by built in customization tools 2. Deliver by development (changes are preserved in future upgrades) 1. Deliver by development (BUT changes NOT preserved in future upgrades) 0. Not Possible | H32: Very important | I32: =IF(H32='Response Guidlines'!$D$81,'Response Guidlines'!$C$81, IF(H32='Response Guidlines'!$D$82,'Response Guidlines'!$C$82,IF(H32='Response Guidlines'!$D$83,'Response Guidlines'!$C$83,IF(H32='Response Guidlines'!$D$84,'Response Guidlines'!$C$84,IF(H32='Response Guidlines'!$D$85,'Response Guidlines'!$C$85,IF(H32='Response Guidlines'!$D$86,'Response Guidlines'!$C$86,IF(H32='Response Guidlines'!$D$87,'Response Guidlines'!$C$87,"No Rating"))))))) -> 4 | J32: =(I32/$I$192)/_xlfn.XLOOKUP('Scoring Summary'!$D$19,'Response Guidlines'!$D$92:$D$191,'Response Guidlines'!$C$92:$C$191,"",0,1) -> 0.0057142857 | K32: Standard functionality or can be delivered by configuration. | L32: =J32 -> 0.0057142857 | N32: JB: Not needed here… just integration stuff??
L33: =L32*0.75 -> 0.0042857143
K34: Functionality can be delivered by built in customization tools or can be delivered by development with changes preserved in future upgrades. | L34: =L32*0.5 -> 0.0028571429
L35: =L32*0.25 -> 0.0014285714
K36: Functionality can be delivered by development but changes are not preserved in future upgrades or it is not possible to provide this functionality. | L36: 0
