Workbook
Name Area_Print: #REF!
Name CERT1: #REF!
Name CERT2: #REF!
Name CERT3: #REF!
Name Data: #REF!
Name Data_Daywork: #REF!
Name Data_Opt_Bill5: #REF!
Name Sort_Data: #REF!

Sheet TENDER COVER PAGE
A2: ESKOM-NTCSA
A3: =B10 -> NETWORK INTRUSION DETECTION SYSTEM(NIDS) & ENDPOINT DETECTION
A6: PRICING INFORMATION
A8: ENQUIRY No.
A10: NAME OF PACKAGE: | B10: =Summary!A3 -> NETWORK INTRUSION DETECTION SYSTEM(NIDS) & ENDPOINT DETECTION
A12: TENDERER’S NAME:
A14: CATEGORY OF OFFER (MAIN/ALTERNATIVE OFFER): | B14: Main Offer
A16: TENDERED PRICE: IN ZAR | B16: =Summary!E11 -> 0
A17: (excluding VAT)
A19: RAND VALUE IN WORDS | B19: [Price in Words]
A20: (Including VAT)
A24: TENDERED PRICE: IN ZAR
A25: (including VAT)
A27: DATE :
A31: FULL NAMES OF SIGNATORY:
A35: DESIGNATION OF SIGNATORY:
A39: SIGNATURE :

Sheet Preamble
B2: ESKOM-NTCSA
B3: ='TENDER COVER PAGE'!A3 -> NETWORK INTRUSION DETECTION SYSTEM(NIDS) & ENDPOINT DETECTION
B5: Bill of Quantities
B7: PREAMBLES
A9: 1 | B9: The Tenderer is advised to read and understand all aspects and documentation associated with this Enquiry BEFORE inserting his Prices and or Rates and or Amounts.
A11: 2 | B11: The bill of quantities provides the basis of all valuations of the work, price adjustment (CPA) and general progress monitoring.
A13: 3 | B13: The amount due at each application for payment is based as measured in terms of the bill of quantities. The Contractor provides all necessary information which is required to determine amounts due at each application for payment relative to the completed works
A15: 4 | B15: The total of the prices includes for all direct and indirect costs, overheads, profits, on costs, risks, liabilities, obligations, etc. relative to the contract.
A17: 5 | B17: All values are total values prior to any retention and excludes VAT. Retention is not calculated in the forecast rate of payment Bill (FRP).
A19: 6 | B19: Tenderer to check and take responsibility for all descriptions, formulae and structure of this file.
A21: 7 | B21: The tenderer is expected to supply, deliver,commission and install as per the scope of work and according to Eskom-NTCSA requirements
A23: 8 | B23: Tempering with this BOQ is strictly prohibited
A25: B | B25: GUIDANCE BEFORE PRICING AND MEASURING
A27: C | B27: METHOD OF MEASUREMENT
B29: Tenderers shall price the items, taking account all of the information within and associated with the tender documents and shall include for all matters, which are at the Contractors risk.
B31: All enquiry documents supplied must be considered for pricing the items in the Bills of Quantities for the completion of the works.
B33: Unless otherwise stated, items are measured net in accordance with the contract drawings, and no allowance has been made for waste or bulking or compaction or evaporation or loss by any means whatsoever.
B35: The quantities contained in the bill of quantities are provisional, and shall not be used for ordering purposes. No claims whatsoever, however arising will be entertained, should the bill of quantities have been used for ordering and or procurement purposes.
A37: D | B37: RATES AND PRICES
B39: The tenderers must insert prices for all activities and calculate the prices thereof even in the event of a zero (NIL) quantity.
B41: Blank/omitted/empty rates will be assumed to be zero (NIL) Rands i.e. R0.00
B43: Rates and Prices shall be expressed to two decimal places (i.e. cents) except in the case of a NIL rate or price.
B45: The Tenderers Rates and Prices shall be inserted in the bill of quantities are deemed to be the fully inclusive Rates and Prices to the Employer for the work described under the several items. Such Rates and Prices shall cover all costs and expenses that may be required in, and for the prompt and efficient and safe execution of the work described, and shall cover the cost of all general risks, liabilities and obligations set forth or implied in this Enquiry document.
B47: Rates and Prices for items which are required to be inserted in the bill of quantities by the Tenderer and which have not been duly inserted, are deemed to be covered by other Rates and Prices in the bill of quantities.
B49: The Tenderers omission to insert Rates and Prices shall not be deemed to be a qualified exclusion to execute such work, activity or responsibility.
B51: The Rates and Prices are deemed to include (unless otherwise specifically stated in the bill of quantities or herein) all the relevant costs associated with the Clauses of Contract as amended and shall include but not be limited to the following cost components:
B53: The Tenderer is deemed to have obtained all the necessary information required to adequately price the scope of work associated with this Enquiry and no claim shall be considered resulting from lack of knowledge in this respect.

Sheet Summary
A2: =[1]Summary!A2 -> ESKOM-NTCSA
A3: =[1]Summary!A3 -> NETWORK INTRUSION DETECTION SYSTEM(NIDS) & ENDPOINT DETECTION
A6: FINAL SUMMARY
A8: BILL | B8: DESCRIPTION | E8: AMOUNT
A9: 1 | B9: SUPPLY AND DELIVERY OF EDR | E9: =EDR!F90 -> 0
A10: =A9+1 -> 2 | B10: DEPLOYMENT SERVICES FOR EDR | E10: =EDR!F169 -> 0
B11: SUBTOTAL | E11: =SUM(E9:E10) -> 0
A12: ADD | B12: Contingency @ 10% (Solely for the use of the Client, and only on instruction to Contractor) | D12: =D11*E12 -> 0
B13: Subtotal 2 | D13: =SUM(D11:D12) -> 0
A14: ADD | B14: VAT @ 15% | E14: =E11*15% -> 0
B15: TOTAL CARRIED TO FORM OF OFFER | E15: =E11+E14 -> 0
A19: ………………………………............. | C19: ……………………………………..
A20: SIGNATURE OF TENDERER | C20: DATE
A22: ….................................................. | C22: ….................................................
A23: NAME OF TENDERER | C23: DESIGNATION

Sheet EDR
A2: =[1]Summary!A2 -> ESKOM-NTCSA
A3: =[1]Summary!A3 -> NETWORK INTRUSION DETECTION SYSTEM(NIDS) & ENDPOINT DETECTION
A4: =[1]Summary!A4 -> RESPONSE(EDR) SOLUTION FOR NTCSA OT SYSTEMS
A6: ITEM | B6: DESCRIPTION | C6: UNIT | D6: QUANTITY | E6: RATE | F6: AMOUNT
B8: BILL NO. 1 - ENDPOINT DETECTION RESPONSE SOLUTION ( EDR)
B10: The quantities inserted below are provisional and are based on best information available at the time of compiling these Bills of Quantities and as such, the works shall be subject to remeasurement.
B13: SUPPLY, DELIVERY AND INSTALLATION OF HARDWARE,SOFTWARE AND LICENCING INCL. TRAINING
B16: SYSTEM 1 : EDR SIZING FOR TEMSE
A20: 1 | B20: Master Console( master station consoles from where monitoring can be done-one for the main system,and one for the networking equipment that is managed out of band | C20: No. | D20: 2 | F20: =D20*E20 -> 0
A21: 2 | B21: Windows servers | C21: No. | D21: 21 | F21: =D21*E21 -> 0
A22: 3 | B22: Linux servers ( with red-hat package manager based distributions) | C22: No. | D22: 86 | F22: =D22*E22 -> 0
A23: 4 | B23: Linux Workstations ( with Debian based distributions) | C23: No. | D23: 102 | F23: =D23*E23 -> 0
A24: 5 | B24: Windows 7/8 guests on workstations | C24: No. | D24: 98 | F24: =D24*E24 -> 0
A25: 6 | B25: Network routers | C25: No. | D25: 16 | F25: =D25*E25 -> 0
A26: 7 | B26: Network switches | C26: No. | D26: 72 | F26: =D26*E26 -> 0
A27: 8 | B27: Network firewall pairs | C27: No. | D27: 6 | F27: =D27*E27 -> 0
A28: 9 | B28: Standalone network firewalls | C28: No. | D28: 3 | F28: =D28*E28 -> 0
B29: SUBTOTAL SYSTEM 1 | F29: =SUM(F20:F28) -> 0
B31: SYSTEM 02 : EDR SIZING FOR TELECOMMUNICATIONS
A33: 1 | B33: Master station Consoles from where monitorng can be done | C33: No. | D33: 1 | F33: =D33*E33 -> 0
A35: 2 | B35: Windows servers | C35: No. | D35: 12 | F35: =D35*E35 -> 0
A37: 3 | B37: Linux Servers | C37: No. | D37: 31 | F37: =D37*E37 -> 0
A39: 4 | B39: Windows workstations | C39: No. | D39: 48 | F39: =D39*E39 -> 0
A40: 5 | B40: Network routers | C40: No. | D40: 781 | F40: =D40*E40 -> 0
A41: 6 | B41: Network switches | C41: No. | D41: 64 | F41: =D41*E41 -> 0
A43: 7 | B43: Network firewall pairs | C43: No. | D43: 4 | F43: =D43*E43 -> 0
B44: SUBTOTAL SYSTEM 2 | F44: =SUM(F33:F43) -> 0
B46: SYSTEM 03 : PHYSICAL SECURITY-EDR SIZING
A48: 1 | B48: Master station consoles ( 2 for the opertaion environment and 2 for DMZ environment) | C48: No. | D48: 4 | F48: =D48*E48 -> 0
A50: 2 | B50: Windows servers( 4 current installed base but prject 1 recovery server at eMkhiweni and 152 servers for telecoms sites and 119 servers for Transmission substations) | C50: No. | D50: 4 | F50: =D50*E50 -> 0
A52: 3 | B52: Windows workstations | C52: No. | D52: 2 | F52: =D52*E52 -> 0
A54: 4 | B54: Network switches | C54: No. | D54: 21 | F54: =D54*E54 -> 0
A56: 5 | B56: Standalone network firewalls | C56: No. | D56: 4 | F56: =D56*E56 -> 0
B57: SUBTOTAL SYSTEM 03 | F57: =SUM(F48:F56) -> 0
B59: SYSTEM 4 : AFAS-EDR SIZING
A62: 1 | B62: Scanning masters | C62: No. | D62: 15 | F62: =D62*E62 -> 0
A64: 2 | B64: Windows servers | C64: No. | D64: 4 | F64: =D64*E64 -> 0
B65: SUBTOTAL SYSTEM 04 | F65: =SUM(F62:F64) -> 0
B67: SYSTEM 5 : EADS-EDR SIZING
A70: 1 | B70: Windows servers | C70: No. | D70: 4 | F70: =D70*E70 -> 0
...
