Workbook
Name Consequence: '[1]Drop Down Lists'!$A$3:$A$8
Name Consequence: '[2]Drop Down Lists'!$A$3:$A$8
Name Likelihood: '[1]Drop Down Lists'!$B$3:$B$7
Name Likelihood: '[2]Drop Down Lists'!$B$3:$B$7
Name RCE: '[1]Drop Down Lists'!$D$3:$D$7
Name RCE: '[2]Drop Down Lists'!$D$3:$D$7

Sheet COVID-19
A3: Occupational Health and Safety Baseline risk assessment template
A4: Business/Operating unit: | B4: Eskom Telecommunications | J4: Department: | K4: Field Services & Functions Eastern Region | V4: Next Review Date (every 2 years): | W4: 44711 | X4: Template identifier: | Y4: 240-70044602
A6: Date: | B6: 43981 | J6: Prepared by: | K6: Zama Sabela, Masego Msibi, Tejan Pillay | M6: Authorised by: | O6: Name: Mfundiso Hina | X6: Document identifier | AN6: R | AO6: Safety | AP6: 1 | AQ6: A | AR6: Fully effective | AS6: I
O7: Designation: Regional Manager (Eastern Region) | X7: Template Revision number: | Y7: 6 | AN7: N | AO7: Health | AP7: 2 | AQ7: B | AR7: Mostly effective | AS7: II
O8: Signed: | X8: Template Revision date: | Y8: 45443 | AP8: 3 | AQ8: C | AR8: Mostly ineffective | AS8: III
O9: Date: | X9: Docment Rev Number | Y9: 8 | AP9: 4 | AQ9: D | AR9: None | AS9: IV
A10: Refer to Occupational Health and Safety Risk assessment procedure 32-520 | AP10: 5 | AQ10: E
A11: List activity | B11: Activity type (Routine/Non-routine) | C11: Hazard nr | D11: Hazard Identification | E11: Risk Nr | F11: Associated risk | G11: Risk type | H11: Cause(s) of the risk | I11: Exposed group/employees | J11: Risk Owner | K11: Exposure patterns | L11: What are the possible consequences? | M11: Existing Controls | Q11: Risk Priority Rating | S11: Additional Controls or Tasks Aimed at improving Existing Controls | T11: Monitoring Mechanisms | U11: Control Owner | V11: Legal and Other Requirements | W11: Target Date | X11: Current Status | Y11: Integrated Risk Management (IRM) reference number | AP11: 6
A12: List specific activities to be performed taking into consideration the equipment to be used, the personnel involved in the task. | B12: Indicate R or N 1. Routine activities and situations create hazards through day-to-day operations and normal work activities; 2. Non-routine activities and situations are occasional or unplanned; | C12: # | D12: Anything with potential to cause of harm. Note: A hazard can pose more than one risk. | E12: # | F12: A chance that injury , ill health or damage could occur as a result of uncontrolled hazard. | G12: Safety or health | H12: What causes the risk to come into effect? | I12: Who is exposed to the hazard i.e. visitors, members of the public, etc. | J12: Who is accountable for making sure the controls and monitors are: - in place, - implemented, - regularly reviewed for effectiveness. | K12: The frequency and duration the person/group is exposed to the hazard e.g. Daily for 3 hrs. | L12: Consider the worse case scenario without controls? | M12: Include: - Preventative Controls (controls implemented to eliminate hazards or reduce the likelihood of the risk occurring), and - Reactive Controls (controls implemented to reduce the immediate impact of the risk occurring) Elimination Substitution Engineering controls Administrative controls Personal protective equipment (PPE) | N12: Consequence | O12: Likelihood | R12: RCE Risk Control Effectiveness | S12: Include: - Preventative Controls (controls implemented to eliminate hazards or reduce the likelihood of the risk occurring), and - Reactive Controls (controls implemented to reduce the immediate impact of the risk occurring) Elimination Substitution Engineering controls Administrative controls Personal protective equipment (PPE) | T12: How we know if we are succeeding. Include comments on effectiveness. This may include i.e. measurements, inspections, supervision where necessary. | U12: Person allocated the responsibility for implementing the agreed controls | V12: Where relevant, list the relevant legislative and or Eskom requirements that prescribe the control. | W12: Once a date has been agreed to, this can not be changed | X12: Pending, In Progress, Complete | Y12: Where applicable, add IRM system reference number for tracking of treatment actions. | AE12: Consequences | AF12: 6 | AG12: III | AH12: II | AI12: I | AJ12: I | AK12: I
A13: Movement around and entry in the working environment and carrying out daily ouptputs | B13: R | C13: 1 | D13: Corona Virus Outbreak | E13: 1 | F13: Employees contracting the virus leading to ill-health, reduced productivity | G13: Health | H13: Spread of infected droplets through exhaling and inhaling with open mouth, coughing and sneezing, touching of infected surfaces, poor ventilation, recirculating air | I13: Employees, visitors, contractors | J13: Responsible Manager | K13: Daily | L13: Possible ill-health or death | Reduced staff morale / depressed staff | Reduced productivity |Network failure | M13: Lockdown. Essential employees identified and given PPE for protection. Awareness raised on COVID 19 | N13: 5 | O13: C | P13: =CONCATENATE(N13,O13) -> 5C | Q13: =IF(OR(ISBLANK(N13),ISBLANK(O13))," ",VLOOKUP(P13,'[3]Risk matrix'!$A$26:$B$55,2,FALSE)) -> II | R13: Mostly effective | S13: Continuous awareness on COVID 19 should be ongoing, sanitising/cleaning office areas | T13: Continued engagements with staff | U13: Responsible Manager | V13: Disaster Management Act 57 of 2002 (updated 2020/03/19) | W13: 44286 | X13: In Progress | Y13: N/A | AF13: 5 | AG13: III | AH13: II | AI13: II | AJ13: I | AK13: I
B14: R | C14: 2 | D14: Poor hygiene practices | E14: 2 | F14: possibility of contracting the disease and spreading it which will in turn lead to productivity decline from fearful and unfit employees | G14: Health | H14: Washing of hands, touching faces with unclean hands, or contaminared surfaces and not washing your hands | I14: Employees, visitors, contractors | J14: Responsible Manager | K14: Daily | L14: Possible ill-health or death | Reduced staff morale / depressed staff | Reduced productivity |Network failure | M14: Awareness raised on the importance of regular handwashing | N14: 5 | O14: C | P14: =CONCATENATE(N14,O14) -> 5C | Q14: =IF(OR(ISBLANK(N14),ISBLANK(O14))," ",VLOOKUP(P14,'[3]Risk matrix'!$A$26:$B$55,2,FALSE)) -> II | R14: Mostly effective | S14: Continuous awareness on the importance of hand washing to be done | T14: Review of controls in the HIRA and to be verified during audits | U14: Responsible Manager | V14: Covid 19 control measures protocols | W14: 43921 | X14: In Progress | Y14: N/A | AF14: 4 | AG14: IV | AH14: III | AI14: II | AJ14: I | AK14: I
B15: R | C15: 3 | D15: Not maintaining social distancing | E15: 3 | F15: possibility of contracting the disease and spreading it which will in turn lead to productivity decline from fearful and unfit employees | G15: Health | H15: People working close to each other | I15: Employees, visitors, contractors | J15: Responsible Manager | K15: Daily | L15: Possible ill-health or death | Reduced staff morale / depressed staff | Reduced productivity |Network failure | M15: Awareness raised on the importance of social distancing. Employees permited to work from home. Adherence to lockdown managed through work permit system | N15: 5 | O15: C | P15: =CONCATENATE(N15,O15) -> 5C | Q15: =IF(OR(ISBLANK(N15),ISBLANK(O15))," ",VLOOKUP(P15,'[3]Risk matrix'!$A$26:$B$55,2,FALSE)) -> II | R15: Mostly effective | S15: Continuous awareness on the importance of social distancing to be done | T15: Review of controls in the HIRA and to be verified during audits | U15: Responsible Manager | V15: Covid 19 control measures protocols | W15: 44286 | X15: In Progress | Y15: N/A | AF15: 3 | AG15: IV | AH15: III | AI15: II | AJ15: II | AK15: I
B16: R | C16: 4 | D16: Multiple staff working in overcrowded work areas | E16: 4 | F16: Possible spread of infection | G16: Health | H16: not being able to maintain social distancing due to limited space | I16: Employees, visitors, contractors | J16: Responsible Manager | K16: Daily | L16: Possible ill-health or death | Reduced staff morale / depressed staff | Reduced productivity |Network failure | M16: Lockdown measures implemented. Awareness raised on social distancing. Working from home | N16: 4 | O16: A | P16: =CONCATENATE(N16,O16) -> 4A | Q16: =IF(OR(ISBLANK(N16),ISBLANK(O16))," ",VLOOKUP(P16,'[3]Risk matrix'!$A$26:$B$55,2,FALSE)) -> III | R16: Mostly effective | S16: Continuous awareness on the importance of avoiding overcrowding to be done | T16: Review of controls in the HIRA and to be verified during audits | U16: Responsible Manager | V16: Covid 19 control measures protocols | W16: 44286 | X16: In Progress | Y16: N/A | AF16: 2 | AG16: IV | AH16: IV | AI16: III | AJ16: II | AK16: II
B17: R | C17: 5 | D17: Unhygienic use of breathalisers and biometrics units | E17: 5 | F17: Possible spread of infection | G17: Health | H17: not sanitising the equipment after using it on an infected person | I17: Employees, visitors, contractors, security | J17: Responsible Manager | K17: Daily | L17: Possible ill-health or death | Reduced staff morale / depressed staff | Reduced productivity |Network failure | M17: Breatherlyzer testing has been stopped. All biometrics have been disabled. | N17: 4 | O17: B | P17: =CONCATENATE(N17,O17) -> 4B | Q17: =IF(OR(ISBLANK(N17),ISBLANK(O17))," ",VLOOKUP(P17,'[3]Risk matrix'!$A$26:$B$55,2,FALSE)) -> III | R17: Mostly effective | S17: Should breathalyzer testing be reinstated, sanitising equipment will be key. Specialised will be need to be done to ensure that there is not spread of infection | T17: Review of controls in the HIRA and to be verified during audits | U17: Responsible Manager | V17: Covid 19 control measures protocols | W17: 44286 | X17: In Progress | Y17: N/A | AF17: 1 | AG17: IV | AH17: IV | AI17: III | AJ17: III | AK17: III
B18: R | C18: 6 | D18: Non adherence to lockdown regulations | E18: 6 | F18: Possible spread and contracting of infection | G18: Health | H18: People not staying at home and making non essential travels | I18: Employees, visitors, contractors | J18: Responsible Manager | K18: Daily | L18: Possible ill-health or death | Reduced staff morale / depressed staff | Reduced productivity |Network failure | M18: Essential services provided with permits to go to work only when it is absolutely necessary | N18: 4 | O18: B | P18: =CONCATENATE(N18,O18) -> 4B | Q18: =IF(OR(ISBLANK(N18),ISBLANK(O18))," ",VLOOKUP(P18,'[3]Risk matrix'!$A$26:$B$55,2,FALSE)) -> III | R18: Mostly effective | S18: Monitoring of clocking and the maintenance of permits for essential services to continue | T18: Review of controls in the HIRA and to be verified during audits | U18: Responsible Manager | V18: Covid 19 control measures protocols | W18: 44286 | X18: In Progress | Y18: N/A | AG18: A | AH18: B | AI18: C | AJ18: D | AK18: E
B19: R | C19: 7 | D19: Lack of awareness on covid 19 effects and precautions | E19: 7 | F19: Acts or conditions existing which may lead to spread and contracting of the virus | G19: Health | H19: Awareness not raised | I19: Employees, visitors, contractors | J19: Responsible Manager | K19: Daily | L19: Possible ill-health or death | Reduced staff morale / depressed staff | Reduced productivity |Network failure | M19: Continuous awareness presentations sent out via emails. Communication via the tactical command centres | N19: 4 | O19: B | P19: =CONCATENATE(N19,O19) -> 4B | Q19: =IF(OR(ISBLANK(N19),ISBLANK(O19))," ",VLOOKUP(P19,'[4]Risk matrix'!$A$26:$B$55,2,FALSE)) -> III | R19: Mostly effective | S19: Continuous Awareness on the effects of Covid 19 to be raised | T19: Review of controls in the HIRA and to be verified during audits | U19: Responsible Manager | V19: Covid 19 control measures protocols | W19: 44286 | X19: In Progress | Y19: N/A | AG19: Likelihood
B20: R | C20: 8 | D20: Not screening employees and other individuals entering the workplace | E20: 8 | F20: Infected individuals entering the workplace and spreading the virus | G20: Health | H20: No screening facilities, employees refusing to be screened, no policies on screening | I20: Employees, visitors, contractors | J20: Responsible Manager | K20: Daily | L20: Possible ill-health or death | Reduced staff morale / depressed staff | Reduced productivity |Network failure | M20: Screening of employees done at entrances. Plan dealing with screening in place and implemented. Also the Covid-19 mobile app. | N20: 5 | O20: B | P20: =CONCATENATE(N20,O20) -> 5B | Q20: =IF(OR(ISBLANK(N20),ISBLANK(O20))," ",VLOOKUP(P20,'[4]Risk matrix'!$A$26:$B$55,2,FALSE)) -> II | R20: Mostly effective | S20: Continued screening of employees and other persons entering the premises at entrances | T20: Continuous monitoring to be done to ensure compliance | U20: Responsible Manager | V20: Covid 19 control measures protocols | W20: 44286 | X20: In Progress | Y20: N/A
B21: R | C21: 9 | D21: Non provision of hand sanitizer | E21: 9 | F21: Employees who had contact with the virus being infected through touching their nose and mouth or spreading the virus by touching surfaces in the workplace | G21: Health | H21: Hand sanitizers not purchased as they should, shortage in the market | I21: Employees, visitors, contractors | J21: Responsible Manager | K21: Daily | L21: Possible ill-health or death | Reduced staff morale / depressed staff | Reduced productivity |Network failure | M21: Approved hand sanitizers are placed at strategic points in line with the ERE plan and hand sanitisers have been issued to all staff | N21: 4 | O21: B | P21: =CONCATENATE(N21,O21) -> 4B | Q21: =IF(OR(ISBLANK(N21),ISBLANK(O21))," ",VLOOKUP(P21,'[4]Risk matrix'!$A$26:$B$55,2,FALSE)) -> III | R21: Mostly effective | S21: Continued provision of hand sanitizer at strategic points and to field services workers and those not permanently based at the offices | T21: Review of controls in the HIRA and to be verified during audits | U21: Responsible Manager | V21: Covid 19 control measures protocols | W21: 44286 | X21: In Progress | Y21: N/A
B22: R | C22: 10 | D22: Not sanitising of work surfaces (Common areas, equipment etc) | E22: 10 | F22: Spreading the virus through touching of contaminated surfaces | G22: Health | H22: No sanitising equipment, not sufficient resources to sanitize surfaces, not following safe standard operating procedures, complacency | I22: Employees, visitors, contractors | J22: Responsible Manager | K22: Daily | L22: Possible ill-health or death | Reduced staff morale / depressed staff | Reduced productivity |Network failure | M22: Surface sanitizer schedule in place. Cleaning done as per the schedule | N22: 4 | O22: B | P22: =CONCATENATE(N22,O22) -> 4B | Q22: =IF(OR(ISBLANK(N22),ISBLANK(O22))," ",VLOOKUP(P22,'[4]Risk matrix'!$A$26:$B$55,2,FALSE)) -> III | R22: Mostly effective | S22: continued surface sanitization | T22: Review of controls in the HIRA and to be verified during audits | U22: Responsible Manager | V22: Covid 19 control measures protocols | W22: 44286 | X22: In Progress | Y22: N/A
B23: R | C23: 11 | D23: No/poor provision of hand washing facilities(Soap, running water, paper towel etc) | E23: 11 | F23: Possible spread of the infection | G23: Health | H23: Shortage in the market, no compliance by the contractor | I23: Employees, visitors, contractors | J23: Responsible Manager | K23: Daily | L23: Possible ill-health or death | Reduced staff morale / depressed staff | Reduced productivity |Network failure | M23: Hand washing facilities are in place. Provision of hand washing soap outsourced | N23: 4 | O23: C | P23: =CONCATENATE(N23,O23) -> 4C | Q23: =IF(OR(ISBLANK(N23),ISBLANK(O23))," ",VLOOKUP(P23,'[4]Risk matrix'!$A$26:$B$55,2,FALSE)) -> II | R23: Mostly effective | S23: Warm water could be reinstated in the ablutionary facilities to facilitate proper handwashing | T23: Review of controls in the HIRA and to be verified during audits | U23: Responsible Manager | V23: Covid 19 control measures protocols | W23: 44286 | X23: In Progress | Y23: N/A
B24: R | C24: 12 | D24: Not having measures in place to deal with personnel presenting with the symptoms (Isolation facilities, means of transport) | E24: 12 | F24: Possible spread of the infection | G24: Health | H24: Poor Planning, shortage of facilities | I24: Employees, visitors, contractors | J24: Responsible Manager | K24: Daily | L24: Possible ill-health or death | Reduced staff morale / depressed staff | Reduced productivity |Network failure | M24: Medical facility available in some of the premises. Demarcated office space that can be isolated from all other areas. | N24: 5 | O24: C | P24: =CONCATENATE(N24,O24) -> 5C | Q24: =IF(OR(ISBLANK(N24),ISBLANK(O24))," ",VLOOKUP(P24,'[4]Risk matrix'!$A$26:$B$55,2,FALSE)) -> II | R24: Mostly effective | S24: Isolation areas should be identified for that puspose. Transportation to be put set aside for when there is a need to transport anyone | T24: Review of controls in the HIRA and to be verified during audits | U24: Responsible Manager | V24: Covid 19 control measures protocols | W24: 44286 | X24: In Progress | Y24: N/A
B25: R | C25: 13 | D25: Poor ventilation / recirculation of air | E25: 13 | F25: Possible spread of the infection | G25: Health | H25: Centralised airconditioning, no windows or windows not open for fresh air, aircons recirculating air instead of providing fresh air | I25: Employees, visitors, contractors | J25: Responsible Manager | K25: Daily | L25: Possible ill-health or death | Reduced staff morale / depressed staff | Reduced productivity |Network failure | M25: Lockdown measures resulting in staff working from home so low exposure | N25: 5 | O25: C | P25: =CONCATENATE(N25,O25) -> 5C | Q25: =IF(OR(ISBLANK(N25),ISBLANK(O25))," ",VLOOKUP(P25,'[4]Risk matrix'!$A$26:$B$55,2,FALSE)) -> II | R25: Mostly effective | S25: Create awareness on dangers of poor ventilation and incorrect usage of aircons | T25: Review of controls in the HIRA and to be verified during audits | U25: Responsible Manager | V25: Covid 19 control measures protocols | W25: 44286 | X25: In Progress | Y25: N/A

Sheet Risk template
A3: Occupational Health and Safety Baseline risk assessment template
A4: Business/Operating unit: | B4: Eskom Telecommunications | J4: Department: | K4: Field Services and Functions - Eastern Region | U4: Next Review Date (every 2 years): | V4: 44562 | W4: Template identifier: | X4: 240-70044602
A6: Date: | B6: 17/06/2020 | J6: Prepared by: | K6: Siyakudumisa Nondula, Tanduxolo Qika, Jose Pereira, Johannes Gerstner, Dallas Dreyer, Siviwe Siwisa, Benjamin Michielies, Andre Alexander, Thembela Majola, Jacquinn Jacobs, Vernon Soobramoney, Kevin David, Sihle Mashazi, Neal Parmanand, Pieter Burger,Unathi Dyantyi, Paulinus Kortje, Tejan Pillay | M6: Authorised by: | O6: Name: Mfundiso Hina | W6: Document identifier | AM6: R | AN6: Safety | AO6: 1 | AP6: A | AQ6: Fully effective | AR6: I
O7: Designation: Regional Manager, Eastern Region | W7: Revision number: | X7: 1 | AM7: N | AN7: Health | AO7: 2 | AP7: B | AQ7: Mostly effective | AR7: II
O8: Signed: | W8: Revision date: | X8: 43878 | AO8: 3 | AP8: C | AQ8: Mostly ineffective | AR8: III
O9: Date: | AO9: 4 | AP9: D | AQ9: None | AR9: IV
A10: Refer to Occupational Health and Safety Risk assessment procedure 32-520 | AO10: 5 | AP10: E
A11: List activity | B11: Activity type (Routine/Non-routine) | C11: Hazard nr | D11: Hazard Identification | E11: Risk Nr | F11: Associated risk | G11: Risk type | H11: Cause(s) of the risk | I11: Exposed group/employees | J11: Risk Owner | K11: Exposure patterns | L11: What are the possible consequences? | M11: Existing Controls | P11: Risk Priority Rating | R11: Additional Controls or Tasks Aimed at improving Existing Controls | S11: Monitoring Mechanisms | T11: Control Owner | U11: Legal and Other Requirements | V11: Target Date | W11: Current Status | X11: Integrated Risk Management (IRM) reference number | AO11: 6
A12: Travelling By Road | B12: R | C12: 1 | D12: Fatigue | E12: 1 | F12: Falling asleep while driving, | G12: Safety | H12: Travelling long distances without resting, partying for long hours and not getting enough rest, studying for long hours without getting any rest | I12: Employees, Members of the Public | J12: Responsible Manager, Employees. | K12: Daily | L12: MVA which may lead to injury or fatality | M12: Safety Awareness on fatigue Management, Availability, implementation and Monitoring of adherence to fatigue Management Procedure (ETTB 1517), Availability, implementation and monitoring of adherence to the travelling Procedure 240-62946386, MVA reports are analysed on a monthly basis to determine trends on excessive km travelled | N12: 5 | O12: 3 | P12: II | Q12: P | R12: Maintaining current controls | S12: Monthly monitoring with trends below the set target | T12: Line Management, SHEQ Personnel, Head of sections/supervisors, Employees | U12: Line 32.3, Driver Fatigue management, ETTB 1517, Safe Travelling Procedure 240-62946386; Risk Assessment Procedure 32-520) Task Specific Risk Assessment (ETFM1289)(ETFM1038) OHSAS 18001(4.3.1,4.5.3) | AE12: 5 | AF12: III | AG12: II | AH12: II | AI12: I | AJ12: I
B13: R | C13: 2 | D13: Mechanical failures | E13: 2 | F13: Defective Vehicle | G13: Safety | H13: Mechanical Failure, Vehicle not checked for defects | I13: Employees, Members of Public, | J13: Responsible Manager, Employees. | K13: Daily | L13: MVA which may lead to injury or fatality | M13: Vehicle planned maintenance, pre-trip inspection, | N13: 4 | O13: 3 | P13: II | Q13: P | R13: Maintaining current controls | S13: Continuous Vehicle inspections and Maintenance | T13: Line Management, SHEQ Personnel, Head of sections/supervisors, Employees | U13: Line 32.3; Safe travelling procedure 240-62946386; Risk Assessment Procedure 32-520) Task Specific Risk Assessment (ETFM1289)(ETFM1038) OHSAS 18001(4.3.1,4.5.3) | AE13: 4 | AF13: IV | AG13: III | AH13: II | AI13: I | AJ13: I
B14: N | C14: 3 | D14: Wild/stray animals | E14: 3 | F14: Hitting a straying animal | G14: Safety | H14: Obscured view, Over Speeding, No Fencing along the road | I14: Employees, Members of the public | J14: Responsible Manager, Employees. | K14: Daily | L14: MVA which may lead to injury or fatality | M14: Defensive driving, driver awareness including being vigilant, obeying traffic rules | N14: 4 | O14: 3 | P14: II | Q14: P | R14: Maintaining current controls | S14: Continuous Safe Driving Awareness raised | T14: Line Management, SHEQ Personnel, Head of sections/supervisors, Employees | U14: Line 32.3, Risk Assessment procedure (32-520), ETFM1038, Task Specific Risk Assessment (ETFM1289); OHSAS 18001(4.3.1,4.5.3) | AE14: 3 | AF14: IV | AG14: III | AH14: II | AI14: II | AJ14: I
B15: N | C15: 4 | D15: Over speeding | E15: 4 | F15: Collision, losing control of the vehicle, unable to stop in time | G15: Safety | H15: Time Pressure, excitement, Doing things in haste, driving under intoxication | I15: Employees, Members of the Public. | J15: Responsible Manager, Employees. | K15: Daily | L15: MVA which may lead to injury or fatality | M15: OBC installed in Pool Vehicles, driver awareness, disciplinary measures | N15: 5 | O15: 4 | P15: I | Q15: P | R15: Maintaining current controls | S15: Monthly Monitoring of transgressions stats | T15: Line Management, SHEQ Personnel, Head of sections/supervisors, Employees | U15: Line 32.3, Line 54.1 and line 55.3, 55.5;Travelling Procedure 240-62946386, Risk Assessment procedure (32-520), ETFM1038, Task Specific Risk Assessment (ETFM1289), OHSAS 18001(4.3.1,4.5.3) | AE15: 2 | AF15: IV | AG15: IV | AH15: III | AI15: II | AJ15: II
B16: N | C16: 5 | D16: Exposure to Hijacking/ robbery at site | E16: 5 | F16: Possible assault, rape, stress, trauma, being shot | G16: Safety | H16: Crime, driving alone, Lack of security at site, working at night | I16: Employees. | J16: Responsible Manager, Employees. | K16: Daily | L16: Vehicle being taken, Possible injury or fatality | M16: Risk Assessment done for every task, Training on advanced and Defensive driving, Awareness on Hijacking, | N16: 5 | O16: 4 | P16: I | Q16: P | R16: Obtain information on the hijacking hotspots from Arrive alive and researching latest tricks on hijacking and sharing them through ET communications | S16: Monitoring through monthly reports on hijacking incidents | T16: Line Management, SHEQ Personnel, Head of sections/supervisors, Employees | U16: Line 32.3, Risk Assessment Procedure (32-520); OHSAS 18001(4.3.1,4.5.3) | AE16: 1 | AF16: IV | AG16: IV | AH16: III | AI16: III | AJ16: III
B17: N | C17: 6 | D17: Poor Road conditions | E17: 6 | F17: Possible puncture or damage to the vehicle tyre | G17: Safety | H17: Potholes, Sharp things on the road surface (Glass, Stones etc.), unclear signs, ignorance, narrow roads, Invisible road markings | I17: Employees, Members of the Public. | J17: Responsible Manager, Employees. | K17: Daily | L17: MVA which may lead to injury or fatality | M17: Awareness on safe driving, training on advance driving, 4x4 training for specific employees | N17: 4 | O17: 4 | P17: I | Q17: P | R17: Maintaining current controls | S17: Monitor causes of incidents | T17: Line Management, SHEQ Personnel, Head of sections/supervisors, Employees | U17: Line 32.3, Safe travelling procedure 240-62946386; OHSAS 18001(4.3.1,4.5.3) | AF17: A | AG17: B | AH17: C | AI17: D | AJ17: E
B18: N | C18: 7 | D18: Driving in a 4X4 Terrain without appropriate competence | E18: 7 | F18: The vehicle may capsize and roll | G18: Safety | H18: Using the vehicle not meant for that purpose | I18: Employees, members of the public. | J18: Responsible Manager, Employees. | K18: Daily | L18: MVA which may lead to injury or fatality | M18: 4x4 training by employees using 4x4, driver awareness, availability of suitable type of vehicle, permit issued on 4x4 driving. Flash reports for incidents shared through ET communications | N18: 4 | O18: 4 | P18: I | Q18: P | R18: Maintaining current controls | S18: Monitor incident trends through monthly reporting | T18: Line Management, SHEQ Personnel, Head of sections/supervisors, Employees | U18: Line 32.3, ETPR0364 and Safe travelling procedure 240-62946386; OHSAS 18001(4.3.1,4.5.3) | AF18: Likelihood
B19: R | C19: 8 | D19: Adverse weather conditions (Heavy rain, hail storm, heavy winds, snow) | E19: 8 | F19: Hitting vehicle in front or side, Adverse road conditions, hypothermia, | G19: Safety & Health | H19: Blurred vision, your vehicle swept away by water and the wind pushing it causing loss of control, Snow covered roads, being stuck in snow | I19: Employees, Members of the public. | J19: Responsible Manager, Employees. | K19: Daily | L19: MVA which may lead to injury or fatality | M19: Implementation and monitoring adherence to Procedures prohibiting work in bad weather condition (travelling Procedure Safe travelling procedure 240-62946386), Awareness on travelling during bad weather conditions, training on skidpan, Awareness on limiting working only to extreme cases, defensive driving course, Wearing Personal Protective Clothing (Gloves and Winter Jacket) | N19: 5 | O19: 3 | P19: II | Q19: P | R19: Maintaining current controls | S19: Monthly Incident analysis and sharing of lessons learnt | T19: Line Management, SHEQ Personnel, Head of sections/supervisors, Employees | U19: Line 32.3, Safe travelling procedure 240-62946386, ET Communication; OHSAS 18001(4.3.1,4.5.3)
B20: N | C20: 9 | D20: Poorly Maintained Gravel Road | E20: 9 | F20: Vehicle slipping and capsizing | G20: Safety | H20: Driving at a speed not suitable for the condition of the road. | I20: Employees, Members of the public | J20: Responsible Manager, Employees. | K20: Daily | L20: MVA which may lead to injury or fatality | M20: Advanced driver training, driver awareness, availability of a gravel road Practice note(ETPN1249) used to manage driving, Incident Monitoring | N20: 5 | O20: 3 | P20: II | Q20: P | R20: Maintaining current controls | S20: Monthly Incident analysis and sharing of lessons learnt | T20: Line Management, SHEQ Personnel, Head of sections/supervisors, Employees | U20: Line 32.3, Safe travelling procedure 240-62946386, ET Fleet Policy, Off-road practice note (ETPN1249); ETTB1250; OHSAS 18001(4.3.1,4.5.3)
B21: N | C21: 10 | D21: Pedestrians crossing the road | E21: 10 | F21: Hitting a straying animal | G21: Safety | H21: Pedestrians crossing the road where it is not demarcated for that purpose, insufficient road markings, Driving while Intoxicated | I21: Employees, Members of the Public. | J21: Responsible Manager, Employees. | K21: Daily | L21: MVA which may lead to injury or fatality including Public | M21: Defensive driving, safe driver awareness, Awareness on safe driving(Put headlights on, limit night time driving) | N21: 4 | O21: 3 | P21: II | Q21: P | R21: Maintaining current controls | S21: Monthly Incident analysis and sharing of lessons learnt | T21: Line Management, SHEQ Personnel, Head of sections/supervisors, Employees | U21: Line 32.3, Safe travelling procedure 240-62946386, ET Fleet Policy, OHSAS 18001(4.3.1,4.5.3)
B22: R | C22: 11 | D22: Other negligent road users | E22: 11 | F22: Colliding with other vehicles | G22: Safety | H22: Third Party negligence, The feeling of being right, Road rage | I22: Employees, Members of the Public. | J22: Responsible Manager, Employees. | K22: Daily | L22: possible motor vehicle pile-up (MVA) which may lead to injury or fatality including Public | M22: Continuous risk assessment, Safe Driver awareness(Road rage, avoiding reckless drivers, Giving way irrespective of being right) | N22: 5 | O22: 4 | P22: I | Q22: P | R22: Maintaining current controls | S22: Monthly Incident analysis and sharing of lessons learnt | T22: Line Management, SHEQ Personnel, Head of sections/supervisors, Employees | U22: Line 32.3, Line 54.22, Safe travelling procedure 240-62946386, ET Fleet Policy, OHSAS 18001(4.3.1,4.5.3)
B23: N | C23: 12 | D23: Unsafe driving | E23: 12 | F23: causing an accident (Collision, losing control of vehicles) | G23: Safety | H23: Use of a cell phone while driving, Fatigue, eating while driving, Using medication which alters your concentration, inexperience, ignorance, intoxication, reckless driving | I23: Employees, Members of the Public. | J23: Responsible Manager, Employees. | K23: Daily | L23: possible motor vehicle pile-up (MVA) which may lead to injury or fatality including Public | M23: Awareness raised on dangers of using means of communication while driving, Pool Vehicle Management through Introduction of OBC's, driver training & awareness, apply disciplinary measures for any transgressions to OBC | N23: 5 | O23: 3 | P23: II | Q23: p | R23: Maintaining current controls | S23: Monthly Incident analysis and sharing of lessons learnt | T23: Line Management, SHEQ Personnel, Head of sections/supervisors, Employees | U23: Line 32.3, Line 54.14, Safe travelling procedure 240-62946386, ET Fleet Policy, OHSAS 18001(4.3.1,4.5.3)
B24: R | C24: 13 | D24: Night driving | E24: 13 | F24: Being involved in an accident (Collision, hitting pedestrians, hitting straying animals etc.) | G24: Safety | H24: Night Blindness | I24: Employees, Members of the Public. | J24: Responsible Manager, Employees. | K24: Daily | L24: MVA which may lead to injury or fatality including Public | M24: Awareness on dangers of driving at night, Risk assessment, buddy system. | N24: 5 | O24: 3 | P24: II | Q24: p | R24: Maintaining current controls | S24: Monthly Incident analysis and sharing of lessons learnt | T24: Line Management, SHEQ Personnel, Head of sections/supervisors, Employees | U24: Line 32.3, Safe travelling procedure 240-62946386; OHSAS 18001(4.3.1,4.5.3)
B25: N | C25: 14 | D25: Unroadworthy vehicle | E25: 14 | F25: Vehicle Breakdown or parts failure | G25: Safety | H25: Poor vehicle Maintenance | I25: Employees, members of the public | J25: Responsible Manager, Employees. | K25: Daily | L25: MVA which may lead to injury or fatality including Public | M25: Pre-trip inspection, vehicle service, Safe vehicle safety specification ( Eskom Vehicle Safety Specification 32-345) | N25: 5 | O25: 3 | P25: II | Q25: P | R25: Maintaining current controls | S25: Monthly Incident analysis and sharing of lessons learnt | T25: Line Management, SHEQ Personnel, Head of sections/supervisors, Employees | U25: Line 32.3, line 54.10; Procedure 32-95; OHSAS 18001(4.3.1,4.5.3)
B26: R | C26: 15 | D26: Road Works | E26: 15 | F26: Vehicle Collision | G26: Safety | H26: Obstruction on the road, unclear signs, ignorance, narrow roads, poorly visible road markings | I26: Employees, Members of the public | J26: Responsible Manager, Employees. | K26: Daily | L26: MVA which may lead to injury or fatality including Public | M26: Training Defensive driving, Safe driver awareness(obeying traffic rules, Report road works in toolbox talk) , 240-62946386 | N26: 4 | O26: 3 | P26: II | Q26: p | R26: Maintaining current controls | S26: Monthly Incident analysis and sharing of lessons learnt | T26: Line Management, SHEQ Personnel, Head of sections/supervisors, Employees | U26: Line 32.3, Safe travelling procedure 240-62946386;OHSAS 18001(4.3.1,4.5.3)
B27: R | C27: 16 | D27: Driving through a herd of cattle | E27: 16 | F27: Damage to vehicle | G27: Safety | H27: Cattle threatened or fighting or playing | I27: Employees, | J27: Responsible Manager, Employees. | K27: Daily | L27: Possible damage to vehicle or injury | M27: Staff awareness - allow full herd of cattle to pass across road before driving through | N27: 4 | O27: 3 | P27: II | Q27: F | R27: Maintaining current controls | S27: BSO, Analyse incident stats | T27: Line Management, Head of sections/supervisors, Employees | U27: Line 32.3; 32-520; OHSAS 18001(4.3.1,4.5.3)
B28: N | C28: 17 | D28: Travelling in areas where there are protests | E28: 17 | F28: Loss of control of the vehicle | G28: Safety | H28: Protestors throwing stones | I28: Employees, Members of the public. | J28: Responsible Manager, Employees. | K28: Monthly | L28: Possible damage to vehicle and/or injury/fatality | M28: Safe Driver awareness, protests safety alerts. Sharing protest alerts on possible strike action which enable one to assess the risk. Pre task risk assessment conducted | N28: 4 | O28: 4 | P28: I | Q28: P | R28: Maintaining current controls | S28: BSO, Analyse incident stats | T28: Line Management, Head of sections/supervisors, Employees | U28: Line 32.3; 32-520; OHSAS 18001(4.3.1,4.5.3)
B29: N | C29: 18 | D29: Driving below the bridges during flash floods | E29: 18 | F29: Loss of control of the vehicle | G29: Safety | H29: crime related activities, being caught off guard, Objects thrown from the top of the bridge | I29: Employees, Members of the public. | J29: Responsible Manager, Employees. | K29: Daily | L29: Possible damage to vehicle and/or injury/fatality | M29: Awareness raised on hot spot areas | N29: 5 | O29: 5 | P29: I | Q29: P | R29: Maintaining current controls | S29: BSO, Analyse incident stats | T29: Line Management, Head of sections/supervisors, Employees | U29: Line 32.3, 32-520; OHSAS 18001(4.3.1,4.5.3)
B30: N | C30: 19 | D30: Driving across low lying bridges during flash floods | E30: 19 | F30: Possibility of being swept away | G30: Safety | H30: Underestimating the hazard, Work pressure, not doing Risk assessment properly | I30: Employees, Members of the public. | J30: Responsible Manager, Employees. | K30: Weekly | L30: Minor or major injury, Fatality | M30: Health and Safety awareness (Vehicle awareness safety campaigns), awareness on no urgency of work procedure and implementation thereof) | N30: 6 | O30: 3 | P30: I | Q30: P | R30: Maintain existing controls, All regions and functional areas should raise awareness on the no urgency of work procedure | S30: Internal Audits and Gap Analysis | T30: Line Management, Head of sections/supervisors, Employees | U30: Line 32.3, 32-520; OHSAS 18001(4.3.1,4.5.3),
B31: R | C31: 20 | D31: High traffic volumes at ETC entrance | E31: 20 | F31: Possible MVA, | G31: Safety | H31: Haste, frustration | I31: Employees, contractors, members of the public | J31: Responsible Manager, Employees, Contractors | K31: Daily, during peak hours | L31: Injury, fatality, property damage | M31: Safe Driver awareness, protests safety alerts | N31: 4 | O31: 4 | P31: I | Q31: P | R31: Continuos awareness raised on listening to protests alerts being undertaking a trip and encourage the use of alternative roads | S31: BSO, Analyse incdent stats | T31: Line Management, Head of sections/supervisors, Employees | U31: Line 32.3; 32-520; OHSAS 18001(4.3.1,4.5.3)
A32: Travel by air (plane ) | B32: N | C32: 1 | D32: Terrorists attacks | E32: 1 | F32: In-flight attack / hi-jacking by criminal suspects | G32: Safety | H32: Terrorist related activities | I32: Employees. | J32: Responsible Manager, Employees. | K32: Adhoc and rarely | L32: Injury/fatality of passengers | M32: Awareness and abide to flight emergency plans announced during flying. | N32: 5 | O32: 5 | P32: I | Q32: P | R32: Maintain current controls | S32: Analyse incident stats | T32: Line Management, Head of sections/supervisors, Employees | U32: Line 32.3, Risk Assessment Procedure; 32-520;Civil Aviation Act
B33: N | C33: 2 | D33: Emergency landing | E33: 2 | F33: Poor weather conditions (Bad weather) or Mechanical failure. Snow / Lightning / Poor visibility / Damage to the aircraft e.g. by hail | G33: Safety | H33: Bad weather) or Mechanical failure | I33: Employees. | J33: Responsible Manager, Employees. | K33: Adhoc | L33: Injury/fatality of passengers | M33: Awareness and abide to flight emergency plans announced during flying. | N33: 5 | O33: 5 | P33: I | Q33: p | R33: Maintain current controls | S33: Analyse incident stats | T33: Line Management, Head of sections/supervisors, Employees | U33: Line 32.3, Risk Assessment Procedure; 32-520;Civil Aviation Act
A34: Towing | B34: N | C34: 1 | D34: Using incorrect vehicle | E34: 1.1 | F34: Vehicle rolling backwards | G34: Safety | H34: Lack of Knowledge, negligence | I34: Employees, Members of the public. | J34: Responsible Manager, Employees. | K34: Monthly | L34: Minor, major injury, Fatality | M34: Correct Vehicles are dedicated for towing. Procedure for towing in place, Inspections conducted on the Winch before they can be used for towing | N34: 5 | O34: 3 | P34: II | Q34: P | R34: Continuous Awareness on the use of correct vehicles dedicated for that purpose and sensitising transport officer to allocated correct vehicles | S34: Pre trip inspections, BSO, Analyse incidents stats | T34: Line Management, Head of sections/supervisors, Employees | U34: Line 32.3; Line 54.9; ETWI0584; OHSAS 18001(4.3.1,4.4.6; 4.5.3)
B35: N | E35: 1.2 | F35: Incompetence in towing | G35: Safety | H35: unauthorised towing | I35: Employees, Members of the public. | J35: Responsible Manager, Employees. | K35: Monthly | L35: Minor, major injury, Fatality | M35: Training on towing provided to employees responsible for towing, Driver's licence and specialised permit given to towers | N35: 5 | O35: 3 | P35: II | Q35: F | R35: Enforce the rule that employees without relevant competence and authorisation should not be allowed to tow | S35: Internal Audits, accreditation report | T35: Line Management, Head of sections/supervisors, Employees | U35: Line 32.3, 32-520; ETWI0584; OHSAS 18001(4.3.1, 4.4.6; 4.5.3)
B36: N | C36: 2 | D36: Unsafe towing practices | E36: 2 | F36: possible loss of control on the car, possible collision with other vehicles | G36: Safety | H36: Over speeding, lack of training or experience, Incorrect loading | I36: Employees, Members of the public. | J36: Responsible Manager, Employees. | K36: Monthly | L36: Minor, major injury, Fatality | M36: Training given to all drivers, Safe driver awareness | N36: 5 | O36: 3 | P36: II | Q36: F | R36: Continuous awareness raised on the dangers of unsafe towing practices | S36: BSO, Analyse incident stats | T36: Line Management, Head of sections/supervisors, Employees | U36: Line 32.3, 32-520; ETWI0584; OHSAS 18001(4.3.1, 4.4.6; 4.5.3)
A37: Working at heights | B37: R | C37: 1 | D37: Adverse weather conditions (Heavy rain, hail storm, heavy winds) | E37: 1 | F37: Slip and Fall from the Tower | G37: Safety | H37: Tower which is wet may cause a person to slip, strong winds may cause a person to be insecure and panic | I37: Employees, Members of the public. | J37: Responsible Manager, Employees. | K37: Daily | L37: Falling may cause Major injury or fatality | M37: Procedure availability, implementation and monitoring of working at heights, Awareness raised on the procedure, Behavioural Safety Observation conducted to monitor unsafe acts such as climbing a Tower when the weather is not conducive, | N37: 5 | O37: 4 | P37: I | Q37: F | R37: Continuous awareness raised on the Work at heights procedure whenever there is a review. | S37: Monitor Monthly stats on Behavioural Safety Observation outcome and monitoring follow-up of actions | T37: Line Management, SHEQ Personnel, Head of sections/supervisors, Employees | U37: Line 32.3, line 46.6; ETPR0647, 32- 418; OHSAS 18001(4.3.1,4.4.6; 4.5.3)
B38: N | C38: 2 | D38: Actions and conditions leading to Slip and fall | E38: 2 | F38: Slip and Fall from the Tower | G38: Safety | H38: Not wearing proper PPE, complacency, wet surfaces, lack of concentration, Height Phobia, wet surface, over-reaching, poor house-keeping, Psychological unfitness | I38: Employees. | J38: Responsible Manager, Employees. | K38: Daily | L38: Major injury or Fatality | M38: Correct use of proper PPE, Availability of a fall protection plan, plan implemented, Periodic Medical fitness done on relevant employees, Monthly monitoring of statistics. Fall protection plan in place and implemented | N38: 5 | O38: 3 | P38: II | Q38: F | R38: Maintain current controls | S38: Monitor Monthly stats on Behavioural Safety Observation outcome and monitoring follow-up of actions | T38: Line Management, SHEQ Personnel, Head of sections/supervisors, Employees | U38: line 46.6, line 46.7, Line 34.2, 32-418, ETPL1233; OHSAS 18001(4.3.1, 4.4.6; 4.5.3)
B39: N | C39: 3 | D39: Incorrect use of PPE | E39: 3 | F39: PPE may become loose causing a fall | G39: Safety | H39: PPE not comfortable, lack of awareness, correct PPE not available, PPE not worn according to Specification | I39: Employees. | J39: Responsible Manager, Employees. | K39: Daily | L39: Major injury or Fatality | M39: PPE issued to all employees, Awareness on use of PPE, PPE inspected on a monthly basis | N39: 5 | O39: 3 | P39: II | Q39: F | R39: Maintain PPE issuing, Continuous PPE inspections as per the requirement | S39: Monitor Monthly stats on Behavioural Safety Observation outcome and monitoring follow-up of actions | T39: Line Management, SHEQ Personnel, Head of sections/supervisors, Employees | U39: Line 32.3, Line 34.2; PPE Inspection Sheet (ETFM1129), PPE Issue Register (ETFM1564); OHSAS 18001(4.3.1, 4.4.6; 4.5.3)
B40: N | C40: 4 | D40: Inadequate training | E40: 4 | F40: Possibility of falling | G40: Safety | H40: Training need analysis not in place, no training plan in place, Poor training management, Not following instruction on climbing as set out in the training manual. Lack of knowledge on the safe way of climbing | I40: Employees. | J40: Responsible Manager, Employees. | K40: Daily | L40: Major injury or Fatality | M40: Training need analysis done and included in the IDP's, SHEQ Training and awareness procedure in place, Training matrices in place and implemented, Fall arrest training included as an accreditation which assist with ensuring that competence is monitored | N40: 5 | O40: 2 | P40: II | Q40: F | R40: Regions and functional areas to use the SHEQ training need analysis and plan and implement the training in line with the hazards identified. The three should be in alignment | S40: Monitor Monthly stats on Behavioural Safety Observation outcome and monitoring follow-up of actions | T40: Line Management, SHEQ Personnel, Head of sections/supervisors, Employees | U40: Line 32.3, Line 46.6, Line 46.7; OHSAS 18001, Competence training and awareness procedure (32-477), Workplace accreditations; OHSAS 18001(4.3.1, 4.4.2; 4.5.3)
B41: N | C41: 5 | D41: Medical unfitness | E41: 5 | F41: Possibility Falling due to not being well | G41: Safety | H41: No/ inadequate Health Risk Assessment in place, No/ Inadequate Individual OREP in place, No / inadequate Man Job Specification in Place | I41: Employees. | J41: Responsible Manager, Employees. | K41: Daily | L41: Major injury or Fatality | M41: Baseline Health Risk Assessment in Place, Medical surveillance in place, Man-job-specifications done, Medical fitness included as part of the accreditations to monitor its validity | N41: 4 | O41: 2 | P41: III | Q41: F | R41: Continuous review of Health Risk Assessment, OREP and Man Job Specification | S41: Continuous Monitoring of Accreditations which include medical surveillance validity | T41: Line Management, SHEQ Personnel, Head of sections/supervisors, Employees | U41: Line 32.3, line 46.7, 32-524, Medical Surveillance, Fall protection Plan (ETPL1233); OHSAS 18001(4.3.1, 4.4.6; 4.5.3)
B42: N | C42: 6 | D42: Poorly maintained Ladders (Cat Ladders) | E42: 6 | F42: Possibility of ladder breaking causing Falling | G42: Safety | H42: Improper use of ladders, Ladders not well maintained | I42: Employees | J42: Responsible Manager, Employees. | K42: Daily | L42: Possible Minor/ Major injury | M42: Procedure on ladder management is in place and implemented, monthly inspection of ladder are conducted, | N42: 5 | O42: 3 | P42: II | Q42: F | R42: Continuous review of the procedure, raising awareness and monitoring implementation | S42: Audits conducted of relevant inspection to be done | T42: Line Management, SHEQ Personnel, Head of sections/supervisors, Employees | U42: Line 32.3, Line 34.11, ETPR1119, ETFM 1032; OHSAS 18001(4.3.1,4.4.6; 4.5.3)
B43: R | C43: 7 | D43: Exposure to Electromagnetic Radiation | E43: 7 | F43: Non Ionising Radiation Poisoning | G43: Health | H43: Working directly in front of an operating Microwave dish particularly in sites which are shared with other service providers | I43: Employees. | J43: Responsible Manager, Employees. | K43: Daily | L43: Possible Occupational Illness | M43: Monitoring of radiation has been done which indicated less exposure, for any work to be done on the dish, the power is switched off especially on sites shared, warning signs put up on towers | N43: 3 | O43: 2 | P43: III | Q43: F | R43: Continuous Monitoring and following safe working procedure, | S43: Continuous Monitoring of the level of exposure | T43: Line Management, SHEQ Personnel, Head of sections/supervisors, Employees | U43: Line 32.3, ETRE1331; OHSAS 18001(4.3.1,4.4.6; 4.5.3)
...

Sheet Contractor Baseline template
A3: Occupational Health and Safety Baseline risk assessment template
A4: Business/Operating unit: | K4: Next Review Date (every 2 years): | L4: Template identifier:
A6: Date: | F6: Authorised by: | H6: Name: | K6: Document identifier | AA6: R | AB6: Safety | AC6: 1 | AD6: A | AE6: Fully effective | AF6: I
H7: Designation: | K7: Revision number: | L7: 1 | AA7: N | AB7: Health | AC7: 2 | AD7: B | AE7: Mostly effective | AF7: II
H8: Signed: | K8: Revision date: | L8: 45443 | AC8: 3 | AD8: C | AE8: Mostly ineffective | AF8: III
H9: Date: | AC9: 4 | AD9: D | AE9: None | AF9: IV
A10: Refer to Occupational Health and Safety Risk assessment procedure 32-520 | AC10: 5 | AD10: E
A11: List activity | B11: Hazard Identification | C11: Associated risk | D11: Risk type | E11: What are the possible consequences? | F11: Existing Controls | I11: Risk Priority Rating | K11: Control Owner | L11: Legal and Other Requirements | AC11: 6
A12: List specific activities to be performed taking into consideration the equipment to be used, the personnel involved in the task. | B12: Anything with potential to cause of harm. Note: A hazard can pose more than one risk. | C12: A chance that injury , ill health or damage could occur as a result of uncontrolled hazard. | D12: Safety or health | E12: Consider the worse case scenario without controls? | F12: Include: - Preventative Controls (controls implemented to eliminate hazards or reduce the likelihood of the risk occurring), and - Reactive Controls (controls implemented to reduce the immediate impact of the risk occurring) Elimination Substitution Engineering controls Administrative controls Personal protective equipment (PPE) | G12: Consequence | H12: Likelihood | J12: RCE Risk Control Effectiveness | K12: Person allocated the responsibility for implementing the agreed controls | L12: Where relevant, list the relevant legislative and or Eskom requirements that prescribe the control. | R12: Consequences | S12: 6 | T12: III | U12: II | V12: I | W12: I | X12: I
A13: =IF('Risk template'!A12="","",'Risk template'!A12) -> Travelling By Road | B13: =IF('Risk template'!A12="","",'Risk template'!D12) -> Fatigue | C13: =IF('Risk template'!A12="","",'Risk template'!F12) -> Falling asleep while driving, | D13: =IF('Risk template'!A12="","",'Risk template'!G12) -> Safety | E13: =IF('Risk template'!A12="","",'Risk template'!L12) -> MVA which may lead to injury or fatality | F13: =IF('Risk template'!A12="","",'Risk template'!M12) -> Safety Awareness on fatigue Management, Availability, implementation and Monitoring of adherence to fatigue Management Procedure (ETTB 1517), Availability, implementation and monitoring of adherence to the travelling Procedure 240-62946386, MVA reports are analysed on a monthly basis to determine trends on excessive km travelled | G13: =IF('Risk template'!A12="","",'Risk template'!N12) -> 5 | H13: =IF('Risk template'!A12="","",'Risk template'!O12) -> 3 | I13: =IF('Risk template'!A12="","",'Risk template'!P12) -> II | J13: =IF('Risk template'!A12="","",'Risk template'!Q12) -> P | K13: =IF('Risk template'!A12="","",'Risk template'!T12) -> Line Management, SHEQ Personnel, Head of sections/supervisors, Employees | L13: =IF('Risk template'!A12="","",'Risk template'!U12) -> Line 32.3, Driver Fatigue management, ETTB 1517, Safe Travelling Procedure 240-62946386; Risk Assessment Procedure 32-520) Task Specific Risk Assessment (ETFM1289)(ETFM1038) OHSAS 18001(4.3.1,4.5.3) | S13: 5 | T13: III | U13: II | V13: II | W13: I | X13: I
A14: =IF('Risk template'!A13="","",'Risk template'!A13) | B14: =IF('Risk template'!A13="","",'Risk template'!D13) | C14: =IF('Risk template'!A13="","",'Risk template'!F13) | D14: =IF('Risk template'!A13="","",'Risk template'!G13) | E14: =IF('Risk template'!A13="","",'Risk template'!L13) | F14: =IF('Risk template'!A13="","",'Risk template'!M13) | G14: =IF('Risk template'!A13="","",'Risk template'!N13) | H14: =IF('Risk template'!A13="","",'Risk template'!O13) | I14: =IF('Risk template'!A13="","",'Risk template'!P13) | J14: =IF('Risk template'!A13="","",'Risk template'!Q13) | K14: =IF('Risk template'!A13="","",'Risk template'!T13) | L14: =IF('Risk template'!A13="","",'Risk template'!U13) | S14: 4 | T14: IV | U14: III | V14: II | W14: I | X14: I
A15: =IF('Risk template'!A14="","",'Risk template'!A14) | B15: =IF('Risk template'!A14="","",'Risk template'!D14) | C15: =IF('Risk template'!A14="","",'Risk template'!F14) | D15: =IF('Risk template'!A14="","",'Risk template'!G14) | E15: =IF('Risk template'!A14="","",'Risk template'!L14) | F15: =IF('Risk template'!A14="","",'Risk template'!M14) | G15: =IF('Risk template'!A14="","",'Risk template'!N14) | H15: =IF('Risk template'!A14="","",'Risk template'!O14) | I15: =IF('Risk template'!A14="","",'Risk template'!P14) | J15: =IF('Risk template'!A14="","",'Risk template'!Q14) | K15: =IF('Risk template'!A14="","",'Risk template'!T14) | L15: =IF('Risk template'!A14="","",'Risk template'!U14) | S15: 3 | T15: IV | U15: III | V15: II | W15: II | X15: I
A16: =IF('Risk template'!A15="","",'Risk template'!A15) | B16: =IF('Risk template'!A15="","",'Risk template'!D15) | C16: =IF('Risk template'!A15="","",'Risk template'!F15) | D16: =IF('Risk template'!A15="","",'Risk template'!G15) | E16: =IF('Risk template'!A15="","",'Risk template'!L15) | F16: =IF('Risk template'!A15="","",'Risk template'!M15) | G16: =IF('Risk template'!A15="","",'Risk template'!N15) | H16: =IF('Risk template'!A15="","",'Risk template'!O15) | I16: =IF('Risk template'!A15="","",'Risk template'!P15) | J16: =IF('Risk template'!A15="","",'Risk template'!Q15) | K16: =IF('Risk template'!A15="","",'Risk template'!T15) | L16: =IF('Risk template'!A15="","",'Risk template'!U15) | S16: 2 | T16: IV | U16: IV | V16: III | W16: II | X16: II
A17: =IF('Risk template'!A16="","",'Risk template'!A16) | B17: =IF('Risk template'!A16="","",'Risk template'!D16) | C17: =IF('Risk template'!A16="","",'Risk template'!F16) | D17: =IF('Risk template'!A16="","",'Risk template'!G16) | E17: =IF('Risk template'!A16="","",'Risk template'!L16) | F17: =IF('Risk template'!A16="","",'Risk template'!M16) | G17: =IF('Risk template'!A16="","",'Risk template'!N16) | H17: =IF('Risk template'!A16="","",'Risk template'!O16) | I17: =IF('Risk template'!A16="","",'Risk template'!P16) | J17: =IF('Risk template'!A16="","",'Risk template'!Q16) | K17: =IF('Risk template'!A16="","",'Risk template'!T16) | L17: =IF('Risk template'!A16="","",'Risk template'!U16) | S17: 1 | T17: IV | U17: IV | V17: III | W17: III | X17: III
A18: =IF('Risk template'!A17="","",'Risk template'!A17) | B18: =IF('Risk template'!A17="","",'Risk template'!D17) | C18: =IF('Risk template'!A17="","",'Risk template'!F17) | D18: =IF('Risk template'!A17="","",'Risk template'!G17) | E18: =IF('Risk template'!A17="","",'Risk template'!L17) | F18: =IF('Risk template'!A17="","",'Risk template'!M17) | G18: =IF('Risk template'!A17="","",'Risk template'!N17) | H18: =IF('Risk template'!A17="","",'Risk template'!O17) | I18: =IF('Risk template'!A17="","",'Risk template'!P17) | J18: =IF('Risk template'!A17="","",'Risk template'!Q17) | K18: =IF('Risk template'!A17="","",'Risk template'!T17) | L18: =IF('Risk template'!A17="","",'Risk template'!U17) | T18: A | U18: B | V18: C | W18: D | X18: E
A19: =IF('Risk template'!A18="","",'Risk template'!A18) | B19: =IF('Risk template'!A18="","",'Risk template'!D18) | C19: =IF('Risk template'!A18="","",'Risk template'!F18) | D19: =IF('Risk template'!A18="","",'Risk template'!G18) | E19: =IF('Risk template'!A18="","",'Risk template'!L18) | F19: =IF('Risk template'!A18="","",'Risk template'!M18) | G19: =IF('Risk template'!A18="","",'Risk template'!N18) | H19: =IF('Risk template'!A18="","",'Risk template'!O18) | I19: =IF('Risk template'!A18="","",'Risk template'!P18) | J19: =IF('Risk template'!A18="","",'Risk template'!Q18) | K19: =IF('Risk template'!A18="","",'Risk template'!T18) | L19: =IF('Risk template'!A18="","",'Risk template'!U18) | T19: Likelihood
A20: =IF('Risk template'!A19="","",'Risk template'!A19) | B20: =IF('Risk template'!A19="","",'Risk template'!D19) | C20: =IF('Risk template'!A19="","",'Risk template'!F19) | D20: =IF('Risk template'!A19="","",'Risk template'!G19) | E20: =IF('Risk template'!A19="","",'Risk template'!L19) | F20: =IF('Risk template'!A19="","",'Risk template'!M19) | G20: =IF('Risk template'!A19="","",'Risk template'!N19) | H20: =IF('Risk template'!A19="","",'Risk template'!O19) | I20: =IF('Risk template'!A19="","",'Risk template'!P19) | J20: =IF('Risk template'!A19="","",'Risk template'!Q19) | K20: =IF('Risk template'!A19="","",'Risk template'!T19) | L20: =IF('Risk template'!A19="","",'Risk template'!U19)
A21: =IF('Risk template'!A20="","",'Risk template'!A20) | B21: =IF('Risk template'!A20="","",'Risk template'!D20) | C21: =IF('Risk template'!A20="","",'Risk template'!F20) | D21: =IF('Risk template'!A20="","",'Risk template'!G20) | E21: =IF('Risk template'!A20="","",'Risk template'!L20) | F21: =IF('Risk template'!A20="","",'Risk template'!M20) | G21: =IF('Risk template'!A20="","",'Risk template'!N20) | H21: =IF('Risk template'!A20="","",'Risk template'!O20) | I21: =IF('Risk template'!A20="","",'Risk template'!P20) | J21: =IF('Risk template'!A20="","",'Risk template'!Q20) | K21: =IF('Risk template'!A20="","",'Risk template'!T20) | L21: =IF('Risk template'!A20="","",'Risk template'!U20)
A22: =IF('Risk template'!A21="","",'Risk template'!A21) | B22: =IF('Risk template'!A21="","",'Risk template'!D21) | C22: =IF('Risk template'!A21="","",'Risk template'!F21) | D22: =IF('Risk template'!A21="","",'Risk template'!G21) | E22: =IF('Risk template'!A21="","",'Risk template'!L21) | F22: =IF('Risk template'!A21="","",'Risk template'!M21) | G22: =IF('Risk template'!A21="","",'Risk template'!N21) | H22: =IF('Risk template'!A21="","",'Risk template'!O21) | I22: =IF('Risk template'!A21="","",'Risk template'!P21) | J22: =IF('Risk template'!A21="","",'Risk template'!Q21) | K22: =IF('Risk template'!A21="","",'Risk template'!T21) | L22: =IF('Risk template'!A21="","",'Risk template'!U21)
A23: =IF('Risk template'!A22="","",'Risk template'!A22) | B23: =IF('Risk template'!A22="","",'Risk template'!D22) | C23: =IF('Risk template'!A22="","",'Risk template'!F22) | D23: =IF('Risk template'!A22="","",'Risk template'!G22) | E23: =IF('Risk template'!A22="","",'Risk template'!L22) | F23: =IF('Risk template'!A22="","",'Risk template'!M22) | G23: =IF('Risk template'!A22="","",'Risk template'!N22) | H23: =IF('Risk template'!A22="","",'Risk template'!O22) | I23: =IF('Risk template'!A22="","",'Risk template'!P22) | J23: =IF('Risk template'!A22="","",'Risk template'!Q22) | K23: =IF('Risk template'!A22="","",'Risk template'!T22) | L23: =IF('Risk template'!A22="","",'Risk template'!U22)
A24: =IF('Risk template'!A23="","",'Risk template'!A23) | B24: =IF('Risk template'!A23="","",'Risk template'!D23) | C24: =IF('Risk template'!A23="","",'Risk template'!F23) | D24: =IF('Risk template'!A23="","",'Risk template'!G23) | E24: =IF('Risk template'!A23="","",'Risk template'!L23) | F24: =IF('Risk template'!A23="","",'Risk template'!M23) | G24: =IF('Risk template'!A23="","",'Risk template'!N23) | H24: =IF('Risk template'!A23="","",'Risk template'!O23) | I24: =IF('Risk template'!A23="","",'Risk template'!P23) | J24: =IF('Risk template'!A23="","",'Risk template'!Q23) | K24: =IF('Risk template'!A23="","",'Risk template'!T23) | L24: =IF('Risk template'!A23="","",'Risk template'!U23)
A25: =IF('Risk template'!A24="","",'Risk template'!A24) | B25: =IF('Risk template'!A24="","",'Risk template'!D24) | C25: =IF('Risk template'!A24="","",'Risk template'!F24) | D25: =IF('Risk template'!A24="","",'Risk template'!G24) | E25: =IF('Risk template'!A24="","",'Risk template'!L24) | F25: =IF('Risk template'!A24="","",'Risk template'!M24) | G25: =IF('Risk template'!A24="","",'Risk template'!N24) | H25: =IF('Risk template'!A24="","",'Risk template'!O24) | I25: =IF('Risk template'!A24="","",'Risk template'!P24) | J25: =IF('Risk template'!A24="","",'Risk template'!Q24) | K25: =IF('Risk template'!A24="","",'Risk template'!T24) | L25: =IF('Risk template'!A24="","",'Risk template'!U24)
A26: =IF('Risk template'!A25="","",'Risk template'!A25) | B26: =IF('Risk template'!A25="","",'Risk template'!D25) | C26: =IF('Risk template'!A25="","",'Risk template'!F25) | D26: =IF('Risk template'!A25="","",'Risk template'!G25) | E26: =IF('Risk template'!A25="","",'Risk template'!L25) | F26: =IF('Risk template'!A25="","",'Risk template'!M25) | G26: =IF('Risk template'!A25="","",'Risk template'!N25) | H26: =IF('Risk template'!A25="","",'Risk template'!O25) | I26: =IF('Risk template'!A25="","",'Risk template'!P25) | J26: =IF('Risk template'!A25="","",'Risk template'!Q25) | K26: =IF('Risk template'!A25="","",'Risk template'!T25) | L26: =IF('Risk template'!A25="","",'Risk template'!U25)
