Workbook
Name Consequence: '[1]Drop Down Lists'!$A$3:$A$8
Name Consequence: '[2]Drop Down Lists'!$A$3:$A$8
Name Likelihood: '[1]Drop Down Lists'!$B$3:$B$7
Name Likelihood: '[2]Drop Down Lists'!$B$3:$B$7
Name RCE: '[1]Drop Down Lists'!$D$3:$D$7
Name RCE: '[2]Drop Down Lists'!$D$3:$D$7

Sheet COVID-19
A3: Occupational Health and Safety Baseline risk assessment template
A4: Business/Operating unit: | B4: Eskom Telecommunications | J4: Department: | K4: Field Services & Functions Eastern Region | V4: Next Review Date (every 2 years): | W4: 44711 | X4: Template identifier: | Y4: 240-70044602
A6: Date: | B6: 43981 | J6: Prepared by: | K6: Zama Sabela, Masego Msibi, Tejan Pillay | M6: Authorised by: | O6: Name: Mfundiso Hina | X6: Document identifier | AN6: R | AO6: Safety | AP6: 1 | AQ6: A | AR6: Fully effective | AS6: I
O7: Designation: Regional Manager (Eastern Region) | X7: Template Revision number: | Y7: 6 | AN7: N | AO7: Health | AP7: 2 | AQ7: B | AR7: Mostly effective | AS7: II
O8: Signed: | X8: Template Revision date: | Y8: 45443 | AP8: 3 | AQ8: C | AR8: Mostly ineffective | AS8: III
O9: Date: | X9: Docment Rev Number | Y9: 8 | AP9: 4 | AQ9: D | AR9: None | AS9: IV
A10: Refer to Occupational Health and Safety Risk assessment procedure 32-520 | AP10: 5 | AQ10: E
A11: List activity | B11: Activity type (Routine/Non-routine) | C11: Hazard nr | D11: Hazard Identification | E11: Risk Nr | F11: Associated risk | G11: Risk type | H11: Cause(s) of the risk | I11: Exposed group/employees | J11: Risk Owner | K11: Exposure patterns | L11: What are the possible consequences? | M11: Existing Controls | Q11: Risk Priority Rating | S11: Additional Controls or Tasks Aimed at improving Existing Controls | T11: Monitoring Mechanisms | U11: Control Owner | V11: Legal and Other Requirements | W11: Target Date | X11: Current Status | Y11: Integrated Risk Management (IRM) reference number | AP11: 6
A12: List specific activities to be performed taking into consideration the equipment to be used, the personnel involved in the task. | B12: Indicate R or N 1. Routine activities and situations create hazards through day-to-day operations and normal work activities; 2. Non-routine activities and situations are occasional or unplanned; | C12: # | D12: Anything with potential to cause of harm. Note: A hazard can pose more than one risk. | E12: # | F12: A chance that injury , ill health or damage could occur as a result of uncontrolled hazard. | G12: Safety or health | H12: What causes the risk to come into effect? | I12: Who is exposed to the hazard i.e. visitors, members of the public, etc. | J12: Who is accountable for making sure the controls and monitors are: - in place, - implemented, - regularly reviewed for effectiveness. | K12: The frequency and duration the person/group is exposed to the hazard e.g. Daily for 3 hrs. | L12: Consider the worse case scenario without controls? | M12: Include: - Preventative Controls (controls implemented to eliminate hazards or reduce the likelihood of the risk occurring), and - Reactive Controls (controls implemented to reduce the immediate impact of the risk occurring) Elimination Substitution Engineering controls Administrative controls Personal protective equipment (PPE) | N12: Consequence | O12: Likelihood | R12: RCE Risk Control Effectiveness | S12: Include: - Preventative Controls (controls implemented to eliminate hazards or reduce the likelihood of the risk occurring), and - Reactive Controls (controls implemented to reduce the immediate impact of the risk occurring) Elimination Substitution Engineering controls Administrative controls Personal protective equipment (PPE) | T12: How we know if we are succeeding. Include comments on effectiveness. This may include i.e. measurements, inspections, supervision where necessary. | U12: Person allocated the responsibility for implementing the agreed controls | V12: Where relevant, list the relevant legislative and or Eskom requirements that prescribe the control. | W12: Once a date has been agreed to, this can not be changed | X12: Pending, In Progress, Complete | Y12: Where applicable, add IRM system reference number for tracking of treatment actions. | AE12: Consequences | AF12: 6 | AG12: III | AH12: II | AI12: I | AJ12: I | AK12: I
A13: Movement around and entry in the working environment and carrying out daily ouptputs | B13: R | C13: 1 | D13: Corona Virus Outbreak | E13: 1 | F13: Employees contracting the virus leading to ill-health, reduced productivity | G13: Health | H13: Spread of infected droplets through exhaling and inhaling with open mouth, coughing and sneezing, touching of infected surfaces, poor ventilation, recirculating air | I13: Employees, visitors, contractors | J13: Responsible Manager | K13: Daily | L13: Possible ill-health or death | Reduced staff morale / depressed staff | Reduced productivity |Network failure | M13: Lockdown. Essential employees identified and given PPE for protection. Awareness raised on COVID 19 | N13: 5 | O13: C | P13: =CONCATENATE(N13,O13) -> 5C | Q13: =IF(OR(ISBLANK(N13),ISBLANK(O13))," ",VLOOKUP(P13,'[3]Risk matrix'!$A$26:$B$55,2,FALSE)) -> II | R13: Mostly effective | S13: Continuous awareness on COVID 19 should be ongoing, sanitising/cleaning office areas | T13: Continued engagements with staff | U13: Responsible Manager | V13: Disaster Management Act 57 of 2002 (updated 2020/03/19) | W13: 44286 | X13: In Progress | Y13: N/A | AF13: 5 | AG13: III | AH13: II | AI13: II | AJ13: I | AK13: I
B14: R | C14: 2 | D14: Poor hygiene practices | E14: 2 | F14: possibility of contracting the disease and spreading it which will in turn lead to productivity decline from fearful and unfit employees | G14: Health | H14: Washing of hands, touching faces with unclean hands, or contaminared surfaces and not washing your hands | I14: Employees, visitors, contractors | J14: Responsible Manager | K14: Daily | L14: Possible ill-health or death | Reduced staff morale / depressed staff | Reduced productivity |Network failure | M14: Awareness raised on the importance of regular handwashing | N14: 5 | O14: C | P14: =CONCATENATE(N14,O14) -> 5C | Q14: =IF(OR(ISBLANK(N14),ISBLANK(O14))," ",VLOOKUP(P14,'[3]Risk matrix'!$A$26:$B$55,2,FALSE)) -> II | R14: Mostly effective | S14: Continuous awareness on the importance of hand washing to be done | T14: Review of controls in the HIRA and to be verified during audits | U14: Responsible Manager | V14: Covid 19 control measures protocols | W14: 43921 | X14: In Progress | Y14: N/A | AF14: 4 | AG14: IV | AH14: III | AI14: II | AJ14: I | AK14: I
B15: R | C15: 3 | D15: Not maintaining social distancing | E15: 3 | F15: possibility of contracting the disease and spreading it which will in turn lead to productivity decline from fearful and unfit employees | G15: Health | H15: People working close to each other | I15: Employees, visitors, contractors | J15: Responsible Manager | K15: Daily | L15: Possible ill-health or death | Reduced staff morale / depressed staff | Reduced productivity |Network failure | M15: Awareness raised on the importance of social distancing. Employees permited to work from home. Adherence to lockdown managed through work permit system | N15: 5 | O15: C | P15: =CONCATENATE(N15,O15) -> 5C | Q15: =IF(OR(ISBLANK(N15),ISBLANK(O15))," ",VLOOKUP(P15,'[3]Risk matrix'!$A$26:$B$55,2,FALSE)) -> II | R15: Mostly effective | S15: Continuous awareness on the importance of social distancing to be done | T15: Review of controls in the HIRA and to be verified during audits | U15: Responsible Manager | V15: Covid 19 control measures protocols | W15: 44286 | X15: In Progress | Y15: N/A | AF15: 3 | AG15: IV | AH15: III | AI15: II | AJ15: II | AK15: I
B16: R | C16: 4 | D16: Multiple staff working in overcrowded work areas | E16: 4 | F16: Possible spread of infection | G16: Health | H16: not being able to maintain social distancing due to limited space | I16: Employees, visitors, contractors | J16: Responsible Manager | K16: Daily | L16: Possible ill-health or death | Reduced staff morale / depressed staff | Reduced productivity |Network failure | M16: Lockdown measures implemented. Awareness raised on social distancing. Working from home | N16: 4 | O16: A | P16: =CONCATENATE(N16,O16) -> 4A | Q16: =IF(OR(ISBLANK(N16),ISBLANK(O16))," ",VLOOKUP(P16,'[3]Risk matrix'!$A$26:$B$55,2,FALSE)) -> III | R16: Mostly effective | S16: Continuous awareness on the importance of avoiding overcrowding to be done | T16: Review of controls in the HIRA and to be verified during audits | U16: Responsible Manager | V16: Covid 19 control measures protocols | W16: 44286 | X16: In Progress | Y16: N/A | AF16: 2 | AG16: IV | AH16: IV | AI16: III | AJ16: II | AK16: II
B17: R | C17: 5 | D17: Unhygienic use of breathalisers and biometrics units | E17: 5 | F17: Possible spread of infection | G17: Health | H17: not sanitising the equipment after using it on an infected person | I17: Employees, visitors, contractors, security | J17: Responsible Manager | K17: Daily | L17: Possible ill-health or death | Reduced staff morale / depressed staff | Reduced productivity |Network failure | M17: Breatherlyzer testing has been stopped. All biometrics have been disabled. | N17: 4 | O17: B | P17: =CONCATENATE(N17,O17) -> 4B | Q17: =IF(OR(ISBLANK(N17),ISBLANK(O17))," ",VLOOKUP(P17,'[3]Risk matrix'!$A$26:$B$55,2,FALSE)) -> III | R17: Mostly effective | S17: Should breathalyzer testing be reinstated, sanitising equipment will be key. Specialised will be need to be done to ensure that there is not spread of infection | T17: Review of controls in the HIRA and to be verified during audits | U17: Responsible Manager | V17: Covid 19 control measures protocols | W17: 44286 | X17: In Progress | Y17: N/A | AF17: 1 | AG17: IV | AH17: IV | AI17: III | AJ17: III | AK17: III
B18: R | C18: 6 | D18: Non adherence to lockdown regulations | E18: 6 | F18: Possible spread and contracting of infection | G18: Health | H18: People not staying at home and making non essential travels | I18: Employees, visitors, contractors | J18: Responsible Manager | K18: Daily | L18: Possible ill-health or death | Reduced staff morale / depressed staff | Reduced productivity |Network failure | M18: Essential services provided with permits to go to work only when it is absolutely necessary | N18: 4 | O18: B | P18: =CONCATENATE(N18,O18) -> 4B | Q18: =IF(OR(ISBLANK(N18),ISBLANK(O18))," ",VLOOKUP(P18,'[3]Risk matrix'!$A$26:$B$55,2,FALSE)) -> III | R18: Mostly effective | S18: Monitoring of clocking and the maintenance of permits for essential services to continue | T18: Review of controls in the HIRA and to be verified during audits | U18: Responsible Manager | V18: Covid 19 control measures protocols | W18: 44286 | X18: In Progress | Y18: N/A | AG18: A | AH18: B | AI18: C | AJ18: D | AK18: E
B19: R | C19: 7 | D19: Lack of awareness on covid 19 effects and precautions | E19: 7 | F19: Acts or conditions existing which may lead to spread and contracting of the virus | G19: Health | H19: Awareness not raised | I19: Employees, visitors, contractors | J19: Responsible Manager | K19: Daily | L19: Possible ill-health or death | Reduced staff morale / depressed staff | Reduced productivity |Network failure | M19: Continuous awareness presentations sent out via emails. Communication via the tactical command centres | N19: 4 | O19: B | P19: =CONCATENATE(N19,O19) -> 4B | Q19: =IF(OR(ISBLANK(N19),ISBLANK(O19))," ",VLOOKUP(P19,'[4]Risk matrix'!$A$26:$B$55,2,FALSE)) -> III | R19: Mostly effective | S19: Continuous Awareness on the effects of Covid 19 to be raised | T19: Review of controls in the HIRA and to be verified during audits | U19: Responsible Manager | V19: Covid 19 control measures protocols | W19: 44286 | X19: In Progress | Y19: N/A | AG19: Likelihood
B20: R | C20: 8 | D20: Not screening employees and other individuals entering the workplace | E20: 8 | F20: Infected individuals entering the workplace and spreading the virus | G20: Health | H20: No screening facilities, employees refusing to be screened, no policies on screening | I20: Employees, visitors, contractors | J20: Responsible Manager | K20: Daily | L20: Possible ill-health or death | Reduced staff morale / depressed staff | Reduced productivity |Network failure | M20: Screening of employees done at entrances. Plan dealing with screening in place and implemented. Also the Covid-19 mobile app. | N20: 5 | O20: B | P20: =CONCATENATE(N20,O20) -> 5B | Q20: =IF(OR(ISBLANK(N20),ISBLANK(O20))," ",VLOOKUP(P20,'[4]Risk matrix'!$A$26:$B$55,2,FALSE)) -> II | R20: Mostly effective | S20: Continued screening of employees and other persons entering the premises at entrances | T20: Continuous monitoring to be done to ensure compliance | U20: Responsible Manager | V20: Covid 19 control measures protocols | W20: 44286 | X20: In Progress | Y20: N/A
B21: R | C21: 9 | D21: Non provision of hand sanitizer | E21: 9 | F21: Employees who had contact with the virus being infected through touching their nose and mouth or spreading the virus by touching surfaces in the workplace | G21: Health | H21: Hand sanitizers not purchased as they should, shortage in the market | I21: Employees, visitors, contractors | J21: Responsible Manager | K21: Daily | L21: Possible ill-health or death | Reduced staff morale / depressed staff | Reduced productivity |Network failure | M21: Approved hand sanitizers are placed at strategic points in line with the ERE plan and hand sanitisers have been issued to all staff | N21: 4 | O21: B | P21: =CONCATENATE(N21,O21) -> 4B | Q21: =IF(OR(ISBLANK(N21),ISBLANK(O21))," ",VLOOKUP(P21,'[4]Risk matrix'!$A$26:$B$55,2,FALSE)) -> III | R21: Mostly effective | S21: Continued provision of hand sanitizer at strategic points and to field services workers and those not permanently based at the offices | T21: Review of controls in the HIRA and to be verified during audits | U21: Responsible Manager | V21: Covid 19 control measures protocols | W21: 44286 | X21: In Progress | Y21: N/A
B22: R | C22: 10 | D22: Not sanitising of work surfaces (Common areas, equipment etc) | E22: 10 | F22: Spreading the virus through touching of contaminated surfaces | G22: Health | H22: No sanitising equipment, not sufficient resources to sanitize surfaces, not following safe standard operating procedures, complacency | I22: Employees, visitors, contractors | J22: Responsible Manager | K22: Daily | L22: Possible ill-health or death | Reduced staff morale / depressed staff | Reduced productivity |Network failure | M22: Surface sanitizer schedule in place. Cleaning done as per the schedule | N22: 4 | O22: B | P22: =CONCATENATE(N22,O22) -> 4B | Q22: =IF(OR(ISBLANK(N22),ISBLANK(O22))," ",VLOOKUP(P22,'[4]Risk matrix'!$A$26:$B$55,2,FALSE)) -> III | R22: Mostly effective | S22: continued surface sanitization | T22: Review of controls in the HIRA and to be verified during audits | U22: Responsible Manager | V22: Covid 19 control measures protocols | W22: 44286 | X22: In Progress | Y22: N/A
B23: R | C23: 11 | D23: No/poor provision of hand washing facilities(Soap, running water, paper towel etc) | E23: 11 | F23: Possible spread of the infection | G23: Health | H23: Shortage in the market, no compliance by the contractor | I23: Employees, visitors, contractors | J23: Responsible Manager | K23: Daily | L23: Possible ill-health or death | Reduced staff morale / depressed staff | Reduced productivity |Network failure | M23: Hand washing facilities are in place. Provision of hand washing soap outsourced | N23: 4 | O23: C | P23: =CONCATENATE(N23,O23) -> 4C | Q23: =IF(OR(ISBLANK(N23),ISBLANK(O23))," ",VLOOKUP(P23,'[4]Risk matrix'!$A$26:$B$55,2,FALSE)) -> II | R23: Mostly effective | S23: Warm water could be reinstated in the ablutionary facilities to facilitate proper handwashing | T23: Review of controls in the HIRA and to be verified during audits | U23: Responsible Manager | V23: Covid 19 control measures protocols | W23: 44286 | X23: In Progress | Y23: N/A
B24: R | C24: 12 | D24: Not having measures in place to deal with personnel presenting with the symptoms (Isolation facilities, means of transport) | E24: 12 | F24: Possible spread of the infection | G24: Health | H24: Poor Planning, shortage of facilities | I24: Employees, visitors, contractors | J24: Responsible Manager | K24: Daily | L24: Possible ill-health or death | Reduced staff morale / depressed staff | Reduced productivity |Network failure | M24: Medical facility available in some of the premises. Demarcated office space that can be isolated from all other areas. | N24: 5 | O24: C | P24: =CONCATENATE(N24,O24) -> 5C | Q24: =IF(OR(ISBLANK(N24),ISBLANK(O24))," ",VLOOKUP(P24,'[4]Risk matrix'!$A$26:$B$55,2,FALSE)) -> II | R24: Mostly effective | S24: Isolation areas should be identified for that puspose. Transportation to be put set aside for when there is a need to transport anyone | T24: Review of controls in the HIRA and to be verified during audits | U24: Responsible Manager | V24: Covid 19 control measures protocols | W24: 44286 | X24: In Progress | Y24: N/A
B25: R | C25: 13 | D25: Poor ventilation / recirculation of air | E25: 13 | F25: Possible spread of the infection | G25: Health | H25: Centralised airconditioning, no windows or windows not open for fresh air, aircons recirculating air instead of providing fresh air | I25: Employees, visitors, contractors | J25: Responsible Manager | K25: Daily | L25: Possible ill-health or death | Reduced staff morale / depressed staff | Reduced productivity |Network failure | M25: Lockdown measures resulting in staff working from home so low exposure | N25: 5 | O25: C | P25: =CONCATENATE(N25,O25) -> 5C | Q25: =IF(OR(ISBLANK(N25),ISBLANK(O25))," ",VLOOKUP(P25,'[4]Risk matrix'!$A$26:$B$55,2,FALSE)) -> II | R25: Mostly effective | S25: Create awareness on dangers of poor ventilation and incorrect usage of aircons | T25: Review of controls in the HIRA and to be verified during audits | U25: Responsible Manager | V25: Covid 19 control measures protocols | W25: 44286 | X25: In Progress | Y25: N/A

Sheet Risk template
A3: Occupational Health and Safety Baseline risk assessment template
A4: Business/Operating unit: | B4: Eskom Telecommunications | J4: Department: | K4: Field Services and Functions - Eastern Region | U4: Next Review Date (every 2 years): | V4: 44562 | W4: Template identifier: | X4: 240-70044602
A6: Date: | B6: 17/06/2020 | J6: Prepared by: | K6: Siyakudumisa Nondula, Tanduxolo Qika, Jose Pereira, Johannes Gerstner, Dallas Dreyer, Siviwe Siwisa, Benjamin Michielies, Andre Alexander, Thembela Majola, Jacquinn Jacobs, Vernon Soobramoney, Kevin David, Sihle Mashazi, Neal Parmanand, Pieter Burger,Unathi Dyantyi, Paulinus Kortje, Tejan Pillay | M6: Authorised by: | O6: Name: Mfundiso Hina | W6: Document identifier | AM6: R | AN6: Safety | AO6: 1 | AP6: A | AQ6: Fully effective | AR6: I
O7: Designation: Regional Manager, Eastern Region | W7: Revision number: | X7: 1 | AM7: N | AN7: Health | AO7: 2 | AP7: B | AQ7: Mostly effective | AR7: II
O8: Signed: | W8: Revision date: | X8: 43878 | AO8: 3 | AP8: C | AQ8: Mostly ineffective | AR8: III
O9: Date: | AO9: 4 | AP9: D | AQ9: None | AR9: IV
A10: Refer to Occupational Health and Safety Risk assessment procedure 32-520 | AO10: 5 | AP10: E
A11: List activity | B11: Activity type (Routine/Non-routine) | C11: Hazard nr | D11: Hazard Identification | E11: Risk Nr | F11: Associated risk | G11: Risk type | H11: Cause(s) of the risk | I11: Exposed group/employees | J11: Risk Owner | K11: Exposure patterns | L11: What are the possible consequences? | M11: Existing Controls | P11: Risk Priority Rating | R11: Additional Controls or Tasks Aimed at improving Existing Controls | S11: Monitoring Mechanisms | T11: Control Owner | U11: Legal and Other Requirements | V11: Target Date | W11: Current Status | X11: Integrated Risk Management (IRM) reference number | AO11: 6
A12: Travelling By Road | B12: R | C12: 1 | D12: Fatigue | E12: 1 | F12: Falling asleep while driving, | G12: Safety | H12: Travelling long distances without resting, partying for long hours and not getting enough rest, studying for long hours without getting any rest | I12: Employees, Members of the Public | J12: Responsible Manager, Employees. | K12: Daily | L12: MVA which may lead to injury or fatality | M12: Safety Awareness on fatigue Management, Availability, implementation and Monitoring of adherence to fatigue Management Procedure (ETTB 1517), Availability, implementation and monitoring of adherence to the travelling Procedure 240-62946386, MVA reports are analysed on a monthly basis to determine trends on excessive km travelled | N12: 5 | O12: 3 | P12: II | Q12: P | R12: Maintaining current controls | S12: Monthly monitoring with trends below the set target | T12: Line Management, SHEQ Personnel, Head of sections/supervisors, Employees | U12: Line 32.3, Driver Fatigue management, ETTB 1517, Safe Travelling Procedure 240-62946386; Risk Assessment Procedure 32-520) Task Specific Risk Assessment (ETFM1289)(ETFM1038) OHSAS 18001(4.3.1,4.5.3) | AE12: 5 | AF12: III | AG12: II | AH12: II | AI12: I | AJ12: I
B13: R | C13: 2 | D13: Mechanical failures | E13: 2 | F13: Defective Vehicle | G13: Safety | H13: Mechanical Failure, Vehicle not checked for defects | I13: Employees, Members of Public, | J13: Responsible Manager, Employees. | K13: Daily | L13: MVA which may lead to injury or fatality | M13: Vehicle planned maintenance, pre-trip inspection, | N13: 4 | O13: 3 | P13: II | Q13: P | R13: Maintaining current controls | S13: Continuous Vehicle inspections and Maintenance | T13: Line Management, SHEQ Personnel, Head of sections/supervisors, Employees | U13: Line 32.3; Safe travelling procedure 240-62946386; Risk Assessment Procedure 32-520) Task Specific Risk Assessment (ETFM1289)(ETFM1038) OHSAS 18001(4.3.1,4.5.3) | AE13: 4 | AF13: IV | AG13: III | AH13: II | AI13: I | AJ13: I
B14: N | C14: 3 | D14: Wild/stray animals | E14: 3 | F14: Hitting a straying animal | G14: Safety | H14: Obscured view, Over Speeding, No Fencing along the road | I14: Employees, Members of the public | J14: Responsible Manager, Employees. | K14: Daily | L14: MVA which may lead to injury or fatality | M14: Defensive driving, driver awareness including being vigilant, obeying traffic rules | N14: 4 | O14: 3 | P14: II | Q14: P | R14: Maintaining current controls | S14: Continuous Safe Driving Awareness raised | T14: Line Management, SHEQ Personnel, Head of sections/supervisors, Employees | U14: Line 32.3, Risk Assessment procedure (32-520), ETFM1038, Task Specific Risk Assessment (ETFM1289); OHSAS 18001(4.3.1,4.5.3) | AE14: 3 | AF14: IV | AG14: III | AH14: II | AI14: II | AJ14: I
B15: N | C15: 4 | D15: Over speeding | E15: 4 | F15: Collision, losing control of the vehicle, unable to stop in time | G15: Safety | H15: Time Pressure, excitement, Doing things in haste, driving under intoxication | I15: Employees, Members of the Public. | J15: Responsible Manager, Employees. | K15: Daily | L15: MVA which may lead to injury or fatality | M15: OBC installed in Pool Vehicles, driver awareness, disciplinary measures | N15: 5 | O15: 4 | P15: I | Q15: P | R15: Maintaining current controls | S15: Monthly Monitoring of transgressions stats | T15: Line Management, SHEQ Personnel, Head of sections/supervisors, Employees | U15: Line 32.3, Line 54.1 and line 55.3, 55.5;Travelling Procedure 240-62946386, Risk Assessment procedure (32-520), ETFM1038, Task Specific Risk Assessment (ETFM1289), OHSAS 18001(4.3.1,4.5.3) | AE15: 2 | AF15: IV | AG15: IV | AH15: III | AI15: II | AJ15: II
B16: N | C16: 5 | D16: Exposure to Hijacking/ robbery at site | E16: 5 | F16: Possible assault, rape, stress, trauma, being shot | G16: Safety | H16: Crime, driving alone, Lack of security at site, working at night | I16: Employees. | J16: Responsible Manager, Employees. | K16: Daily | L16: Vehicle being taken, Possible injury or fatality | M16: Risk Assessment done for every task, Training on advanced and Defensive driving, Awareness on Hijacking, | N16: 5 | O16: 4 | P16: I | Q16: P | R16: Obtain information on the hijacking hotspots from Arrive alive and researching latest tricks on hijacking and sharing them through ET communications | S16: Monitoring through monthly reports on hijacking incidents | T16: Line Management, SHEQ Personnel, Head of sections/supervisors, Employees | U16: Line 32.3, Risk Assessment Procedure (32-520); OHSAS 18001(4.3.1,4.5.3) | AE16: 1 | AF16: IV | AG16: IV | AH16: III | AI16: III | AJ16: III
B17: N | C17: 6 | D17: Poor Road conditions | E17: 6 | F17: Possible puncture or damage to the vehicle tyre | G17: Safety | H17: Potholes, Sharp things on the road surface (Glass, Stones etc.), unclear signs, ignorance, narrow roads, Invisible road markings | I17: Employees, Members of the Public. | J17: Responsible Manager, Employees. | K17: Daily | L17: MVA which may lead to injury or fatality | M17: Awareness on safe driving, training on advance driving, 4x4 training for specific employees | N17: 4 | O17: 4 | P17: I | Q17: P | R17: Maintaining current controls | S17: Monitor causes of incidents | T17: Line Management, SHEQ Personnel, Head of sections/supervisors, Employees | U17: Line 32.3, Safe travelling procedure 240-62946386; OHSAS 18001(4.3.1,4.5.3) | AF17: A | AG17: B | AH17: C | AI17: D | AJ17: E
B18: N | C18: 7 | D18: Driving in a 4X4 Terrain without appropriate competence | E18: 7 | F18: The vehicle may capsize and roll | G18: Safety | H18: Using the vehicle not meant for that purpose | I18: Employees, members of the public. | J18: Responsible Manager, Employees. | K18: Daily | L18: MVA which may lead to injury or fatality | M18: 4x4 training by employees using 4x4, driver awareness, availability of suitable type of vehicle, permit issued on 4x4 driving. Flash reports for incidents shared through ET communications | N18: 4 | O18: 4 | P18: I | Q18: P | R18: Maintaining current controls | S18: Monitor incident trends through monthly reporting | T18: Line Management, SHEQ Personnel, Head of sections/supervisors, Employees | U18: Line 32.3, ETPR0364 and Safe travelling procedure 240-62946386; OHSAS 18001(4.3.1,4.5.3) | AF18: Likelihood
B19: R | C19: 8 | D19: Adverse weather conditions (Heavy rain, hail storm, heavy winds, snow) | E19: 8 | F19: Hitting vehicle in front or side, Adverse road conditions, hypothermia, | G19: Safety & Health | H19: Blurred vision, your vehicle swept away by water and the wind pushing it causing loss of control, Snow covered roads, being stuck in snow | I19: Employees, Members of the public. | J19: Responsible Manager, Employees. | K19: Daily | L19: MVA which may lead to injury or fatality | M19: Implementation and monitoring adherence to Procedures prohibiting work in bad weather condition (travelling Procedure Safe travelling procedure 240-62946386), Awareness on travelling during bad weather conditions, training on skidpan, Awareness on limiting working only to extreme cases, defensive driving course, Wearing Personal Protective Clothing (Gloves and Winter Jacket) | N19: 5 | O19: 3 | P19: II | Q19: P | R19: Maintaining current controls | S19: Monthly Incident analysis and sharing of lessons learnt | T19: Line Management, SHEQ Personnel, Head of sections/supervisors, Employees | U19: Line 32.3, Safe travelling procedure 240-62946386, ET Communication; OHSAS 18001(4.3.1,4.5.3)
B20: N | C20: 9 | D20: Poorly Maintained Gravel Road | E20: 9 | F20: Vehicle slipping and capsizing | G20: Safety | H20: Driving at a speed not suitable for the condition of the road. | I20: Employees, Members of the public | J20: Responsible Manager, Employees. | K20: Daily | L20: MVA which may lead to injury or fatality | M20: Advanced driver training, driver awareness, availability of a gravel road Practice note(ETPN1249) used to manage driving, Incident Monitoring | N20: 5 | O20: 3 | P20: II | Q20: P | R20: Maintaining current controls | S20: Monthly Incident analysis and sharing of lessons learnt | T20: Line Management, SHEQ Personnel, Head of sections/supervisors, Employees | U20: Line 32.3, Safe travelling procedure 240-62946386, ET Fleet Policy, Off-road practice note (ETPN1249); ETTB1250; OHSAS 18001(4.3.1,4.5.3)
B21: N | C21: 10 | D21: Pedestrians crossing the road | E21: 10 | F21: Hitting a straying animal | G21: Safety | H21: Pedestrians crossing the road where it is not demarcated for that purpose, insufficient road markings, Driving while Intoxicated | I21: Employees, Members of the Public. | J21: Responsible Manager, Employees. | K21: Daily | L21: MVA which may lead to injury or fatality including Public | M21: Defensive driving, safe driver awareness, Awareness on safe driving(Put headlights on, limit night time driving) | N21: 4 | O21: 3 | P21: II | Q21: P | R21: Maintaining current controls | S21: Monthly Incident analysis and sharing of lessons learnt | T21: Line Management, SHEQ Personnel, Head of sections/supervisors, Employees | U21: Line 32.3, Safe travelling procedure 240-62946386, ET Fleet Policy, OHSAS 18001(4.3.1,4.5.3)
B22: R | C22: 11 | D22: Other negligent road users | E22: 11 | F22: Colliding with other vehicles | G22: Safety | H22: Third Party negligence, The feeling of being right, Road rage | I22: Employees, Members of the Public. | J22: Responsible Manager, Employees. | K22: Daily | L22: possible motor vehicle pile-up (MVA) which may lead to injury or fatality including Public | M22: Continuous risk assessment, Safe Driver awareness(Road rage, avoiding reckless drivers, Giving way irrespective of being right) | N22: 5 | O22: 4 | P22: I | Q22: P | R22: Maintaining current controls | S22: Monthly Incident analysis and sharing of lessons learnt | T22: Line Management, SHEQ Personnel, Head of sections/supervisors, Employees | U22: Line 32.3, Line 54.22, Safe travelling procedure 240-62946386, ET Fleet Policy, OHSAS 18001(4.3.1,4.5.3)
B23: N | C23: 12 | D23: Unsafe driving | E23: 12 | F23: causing an accident (Collision, losing control of vehicles) | G23: Safety | H23: Use of a cell phone while driving, Fatigue, eating while driving, Using medication which alters your concentration, inexperience, ignorance, intoxication, reckless driving | I23: Employees, Members of the Public. | J23: Responsible Manager, Employees. | K23: Daily | L23: possible motor vehicle pile-up (MVA) which may lead to injury or fatality including Public | M23: Awareness raised on dangers of using means of communication while driving, Pool Vehicle Management through Introduction of OBC's, driver training & awareness, apply disciplinary measures for any transgressions to OBC | N23: 5 | O23: 3 | P23: II | Q23: p | R23: Maintaining current controls | S23: Monthly Incident analysis and sharing of lessons learnt | T23: Line Management, SHEQ Personnel, Head of sections/supervisors, Employees | U23: Line 32.3, Line 54.14, Safe travelling procedure 240-62946386, ET Fleet Policy, OHSAS 18001(4.3.1,4.5.3)
B24: R | C24: 13 | D24: Night driving | E24: 13 | F24: Being involved in an accident (Collision, hitting pedestrians, hitting straying animals etc.) | G24: Safety | H24: Night Blindness | I24: Employees, Members of the Public. | J24: Responsible Manager, Employees. | K24: Daily | L24: MVA which may lead to injury or fatality including Public | M24: Awareness on dangers of driving at night, Risk assessment, buddy system. | N24: 5 | O24: 3 | P24: II | Q24: p | R24: Maintaining current controls | S24: Monthly Incident analysis and sharing of lessons learnt | T24: Line Management, SHEQ Personnel, Head of sections/supervisors, Employees | U24: Line 32.3, Safe travelling procedure 240-62946386; OHSAS 18001(4.3.1,4.5.3)
B25: N | C25: 14 | D25: Unroadworthy vehicle | E25: 14 | F25: Vehicle Breakdown or parts failure | G25: Safety | H25: Poor vehicle Maintenance | I25: Employees, members of the public | J25: Responsible Manager, Employees. | K25: Daily | L25: MVA which may lead to injury or fatality including Public | M25: Pre-trip inspection, vehicle service, Safe vehicle safety specification ( Eskom Vehicle Safety Specification 32-345) | N25: 5 | O25: 3 | P25: II | Q25: P | R25: Maintaining current controls | S25: Monthly Incident analysis and sharing of lessons learnt | T25: Line Management, SHEQ Personnel, Head of sections/supervisors, Employees | U25: Line 32.3, line 54.10; Procedure 32-95; OHSAS 18001(4.3.1,4.5.3)
B26: R | C26: 15 | D26: Road Works | E26: 15 | F26: Vehicle Collision | G26: Safety | H26: Obstruction on the road, unclear signs, ignorance, narrow roads, poorly visible road markings | I26: Employees, Members of the public | J26: Responsible Manager, Employees. | K26: Daily | L26: MVA which may lead to injury or fatality including Public | M26: Training Defensive driving, Safe driver awareness(obeying traffic rules, Report road works in toolbox talk) , 240-62946386 | N26: 4 | O26: 3 | P26: II | Q26: p | R26: Maintaining current controls | S26: Monthly Incident analysis and sharing of lessons learnt | T26: Line Management, SHEQ Personnel, Head of sections/supervisors, Employees | U26: Line 32.3, Safe travelling procedure 240-62946386;OHSAS 18001(4.3.1,4.5.3)
B27: R | C27: 16 | D27: Driving through a herd of cattle | E27: 16 | F27: Damage to vehicle | G27: Safety | H27: Cattle threatened or fighting or playing | I27: Employees, | J27: Responsible Manager, Employees. | K27: Daily | L27: Possible damage to vehicle or injury | M27: Staff awareness - allow full herd of cattle to pass across road before driving through | N27: 4 | O27: 3 | P27: II | Q27: F | R27: Maintaining current controls | S27: BSO, Analyse incident stats | T27: Line Management, Head of sections/supervisors, Employees | U27: Line 32.3; 32-520; OHSAS 18001(4.3.1,4.5.3)
B28: N | C28: 17 | D28: Travelling in areas where there are protests | E28: 17 | F28: Loss of control of the vehicle | G28: Safety | H28: Protestors throwing stones | I28: Employees, Members of the public. | J28: Responsible Manager, Employees. | K28: Monthly | L28: Possible damage to vehicle and/or injury/fatality | M28: Safe Driver awareness, protests safety alerts. Sharing protest alerts on possible strike action which enable one to assess the risk. Pre task risk assessment conducted | N28: 4 | O28: 4 | P28: I | Q28: P | R28: Maintaining current controls | S28: BSO, Analyse incident stats | T28: Line Management, Head of sections/supervisors, Employees | U28: Line 32.3; 32-520; OHSAS 18001(4.3.1,4.5.3)
B29: N | C29: 18 | D29: Driving below the bridges during flash floods | E29: 18 | F29: Loss of control of the vehicle | G29: Safety | H29: crime related activities, being caught off guard, Objects thrown from the top of the bridge | I29: Employees, Members of the public. | J29: Responsible Manager, Employees. | K29: Daily | L29: Possible damage to vehicle and/or injury/fatality | M29: Awareness raised on hot spot areas | N29: 5 | O29: 5 | P29: I | Q29: P | R29: Maintaining current controls | S29: BSO, Analyse incident stats | T29: Line Management, Head of sections/supervisors, Employees | U29: Line 32.3, 32-520; OHSAS 18001(4.3.1,4.5.3)
B30: N | C30: 19 | D30: Driving across low lying bridges during flash floods | E30: 19 | F30: Possibility of being swept away | G30: Safety | H30: Underestimating the hazard, Work pressure, not doing Risk assessment properly | I30: Employees, Members of the public. | J30: Responsible Manager, Employees. | K30: Weekly | L30: Minor or major injury, Fatality | M30: Health and Safety awareness (Vehicle awareness safety campaigns), awareness on no urgency of work procedure and implementation thereof) | N30: 6 | O30: 3 | P30: I | Q30: P | R30: Maintain existing controls, All regions and functional areas should raise awareness on the no urgency of work procedure | S30: Internal Audits and Gap Analysis | T30: Line Management, Head of sections/supervisors, Employees | U30: Line 32.3, 32-520; OHSAS 18001(4.3.1,4.5.3),
B31: R | C31: 20 | D31: High traffic volumes at ETC entrance | E31: 20 | F31: Possible MVA, | G31: Safety | H31: Haste, frustration | I31: Employees, contractors, members of the public | J31: Responsible Manager, Employees, Contractors | K31: Daily, during peak hours | L31: Injury, fatality, property damage | M31: Safe Driver awareness, protests safety alerts | N31: 4 | O31: 4 | P31: I | Q31: P | R31: Continuos awareness raised on listening to protests alerts being undertaking a trip and encourage the use of alternative roads | S31: BSO, Analyse incdent stats | T31: Line Management, Head of sections/supervisors, Employees | U31: Line 32.3; 32-520; OHSAS 18001(4.3.1,4.5.3)
A32: Travel by air (plane ) | B32: N | C32: 1 | D32: Terrorists attacks | E32: 1 | F32: In-flight attack / hi-jacking by criminal suspects | G32: Safety | H32: Terrorist related activities | I32: Employees. | J32: Responsible Manager, Employees. | K32: Adhoc and rarely | L32: Injury/fatality of passengers | M32: Awareness and abide to flight emergency plans announced during flying. | N32: 5 | O32: 5 | P32: I | Q32: P | R32: Maintain current controls | S32: Analyse incident stats | T32: Line Management, Head of sections/supervisors, Employees | U32: Line 32.3, Risk Assessment Procedure; 32-520;Civil Aviation Act
B33: N | C33: 2 | D33: Emergency landing | E33: 2 | F33: Poor weather conditions (Bad weather) or Mechanical failure. Snow / Lightning / Poor visibility / Damage to the aircraft e.g. by hail | G33: Safety | H33: Bad weather) or Mechanical failure | I33: Employees. | J33: Responsible Manager, Employees. | K33: Adhoc | L33: Injury/fatality of passengers | M33: Awareness and abide to flight emergency plans announced during flying. | N33: 5 | O33: 5 | P33: I | Q33: p | R33: Maintain current controls | S33: Analyse incident stats | T33: Line Management, Head of sections/supervisors, Employees | U33: Line 32.3, Risk Assessment Procedure; 32-520;Civil Aviation Act
A34: Towing | B34: N | C34: 1 | D34: Using incorrect vehicle | E34: 1.1 | F34: Vehicle rolling backwards | G34: Safety | H34: Lack of Knowledge, negligence | I34: Employees, Members of the public. | J34: Responsible Manager, Employees. | K34: Monthly | L34: Minor, major injury, Fatality | M34: Correct Vehicles are dedicated for towing. Procedure for towing in place, Inspections conducted on the Winch before they can be used for towing | N34: 5 | O34: 3 | P34: II | Q34: P | R34: Continuous Awareness on the use of correct vehicles dedicated for that purpose and sensitising transport officer to allocated correct vehicles | S34: Pre trip inspections, BSO, Analyse incidents stats | T34: Line Management, Head of sections/supervisors, Employees | U34: Line 32.3; Line 54.9; ETWI0584; OHSAS 18001(4.3.1,4.4.6; 4.5.3)
B35: N | E35: 1.2 | F35: Incompetence in towing | G35: Safety | H35: unauthorised towing | I35: Employees, Members of the public. | J35: Responsible Manager, Employees. | K35: Monthly | L35: Minor, major injury, Fatality | M35: Training on towing provided to employees responsible for towing, Driver's licence and specialised permit given to towers | N35: 5 | O35: 3 | P35: II | Q35: F | R35: Enforce the rule that employees without relevant competence and authorisation should not be allowed to tow | S35: Internal Audits, accreditation report | T35: Line Management, Head of sections/supervisors, Employees | U35: Line 32.3, 32-520; ETWI0584; OHSAS 18001(4.3.1, 4.4.6; 4.5.3)
B36: N | C36: 2 | D36: Unsafe towing practices | E36: 2 | F36: possible loss of control on the car, possible collision with other vehicles | G36: Safety | H36: Over speeding, lack of training or experience, Incorrect loading | I36: Employees, Members of the public. | J36: Responsible Manager, Employees. | K36: Monthly | L36: Minor, major injury, Fatality | M36: Training given to all drivers, Safe driver awareness | N36: 5 | O36: 3 | P36: II | Q36: F | R36: Continuous awareness raised on the dangers of unsafe towing practices | S36: BSO, Analyse incident stats | T36: Line Management, Head of sections/supervisors, Employees | U36: Line 32.3, 32-520; ETWI0584; OHSAS 18001(4.3.1, 4.4.6; 4.5.3)
A37: Working at heights | B37: R | C37: 1 | D37: Adverse weather conditions (Heavy rain, hail storm, heavy winds) | E37: 1 | F37: Slip and Fall from the Tower | G37: Safety | H37: Tower which is wet may cause a person to slip, strong winds may cause a person to be insecure and panic | I37: Employees, Members of the public. | J37: Responsible Manager, Employees. | K37: Daily | L37: Falling may cause Major injury or fatality | M37: Procedure availability, implementation and monitoring of working at heights, Awareness raised on the procedure, Behavioural Safety Observation conducted to monitor unsafe acts such as climbing a Tower when the weather is not conducive, | N37: 5 | O37: 4 | P37: I | Q37: F | R37: Continuous awareness raised on the Work at heights procedure whenever there is a review. | S37: Monitor Monthly stats on Behavioural Safety Observation outcome and monitoring follow-up of actions | T37: Line Management, SHEQ Personnel, Head of sections/supervisors, Employees | U37: Line 32.3, line 46.6; ETPR0647, 32- 418; OHSAS 18001(4.3.1,4.4.6; 4.5.3)
B38: N | C38: 2 | D38: Actions and conditions leading to Slip and fall | E38: 2 | F38: Slip and Fall from the Tower | G38: Safety | H38: Not wearing proper PPE, complacency, wet surfaces, lack of concentration, Height Phobia, wet surface, over-reaching, poor house-keeping, Psychological unfitness | I38: Employees. | J38: Responsible Manager, Employees. | K38: Daily | L38: Major injury or Fatality | M38: Correct use of proper PPE, Availability of a fall protection plan, plan implemented, Periodic Medical fitness done on relevant employees, Monthly monitoring of statistics. Fall protection plan in place and implemented | N38: 5 | O38: 3 | P38: II | Q38: F | R38: Maintain current controls | S38: Monitor Monthly stats on Behavioural Safety Observation outcome and monitoring follow-up of actions | T38: Line Management, SHEQ Personnel, Head of sections/supervisors, Employees | U38: line 46.6, line 46.7, Line 34.2, 32-418, ETPL1233; OHSAS 18001(4.3.1, 4.4.6; 4.5.3)
B39: N | C39: 3 | D39: Incorrect use of PPE | E39: 3 | F39: PPE may become loose causing a fall | G39: Safety | H39: PPE not comfortable, lack of awareness, correct PPE not available, PPE not worn according to Specification | I39: Employees. | J39: Responsible Manager, Employees. | K39: Daily | L39: Major injury or Fatality | M39: PPE issued to all employees, Awareness on use of PPE, PPE inspected on a monthly basis | N39: 5 | O39: 3 | P39: II | Q39: F | R39: Maintain PPE issuing, Continuous PPE inspections as per the requirement | S39: Monitor Monthly stats on Behavioural Safety Observation outcome and monitoring follow-up of actions | T39: Line Management, SHEQ Personnel, Head of sections/supervisors, Employees | U39: Line 32.3, Line 34.2; PPE Inspection Sheet (ETFM1129), PPE Issue Register (ETFM1564); OHSAS 18001(4.3.1, 4.4.6; 4.5.3)
B40: N | C40: 4 | D40: Inadequate training | E40: 4 | F40: Possibility of falling | G40: Safety | H40: Training need analysis not in place, no training plan in place, Poor training management, Not following instruction on climbing as set out in the training manual. Lack of knowledge on the safe way of climbing | I40: Employees. | J40: Responsible Manager, Employees. | K40: Daily | L40: Major injury or Fatality | M40: Training need analysis done and included in the IDP's, SHEQ Training and awareness procedure in place, Training matrices in place and implemented, Fall arrest training included as an accreditation which assist with ensuring that competence is monitored | N40: 5 | O40: 2 | P40: II | Q40: F | R40: Regions and functional areas to use the SHEQ training need analysis and plan and implement the training in line with the hazards identified. The three should be in alignment | S40: Monitor Monthly stats on Behavioural Safety Observation outcome and monitoring follow-up of actions | T40: Line Management, SHEQ Personnel, Head of sections/supervisors, Employees | U40: Line 32.3, Line 46.6, Line 46.7; OHSAS 18001, Competence training and awareness procedure (32-477), Workplace accreditations; OHSAS 18001(4.3.1, 4.4.2; 4.5.3)
B41: N | C41: 5 | D41: Medical unfitness | E41: 5 | F41: Possibility Falling due to not being well | G41: Safety | H41: No/ inadequate Health Risk Assessment in place, No/ Inadequate Individual OREP in place, No / inadequate Man Job Specification in Place | I41: Employees. | J41: Responsible Manager, Employees. | K41: Daily | L41: Major injury or Fatality | M41: Baseline Health Risk Assessment in Place, Medical surveillance in place, Man-job-specifications done, Medical fitness included as part of the accreditations to monitor its validity | N41: 4 | O41: 2 | P41: III | Q41: F | R41: Continuous review of Health Risk Assessment, OREP and Man Job Specification | S41: Continuous Monitoring of Accreditations which include medical surveillance validity | T41: Line Management, SHEQ Personnel, Head of sections/supervisors, Employees | U41: Line 32.3, line 46.7, 32-524, Medical Surveillance, Fall protection Plan (ETPL1233); OHSAS 18001(4.3.1, 4.4.6; 4.5.3)
B42: N | C42: 6 | D42: Poorly maintained Ladders (Cat Ladders) | E42: 6 | F42: Possibility of ladder breaking causing Falling | G42: Safety | H42: Improper use of ladders, Ladders not well maintained | I42: Employees | J42: Responsible Manager, Employees. | K42: Daily | L42: Possible Minor/ Major injury | M42: Procedure on ladder management is in place and implemented, monthly inspection of ladder are conducted, | N42: 5 | O42: 3 | P42: II | Q42: F | R42: Continuous review of the procedure, raising awareness and monitoring implementation | S42: Audits conducted of relevant inspection to be done | T42: Line Management, SHEQ Personnel, Head of sections/supervisors, Employees | U42: Line 32.3, Line 34.11, ETPR1119, ETFM 1032; OHSAS 18001(4.3.1,4.4.6; 4.5.3)
B43: R | C43: 7 | D43: Exposure to Electromagnetic Radiation | E43: 7 | F43: Non Ionising Radiation Poisoning | G43: Health | H43: Working directly in front of an operating Microwave dish particularly in sites which are shared with other service providers | I43: Employees. | J43: Responsible Manager, Employees. | K43: Daily | L43: Possible Occupational Illness | M43: Monitoring of radiation has been done which indicated less exposure, for any work to be done on the dish, the power is switched off especially on sites shared, warning signs put up on towers | N43: 3 | O43: 2 | P43: III | Q43: F | R43: Continuous Monitoring and following safe working procedure, | S43: Continuous Monitoring of the level of exposure | T43: Line Management, SHEQ Personnel, Head of sections/supervisors, Employees | U43: Line 32.3, ETRE1331; OHSAS 18001(4.3.1,4.4.6; 4.5.3)
B44: N | C44: 8 | D44: Structural failure | E44: 8 | F44: Possible Falling or being hit by collapsed structure and flying objects | G44: Safety | H44: Structural Analysis not conducted, Poor maintenance of structure, overloading, Not conducting visual inspections, not reporting visible defects | I44: Employees, Member of the Public. | J44: Responsible Manager, Employees. | K44: Daily | L44: Major injury or Fatality | M44: Structural Analysis conducted, Action plans developed to implement recommendations, Periodic audits conducted for structure maintenance, | N44: 5 | O44: 3 | P44: II | Q44: P | R44: Continuous annual analysis, and periodic visual inspections to be conducted by the competent person as per regulation | S44: Monthly monitoring of the structural integrity report | T44: Line Management, SHEQ Personnel, Head of sections/supervisors, Employees | U44: Line 32.3, Line 46.8; Line 46.10, Line 46.13, ETSP0158, ETSP0383, ETSP0422; OHSAS 18001(4.3.1,4.4.6; 4.5.3)
B45: N | C45: 9 | D45: Incorrect Climbing | E45: 9 | F45: Possible Falling | G45: Safety | H45: Not hooking up when ascending the structure, Not competent in tower climbing, lack of concentration and experience, improper construction, No following Safe working Procedures, taking shortcuts | I45: Employees, Member of the Public. | J45: Responsible Manager, Employees. | K45: Daily | L45: Major injury or Fatality | M45: Training attended on tower climbing and rescue, approved full safety harnesses issued as part of PPE, PPE Inspections done on a Monthly basis, working at heights procedure available and implemented, Continuous awareness raised, behavioural Safety Observations conducted on a continuous basis. Monthly reports analysed | N45: 5 | O45: 2 | P45: II | Q45: F | R45: Continuous awareness to be raised on the correct climbing of the structure (Hooking Up) , Conducting Behavioural Safety Observation | S45: Analysis of BSO trends | T45: Line Management, SHEQ Personnel, Head of sections/supervisors, Employees | U45: Line 32.3. line 34.9, Line 46.6, line 46.7; ETPL1233, 32-520; OHSAS 18001(4.3.1, 4.4.6; 4.5.3)
B46: N | C46: 10 | D46: Structure overloading | E46: 10 | F46: Possible Collapse of the Structure | G46: Safety | H46: Installing too many equipment not according to weight limitations, not implementing recommendations from structural analysis results | I46: Employees, Member of the Public, | J46: Responsible Manager, Employees. | K46: Daily | L46: Major injury or Fatality or Damage to Property | M46: Structural analysis done and recommendations implemented. Pre Engineering and Design done | N46: 5 | O46: 3 | P46: II | Q46: P | R46: Annual inspections to be conducted by competent inspectors. | S46: Analysis of structural analysis reports | T46: Line Management, SHEQ Personnel, Head of sections/supervisors, Employees | U46: Line 32.3, line 46.8; Line 46.10, ETSP0158, ETSP0383, ETSP0422; OHSAS 18001(4.3.1,4.4.6; 4.5.3)
B47: N | C47: 11 | D47: Incorrect Equipment hauling | E47: 11 | F47: Possible equipment falling which may cause the persons fall or injuring those standing below the structure | G47: Safety | H47: not following the correct procedure, not competent in hauling of equipment, Taking shortcuts, exceeding safety tolerances of hauling equipment. | I47: Employees, Members of the public. | J47: Responsible Manager, Employees. | K47: Daily | L47: Major injury or Fatality or Damage to Property | M47: Safe hauling procedure in place. Training available for personnel doing hauling, Hauling equipment inspections | N47: 5 | O47: 2 | P47: II | Q47: P | R47: Safe Hauling procedure to be reviewed and changed to a work instruction | S47: BSO report analysis, Internal Audits which includes verification of Inspections and training | T47: Line Management, SHEQ Personnel, Head of sections/supervisors, Employees | U47: Line 32.3; Safe Hauling Procedure (ETPR0745), Inspection and maintenance of Hauling kit (ETFM1041); OHSAS 18001(4.3.1, 4.4.6; 4.5.3)
B48: R | C48: 12 | D48: Ergonomics | E48: 12 | F48: Possible body strain and twisting | G48: Health | H48: Not following safe working procedure, Bad posture, repetitive movements | I48: Employees. | J48: Responsible Manager, Employees. | K48: Daily | L48: Possible Occupational Illness | M48: Awareness raised on ergonomics, Continuous risk assessment conducted for specific tasks. Occupational Health Risk Assessment conducted | N48: 3 | O48: 3 | P48: II | Q48: F | R48: Continuous awareness raised on correct Posture during climbing and lifting of equipment. Review and implementation of the Health risk assessment | S48: Implementation of recommendations given from the Health Risk Assessment | T48: Line Management, SHEQ Personnel, Head of sections/supervisors, Employees | U48: Line 32.3; Manual Handling Guideline (ETGL0611); OHSAS 18001(4.3.1, 4.4.6; 4.5.3)
B49: N | C49: 13 | D49: Falling/moving objects | E49: 13 | F49: Struck by a free falling object | G49: Safety | H49: incorrect use of PPE (Hard hat), ignorance, lack of training, lack of supervision, improper demarcation | I49: Employees. | J49: Responsible Manager, Employees. | K49: Daily | L49: Possible injury, Fatality or Damage to property | M49: Specific Task Risk Assessment conducted for specific work, Chin strap hard hat issued to relevant employees who gains access to site, awareness raised on the use of hard hats when under the Tower, identification and use of a drop zone | N49: 5 | O49: 3 | P49: II | Q49: F | R49: Continuous awareness on wearing of Chin Strap Hardhat, Continuous Risk Assessment to be done | S49: BSO report analysis, Internal Audits to encourage good safety behaviour | T49: Line Management, SHEQ Personnel, Head of sections/supervisors, Employees | U49: Line 32.3, PPE Specification; OHSAS 18001(4.3.1,4.4.6; 4.5.3)
A50: Monitoring Work at heights | B50: R | C50: 1 | D50: Adverse weather conditions (Heavy rain, hail storm, heavy winds) | E50: 1 | F50: Slip and Fall(Ground Level) Injury from hail. | G50: Safety | H50: Ground which is wet may cause a person to slip, hail can lead to injuries to a person standing where there is no shelter. | I50: Employees | J50: Responsible Manager, Employees. | K50: Quarterly | L50: Minor or Major injury | M50: Awareness raised on Life saving rules. Awareness on refusal to work Procedure and the use of PPE | N50: 4 | O50: 3 | P50: II | Q50: F | R50: Awareness on working at height Procedure to be raised with all PM's and PC's. Conducting BSO | S50: Monitor Monthly stats on Behavioural Safety Observation outcome and monitoring follow-up of actions | T50: Portfolio Management and Employees | U50: Line 32.3, line 46.6; 32- 418; OHSAS 18001(4.3.1,4.4.6; 4.5.3)
B51: N | C51: 2 | D51: Incorrect use or unavailability of PPE | E51: 2 | F51: Accidental mishap | G51: Safety | H51: PPE not comfortable, lack of awareness, correct PPE not available, PPE not worn according to Safe working procedure | I51: Employees | J51: Responsible Manager, Employees. | K51: Quarterly | L51: Minor or Major injury or Fatality | M51: PPE issued to all employees as per their outputs, Awareness on use of PPE, PPE inspected on a monthly basis | N51: 5 | O51: 3 | P51: II | Q51: F | R51: training of PPE inspectors to ensure that safety harnesses remain in a safe condition while on use | S51: Monitor Monthly stats on Behavioural Safety Observation outcome and monitoring follow-up of actions | T51: Portfolio Management and Employees | U51: Line 32.3, Line 34.2; ETFM1129, ETFM1564; OHSAS 18001(4.3.1, 4.4.6; 4.5.3)
B52: N | C52: 3 | D52: Inadequate training | E52: 3 | F52: Failing to identify Non-Conformances or shortcuts taken which may lead to incidents. | G52: Safety | H52: Training need analysis not in place, no training plan in place, Poor training management. Lack of knowledge on the safe way of climbing | I52: Employees | J52: Responsible Manager, Employees. | K52: Quarterly | L52: Minor and Major Injuries | M52: Training analysis done and included in the IDP's, SHEQ Training and awareness procedure in place, Training matrices in place and implemented. | N52: 5 | O52: 2 | P52: II | Q52: F | R52: Continuous review and implementation of the training need analysis | S52: Monitor Monthly stats on Behavioural Safety Observation outcome and monitoring follow-up of actions | T52: Portfolio Management and Employees | U52: Line 32.3, Line 46.6, Line 46.7; OHSAS 18001, ETPR0369, ETPR0607, Workplace accreditations; OHSAS 18001(4.3.1, 4.4.2; 4.5.3)
B53: N | C53: 4 | D53: Medical unfitness | E53: 4 | F53: Possibility of injuring themselves due to medical unfitness | G53: Safety | H53: Doing Monitoring while unfit for work | I53: Employees | J53: Responsible Manager, Employees. | K53: Quarterly | L53: Possible Minor or Major Injuries | M53: Baseline Health Risk Assessment in Place, Medical surveillance in place, Man-job-specifications done, Medical fitness included as part of the accreditations to monitor its validity | N53: 4 | O53: 2 | P53: III | Q53: F | R53: Continuous review of Health Risk Assessment, OREP and Man Job Specification | S53: Continuous Monitoring of Accreditations which include medical surveillance validity | T53: Portfolio Management and Employees | U53: Line 32.3, line 46.7, 32-524, Medical Surveillance, Fall protection Plan (ETPL1233); OHSAS 18001(4.3.1, 4.4.6; 4.5.3)
B54: N | C54: 5 | D54: Exposure to Electromagnetic Radiation | E54: 5 | F54: Non Ionising Radiation Poisoning | G54: Health | H54: Working directly in front of an operating Microwave dish particularly in sites which are shared with other service providers | I54: Employees. | J54: Responsible Manager, Employees. | K54: Daily | L54: Possible Occupational Illness | M54: Monitoring of radiation has been done which indicated less exposure, for any work to be done on the dish, the power is switched off especially on sites shared, warning signs put up on towers | N54: 2 | O54: 2 | P54: IV | Q54: F | R54: Continuous Monitoring and following safe working procedure, | S54: Continuous Monitoring of the level of exposure | T54: Portfolio Management and Employees | U54: Line 32.3, ETRE1331; OHSAS 18001(4.3.1,4.4.6; 4.5.3)
B55: N | C55: 6 | D55: Structural failure | E55: 6 | F55: Possible Falling or being hit by collapsed structure and flying objects | G55: Safety | H55: Structural Analysis not conducted, Poor maintenance of structure, overloading, Not conducting visual inspections, not reporting visible defects | I55: Employees, Member of the Public, | J55: Responsible Manager, Employees. | K55: Daily | L55: Major injury or Fatality | M55: Structural Analysis conducted, Action plans developed to implement recommendations, Periodic audits conducted for structure maintenance, | N55: 5 | O55: 3 | P55: II | Q55: P | R55: Continuous annual analysis, and periodic visual inspections to be conducted | S55: Monthly monitoring of the structural integrity report | T55: Portfolio Management and Employees | U55: Line 32.3, Line 46.8; Line 46.10, Line 46.13, ETSP0158, ETSP0383, ETSP0422; OHSAS 18001(4.3.1,4.4.6; 4.5.3)
B56: R | C56: 7 | D56: Ergonomics | E56: 7 | F56: Possible body strain and twisting | G56: Health | H56: Not following safe working procedure(work at heights procedure), Bad posture, repetitive movements | I56: Employees. | J56: Responsible Manager, Employees. | K56: Daily | L56: Possible Occupational Illness | M56: Awareness raised on ergonomics, Continuous risk assessment conducted for specific task. Occupational Health Risk Assessment conducted | N56: 3 | O56: 3 | P56: II | Q56: F | R56: Continuous awareness raised on correct Posture during climbing and lifting of equipment. Review and implementation of the Health risk assessment | S56: Implementation of recommendations given from the Health Risk Assessment | T56: Portfolio Management and Employees | U56: Line 32.3; Manual Handling Guideline (ETGL0611); OHSAS 18001(4.3.1, 4.4.6; 4.5.3)
B57: N | C57: 8 | D57: Falling objects | E57: 8 | F57: Head Injuries | G57: Safety | H57: Not following safe working procedure | I57: Employees. | J57: Responsible Manager, Employees. | K57: Daily | L57: Major injury or Fatality | M57: PPE (Hard hats) | N57: 5 | O57: 3 | P57: II | Q57: F | R57: Continuous use of PPE | S57: Risk Assessments | T57: Portfolio Management and Employees | U57: Line 32.3;Work at heights procedure 32-418
A58: Site access and security | B58: N | C58: 1 | D58: Actions and Conditions leading to Hijacking, kidnapping, robbery, assault, rape | E58: 1 | F58: Possible assault, rape, stress, trauma, being shot | G58: Safety | H58: No Security, driving alone at night, Crime | I58: Employees. | J58: Responsible Manager, Employees. | K58: Daily | L58: Possible Injury or fatality | M58: Site security Matrix, Security upgrade was done to improve site security based on the rating of the matrix per site, Buddy System | N58: 5 | O58: 4 | P58: I | Q58: P | R58: Continuous awareness raised on the dangers of Driving alone at site, Continuous risk assessment to be done and vigilance at site. | S58: liaison with ops managers to track progress. Audits conducted of relevant awareness raised | T58: Line Management, SHEQ Personnel, Head of sections/supervisors, Employees | U58: Line 32.3; Site access procedure (ETPR 0578), Incident Management Procedure (32-95)OHSAS 18001(4.3.1,4.5.3)
B59: N | C59: 2 | D59: Poor Road Conditions | E59: 2 | F59: Vehicle losing control | G59: Safety | H59: Lack of road maintenance, adverse weather conditions, poor road construction, Incompetence in driving in 4x4 terrain | I59: Employees. | J59: Responsible Manager, Employees. | K59: Daily | L59: Possible MVA which may lead to injury or fatality | M59: Advanced driver training, 4x4 Training, Safe driver awareness | N59: 4 | O59: 3 | P59: II | Q59: P | R59: Continuous Safe driving awareness to be conducted | S59: MVA Stats Analysis | T59: Line Management, SHEQ Personnel, Head of sections/supervisors, Employees | U59: Line 32.3, 32-520, Safe travelling procedure 240-62946386; OHSAS 18001(4.3.1,4.5.3)
B60: N | C60: 3 | D60: Exposure to Raptors/Insects/Reptiles | E60: 3 | F60: Possible venomous, bites and stings | G60: Safety | H60: Location of the site, Poor site maintenance, seasonal dangers | I60: Employees. | J60: Responsible Manager, Employees. | K60: Daily | L60: Possible poisonous bites and stings which may lead to Occupational illness or fatality | M60: Awareness on snake identification, and how they react to prevent snake bites, and how to apply first aid once bitten. Conduct risk assessment and applying precautionary measures, provided gaiters to shield bites | N60: 5 | O60: 4 | P60: I | Q60: P | R60: continuous awareness and fumigation using insect and reptile repellents | S60: Monitor incidents associated with raptors, insects and reptiles (Mainly medical and First Aid) | T60: Line Management, SHEQ Personnel, Head of sections/supervisors, Employees | U60: Line 32.3; Emergency Plan in case of bees, wasps and tick stings (ETPN1730); OHSAS 18001(4.3.1,4.5.3)
B61: N | C61: 4 | D61: Actions and conditions leading to Veld Fires | E61: 4 | F61: Possible burns or Smoke Inhalation | G61: Health | H61: Lightning, strong winds, equipment failure, electric short circuit | I61: Employees. | J61: Responsible Manager, Employees. | K61: Daily | L61: Possible Injury or fatality | M61: Portable fire extinguishers provided, emergency preparedness procedure in place, Site maintenance & emergency numbers readily available at site | N61: 5 | O61: 4 | P61: I | Q61: p | R61: Continuous Maintenance of fire extinguishers. Continuous review of site specific emergency preparedness procedure | S61: Audits conducted to check procedure implementation and testing | T61: Line Management, SHEQ Personnel, Head of sections/supervisors, Employees | U61: Line 32.3; Emergency Preparedness Procedure ETPR 363; OHSAS 18001(4.3.1,4.4.6)
B62: N | C62: 5 | D62: Actions and conditions leading to Vandalism | E62: 5 | F62: Theft, vandalism, public injury | G62: Safety | H62: Location of the site, vulnerability, No Security at site | I62: Employees. | J62: Responsible Manager, Employees. | K62: Daily | L62: Possible public injury or Damage to Property | M62: Site Security Project in Progress in order of priority based on the Matrix | N62: 3 | O62: 2 | P62: III | Q62: P | R62: Continuous site security assessment through site security matrix | S62: Monitor theft and vandalism incident | T62: Line Management, SHEQ Personnel, Head of sections/supervisors, Employees | U62: Line 32.3, Site access Procedure (ETPR0578), Incident Management Procedure ETPR0737
B63: N | C63: 6 | D63: Restricted entry to site (farmers) | E63: 6 | F63: Confrontation with landowner | G63: Safety | H63: Intimidation by landowner | I63: Employees, Members of the Public, Contractors | J63: Responsible Manager, Employees, Contractors | K63: Daily | L63: Physical injury | M63: Contact number of farmers to be available and the procedure followed. | N63: 3 | O63: 3 | P63: II | Q63: P | R63: Continuous site security assessment through site security matrix | S63: Monitor incident of farmer aggression | T63: Line Management, SHEQ Personnel, Head of sections/supervisors, Employees | U63: Line 32.3, Site access Procedure (ETPR0578), Incident Management Procedure ETPR0737
A64: Site maintenance | B64: N | C64: 1 | D64: Improper use of PPE | E64: 1 | F64: Body exposed to hazards at site | G64: Safety | H64: PPE not comfortable, ignorance, lack of awareness, Negligence | I64: Employees. | J64: Responsible Manager, Employees. | K64: Daily | L64: Possible Injury | M64: Awareness on the importance of wearing PPE raised, pre-task risk assessment, Behavioural Safety observations conducted, correct PPE issued | N64: 3 | O64: 2 | P64: III | Q64: F | R64: Continuous awareness raised on the importance of wearing correct PPE | S64: BSO results analysis | T64: Line Management, SHEQ Personnel, Head of sections/supervisors, Employees | U64: Line 32.3, Line 34.2; ETFM1129, ETFM1564; OHSAS 18001(4.3.1,4.4.6)
B65: R | C65: 2 | D65: Exposure to Hazardous chemical substances (Herbicides) | E65: 2 | F65: Possible Skin contact(irritation) and inhalation of fumes | G65: Health | H65: Not using correct PPE, not following manufacturer specification in the MSDS | I65: Employees. | J65: Responsible Manager, Employees. | K65: Daily | L65: Possible Occupational Illness | M65: Herbicide procedure in place and implemented, Awareness given on safe use of herbicides, correct PPE issued, Chemical inventory in place, MSDS's in place | N65: 3 | O65: 3 | P65: II | Q65: P | R65: Training and awareness to be given on the MSDS | S65: Auditing | T65: Line Management, SHEQ Personnel, Head of sections/supervisors, Employees | U65: Line 32.3, line 41.9, line 41.10, line 41.11; Safe management and use of herbicides & pesticides ETPR0730, Herbicides Application, ETFM1039, (ETTB1520) Safe disposal of Herbicide containers; OHSAS 18001(4.3.1,4.4.6)
B66: N | C66: 3 | D66: Exposure to Raptors/Insects/Reptiles | E66: 3 | F66: Possible venomous, bites and stings | G66: Safety | H66: Location of the site, Poor site maintenance, seasonal dangers; Inadequate Risk Assessment | I66: Employees. | J66: Responsible Manager, Employees. | K66: Daily | L66: Possible poisonous bites and stings which may lead to Occupational illness or fatality | M66: Portable first aid kits with minimum content issued to all employees accessing the site, Risk assessment conducted, Availability of bite and sting kit, Level 2 first training attended, continuous awareness, Issue/use PPE | N66: 5 | O66: 4 | P66: I | Q66: F | R66: Continuous awareness to be raised and fumigation using insect and reptile repellents | S66: Monitor incidents associated with raptors, insects and reptiles (Mainly medical and First Aid) | T66: Line Management, SHEQ Personnel, Head of sections/supervisors, Employees | U66: Line 32.3; Emergency Plan in case of bees, wasps and tick stings (ETPN1730); OHSAS 18001(4.3.1,4.4.6)
A67: Monitoring Installation of an Electric Fence | B67: N | C67: 1 | D67: Exposure to Electrocution or Electric shock | E67: 1 | F67: Electrocution or Electric Shock | G67: Safety | H67: Touching the electric fencing, trying to damage the fence, not having adequate warning signs | I67: Employees, Members of the Public. | J67: Responsible Manager, Employees. | K67: Daily | L67: Possible employee or Public injury | M67: Warning signage's available on the fence, | N67: 3 | O67: 3 | P67: II | Q67: F | R67: warning signage maintained | S67: Monitor incidents related to accidental shock | T67: Line Management, SHEQ Personnel, Head of sections/supervisors, Employees | U67: Line 32.3, Line 5; Specification for security Fences at Radio Sites (ETSP0426); OHSAS 18001(4.3.1,4.5.3)
A68: Working in a building made with Asbestos/ with Asbestos Roofing | B68: N | C68: 1 | D68: Possible exposure to Asbestos fibres | E68: 1 | F68: Inhalation of asbestos fibre | G68: Health | H68: No inspections done on the roof condition, roof not well maintained, no monitoring system in place ensure that the limits are not above | I68: Employees. | J68: Responsible Manager, Employees. | K68: Daily | L68: Occupational Disease (Asbestosis) | M68: OH surveys conducted for availability of asbestos containing material. Asbestos inventory in place. | N68: 4 | O68: 3 | P68: II | Q68: P | R68: Asbestos management for exposure should be in place in areas affected. An action list should be developed and tracked | S68: site audit of Identified site to ensure maintenance thereof | T68: Line Management, SHEQ Personnel, Head of sections/supervisors, Employees | U68: Line 32.3, line 48.10; ETFM1256 Asbestos Register; OHSAS 18001(4.3.1,4.4.6)
A69: Handling of Equipment | B69: N | C69: 1 | D69: Incorrect lifting and Loading | E69: 1 | F69: Body strain and muscle pull | G69: Safety | H69: Improper position, incorrect manual handling, Incorrect lifting techniques, lack awareness, ergonomics, lack of SOP's, Lack of proper lifting equipment | I69: Employees. | J69: Responsible Manager, Employees. | K69: Daily | L69: Possible injury and occupational illness | M69: Availability and implementation of a Manual Handling guideline Awareness, Training and awareness, equipment casing allocated in pool vehicles | N69: 3 | O69: 3 | P69: II | Q69: F | R69: Continuous awareness raised on using correct posture when lifting | S69: Monitoring done through analysis of BSO results | T69: Line Management, SHEQ Personnel, Head of sections/supervisors, Employees | U69: Line 32.3; 32-520; Manual Handling Guideline ETGL0611; OHSAS 18001(4.3.1,4.5.3)
B70: R | C70: 2 | D70: Ergonomics | E70: 2 | F70: Body strain and muscle pull | G70: Health | H70: Poor designs, lack of awareness, assuming bad postures when lifting | I70: Employees. | J70: Responsible Manager, Employees. | K70: Daily | L70: Possible injury or illness | M70: Risk assessment, awareness, inspections | N70: 3 | O70: 3 | P70: II | Q70: F | R70: Continuous awareness raised on Ergonomics | S70: Monitoring done through analysis of BSO results | T70: Line Management, SHEQ Personnel, Head of sections/supervisors, Employees | U70: Line 32.3; Manual Handling Guideline ETGL0611; OHSAS 18001(4.3.1,4.5.3)
B71: N | C71: 3 | D71: Incompetence in the use of equipment | E71: 3 | F71: Possible Pricks, Stabbing, and punctures | G71: Safety | H71: Lack of knowledge in equipment assembly | I71: Employees. | J71: Responsible Manager, Employees. | K71: Daily | L71: Possible injury | M71: Training procedure, skills management training, Technical training matrix in place and implemented | N71: 4 | O71: 3 | P71: II | Q71: F | R71: Continuous technical training need analysis done and implemented | S71: Auditing | T71: Line Management, SHEQ Personnel, Head of sections/supervisors, Employees | U71: Line 32.3; OHSAS 18001, Equipment installation Standard ETST0486; OHSAS 18001(4.3.1,4.4.2)
B72: N | C72: 4 | D72: Use of Faulty Equipment | E72: 4 | F72: Possible electrical Shock | G72: Safety | H72: Poor maintenance, no calibration, no inspection, poor quality of equipment from the supplier | I72: Employees. | J72: Responsible Manager, Employees. | K72: Daily | L72: Possible injury | M72: Procedure on calibration of equipment in place, Quality test certificate in place, Supplier takes the risk of replacement for faulty equipment. Equipment configured before installation | N72: 3 | O72: 3 | P72: II | Q72: F | R72: Continuous checks done on equipment before acceptance | S72: Auditing to be conducted to determine if Quality Checks to be done | T72: Line Management, SHEQ Personnel, Head of sections/supervisors, Employees | U72: Line 32.3; 32-520; OHSAS 18001(4.3.1)
A73: Working in an HV Environment +B68 | B73: R | C73: 1 | D73: Actions and Conditions leading to Electrocution | E73: 1 | F73: Possible Electrocution | G73: Safety | H73: Not following Operating Regulation for High Voltage System (ORHVS), Non Adherence to Life Saving Rule (Permit to work) | I73: Employees. | J73: Responsible Manager, Employees. | K73: Daily | L73: Possible injury or fatality | M73: Monitoring of life saving rules in place, process of work permit followed, ORHVS training listed as accreditations | N73: 5 | O73: 3 | P73: II | Q73: F | R73: Continuous monitoring of accreditations (ORHVS) | S73: Monthly reporting on Accreditations (ORHVS) | T73: Line Management, SHEQ Personnel, Head of sections/supervisors, Employees | U73: Line 32.3; Life Saving Rules, ORHVS; OHSAS 18001(4.3.1,4.4.6)
B74: N | C74: 2 | D74: Actions and Conditions leading to Explosion | E74: 2 | F74: Possible explosion | G74: Safety | H74: Equipment failure, not following SOP's, electric short | I74: Employees. | J74: Responsible Manager, Employees. | K74: Daily | L74: Possible injury or fatality | M74: Protection system, restrict access, emergency preparedness procedure, contingency plan, awareness | N74: 5 | O74: 3 | P74: II | Q74: F | R74: Continuous awareness raised on ORHVS Requirements | S74: Continuous monitoring of accreditations (ORHVS) | T74: Line Management, SHEQ Personnel, Head of sections/supervisors, Employees | U74: Line 32.3; 240-92065235; OHSAS 18001(4.3.1,4.4.6)
B75: N | C75: 3 | D75: Actions and Conditions leading to Fire | E75: 3 | F75: Possible burns | G75: Safety | H75: Equipment failure, not following SOP's, electric short | I75: Employees. | J75: Responsible Manager, Employees. | K75: Daily | L75: Possible injury or fatality | M75: Protection system, restrict access, emergency preparedness procedure, contingency plan, awareness | N75: 5 | O75: 4 | P75: I | Q75: F | R75: Continuous awareness raised on ORHVS Requirements | S75: Continuous monitoring of accreditations (ORHVS) | T75: Line Management, SHEQ Personnel, Head of sections/supervisors, Employees | U75: Line 32.3, Line 40.8, Line; 240-92065235; OHSAS 18001(4.3.1,4.4.6)
B76: N | C76: 4 | D76: Actions and Conditions leading to Veld fires | E76: 4 | F76: Possible burns or smoke inhalation | G76: Safety & Health | H76: Smoking, Braai, poor yard maintenance, No fire breaks, extremely hot weather | I76: Employees. | J76: Responsible Manager, Employees. | K76: Daily | L76: Possible injury, illness or fatality | M76: Vegetation management, Emergency preparedness procedure, signage's | N76: 5 | O76: 4 | P76: I | Q76: F | R76: Maintain vegetation management and review and testing of emergency procedure | S76: Auditing of site Emergency preparedness implementation and testing | T76: Line Management, SHEQ Personnel, Head of sections/supervisors, Employees | U76: Line 32.3, Line 40.8 , site emergency preparedness 240-92065235; OHSAS 18001(4.3.1,4.4.6; 4.4.7)
A77: Monitoring in an HV environment (Kiosks) | B77: R | C77: 1 | D77: Actions and Conditions leading to Electrocution | E77: 1 | F77: Possible Electrocution | G77: Safety | H77: Not following Operating Regulation for High Voltage System (ORHVS), Non Adherence to Life Saving Rule (Permit to work), no information on the cable routes underground. | I77: Employees | J77: Responsible Manager, Employees. | K77: Daily | L77: Minor and Major Injury or fatality | M77: Monitoring of life saving rules in place, process of work permit followed, ORHVS training listed as accreditations | N77: 5 | O77: 3 | P77: II | Q77: F | R77: Continuous monitoring of accreditations (ORHVS) | S77: Monthly reporting on Accreditations (ORHVS) | T77: Responsible Managers and Portfolio Personnel | U77: Line 32.3; Life Saving Rules, ORHVS; OHSAS 18001(4.3.1,4.4.6)
B78: N | C78: 2 | D78: Actions and Conditions leading to Explosion/ Fire | E78: 2 | F78: Possible explosion/ burns | G78: Safety | H78: Equipment failure, not following SOP's, electric short | I78: Employees | J78: Responsible Manager, Employees. | K78: Daily | L78: Possible injury or fatality | M78: Protection system, restrict access, emergency preparedness procedure, contingency plan, awareness | N78: 5 | O78: 3 | P78: II | Q78: F | R78: Continuous awareness raised on ORHVS Requirements | S78: Continuous monitoring of accreditations (ORHVS) | T78: Line Management, Portfolio Personnel, Head of sections/supervisors, Employees | U78: Line 32.3; 240-92065235; OHSAS 18001(4.3.1,4.4.6)Line 32.3, Line 40.8, Line; 240-92065235; OHSAS 18001(4.3.1,4.4.6)
B79: N | C79: 3 | D79: Actions and Conditions leading to Veld fires | E79: 3 | F79: Possible burns or smoke inhalation | G79: Safety & Health | H79: Smoking, Braai, poor yard maintenance, No fire breaks, extremely hot weather | I79: Employees | J79: Responsible Manager, Employees. | K79: Daily | L79: Possible injury, illness or fatality | M79: Vegetation management, Emergency preparedness procedure, signage's | N79: 5 | O79: 4 | P79: I | Q79: F | R79: Maintain vegetation management and review and testing of emergency procedure | S79: Auditing of site Emergency preparedness implementation and testing | T79: Line Management, CPM Personnel, Head of sections/supervisors, Employees | U79: Line 32.3, Line 40.8 , site emergency preparedness 240-92065235; OHSAS 18001(4.3.1,4.4.6; 4.4.7)
A80: Working in a DC environment | B80: R | C80: 1 | D80: Exposure to Battery Acid | E80: 1 | F80: Possible skin contact with acid (Skin Burns) | G80: Safety | H80: Incorrect handling of batteries, overfilling, overcharging, faulty test equipment | I80: Employees. | J80: Responsible Manager, Employees. | K80: Daily | L80: Possible injury | M80: Battery handling procedure in place and implemented, emergency preparedness procedure, Procedure for accidental spills outlined in the procedure | N80: 3 | O80: 3 | P80: II | Q80: F | R80: Continuous awareness on Battery Handling | S80: Site inspections and Auditing | T80: Line Management, SHEQ Personnel, Head of sections/supervisors, Employees | U80: Line 32.3, Line 41.8, 41.9; Battery maintenance (ETPR0800); OHSAS 18001(4.3.1,4.4.6)
B81: N | C81: 2 | D81: Improper use of PPE | E81: 2 | F81: Part of the body may be exposed to injury from batteries falling or contact with acid | G81: Safety | H81: PPE not comfortable, ignorance, lack of awareness | I81: Employees. | J81: Responsible Manager, Employees. | K81: Daily | L81: Possible injury | M81: Correct PPE issued to relevant employees, Awareness raised on the correct use, Periodic Safety Observations conducted to monitor the use thereof, | N81: 3 | O81: 3 | P81: II | Q81: F | R81: Maintain PPE by issuing whenever worn-out, continuous awareness raised on correct use | S81: Auditing | T81: Line Management, SHEQ Personnel, Head of sections/supervisors, Employees | U81: Line 32.3, Line 41.10; PPE for battery Maintenance (ETTB1696), ETFM1129, ETFM1564 PPE Issue Register; OHSAS 18001(4.3.1,4.4.6)
B82: N | C82: 3 | D82: Incompetence in battery maintenance | E82: 3 | F82: Accidental falling of batteries or acid spilling | G82: Safety | H82: Training and awareness not done. Not following safe working procedure | I82: Employees. | J82: Responsible Manager, Employees. | K82: Daily | L82: Possible injury or damage to property | M82: Training provided on handling of Hazardous Substances, Training provided on battery maintenance, awareness procedure in place and implemented | N82: 3 | O82: 2 | P82: III | Q82: F | R82: Continuous awareness raised on battery handling and lifting | S82: Auditing of registers for awareness | T82: Line Management, SHEQ Personnel, Head of sections/supervisors, Employees | U82: Line 32.3, Line 41.2; ETPR0800; OHSAS 18001(4.3.1,4.5.3)
B83: N | C83: 4 | D83: Conditions leading to Possible Explosion | E83: 4 | F83: Possible Explosion from short circuiting | G83: Safety | H83: Poor battery maintenance with poor connection, electric short circuit due to not following Safe Working Procedure | I83: Employees. | J83: Responsible Manager, Employees. | K83: Daily | L83: Possible Injury or fatality | M83: Planned battery maintenance schedule in place and implemented, alarm systems that signals if any fault detected, awareness, emergency preparedness procedure in place | N83: 3 | O83: 3 | P83: II | Q83: F | R83: Awareness on following Safe working procedure | S83: Behavioural safety Observation conducted | T83: Line Management, SHEQ Personnel, Head of sections/supervisors, Employees | U83: Line 32.3, ETPR0800, ETFM1203 First Line Battery Maintenance Log sheet; OHSAS 18001(4.3.1,4.4.6)
B84: R | C84: 5 | D84: Exposure to Fumes | E84: 5 | F84: Possible Inhalation of HCS fumes | G84: Health | H84: Not wearing correct PPE(Respirator), prolonged exposure, poor ventilation, not following correct safe working procedure | I84: Employees. | J84: Responsible Manager, Employees. | K84: Daily | L84: Possible Injury | M84: ventilation (air vents and extraction fans) | N84: 3 | O84: 3 | P84: II | Q84: F | R84: Awareness on wearing Correct PPE | S84: Behavioural safety Observation conducted and auditing | T84: Line Management, SHEQ Personnel, Head of sections/supervisors, Employees | U84: Line 32.3, Line 41.5; ETPR0800, ETTB1674 Additional Precautions to be taken when entering High risk battery rooms; OHSAS 18001(4.3.1,4.4.6)
A85: Monitoring Working in a DC environment | B85: R | C85: 1 | D85: Exposure to Fumes | E85: 1 | F85: Possible Inhalation of HCS fumes | G85: Health & Safety | H85: Not wearing correct PPE(Respirator), prolonged exposure, poor ventilation, not following correct safe working procedure | I85: Employees | J85: Responsible Manager, Employees. | K85: Quarterly | L85: Illness | M85: Occupational survey has been done on sampled sites to determine the exposure levels and reports are available. Correct PPE issued. | N85: 3 | O85: 3 | P85: II | Q85: F | R85: Awareness on wearing Correct PPE. Implement the recommendations on the survey report. | S85: Behavioural safety Observation conducted and auditing | T85: Responsible Managers and CPM Personnel | U85: Line 32.3, Line 41.5; ETPR0800, ETTB1674 Additional Precautions to be taken when entering High risk battery rooms; OHSAS 18001(4.3.1,4.4.6)
A86: Working in an AC environment | B86: R | C86: 1 | D86: Exposure to live wires | E86: 1 | F86: Electrocution | G86: Safety | H86: Contact with AC through earth mats and charger connections, not following safe working procedure, no isolation, lack of training, lack of knowledge and supervision, improper guarding/barricading, lack of SOP's | I86: Employees. | J86: Responsible Manager, Employees. | K86: Daily | L86: Possible injury or fatality | M86: Employees accessing sites trained on safe handling of AC. Employees undergo low voltage authorization. Correct PPE issued and tested as required. Employees assessed every three Years. Awareness on life saving rules | N86: 4 | O86: 3 | P86: II | Q86: F | R86: Development of ET specific procedure on safe handling of AC - in terms of wiring | S86: Internal audits and Behavioural safety observation and job observations | T86: Line Management, Programme Management, SHEQ Personnel, Head of sections/supervisors, Employees | U86: Line 32.3, Eskom Life Saving Rules(32-421), 32-524; OHSAS 18001(4.3.1,4.5.3)
B87: N | C87: 2 | D87: Incompetence in handling AC | E87: 2 | F87: Possible electrocution or shock | G87: Safety | H87: Training needs not analysed, Training matrix not in place, Training not managed, | I87: Employees. | J87: Responsible Manager, Employees. | K87: Daily | L87: Possible injury or fatality | M87: Employees accessing sites trained on safe handling of AC. Employees undergo low voltage authorization. Correct PPE issued and tested as required. Employees assessed every three Years. Awareness on life saving rules | N87: 4 | O87: 3 | P87: II | Q87: F | R87: Incorporate in the AC handling procedure, minimum competency required when handling AC | S87: Internal audits and Behavioural safety observation and job observations | T87: Line Management, Programme Management, SHEQ Personnel, Head of sections/supervisors, Employees | U87: Line 32.3; 32-726; 32-524; OHSAS 18001(4.3.1,4.5.3)
B88: N | C88: 3 | D88: Short Circuiting | E88: 3 | F88: Possible fire | G88: Safety | H88: Equipment failure, not following SOP's, electric short circuit | I88: Employees. | J88: Responsible Manager, Employees. | K88: Daily | L88: Possible injury or fatality | M88: Employees accessing sites trained on safe handling of AC. Employees undergo low voltage authorization. Correct PPE issued and tested as required. Employees assessed every three Years. Awareness on life saving rules | N88: 4 | O88: 3 | P88: II | Q88: P | R88: Incorporate in the AC handling procedure, how to prevent spontaneous fire due to short-circuiting | S88: Internal audits and Behavioural safety observation and job observations | T88: Line Management, Programme Management, SHEQ Personnel, Head of sections/supervisors, Employees | U88: Line 32.3, Line 40.8, Line 40.6, ETPR1149, Equipment maintenance procedure; OHSAS 18001(4.3.1,4.5.3)
A89: Monitoring Working in an AC environment (Electrical Cable Installation) | B89: R | C89: 1 | D89: Conditions leading to Electrocution | E89: 1 | F89: Electrocution | G89: Safety | H89: Contact with AC through earth mats and charger connections, not following safe working procedure, no isolation, lack of training, lack of knowledge and supervision, improper guarding/barricading, lack of SOP's | I89: Employees | J89: Responsible Manager, Employees | K89: Weekly | L89: Possible injury or fatality | M89: Contractor management in relation to SHEQ specification and plan evaluation in relation to competence through education in electrical connections, training on charger installations and other electrical connections, spefication availability, Eskom Life Saving Rules in place and monitored | N89: 3 | O89: 3 | P89: II | Q89: F | R89: Continuous contractor management | S89: Behavioural safety Observation conducted and auditing | T89: Responsible Managers, CPM Personnel and Coordinators | U89: Line 32.3, Eskom Life Saving Rules(32-421), 32-524; OHSAS 18001(4.3.1,4.5.3)
B90: N | C90: 2 | D90: Conditions leading to Fire | E90: 2 | F90: Possible fire | G90: Safety | H90: Equipment failure, not following SOP's, electric short curcuit | I90: Employees | J90: Responsible Manager, Employees | K90: Daily | L90: Possible injury or fatality | M90: Planned and breakdown maintenance in place, equipment upgrade, alarm systems detecting defects, emergency preparedness procedure in place and implemented | N90: 3 | O90: 2 | P90: III | Q90: F | R90: Continuous contractor management | S90: Behavioural safety Observation conducted and auditing | T90: Line Management, CPM Personnel, Head of sections/supervisors, Employees | U90: Line 32.3, Line 40.8, Line 40.6, ETPR1149, Equipment maintenance procedure; OHSAS 18001(4.3.1,4.5.3)
A91: AC Installation - Light fittings | B91: R | C91: 1 | D91: Exposed live wires | E91: 1 | F91: Possible shock or electrocution | G91: Safety | H91: Not isolating or lockout the circuit breaker | I91: Employees. | J91: Responsible Manager, Employees. | K91: Monthly | L91: Possible injury or fatality | M91: Employees accessing sites trained on safe handling of AC. Employees undergo low voltage authorization. Correct PPE issued and tested as required. Employees assessed every three Years. Awareness on life saving rules | N91: 4 | O91: 3 | P91: II | Q91: P | R91: Incorporate in the AC handling procedure, how to prevent spontaneous fire due to short-circuiting | S91: Internal audits and Behavioural safety observation and job observations | T91: Line Management, Programme Management, SHEQ Personnel, Head of sections/supervisors, Employees | U91: Line 32.3, Line 61
A92: Open, and isolate the circuit breaker and lockout | B92: R | C92: 1 | D92: Not following the correct process of isolating | E92: 1 | F92: Possible shock or electrocution | G92: Safety | H92: Not isolating the breaker before work can be done, not putting proper mechanism for lockout, Not following safe work procedure, fowl play | I92: Employees. | J92: Responsible Manager, Employees. | K92: Monthly | L92: Possible injury or fatality | M92: Employees accessing sites trained on safe handling of AC. Employees undergo low voltage authorization. Correct PPE issued and tested as required. Employees assessed every three Years. Awareness on life saving rules | N92: 4 | O92: 3 | P92: II | Q92: P | R92: Incorporate in the AC handling procedure, how to prevent spontaneous fire due to short-circuiting | S92: Internal audits and Behavioural safety observation and job observations | T92: Line Management, Programme Management, SHEQ Personnel, Head of sections/supervisors, Employees | U92: Line 32.3, Line 61
A93: Testing of the DB Board | B93: R | C93: 1 | D93: Not following the correct process of testing the DB board | E93: 1 | F93: Possible shock or electrocution | G93: Safety | H93: Non adherence to life saving rules (Test before touch), Not following safe work procedure, fowl play | I93: Employees. | J93: Responsible Manager, Employees. | K93: Monthly | L93: Possible injury or fatality | M93: Employees accessing sites trained on safe handling of AC. Employees undergo low voltage authorization. Correct PPE issued and tested as required. Employees assessed every three Years. Awareness on life saving rules | N93: 4 | O93: 3 | P93: II | Q93: P | R93: Incorporate in the AC handling procedure, safe testing of the DB board | S93: Internal audits and Behavioural safety observation and job observations | T93: Line Management, Programme Management, SHEQ Personnel, Head of sections/supervisors, Employees | U93: Line 32.3, Line 61
A94: Lifting and rigging | B94: N | C94: 1 | D94: Incompetence in Rigging | E94: 1 | F94: Possible collapse of the structure | G94: Safety | H94: Rigging done by incompetent employees and not done properly | I94: Employees. | J94: Responsible Manager, Employees. | K94: Daily | L94: Possible injury, Fatality or Damage to property | M94: Availability and implementation of the work at heights procedure, Fall protection plan in place and implemented, employees trained on safe rigging and hauling. | N94: 5 | O94: 3 | P94: II | Q94: F | R94: Maintain current controls | S94: SHE file audit and dealing with Non Conformance raised | T94: Line Management, Programme Management, SHEQ Personnel, Head of sections/supervisors, Employees | U94: Line 32.3, Line 46.3, Line 46.4; ETPL1233, Fall Protection Plan, OHSAS 18001(4.3.1,4.4.6; 4.4.2)
B95: R | C95: 2 | D95: Falling objects | E95: 2 | F95: Flying objects | G95: Safety | H95: Incorrect use of PPE (Hard hat), ignorance, lack of training, lack of supervision, improper demarcation, Poor communication, lack of warning signs, Incompetence | I95: Employees, Members of the public | J95: Responsible Manager, Employees. | K95: Daily | L95: Possible injury, Fatality or Damage to property | M95: Work at heights procedure in place and implemented in relation to demarcating the drop zone, employees supplied with hard hat chinstrap to prevent head injury . | N95: 5 | O95: 3 | P95: II | Q95: F | R95: Maintain current controls | S95: SHE file audit and dealing with Non Conformance raised | T95: Line Management, Programme Management, SHEQ Personnel, Head of sections/supervisors, Employees | U95: Line 32.3, Line 46.4; Tower construction Specification ETSP0386, SHE Specification 32-524, 32-726; OHSAS 18001(4.3.1,4.4.6)
B96: R | C96: 3 | D96: Improper use of PPE | E96: 3 | F96: Possible falling | G96: Safety | H96: PPE not comfortable, ignorance, lack of awareness | I96: Employees. | J96: Responsible Manager, Employees. | K96: Daily | L96: Possible injury, Fatality | M96: Employees are trained in Safe rigging and hauling, fall protection plan in place and implemented in terms of the relevant training required. Training contract in place which include safe hauling and rigging | N96: 5 | O96: 3 | P96: II | Q96: F | R96: Maintain current controls | S96: SHE file audit and dealing with Non Conformance raised | T96: Line Management, Programme Management, SHEQ Personnel, Head of sections/supervisors, Employees | U96: Line 32.3, Line 46.7, Line 34.2, Line 46.3, Line 46.4; 32-524, 32-726; OHSAS 18001(4.3.1,4.4.6)
B97: N | C97: 4 | D97: Exposure to Adverse weather conditions | E97: 4 | F97: Poor visibility, slippery conditions, Possible trip and fall, possible collapse of the structure | G97: Safety | H97: Rigging in bad weather conditions, Taking chances due to poor planning | I97: Employees. | J97: Responsible Manager, Employees. | K97: Daily | L97: Possible injury, Fatality or Damage to Property | M97: Employees are trained in Safe rigging and hauling, fall protection plan in place and implemented in terms of the relevant training required. Training contract in place which include safe hauling and rigging including during extreme weather conditions. | N97: 5 | O97: 3 | P97: II | Q97: F | R97: Continuous contractor management | S97: SHE file audit and dealing with Non Conformance raised | T97: Line Management, Programme Management, SHEQ Personnel, Head of sections/supervisors, Employees | U97: Line 32.3, Line 46.3, Line 46.4, Line 46.6; 32-726, 32-524; OHSAS 18001(4.3.1,4.4.6)
A98: Monitoring Lifting and Rigging | B98: R | C98: 1 | D98: Falling objects | E98: 1 | F98: Flying objects | G98: Safety | H98: incorrect use of PPE (Hard hat), ignorance, lack of training, improper demarcation, Poor communication, lack of warning signs. | I98: Employees | J98: Responsible Manager, Employees | K98: Quartely | L98: Minor or Major injury, Fatality | M98: Risk assessment, PPE issued. | N98: 5 | O98: 3 | P98: II | Q98: F | R98: Continuous risk assesment and continuos use of PPE | S98: Behavioural safety Observation conducted and auditing | T98: Responsible Managers and CPM Personnel | U98: Line 32.3, Line 46.4; Tower construction Specification ETSP0386, SHE Specification 32-524, 32-726; OHSAS 18001(4.3.1,4.4.6)
A99: Equipment Installation | B99: N | C99: 1 | D99: Defective Hand Tools | E99: 1 | F99: Possible Pricks, Stabbing, and punctures | G99: Safety | H99: Use of incorrect hand tools, improvising | I99: Employees. | J99: Responsible Manager, Employees. | K99: Daily | L99: Possible injury | M99: Toolbox issued to all technicians, Regular inspection of tools, Contractor Management | N99: 3 | O99: 3 | P99: II | Q99: F | R99: continuous issuing and maintenance of Tools and continuous inspections | S99: Safety File Audit | T99: Line Management, Programme Management, SHEQ Personnel, Head of sections/supervisors, Employees | U99: Line 32.3; Hand tools Procedure (ETPR0737) Tools inspection checklist (ETFM1556); OHSAS 18001(4.3.1,4.5.3)
B100: R | C100: 2 | D100: Incorrect use of a Ladder | E100: 2 | F100: Possibility of falling | G100: Safety | H100: Ladder not well maintained, ladder not inspected, ladder defective, ladder not used properly | I100: Employees. | J100: Responsible Manager, Employees. | K100: Daily | L100: Possible injury | M100: Ladder inspectors appointed, monthly inspection of ladders | N100: 3 | O100: 3 | P100: II | Q100: F | R100: Continuous Contractor Management and monitoring to ensure compliance to requirements. | S100: Safety File Audit | T100: Line Management, Programme Management, SHEQ Personnel, Head of sections/supervisors, Employees | U100: Line 32.3, GSR- Safe use of Ladders
C101: 3 | D101: Lightning strikes and surges | E101: 3 | F101: Damage to equipment/Electrocution | G101: Safety | H101: Lightning strike/power surge | I101: Employees. | J101: Responsible Manager, Employees. | K101: Daily | L101: Possible damage to equipment and/or injury/fatality | M101: Proper earthing protection at sites. Not working outside during lightning storms | N101: 4 | O101: 2 | P101: III | Q101: P | R101: Continuous awareness on not performing work during bad stormy weather condition | S101: Conduct BSO | T101: Line Management, Programme Management, SHEQ Personnel, Head of sections/supervisors, Employees | U101: Line 32.3, 32-520; ETST0017; OHSAS 18001(4.3.1,4.4.6)
A102: Pulling of cables in the equipment room | C102: 1 | D102: Incorrect pulling of cables | E102: 1 | F102: Possibility of being struck by the loose cable or Whiplash | G102: Safety | H102: Incorrect pulling of cables, Not identifying the hazard in the task specific risk assessment | I102: Employees | J102: Responsible Manager, Employees. | K102: Daily | L102: Possible minor or major injuries | M102: Task Risk assessment conducted | N102: 4 | O102: 3 | P102: II | Q102: P | R102: Safe work procedure on pulling of cables in the equipment room to be put in place | S102: Conducting BSO | T102: Line Management, Senior Supervisor | U102: Line 32.3, 32-520;OHSAS 18001(4.3.1,4.4.6)
C103: 2 | D103: Cables lying around the equipment room | E103: 2 | F103: Possibility of trips, and fall | G103: Safety | H103: Poor Housekeeping | I103: Employees | J103: Responsible Manager, Employees. | K103: Daily | L103: Minor or major injuries | M103: Inspections of high site is carried out periodically, BSO conducted on periodically, | N103: 4 | O103: 2 | P103: III | Q103: P | R103: Conducting job observations at least once a month as per the supervision work instruction | S103: Conducting BSO | T103: Line Management, Senior Supervisors | U103: Line 32.3, 32-520;OHSAS 18001(4.3.1,4.4.6)
...

Sheet Contractor Baseline template
A3: Occupational Health and Safety Baseline risk assessment template
A4: Business/Operating unit: | K4: Next Review Date (every 2 years): | L4: Template identifier:
A6: Date: | F6: Authorised by: | H6: Name: | K6: Document identifier | AA6: R | AB6: Safety | AC6: 1 | AD6: A | AE6: Fully effective | AF6: I
H7: Designation: | K7: Revision number: | L7: 1 | AA7: N | AB7: Health | AC7: 2 | AD7: B | AE7: Mostly effective | AF7: II
H8: Signed: | K8: Revision date: | L8: 45443 | AC8: 3 | AD8: C | AE8: Mostly ineffective | AF8: III
H9: Date: | AC9: 4 | AD9: D | AE9: None | AF9: IV
A10: Refer to Occupational Health and Safety Risk assessment procedure 32-520 | AC10: 5 | AD10: E
A11: List activity | B11: Hazard Identification | C11: Associated risk | D11: Risk type | E11: What are the possible consequences? | F11: Existing Controls | I11: Risk Priority Rating | K11: Control Owner | L11: Legal and Other Requirements | AC11: 6
A12: List specific activities to be performed taking into consideration the equipment to be used, the personnel involved in the task. | B12: Anything with potential to cause of harm. Note: A hazard can pose more than one risk. | C12: A chance that injury , ill health or damage could occur as a result of uncontrolled hazard. | D12: Safety or health | E12: Consider the worse case scenario without controls? | F12: Include: - Preventative Controls (controls implemented to eliminate hazards or reduce the likelihood of the risk occurring), and - Reactive Controls (controls implemented to reduce the immediate impact of the risk occurring) Elimination Substitution Engineering controls Administrative controls Personal protective equipment (PPE) | G12: Consequence | H12: Likelihood | J12: RCE Risk Control Effectiveness | K12: Person allocated the responsibility for implementing the agreed controls | L12: Where relevant, list the relevant legislative and or Eskom requirements that prescribe the control. | R12: Consequences | S12: 6 | T12: III | U12: II | V12: I | W12: I | X12: I
A13: =IF('Risk template'!A12="","",'Risk template'!A12) -> Travelling By Road | B13: =IF('Risk template'!A12="","",'Risk template'!D12) -> Fatigue | C13: =IF('Risk template'!A12="","",'Risk template'!F12) -> Falling asleep while driving, | D13: =IF('Risk template'!A12="","",'Risk template'!G12) -> Safety | E13: =IF('Risk template'!A12="","",'Risk template'!L12) -> MVA which may lead to injury or fatality | F13: =IF('Risk template'!A12="","",'Risk template'!M12) -> Safety Awareness on fatigue Management, Availability, implementation and Monitoring of adherence to fatigue Management Procedure (ETTB 1517), Availability, implementation and monitoring of adherence to the travelling Procedure 240-62946386, MVA reports are analysed on a monthly basis to determine trends on excessive km travelled | G13: =IF('Risk template'!A12="","",'Risk template'!N12) -> 5 | H13: =IF('Risk template'!A12="","",'Risk template'!O12) -> 3 | I13: =IF('Risk template'!A12="","",'Risk template'!P12) -> II | J13: =IF('Risk template'!A12="","",'Risk template'!Q12) -> P | K13: =IF('Risk template'!A12="","",'Risk template'!T12) -> Line Management, SHEQ Personnel, Head of sections/supervisors, Employees | L13: =IF('Risk template'!A12="","",'Risk template'!U12) -> Line 32.3, Driver Fatigue management, ETTB 1517, Safe Travelling Procedure 240-62946386; Risk Assessment Procedure 32-520) Task Specific Risk Assessment (ETFM1289)(ETFM1038) OHSAS 18001(4.3.1,4.5.3) | S13: 5 | T13: III | U13: II | V13: II | W13: I | X13: I
A14: =IF('Risk template'!A13="","",'Risk template'!A13) | B14: =IF('Risk template'!A13="","",'Risk template'!D13) | C14: =IF('Risk template'!A13="","",'Risk template'!F13) | D14: =IF('Risk template'!A13="","",'Risk template'!G13) | E14: =IF('Risk template'!A13="","",'Risk template'!L13) | F14: =IF('Risk template'!A13="","",'Risk template'!M13) | G14: =IF('Risk template'!A13="","",'Risk template'!N13) | H14: =IF('Risk template'!A13="","",'Risk template'!O13) | I14: =IF('Risk template'!A13="","",'Risk template'!P13) | J14: =IF('Risk template'!A13="","",'Risk template'!Q13) | K14: =IF('Risk template'!A13="","",'Risk template'!T13) | L14: =IF('Risk template'!A13="","",'Risk template'!U13) | S14: 4 | T14: IV | U14: III | V14: II | W14: I | X14: I
A15: =IF('Risk template'!A14="","",'Risk template'!A14) | B15: =IF('Risk template'!A14="","",'Risk template'!D14) | C15: =IF('Risk template'!A14="","",'Risk template'!F14) | D15: =IF('Risk template'!A14="","",'Risk template'!G14) | E15: =IF('Risk template'!A14="","",'Risk template'!L14) | F15: =IF('Risk template'!A14="","",'Risk template'!M14) | G15: =IF('Risk template'!A14="","",'Risk template'!N14) | H15: =IF('Risk template'!A14="","",'Risk template'!O14) | I15: =IF('Risk template'!A14="","",'Risk template'!P14) | J15: =IF('Risk template'!A14="","",'Risk template'!Q14) | K15: =IF('Risk template'!A14="","",'Risk template'!T14) | L15: =IF('Risk template'!A14="","",'Risk template'!U14) | S15: 3 | T15: IV | U15: III | V15: II | W15: II | X15: I
A16: =IF('Risk template'!A15="","",'Risk template'!A15) | B16: =IF('Risk template'!A15="","",'Risk template'!D15) | C16: =IF('Risk template'!A15="","",'Risk template'!F15) | D16: =IF('Risk template'!A15="","",'Risk template'!G15) | E16: =IF('Risk template'!A15="","",'Risk template'!L15) | F16: =IF('Risk template'!A15="","",'Risk template'!M15) | G16: =IF('Risk template'!A15="","",'Risk template'!N15) | H16: =IF('Risk template'!A15="","",'Risk template'!O15) | I16: =IF('Risk template'!A15="","",'Risk template'!P15) | J16: =IF('Risk template'!A15="","",'Risk template'!Q15) | K16: =IF('Risk template'!A15="","",'Risk template'!T15) | L16: =IF('Risk template'!A15="","",'Risk template'!U15) | S16: 2 | T16: IV | U16: IV | V16: III | W16: II | X16: II
A17: =IF('Risk template'!A16="","",'Risk template'!A16) | B17: =IF('Risk template'!A16="","",'Risk template'!D16) | C17: =IF('Risk template'!A16="","",'Risk template'!F16) | D17: =IF('Risk template'!A16="","",'Risk template'!G16) | E17: =IF('Risk template'!A16="","",'Risk template'!L16) | F17: =IF('Risk template'!A16="","",'Risk template'!M16) | G17: =IF('Risk template'!A16="","",'Risk template'!N16) | H17: =IF('Risk template'!A16="","",'Risk template'!O16) | I17: =IF('Risk template'!A16="","",'Risk template'!P16) | J17: =IF('Risk template'!A16="","",'Risk template'!Q16) | K17: =IF('Risk template'!A16="","",'Risk template'!T16) | L17: =IF('Risk template'!A16="","",'Risk template'!U16) | S17: 1 | T17: IV | U17: IV | V17: III | W17: III | X17: III
A18: =IF('Risk template'!A17="","",'Risk template'!A17) | B18: =IF('Risk template'!A17="","",'Risk template'!D17) | C18: =IF('Risk template'!A17="","",'Risk template'!F17) | D18: =IF('Risk template'!A17="","",'Risk template'!G17) | E18: =IF('Risk template'!A17="","",'Risk template'!L17) | F18: =IF('Risk template'!A17="","",'Risk template'!M17) | G18: =IF('Risk template'!A17="","",'Risk template'!N17) | H18: =IF('Risk template'!A17="","",'Risk template'!O17) | I18: =IF('Risk template'!A17="","",'Risk template'!P17) | J18: =IF('Risk template'!A17="","",'Risk template'!Q17) | K18: =IF('Risk template'!A17="","",'Risk template'!T17) | L18: =IF('Risk template'!A17="","",'Risk template'!U17) | T18: A | U18: B | V18: C | W18: D | X18: E
A19: =IF('Risk template'!A18="","",'Risk template'!A18) | B19: =IF('Risk template'!A18="","",'Risk template'!D18) | C19: =IF('Risk template'!A18="","",'Risk template'!F18) | D19: =IF('Risk template'!A18="","",'Risk template'!G18) | E19: =IF('Risk template'!A18="","",'Risk template'!L18) | F19: =IF('Risk template'!A18="","",'Risk template'!M18) | G19: =IF('Risk template'!A18="","",'Risk template'!N18) | H19: =IF('Risk template'!A18="","",'Risk template'!O18) | I19: =IF('Risk template'!A18="","",'Risk template'!P18) | J19: =IF('Risk template'!A18="","",'Risk template'!Q18) | K19: =IF('Risk template'!A18="","",'Risk template'!T18) | L19: =IF('Risk template'!A18="","",'Risk template'!U18) | T19: Likelihood
A20: =IF('Risk template'!A19="","",'Risk template'!A19) | B20: =IF('Risk template'!A19="","",'Risk template'!D19) | C20: =IF('Risk template'!A19="","",'Risk template'!F19) | D20: =IF('Risk template'!A19="","",'Risk template'!G19) | E20: =IF('Risk template'!A19="","",'Risk template'!L19) | F20: =IF('Risk template'!A19="","",'Risk template'!M19) | G20: =IF('Risk template'!A19="","",'Risk template'!N19) | H20: =IF('Risk template'!A19="","",'Risk template'!O19) | I20: =IF('Risk template'!A19="","",'Risk template'!P19) | J20: =IF('Risk template'!A19="","",'Risk template'!Q19) | K20: =IF('Risk template'!A19="","",'Risk template'!T19) | L20: =IF('Risk template'!A19="","",'Risk template'!U19)
A21: =IF('Risk template'!A20="","",'Risk template'!A20) | B21: =IF('Risk template'!A20="","",'Risk template'!D20) | C21: =IF('Risk template'!A20="","",'Risk template'!F20) | D21: =IF('Risk template'!A20="","",'Risk template'!G20) | E21: =IF('Risk template'!A20="","",'Risk template'!L20) | F21: =IF('Risk template'!A20="","",'Risk template'!M20) | G21: =IF('Risk template'!A20="","",'Risk template'!N20) | H21: =IF('Risk template'!A20="","",'Risk template'!O20) | I21: =IF('Risk template'!A20="","",'Risk template'!P20) | J21: =IF('Risk template'!A20="","",'Risk template'!Q20) | K21: =IF('Risk template'!A20="","",'Risk template'!T20) | L21: =IF('Risk template'!A20="","",'Risk template'!U20)
A22: =IF('Risk template'!A21="","",'Risk template'!A21) | B22: =IF('Risk template'!A21="","",'Risk template'!D21) | C22: =IF('Risk template'!A21="","",'Risk template'!F21) | D22: =IF('Risk template'!A21="","",'Risk template'!G21) | E22: =IF('Risk template'!A21="","",'Risk template'!L21) | F22: =IF('Risk template'!A21="","",'Risk template'!M21) | G22: =IF('Risk template'!A21="","",'Risk template'!N21) | H22: =IF('Risk template'!A21="","",'Risk template'!O21) | I22: =IF('Risk template'!A21="","",'Risk template'!P21) | J22: =IF('Risk template'!A21="","",'Risk template'!Q21) | K22: =IF('Risk template'!A21="","",'Risk template'!T21) | L22: =IF('Risk template'!A21="","",'Risk template'!U21)
A23: =IF('Risk template'!A22="","",'Risk template'!A22) | B23: =IF('Risk template'!A22="","",'Risk template'!D22) | C23: =IF('Risk template'!A22="","",'Risk template'!F22) | D23: =IF('Risk template'!A22="","",'Risk template'!G22) | E23: =IF('Risk template'!A22="","",'Risk template'!L22) | F23: =IF('Risk template'!A22="","",'Risk template'!M22) | G23: =IF('Risk template'!A22="","",'Risk template'!N22) | H23: =IF('Risk template'!A22="","",'Risk template'!O22) | I23: =IF('Risk template'!A22="","",'Risk template'!P22) | J23: =IF('Risk template'!A22="","",'Risk template'!Q22) | K23: =IF('Risk template'!A22="","",'Risk template'!T22) | L23: =IF('Risk template'!A22="","",'Risk template'!U22)
A24: =IF('Risk template'!A23="","",'Risk template'!A23) | B24: =IF('Risk template'!A23="","",'Risk template'!D23) | C24: =IF('Risk template'!A23="","",'Risk template'!F23) | D24: =IF('Risk template'!A23="","",'Risk template'!G23) | E24: =IF('Risk template'!A23="","",'Risk template'!L23) | F24: =IF('Risk template'!A23="","",'Risk template'!M23) | G24: =IF('Risk template'!A23="","",'Risk template'!N23) | H24: =IF('Risk template'!A23="","",'Risk template'!O23) | I24: =IF('Risk template'!A23="","",'Risk template'!P23) | J24: =IF('Risk template'!A23="","",'Risk template'!Q23) | K24: =IF('Risk template'!A23="","",'Risk template'!T23) | L24: =IF('Risk template'!A23="","",'Risk template'!U23)
A25: =IF('Risk template'!A24="","",'Risk template'!A24) | B25: =IF('Risk template'!A24="","",'Risk template'!D24) | C25: =IF('Risk template'!A24="","",'Risk template'!F24) | D25: =IF('Risk template'!A24="","",'Risk template'!G24) | E25: =IF('Risk template'!A24="","",'Risk template'!L24) | F25: =IF('Risk template'!A24="","",'Risk template'!M24) | G25: =IF('Risk template'!A24="","",'Risk template'!N24) | H25: =IF('Risk template'!A24="","",'Risk template'!O24) | I25: =IF('Risk template'!A24="","",'Risk template'!P24) | J25: =IF('Risk template'!A24="","",'Risk template'!Q24) | K25: =IF('Risk template'!A24="","",'Risk template'!T24) | L25: =IF('Risk template'!A24="","",'Risk template'!U24)
A26: =IF('Risk template'!A25="","",'Risk template'!A25) | B26: =IF('Risk template'!A25="","",'Risk template'!D25) | C26: =IF('Risk template'!A25="","",'Risk template'!F25) | D26: =IF('Risk template'!A25="","",'Risk template'!G25) | E26: =IF('Risk template'!A25="","",'Risk template'!L25) | F26: =IF('Risk template'!A25="","",'Risk template'!M25) | G26: =IF('Risk template'!A25="","",'Risk template'!N25) | H26: =IF('Risk template'!A25="","",'Risk template'!O25) | I26: =IF('Risk template'!A25="","",'Risk template'!P25) | J26: =IF('Risk template'!A25="","",'Risk template'!Q25) | K26: =IF('Risk template'!A25="","",'Risk template'!T25) | L26: =IF('Risk template'!A25="","",'Risk template'!U25)
A27: =IF('Risk template'!A26="","",'Risk template'!A26) | B27: =IF('Risk template'!A26="","",'Risk template'!D26) | C27: =IF('Risk template'!A26="","",'Risk template'!F26) | D27: =IF('Risk template'!A26="","",'Risk template'!G26) | E27: =IF('Risk template'!A26="","",'Risk template'!L26) | F27: =IF('Risk template'!A26="","",'Risk template'!M26) | G27: =IF('Risk template'!A26="","",'Risk template'!N26) | H27: =IF('Risk template'!A26="","",'Risk template'!O26) | I27: =IF('Risk template'!A26="","",'Risk template'!P26) | J27: =IF('Risk template'!A26="","",'Risk template'!Q26) | K27: =IF('Risk template'!A26="","",'Risk template'!T26) | L27: =IF('Risk template'!A26="","",'Risk template'!U26)
A28: =IF('Risk template'!A27="","",'Risk template'!A27) | B28: =IF('Risk template'!A27="","",'Risk template'!D27) | C28: =IF('Risk template'!A27="","",'Risk template'!F27) | D28: =IF('Risk template'!A27="","",'Risk template'!G27) | E28: =IF('Risk template'!A27="","",'Risk template'!L27) | F28: =IF('Risk template'!A27="","",'Risk template'!M27) | G28: =IF('Risk template'!A27="","",'Risk template'!N27) | H28: =IF('Risk template'!A27="","",'Risk template'!O27) | I28: =IF('Risk template'!A27="","",'Risk template'!P27) | J28: =IF('Risk template'!A27="","",'Risk template'!Q27) | K28: =IF('Risk template'!A27="","",'Risk template'!T27) | L28: =IF('Risk template'!A27="","",'Risk template'!U27)
A29: =IF('Risk template'!A28="","",'Risk template'!A28) | B29: =IF('Risk template'!A28="","",'Risk template'!D28) | C29: =IF('Risk template'!A28="","",'Risk template'!F28) | D29: =IF('Risk template'!A28="","",'Risk template'!G28) | E29: =IF('Risk template'!A28="","",'Risk template'!L28) | F29: =IF('Risk template'!A28="","",'Risk template'!M28) | G29: =IF('Risk template'!A28="","",'Risk template'!N28) | H29: =IF('Risk template'!A28="","",'Risk template'!O28) | I29: =IF('Risk template'!A28="","",'Risk template'!P28) | J29: =IF('Risk template'!A28="","",'Risk template'!Q28) | K29: =IF('Risk template'!A28="","",'Risk template'!T28) | L29: =IF('Risk template'!A28="","",'Risk template'!U28)
A30: =IF('Risk template'!A29="","",'Risk template'!A29) | B30: =IF('Risk template'!A29="","",'Risk template'!D29) | C30: =IF('Risk template'!A29="","",'Risk template'!F29) | D30: =IF('Risk template'!A29="","",'Risk template'!G29) | E30: =IF('Risk template'!A29="","",'Risk template'!L29) | F30: =IF('Risk template'!A29="","",'Risk template'!M29) | G30: =IF('Risk template'!A29="","",'Risk template'!N29) | H30: =IF('Risk template'!A29="","",'Risk template'!O29) | I30: =IF('Risk template'!A29="","",'Risk template'!P29) | J30: =IF('Risk template'!A29="","",'Risk template'!Q29) | K30: =IF('Risk template'!A29="","",'Risk template'!T29) | L30: =IF('Risk template'!A29="","",'Risk template'!U29)
A31: =IF('Risk template'!A30="","",'Risk template'!A30) | B31: =IF('Risk template'!A30="","",'Risk template'!D30) | C31: =IF('Risk template'!A30="","",'Risk template'!F30) | D31: =IF('Risk template'!A30="","",'Risk template'!G30) | E31: =IF('Risk template'!A30="","",'Risk template'!L30) | F31: =IF('Risk template'!A30="","",'Risk template'!M30) | G31: =IF('Risk template'!A30="","",'Risk template'!N30) | H31: =IF('Risk template'!A30="","",'Risk template'!O30) | I31: =IF('Risk template'!A30="","",'Risk template'!P30) | J31: =IF('Risk template'!A30="","",'Risk template'!Q30) | K31: =IF('Risk template'!A30="","",'Risk template'!T30) | L31: =IF('Risk template'!A30="","",'Risk template'!U30)
... A78: =IF('Risk template'!A77="","",'Risk template'!A77) -> Monitoring in an HV environment (Kiosks) | B78: =IF('Risk template'!A77="","",'Risk template'!D77) -> Actions and Conditions leading to Electrocution | C78: =IF('Risk template'!A77="","",'Risk template'!F77) -> Possible Electrocution | D78: =IF('Risk template'!A77="","",'Risk template'!G77) -> Safety | E78: =IF('Risk template'!A77="","",'Risk template'!L77) -> Minor and Major Injury or fatality | F78: =IF('Risk template'!A77="","",'Risk template'!M77) -> Monitoring of life saving rules in place, process of work permit followed, ORHVS training listed as accreditations | G78: =IF('Risk template'!A77="","",'Risk template'!N77) -> 5 | H78: =IF('Risk template'!A77="","",'Risk template'!O77) -> 3 | I78: =IF('Risk template'!A77="","",'Risk template'!P77) -> II | J78: =IF('Risk template'!A77="","",'Risk template'!Q77) -> F | K78: =IF('Risk template'!A77="","",'Risk template'!T77) -> Responsible Managers and Portfolio Personnel | L78: =IF('Risk template'!A77="","",'Risk template'!U77) -> Line 32.3; Life Saving Rules, ORHVS; OHSAS 18001(4.3.1,4.4.6)
A79: s | B79: =IF('Risk template'!A78="","",'Risk template'!D78) | C79: =IF('Risk template'!A78="","",'Risk template'!F78) | D79: =IF('Risk template'!A78="","",'Risk template'!G78) | E79: =IF('Risk template'!A78="","",'Risk template'!L78) | F79: =IF('Risk template'!A78="","",'Risk template'!M78) | G79: =IF('Risk template'!A78="","",'Risk template'!N78) | H79: =IF('Risk template'!A78="","",'Risk template'!O78) | I79: =IF('Risk template'!A78="","",'Risk template'!P78) | J79: =IF('Risk template'!A78="","",'Risk template'!Q78) | K79: =IF('Risk template'!A78="","",'Risk template'!T78) | L79: =IF('Risk template'!A78="","",'Risk template'!U78)
A80: =IF('Risk template'!A79="","",'Risk template'!A79) | B80: =IF('Risk template'!A79="","",'Risk template'!D79) | C80: =IF('Risk template'!A79="","",'Risk template'!F79) | D80: =IF('Risk template'!A79="","",'Risk template'!G79) | E80: =IF('Risk template'!A79="","",'Risk template'!L79) | F80: =IF('Risk template'!A79="","",'Risk template'!M79) | G80: =IF('Risk template'!A79="","",'Risk template'!N79) | H80: =IF('Risk template'!A79="","",'Risk template'!O79) | I80: =IF('Risk template'!A79="","",'Risk template'!P79) | J80: =IF('Risk template'!A79="","",'Risk template'!Q79) | K80: =IF('Risk template'!A79="","",'Risk template'!T79) | L80: =IF('Risk template'!A79="","",'Risk template'!U79)
A81: =IF('Risk template'!A80="","",'Risk template'!A80) -> Working in a DC environment | B81: =IF('Risk template'!A80="","",'Risk template'!D80) -> Exposure to Battery Acid | C81: =IF('Risk template'!A80="","",'Risk template'!F80) -> Possible skin contact with acid (Skin Burns) | D81: =IF('Risk template'!A80="","",'Risk template'!G80) -> Safety | E81: =IF('Risk template'!A80="","",'Risk template'!L80) -> Possible injury | F81: =IF('Risk template'!A80="","",'Risk template'!M80) -> Battery handling procedure in place and implemented, emergency preparedness procedure, Procedure for accidental spills outlined in the procedure | G81: =IF('Risk template'!A80="","",'Risk template'!N80) -> 3 | H81: =IF('Risk template'!A80="","",'Risk template'!O80) -> 3 | I81: =IF('Risk template'!A80="","",'Risk template'!P80) -> II | J81: =IF('Risk template'!A80="","",'Risk template'!Q80) -> F | K81: =IF('Risk template'!A80="","",'Risk template'!T80) -> Line Management, SHEQ Personnel, Head of sections/supervisors, Employees | L81: =IF('Risk template'!A80="","",'Risk template'!U80) -> Line 32.3, Line 41.8, 41.9; Battery maintenance (ETPR0800); OHSAS 18001(4.3.1,4.4.6)
A82: =IF('Risk template'!A81="","",'Risk template'!A81) | B82: =IF('Risk template'!A81="","",'Risk template'!D81) | C82: =IF('Risk template'!A81="","",'Risk template'!F81) | D82: =IF('Risk template'!A81="","",'Risk template'!G81) | E82: =IF('Risk template'!A81="","",'Risk template'!L81) | F82: =IF('Risk template'!A81="","",'Risk template'!M81) | G82: =IF('Risk template'!A81="","",'Risk template'!N81) | H82: =IF('Risk template'!A81="","",'Risk template'!O81) | I82: =IF('Risk template'!A81="","",'Risk template'!P81) | J82: =IF('Risk template'!A81="","",'Risk template'!Q81) | K82: =IF('Risk template'!A81="","",'Risk template'!T81) | L82: =IF('Risk template'!A81="","",'Risk template'!U81)
A83: =IF('Risk template'!A82="","",'Risk template'!A82) | B83: =IF('Risk template'!A82="","",'Risk template'!D82) | C83: =IF('Risk template'!A82="","",'Risk template'!F82) | D83: =IF('Risk template'!A82="","",'Risk template'!G82) | E83: =IF('Risk template'!A82="","",'Risk template'!L82) | F83: =IF('Risk template'!A82="","",'Risk template'!M82) | G83: =IF('Risk template'!A82="","",'Risk template'!N82) | H83: =IF('Risk template'!A82="","",'Risk template'!O82) | I83: =IF('Risk template'!A82="","",'Risk template'!P82) | J83: =IF('Risk template'!A82="","",'Risk template'!Q82) | K83: =IF('Risk template'!A82="","",'Risk template'!T82) | L83: =IF('Risk template'!A82="","",'Risk template'!U82)
A84: =IF('Risk template'!A83="","",'Risk template'!A83) | B84: =IF('Risk template'!A83="","",'Risk template'!D83) | C84: =IF('Risk template'!A83="","",'Risk template'!F83) | D84: =IF('Risk template'!A83="","",'Risk template'!G83) | E84: =IF('Risk template'!A83="","",'Risk template'!L83) | F84: =IF('Risk template'!A83="","",'Risk template'!M83) | G84: =IF('Risk template'!A83="","",'Risk template'!N83) | H84: =IF('Risk template'!A83="","",'Risk template'!O83) | I84: =IF('Risk template'!A83="","",'Risk template'!P83) | J84: =IF('Risk template'!A83="","",'Risk template'!Q83) | K84: =IF('Risk template'!A83="","",'Risk template'!T83) | L84: =IF('Risk template'!A83="","",'Risk template'!U83)
A85: =IF('Risk template'!A84="","",'Risk template'!A84) | B85: =IF('Risk template'!A84="","",'Risk template'!D84) | C85: =IF('Risk template'!A84="","",'Risk template'!F84) | D85: =IF('Risk template'!A84="","",'Risk template'!G84) | E85: =IF('Risk template'!A84="","",'Risk template'!L84) | F85: =IF('Risk template'!A84="","",'Risk template'!M84) | G85: =IF('Risk template'!A84="","",'Risk template'!N84) | H85: =IF('Risk template'!A84="","",'Risk template'!O84) | I85: =IF('Risk template'!A84="","",'Risk template'!P84) | J85: =IF('Risk template'!A84="","",'Risk template'!Q84) | K85: =IF('Risk template'!A84="","",'Risk template'!T84) | L85: =IF('Risk template'!A84="","",'Risk template'!U84)
A86: =IF('Risk template'!A85="","",'Risk template'!A85) -> Monitoring Working in a DC environment | B86: =IF('Risk template'!A85="","",'Risk template'!D85) -> Exposure to Fumes | C86: =IF('Risk template'!A85="","",'Risk template'!F85) -> Possible Inhalation of HCS fumes | D86: =IF('Risk template'!A85="","",'Risk template'!G85) -> Health & Safety | E86: =IF('Risk template'!A85="","",'Risk template'!L85) -> Illness | F86: =IF('Risk template'!A85="","",'Risk template'!M85) -> Occupational survey has been done on sampled sites to determine the exposure levels and reports are available. Correct PPE issued. | G86: =IF('Risk template'!A85="","",'Risk template'!N85) -> 3 | H86: =IF('Risk template'!A85="","",'Risk template'!O85) -> 3 | I86: =IF('Risk template'!A85="","",'Risk template'!P85) -> II | J86: =IF('Risk template'!A85="","",'Risk template'!Q85) -> F | K86: =IF('Risk template'!A85="","",'Risk template'!T85) -> Responsible Managers and CPM Personnel | L86: =IF('Risk template'!A85="","",'Risk template'!U85) -> Line 32.3, Line 41.5; ETPR0800, ETTB1674 Additional Precautions to be taken when entering High risk battery rooms; OHSAS 18001(4.3.1,4.4.6)
A87: =IF('Risk template'!A86="","",'Risk template'!A86) -> Working in an AC environment | B87: =IF('Risk template'!A86="","",'Risk template'!D86) -> Exposure to live wires | C87: =IF('Risk template'!A86="","",'Risk template'!F86) -> Electrocution | D87: =IF('Risk template'!A86="","",'Risk template'!G86) -> Safety | E87: =IF('Risk template'!A86="","",'Risk template'!L86) -> Possible injury or fatality | F87: =IF('Risk template'!A86="","",'Risk template'!M86) -> Employees accessing sites trained on safe handling of AC. Employees undergo low voltage authorization. Correct PPE issued and tested as required. Employees assessed every three Years. Awareness on life saving rules | G87: =IF('Risk template'!A86="","",'Risk template'!N86) -> 4 | H87: =IF('Risk template'!A86="","",'Risk template'!O86) -> 3 | I87: =IF('Risk template'!A86="","",'Risk template'!P86) -> II | J87: =IF('Risk template'!A86="","",'Risk template'!Q86) -> F | K87: =IF('Risk template'!A86="","",'Risk template'!T86) -> Line Management, Programme Management, SHEQ Personnel, Head of sections/supervisors, Employees | L87: =IF('Risk template'!A86="","",'Risk template'!U86) -> Line 32.3, Eskom Life Saving Rules(32-421), 32-524; OHSAS 18001(4.3.1,4.5.3)
A88: =IF('Risk template'!A87="","",'Risk template'!A87) | B88: =IF('Risk template'!A87="","",'Risk template'!D87) | C88: =IF('Risk template'!A87="","",'Risk template'!F87) | D88: =IF('Risk template'!A87="","",'Risk template'!G87) | E88: =IF('Risk template'!A87="","",'Risk template'!L87) | F88: =IF('Risk template'!A87="","",'Risk template'!M87) | G88: =IF('Risk template'!A87="","",'Risk template'!N87) | H88: =IF('Risk template'!A87="","",'Risk template'!O87) | I88: =IF('Risk template'!A87="","",'Risk template'!P87) | J88: =IF('Risk template'!A87="","",'Risk template'!Q87) | K88: =IF('Risk template'!A87="","",'Risk template'!T87) | L88: =IF('Risk template'!A87="","",'Risk template'!U87)
A89: =IF('Risk template'!A88="","",'Risk template'!A88) | B89: =IF('Risk template'!A88="","",'Risk template'!D88) | C89: =IF('Risk template'!A88="","",'Risk template'!F88) | D89: =IF('Risk template'!A88="","",'Risk template'!G88) | E89: =IF('Risk template'!A88="","",'Risk template'!L88) | F89: =IF('Risk template'!A88="","",'Risk template'!M88) | G89: =IF('Risk template'!A88="","",'Risk template'!N88) | H89: =IF('Risk template'!A88="","",'Risk template'!O88) | I89: =IF('Risk template'!A88="","",'Risk template'!P88) | J89: =IF('Risk template'!A88="","",'Risk template'!Q88) | K89: =IF('Risk template'!A88="","",'Risk template'!T88) | L89: =IF('Risk template'!A88="","",'Risk template'!U88)
A90: =IF('Risk template'!A89="","",'Risk template'!A89) -> Monitoring Working in an AC environment (Electrical Cable Installation) | B90: =IF('Risk template'!A89="","",'Risk template'!D89) -> Conditions leading to Electrocution | C90: =IF('Risk template'!A89="","",'Risk template'!F89) -> Electrocution | D90: =IF('Risk template'!A89="","",'Risk template'!G89) -> Safety | E90: =IF('Risk template'!A89="","",'Risk template'!L89) -> Possible injury or fatality | F90: =IF('Risk template'!A89="","",'Risk template'!M89) -> Contractor management in relation to SHEQ specification and plan evaluation in relation to competence through education in electrical connections, training on charger installations and other electrical connections, spefication availability, Eskom Life Saving Rules in place and monitored | G90: =IF('Risk template'!A89="","",'Risk template'!N89) -> 3 | H90: =IF('Risk template'!A89="","",'Risk template'!O89) -> 3 | I90: =IF('Risk template'!A89="","",'Risk template'!P89) -> II | J90: =IF('Risk template'!A89="","",'Risk template'!Q89) -> F | K90: =IF('Risk template'!A89="","",'Risk template'!T89) -> Responsible Managers, CPM Personnel and Coordinators | L90: =IF('Risk template'!A89="","",'Risk template'!U89) -> Line 32.3, Eskom Life Saving Rules(32-421), 32-524; OHSAS 18001(4.3.1,4.5.3)
A91: =IF('Risk template'!A90="","",'Risk template'!A90) | B91: =IF('Risk template'!A90="","",'Risk template'!D90) | C91: =IF('Risk template'!A90="","",'Risk template'!F90) | D91: =IF('Risk template'!A90="","",'Risk template'!G90) | E91: =IF('Risk template'!A90="","",'Risk template'!L90) | F91: =IF('Risk template'!A90="","",'Risk template'!M90) | G91: =IF('Risk template'!A90="","",'Risk template'!N90) | H91: =IF('Risk template'!A90="","",'Risk template'!O90) | I91: =IF('Risk template'!A90="","",'Risk template'!P90) | J91: =IF('Risk template'!A90="","",'Risk template'!Q90) | K91: =IF('Risk template'!A90="","",'Risk template'!T90) | L91: =IF('Risk template'!A90="","",'Risk template'!U90)
... A169: =IF('Risk template'!A168="","",'Risk template'!A168) | B169: =IF('Risk template'!A168="","",'Risk template'!D168) | C169: =IF('Risk template'!A168="","",'Risk template'!F168) | D169: =IF('Risk template'!A168="","",'Risk template'!G168) | E169: =IF('Risk template'!A168="","",'Risk template'!L168) | F169: =IF('Risk template'!A168="","",'Risk template'!M168) | G169: =IF('Risk template'!A168="","",'Risk template'!N168) | H169: =IF('Risk template'!A168="","",'Risk template'!O168) | I169: =IF('Risk template'!A168="","",'Risk template'!P168) | J169: =IF('Risk template'!A168="","",'Risk template'!Q168) | K169: =IF('Risk template'!A168="","",'Risk template'!T168) | L169: =IF('Risk template'!A168="","",'Risk template'!U168)
A170: =IF('Risk template'!#REF!="","",'Risk template'!#REF!) -> #REF! | B170: =IF('Risk template'!#REF!="","",'Risk template'!#REF!) -> #REF! | C170: =IF('Risk template'!#REF!="","",'Risk template'!#REF!) -> #REF! | D170: =IF('Risk template'!#REF!="","",'Risk template'!#REF!) -> #REF! | E170: =IF('Risk template'!#REF!="","",'Risk template'!#REF!) -> #REF! | F170: =IF('Risk template'!#REF!="","",'Risk template'!#REF!) -> #REF! | G170: =IF('Risk template'!#REF!="","",'Risk template'!#REF!) -> #REF! | H170: =IF('Risk template'!#REF!="","",'Risk template'!#REF!) -> #REF! | ... L170: =IF('Risk template'!#REF!="","",'Risk template'!#REF!) -> #REF!
A171: =IF('Risk template'!#REF!="","",'Risk template'!#REF!) -> #REF! | B171: =IF('Risk template'!#REF!="","",'Risk template'!#REF!) -> #REF! | C171: =IF('Risk template'!#REF!="","",'Risk template'!#REF!) -> #REF! | D171: =IF('Risk template'!#REF!="","",'Risk template'!#REF!) -> #REF! | E171: =IF('Risk template'!#REF!="","",'Risk template'!#REF!) -> #REF! | F171: =IF('Risk template'!#REF!="","",'Risk template'!#REF!) -> #REF! | G171: =IF('Risk template'!#REF!="","",'Risk template'!#REF!) -> #REF! | H171: =IF('Risk template'!#REF!="","",'Risk template'!#REF!) -> #REF! | ... L171: =IF('Risk template'!#REF!="","",'Risk template'!#REF!) -> #REF!
A172: =IF('Risk template'!#REF!="","",'Risk template'!#REF!) -> #REF! | B172: =IF('Risk template'!#REF!="","",'Risk template'!#REF!) -> #REF! | C172: =IF('Risk template'!#REF!="","",'Risk template'!#REF!) -> #REF! | D172: =IF('Risk template'!#REF!="","",'Risk template'!#REF!) -> #REF! | E172: =IF('Risk template'!#REF!="","",'Risk template'!#REF!) -> #REF! | F172: =IF('Risk template'!#REF!="","",'Risk template'!#REF!) -> #REF! | G172: =IF('Risk template'!#REF!="","",'Risk template'!#REF!) -> #REF! | H172: =IF('Risk template'!#REF!="","",'Risk template'!#REF!) -> #REF! | ... L172: =IF('Risk template'!#REF!="","",'Risk template'!#REF!) -> #REF!
A173: =IF('Risk template'!#REF!="","",'Risk template'!#REF!) -> #REF! | B173: =IF('Risk template'!#REF!="","",'Risk template'!#REF!) -> #REF! | C173: =IF('Risk template'!#REF!="","",'Risk template'!#REF!) -> #REF! | D173: =IF('Risk template'!#REF!="","",'Risk template'!#REF!) -> #REF! | E173: =IF('Risk template'!#REF!="","",'Risk template'!#REF!) -> #REF! | F173: =IF('Risk template'!#REF!="","",'Risk template'!#REF!) -> #REF! | G173: =IF('Risk template'!#REF!="","",'Risk template'!#REF!) -> #REF! | H173: =IF('Risk template'!#REF!="","",'Risk template'!#REF!) -> #REF! | ... L173: =IF('Risk template'!#REF!="","",'Risk template'!#REF!) -> #REF!
A174: =IF('Risk template'!A169="","",'Risk template'!A169) -> Working in close radius to the HV yard | B174: =IF('Risk template'!A169="","",'Risk template'!D169) -> Actions and Conditions leading to Explosion | C174: =IF('Risk template'!A169="","",'Risk template'!F169) -> Possible explosion | D174: =IF('Risk template'!A169="","",'Risk template'!G169) -> Safety | E174: =IF('Risk template'!A169="","",'Risk template'!L169) -> Possible injury or fatality | F174: =IF('Risk template'!A169="","",'Risk template'!M169) -> Protection system, restrict access, emergency preparedness procedure, contingency plan, awareness | G174: =IF('Risk template'!A169="","",'Risk template'!N169) -> 5 | H174: =IF('Risk template'!A169="","",'Risk template'!O169) -> 4 | I174: =IF('Risk template'!A169="","",'Risk template'!P169) -> I | J174: =IF('Risk template'!A169="","",'Risk template'!Q169) -> F | K174: =IF('Risk template'!A169="","",'Risk template'!T169) -> Line Management, SHEQ Personnel, Head of sections/supervisors, Employees | L174: =IF('Risk template'!A169="","",'Risk template'!U169) -> Line 32.3; 32-123; 240-92065235; OHSAS 18001 (4.3.1,4.4.7)
A175: =IF('Risk template'!A170="","",'Risk template'!A170) -> Maintenance of network equipment | B175: =IF('Risk template'!A170="","",'Risk template'!D170) -> Incorrect lifting and Loading | C175: =IF('Risk template'!A170="","",'Risk template'!F170) -> Sprains, strains, musculoskeletal injuries | D175: =IF('Risk template'!A170="","",'Risk template'!G170) -> Safety | E175: =IF('Risk template'!A170="","",'Risk template'!L170) -> Injury, Damage to property | F175: =IF('Risk template'!A170="","",'Risk template'!M170) -> Availability of a Manual Handling guideline Awareness, Training and awareness, equipment casing allocated in pool vehicles | G175: =IF('Risk template'!A170="","",'Risk template'!N170) -> 3 | H175: =IF('Risk template'!A170="","",'Risk template'!O170) -> 3 | I175: =IF('Risk template'!A170="","",'Risk template'!P170) -> II | J175: =IF('Risk template'!A170="","",'Risk template'!Q170) -> P | K175: =IF('Risk template'!A170="","",'Risk template'!T170) -> Line Management, SHEQ Personnel, Head of sections/supervisors, Employees | L175: =IF('Risk template'!A170="","",'Risk template'!U170) -> Line 32.3; Manual Handling Procedure ETGL0611

Sheet Consequence rating
C2: Consequence criteria
B3: Consequence rating | C3: Description
C4: Health and Safety
B5: 1 | C5: No injuries or health effects(near misses)
B6: 2 | C6: First-aid treatment case, and temporary discomfort case
B7: 3 | C7: Medical treatment case; occupational disease with reversible/non-permanent effect
B8: 4 | C8: Lost Time Injury. Irreversible health effects/occupational disease with permanent consequence
B9: 5 | C9: Fatality or life threatening health effects
B10: 6 | C10: Multiple fatalities

Sheet Likelihood rating
A2: Likelihood criteria
B3: Score | C3: Descriptor | D3: Safety | E3: Occupational hygiene
E4: Exposure | F4: Probability of exceeding OEL
B5: A | C5: Highly unlikely | D5: § More than a “100 year event” | E5: Rare (once a year) | F5: No exposure (or exposure < 10% of OEL)
D6: § Exceptionally unlikely, even in the long-term future
D7: § < 5% probability.
B8: B | C8: Unlikely | D8: § Could occur in “years to decades” | E8: Short periods of time, a few times per day/ intermittent (once in six months, three months, or a month) | F8: Low exposure (< 50% of OEL)
D9: § May occur but not anticipated
D10: § ≥ 5% and < 20% probability.
B11: C | C11: Possible | D11: § Could occur within “months to years” | E11: Continuous for between one and two hours (often/ weekly) | F11: Moderate exposure (chronic exposure > 50% of OEL or acute exposure ≥ OEL)
D12: § May occur shortly but a distinct probability it will not, or ≥ 20% and < 70% probability.
B13: D | C13: Likely | D13: § Could occur within “weeks to months” | E13: Continuous for between two and four hours (frequent/daily) | F13: High exposure (chronic exposure > OEL, or exposure exceeding OEL-STEL) | I13: gv g
D14: § Balance of probability will occur
D15: § ≥ 70% and < 90% probability.
B16: E | C16: Unavoidable | D16: § Could occur within “days to weeks” | E16: Continuous for eight-hour shift | F16: Very high exposure (chronic exposure > 2 x OEL or exposure exceeding OEL-C)
D17: § Impact is imminent
D18: § ≥ 90% probability.

Sheet Risk control effectiveness
B3: RISK CONTROL EFFECTIVENESS GUIDE
B4: RCE | C4: Guide
B5: Fully effective | C5: Nothing more to be done except review and monitor the existing controls. Controls are well designed for the risk, are largely preventive and address the root causes. Management believes that they are effective and reliable at all times. Reactive controls only support preventive controls.
B6: Mostly effective | C6: Most controls are designed correctly and are in place and effective. Some more work to be done to improve operating effectiveness or management has doubts about operational effectiveness and reliability of the controls.
B7: Mostly ineffective | C7: While the design of controls may be largely correct in that they treat most of the root causes of the risk, they are not currently operationally very effective. There may be an over-reliance on reactive controls, or some of the controls do not seem correctly designed in that they do not treat root causes.
B8: None | C8: Virtually no credible control. Management has no confidence that any degree of control is being achieved.

Sheet Risk matrix
E2: RISK MATRIX
C3: Consequences | D3: 6 | E3: I | F3: I | G3: I | H3: I | I3: I
D4: 5 | E4: II | F4: II | G4: II | H4: I | I4: I
D5: 4 | E5: III | F5: III | G5: II | H5: I | I5: I
D6: 3 | E6: IV | F6: III | G6: II | H6: II | I6: I
D7: 2 | E7: IV | F7: IV | G7: III | H7: II | I7: II
D8: 1 | E8: IV | F8: IV | G8: III | H8: III | I8: III
E9: A | F9: B | G9: C | H9: D | I9: E
E10: Likelihood
D13: Priority | E13: Risk ranking | F13: Action required
D14: I | E14: Very high | F14: Immediate action required, and these risks to be captured on IRM system.
D15: II | E15: High | F15: Strong mandatory action required, and these risks to be captured on IRM system.
D16: III | E16: Medium | F16: Action required, possibly at administrative level.
D17: IV | E17: Low | F17: Minor or no action required.
