Workbook

Sheet NOTES
A1: PROVISIONAL BILL OF QUANTITIES - HVAC Installation
A2: ='Section 2.1'!A2:H2 -> SABC Gymnasium Upgrade | I2: ='Section 2.1'!I2 -> Rev 0
I3: ='Section 2.1'!I3 -> 07/04/2021
B5: Failure to complete any sections of this BOQs will disqualify the RFQ submission. This spreadsheet is to be returned in an excel format NOT PDF.
B7: ANY VALUES ALREADY ENTERED IN THE WHITE CELLS OF THE AMOUNT COLUMN, WERE FOR TEST PURPOSES ONLY. Contractor is to overwite with their own quoted values.
B9: This Bill of Quantities consists of 6 sections.
B10: The Adjudication section is populated automatically and is for CCS use only and should NOT be altered.
B11: Sections 2.1 - 2.2 - 2.3 & 2.4 are to be completed in full, by entering values into the white cells only.
B12: Each and every cell must have a value entered. Zero or NA are accepted as values.
B13: No other entries will be allowed. ie, Included, See part #, etc.
B14: Section 2.5 is a summary of sections 2.1, - 2.2 & 2.3, as such the cells are populated automatically.
B15: The values entered into section 2.4 are not included in the summary section 2.5. They are rates only. To be used for any additional work.
B17: This entire spreadsheet has formulae and macros that interact with other CCS spreadsheets. As such no alterations, whatsoever, are to be made to any of the sections while inputing the values. It should be noted that all "summary" cells are already populated with the relevant formulae, as required.
B19: SECTION 2.1 | D19: To Be Completed in Full by Contractor
B20: COMPANY NAME TO BE ENTRED IN THE CELL PROVIDED
B21: This section summarises the cost to supply all the equipment required to complete the project, as laid out in the RFQ document and drawings.
B22: Delivery and off loading of equipment should not be included in this section.
B23: Labour, transport, accomodation etc should not be included in this section.
B26: SECTION 2.2 | D26: To Be Completed in Full by Contractor
B27: This section summarises the Labour, Transport & Accomodation costs required to complete the project, as laid out in the RFQ document and drawings.
B30: SECTION 2.3 | D30: To Be Completed in Full by Contractor
B31: This section summarises the Miscellaneous General Item costs required to complete the project, as laid out in the RFQ document and drawings.
B34: SECTION 2.4 | D34: To Be Completed in Full by Contractor
B35: This section is a summary of the rates used by the contractor in the BOQs. These rates will be used for the pricing of any additional work, that may be required, during the course of the project.
B38: SECTION 2.5 | D38: Values to be Confirmed by Contractor
B39: This section is a summary of sections 2.1, 2.2 & 2.3. All Cells are populated automatically so no values need to be entered.
B40: The contractor is to confirm they agree with the Adjudicated Value given.
B41: If the contractor does not agree with the value shown, they are to enter their total into the cell provided at the bottom.
B44: SECTION 2.6 | D44: To Be Completed by Contractor if Required
B45: This section is is to be completed for all materials and equipment that will be subjected to fluctuating Foreigh Exchange Rates.
B48: ADJUDICATION
B49: For CCS Use only.

Sheet Section 2.1
A1: PROVISIONAL BILL OF QUANTITIES - HVAC Installation
A2: SABC Gymnasium Upgrade | I2: Rev 0
B3: Company Name: | C3: ??????????????? | I3: 07/04/2021
A4: ITEM NO. | B4: DESCRIPTION | D4: MAIN | F4: UNIT | G4: QTY | H4: RATE | I4: AMOUNT
B5: SECTION 2.1 - EQUIPMENT SUPPLY
B6: This bill shall be read together with drawings and project specifications for descriptions and specifications of each item to be priced.
B7: The following items shall be priced to be supplied and installed as per the project specifications and drawings
B8: CCS078-201-0, CCS078-210-0
A9: 2.1 | B9: Equipment supply
B10: Main Work Out Area
B11: Supply of AC Roof-Top Package. | E11: AC01 | F11: Item | G11: 1 | I11: 1
B12: Supply of all ducting as shown on drawing. Including all Transition Pieces, Bends, Off-Sets, etc. | E12: Square | F12: Item | G12: Lot | I12: 2
E13: Round | F13: Item | G13: Lot | I13: =I12+1 -> 3
E14: Flexible | F14: Item | G14: Lot | I14: =I13+1 -> 4
B15: Supply of new 400 x 200 Suplly Air Grills & Spigots. | F15: Item | G15: 12 | I15: =I14+1 -> 5
B16: Supply of new 1200 x 600 Return Air Grill | F16: Item | G16: 1 | I16: =I15+1 -> 6
B17: One sets of filters. | F17: Item | G17: Lot | I17: =I16+1 -> 7
B18: Remote Controller. Hard Wired. | F18: Item | G18: 1 | I18: =I17+1 -> 8
B19: Steel Frame | F19: Item | G19: 1 | I19: =I18+1 -> 9
B21: Supply of AC Roof-Top Package. | E21: AC02 | F21: Item | G21: 1 | I21: 1
B22: Supply of all ducting as shown on drawing. Including all Transition Pieces, Bends, Off-Sets, etc. | E22: Square | F22: Item | G22: Lot | I22: 2
E23: Round | F23: Item | G23: Lot | I23: =I22+1 -> 3
E24: Flexible | F24: Item | G24: Lot | I24: =I23+1 -> 4
B25: Supply of new 400 x 200 Suplly Air Grills & Spigots. | F25: Item | G25: 11 | I25: =I24+1 -> 5
B26: Supply of new Square plate round difussers | F26: Item | G26: 1 | I26: =I25+1 -> 6
B27: Supply of new 1200 x 600 Return Air Grill | F27: Item | G27: 1 | I27: =I26+1 -> 7
B28: One sets of filters. | F28: Item | G28: Lot | I28: =I27+1 -> 8
B29: Remote Controller. Hard Wired. | F29: Item | G29: 1 | I29: =I28+1 -> 9
B30: Steel Frame | F30: Item | G30: 1 | I30: =I29+1 -> 10
B32: Supply of AC Roof-Top Package. | E32: AC03 | F32: Item | G32: 1 | I32: 1
B33: Supply of all ducting as shown on drawing. Including all Transition Pieces, Bends, Off-Sets, etc. | E33: Square | F33: Item | G33: Lot | I33: 2
E34: Round | F34: Item | G34: Lot | I34: =I33+1 -> 3
E35: Flexible | F35: Item | G35: Lot | I35: =I34+1 -> 4
B36: Supply of new 400 x 200 Suplly Air Grills & spigots. | F36: Item | G36: 10 | I36: =I35+1 -> 5
B37: Supply of new Square plate round difussers | F37: Item | G37: 2 | I37: =I36+1 -> 6
B38: Supply of new 1200 x 600 Return Air Grill | F38: Item | G38: 1 | I38: =I37+1 -> 7
B39: One sets of filters. | F39: Item | G39: Lot | I39: =I38+1 -> 8
B40: Remote Controller. Hard Wired. | F40: Item | G40: 1 | I40: =I39+1 -> 9
B41: Steel Frame | F41: Item | G41: 1 | I41: =I40+1 -> 10
B43: Aerobics Area
...

Sheet Section 2.2
A1: ='Section 2.1'!A1:H1 -> PROVISIONAL BILL OF QUANTITIES - HVAC Installation
A2: ='Section 2.1'!A2:H2 -> SABC Gymnasium Upgrade | I2: ='Section 2.1'!I2 -> Rev 0
B3: ='Section 2.1'!B3:E3 -> Company Name: | C3: ='Section 2.1'!C3:F3 -> ??????????????? | I3: ='Section 2.1'!I3 -> 07/04/2021
A4: ITEM NO. | B4: DESCRIPTION | D4: ='Section 2.1'!D4 -> MAIN | F4: UNIT | G4: QTY | H4: RATE | I4: AMOUNT
B5: SECTION 2.2 - LABOUR, TRANSPORT & ACCOMMODATION
B6: This bill shall be read together with drawings and project specifications for descriptions and specifications of each item to be priced.
B7: The following items shall be priced to be supplied and installed as per the project specifications and drawings
B8: ='Section 2.1'!B8:E8 -> CCS078-201-0, CCS078-210-0
A10: 2.2 | B10: Labour, Transport & Accommodation
A12: 2.2.1 | B12: Labour
B13: Qualified Mechanic | F13: Item | G13: Lot | I13: 1
B14: Apprentice | F14: Item | G14: Lot | I14: 2
B15: Electrician | F15: Item | G15: Lot | I15: 3
B16: Assistance | F16: Item | G16: Lot | I16: 4
B17: Labourer | F17: Item | G17: Lot | I17: 5
B18: Computer Technician | F18: Item | G18: Lot | I18: 6
B19: Commissioning | F19: Item | G19: Lot | I19: 7
B20: Site Monitoring. | F20: Item | G20: Lot | I20: 8
A22: 2.2.2 | B22: Transport | C22: SITE:- Johannesburg, Gauteng
B23: Large Transport | F23: Item | G23: Lot | I23: 9
B24: Small Transport | F24: Item | G24: Lot | I24: 10
B25: Sea Freight | D25: (If Applicable) | F25: Item | G25: Lot | I25: 11
B26: Air Fares | D26: (If Applicable) | F26: Item | G26: Lot | I26: 12
A28: 2.2.3 | B28: Accommodation
B29: Hotels | D29: (If Applicable) | F29: Item | G29: Lot | I29: 13
B30: Out of Town Allowance | D30: (If Applicable) | F30: Item | G30: Lot | I30: 14
B41: SUB TOTAL SECTION 2.2 to summary | I41: =SUM(I12:I40) -> 105

Sheet Section 2.3
A1: ='Section 2.1'!A1:H1 -> PROVISIONAL BILL OF QUANTITIES - HVAC Installation
A2: ='Section 2.1'!A2:I2 -> SABC Gymnasium Upgrade | I2: ='Section 2.1'!I2 -> Rev 0
B3: ='Section 2.1'!B3 -> Company Name: | C3: ='Section 2.1'!C3 -> ??????????????? | I3: ='Section 2.1'!I3 -> 07/04/2021
A4: ITEM NO. | B4: DESCRIPTION | D4: ='Section 2.1'!D4 -> MAIN | I4: AMOUNT
B5: SECTION 2.3 - PRELIMINARY AND GENERAL
B6: This bill shall be read together with drawings and project specifications for descriptions and specifications of each item to be priced.
B7: The following items shall be priced to be supplied and installed as per the project specifications and drawings
B8: ='Section 2.1'!B8:E8 -> CCS078-201-0, CCS078-210-0
A10: 2.3.1 | B10: PRELIMINARY AND GENERAL
A12: 2.3.1.1 | B12: Site Establishment & House keeping | H12: Fixed portion | I12: 1
A15: 2.3.1.2 | B15: Equipment Hire | C15: Skyjackss, Scaffolding, Containers.etc. | H15: Fixed portion | I15: 2
A18: 2.3.1.3 | B18: Design, engineering and shop drawing production | H18: Fixed portion | I18: 3
A21: 2.3.1.4 | B21: Manuals and As-Built Drawings | H21: Fixed portion | I21: 4
B22: 1 set + 3 x electronic copies
A24: 2.3.1.5 | B24: Testing and Commissioning | H24: Fixed portion | I24: 5
A26: 2.3.1.6 | B26: Electrical Work | H26: Fixed portion | I26: 6
B27: For connecting to Isolators provided.
A29: 2.3.1.7 | B29: Plumbing Work | H29: Fixed portion | I29: 7
B30: For connecting to Drain Points
A32: 2.3.1.8 | B32: Rigging & Crane Hire | H32: Fixed portion | I32: 8
A34: 2.3.1.9 | B34: One Year "free" Maintenance | H34: Fixed portion | I34: 9
B35: Tenderer is to allow for 12 maintenance visits (1 per month) to clean filters and check operation of all AC units.
A40: 2.3.1.10 | B40: One Year Gaurantee | H40: Fixed portion | I40: 10
A42: 2.3.1.11 | B42: Contract management and supervision | H42: Fixed portion | I42: 11
A44: 2.3.1.12 | B44: P & Gs | H44: Fixed portion | I44: 12
A46: 2.3.1.13 | B46: Safety File | H46: Fixed portion | I46: 13
A48: 2.3.1.14 | B48: Contractor's Insurance | H48: Fixed portion | I48: 14
A50: 2.3.1.15 | B50: Bank Guarantee (Where applicable) | H50: Fixed portion | I50: 15
A52: 2.3.1.16 | B52: Other : Qualify
B53: A | I53: 16
B54: B | I54: 17
B55: C | I55: 18
B56: D | I56: 19
B58: SUB-TOTAL SECTION: 2.3 to summary | H58: R | I58: =SUM(I11:I56) -> 190

Sheet Section 2.4 Rates 
A1: ='Section 2.1'!A1:H1 -> PROVISIONAL BILL OF QUANTITIES - HVAC Installation
A2: ='Section 2.1'!A2:H2 -> SABC Gymnasium Upgrade | I2: ='Section 2.1'!I2 -> Rev 0
B3: ='Section 2.1'!B3 -> Company Name: | C3: ='Section 2.1'!C3 -> ??????????????? | I3: ='Section 2.1'!I3 -> 07/04/2021
A4: ITEM NO. | B4: DESCRIPTION | D4: ='Section 2.1'!D4 -> MAIN | F4: UNIT | G4: RATE | H4: RATE
B5: SECTION 2.4 - SCHEDULE of RATES
B6: This bill shall be read together with drawings and project specifications for descriptions and specifications of each item to be priced.
B7: The following items shall be priced to be supplied and installed as per the project specifications and drawings
B8: ='Section 2.1'!B8:E8 -> CCS078-201-0, CCS078-210-0
A9: 2.4 | B9: Schedule of Rates
A11: 2.4.1 | B11: General
B12: This schedule is for unscheduled work and is to be completed by the contractor; failure to do so will invalidate his offer. Rates in this schedule will be incorporated for any work required that is in addition to what has been described in this document.
A14: 2.4.2 | B14: Rates for Labour
B15: Including bonus, profit, compulsory contributions, overheads, supervision, and administration and drawing office time per hour. | G15: NORMAL | H15: OVERTIME
B16: Electrician and assistants (team) | F16: R/hr | I16: RATE ONLY
B17: Pipe fitter and assistants (team) | F17: R/hr | I17: RATE ONLY
B18: Refrigeration mechanic and assistants (team) | F18: R/hr | I18: RATE ONLY
B19: Commissioning engineer and assistants (team) | F19: R/hr | I19: RATE ONLY
B20: Assistant / Labourer | F20: R/hr | I20: RATE ONLY
A22: 2.4.3 | B22: Rates For Traveling Expenses | F22: SITE:- Johannesburg, Gauteng
B23: Distance from local office / workshop to site. | F23: km | I23: RATE ONLY
B24: Transport rate for vehicle less than 1 ton. | F24: R/km | I24: RATE ONLY
B25: Transport rate for vehicle greater than 1 ton. | F25: R/km | I25: RATE ONLY
B26: Transport rate for other vehicle (Specify)
F27: R/km | I27: RATE ONLY
B28: Freight insurance | F28: % | I28: RATE ONLY
B29: Accommodation | F29: Pers/Day | I29: RATE ONLY
B30: Out of Town Allowance | F30: Pers/Day | I30: RATE ONLY
A32: 2.4.4 | B32: Rates For Material
B34: Mark-Up to cover overheads and profit. | F34: % | I34: RATE ONLY

Sheet Section 2.5 Summary 
A1: ='Section 2.1'!A1:H1 -> PROVISIONAL BILL OF QUANTITIES - HVAC Installation
A2: ='Section 2.1'!A2:I2 -> SABC Gymnasium Upgrade | H2: ='Section 2.1'!I2 -> Rev 0
B3: ='Section 2.1'!B3 -> Company Name: | C3: ='Section 2.1'!C3 -> ??????????????? | H3: ='Section 2.1'!I3 -> 07/04/2021
A4: ITEM NO. | B4: DESCRIPTION | D4: ='Section 2.1'!D4 -> MAIN | H4: AMOUNT
B5: 2.5 SUMMARY OF SUB-TOTALS
B6: This bill shall be read together with drawings and project specifications for descriptions and specifications of each item to be priced.
B7: The following items shall be priced to be supplied and installed as per the project specifications and drawings
B8: ='Section 2.1'!B8:E8 -> CCS078-201-0, CCS078-210-0
B10: Sub-Total Section 2.1 - Equipment supply
D11: Page 1 | H11: ='Section 2.1'!I55 -> 210
D12: Page 2 | H12: ='Section 2.1'!I83 -> 74
B13: Sub-Total Section 2.2 - Labour, Transport & Accomodation | H13: ='Section 2.2'!I41 -> 105
B15: Sub-Total Section 2.3 - Preliminary & General | H15: ='Section 2.3'!I58 -> 190
B17: Sub-Total Section 2.4 - Rates Only
B20: TOTAL (excluding VAT) | G20: R | H20: =SUM(H10:H18) -> 579
B21: PC Allowances
B22: Unforseen work | H22: 15000
B23: Builders Work | H23: 50000
B25: TOTAL (excluding VAT) PC Amounts | G25: R | H25: =SUM(H21:H23) -> 65000
B28: TOTAL (excluding VAT) Adjudicated Value | G28: R | H28: =H25+H20 -> 65579
B30: Do you agree with the Total Adjudicated Value Given Above | F30: yes or no
B31: If "No" enter Value Here | F31: 0
B32: Name
B33: Date

Sheet Section 2.6
A1: ='Section 2.1'!A1:H1 -> PROVISIONAL BILL OF QUANTITIES - HVAC Installation
A2: ='Section 2.1'!A2:H2 -> SABC Gymnasium Upgrade | H2: ='Section 2.1'!I2 -> Rev 0
B3: ='Section 2.1'!B3 -> Company Name: | C3: ='Section 2.1'!C3 -> ??????????????? | H3: ='Section 2.1'!I3 -> 07/04/2021
A4: ITEM NO. | B4: ='Section 2.1'!D4 -> MAIN
B5: SECTION 2.6 - EXCHANGE RATE FLUCTUATIONS
B6: This bill shall be read together with drawings and project specifications for descriptions and specifications of each item to be priced.
B7: The following items shall be priced to be supplied and installed as per the project specifications and drawings
B8: ='Section 2.1'!B8:E8 -> CCS078-201-0, CCS078-210-0
A10: 2.6 | B10: Imported Materials & Equipment
B11: Description of Material / Equiment | D11: Country of Origin | E11: Currency | F11: Exchange Rate Applied | G11: FOB Value or CIF Value Rands | H11: Importer's Quotation Enclosed. Y/N
A12: 1
A13: =A12+1 -> 2
A14: =A13+1 -> 3
A15: =A14+1 -> 4
A16: =A15+1 -> 5
A17: =A16+1 -> 6
A18: =A17+1 -> 7
A19: =A18+1 -> 8
A20: =A19+1 -> 9
A21: =A20+1 -> 10
A22: =A21+1 -> 11
A23: =A22+1 -> 12
A24: =A23+1 -> 13
... A35: =A34+1 -> 24

Sheet Adjudication
B4: ='Section 2.1'!B11:D11 -> Supply of AC Roof-Top Package. | D4: =_xlfn.SINGLE('Section 2.1'!I11) -> 1
B5: ='Section 2.1'!B12:D12 -> Supply of all ducting as shown on drawing. Including all Transition Pieces, Bends, Off-Sets, etc. | D5: =_xlfn.SINGLE('Section 2.1'!I12) -> 2
B6: ='Section 2.1'!B13:D13 -> 0 | D6: =_xlfn.SINGLE('Section 2.1'!I13) -> 3
B7: ='Section 2.1'!B14:D14 -> 0 | D7: =_xlfn.SINGLE('Section 2.1'!I14) -> 4
B8: ='Section 2.1'!B15:D15 -> Supply of new 400 x 200 Suplly Air Grills & Spigots. | D8: =_xlfn.SINGLE('Section 2.1'!I15) -> 5
B9: ='Section 2.1'!B16:D16 -> Supply of new 1200 x 600 Return Air Grill | D9: =_xlfn.SINGLE('Section 2.1'!I16) -> 6
B10: ='Section 2.1'!B17:D17 -> One sets of filters. | D10: =_xlfn.SINGLE('Section 2.1'!I17) -> 7
B11: ='Section 2.1'!B18:D18 -> Remote Controller. Hard Wired. | D11: =_xlfn.SINGLE('Section 2.1'!I18) -> 8
B12: ='Section 2.1'!B19:D19 -> Steel Frame | D12: =_xlfn.SINGLE('Section 2.1'!I19) -> 9
B14: ='Section 2.1'!B21:D21 -> Supply of AC Roof-Top Package. | D14: =_xlfn.SINGLE('Section 2.1'!I21) -> 1
B15: ='Section 2.1'!B22:D22 -> Supply of all ducting as shown on drawing. Including all Transition Pieces, Bends, Off-Sets, etc. | D15: =_xlfn.SINGLE('Section 2.1'!I22) -> 2
B16: ='Section 2.1'!B23:D23 -> 0 | D16: =_xlfn.SINGLE('Section 2.1'!I23) -> 3
... B34: ='Section 2.1'!B41:D41 -> Steel Frame | D34: =_xlfn.SINGLE('Section 2.1'!I41) -> 10
B36: ='Section 2.1'!B43:D43 -> Aerobics Area
B37: ='Section 2.1'!B44:D44 -> Supply of AC Roof-Top Package. | D37: =_xlfn.SINGLE('Section 2.1'!I44) -> 1
B38: ='Section 2.1'!B45:D45 -> Supply of all ducting as shown on drawing. Including all Transition Pieces, Bends, Off-Sets, etc. | D38: =_xlfn.SINGLE('Section 2.1'!I45) -> 2
B39: ='Section 2.1'!B46:D46 -> 0 | D39: =_xlfn.SINGLE('Section 2.1'!I46) -> 3
B40: ='Section 2.1'!B47:D47 -> 0 | D40: =_xlfn.SINGLE('Section 2.1'!I47) -> 4
B41: ='Section 2.1'!B48:D48 -> Supply of new 400 x 200 Suplly Air Grills & spigots. | D41: =_xlfn.SINGLE('Section 2.1'!I48) -> 5
B42: ='Section 2.1'!B49:D49 -> Supply of new Square plate round difussers | D42: =_xlfn.SINGLE('Section 2.1'!I49) -> 6
B43: ='Section 2.1'!B50:D50 -> Supply of new 1000 x 600 Return Air Grill | D43: =_xlfn.SINGLE('Section 2.1'!I50) -> 7
B44: ='Section 2.1'!B51:D51 -> One sets of filters. | D44: =_xlfn.SINGLE('Section 2.1'!I51) -> 8
B45: ='Section 2.1'!B52:D52 -> Remote Controller. Hard Wired. | D45: =_xlfn.SINGLE('Section 2.1'!I52) -> 9
B46: ='Section 2.1'!B53:D53 -> Steel Frame | D46: =_xlfn.SINGLE('Section 2.1'!I53) -> 10
B48: ='Section 2.1'!B55:D55 -> SUB TOTAL SECTION 2.1 P1 to summary | D48: =_xlfn.SINGLE('Section 2.1'!I55) -> 210 | E48: =SUM(D4:D46) -> 210 | F48: =E48='Section 2.1'!I55 -> TRUE
B51: ='Section 2.1'!B58:D58 -> VENTILATION
B52: ='Section 2.1'!B59:D59 -> Change Room Ventilation
B53: ='Section 2.1'!B60:D60 -> For supply of 560mm Fan assembly. Including attenuators, flexible connections, & anti vibration mountings | D53: =_xlfn.SINGLE('Section 2.1'!I60) -> 1
B54: ='Section 2.1'!B61:D61 -> Supply of all ducting as shown on drawing. Including all Transition Pieces, Bends, Off-Sets, etc. | D54: =_xlfn.SINGLE('Section 2.1'!I61) -> 2
B55: ='Section 2.1'!B62:D62 -> 0 | D55: =_xlfn.SINGLE('Section 2.1'!I62) -> 3
B56: ='Section 2.1'!B63:D63 -> 0 | D56: =_xlfn.SINGLE('Section 2.1'!I63) -> 4
B57: ='Section 2.1'!B64:D64 -> Supply of new 200mm Disk valves | D57: =_xlfn.SINGLE('Section 2.1'!I64) -> 5
B58: ='Section 2.1'!B65:D65 -> Supply of new 800 x 400 Transfer Air Grill | D58: =_xlfn.SINGLE('Section 2.1'!I65) -> 6
B59: ='Section 2.1'!B66:D66 -> Steel Frame | D59: =_xlfn.SINGLE('Section 2.1'!I66) -> 7
B60: ='Section 2.1'!B67:D67 -> 0
B61: ='Section 2.1'!B68:D68 -> Kitchen Ventilation
B62: ='Section 2.1'!B69:D69 -> For supply of fresh air fans. CX10 or equivalent | D62: =_xlfn.SINGLE('Section 2.1'!I69) -> 1
B64: ='Section 2.1'!B71:D71 -> MISCELANEOUS
B65: ='Section 2.1'!B72:D72 -> Detail Below
B66: ='Section 2.1'!B73:D73 -> A Reclaim Old Refrigerant | D66: =_xlfn.SINGLE('Section 2.1'!I73) -> 1
...
