Workbook
Name _.: #REF!
Name _.: #REF!
Name _R: #REF!
Name _R: #REF!
Name Area_Print: #REF!
Name Area_Print: #REF!
Name Clear_CAST_Price_Summary: Currency!Clear_CAST_Price_Summary
Name Clear_CAST_Price_Summary: TAP!Clear_CAST_Price_Summary
Name Clear_CAST_Price_Summary: [0]!Clear_CAST_Price_Summary
Name Cost_Allocation: [1]Data!$C$2:$C$12
Name Cost_Allocation: [2]Data!$C$2:$C$12
Name CPA_Data: [1]Data!$F$2:$F$14
Name CPA_Data: [2]Data!$F$2:$F$14
Name Currency: [1]Data!$E$2:$E$19
Name Currency: [2]Data!$E$2:$E$19
Name Currency_A: [3]Data!$E$2:$E$19
Name Currency_A: [4]Data!$E$2:$E$19
Name Currency_Allocated: '[5]Option X3'!$D$9:$D$26
Name Currency_Allocated: '[6]Option X3'!$D$9:$D$26
Name CurrencyA: [7]Data!$E$2:$E$19
Name D: #REF!
Name D: #REF!
Name Data: TAP!$A$28:$L$57
Name Data: #REF!
Name Data_Daywork: #REF!
Name Data_Daywork: #REF!
Name Data_Opt_Bill5: #REF!
Name Data_Opt_Bill5: #REF!
Name Option_N: '[5]Option X5'!$H$9:$H$18
Name Option_N: '[6]Option X5'!$H$9:$H$18
Name P: #REF!
Name P: #REF!
Name PS5_Allocation: [1]Data!$B$2:$B$20
Name PS5_Allocation: [2]Data!$B$2:$B$20
Name Q: #REF!
Name Q: #REF!
Name S: #REF!
Name S: #REF!
Name Sort_Data: #REF!
Name Sort_Data: #REF!
Name w: Currency!w
Name w: TAP!w
Name w: [0]!w

Sheet TAP
B1: Pricing Schedule : TAP Aggregators
B3: VENDOR NAME
B7: IMPORTANT NOTES
B8: All cells highlighted in GREEN must be completed
B9: Quoted prices MUST be in ZAR, EXCLUDING VAT and ESCALATIONS
B11: TAP Aggregators
B12: Prices MUST be quoted based on the SCOPE provided
B13: Estimated quantities are based on the required number of Licenses
B14: Select the currency from the CURRENCY drop-down list in COLUMN "G"
B16: Capture the applicable Currency, ROE and ROE Published Date on the "Currency sheet".
B17: The adjustments for prevailing rates and the basis for future price adjustments will be determined at time of contracting.
B18: Exchange rate variations may not be claimed for the local mark-up in the pricing structure
... B25: All Prices must be exclusive of VAT
I28: ONCE-OFF PROCUREMENT | M28: ANNUAL CHARGES OVER A PERIOD OF 5 YEARS
A29: Item Number | B29: Category | C29: Description | D29: Total Estimated Quantity | E29: Unit charge | F29: CURRENCY | I29: Unit Price in Nominated Currency | J29: Unit Price in ZAR | K29: Total [Nominated Currency] | L29: Total in ZAR | M29: Unit Price in Nominated Currency | N29: Unit Price in ZAR | O29: Total [Nominated Currency] | P29: Total in ZAR
A30: 1 | B30: Devices | C30: TAP Aggregators - Per Device 48 port 25 Gig and 8 port 100 Gig | D30: 3 | E30: Per Device | F30: =IF(G30="","",IF(G30="ZAR","Local","Foreign")) -> Local | G30: ZAR | H30: =IF(F30="","",IF(F30="Foreign",VLOOKUP(G30,Currency!$E$20:$F$33,2,FALSE),1)) -> 1 | I30: 0 | J30: =I30*$H30 -> 0 | K30: =I30*$D30 -> 0 | L30: =J30*$D30 -> 0 | AJ30: DKK
F31: =IF(G31="","",IF(G31="ZAR","Local","Foreign")) -> Local | G31: ZAR | H31: =IF(F31="","",IF(F31="Foreign",VLOOKUP(G31,Currency!$E$20:$F$33,2,FALSE),1)) -> 1 | I31: 0 | J31: =I31*$H31 -> 0 | K31: =I31*$D30 -> 0 | L31: =J31*$D30 -> 0
C32: SFP+ (10G) | D32: 144 | E32: Per Device | F32: =IF(G32="","",IF(G32="ZAR","Local","Foreign")) -> Local | G32: ZAR | H32: =IF(F32="","",IF(F32="Foreign",VLOOKUP(G32,Currency!$E$20:$F$33,2,FALSE),1)) -> 1 | I32: 0 | J32: =I32*$H32 -> 0 | K32: =I32*$D32 -> 0 | L32: =J32*$D32 -> 0 | AJ32: DKK
F33: =IF(G33="","",IF(G33="ZAR","Local","Foreign")) -> Local | G33: ZAR | H33: =IF(F33="","",IF(F33="Foreign",VLOOKUP(G33,Currency!$E$20:$F$33,2,FALSE),1)) -> 1 | I33: 0 | J33: =I33*$H33 -> 0 | K33: =I33*$D32 -> 0 | L33: =J33*$D32 -> 0
C34: QSFP+(100G) | D34: 10 | E34: Per Device | F34: =IF(G34="","",IF(G34="ZAR","Local","Foreign")) -> Local | G34: ZAR | H34: =IF(F34="","",IF(F34="Foreign",VLOOKUP(G34,Currency!$E$20:$F$33,2,FALSE),1)) -> 1 | I34: 0 | J34: =I34*$H34 -> 0 | K34: =I34*$D34 -> 0 | L34: =J34*$D34 -> 0 | AJ34: DKK
F35: =IF(G35="","",IF(G35="ZAR","Local","Foreign")) -> Local | G35: ZAR | H35: =IF(F35="","",IF(F35="Foreign",VLOOKUP(G35,Currency!$E$20:$F$33,2,FALSE),1)) -> 1 | I35: 0 | J35: =I35*$H35 -> 0 | K35: =I35*$D34 -> 0 | L35: =J35*$D34 -> 0
A36: 2 | B36: Software | C36: Controller Software License | D36: 2 | E36: per License | F36: =IF(G36="","",IF(G36="ZAR","Local","Foreign")) -> Local | G36: ZAR | H36: =IF(F36="","",IF(F36="Foreign",VLOOKUP(G36,Currency!$E$20:$F$33,2,FALSE),1)) -> 1 | I36: 0 | J36: =I36*$H36 -> 0 | K36: =I36*$D36 -> 0 | L36: =J36*$D36 -> 0
F37: =IF(G37="","",IF(G37="ZAR","Local","Foreign")) -> Local | G37: ZAR | H37: =IF(F37="","",IF(F37="Foreign",VLOOKUP(G37,Currency!$E$20:$F$33,2,FALSE),1)) -> 1 | I37: 0 | J37: =I37*$H37 -> 0 | K37: =I37*$D36 -> 0 | L37: =J37*$D36 -> 0
A38: 3 | B38: Software Maintenance & Support | C38: Controller Software License | D38: 2 | E38: per License | F38: =IF(G38="","",IF(G38="ZAR","Local","Foreign")) -> Local | G38: ZAR | H38: =IF(F38="","",IF(F38="Foreign",VLOOKUP(G38,Currency!$E$20:$F$33,2,FALSE),1)) -> 1 | M38: 0 | N38: =M38*$H38 -> 0 | O38: =M38*$D38 -> 0 | P38: =N38*$D38 -> 0 | AJ38: DKK
F39: =IF(G39="","",IF(G39="ZAR","Local","Foreign")) -> Local | G39: ZAR | H39: =IF(F39="","",IF(F39="Foreign",VLOOKUP(G39,Currency!$E$20:$F$33,2,FALSE),1)) -> 1 | M39: 0 | N39: =M39*$H39 -> 0 | O39: =M39*$D38 -> 0 | P39: =N39*$D38 -> 0
C40: TAP Aggregators Software License | D40: 3 | E40: per License | F40: =IF(G40="","",IF(G40="ZAR","Local","Foreign")) -> Local | G40: ZAR | H40: =IF(F40="","",IF(F40="Foreign",VLOOKUP(G40,Currency!$E$20:$F$33,2,FALSE),1)) -> 1 | M40: 0 | N40: =M40*$H40 -> 0 | O40: =M40*$D40 -> 0 | P40: =N40*$D40 -> 0
F41: =IF(G41="","",IF(G41="ZAR","Local","Foreign")) -> Local | G41: ZAR | H41: =IF(F41="","",IF(F41="Foreign",VLOOKUP(G41,Currency!$E$20:$F$33,2,FALSE),1)) -> 1 | M41: 0 | N41: =M41*$H41 -> 0 | O41: =M41*$D40 -> 0 | P41: =N41*$D40 -> 0
A42: 4 | B42: Device Support & Maintenance | C42: TAP Aggregators - Per Device 48 port 25 Gig and 8 port 100 Gig | D42: 3 | E42: Per Device | F42: =IF(G42="","",IF(G42="ZAR","Local","Foreign")) -> Local | G42: ZAR | H42: =IF(F42="","",IF(F42="Foreign",VLOOKUP(G42,Currency!$E$20:$F$33,2,FALSE),1)) -> 1 | M42: 0 | N42: =M42*$H42 -> 0 | O42: =M42*$D42 -> 0 | P42: =N42*$D42 -> 0 | AJ42: DKK
F43: =IF(G43="","",IF(G43="ZAR","Local","Foreign")) -> Local | G43: ZAR | H43: =IF(F43="","",IF(F43="Foreign",VLOOKUP(G43,Currency!$E$20:$F$33,2,FALSE),1)) -> 1 | M43: 0 | N43: =M43*$H43 -> 0 | O43: =M43*$D42 -> 0 | P43: =N43*$D42 -> 0
C44: SFP+ (10G) | D44: 144 | E44: Per Device | F44: =IF(G44="","",IF(G44="ZAR","Local","Foreign")) -> Local | G44: ZAR | H44: =IF(F44="","",IF(F44="Foreign",VLOOKUP(G44,Currency!$E$20:$F$33,2,FALSE),1)) -> 1 | M44: 0 | N44: =M44*$H44 -> 0 | O44: =M44*$D44 -> 0 | P44: =N44*$D44 -> 0 | AJ44: DKK
F45: =IF(G45="","",IF(G45="ZAR","Local","Foreign")) -> Local | G45: ZAR | H45: =IF(F45="","",IF(F45="Foreign",VLOOKUP(G45,Currency!$E$20:$F$33,2,FALSE),1)) -> 1 | M45: 0 | N45: =M45*$H45 -> 0 | O45: =M45*$D44 -> 0 | P45: =N45*$D44 -> 0
C46: QSFP+(100G) | D46: 10 | E46: Per Device | F46: =IF(G46="","",IF(G46="ZAR","Local","Foreign")) -> Local | G46: ZAR | H46: =IF(F46="","",IF(F46="Foreign",VLOOKUP(G46,Currency!$E$20:$F$33,2,FALSE),1)) -> 1 | M46: 0 | N46: =M46*$H46 -> 0 | O46: =M46*$D46 -> 0 | P46: =N46*$D46 -> 0 | AJ46: DKK
F47: =IF(G47="","",IF(G47="ZAR","Local","Foreign")) -> Local | G47: ZAR | H47: =IF(F47="","",IF(F47="Foreign",VLOOKUP(G47,Currency!$E$20:$F$33,2,FALSE),1)) -> 1 | M47: 0 | N47: =M47*$H47 -> 0 | O47: =M47*$D46 -> 0 | P47: =N47*$D46 -> 0
A48: 5 | B48: Professional Service | C48: Device Commissioning (Migration of old filter rules) | D48: 1 | E48: sum | F48: =IF(G48="","",IF(G48="ZAR","Local","Foreign")) -> Local | G48: ZAR | H48: =IF(F48="","",IF(F48="Foreign",VLOOKUP(G48,Currency!$E$20:$F$33,2,FALSE),1)) -> 1 | M48: 0 | N48: =M48*$H48 -> 0 | O48: =M48*$D48 -> 0 | P48: =N48*$D48 -> 0 | AJ48: HKD
F49: =IF(G49="","",IF(G49="ZAR","Local","Foreign")) -> Local | G49: ZAR | H49: =IF(F49="","",IF(F49="Foreign",VLOOKUP(G49,Currency!$E$20:$F$33,2,FALSE),1)) -> 1 | M49: 0 | N49: =M49*$H49 -> 0 | O49: =M49*$D48 -> 0 | P49: =N49*$D48 -> 0
C50: Access to SMEs on an As-and-when required basis (Over the period of the contract) | D50: 250 | E50: hourly | F50: =IF(G50="","",IF(G50="ZAR","Local","Foreign")) -> Local | G50: ZAR | H50: =IF(F50="","",IF(F50="Foreign",VLOOKUP(G50,Currency!$E$20:$F$33,2,FALSE),1)) -> 1 | M50: PRICING PROVIDED IN ROWS 62 TO 71 | AJ50: JPY
F51: =IF(G51="","",IF(G51="ZAR","Local","Foreign")) -> Local | G51: ZAR | H51: =IF(F51="","",IF(F51="Foreign",VLOOKUP(G51,Currency!$E$20:$F$33,2,FALSE),1)) -> 1
A52: 6 | B52: Training and Skills Transfer | C52: Technical support | D52: 6 | E52: per Attendee | F52: =IF(G52="","",IF(G52="ZAR","Local","Foreign")) -> Local | G52: ZAR | H52: =IF(F52="","",IF(F52="Foreign",VLOOKUP(G52,Currency!$E$20:$F$33,2,FALSE),1)) -> 1 | M52: 0 | N52: =M52*$H52 -> 0 | O52: =M52*$D52 -> 0 | P52: =N52*$D52 -> 0
F53: =IF(G53="","",IF(G53="ZAR","Local","Foreign")) -> Local | G53: ZAR | H53: =IF(F53="","",IF(F53="Foreign",VLOOKUP(G53,Currency!$E$20:$F$33,2,FALSE),1)) -> 1 | M53: 0 | N53: =M53*$H53 -> 0 | O53: =M53*$D52 -> 0 | P53: =N53*$D52 -> 0
C54: OEM training and Certified Exam Vouchers | D54: 6 | E54: per Attendee | F54: =IF(G54="","",IF(G54="ZAR","Local","Foreign")) -> Local | G54: ZAR | H54: =IF(F54="","",IF(F54="Foreign",VLOOKUP(G54,Currency!$E$20:$F$33,2,FALSE),1)) -> 1 | M54: 0 | N54: =M54*$H54 -> 0 | O54: =M54*$D54 -> 0 | P54: =N54*$D54 -> 0 | AJ54: DKK
...

Sheet Currency
B2: =TAP!B3 -> VENDOR NAME
B4: EXCHANGE RATES FOR MULTIPLE CURRENCIES
B6: NOTES:
B7: 1 | C7: The table below needs to be completed if the Employer will be exposed to any currency fluctuation as stipulated in Secondary Clause X3. For conversion of the foreign portions to Rand, please use the South African Reserve Bank's (SARB) exchange rate at 12:00 on the day of advertisement of the bid. This is in terms of the Preferential Procurement Policy Framework Act (PPPFA) with which the Employer has to comply. NB: Tenderers must submit proof of the SARB rate(s) of exchange used
B8: 2 | C8: The following URL (electronic route) is to be followed to access the relevant SARB rates on their web pages:
C9: www.resbank.co.za
C10: - Select Research - Then select Rates - Click on "Select historical exchange rates and other interest rates" - Clicking on the exchange rate in the following page opens the daily rates per currency and SA Rand
B11: 3 | C11: The Employer deals only in the currencies listed below unless other currencies are specifically approved for this tender. Kindly notify the Employer of any currency that the tenderer intends to use, but is not stipulated in the table, to consider sanctioning such currency. Sufficient time must be allowed for the assessment and to respond to such request. The onus is on the tenderer to submit a bid with approved currencies
B12: 4 | C12: The format in which the exchange rate must be inserted in the table is: 1 (One) Foreign Currency = R Amount (i.e. the Rand amount for one of each foreign currency applicable). Exchange rates must be rounded to 4 decimals NB : Only the USD/ZAR, GBP/ZAR and EUR/ZAR are published in this way on the SARB web pages above. The Rand rate with the other currencies must be inverted (1/Foreign Currency Rate) in order to list it in the required format in the table below
B13: 5 | C13: All information in the table below must conform with all other equivalent information in the offer.
C14: Payment in terms of Payment Method 2 is considered as a "foreign payment" although it will be effected in South African Rand. However, amounts for "F.O.R. Price-Goods supplied from Imported Items", are NOT considered as "foreign payments"
C15: If more than one payment method apply for a currency, the Tenderer must request an additional row be inserted in the table in order to split the values and identify the relevant method.
C18: MULTIPLE CURRENCIES
C19: No | D19: Currency Description | E19: Code | F19: Exchange Rate Currency 1,00 = | G19: Date Published | H19: Source
C20: 1 | D20: Australian Dollar | E20: AUD
C21: 2 | D21: Canadian Dollar | E21: CAN
C22: 3 | D22: Swiss Franc | E22: CHF
C23: 4 | D23: Danish Krone | E23: DKK
C24: 5 | D24: European Currency | E24: EUR
C25: 6 | D25: British Pound | E25: GBP
C26: 7 | D26: Hong Kong Dollar | E26: HKD
C27: 8 | D27: Japanese Yen | E27: JPY
C28: 9 | D28: Norwegian Krone | E28: NOK
C29: 10 | D29: New Zealand Dollar | E29: NZD
C30: 11 | D30: Swedish Krone | E30: SEK
C31: 12 | D31: Singapore Dollar | E31: SGD
C32: 13 | D32: United States Dollar | E32: USD
C33: 14 | D33: South African Rand | E33: ZAR | F33: 1
