Workbook

Sheet Query Management 
B2: BR # | C2: Requirement Category | D2: Network Planning Service Standards and Performance: Customer Query Management | E2: Functionality Available | F2: Functionaly Not available, but can be developed | G2: Bidder's Score | I2: Bidders are expected to score themselves based on the responses as per Annexure C
B3: BR 4.1
B4: BR 4.1.1 | C4: Customer Query Management | D4: Query logging and tracking.
D5: Refer to the detailed requirement in the Scope of Work | E5: 10 | F5: 7
B6: BR 4.1.2 | C6: Customer Query Management | D6: Unique Query Identifier.
D7: Refer to the detailed requirement in the Scope of Work | E7: 10 | F7: 7
B8: BR 4.1.3 | C8: Customer Query Management | D8: Multi-channel Query Logging.
D9: Refer to the detailed requirement in the Scope of Work | E9: 10 | F9: 7
B10: BR 4.1.4 | C10: Customer Query Management | D10: Automatic Airport Assignment.
D11: Refer to the detailed requirement in the Scope of Work | E11: 10 | F11: 7
B12: BR 4.1.5 | C12: Customer Query Management | D12: Instant query acknowledgement.
D13: Refer to the detailed requirement in the Scope of Work | E13: 10 | F13: 7
B14: BR 4.1.6 | C14: Customer Query Management | D14: Manual assignment and escalation.
D15: Refer to the detailed requirement in the Scope of Work | E15: 10 | F15: 7
B16: BR 4.1.7 | C16: Customer Query Management | D16: Query Turnaround Tracking.
D17: Refer to the detailed requirement in the Scope of Work | E17: 10 | F17: 7
B18: BR 4.1.8 | C18: Customer Query Management | D18: Query Status Updates.
B19: BR 4.1.8.1 | D19: Refer to the detailed requirement in the Scope of Work | E19: 10 | F19: 7
B20: BR 4.1.8.2 | D20: Refer to the detailed requirement in the Scope of Work | E20: 10 | F20: 7
B21: BR 4.1.9 | C21: Customer Query Management | D21: Automated Resolution Notification
D22: Refer to the detailed requirement in the Scope of Work | E22: 10 | F22: 7
B23: BR 4.1.10 | C23: Customer Query Management | D23: Query Re-opening Process.
D24: Refer to the detailed requirement in the Scope of Work | E24: 10 | F24: 7
B25: BR 4.1.11 | C25: Customer Query Management | D25: Query Escalation Management.
D26: Refer to the detailed requirement in the Scope of Work | E26: 10 | F26: 7
B27: BR 4.1.12 | C27: Customer Query Management | D27: Social Media Monitoring.
B28: BR 4.1.12.1 | C28: Customer Query Management | D28: Refer to the detailed requirement in the Scope of Work | E28: 10 | F28: 7
B29: BR 4.1.12.2 | C29: Customer Query Management | D29: Refer to the detailed requirement in the Scope of Work | E29: 10 | F29: 7
B30: BR 4.1.12.3 | C30: Customer Query Management | D30: Refer to the detailed requirement in the Scope of Work | E30: 10 | F30: 7
B31: BR 4.1.13 | C31: Customer Query Management | D31: Chatbot Query Management.
B32: BR 4.1.13.1 | C32: Customer Query Management | D32: Refer to the detailed requirement in the Scope of Work | E32: 10 | F32: 7
B33: BR 4.1.13.2 | C33: Customer Query Management | D33: Refer to the detailed requirement in the Scope of Work | E33: 10 | F33: 7
B34: BR 4.1.14 | C34: Customer Query Management | D34: Network Planning Service Standards and Performance: Customer Query Management
B35: BR 4.1.14.1 | C35: Customer Query Management | D35: Refer to the detailed requirement in the Scope of Work | E35: 10 | F35: 7
B36: BR 4.1.14.2 | C36: Customer Query Management | D36: Refer to the detailed requirement in the Scope of Work | E36: 10 | F36: 7
B37: BR 4.1.14.3 | C37: Customer Query Management | D37: Refer to the detailed requirement in the Scope of Work | E37: 10 | F37: 7
B38: BR 4.1.15 | C38: Customer Query Management | D38: CRM Call Integration.
B39: BR 4.1.15.1 | C39: Customer Query Management | D39: Refer to the detailed requirement in the Scope of Work | E39: 10 | F39: 7
B40: BR 4.1.15.2 | C40: Customer Query Management | D40: Refer to the detailed requirement in the Scope of Work | E40: 10 | F40: 7
B41: BR 4.1.15.3 | C41: Customer Query Management | D41: Refer to the detailed requirement in the Scope of Work | E41: 10 | F41: 7
...

Sheet Key Account Management 
B2: BR # | C2: Requirement Category | D2: Available | E2: Not available, but can be developed | F2: Bidder's Score | H2: Bidders are expected to score themselves based on the responses as per Annexure C
B3: BR 4.2.1 | C3: Capture key account plan.
B4: BR 4.2.1.1 | C4: Refer to the detailed requirement in the Scope of Work | D4: 3 | E4: 2
B5: BR 4.2.1.2 | C5: Refer to the detailed requirement in the Scope of Work | D5: 3 | E5: 2
B6: BR 4.2.1.3 | C6: Refer to the detailed requirement in the Scope of Work | D6: 3 | E6: 2
B7: BR 4.2.1.4 | C7: Refer to the detailed requirement in the Scope of Work | D7: 3 | E7: 2
B8: BR 4.2.1.5 | C8: Refer to the detailed requirement in the Scope of Work | D8: 3 | E8: 2
B9: BR 4.2.2 | C9: Key Account Plan Areas
B10: BR 4.2.2.1 | C10: Refer to the detailed requirement in the Scope of Work | D10: 3 | E10: 2
B11: BR 4.2.2.2 | C11: Refer to the detailed requirement in the Scope of Work | D11: 3 | E11: 2
B12: BR 4.2.2.3 | C12: Refer to the detailed requirement in the Scope of Work | D12: 3 | E12: 2
B13: BR 4.2.2.4 | C13: Refer to the detailed requirement in the Scope of Work | D13: 3 | E13: 2
B14: BR 4.2.2.5 | C14: Refer to the detailed requirement in the Scope of Work | D14: 3 | E14: 2
B15: BR 4.2.3 | C15: Industry understanding
B16: BR 4.2.3.1 | C16: Refer to the detailed requirement in the Scope of Work | D16: 3 | E16: 2
B17: BR 4.2.3.2 | C17: Refer to the detailed requirement in the Scope of Work | D17: 3 | E17: 2
B18: BR 4.2.4 | C18: Stakeholder decision-making unit
B19: BR 4.2.4.1 | C19: Refer to the detailed requirement in the Scope of Work | D19: 3 | E19: 2
B20: BR 4.2.5 | C20: Stakeholder engagement plan
B21: BR 4.2.5.1 | C21: Refer to the detailed requirement in the Scope of Work | D21: 3 | E21: 2
B22: BR 4.2.5.2 | C22: Refer to the detailed requirement in the Scope of Work | D22: 3 | E22: 2
B23: BR 4.2.5.3 | C23: Refer to the detailed requirement in the Scope of Work | D23: 3 | E23: 2
B24: BR 4.2.5.4 | C24: Refer to the detailed requirement in the Scope of Work | D24: 3 | E24: 2
B25: BR 4.2.6 | C25: Value captured
B26: BR 4.2.6.1 | C26: Refer to the detailed requirement in the Scope of Work | D26: 3 | E26: 2
B27: BR 4.2.7 | C27: Stakeholder journey
B28: BR 4.2.7.1 | C28: Refer to the detailed requirement in the Scope of Work | D28: 3 | E28: 2
B29: BR 4.2.7.2 | C29: Refer to the detailed requirement in the Scope of Work | D29: 3 | E29: 2
B30: BR 4.2.7.3 | C30: Refer to the detailed requirement in the Scope of Work | D30: 3 | E30: 2
B31: BR 4.2.7.4 | C31: Refer to the detailed requirement in the Scope of Work | D31: 3 | E31: 2
B32: BR 4.2.7.5 | C32: Refer to the detailed requirement in the Scope of Work | D32: 3 | E32: 2
B33: BR 4.2.7.6 | C33: Refer to the detailed requirement in the Scope of Work | D33: 3 | E33: 2
B34: BR 4.2.7.7 | C34: Refer to the detailed requirement in the Scope of Work | D34: 3 | E34: 2
B35: BR 4.2.7.8 | C35: Refer to the detailed requirement in the Scope of Work | D35: 3 | E35: 2
B36: BR 4.2.7.9 | C36: Refer to the detailed requirement in the Scope of Work | D36: 3 | E36: 2
B37: BR 4.2.8 | C37: Contract/ Lease Agreement
B38: BR 4.2.8.1 | C38: Refer to the detailed requirement in the Scope of Work | D38: 3 | E38: 2
B39: BR 4.2.8.2 | C39: Refer to the detailed requirement in the Scope of Work | D39: 3 | E39: 2
B40: BR 4.2.9 | C40: Dependence and Strategic Initiatives
B41: BR 4.2.9.1 | C41: Refer to the detailed requirement in the Scope of Work | D41: 3 | E41: 2
...

Sheet VIP Services 
B2: BR# | C2: Requirement Description | D2: Functionality Available | E2: Functionality not available, but can be developed | F2: Bidder's Score | H2: Bidders are expected to score themselves based on the responses as per Annexure C
B3: BR 4.3.1 | C3: VIP booking logging and tracking capabilities
B4: BR 4.3.1.1 | C4: Refer to the detailed requirement in the Scope of Work | D4: 10 | E4: 7
B5: BR 4.3.2 | C5: Unique Identifier for All Bookings
B6: BR 4.3.2.1 | C6: Refer to the detailed requirement in the Scope of Work | D6: 10 | E6: 7
B7: BR 4.3.2.2 | C7: Refer to the detailed requirement in the Scope of Work | D7: 10 | E7: 7
B8: BR 4.3.3 | C8: Booking Information Capture and Airport Assignment
B9: BR 4.3.3.1 | C9: Refer to the detailed requirement in the Scope of Work | D9: 10 | E9: 7
B10: BR 4.3.3.2 | C10: Refer to the detailed requirement in the Scope of Work | D10: 10 | E10: 7
B11: BR 4.3.4 | C11: Instant Booking Acknowledgement
B12: BR 4.3.4.1 | C12: Refer to the detailed requirement in the Scope of Work | D12: 10 | E12: 7
B13: BR 4.3.5 | C13: Booking request notification
B14: BR 4.3.5.1 | C14: Refer to the detailed requirement in the Scope of Work | D14: 10 | E14: 7
B15: BR 4.3.6 | C15: Manual booking assignment
B16: BR 4.3.6.1 | C16: Refer to the detailed requirement in the Scope of Work | D16: 10 | E16: 7
B17: BR 4.3.6.2 | C17: Refer to the detailed requirement in the Scope of Work | D17: 10 | E17: 7
B18: BR 4.3.7 | C18: Capture Turnaround Times for Bookings
B19: BR 4.3.7.1 | C19: Refer to the detailed requirement in the Scope of Work | D19: 10 | E19: 7
B20: BR 4.3.8 | C20: Status update & communication
B21: BR 4.3.8.1 | C21: Refer to the detailed requirement in the Scope of Work | D21: 10 | E21: 7
B22: BR 4.3.9 | C22: Response tracking & notification
B23: BR 4.3.9.1 | C23: Refer to the detailed requirement in the Scope of Work | D23: 10 | E23: 7
B24: BR 4.3.9.2 | C24: Refer to the detailed requirement in the Scope of Work | D24: 10 | E24: 7
B25: BR 4.3.10 | C25: Booking re-opening process
B26: BR 4.3.10.1 | C26: Refer to the detailed requirement in the Scope of Work | D26: 10 | E26: 7
B27: BR 4.3.11 | C27: Booking Escalation
B28: BR 4.3.11.1 | C28: Refer to the detailed requirement in the Scope of Work | D28: 10 | E28: 7
B29: BR 4.3.12 | C29: Booking escalation process
B30: BR 4.3.12.1 | C30: Refer to the detailed requirement in the Scope of Work | D30: 10 | E30: 7
B31: BR 4.3.13 | C31: Mobile App Booking Capability
B32: BR 4.3.13.1 | C32: Refer to the detailed requirement in the Scope of Work | D32: 10 | E32: 7
B33: BR 4.3.13.2 | C33: Refer to the detailed requirement in the Scope of Work | D33: 10 | E33: 7
B34: BR 4.3.14 | C34: Customer Profile
B35: BR 4.3.14.1 | C35: Refer to the detailed requirement in the Scope of Work | D35: 10 | E35: 7
B36: BR 4.3.14.2 | C36: Refer to the detailed requirement in the Scope of Work | D36: 10 | E36: 7
B37: BR 4.3.15 | C37: Integration with CISCO call manager system (Contact Centre)
B38: BR 4.3.15.1 | C38: Refer to the detailed requirement in the Scope of Work | D38: 10 | E38: 7
B39: BR 4.3.15.2 | C39: Refer to the detailed requirement in the Scope of Work | D39: 10 | E39: 7
B40: BR 4.3.15.3 | C40: Refer to the detailed requirement in the Scope of Work | D40: 10 | E40: 7
B41: BR 4.3.16 | C41: Spam detection
...

Sheet  Stakeholder Relations Manageme
B2: BR # | C2: Corporate Services: Stakeholder Relations Management: | D2: Functionality Available | E2: Not available, but can be developed | F2: Bidder's Score | H2: Bidders are expected to score themselves based on the responses as per Annexure C
B3: BR 4.4
B4: BR 4.4.1 | C4: External stakeholder profiling
B5: BR 4.4.1.1 | C5: Refer to the detailed requirement in the Scope of Work | D5: 10 | E5: 7
B6: BR 4.4.1.2 | C6: Refer to the detailed requirement in the Scope of Work | D6: 10 | E6: 7
B7: BR 4.4.1.3 | C7: Refer to the detailed requirement in the Scope of Work | D7: 6 | E7: 4
B8: BR 4.4.1.4 | C8: Refer to the detailed requirement in the Scope of Work | D8: 10 | E8: 7
B9: BR 4.4.2 | C9: Stakeholder Contact Groups
B10: BR 4.4.2.1 | C10: Refer to the detailed requirement in the Scope of Work | D10: 10 | E10: 7
B11: BR 4.4.2.2 | C11: Refer to the detailed requirement in the Scope of Work | D11: 10 | E11: 7
B12: BR 4.4.2.3 | C12: Refer to the detailed requirement in the Scope of Work | D12: 10 | E12: 7
B13: BR 4.4.3 | C13: View a profile.
B14: BR 4.4.3.1 | C14: Refer to the detailed requirement in the Scope of Work | D14: 10 | E14: 7
B15: BR 4.4.3.2 | C15: Refer to the detailed requirement in the Scope of Work | D15: 10 | E15: 7
B16: BR 4.4.4 | C16: Capture a Corporate Project (Engagements)
B17: BR 4.4.4.1 | C17: Refer to the detailed requirement in the Scope of Work | D17: 10 | E17: 7
B18: BR 4.4.4.2 | C18: Refer to the detailed requirement in the Scope of Work | D18: 10 | E18: 7
B19: BR 4.4.4.3 | C19: Refer to the detailed requirement in the Scope of Work | D19: 10 | E19: 7
B20: BR 4.4.5 | C20: Engagement plan
B21: BR 4.4.5.1 | C21: Refer to the detailed requirement in the Scope of Work | D21: 10 | E21: 7
B22: BR 4.4.5.2 | C22: Refer to the detailed requirement in the Scope of Work | D22: 10 | E22: 7
B23: BR 4.4.6 | C23: Executive engagement plan for a Stakeholder Owner (Executive)
B24: BR 4.4.6.1 | C24: Refer to the detailed requirement in the Scope of Work | D24: 10 | E24: 7
B25: BR 4.4.6.2 | C25: Refer to the detailed requirement in the Scope of Work | D25: 10 | E25: 7
B26: BR 4.4.6.3 | C26: Refer to the detailed requirement in the Scope of Work | D26: 10 | E26: 7
B27: BR 4.4.7 | C27: Engagement Plan for a Corporate Project
B28: BR 4.4.7.1 | C28: Refer to the detailed requirement in the Scope of Work | D28: 10 | E28: 7
B29: BR 4.4.7.2 | C29: Refer to the detailed requirement in the Scope of Work | D29: 10 | E29: 7
B30: BR 4.4.7.3 | C30: Refer to the detailed requirement in the Scope of Work | D30: 10 | E30: 7
B31: BR 4.4.7.4 | C31: Refer to the detailed requirement in the Scope of Work | D31: 10 | E31: 7
B32: BR 4.4.7.5 | C32: Refer to the detailed requirement in the Scope of Work | D32: 10 | E32: 7
B33: BR 4.4.8 | C33: Engagement objectives
B34: R 4.4.8.1 | C34: Refer to the detailed requirement in the Scope of Work | D34: 10 | E34: 7
B35: BR 4.4.9 | C35: Display stakeholder owners
B36: BR 4.4.9.1 | C36: Refer to the detailed requirement in the Scope of Work | D36: 10 | E36: 7
B37: BR 4.4.9.2 | C37: Refer to the detailed requirement in the Scope of Work | D37: 10 | E37: 7
B38: BR 4.4.10 | C38: Display stakeholder owners
B39: BR 4.4.11.1 | C39: Refer to the detailed requirement in the Scope of Work | D39: 10 | E39: 7
B40: BR 4.4.11.2 | C40: Refer to the detailed requirement in the Scope of Work | D40: 10 | E40: 7
B41: BR 4.4.11 | C41: Plan updates
...

Sheet Tenant Relationship Management 
B2: # | C2: Tenant Relationship Management | D2: Functionality Available | E2: Functionality not available, but can be developed | F2: Bidder's Score | H2: Bidders are expected to score themselves based on the responses as per Annexure C
B3: BR 4.5.1 | C3: Tenant Opportunity and Lead Management
B4: BR 4.5.1.1 | C4: Refer to the detailed requirement in the Scope of Work | D4: 10 | E4: 7
B5: BR 4.5.1.2 | C5: Refer to the detailed requirement in the Scope of Work | D5: 10 | E5: 7
B6: BR 4.5.1.3 | C6: Refer to the detailed requirement in the Scope of Work | D6: 10 | E6: 7
B7: BR 4.5.1.4 | C7: Refer to the detailed requirement in the Scope of Work | D7: 10 | E7: 7
B8: BR 4.5.1.5 | C8: Refer to the detailed requirement in the Scope of Work | D8: 10 | E8: 7
B9: BR 4.5.1.6 | C9: Refer to the detailed requirement in the Scope of Work | D9: 10 | E9: 7
B10: BR 4.5.3 | C10: Operations Stage
B11: BR 4.5.3.1 | C11: Refer to the detailed requirement in the Scope of Work | D11: 10 | E11: 7
B12: BR 4.5.3.2 | C12: Refer to the detailed requirement in the Scope of Work | D12: 10 | E12: 7
B13: BR 4.5.3.3 | C13: Refer to the detailed requirement in the Scope of Work | D13: 10 | E13: 7
B14: BR 4.5.3.4 | C14: Refer to the detailed requirement in the Scope of Work | D14: 10 | E14: 7
B15: BR 4.5.3.5 | C15: Refer to the detailed requirement in the Scope of Work | D15: 10 | E15: 7
B16: BR 4.5.3.6 | C16: Refer to the detailed requirement in the Scope of Work | D16: 10 | E16: 7
B17: BR 4.5.4 | C17: Exiting Stage
B18: BR 4.5.4.1 | C18: Refer to the detailed requirement in the Scope of Work | D18: 10 | E18: 7
B19: BR 4.5.4.2 | C19: Refer to the detailed requirement in the Scope of Work | D19: 10 | E19: 7
B20: Subtotal (Tenant Relationship Management) | D20: =SUM(D4:D9,D11:D16,D18:D19) -> 140 | E20: =SUM(E4:E9,E11:E16,E18:E19) -> 98 | F20: =SUM(F4:F9,F11:F16,F18:F19) -> 0

Sheet Traffic Development Unit
B2: BR # | C2: Traffic Development Unit | D2: Functionality Available | E2: Functionality not available, but can be developed | F2: Bidder's Score | H2: Bidders are expected to score themselves based on the responses as per Annexure C
B3: BR 4.5.5 | C3: Prospecting
B4: BR 4.5.5.1 | C4: Refer to the detailed requirement in the Scope of Work | D4: 10 | E4: 7
B5: BR 4.5.6 | C5: Data Analysis
B6: BR 4.5.6.1 | C6: Refer to the detailed requirement in the Scope of Work | D6: 10 | E6: 7
B7: BR 4.5.7 | C7: Engagement:
B8: BR 4.5.7.1 | C8: Refer to the detailed requirement in the Scope of Work | D8: 10 | E8: 7
B9: BR 4.5.8 | C9: Proposal Development:
B10: BR 4.5.8.1 | C10: Refer to the detailed requirement in the Scope of Work | D10: 10 | E10: 7
B11: BR 4.5.9 | C11: Stakeholder Alignment:
B12: BR 4.5.9.1 | C12: Refer to the detailed requirement in the Scope of Work | D12: 10 | E12: 7
B13: BR 4.5.10 | C13: Pipeline Management:
B14: BR 4.5.10.1 | C14: Refer to the detailed requirement in the Scope of Work | D14: 10 | E14: 7
B15: BR 4.5.11 | C15: Account Management:
B16: BR 4.5.11.1 | C16: Refer to the detailed requirement in the Scope of Work | D16: 10 | E16: 7
B17: BR 4.5.12 | C17: Reporting
B18: BR 4.5.12.1 | C18: Refer to the detailed requirement in the Scope of Work | D18: 10 | E18: 7
B19: BR 4.5.12.2 | C19: Refer to the detailed requirement in the Scope of Work | D19: 10 | E19: 7
B20: BR 4.5.12.3 | C20: Refer to the detailed requirement in the Scope of Work | D20: 10 | E20: 7
B21: BR 4.5.12.4 | C21: Refer to the detailed requirement in the Scope of Work | D21: 10 | E21: 7
B22: BR 4.5.12.5 | C22: Refer to the detailed requirement in the Scope of Work | D22: 10 | E22: 7
B23: BR 4.5.12.6 | C23: Refer to the detailed requirement in the Scope of Work | D23: 10 | E23: 7
B24: BR 4.5.12.7 | C24: Refer to the detailed requirement in the Scope of Work | D24: 10 | E24: 7
B25: BR 4.5.12.8 | C25: Refer to the detailed requirement in the Scope of Work | D25: 10 | E25: 7
B26: BR 4.5.12.9 | C26: Refer to the detailed requirement in the Scope of Work | D26: 10 | E26: 7
B27: BR 4.5.12.10 | C27: Refer to the detailed requirement in the Scope of Work | D27: 10 | E27: 7
B28: BR 4.5.12.11 | C28: Refer to the detailed requirement in the Scope of Work | D28: 10 | E28: 7
B29: BR 4.5.12.12 | C29: Refer to the detailed requirement in the Scope of Work | D29: 10 | E29: 7
... B39: BR 4.5.12.22 | C39: Refer to the detailed requirement in the Scope of Work | D39: 10 | E39: 7
B40: Subtotal (Traffic Development Unit ) | D40: =SUM(D4,D6,D8,D10,D12,D14,D16,D18:D39) -> 290 | E40: =SUM(E4,E6,E8,E10,E12,E14,E16,E18:E39) -> 203 | F40: =SUM(F4,F6,F8,F10,F12,F14,F16,F18:F39) -> 0

Sheet Training Academy
B2: BR # | C2: Traing Academy | D2: Functionality Available | E2: Functionality not available, but can be developed | F2: Bidder's Score | H2: Bidders are expected to score themselves based on the responses as per Annexure C
B3: BR 4.6.1 | C3: Lead Capture
B4: BR 4.6.1.1 | C4: Refer to the detailed requirement in the Scope of Work | D4: 10 | E4: 7
B5: BR 4.6.2 | C5: Course Discovery and Inquiry
B6: BR 4.6.2.1 | C6: Refer to the detailed requirement in the Scope of Work | D6: 10 | E6: 7
B7: BR 4.6.3 | C7: Course Booking
B8: BR 4.6.3.1 | C8: Refer to the detailed requirement in the Scope of Work | D8: 10 | E8: 7
B9: BR 4.6.4 | C9: Online Payment Integration
B10: BR 4.6.4.1 | C10: Refer to the detailed requirement in the Scope of Work | D10: 10 | E10: 7
B11: BR 4.6.5 | C11: Booking Confirmation
B12: BR 4.6.5.1 | C12: Refer to the detailed requirement in the Scope of Work | D12: 10 | E12: 7
B13: BR 4.6.6 | C13: Pre-Sales Activity Tracking
B14: BR 4.6.6.1 | C14: Refer to the detailed requirement in the Scope of Work | D14: 10 | E14: 7
B15: BR 4.6.7 | C15: Unresolved Query Escalation
B16: BR 4.6.7.1 | C16: Refer to the detailed requirement in the Scope of Work | D16: 10 | E16: 7
B17: BR 4.6.8 | C17: After-Hours Notification
B18: BR 4.6.8.1 | C18: Refer to the detailed requirement in the Scope of Work | D18: 10 | E18: 7
B19: BR 4.6.9 | C19: Contracting
B20: BR 4.6.9.1 | C20: Refer to the detailed requirement in the Scope of Work | D20: 10 | E20: 7
B21: BR 4.6.9.2 | C21: Refer to the detailed requirement in the Scope of Work | D21: 10 | E21: 7
B22: BR 4.6.9.3 | C22: Refer to the detailed requirement in the Scope of Work | D22: 10 | E22: 7
B23: BR 4.6.9.4 | C23: Refer to the detailed requirement in the Scope of Work | D23: 10 | E23: 7
B24: BR 4.6.9.5 | C24: Refer to the detailed requirement in the Scope of Work | D24: 10 | E24: 7
B25: BR 4.6.9.6 | C25: Refer to the detailed requirement in the Scope of Work | D25: 10 | E25: 7
B26: BR 4.6.10 | C26: Onboarding
B27: BR 4.6.10.1 | C27: Refer to the detailed requirement in the Scope of Work | D27: 10 | E27: 7
B28: BR 4.6.10.2 | C28: Refer to the detailed requirement in the Scope of Work | D28: 10 | E28: 7
B29: BR 4.6.10.3 | C29: Refer to the detailed requirement in the Scope of Work | D29: 10 | E29: 7
B30: BR 4.6.10.4 | C30: Refer to the detailed requirement in the Scope of Work | D30: 10 | E30: 7
B31: BR 4.6.10.5 | C31: Refer to the detailed requirement in the Scope of Work | D31: 10 | E31: 7
B32: BR 4.6.10.6 | C32: Refer to the detailed requirement in the Scope of Work | D32: 10 | E32: 7
B33: BR 4.6.11 | C33: Training
B34: BR 4.6.11.1 | C34: Refer to the detailed requirement in the Scope of Work | D34: 10 | E34: 7
B35: BR 4.6.11.2 | C35: Refer to the detailed requirement in the Scope of Work | D35: 10 | E35: 7
B36: BR 4.6.11.3 | C36: Refer to the detailed requirement in the Scope of Work | D36: 10 | E36: 7
B37: BR 4.6.12 | C37: Post-Training
B38: BR 4.6.12.1 | C38: Refer to the detailed requirement in the Scope of Work | D38: 10 | E38: 7
B39: BR 4.6.12.2 | C39: Refer to the detailed requirement in the Scope of Work | D39: 10 | E39: 7
B40: BR 4.6.12.3 | C40: Refer to the detailed requirement in the Scope of Work | D40: 10 | E40: 7
B41: BR 4.6.12.4 | C41: Refer to the detailed requirement in the Scope of Work | D41: 10 | E41: 7
...

Sheet Data Migration
B2: BR # | C2: Data Migration | D2: Functionality Available | E2: Functionality not available, but can be developed | F2: Bidder's Score | H2: Bidders are expected to score themselves based on the responses as per Annexure C
B3: BR 5.1 | C3: Transfer of Historical Data from Existing Systems
B4: BR 5.1.1 | C4: Refer to the detailed requirement in the Scope of Work | D4: 10 | E4: 7 | F4: 7
B5: BR 5.2 | C5: Data Migration Plan
B6: BR 5.2.1 | C6: Refer to the detailed requirement in the Scope of Work | D6: 10 | E6: 7 | F6: 10
B7: BR 5.3 | C7: Alignment with Data Retention Policy
B8: BR 5.3.1 | C8: Refer to the detailed requirement in the Scope of Work | D8: 10 | E8: 7 | F8: 7
B9: Subtotal (Data Migration) | D9: =SUM(D4,D6,D8) -> 30 | E9: =SUM(E4,E6,E8) -> 21 | F9: =SUM(F4,F6,F8) -> 24

Sheet BIDDER'S SCORING SHEET
E3: REQ CATERGORY | F3: MAXIMUM SCORE | G3: MEDIUM SCORE
E4: Must Have | F4: 30 | G4: 25
E5: Should have | F5: 15 | G5: 12
E6: Could Have | F6: 8 | G6: 5
E7: TOTAL | F7: =SUM(F4:F6) -> 53 | G7: =SUM(G4:G6) -> 42
E10: BR # | F10: Requirement Category | G10: Overall Score
E11: 1 | F11: Query Management | G11: =SUM('Query Management '!G65) -> 0
E12: 2 | F12: Key Account Management | G12: =SUM('Key Account Management '!F59) -> 0
E13: 3 | F13: VIP Services | G13: =SUM('VIP Services '!F68) -> 0
E14: 4 | F14: Stakeholder Relations Management | G14: =SUM(' Stakeholder Relations Manageme'!F88) -> 0
E15: 5 | F15: Tenant Relationship Management | G15: =SUM('Tenant Relationship Management '!F20) -> 0
E16: 7 | F16: Traffic Development Unit | G16: =SUM('Traffic Development Unit'!F40) -> 0
E17: 8 | F17: Training Academy | G17: =SUM('Training Academy'!F59) -> 0
E18: 9 | F18: Data Migration | G18: =SUM('Data Migration'!F9) -> 24
E19: GRAND TOTAL | G19: =SUM(G11:G18) -> 24
E22: 1. If a bidder has scored a minimum of 2252 (90%), they will be scored [50] points 2. If a bidder has scored a minimum of 2022, and a maximum of less than 2252, they will be scored [50] points
E23: 2. If a bidder has scored a minimum of 2022 (80%), and a maximum of less than 2252, they will be scored [30] points 2. If a bidder has scored a minimum of 2022, and a maximum of less than 2252, they will be scored [50] points
E24: 3. If a bidder has scored a minimum of 1751 (70%), and a maximum of less than 2022, they will be scored [20] points
E25: 4. If a bidder has scored less than 1751, they will be scored [0].

Sheet BR_REQUIREMENTS TOTAL SCORING
E2: NB: | F2: Please note that the table below is a summary of the business requirements total scoring. It's for information purposes.
E3: REQ CATERGORY | F3: MAXIMUM SCORE | G3: MEDIUM SCORE | H3: MINIMUM SCORE
E4: Must Have | F4: 30 | G4: 25 | H4: 15
E5: Should have | F5: 15 | G5: 12 | H5: 9
E6: Could Have | F6: 8 | G6: 5 | H6: 3
E7: TOTAL | F7: =SUM(F4:F6) -> 53 | G7: =SUM(G4:G6) -> 42 | H7: =SUM(H4:H6) -> 27
E10: BR # | F10: Requirement Category | G10: Functionality Available | H10: Functionality not available, but can be developed
E11: 1 | F11: Query Management | G11: 400 | H11: 280
E12: 2 | F12: Key Account Management | G12: 132 | H12: 88
E13: 3 | F13: VIP Services | G13: 440 | H13: 308
C14: =G19*0.8 -> 1950.4 | E14: 4 | F14: Stakeholder Relations Management | G14: 596 | H14: 414
E15: 5 | F15: Tenant Relationship Management | G15: 140 | H15: 98
E16: 7 | F16: Traffic Development Unit | G16: 290 | H16: 203
E17: 8 | F17: Training Academy | G17: 410 | H17: 287
E18: 9 | F18: Data Migration | G18: 30 | H18: 21
E19: GRAND TOTAL | G19: =SUM(G11:G18) -> 2438 | H19: =SUM(H11:H18) -> 1699
E22: 1. If a bidder has scored a minimum of 2194 (90%), they will be scored [50] points 2. If a bidder has scored a minimum of 2022, and a maximum of less than 2252, they will be scored [50] points
E23: 2. If a bidder has scored a minimum of 1950 (80%), and a maximum of less than 2002, they will be scored [30] points 2. If a bidder has scored a minimum of 2022, and a maximum of less than 2252, they will be scored [50] points
E24: 3. If a bidder has scored a minimum of 1707 (70%), and a maximum of less than 2022, they will be scored [20] points
E25: 4. If a bidder has scored less than 1751, they will be scored [0].
