Workbook
Name _Toc388750520: 'PS5 Schedule'!$B$45
Name _Toc388763041: 'PS5 Schedule'!$B$45
Name _Toc389376774: 'PS5 Schedule'!$B$3
Name _Toc389376775: 'PS5 Schedule'!$E$45
Name Area_Print: #REF!
Name ASA_P_M_PERC: #REF!
Name ASE_P_M_PERC: #REF!
Name BOQ: #REF!
Name Calc_A: #REF!
Name Calc_B: #REF!
Name Calc_C: #REF!
Name Calc_D: #REF!
Name Calc_E: #REF!
Name Calc_F: #REF!
Name Calc_G: #REF!
Name Calc_H: #REF!
Name Calc_I: #REF!
Name Calc_J: #REF!
Name Calc_K: #REF!
Name Calc_k1: #REF!
Name Calc_k10: #REF!
Name Calc_k11: #REF!
Name Calc_k12: #REF!
Name Calc_k13: #REF!
Name Calc_k14: #REF!
Name Calc_k15: #REF!
Name Calc_k16: #REF!
Name Calc_k2: #REF!
Name Calc_k3: #REF!
Name Calc_k4: #REF!
Name Calc_k5: #REF!
Name Calc_k6: #REF!
Name Calc_k7: #REF!
Name Calc_k8: #REF!
Name Calc_k9: #REF!
Name Calc_L: #REF!
Name Calc_M: #REF!
Name Calc_N: #REF!
Name Calc_O: #REF!
Name Calc_P: #REF!
Name Calc_Q: #REF!
Name Calc_R: #REF!
Name Calc_S: #REF!
Name Calc_T: #REF!
Name Calc_U: #REF!
Name Calc_W: #REF!
Name Calc_X: #REF!
Name Calc_Y: #REF!
Name Calc_Z: #REF!
Name CalcInternal: #REF!
Name CPA_A: #REF!
Name CPA_B: #REF!
Name CPA_C: #REF!
Name CPA_D: #REF!
Name CPA_E: #REF!
Name CPA_F: #REF!
Name CPA_G: #REF!
Name CPA_H: #REF!
Name CPA_I: #REF!
Name CPA_J: #REF!

Sheet Cover Sheet
A15: PRICING INFORMATION
A17: INVITATION TO TENDER
A19: ENQUIRY NUMBER
A20: FOR
A21: MATIMBA POWER STATION MEDIUM VOLTAGE SWITCHGEAR REPLACEMENT PROJECT FOR UNITS 1 TO 6 AND OUTSIDE PLANT
A25: TENDERER’S NAME:
A29: THE PRICE: IN RAND (excluding VAT) : | B29: ='5.1.1 Summary '!F15 -> 0
A31: RAND VALUE IN WORDS:
A36: DATE :
A39: AUTHORISED SIGNATORY (per note below) :
A41: NAME :
A43: DESIGNATION :
A44: Chief Eexcutive Officer (Duly authorised to act for and behalf of the Contractor)

Sheet Input Notes
A1: Notes for assistance with input
A2: Read these notes BEFORE changes are made to sheets in this workbook.
B4: This Spreadsheet contains the following sheets
B5: Cover Sheet | C5: This is the cover sheet for Section 5.1
B6: Input notes | C6: This sheet is provided for help only and will not form part of the contract.
B7: 5.1.0 Preamble | C7: This is a Preamble to Section 5.1
B8: 5.1.1 Summary | C8: This is a manual summary sheet. Data from sheet 5.1.2 and 5.1.3 may be used to assist with compilation
B9: 5.1.2. Pricing Schedule | C9: This is the main data entry sheet for the Tenderer to complete. DO NOT input below current data point as stipulated in this sheet. Include additional rows above this are with applicable items if required to preserve integrity of "Data" range.
B10: 5.1.3 Rate of Exchange | C10: This sheet is provided for Rate of Exchange which are carried forward to the Pricing Worksheet
B11: 5.1.4.0 NOTES for compilation of Price adjustment formulae | C11: This sheet is provided for the Price adjustment formulae which are carried forward to the Pricing Worksheet
B12: 5.1.4.1 CPA Formulae | C12: Details of Price adjustment formulae to be completed in detail by the Tenderer with reference to the NOTES
B13: 5.1.5 LME | C13: London Metal Exchange information. Tenderer to populate estimated tonnages.

Sheet 5.1.0 Preambles
A2: ='Cover Sheet'!A19:B19 -> ENQUIRY NUMBER | B2: ='Cover Sheet'!B19 -> 0
A3: ='Cover Sheet'!A21 -> MATIMBA POWER STATION MEDIUM VOLTAGE SWITCHGEAR REPLACEMENT PROJECT FOR UNITS 1 TO 6 AND OUTSIDE PLANT
A5: 5.1.0 PREAMBLES
A7: PRICE SCHEDULES
A8: 1 | B8: Price schedule provides the basis of all valuations of the work, payments in multiple currencies, price adjustment (CPA) and general progress monitoring.
A9: 2 | B9: The amount due at each application for payment date is based on activities and/or milestones completed as measured in terms of the price schedule. The Tenderer provides all necessary information which is required to determine amounts due at each application for payment relative to the activities and/or milestones completed or to be completed.
A10: 3 | B10: The price schedule work breakdown structure provided by the Tendereris based on the price schedule provided by the Project Manager. The activities listed by the Project Manager identify the specific items of work which are estimated to be required to achieve Completion. The price schedule work breakdown structure is compiled to the satisfaction of the Project Manager with any additions and/or amendments deemed necessary.
A11: 4 | B11: The Tenderers detailed price schedule summates back to the summary of prices and is in sufficient detail to monitor completion of items related to the accepted programme and or milestones in order that payment of completed work may be assessed.
A12: 5 | B12: The activities on the pricing schedule are integrated with the required rate of exchange and price adjustment information and the forecast rate of payment schedule (FRP).
A13: 6 | B13: Clear unique identification of work in multiple currencies is separately identified in the price schedule and for each currency and uniquely associated price adjustment formula. The combination of currencies and or price adjustment formulae in single rows is not permissible. The tenderer clearly identifies rows added to accommodate these requirements.
A14: 7 | B14: The total of the prices includes for all direct and indirect costs, overheads, profits, on costs, risks, liabilities, obligations, etc. relative to the contract.
A15: 8 | B15: The Tenderer allows for all necessary costs to complete the works as required in terms of the specifications, scope of work and conditions of contract whether expressly stated or not in the price schedules. The Tenderer provides the Project Manager with any breakdown of prices as may be required for specific items not detailed in the price schedules prior to or after contract award.
A16: 9 | B16: All values are total values prior to any retention and excludes VAT. Retention is not calculated in the forecast rate of payment schedule (FRP).
A17: 10 | B17: Tenderer to check and take responsibility for all descriptions, formulae, and structure of this file.
A18: 11 | B18: The Tenderer may add rows as required to cater for specific requirements but is to adhere to the basic requirements identified above and to clearly identify the rows added relative to the Project Manager's items. No rows are to be deleted.
A19: 12 | B19: Ensure clear Indicatation whether offer is main or alternative tender.

Sheet 5.1.1 Summary 
A2: ENQUIRY NUMBER
A3: TENDERER NAME:
A4: MATIMBA POWER STATION MEDIUM VOLTAGE SWITCHGEAR REPLACEMENT PROJECT FOR UNITS 1 TO 6 AND OUTSIDE PLANT
A6: SUMMARY OF PRICES | D6: All prices in ZAR
A7: Main / Alt | B7: Bill No | C7: Bill Description | D7: Foreign | E7: Local | F7: Prices (P)
A8: Main | C8: P&G's | E8: ='5.1.2.1 Pricing Schedule P&G'!N70 -> 0 | F8: =D8+E8 -> 0
A9: Main | C9: Part 1A MV Switchgear (6 Units and outside plant) | D9: =SUMIF('5.1.2.2 Pricing Schedul Part 1A'!Q31:Q591,"EUR",'5.1.2.2 Pricing Schedul Part 1A'!N31:N591) -> 0 | E9: =SUMIF('5.1.2.2 Pricing Schedul Part 1A'!Q31:Q591,"ZAR",'5.1.2.2 Pricing Schedul Part 1A'!N31:N591) -> 0 | F9: =D9+E9 -> 0
A10: Main | C10: Part 1B Protection (6 Units and outside plant) | D10: ='5.1.2.3 Pricing Schedul Part 1B'!N704 -> 0 | E10: ='5.1.2.3 Pricing Schedul Part 1B'!N703 -> 0 | F10: =D10+E10 -> 0
A11: Main | C11: Part 1C Automation (6 Units and outside plant) | D11: ='5.1.2.4 Pricing Schedule Part1C'!L331 -> 0 | E11: ='5.1.2.4 Pricing Schedule Part1C'!L330 -> 0 | F11: =D11+E11 -> 0
A12: Main | C12: Part 1D Essential Supplies | D12: =SUMIF('5.1.2.5 Pricing Schedule Part1D'!Q31:Q214,"EUR",'5.1.2.5 Pricing Schedule Part1D'!N31:N214) -> 0 | E12: =SUMIF('5.1.2.5 Pricing Schedule Part1D'!Q31:Q214,"ZAR",'5.1.2.5 Pricing Schedule Part1D'!N31:N214) -> 0 | F12: =D12+E12 -> 0
D13: =SUM(D8:D12) -> 0 | E13: =SUM(E8:E12) -> 0 | F13: =SUM(D13:E13) -> 0
E14: CSDG @ 0.25% | F14: =F13*0.25% -> 0
C15: Grand Total | F15: =SUM(F13:F14) -> 0
A18: Summary of Foreign breakdown
A19: Main / Alt | B19: Works | C19: Description | D19: Foreign 'Currency Value
A20: =A8 -> Main | B20: =B8 -> 0 | C20: =C8 -> P&G's
A21: =A9 -> Main | B21: =B9 -> 0 | C21: =C9 -> Part 1A MV Switchgear (6 Units and outside plant) | D21: =D9/17.7044 -> 0
A22: =A10 -> Main | B22: =B10 -> 0 | C22: =C10 -> Part 1B Protection (6 Units and outside plant) | D22: =D10/17.7044 -> 0
A23: =A11 -> Main | B23: 4 | C23: =C11 -> Part 1C Automation (6 Units and outside plant) | D23: =D11/17.7044 -> 0
A24: =A12 -> Main | B24: =B12 -> 0 | C24: =C12 -> Part 1D Essential Supplies | D24: =D12/17.7044 -> 0
A25: =#REF! -> #REF!
D26: =SUM(D20:D25) -> 0

Sheet 5.1.2.1 Pricing Schedule P&G
I1: General | J1: 1. Ex Works Price (Overseas) | Q1: Foreign | R1: Code | S1: Exchange Rate Currency 1,00 =
A2: PRICE ACTIVITY SCHEDULE | I2: Design and engineering | J2: 2. Inland Transport Cost | Q2: Local | R2: ZAR | S2: 1
I3: Transport | J3: 4. Cost of seafreight | R3: EUR | S3: 0
I4: Construction, Erection, Installation | J4: 5. Cost of airfreight | R4: USD | S4: 0
I5: Commissioning & Testing | J5: 6. Cost of Marine Insurance* | R5: GBP | S5: 0
I6: Procurement and manufacture | J6: 8. Wharfage | R6: AUD | S6: 0
J7: 9. Landing charges | R7: CAD | S7: 0
J8: 10. Customs duties | R8: CHF | S8: 0
J9: 11. Surcharge | R9: JPY | S9: 0
J10: 13. Other ** | R10: NZD | S10: 0
J11: 14. Cost of Rail transport In R.S.A.
J12: 15. Cost of Road transport In R.S.A.
J13: 18. F.O.R. Price-Goods manufactured Inside R.S.A.
J14: 19. F.O.R. Price-Goods supplied from Imported Items
J15: 21. Cost of Rail transport
J16: 22. Cost of Road transport
J17: 25. Local labour
J18: 26. Expatriate labour
J19: 28. Overseas Engineering Service
J20: 29. Local Engineering Service/Design
P28: Utilise drop down facility
A29: Price cost allocation - Note Unique currencies and CPA formula per line must be complied with ie only one currency with one associated CPA formula | M29: Matimba Pricing | P29: Price adjustment | Q29: Rate of exchange Data
A30: Ref No | B30: Type | C30: Item No | D30: Location: Unit No or other | E30: Description | F30: Type description | G30: Switchgear Type | H30: Busbar Rating | I30: Sub-Description | J30: PS5 Allocation | K30: Unit of measure | L30: Unit price | M30: Quantity | N30: Total of PRICE Summary (In Rands) | O30: SUM of Total | P30: FORMULA NOs | Q30: Foreign / Local | R30: Currency Type | S30: RoE Currency 1,00 = R
F32: Site Establishment - Fixed Costs
A33: 1 | B33: P&G | D33: PG
A34: 2 | B34: P&G | D34: PG
A35: 3 | B35: P&G | D35: PG
A36: =IF(ISBLANK(#REF!),"",MAX(A29:A35)+1) -> 4 | B36: P&G | D36: PG
A37: =IF(ISBLANK(#REF!),"",MAX(A30:A36)+1) -> 5 | B37: P&G | D37: PG
A38: =IF(ISBLANK(#REF!),"",MAX(A31:A37)+1) -> 6 | B38: P&G | D38: PG
A39: =IF(ISBLANK(#REF!),"",MAX(A32:A38)+1) -> 7 | B39: P&G | D39: PG
A40: =IF(ISBLANK(#REF!),"",MAX(A33:A39)+1) -> 8 | B40: P&G | D40: PG
A41: =IF(ISBLANK(#REF!),"",MAX(A34:A40)+1) -> 9 | B41: P&G | D41: PG
A42: =IF(ISBLANK(#REF!),"",MAX(A35:A41)+1) -> 10 | B42: P&G | D42: PG
A43: =IF(ISBLANK(#REF!),"",MAX(A36:A42)+1) -> 11 | F43: Site Establishment - Viarable Costs | G43: 1 | O43: =SUM(N33:N42) -> 0
A44: =IF(ISBLANK(#REF!),"",MAX(A37:A43)+1) -> 12 | B44: P&G | D44: PG | G44: 1 | P44: J-CPI | Q44: Local | R44: ZAR | S44: 1
A45: =IF(ISBLANK(#REF!),"",MAX(A38:A44)+1) -> 13 | B45: P&G | D45: PG | G45: 1 | P45: J-CPI | Q45: Local | R45: ZAR | S45: 1
A46: =IF(ISBLANK(#REF!),"",MAX(A39:A45)+1) -> 14 | B46: P&G | D46: PG | G46: 1 | P46: J-CPI | Q46: Local | R46: ZAR | S46: 1
A47: =IF(ISBLANK(#REF!),"",MAX(A40:A46)+1) -> 15 | B47: P&G | D47: PG | G47: 1 | P47: H-LOCAL / SITE ENGINEERING | Q47: Local | R47: ZAR | S47: 1
A48: =IF(ISBLANK(#REF!),"",MAX(A41:A47)+1) -> 16 | B48: P&G | D48: PG | G48: 1 | P48: H-LOCAL / SITE ENGINEERING | Q48: Local | R48: ZAR | S48: 1
...

Sheet 5.1.2.2 Pricing Schedul Part 1A
D1: Unit 1 | I1: General | J1: 1. Ex Works Price (Overseas) | P1: Foreign | Q1: Code | R1: Exchange Rate Currency 1,00 =
D2: Unit 2 | I2: Design and engineering | J2: 2. Inland Transport Cost | P2: Local | Q2: ZAR | R2: 1
D3: Unit 3 | I3: Transport | J3: 4. Cost of seafreight | Q3: EUR | R3: 0
D4: Unit 4 | I4: Construction, Erection, Installation | J4: 5. Cost of airfreight | Q4: USD | R4: 0
D5: Unit 5 | I5: Commissioning & Testing | J5: 6. Cost of Marine Insurance* | Q5: GBP | R5: 0
D6: Unit 6 | I6: Procurement and manufacture | J6: 8. Wharfage | Q6: AUD | R6: 0
D7: Common plant | J7: 9. Landing charges | Q7: CAD | R7: 0
J8: 10. Customs duties | Q8: CHF | R8: 0
J9: 11. Surcharge | Q9: JPY | R9: 0
J10: 13. Other ** | Q10: NZD | R10: 0
J11: 14. Cost of Rail transport In R.S.A.
J12: 15. Cost of Road transport In R.S.A.
J13: 18. F.O.R. Price-Goods manufactured Inside R.S.A.
J14: 19. F.O.R. Price-Goods supplied from Imported Items
J15: 21. Cost of Rail transport
J16: 22. Cost of Road transport
J17: 25. Local labour
J18: 26. Expatriate labour
J19: 28. Overseas Engineering Service
J20: 29. Local Engineering Service/Design
O28: Utilise drop down facility
A29: Price cost allocation - Note Unique currencies and CPA formula per line must be complied with ie only one currency with one associated CPA formula | O29: Price adjustment | P29: Rate of exchange Data
A30: Ref No | B30: Type | C30: Item No | D30: Location: Unit No or other | E30: MATIMBA SUBSTATION | F30: Type description | G30: Switchgear Type | H30: Busbar Rating | I30: Sub-Description | J30: PS5 Allocation | K30: Unit of measure | L30: Unit price | M30: Quantity | N30: Total of PRICE Summary (In Rands) | O30: FORMULA NOs | P30: Foreign / Local | Q30: Currency Type | R30: RoE Currency 1,00 = R
S31: =CONCATENATE(B31,C31,F31,J31) | T31: =L31 -> 0
S32: =CONCATENATE(B32,C32,F32,J32) | T32: =L32 -> 0
S33: =CONCATENATE(B33,C33,F33,J33) | T33: =L33 -> 0
S34: =CONCATENATE(B34,C34,F34,J34) | T34: =L34 -> 0
S35: =CONCATENATE(B35,C35,F35,J35) | T35: =L35 -> 0
S36: =CONCATENATE(B36,C36,F36,J36) | T36: =L36 -> 0
S37: =CONCATENATE(B37,C37,F37,J37) | T37: =L37 -> 0
S38: =CONCATENATE(B38,C38,F38,J38) | T38: =L38 -> 0
S39: =CONCATENATE(B39,C39,F39,J39) | T39: =L39 -> 0
S40: =CONCATENATE(B40,C40,F40,J40) | T40: =L40 -> 0
S41: =CONCATENATE(B41,C41,F41,J41) | T41: =L41 -> 0
S42: =CONCATENATE(B42,C42,F42,J42) | T42: =L42 -> 0
... S140: =CONCATENATE(B140,C140,F140,J140) | T140: =L140 -> 0
S141: =CONCATENATE(B141,C141,F141,J141) | T141: =L141 -> 0 | U141: =#REF!/#REF! -> #REF!
S142: =CONCATENATE(B142,C142,F142,J142) | T142: =L142 -> 0
S143: =CONCATENATE(B143,C143,F143,J143) | T143: =L143 -> 0
S144: =CONCATENATE(B144,C144,F144,J144) | T144: =L144 -> 0
...

Sheet 5.1.2.3 Pricing Schedul Part 1B
D1: Unit 1 | I1: General | J1: 1. Ex Works Price (Overseas) | P1: Foreign | Q1: Code | R1: Exchange Rate Currency 1,00 =
D2: Unit 2 | I2: Design and engineering | J2: 2. Inland Transport Cost | P2: Local | Q2: ZAR | R2: 1
D3: Unit 3 | I3: Transport | J3: 4. Cost of seafreight | Q3: EUR | R3: 0
D4: Unit 4 | I4: Construction, Erection, Installation | J4: 5. Cost of airfreight | Q4: USD | R4: 0
D5: Unit 5 | I5: Commissioning & Testing | J5: 6. Cost of Marine Insurance* | Q5: GBP | R5: 0
I6: Procurement and manufacture | J6: 8. Wharfage | Q6: AUD | R6: 0
J7: 9. Landing charges | Q7: CAD | R7: 0
J8: 10. Customs duties | Q8: CHF | R8: 0
J9: 11. Surcharge | Q9: JPY | R9: 0
J10: 13. Other ** | Q10: NZD | R10: 0
J11: 14. Cost of Rail transport In R.S.A.
J12: 15. Cost of Road transport In R.S.A.
J13: 18. F.O.R. Price-Goods manufactured Inside R.S.A.
J14: 19. F.O.R. Price-Goods supplied from Imported Items
J15: 21. Cost of Rail transport
J16: 22. Cost of Road transport
J17: 25. Local labour
J18: 26. Expatriate labour
J19: 28. Overseas Engineering Service
J20: 29. Local Engineering Service/Design
O28: Utilise drop down facility
L29: Matimba Pricing | O29: Price adjustment | P29: Rate of exchange Data
A30: Ref No | B30: Type | C30: Item No | D30: Location: Unit No or other | E30: Matimba Description | F30: Type description | G30: Switchgear Type | H30: Busbar Rating | I30: Sub-Description | J30: PS5 Allocation | K30: Unit of measure | L30: Unit price | M30: Quantity | N30: Total of PRICE Summary (In Rands) | O30: FORMULA NOs | P30: Foreign / Local | Q30: Currency Type | R30: RoE Currency 1,00 = R
A34: =A33+1 -> 1 | B34: PROTECTION | C34: 02BA | D34: Unit 2 | E34: 11kV Unit Board 2A | F34: PROTECTION | I34: Procurement and manufacture | J34: 5. Cost of airfreight | K34: LOT | L34: 33863.165 | M34: 1 | N34: =L34*M34 -> 33863.165 | O34: D-PD01 / IMPORT SEA/AIR FREIGHT | P34: Local | Q34: ZAR | R34: 1
A35: =A34+1 -> 2 | B35: PROTECTION | C35: 02BA | D35: Unit 2 | E35: 11kV Unit Board 2A | F35: PROTECTION | I35: Procurement and manufacture | J35: 10. Customs duties | K35: LOT | L35: 0 | M35: 1 | N35: =L35*M35 -> 0 | O35: D-PD01 / IMPORT SEA/AIR FREIGHT | P35: Local | Q35: ZAR | R35: 1
A36: =A35+1 -> 3 | B36: PROTECTION | C36: 02BA | D36: Unit 2 | E36: 11kV Unit Board 2A | F36: PROTECTION | I36: Procurement and manufacture | J36: 18. F.O.R. Price-Goods manufactured Inside R.S.A. | K36: LOT | L36: 399340.36 | M36: 1 | N36: =L36*M36 -> 399340.36 | O36: P-PROTECTION / AUTOMATION FOR 1 | P36: Local | Q36: ZAR | R36: 1
A37: =A36+1 -> 4 | B37: PROTECTION | C37: 02BA | D37: Unit 2 | E37: 11kV Unit Board 2A | F37: PROTECTION | I37: Procurement and manufacture | J37: 19. F.O.R. Price-Goods supplied from Imported Items | K37: LOT | L37: 101230.53 | M37: 1 | N37: =L37*M37 -> 101230.53 | O37: P-PROTECTION / AUTOMATION FOR 1 | P37: Local | Q37: ZAR | R37: 1
A38: =A37+1 -> 5 | B38: PROTECTION | C38: 02BA | D38: Unit 2 | E38: 11kV Unit Board 2A | F38: PROTECTION | I38: Procurement and manufacture | J38: 19. F.O.R. Price-Goods supplied from Imported Items | K38: LOT | L38: 787646.26 | M38: 1 | N38: =L38*M38 -> 787646.26 | O38: X-PROTECTION / AUTOMATION FOR SUPPLIER SCH | P38: Local | Q38: ZAR | R38: 1
A39: =A38+1 -> 6 | B39: PROTECTION | C39: 02BA | D39: Unit 2 | E39: 11kV Unit Board 2A | F39: PROTECTION | I39: Design and engineering | J39: 29. Local Engineering Service/Design | K39: LOT | L39: 56025.499 | M39: 1 | N39: =L39*M39 -> 56025.499 | O39: H-LOCAL / SITE ENGINEERING | P39: Local | Q39: ZAR | R39: 1
A40: =A39+1 -> 7 | B40: PROTECTION | C40: 02BA | D40: Unit 2 | E40: 11kV Unit Board 2A | F40: FACTORY ACCEPTANCE TESTING | I40: Commissioning & Testing | J40: 29. Local Engineering Service/Design | K40: Days | L40: 11832.395 | M40: 48 | N40: =L40*M40 -> 567954.96 | O40: H-LOCAL / SITE ENGINEERING | P40: Local | Q40: ZAR | R40: 1
A41: =A40+1 -> 8 | B41: PROTECTION | C41: 02BA | D41: Unit 2 | E41: 11kV Unit Board 2A | F41: COLD COMMISSIONING | I41: Commissioning & Testing | J41: 29. Local Engineering Service/Design | K41: Days | L41: 11832.395 | M41: 42 | N41: =L41*M41 -> 496960.59 | O41: H-LOCAL / SITE ENGINEERING | P41: Local | Q41: ZAR | R41: 1
A42: =A41+1 -> 9 | B42: PROTECTION | C42: 02BA | D42: Unit 2 | E42: 11kV Unit Board 2A | F42: HOT COMMISSIONING | I42: Commissioning & Testing | J42: 29. Local Engineering Service/Design | K42: Days | L42: 11832.395 | M42: 5 | N42: =L42*M42 -> 59161.975 | O42: H-LOCAL / SITE ENGINEERING | P42: Local | Q42: ZAR | R42: 1
A43: =A42+1 -> 10
A47: =A46+1 -> 1 | B47: PROTECTION | C47: 02BB | D47: Unit 2 | E47: 11kV Unit Board 2B | F47: PROTECTION | I47: Procurement and manufacture | J47: 5. Cost of airfreight | K47: LOT | L47: 32221.531 | M47: 1 | N47: =L47*M47 -> 32221.531 | O47: D-PD01 / IMPORT SEA/AIR FREIGHT | P47: Local | Q47: ZAR | R47: 1
A48: =A47+1 -> 2 | B48: PROTECTION | C48: 02BB | D48: Unit 2 | E48: 11kV Unit Board 2B | F48: PROTECTION | I48: Procurement and manufacture | J48: 10. Customs duties | K48: LOT | L48: 0 | M48: 1 | N48: =L48*M48 -> 0 | O48: D-PD01 / IMPORT SEA/AIR FREIGHT | P48: Local | Q48: ZAR | R48: 1
A49: =A48+1 -> 3 | B49: PROTECTION | C49: 02BB | D49: Unit 2 | E49: 11kV Unit Board 2B | F49: PROTECTION | I49: Procurement and manufacture | J49: 18. F.O.R. Price-Goods manufactured Inside R.S.A. | K49: LOT | L49: 380299.12 | M49: 1 | N49: =L49*M49 -> 380299.12 | O49: P-PROTECTION / AUTOMATION FOR 1 | P49: Local | Q49: ZAR | R49: 1
A50: =A49+1 -> 4 | B50: PROTECTION | C50: 02BB | D50: Unit 2 | E50: 11kV Unit Board 2B | F50: PROTECTION | I50: Procurement and manufacture | J50: 19. F.O.R. Price-Goods supplied from Imported Items | K50: LOT | L50: 96423.802 | M50: 1 | N50: =L50*M50 -> 96423.802 | O50: P-PROTECTION / AUTOMATION FOR 1 | P50: Local | Q50: ZAR | R50: 1
A51: =A50+1 -> 5 | B51: PROTECTION | C51: 02BB | D51: Unit 2 | E51: 11kV Unit Board 2B | F51: PROTECTION | I51: Procurement and manufacture | J51: 19. F.O.R. Price-Goods supplied from Imported Items | K51: LOT | L51: 750375.77 | M51: 1 | N51: =L51*M51 -> 750375.77 | O51: X-PROTECTION / AUTOMATION FOR SUPPLIER SCH | P51: Local | Q51: ZAR | R51: 1
A52: =A51+1 -> 6 | B52: PROTECTION | C52: 02BB | D52: Unit 2 | E52: 11kV Unit Board 2B | F52: PROTECTION | I52: Design and engineering | J52: 29. Local Engineering Service/Design | K52: LOT | L52: 54994.99 | M52: 1 | N52: =L52*M52 -> 54994.99 | O52: H-LOCAL / SITE ENGINEERING | P52: Local | Q52: ZAR | R52: 1
A53: =A52+1 -> 7 | B53: PROTECTION | C53: 02BB | D53: Unit 2 | E53: 11kV Unit Board 2B | F53: FACTORY ACCEPTANCE TESTING | I53: Commissioning & Testing | J53: 29. Local Engineering Service/Design | K53: Days | L53: 11832.395 | M53: 48 | N53: =L53*M53 -> 567954.96 | O53: H-LOCAL / SITE ENGINEERING | P53: Local | Q53: ZAR | R53: 1
...

Sheet 5.1.2.4 Pricing Schedule Part1C
A1: MATIMBA POWER STATION | D1: Unit 1 | G1: General | H1: 1. Ex Works Price (Overseas) | O1: Foreign | P1: Code | Q1: Exchange Rate Currency 1,00 =
A2: PRICE ACTIVITY SCHEDULE | D2: Unit 2 | G2: Design and engineering | H2: 2. Inland Transport Cost | O2: Local | P2: ZAR | Q2: 1
D3: Unit 3 | G3: Transport | H3: 4. Cost of seafreight | P3: EUR | Q3: 0
D4: Unit 4 | G4: Construction, Erection, Installation | H4: 5. Cost of airfreight | P4: USD | Q4: 0
D5: Unit 5 | G5: Commissioning & Testing | H5: 6. Cost of Marine Insurance* | P5: GBP | Q5: 0
D6: Unit 6 | G6: Procurement and manufacture | H6: 8. Wharfage | P6: AUD | Q6: 0
D7: Common Plant | H7: 9. Landing charges | P7: CAD | Q7: 0
D8: Static Board Room | H8: 10. Customs duties | P8: CHF | Q8: 0
D9: Outside Plants | H9: 11. Surcharge | P9: JPY | Q9: 0
H10: 13. Other ** | P10: NZD | Q10: 0
H11: 14. Cost of Rail transport In R.S.A.
H12: 15. Cost of Road transport In R.S.A.
H13: 18. F.O.R. Price-Goods manufactured Inside R.S.A.
H14: 19. F.O.R. Price-Goods supplied from Imported Items
H15: 21. Cost of Rail transport
H16: 22. Cost of Road transport
H17: 25. Local labour
H18: 26. Expatriate labour
H19: 28. Overseas Engineering Service
H20: 29. Local Engineering Service/Design
N28: Utilise drop down facility
N29: Price adjustment | O29: Rate of exchange Data
A30: Ref No | B30: Type | C30: Item No | D30: Location: Unit No or other | E30: Description Matimba | F30: Type description | G30: Sub-Description | H30: PS5 Allocation | I30: Unit of measure | J30: Unit price | K30: Quantity | L30: Total of PRICE Summary (In Rands) | M30: Total of PRICE Allocation (In Rands) | N30: FORMULA NOs | O30: Foreign / Local | P30: Currency Type | Q30: RoE Currency 1,00 = R
J330: Total Local | L330: =SUMIF(P31:P329,"ZAR",L31:L328) -> 0
J331: Total Foreign | L331: =SUMIF(P31:P329,"EUR",L31:L328) -> 0
J332: Total Combined | L332: =+L331+L330 -> 0

Sheet 5.1.2.5 Pricing Schedule Part1D
D1: Unit 1 | I1: General | J1: 1. Ex Works Price (Overseas) | P1: Foreign | Q1: Code | R1: Exchange Rate Currency 1,00 =
A2: PRICE ACTIVITY SCHEDULE | D2: Unit 2 | I2: Design and engineering | J2: 2. Inland Transport Cost | P2: Local | Q2: ZAR
D3: Unit 3 | I3: Transport | J3: 4. Cost of seafreight | Q3: EUR
D4: Unit 4 | I4: Construction, Erection, Installation | J4: 5. Cost of airfreight | Q4: USD
D5: Unit 5 | I5: Commissioning & Testing | J5: 6. Cost of Marine Insurance* | Q5: ZAR
D6: Unit 6 | I6: Procurement and manufacture | J6: 8. Wharfage | Q6: 0
D7: Common Plant | J7: 9. Landing charges | Q7: 0
D8: Static Board Room | J8: 10. Customs duties | Q8: 0
D9: Outside Plants | J9: 11. Surcharge | Q9: 0
J10: 13. Other ** | Q10: 0
J11: 14. Cost of Rail transport In R.S.A. | Q11: 0
J12: 15. Cost of Road transport In R.S.A. | Q12: 0
J13: 18. F.O.R. Price-Goods manufactured Inside R.S.A. | Q13: 0
J14: 19. F.O.R. Price-Goods supplied from Imported Items | Q14: 0
J15: 21. Cost of Rail transport | Q15: 0
J16: 22. Cost of Road transport
J17: 25. Local labour
J18: 26. Expatriate labour
J19: 28. Overseas Engineering Service
J20: 29. Local Engineering Service/Design
O28: Utilise drop down facility
A29: Price cost allocation - Note Unique currencies and CPA formula per line must be complied with ie only one currency with one associated CPA formula | E29: Matimba Description | O29: Price adjustment | P29: Rate of exchange Data
A30: Ref No | B30: Type | C30: Item No | D30: Location: Unit No or other | E30: Description | F30: Type description | G30: Switchgear Type | H30: Busbar Rating | I30: Sub-Description | J30: PS5 Allocation | K30: Unit of measure | L30: Unit price | M30: Quantity | N30: Total of PRICE Summary (In Rands) | O30: FORMULA NOs | P30: Foreign / Local | Q30: Currency Type | R30: RoE Currency 1,00 = R
A216: =IF(ISBLANK(J216),"",MAX(A210:A215)+1) | R216: =IF(ISBLANK(Q216),"",IFERROR(VLOOKUP(Q216,$Q$2:$R$15,2,FALSE),""))
A217: =IF(ISBLANK(J217),"",MAX(A211:A216)+1) | L217: TOTAL | N217: =SUM(N31:N215) -> 0 | O217: 19988767 | R217: =IF(ISBLANK(Q217),"",IFERROR(VLOOKUP(Q217,$Q$2:$R$15,2,FALSE),""))

Sheet 5.1.3 Rate of Exchange table
A2: ='Cover Sheet'!$A$19 -> ENQUIRY NUMBER | C2: ='Cover Sheet'!B19 -> 0
A3: TENDERER NAME: | C3: ='Cover Sheet'!B25 -> 0
A4: =#REF! -> #REF!
A5: Notes:
A6: 1 | B6: For conformity please notify Eskom regarding any currencies to be used and not identified on the attached
B7: list prior to enquiry closing in order that the applicable rate is provided by Eskom.
A8: 2 | B8: All information in this table must conform with all other equivalent information in the offer.
A9: 3 | B9: Payment for foreign commitments must be in terms of CPA (IG) Rev 28 where applicable. Refer Tender Returnables
A10: 4 | B10: Indicate the currency per row in the Prices but only one currency per row is allowed Exchange rates must
B11: be stipulated in the format of Currency 1,00 = ZAR "value" and rounded to four decimals. The exchange
B12: rates in the tables below must be used to convert foreign currency amounts to Rand.
A13: 5 | B13: The exchange rates to be used are 7 calendar days before tender close.
A15: RATE OF EXCHANGE FOR MULTIPLE CURRENCIES
A16: Summary | F16: All rates of exchange at base of:
A17: No | B17: Currency Description | C17: Code | D17: Exchange Rate Currency 1,00 = | E17: Rand value | F17: Currency value | G17: Payment method 1a, 1b or 2
A18: 1 | B18: South African Rand | C18: ZAR
A19: 2 | B19: Austrialian Dollar | C19: AUD
A20: 3 | B20: British Pound | C20: GBP
A21: 4 | B21: Canadian Dollar | C21: CAD
A22: 5 | B22: Danish Krone | C22: DKK
A23: 6 | B23: European Currency | C23: EUR
A24: 7 | B24: Japanese Yen | C24: JPY
A25: 8 | B25: New Zealand Dollar | C25: NZD
A26: 9 | B26: Norwegian Krone | C26: NOK
A27: 10 | B27: Singapore Dollar | C27: SGD
A28: 11 | B28: Swedish Krone | C28: SEK
A29: 12 | B29: Swiss Franc | C29: CHF
A30: 13 | B30: United States Dollars | C30: USD
A31: 14
A32: 15
A33: 16
B34: TOTAL RAND VALUE OF ALL CURRENCIES | E34: =SUM(E18:E33) -> 0
B35: Check that value balances with Summary of tendered values | E35: Must equal Tender Price

Sheet 5.1.4.0 NOTES Price adj
A2: ='Cover Sheet'!$A$19 -> ENQUIRY NUMBER | B2: ='Cover Sheet'!B19 -> 0
A3: TENDERER NAME: | B3: ='Cover Sheet'!B25 -> 0
A5: 5.1.4 PRICE ADJUSTMENT FOR INFLATION
A7: GENERAL NOTES :
A8: a. | B8: References to "indices" below have the meaning of "cost indices or reference prices", unless otherwise stated.
A9: b. | B9: Where historical information is applicable as requested below, internet address references which are accessible to the general public may be submitted instead, with the specific electronic route and web page reflecting the applicable data.
A10: c. | B10: Each formula is related to one unique currency. Mixing of currencies in a specific formula is not acceptable.
A11: CPA FORMULAE REQUIREMENTS :
A12: i. | B12: Formulae must be linked to independent cost indices or other benchmarks ("reference prices") and must be clearly and completely defined. The source must be a recognised statistical publishing source and must not be in-house indices.
A13: ii. | B13: Local Indices: Where local indices other than SEIFSA or StatsSA are specified, the tenderer is to submit 5 years' historical data for such indices. Note that the Contractor must ensure that indices are published and recommended by the "Source" as applicable to the work involved. For example SEIFSA has terminated the publication of Table E and is replaced by Table E-A and or E-EX and the specific sub breakdown of such must be identified. Also SEIFSA recommends utilisation of Table L-2 for road transport rather than Table L-1.
A14: iii. | B14: Foreign Price Adjustments: In the case of foreign price adjustments, the Contractor is to submit 5 years' historical data for the tendered indices. Where a formula is linked to indices in a country, payment of the amounts for that formula must be in the currency of the same country. A formula may not be linked to indices of more than one country.
A15: iv. | B15: Commodity Price Linked Payments: The reference price is considered as the base price (index) for purpose of the CPA formula and is included in the applicable tables below and must be in the currency in which the CPA will be payable. The exchange rate applied to convert the base price in a foreign currency into that of the currency of the formula must also be indicated in the tables below if the price is not in the same currency as the applicable formula, i.e. exposure to the movement in a reference price is in the same currency as that of the CPA formula. The Contractor is to submit 5 years' historical price data for such commodity,
A16: v. | B16: London Metal Exchange (LME) Prices: For metals traded on the LME, the tonnage will be required before contract award in order for Eskom to hedge the metal price fluctuations. This applies also for prices linked to local indices or reference prices. Though these metals are traded in US$, prices are daily quoted in various other currencies. The LME price in the currency of the formula must apply and thus not the US$ unless the amount payable in terms of the formula is US$. Refer to the "LME" Sheet in this file for more detail regarding this aspect. By indicating any of these metals in the formulae below, the contractor declares that neither he nor any other body avails or will avail of forward price and/or currency cover for the metal(s).
A17: vi. | B17: CPA Base Date: The CPA base date for calculating price movements is the Base Date as defined in the Particular Conditions, Clause 1.1.3.1. For indices or reference prices published as at certain dates, and where such a date is not the Base Date, the latest date for which it is published before the Base Date will be considered as the Base Date index or reference price. In instances where the figure or value is not as at the Base Date or considered as the Base Date index or reference price as explained herein, the date, figure or value as well as the reason for the deviation must be clearly separately stated and must be realistic for purposes of the price adjustment.
A18: vii. | B18: Period for Movement in Indices: The period for which the movement in indices or reference prices is considered, is the period until the last day of the month prior to the month in which the work in question was executed or completed (or in which an event or activity for which the adjustment applies, took place). For indices or reference prices published as at certain dates, and where such a date is not the last day of the month prior to the month in which the work was executed or completed (or an event or activity took place), then latest date for which the indices or price references are published before the last day of the month prior to the execution or completion of work (or an event or activity took place) is considered as the last day index or reference price of the month prior to execution or completion of work (or event or activity).
A19: viii. | B19: Proportions/weighting/coefficients/base reference in CPA Formulae: The fixed portion of each formula, not subject to inflation, is at least 15% and contractors may submit higher fixed portion percentages. The indices or other benchmarks and their proportions in the formula must be realistic and relative to the applicable work. The fixed portion and other proportions must add up to 100%.
A20: ix. | B20: Base Index or Reference Price : The base index or reference price must be inserted in the appropriate column

Sheet  5.1.4.1 CPA Formula
A2: ='Cover Sheet'!$A$19 -> ENQUIRY NUMBER | C2: ='Cover Sheet'!B19 -> 0
A3: TENDERER NAME: | C3: ='Cover Sheet'!B25 -> 0
A5: PRICE ADJUSTMENT FOR INFLATION
A6: FORMULAE DETAILS
A7: CPA No "Description" automated from Summary CPA formulae (Predefine description heading in Summary CPA formulae)
A8: CPA No | B8: Description | C8: Index | D8: Proportion / Coefficient / Weight / Base reference price | E8: Scope of Index (eg Labour) | F8: Title/Definition : Linked to the index, e.g., Table C3, All hourly paid employees. Must be completely defined | G8: Source of Index ((indices prepared by (e.g. SEIFSA, StatsSA, LME) | H8: Base month if not Base Date as defined (See Note vi) | I8: Base index | J8: Formula Currency Code | K8: Currency Code | L8: Exchange Rate Currency 1,00 = | M8: Historical Data (Yes/No) | N8: Internet address
A9: 1
A10: 1 | J10: ZAR | K10: ZAR | L10: 1
A11: 1 | J11: ZAR | K11: ZAR | L11: 1
A12: 1 | J12: ZAR | K12: ZAR | L12: 1
A13: 1
A14: 1 | C14: e | E14: Fixed Non-adjustable (0.15 minimum)
A15: 1 | D15: =SUM(D9:D14) -> 0 | E15: Total (1.00)
A18: CPA No | B18: Description | C18: Index | D18: Proportion / Coefficient / Weight / Base reference price | E18: Scope of Index (eg Labour) | F18: Title/Definition : Linked to the index, e.g., Table C3, All hourly paid employees. Must be completely defined | G18: Source of Index ((indices prepared by (e.g. SEIFSA, StatsSA, LME) | H18: Base month if not Base Date as defined (See Note vi) | I18: Base index | J18: Formula Currency Code | K18: Currency Code | L18: Exchange Rate Currency 1,00 = | M18: Historical Data (Yes/No) | N18: Internet address
A19: =A15+1 -> 2 | B19: PD01 / IMPORT GIS SWITCHGEAR
A20: =A19 -> 2
A21: =A20 -> 2
A22: =A21 -> 2
A23: =A22 -> 2 | B23: B4
A24: =A23 -> 2 | C24: e | E24: Fixed Non-adjustable (0.15 minimum)
A25: =A24 -> 2 | D25: =SUM(D19:D24) -> 0 | E25: Total (1.00)
A27: CPA No | B27: Description | C27: Index | D27: Proportion / Coefficient / Weight / Base reference price | E27: Scope of Index (eg Labour) | F27: Title/Definition : Linked to the index, e.g., Table C3, All hourly paid employees. Must be completely defined | G27: Source of Index ((indices prepared by (e.g. SEIFSA, StatsSA, LME) | H27: Base month if not Base Date as defined (See Note vi) | I27: Base index | J27: Formula Currency Code | K27: Currency Code | L27: Exchange Rate Currency 1,00 = | M27: Historical Data (Yes/No) | N27: Internet address
A28: =A25+1 -> 3 | B28: PD01 / IMPORT AIS SWITCHGEAR
A33: =A32 -> 0 | C33: e | E33: Fixed Non-adjustable (0.15 minimum)
A34: =A33 -> 0 | D34: =SUM(D28:D33) -> 0 | E34: Total (1.00)
A36: CPA No | B36: Description | C36: Index | D36: Proportion / Coefficient / Weight / Base reference price | E36: Scope of Index (eg Labour) | F36: Title/Definition : Linked to the index, e.g., Table C3, All hourly paid employees. Must be completely defined | G36: Source of Index ((indices prepared by (e.g. SEIFSA, StatsSA, LME) | H36: Base month if not Base Date as defined (See Note vi) | I36: Base index | J36: Formula Currency Code | K36: Currency Code | L36: Exchange Rate Currency 1,00 = | M36: Historical Data (Yes/No) | N36: Internet address
A37: =A28+1 -> 4 | B37: PD01 / IMPORT FREIGHT
A38: =A37 -> 4
A39: =A38 -> 4
A40: =A39 -> 4
A41: =A40 -> 4
A42: =A41 -> 4 | E42: Fixed Non-adjustable (0.15 minimum)
A43: =A42 -> 4 | D43: =SUM(D37:D42) -> 0 | E43: Total (1.00)
A45: CPA No | B45: Description | C45: Index | D45: Proportion / Coefficient / Weight / Base reference price | E45: Scope of Index (eg Labour) | F45: Title/Definition : Linked to the index, e.g., Table C3, All hourly paid employees. Must be completely defined | G45: Source of Index ((indices prepared by (e.g. SEIFSA, StatsSA, LME) | H45: Base month if not Base Date as defined (See Note vi) | I45: Base index | J45: Formula Currency Code | K45: Currency Code | L45: Exchange Rate Currency 1,00 = | M45: Historical Data (Yes/No) | N45: Internet address
A46: =A37+1 -> 5 | B46: PD01 / LOCAL TRANSPORT
A47: =A46 -> 5
A48: =A47 -> 5
A49: =A48 -> 5
A50: =A49 -> 5
A51: =A50 -> 5 | C51: e | D51: =D14 -> 0 | E51: Fixed Non-adjustable (0.15 minimum)
...

Sheet  5.1.5 LME Notes
A1: ='Cover Sheet'!A2 -> 0
A2: ='Cover Sheet'!$A$19 -> ENQUIRY NUMBER | D2: ='Cover Sheet'!B19 -> 0
A3: TENDERER NAME: | D3: ='Cover Sheet'!B25 -> 0
A5: Commodities Traded on the London Metal Exchange (LME)
A7: Notes :
A8: 1 | B8: The metals listed are traded in US Dollar. If the Dollar prices are converted to other currencies,
B9: including South African Rand, the exchange rates must be indicated in the CPA sheet.
A10: 2 | B10: Under normal instances Eskom hedges its exposure to price movements even in instances where
B11: the local portion of contract prices are subject to fluctuations in local indices, e.g. SEIFSA Table F
B12: (for copper, zinc and lead), Table R (for aluminium), etc. In such instances the exchange rates are
B13: not required. The tonnage needs to be stipulated as per Note v. in the CPA Sheet of this Excel file
B14: before contract award.
A15: 3 | B15: The reference to aluminium must be clearly stipulated in the CPA Sheet, ie "Aluminium" or
B16: "Aluminium Alloy". Furthermore, Eskom can only accept Aluminium Alloy (instead of Aluminium) if
B17: the material consists of aluminium alloy, otherwise Eskom accepts only the Aluminium LME prices
B18: as adjustment benchmark
B20: The LME metals are :
B21: - Copper
B22: - Aluminium (Primary or First Grade)
B23: - Aluminium Alloy
B24: - Lead
B25: - Zinc
B26: - Nickel
B27: - Tin

Sheet PS5 Schedule
A1: MATIMBA POWER STATION MEDIUM VOLTAGE SWITCHGEAR REPLACEMENT PROJECT FOR UNITS 1 TO 6 AND OUTSIDE PLANT
B3: 1.1. PS5 Price Schedule - page 1
B4: PRICE SCHEDULE FOR GOODS MANUFACTURED IN AND OUTSIDE THE R.S.A. | M4: PAGE 1 OF 2
B5: SUPPLY, DELIVERY & ERECTION / INSTALLATION (PS5)
B6: ENQUIRY NO:
B7: REMARKS: | D7: ITEM | E7: TOTAL | F7: Unit 1 | G7: Unit 2 | H7: Unit 3 | I7: Unit 4 | J7: Unit 5 | K7: Unit 6 | L7: Common Plant | M7: PG
A8: Ref No
A9: 1 | B9: 1. Ex Works Price (Overseas)
A10: 2 | B10: 2. Inland Transport Cost
B11: 3. FOB Price
A12: 4 | B12: 4. Cost of seafreight
A13: 5 | B13: 5. Cost of airfreight
A14: 6 | B14: 6. Cost of Marine Insurance*
B15: 7. Total price delivered port R.S.A.
A16: 8 | B16: 8. Wharfage
A17: 9 | B17: 9. Landing charges
A18: 10 | B18: 10. Customs duties
A19: 11 | B19: 11. Surcharge
B20: 12 Cost of Importation
A21: 13 | B21: 13. Other **
A22: 14 | B22: 14. Cost of Rail transport In R.S.A.
A23: 15 | B23: 15. Cost of Road transport In R.S.A.
B24: 16. Cost of transport works to site
B25: 17. Price (FOB) delivered to works/site
B26: Supplied from Inside R.S.A.
A27: 18 | B27: 18. F.O.R. Price-Goods manufactured Inside R.S.A.
A28: 19 | B28: 19. F.O.R. Price-Goods supplied from Imported Items
B29: 20. Total F.O.R. price
A30: 21 | B30: 21. Cost of Rail transport
A31: 22 | B31: 22. Cost of Road transport
B32: 23. Cost of transport works to site
B33: 24. Price (F.O.R.) delivered to site
B34: Site work (Erection/Installation)
A35: 25 | B35: 25. Local labour
A36: 26 | B36: 26. Expatriate labour
B37: 27. Total price for site work
A38: 28 | B38: 28. Overseas Engineering Service
A39: 29 | B39: 29. Local Engineering Service/Design
B40: 30. Total price for Engineering Service
B41: 30.1. Total price delivered to site before VAT
...
