Workbook

Sheet Sheet1
C2: ANNEXURE A: PRICING SCHEDULE
C3: RFP/OPSLAB/CHEM/2021/05
C5: FOREX % of the total price per unit | E5: %
C6: NON- FOREX % of the total price per unit | E6: %
A8: No. | B8: Item No. | C8: Product Description | D8: Estimated Annual Volumes | E8: Year 1 | G8: Year 2 | I8: Year 3
B9: Item No. | E9: Unit price Including VAT. | F9: Total Price VAT Incl. | G9: Unit price Including VAT. | H9: Total Price VAT Incl. | I9: Unit price Including VAT. | J9: Total Price VAT Incl.
A10: 1 | B10: APS05P | C10: Inspection finding sheet - POME | D10: 2840 | F10: =D10*E10 -> 0 | H10: =D10*G10 -> 0 | J10: =D10*I10 -> 0
A11: 2 | B11: APS05S | C11: Inspection finding sheet - STONE | D11: 580 | F11: =D11*E11 -> 0 | H11: =D11*G11 -> 0 | J11: =D11*I11 -> 0
A12: 3 | B12: APS05C | C12: Inspection finding sheet - CITRUS | D12: 980 | F12: =D12*E12 -> 0 | H12: =D12*G12 -> 0 | J12: =D12*I12 -> 0
A13: 4 | B13: APS05G | C13: Inspection Finding Sheet - GRAPES | D13: 1120 | F13: =D13*E13 -> 0 | H13: =D13*G13 -> 0 | J13: =D13*I13 -> 0
A14: 5 | B14: APS05L | C14: Inspection finding sheet - LITCHI'S | D14: 10 | F14: =D14*E14 -> 0 | H14: =D14*G14 -> 0 | J14: =D14*I14 -> 0
A15: 6 | B15: APS05M | C15: Inspection Finding sheet - MANGOES | D15: 120 | F15: =D15*E15 -> 0 | H15: =D15*G15 -> 0 | J15: =D15*I15 -> 0
A16: 7 | B16: APS06 | C16: Standard form - PPECB Export rejection report | D16: 1250 | F16: =D16*E16 -> 0 | H16: =D16*G16 -> 0 | J16: =D16*I16 -> 0
A17: 8 | B17: Q01 | C17: Standard Form - Q01 - Loading Inspection Form Cold Store | D17: 1950 | F17: =D17*E17 -> 0 | H17: =D17*G17 -> 0 | J17: =D17*I17 -> 0
A18: 9 | B18: Q76 | C18: Standard Form - Canned products - Inspection finding sheet | D18: 290 | F18: =D18*E18 -> 0 | H18: =D18*G18 -> 0 | J18: =D18*I18 -> 0
A19: 10 | B19: APS20 | C19: Standard Form - Inspection report - Canned foods | D19: 150 | F19: =D19*E19 -> 0 | H19: =D19*G19 -> 0 | J19: =D19*I19 -> 0
A20: 11 | B20: Q153 | C20: Standard form - Stone ripeness test | D20: 200 | F20: =D20*E20 -> 0 | H20: =D20*G20 -> 0 | J20: =D20*I20 -> 0
A21: 12 | B21: Q154 | C21: Standard Form - Apples & Pears Ripeness Test | D21: 160 | F21: =D21*E21 -> 0 | H21: =D21*G21 -> 0 | J21: =D21*I21 -> 0
... A45: 36 | B45: APS95 | C45: Standard form - Internal testing | D45: 401 | F45: =D45*E45 -> 0 | H45: =D45*G45 -> 0 | J45: =D45*I45 -> 0
A46: 37 | C46: PPECB Cold Store Certificate | D46: 50 | F46: =D46*E46 -> 0 | H46: =D46*G46 -> 0 | J46: =D46*I46 -> 0
A47: 38 | B47: Q08 | C47: Standard form - Q08 control list for containerisation | D47: 1030 | F47: =D47*E47 -> 0 | H47: =D47*G47 -> 0 | J47: =D47*I47 -> 0
A48: 39 | B48: Q31 | C48: Standard Form - Q31 Cold Treatment Loading Report | D48: 295 | F48: =D48*E48 -> 0 | H48: =D48*G48 -> 0 | J48: =D48*I48 -> 0
A49: 40 | B49: APS05 | C49: Inspection finding sheet | D49: 455 | F49: =D49*E49 -> 0 | H49: =D49*G49 -> 0 | J49: =D49*I49 -> 0
A50: 41 | B50: FF42A1 | C50: Standard Form - Batch Control | D50: 270 | F50: =D50*E50 -> 0 | H50: =D50*G50 -> 0 | J50: =D50*I50 -> 0
A51: 42 | C51: Business Cards | D51: 500 | F51: =D51*E51 -> 0 | H51: =D51*G51 -> 0 | J51: =D51*I51 -> 0
A52: 43 | C52: Export Standards – Citrus/Table Grapes/GAP | D52: 100 | F52: =D52*E52 -> 0 | H52: =D52*G52 -> 0 | J52: =D52*I52 -> 0
A53: 44 | C53: Food Safety Learner Guide | D53: 500 | F53: =D53*E53 -> 0 | H53: =D53*G53 -> 0 | J53: =D53*I53 -> 0
A54: 45 | C54: Long Service Award Certificates | D54: 100 | F54: =D54*E54 -> 0 | H54: =D54*G54 -> 0 | J54: =D54*I54 -> 0
F55: =D55*E55 -> 0 | H55: =D55*G55 -> 0 | J55: =D55*I55 -> 0
F56: =D56*E56 -> 0 | H56: =D56*G56 -> 0 | J56: =D56*I56 -> 0
F57: =D57*E57 -> 0 | H57: =D57*G57 -> 0 | J57: =D57*I57 -> 0
F58: =D58*E58 -> 0 | H58: =D58*G58 -> 0 | J58: =D58*I58 -> 0
F59: =D59*E59 -> 0 | H59: =D59*G59 -> 0 | J59: =D59*I59 -> 0
F60: =D60*E60 -> 0 | H60: =D60*G60 -> 0 | J60: =D60*I60 -> 0
F61: =D61*E61 -> 0 | H61: =D61*G61 -> 0 | J61: =D61*I61 -> 0
F63: =SUM(F10:F61) -> 0 | H63: =SUM(H10:H61) -> 0 | J63: =SUM(J10:J61) -> 0
C65: Offered Annual Rebate:
C66: _____ % rebate on annual increase of R 100 000.00
C67: _____ % rebate on annual increase of R 200 000.00
C68: _____ % rebate on annual increase of R 300 000.00
...

Sheet Sheet4

Sheet Sheet2
A1: Black pens fine point and click | B1: Box of 50
A2: Blue pens fine point and click | B2: Box of 50
A3: Red pens fine point and click | B3: Box of 50
A4: Marlin Ultra Glide pen 0.7 | B4: Pack of 5
A5: Ruler | B5: Each
A6: Eraser | B6: Each
A7: Pencil | B7: Box of 50
A8: Stapler | B8: Each
A9: Staples 26/6 | B9: Box
A10: Staple Remover | B10: Each
A11: Blue ink | B11: Each
A12: Black ink | B12: Each
... A77: Metal file fasteners | B77: Box of 50

Sheet Sheet3
B2: ANNEXURE A: PRICING SCHEDULE
B3: RFP/OPSLAB/CHEM/2021/05
B5: FOREX % of the total price per unit | E5: %
B6: NON- FOREX % of the total price per unit | E6: %
B8: Product Description | C8: Unit of Measure (UOM) | D8: Quantity | E8: Year 1 | G8: Year 2 | I8: Year 3
E9: Unit price Including VAT. | F9: Total Price VAT Incl. | G9: Unit price Including VAT. | H9: Total Price VAT Incl. | I9: Unit price Including VAT. | J9: Total Price VAT Incl.
B10: =Sheet2!A1 -> Black pens fine point and click | C10: =Sheet2!B1 -> Box of 50 | D10: 1 | F10: =D10*E10 -> 0 | H10: =D10*G10 -> 0 | J10: =D10*I10 -> 0
B11: =Sheet2!A2 -> Blue pens fine point and click | C11: =Sheet2!B2 -> Box of 50 | D11: 1 | F11: =D11*E11 -> 0 | H11: =D11*G11 -> 0 | J11: =D11*I11 -> 0
B12: =Sheet2!A3 -> Red pens fine point and click | C12: =Sheet2!B3 -> Box of 50 | D12: 1 | F12: =D12*E12 -> 0 | H12: =D12*G12 -> 0 | J12: =D12*I12 -> 0
B13: =Sheet2!A4 -> Marlin Ultra Glide pen 0.7 | C13: =Sheet2!B4 -> Pack of 5 | D13: 1 | F13: =D13*E13 -> 0 | H13: =D13*G13 -> 0 | J13: =D13*I13 -> 0
B14: =Sheet2!A5 -> Ruler | C14: =Sheet2!B5 -> Each | D14: 1 | F14: =D14*E14 -> 0 | H14: =D14*G14 -> 0 | J14: =D14*I14 -> 0
B15: =Sheet2!A6 -> Eraser | C15: =Sheet2!B6 -> Each | D15: 1 | F15: =D15*E15 -> 0 | H15: =D15*G15 -> 0 | J15: =D15*I15 -> 0
B16: =Sheet2!A7 -> Pencil | C16: =Sheet2!B7 -> Box of 50 | D16: 1 | F16: =D16*E16 -> 0 | H16: =D16*G16 -> 0 | J16: =D16*I16 -> 0
B17: =Sheet2!A8 -> Stapler | C17: =Sheet2!B8 -> Each | D17: 1 | F17: =D17*E17 -> 0 | H17: =D17*G17 -> 0 | J17: =D17*I17 -> 0
B18: =Sheet2!A9 -> Staples 26/6 | C18: =Sheet2!B9 -> Box | D18: 1 | F18: =D18*E18 -> 0 | H18: =D18*G18 -> 0 | J18: =D18*I18 -> 0
B19: =Sheet2!A10 -> Staple Remover | C19: =Sheet2!B10 -> Each | D19: 1 | F19: =D19*E19 -> 0 | H19: =D19*G19 -> 0 | J19: =D19*I19 -> 0
B20: =Sheet2!A11 -> Blue ink | C20: =Sheet2!B11 -> Each | D20: 1 | F20: =D20*E20 -> 0 | H20: =D20*G20 -> 0 | J20: =D20*I20 -> 0
B21: =Sheet2!A12 -> Black ink | C21: =Sheet2!B12 -> Each | D21: 1 | F21: =D21*E21 -> 0 | H21: =D21*G21 -> 0 | J21: =D21*I21 -> 0
... B71: =Sheet2!A62 -> Selfinking stamps | C71: =Sheet2!B62 -> each | D71: 1 | F71: =D71*E71 -> 0 | H71: =D71*G71 -> 0 | J71: =D71*I71 -> 0
F72: =SUM(F10:F71) -> 0 | H72: =SUM(H10:H71) -> 0 | J72: =SUM(J10:J71) -> 0
B77: Offered Annual Rebate:
B78: _____ % rebate on annual increase of R 100 000.00
B79: _____ % rebate on annual increase of R 200 000.00
B80: _____ % rebate on annual increase of R 300 000.00
B82: BIDDER’S NAME: _______________________________________________
B83: AUTHORISED SIGNATORY: ______________________________________
B84: DATE: _____________________
