Workbook

Sheet 1-P&G
A1: Contract No: WS7579
A2: Client: eThekwini Water and Sanitation | E2: Section 1 : Preliminary & General
A3: Description: Glenwood Waste Water Treatment Works and Catchment
A4: Project No.: 1208/302
A7: Item No | B7: Payment Refers | C7: Description | D7: Unit | E7: Qty | F7: Rate | G7: Amount
C9: SECTION 1 : PRELIMINARY & GENERAL
B10: SABS 1200A | C10: FIXED CHARGE ITEMS
A12: 1.1 | B12: 8.3.1 | C12: Contractual requirements | D12: Sum | E12: 1
B14: 8.3.2 | C14: Establishment of facilities on site:
B16: 8.3.2.1 | C16: Facilities for Engineer (SABS 1200AB)
A18: 1.2 | B18: PSAB 2 | C18: Provision of office for the Engineers Representative | D18: Sum | E18: 1
A20: 1.3 | B20: PSAB 5 | C20: Name board (2 No.) | D20: Sum | E20: 1
A22: 1.4 | B22: PSAB 2.2(e) | C22: Survey equipment and materials | D22: Sum | E22: 1
B24: 8.3.3.2.2 | C24: Facilities for Contractor
A26: 1.5 | C26: Offices, storage sheds, fencing, etc. | D26: Sum | E26: 1
A28: 1.6 | C28: Ablution and latrine facilities | D28: Sum | E28: 1
A30: 1.7 | C30: Water supplies, electric power and communications, dealing with water | D30: Sum | E30: 1
A32: 1.8 | C32: Tools and equipment | D32: Sum | E32: 1
A34: 1.9 | C34: Construction plant | D34: Sum | E34: 1
A36: 1.1 | B36: 8.3.3 | C36: Other fixed charge obligations | D36: Sum | E36: 1
A38: 1.11 | B38: 8.3.4 | C38: Remove all site establishment on completion | D38: Sum | E38: 1
C40: General Safety, Safety Plan, Monitoring and Review
A42: 1.12 | B42: PS.22 | C42: The sum shall include all costs necessary in complying with the Occupational Health & Safety Act (1998 as amended) and the Construction Regulation 2014 and the eThekwini Municipality Health & Safety Specifications for initial costs and on-going costs as the works proceed. | D42: Sum | E42: 1
A44: 1.13 | B44: PS.23 | C44: Compliance with Environmental Management Plan | D44: Sum | E44: 1
C45: (Note: Access plan to be developed in conjunction with the ECO and allowed for in rates)
A47: 1.14 | B47: PSA4 | C47: Contractor to create access onto work fronts | D47: Sum | E47: 1
B49: SABS 1200A | C49: TIME RELATED ITEMS
A51: 1.15 | B51: 8.4.1 | C51: Contractual requirements | D51: Weeks | E51: 16
B53: 8.4.2 | C53: Operate and maintain facilities on site:
B55: 8.4.2.1 | C55: Facilities for Engineer for duration of contract (SABS 1200AB)
C59: Section 1 carried forward
C61: Section 1 brought forward
A63: 1.16 | B63: PSAB.2 | C63: Provision of office for the Engineers Representative | D63: Weeks | E63: =$E$51 -> 16
A65: 1.17 | B65: PSAB.5 | C65: Nameboard (2 No.) | D65: Weeks | E65: =$E$51 -> 16
A67: 1.18 | B67: PSAB 2.2(e) | C67: Survey equipment and materials | D67: Weeks | E67: =$E$51 -> 16
B69: 8.3.3.2.2 | C69: Facilities for Contractor for the duration of the contract
A71: 1.19 | C71: Office, storage sheds, fencing, etc. | D71: Weeks | E71: =$E$51 -> 16
A73: 1.2 | C73: Ablution and latrine facilities | D73: Weeks | E73: =$E$51 -> 16
A75: 1.21 | C75: Water supplies, electric power and communications, dealing with water and access | D75: Weeks | E75: =$E$51 -> 16
A77: 1.22 | C77: Tools and equipment | D77: Weeks | E77: =$E$51 -> 16
...

Sheet 2-Site Clearance
A1: Contract No: WS7579
A2: Client: eThekwini Water and Sanitation | G2: Section 2: Sewer Gravity Main
A3: Description: Glenwood Waste Water Treatment Works and Catchment
A4: Project No.: 1208/302
A7: Item No | B7: Payment Refers | C7: Description | D7: Unit | E7: Qty | F7: Rate | G7: Amount
C9: SECTION 2:
B11: SABS 1200DB | C11: Site Clearance
A13: 2.1 | B13: 8.3.1(a) | C13: Clear vegetation, grass and trees of girth up to 1m and remove, stockpile, maintain/ preserve and reinstate topsoil (150mm deep), unsuitable material to be carted away to a legal dump site. | D13: m | E13: 499
C14: (Note: The Contractor is responsible for providing access to all points along the project route and for ongoing maintenance and stormwater controls. No item has been allowed for this and is to be included in the these rates)
A16: 2.2 | B16: SABS 1200C 8.2.2 | C16: Clear trees of girth and designated obstacles over 1,0m up to and including 2,0m and cart away to a legal dumpsite | D16: No. | E16: 2
A18: 2.3 | C18: Excavation
B20: 8.3.2(a) PSDB 1 | C20: Excavate in all materials by machine for trenches, backfill, compact and dispose of surplus material to a legal dump site, for pipes up to 1050mm in diameter for depth:
C22: • Rates to include for tunnelling under fences and trees
C23: • Rates to include shoring where required by regulation
C24: • Rates to include for crossing and adjoining services with due care and attention
C25: • Rates to include supporting/bracing of electrical and telephone poles where required
C26: • Rates to include for dewatering operations
C27: Over Up to and including
A28: 2.3.1 | C28: a) 0,00 2,0m | D28: m | E28: 60
A30: 2.3.2 | C30: b) 2,0 2,5m | D30: m | E30: 10
A32: 2.3.3 | C32: c) 2,5 3,0m | D32: m | E32: 10
A34: 2.4 | B34: 8.3.2(b) | C34: Extra over item 3.3 for excavation in intermediate material | D34: m³ | E34: 440
A36: 2.5 | B36: 8.3.2(b) | C36: Extra over Item 3.3 for excavation in hard rock by means of blasting | D36: m³ | E36: 440
A38: 2.6 | B38: PSA 4 | C38: Extra over Item 3.3 for backfilling with cement stabilised insitu material (4% by mass) | D38: m³ | E38: 122
A40: 2.7 | B40: 8.3.2(c) | C40: Excavate unsuitable material from trench bottom and dispose of it to a legal dump site (Prov.) | D40: m³ | E40: 110
A42: 2.8 | B42: PSDB 14 | C42: Hand excavate and backfill in all material to prove existing services to a maximum depth of 2,0m (Prov) | D42: m³ | E42: 50
C46: Section 2 carried forward
C48: Section 2 brought forward
A50: 2.9 | B50: PSA 4 | C50: Excavate in all materials for chambers/ manholes outside the limits of the trench excavation, backfill, compact and dispose of surplus/unsuitable material to a legal dump site | D50: m³ | E50: 11
A52: 2.1 | B52: PSA 4 | C52: Extra over Item 3.5 above for the transport, handling and placing of rock to enhance soil retention on banks to prevent erosion within a 3km distance | D52: m³ | E52: 550
A54: 2.11 | C54: EXCAVATION ANCILLARIES
B56: SABS 1200LB 8.2.1 | C56: Provision of bedding from trench excavations for a Class C bed:
A57: 2.11.1 | C57: a) Selected granular material | D57: m³ | E57: 32
A59: 2.11.2 | C59: b) Selected fill material | D59: m³ | E59: 8
A61: 2.12 | B61: 8.2.2.3 | C61: Provision from commercial or off-site sources where ordered by the Engineer (Prov.)
A62: 2.12.1 | C62: a) Selected granular material | D62: m³ | E62: 620
A64: 2.12.2 | C64: b) Selected fill material | D64: m³ | E64: 151
A66: 2.12.3 | C66: c) 10mm crushed stone | D66: m³ | E66: 6
A68: 2.12.4 | C68: d) 20mm crushed stone | D68: m³ | E68: 6
A70: 2.12.5 | C70: e) Supply and lay A2 type bidim in trench 0,8m wide | D70: m | E70: 11
...

Sheet 3-Earthworks
A1: Contract No: WS7579
A2: Client: eThekwini Water and Sanitation | G2: Section 3: Earthworks
A3: Description: Glenwood Waste Water Treatment Works and Catchment
A4: Project No.: 1208/302
A7: Item No | B7: Payment | C7: Description | D7: Unit | E7: Qty | F7: Rate | G7: Amount
B8: Refers
C10: SECTION 3: EARTHWORKS
B12: SABS 1200D
A14: 3.1 | B14: 8.3.1.1 | C14: Clear and strip site | D14: m² | E14: 275
A16: 3.2 | B16: 8.3.1.2 | C16: Remove topsoil to nominal depth 150mm, stockpile and maintain | D16: m² | E16: 275
A18: 3.3 | B18: 8.3.2 | C18: Bulk Excavation
A20: 3.3.1 | C20: a) Excavate in all materials and use for embankment or backfill or dispose as ordered to create a working platform for construction access and pipe laying operations | D20: m³ | E20: 550
A22: 3.3.2 | C22: i) Extra over for intermediate excavation | D22: m³ | E22: 275
A24: 3.3.3 | C24: ii) Extra over for hard rock excavation | D24: m³ | E24: 550
A26: 3.4 | B26: PSA 4 | C26: Extra over Item 5.3a) above for transport, handling and placing of rock to enhance soil retention on banks to prevent erosion within a 3km distance | D26: m³ | E26: 550
B28: SANS 1200DM
A29: 3.5 | B29: 8.3.3 a) | C29: Rip and recompact 150mm existing insitu material compacted to minimum 93% MDD | D29: m3 | E29: 35
A31: 3.6 | B31: 8.3.3 | C31: Treatment of road - bed
C33: a) Road-bed preparation and compaction to
A34: 3.7 | C34: (1) minimum of 93% MDD | D34: m³ | E34: 5800
A36: 3.8 | B36: 8.3.4 | C36: Cut Intermediate material (from within the Westown Precinct)
A38: 3.8.1 | C38: a) From Rd Prism to fill Compact to 93% MDD | D38: m³ | E38: 93000
A40: 3.8.2 | C40: b) From Site to fill Compact to 93% MDD | D40: m³ | E40: 152000
A42: 3.9 | B42: 8.3.5 | C42: Construct upper and lower selected subgrade 150mm thick compacted to 95% MDD from:-
A44: 3.9.1 | C44: (i) G7 upper selected subgrade material from commercial sources | D44: m³ | E44: 5700
A46: 3.9.2 | C46: (ii) G9 lower selected subgrade material from commercial sources | D46: m³ | E46: 5800
A48: 3.1 | B48: 8.3.12 | C48: Overhaul | D48: m³.km | E48: 30000
B50: SANS 1200ME | C50: SUBBASE
A52: 3.11 | B52: 8.3.3 | C52: Construct 150mm thick subbase layer using G5 material from commercial sources compacted to 95% MDD | D52: m3 | E52: 35
C55: Section 3 carried forward
C57: Section 3 brought forward
B59: SANS 1200MF | C59: BASE
A61: 3.12 | B61: 8.3.3 | C61: Construct 100mm thick base layer using G2 material from commercial sources compacted to 102% MDD | D61: m3 | E61: 23
A62: 3.12.1 | C62: i) from Commercial sources | D62: m3 | E62: 11000
B64: 8.3.5 | C64: Process subbase material by the following processes, as relevant, and use in the subbase
A65: 3.13 | C65: a) Stabilization | D65: m3 | E65: 11000
B67: 8.3.8 | C67: Stabilization agent
A68: 3.14 | C68: a) Portland cement | D68: t | E68: 460
B70: 8.3.3 | C70: Construct 150mm thick layer subbase with G5 material from commercial sources compacted to 97% MDD
A71: 3.15 | C71: i) from Commercial sources | D71: m3 | E71: 3000
...

Sheet 4-StormWater
A1: Contract No: WS7579
A2: Client: eThekwini Water and Sanitation | G2: Section 4: Stormwater
A3: Description: Glenwood Waste Water Treatment Works and Catchment
A4: Project No.: 1208/302
A7: Item No | B7: Payment | C7: Description | D7: Unit | E7: Qty | F7: Rate | G7: Amount
B8: Refers
C10: SECTION 4: STORMWATER DRAINAGE
B12: SANS 1200DB | C12: EARTHWORKS (Pipe Tenches)
A14: 4.1 | B14: 8.3.2 | C14: Excavate in intermediate material for trenches, shore where required, backfill, compact and dispose of surplus and unsuitable maetrial within the freehaul distance for portal culverts span 750mm, height 600mm, 1.5m deep | D14: m | E14: 7.5
B16: SANS 1200LE | C16: STORMWATER DRAINAGE PIPES AND STRUCTURES
A18: 4.2 | B18: 8.2.2 a) | C18: Supply and lay precast portal and rectangular culvert span 750mm, height 600mm, class 175S complete with precast base slab | D18: m | E18: 7.5
A20: 4.3 | B20: 8.2.4 b) | C20: Extra over Item 8.2.2 for skew Cutting end units for culverts on site | D20: No. | E20: 2
A22: 4.4 | C22: HEADWALLS
B24: 8.2.7 | C24: Construct Type A headwall complete to include all reinforcing and concrete as per ETH Dwg No.38576
C26: a) Outlet
A27: 4.4.1 | C27: i) 525mm diameter pipe (existing culvert 2) | D27: No | E27: 1
A29: 4.4.2 | C29: ii) Span 750mm, Height 600mm portal culvert | D29: No | E29: 1
C31: b) Inlet
A32: 4.4.3 | C32: i) 525mm diameter pipe (existing culvert 2) | D32: No | E32: 1
A34: 4.4.4 | C34: ii) Span 750mm, Height 600mm portal culvert | D34: No | E34: 1
A36: 4.5 | C36: MANHOLES,CATCHPITS, AND FIELD INLETS
A38: 4.5.1 | B38: 8.2.8 a) | C38: Construct brick stormwater manhole Type "B" as per ETH Dwg No.38571, 3m to 5m deep. | D38: No | E38: 1
A40: 4.5.2 | B40: 8.2.10 a) | C40: i) Supply and install double spay stormwater inlet Type "D3" on top of manhole Type B as per ETH Dwg No.38572 | D40: No | E40: 1
A42: 4.5.3 | C42: ii) supply and install manhole cover and frame to damaged 1.2m x 1.2m existing manhole cover | D42: No | E42: 1
B44: SANS 1200ME | C44: SUBBASE
A46: 4.6 | B46: 8.3.3 | C46: Construct 100mm thick subbase layer using G5 material to base of manholes and headwalls from commercial sources compacted to 95% MDD | D46: m3 | E46: 4.5
C54: Section 4 carried forward
C56: Section 4 brought forward
B58: SANS 1200MK | C58: CONCRETE LINED DRAIN
A60: 4.7 | B60: 8.2.8 | C60: Cast insitu concrete (class 25/19) 3m wide Trapezoidal drain. See drawing 1208-302-RLA-0001 | D60: m3 | E60: 1.1
A62: 4.8 | B62: 8.2.9 b) | C62: Formwork to cast insitu concrete lined open drains (wooden float) to sides and end slabs (measured on internal face) | D62: m2 | E62: 3.5
A64: 4.9 | B64: 8.2.10 | C64: Sealed joints in concrete lined drains | D64: m | E64: 35
A66: 4.1 | B66: 8.2.12 | C66: Steel Mesh Fabric REF No.395 | D66: m2 | E66: 10.5
C68: SUBSOIL DRAIN
B70: SANS 1200DB | C70: EARTHWORKS (Pipe Tenches)
A72: 4.11 | B72: 8.3.2 | C72: Excavate in depths not exceeding 1m in intermediate material for subsoil trenches, and spoil within freehaul distance | D72: m | E72: 45
C74: FIN DRAIN
A76: 4.12 | C76: Supply and lay complete Fin drain including perforated pipe,membrane and selected granular material as per detail on dwg 1208-302-RLA-0001 | D76: m | E76: 45
A78: 4.13 | C78: Connect Fin drain into existing manhole | D78: No | E78: 1
A80: 4.14 | C80: Provision of river sand from commercial sources | D80: m3 | E80: 4
...

Sheet 5-Gabions and Pitching
A1: Contract No: WS7579
A2: Client: eThekwini Water and Sanitation | G2: Section 5: Gabions and Pitching
A3: Description: Glenwood Waste Water Treatment Works and Catchment
A4: Project No.: 1208/302
A6: Item No | B6: Payment Refers | C6: Description | D6: Unit | E6: Qty | F6: Rate | G6: Amount
C8: SECTION 5: Gabions and Pitching
A10: 5 | B10: SABS 1200 DK | C10: Gabions and Pitching
A12: 5.1 | B12: 8.2.1 (a) | C12: Surface preparation - cavities filled with excavation material (Prov.) | D12: m³ | E12: 70
C14: Supply and lay the following:
B16: SANS 1200MF | C16: GABIONS BASE
A17: 5.2
B18: 8.3.3 b) | C18: Construct base of gabions with 100mm thick G2 material from commercial sources compacted to minimum 98% MDD | D18: m3 | E18: 350
A20: 5.3 | B20: 8.2.2 | C20: Gabions: (Prov)
A22: 5.3.1 | C22: a) 2 x 1 x 1 m boxes | D22: m3 | E22: 250
A24: 5.3.2 | C24: b) 3 x 1 x 0.3m mattress | D24: m3 | E24: 60
A26: 5.4 | B26: 8.2.4 | C26: Geotextile where ordered by the Engineer ("Kaytech Bidim" Grade A4 or similar approved) (Prov) | D26: m2 | E26: 450
A28: 5.5 | B28: 8.2.5 | C28: Supply and construct ordinary stone pitching including preparation and compaction of foundation, placing of 150mm nominal size stones in a 300mm thick grouting layer (Prov) | D28: m2 | E28: 550
A30: 5.6 | B30: PSDB 5.1.2.3 | C30: Erosion Protection Measures
A31: 5.6.1 | C31: a) Supply and lay sandbags for steep slope erosion protection. Sandbags to be made from hessian cloth and to be filled with soil from surplus excavation material | D31: No. | E31: 22
B33: PSZB18 | C33: Compliance with Employer's Environmental Management Particular Specification
A35: 5.7 | C35: Supply, installation and removal on completion wooden stake, 1,0m high, demarcating the boundary of the working servitude during construction (pegs to be positioned at ±25m intervals along both sides of the working servitude) | D35: m | E35: 1100
A37: 5.8 | C37: Grassing of temporary topsoil stockpiles
A39: 5.8.1 | C39: a) Supply of materials and planting as specified | D39: m2 | E39: 5500
A41: 5.8.2 | C41: b) Maintenance by watering, weeding and fertilising | D41: m2 | E41: 5500
B43: PSZC8 | C43: Compliance with employer's environmental management particular specification
A45: 5.9 | C45: Final Grading
A47: 5.9.1 | C47: a) Ripping of compacted and disturbed areas to 150mm depth | D47: m2 | E47: 16500
C50: Section 5 carried forward
C52: Section 5 brought forward
A54: 5.1 | C54: Topsoiling
A56: 5.10.1 | C56: a) Replacing of topsoil to a depth of 200mm | D56: m2 | E56: 16500
A58: 5.10.2 | C58: b) Scarification of replaced topsoil to a depth of 50mm and final hand trimming using spades and rakes | D58: m2 | E58: 16500
A60: 5.10.3 | C60: c) Soil testing at an approved facility | D60: Prov Sum | E60: 1
A62: 5.10.4 | C62: d) Soil improvements prior to vegetation re-establishment (supply, place and mix into soil)
A63: 5.15.1.1 | C63: (i) Compost | D63: Ton | E63: 3
A64: 5.15.1.2 | C64: (ii) PH Rectifiers | D64: Ton | E64: 0.5
A65: 5.15.1.3 | C65: (iii) Fertiliser (2;3;2) | D65: Ton | E65: 1
A67: 5.16 | C67: Vegetation re-establishment
A69: 5.16.1 | C69: a) Hand-broadcasting with appropriate grass seed mix. (Deemed to be inclusive of soil preparation and improvements, materials and labour as specified in PSZC 5.) | D69: m2 | E69: 8250
A71: 5.16.2 | C71: b) Hydroseeding with appropriate grass seed mix. (Deemed to be inclusive of soil preparation and improvements, materials and labour as specified in PSZC 5.) | D71: m2 | E71: 8250
...

Sheet Summary
A1: Contract No | B1: : WS7579
A2: Client | B2: : eThekwini Water and Sanitation
A3: Description | B3: : Glenwood Waste Water Treatment Works and Catchment
A4: Project No. | B4: : 1208/302 | C4: Summary
A6: SUMMARY
A7: Section | B7: Description | C7: Amount
A10: 1 | B10: Preliminary and General | C10: ='1-P&G'!G114 -> 0
A12: 2 | B12: Site Clearance | C12: ='2-Site Clearance'!G101 -> 0
A14: 3 | B14: EarthWorks | C14: ='3-Earthworks'!G97 -> 0
A16: 4 | B16: Stormwater | C16: ='4-StormWater'!G104 -> 0
A18: 5 | B18: Gabions and Pitching | C18: ='5-Gabions and Pitching'!G153 -> 0
B22: SUB TOTAL | C22: =SUM(C10:C21) -> 0
B24: CONTINGENCIES AT 10% | C24: =C22*B25 -> 0
B25: 0.1
B27: SUB TOTAL | C27: =C22+C24 -> 0
B30: TOTAL EXCLUDING VAT | C30: =C27+C28 -> 0
B31: 0.15
B32: VAT @ 15% | C32: =$C$30*B31 -> 0
B34: TOTAL INCL. VAT | C34: =C30+C32 -> 0
