Workbook

Sheet Schedule 1.1
A1: Rate=I | B1: C1.2 GENERAL REQUIREMENTS AND PROVISIONS
A2: <NewDataSet>· <xs:schema id="NewDataSet" xmlns="" xmlns:xs="http://www.w3.org/2001/XMLSchema" xmlns:msdata="urn:schemas-microsoft-com:xml-msdata">· <xs:element name="NewDataSet" msdata:IsDataSet="true" msdata:MainDataTable="SummaryItems" msdata:UseCurrentLocale="true">· <xs:complexType>· <xs:choice minOccurs="0" maxOccurs="unbounded">· <xs:element name="SummaryItems">· <xs:complexType>· <xs:sequence>· <xs:element name="ContractNo" type="xs:short" minOccurs="0" />· <xs:element name="ScheduleNo" type="xs:short" minOccurs="0" />· <xs:element name="SortNo" type="xs:short" minOccurs="0" />· <xs:element name="Item" type="xs:string" minOccurs="0" />· <xs:element name="SubTotalText" type="xs:string" minOccurs="0" />· <xs:element name="Description" type="xs:string" minOccurs="0" />· <xs:element name="CalcType" type="xs:string" minOccurs="0" />· <xs:element name="CalcValue" type="xs:double" minOccurs="0" />· <xs:element name="UseFirstSubTotal" type="xs:boolean" minOccurs="0" />· <xs:element name="ExclFromWorks" type="xs:boolean" minOccurs="0" />· <xs:element name="ExclFromProjected" type="xs:boolean" minOccurs="0" />· </xs:sequence>· </xs:complexType>· </xs:element>· </xs:choice>· </xs:complexType>· </xs:element>· </xs:schema>· <SummaryItems>· <ContractNo>1</ContractNo>· <ScheduleNo>1</ScheduleNo>· <SortNo>1</SortNo>· <Description>Add 15% VAT</Description>· <CalcType>%</CalcType>· <CalcValue>15</CalcValue>· <UseFirstSubTotal>false</UseFirstSubTotal>· <ExclFromWorks>false</ExclFromWorks>· <ExclFromProjected>false</ExclFromProjected>· </SummaryItems>· <SummaryItems>· <ContractNo>1</ContractNo>· <ScheduleNo>2</ScheduleNo>· <SortNo>1</SortNo>· <Description>Add 15% VAT</Description>· <CalcType>%</CalcType>· <CalcValue>15</CalcValue>· <UseFirstSubTotal>false</UseFirstSubTotal>· <ExclFromWorks>false</ExclFromWorks>· <ExclFromProjected>false</ExclFromProjected>· </SummaryItems>· <SummaryItems>· <ContractNo>1</ContractNo>· <ScheduleNo>3</ScheduleNo>· <SortNo>1</SortNo>· <Description>Add 15% VAT</Description>· <CalcType>%</CalcType>· <CalcValue>15</CalcValue>· <UseFirstSubTotal>false</UseFirstSubTotal>· <ExclFromWorks>false</ExclFromWorks>· <ExclFromProjected>false</ExclFromProjected>· </SummaryItems>· <SummaryItems>· <ContractNo>1</ContractNo>· <ScheduleNo>4</ScheduleNo>· <SortNo>1</SortNo>· <Description>Add 15% VAT</Description>· <CalcType>%</CalcType>· <CalcValue>15</CalcValue>· <UseFirstSubTotal>false</UseFirstSubTotal>· <ExclFromWorks>false</ExclFromWorks>· <ExclFromProjected>false</ExclFromProjected>· </SummaryItems>·</NewDataSet> | C2: Item | F2: Description | G2: Unit | H2: Quantity | I2: Rate | J2: Amount (Pounds)
A4: 159 | B4: C1.2 | F4: GENERAL REQUIREMENTS AND PROVISIONS
A6: 2811 | B6: C1.2.1 | F6: Environmental Management:
A8: 2812 | C8: C1.2.1.1 | F8: Monitoring of compliance with and reporting on the EMP | G8: Month | H8: 21 | I8: 0 | J8: =IF(G8 = CHAR(37), H8*I8/100,H8*I8) -> 0
A10: 2813 | C10: C1.2.1.2 | F10: Dedicated Environmental Oficer | G10: Month | H10: 21 | I10: 0 | J10: =IF(G10 = CHAR(37), H10*I10/100,H10*I10) -> 0
A12: 2814 | B12: C1.2.2 | F12: Programming and Reporting:
A14: 2817 | C14: C1.2.2.3 | F14: Submission of a Scheme 2 Initial Programme | G14: lump sum | H14: 1 | I14: 0 | J14: =IF(G14 = CHAR(37), H14*I14/100,H14*I14) -> 0
A16: 2818 | C16: C1.2.2.4 | F16: Submission of a Scheme 2 Full Programme | G16: lump sum | H16: 1 | I16: 0 | J16: =IF(G16 = CHAR(37), H16*I16/100,H16*I16) -> 0
A18: 2819 | C18: C1.2.2.5 | F18: Reviewing and updating a Scheme 2 programme every month | G18: Month | H18: 21 | I18: 0 | J18: =IF(G18 = CHAR(37), H18*I18/100,H18*I18) -> 0
A20: 2820 | C20: C1.2.2.6 | F20: Preparation and submission of all information and reports specified in the Contract Documentation | G20: Month | H20: 21 | I20: 0 | J20: =IF(G20 = CHAR(37), H20*I20/100,H20*I20) -> 0
A22: 2821 | B22: C1.2.3 | F22: Routine road maintenance of existing public roads within the Site of the Works or other public roads outside the Site of the Works which are used as detours:
A24: 2822 | C24: C1.2.3.1 | F24: Grass cutting | G24: ha_x000D_ | H24: 38 | I24: 0 | J24: =IF(G24 = CHAR(37), H24*I24/100,H24*I24) -> 0
A26: 2823 | C26: C1.2.3.2 | F26: Drain cleaning | G26: km | H26: 9 | I26: 0 | J26: =IF(G26 = CHAR(37), H26*I26/100,H26*I26) -> 0
A28: 2824 | C28: C1.2.3.3 | F28: Cleaning out culverts | G28: m³ | H28: 120 | I28: 0 | J28: =IF(G28 = CHAR(37), H28*I28/100,H28*I28) -> 0
A30: 2825 | C30: C1.2.3.4 | F30: Collection of rubbish / litter | G30: km | H30: 14 | I30: 0 | J30: =IF(G30 = CHAR(37), H30*I30/100,H30*I30) -> 0
A32: 8098 | C32: C1.2.3.5 | F32: Base patching using crushed stone material stabilised with bitumen emulsion and cement | G32: m³ | H32: 2000 | I32: 0 | J32: =IF(G32 = CHAR(37), H32*I32/100,H32*I32) -> 0
A34: 8099 | C34: C1.2.3.6 | F34: Base and / or surface patching using cold premixed asphalt | G34: kg | H34: 2500 | I34: 0 | J34: =IF(G34 = CHAR(37), H34*I34/100,H34*I34) -> 0
A36: 8100 | C36: C1.2.3.7 | F36: Base and / or surface patching using hot plant mixed asphalt | G36: t | H36: 50 | I36: 0 | J36: =IF(G36 = CHAR(37), H36*I36/100,H36*I36) -> 0
A38: 8101 | C38: C1.2.3.11 | F38: Other road maintenance work ordered by the Engineer | G38: Prov. Sum | H38: 1 | I38: 500000 | J38: 500000
A40: 2833 | C40: C1.2.3.12 | F40: Handling cost, profit and all other charges in respect of item C1.2.3.11 | G40: % | H40: =J38 -> 500000 | I40: 0 | J40: =IF(G40 = CHAR(37), H40*I40/100,H40*I40) -> 0
A42: 2834 | C42: C1.2.3.13 | F42: Liaison with the routine road maintenance contractor | G42: Month | H42: 3 | I42: 0 | J42: =IF(G42 = CHAR(37), H42*I42/100,H42*I42) -> 0
A44: 5167 | B44: C1.2.4 | F44: Stakeholder liaison | G44: Month | H44: 24 | I44: 0 | J44: =IF(G44 = CHAR(37), H44*I44/100,H44*I44) -> 0
A46: 2835 | B46: C1.2.5 | F46: Safety:
A48: 2836 | C48: C1.2.5.1 | F48: Health and safety plan | G48: lump sum | H48: 1 | I48: 0 | J48: =IF(G48 = CHAR(37), H48*I48/100,H48*I48) -> 0
B50: Total Carried Forward | J50: =SUM(J3:J49) -> 500000
J51: C3-7
B52: C1.2 GENERAL REQUIREMENTS AND PROVISIONS
C53: Item | F53: Description | G53: Unit | H53: Quantity | I53: Rate | J53: Amount (Pounds)
B54: Brought Forward | J54: =J50 -> 500000
A55: 2837 | C55: C1.2.5.2 | F55: Implementation of health and safety plan | G55: Month | H55: 21 | I55: 0 | J55: =IF(G55 = CHAR(37), H55*I55/100,H55*I55) -> 0
A57: 10523 | B57: C1.2.6 | F57: Work adjacent to properties:
A59: 10524 | C59: C1.2.6.1 | F59: Survey of adjacent properties | G59: No. | H59: 6 | I59: 0 | J59: =IF(G59 = CHAR(37), H59*I59/100,H59*I59) -> 0
A61: 10525 | C61: C1.2.6.2 | F61: Preventive and / or mitigation measures | G61: Prov. Sum | H61: 1 | I61: 1000000 | J61: 1000000
A63: 10526 | C63: C1.2.6.3 | F63: Handling cost, profit and all other charges in respect of item C1.2.6.2 | G63: % | H63: =J61 -> 1000000 | I63: 0 | J63: =IF(G63 = CHAR(37), H63*I63/100,H63*I63) -> 0
A65: 2838 | B65: PC1.2.7 | F65: Road safety audits
A67: 6677 | C67: C1.2.7.1 | F67: Stage 4 work zone traffic management audit | G67: Prov. Sum | H67: 1 | I67: 180000 | J67: 180000
A69: 6678 | C69: C1.2.7.2 | F69: Handling cost, profit and all other charges in respect of item C1.2.6.1 | G69: % | H69: =J67 -> 180000 | I69: 0 | J69: =IF(G69 = CHAR(37), H69*I69/100,H69*I69) -> 0
A71: 6679 | C71: C1.2.7.3 | F71: Stage 5 pre-opening stage traffic safety audit | G71: Prov. Sum | H71: 1 | I71: 120000 | J71: 120000
A73: 6680 | C73: C1.2.7.4 | F73: Handling cost, profit and all other charges in respect of item C1.2.6.3 | G73: % | H73: =J71 -> 120000 | I73: 0 | J73: =IF(G73 = CHAR(37), H73*I73/100,H73*I73) -> 0
...

Sheet Schedule 1.2
A1: Rate=I | B1: BRIDGE B621 NYL RIVER BRIDGE (km 82.1)
B2: C1.6 CLEARING AND GRUBBING
C3: Item | F3: Description | G3: Unit | H3: Quantity | I3: Rate | J3: Amount R
A5: 9951 | B5: C1.6 | F5: CLEARING AND GRUBBING
A7: 9952 | B7: C1.6.1 | F7: Clearing:
A9: 9953 | C9: C1.6.1.1 | F9: Clearing with machines and some hand labour where necessary | G9: ha | H9: 2 | I9: 0 | J9: =IF(G9 = CHAR(37), H9*I9/100,H9*I9) -> 0
A11: 9954 | C11: C1.6.1.2 | F11: Clearing with hand labour only when labour enhanced work is specified | G11: m² | I11: 0 | J11: Rate Only
A13: 9955 | B13: C1.6.2 | F13: Grubbing:
A15: 9956 | C15: C1.6.2.1 | F15: Grubbing with machines and some hand labour where necessary | G15: ha | H15: 2 | I15: 0 | J15: =IF(G15 = CHAR(37), H15*I15/100,H15*I15) -> 0
A17: 9957 | C17: C1.6.2.2 | F17: Grubbing with hand labour when labour enhancement work is specified or it is not practical to use a machine | G17: m² | H17: 0 | I17: 0 | J17: Rate Only
A19: 9958 | B19: C1.6.3 | F19: Removal and grubbing of large trees and tree stumps:
A21: 9959 | C21: C1.6.3.1 | F21: Girth equal to or exceeding 1,0 m up to and including 2,0 m | G21: No | H21: 5 | I21: 0 | J21: =IF(G21 = CHAR(37), H21*I21/100,H21*I21) -> 0
A23: 9960 | C23: C1.6.3.2 | F23: Girth exceeding 2,0 m up to and including 3,0 m | G23: No | H23: 1 | I23: 0 | J23: =IF(G23 = CHAR(37), H23*I23/100,H23*I23) -> 0
B59: Total Carried Forward To Summary | J59: =SUM(J4:J58) -> 0
J60: C3-64
B61: BRIDGE B621 NYL RIVER BRIDGE (km 82.1)
B62: C1.7 LOADING AND HAULING
C63: Item | F63: Description | G63: Unit | H63: Quantity | I63: Rate | J63: Amount R
A65: 9961 | B65: C1.7 | F65: LOADING AND HAULING
A67: 9962 | B67: C1.7.1 | F67: Loading:
A69: 9963 | C69: C1.7.1.1 | F69: Loading from stockpile using machines and some hand labour where necessary | G69: m³ | H69: 1500 | I69: 0 | J69: =IF(G69 = CHAR(37), H69*I69/100,H69*I69) -> 0
A71: 9964 | B71: C1.7.2 | F71: Hauling:
A73: 9965 | C73: C1.7.2.2 | F73: Hauling material to spoil and off-loading it at a designated spoil area:
A75: 9966 | D75: (a) | F75: Cleared and grubbed material (organic matter and all other unsuitable or waste material) | G75: m³-km | H75: 500 | I75: 0 | J75: =IF(G75 = CHAR(37), H75*I75/100,H75*I75) -> 0
A77: 9967 | D77: (b) | F77: Soil and gravel material | G77: m³-km | H77: 500 | I77: 0 | J77: =IF(G77 = CHAR(37), H77*I77/100,H77*I77) -> 0
A79: 9968 | D79: (c) | F79: Boulders and hard material | G79: m³-km | H79: 500 | I79: 0 | J79: =IF(G79 = CHAR(37), H79*I79/100,H79*I79) -> 0
B123: Total Carried Forward To Summary | J123: =SUM(J64:J122) -> 0
J124: C3-65
B125: BRIDGE B621 NYL RIVER BRIDGE (km 82.1)
B126: C11.2 NON-STRUCTURAL GABIONS
C127: Item | F127: Description | G127: Unit | H127: Quantity | I127: Rate | J127: Amount R
A129: 9939 | B129: C11.2 | F129: NON-STRUCTURAL GABIONS
A131: 9940 | B131: C11.2.1 | F131: Foundation trench excavation:
A133: 9941 | C133: C11.2.1.1 | F133: Excavating all material situated within the following depth ranges below the surface level:
A135: 9942 | D135: (a) | F135: 0 m to 1,5 m | G135: m³ | H135: 375 | I135: 0 | J135: =IF(G135 = CHAR(37), H135*I135/100,H135*I135) -> 0
A137: 9943 | D137: (b) | F137: Exceeding 1,5 m and up to 3,0 m | G137: m³ | H137: 250 | I137: 0 | J137: =IF(G137 = CHAR(37), H137*I137/100,H137*I137) -> 0
A139: 9944 | C139: C11.2.1.2 | F139: Extra over sub-item C11.2.1.1 for excavation in hard material, irrespective of depth | G139: m³ | H139: 50 | I139: 0 | J139: =IF(G139 = CHAR(37), H139*I139/100,H139*I139) -> 0
A141: 9945 | C141: C11.2.1.3 | F141: Excavating soft material within 1,5 m below the surface level using labour enhanced construction methods: | G141: m³ | H141: 50 | I141: 0 | J141: =IF(G141 = CHAR(37), H141*I141/100,H141*I141) -> 0
A143: 9946 | C143: C11.2.1.4 | F143: Excavating intermediate material within 1,5 m below the surface level using labour enhanced construction methods: | G143: m³ | H143: 50 | I143: 0 | J143: =IF(G143 = CHAR(37), H143*I143/100,H143*I143) -> 0
A145: 9947 | B145: C11.2.2 | F145: Surface preparation for bedding the gabion boxes and mattresses | G145: m² | H145: 1000 | I145: 0 | J145: =IF(G145 = CHAR(37), H145*I145/100,H145*I145) -> 0
...

Sheet Schedule 1.3
A1: Rate=I | B1: SCHEDULE B2 - BRIDGE B3837 ROAD OVER RAIL (km 86.6)
B2: C3.3 CONCRETE KERBING AND CHANNELING, ASPHALT BERMS, CHUTES, DOWNPIPES, CONCRETE, STONE PITCHED AND GABION LININGS FOR OPEN DRAINS
C3: Item | F3: Description | G3: Unit | H3: Quantity | I3: Rate | J3: Amount R
A5: 9980 | B5: C3.3 | F5: CONCRETE KERBING AND CHANNELING, ASPHALT BERMS, CHUTES, DOWNPIPES, CONCRETE, STONE PITCHED AND GABION LININGS FOR OPEN DRAINS
A7: 9988 | B7: C3.3.1 | F7: Concrete kerbing:
A9: 9989 | B9: C3.3.2 | C9: C3.3.1.2 | F9: Cast-in-situ kerbing:
A11: 10039 | D11: (a) | F11: Modified Figure 3 Kerb, C25/30-20-XC0, Class F2 finish, as per drawing 20568-S-202 | G11: m | H11: 60 | I11: 0 | J11: =IF(G11 = CHAR(37), H11*I11/100,H11*I11) -> 0
A13: 9990 | B13: C3.3.15 | F13: Energy dissipaters in outlet structures:
A15: 9991 | C15: C3.3.15.1 | F15: Precast concrete blocks in outlet structures | G15: No. | H15: 24 | I15: 0 | J15: =IF(G15 = CHAR(37), H15*I15/100,H15*I15) -> 0
A17: 10021 | B17: C3.3.16 | F17: Demolition and removal of existing kerbs and / or channel (Figure 3 kerb) | G17: m³ | H17: 4 | I17: 0 | J17: =IF(G17 = CHAR(37), H17*I17/100,H17*I17) -> 0
B56: Total Carried Forward To Summary | J56: =SUM(J4:J55) -> 0
J57: C3-82
B58: SCHEDULE B2 - BRIDGE B3837 ROAD OVER RAIL (km 86.6)
B59: C4.3 EXISTING ROAD MATERIALS
C60: Item | F60: Description | G60: Unit | H60: Quantity | I60: Rate | J60: Amount R
A62: 10081 | B62: C4.3 | F62: EXISTING ROAD MATERIALS
A64: 10082 | B64: C4.3.12 | F64: Removing of existing concrete material within the following average depth ranges:
A66: 10083 | C66: C4.3.12.1 | F66: The break-up method:
A68: 10084 | D68: (b) | F68: Exceeding 150 mm but not exceeding 250 mm (removal of existing sidewalks) | G68: m³ | H68: 20 | I68: 0 | J68: =IF(G68 = CHAR(37), H68*I68/100,H68*I68) -> 0
B121: Total Carried Forward To Summary | J121: =SUM(J61:J120) -> 0
J122: C3-83
B123: SCHEDULE B2 - BRIDGE B3837 ROAD OVER RAIL (km 86.6)
B124: C11.1 PITCHING, STONEWORK, CAST IN SITU CONCRETE FOR PROTECTION AGAINST EROSION
C125: Item | F125: Description | G125: Unit | H125: Quantity | I125: Rate | J125: Amount R
A127: 9981 | B127: C11.1 | F127: PITCHING, STONEWORK, CAST IN SITU CONCRETE FOR PROTECTION AGAINST EROSION
A129: 9992 | B129: C11.1.2 | F129: Stone pitching:
A131: 10051 | C131: C11.1.2.1 | F131: Plain stone pitching:
A133: 9993 | C133: C11.1.2.2 | F133: Grouted stone pitching with mortar | G133: m² | H133: 215 | I133: 0 | J133: =IF(G133 = CHAR(37), H133*I133/100,H133*I133) -> 0
A135: 10085 | B135: C11.1.6 | F135: Concrete edge beam type A (D25/30-20-XC4) as per drawing 20568-S-202 | G135: m³ | H135: 10 | I135: 0 | J135: =IF(G135 = CHAR(37), H135*I135/100,H135*I135) -> 0
A137: 9994 | B137: C11.1.7 | F137: Provision of approved herbicide and ant poison:
A139: 9995 | C139: C11.1.7.1 | F139: Provision of materials | G139: PC Sum | H139: 1 | I139: 20000 | J139: 20000
A141: 9996 | C141: C11.1.7.2 | F141: Contractor’s charges and profit added to the prime cost sum | G141: % | H141: =J139 -> 20000 | I141: 0 | J141: =IF(G141 = CHAR(37), H141*I141/100,H141*I141) -> 0
B183: Total Carried Forward To Summary | J183: =SUM(J126:J182) -> 20000
J184: C3-84
B185: SCHEDULE B2 - BRIDGE B3837 ROAD OVER RAIL (km 86.6)
B186: C11.2 NON-STRUCTURAL GABIONS
C187: Item | F187: Description | G187: Unit | H187: Quantity | I187: Rate | J187: Amount R
A189: 10098 | B189: C11.2 | F189: NON-STRUCTURAL GABIONS
A191: 10099 | B191: C11.2.1 | F191: Foundation trench excavation:
A193: 10100 | C193: C11.2.1.1 | F193: Excavating all material situated within the following depth ranges below the surface level:
...

Sheet Schedule 1.4
A1: Rate=I | B1: SCHEDULE B3 - MAJOR CULVERT C0843 (km 87.5)
B2: C1.6 CLEARING AND GRUBBING
C3: Item | F3: Description | G3: Unit | H3: Quantity | I3: Rate | J3: Amount R
A5: 10190 | B5: 3 | F5: CLEARING AND GRUBBING
A7: 10191 | B7: C1.6.1 | F7: Clearing:
A9: 10192 | C9: C1.6.1.1 | F9: Clearing with machines and some hand labour where necessary | G9: ha | H9: 4 | I9: 0 | J9: =IF(G9 = CHAR(37), H9*I9/100,H9*I9) -> 0
A11: 10193 | C11: C1.6.1.2 | F11: Clearing with hand labour only when labour enhanced work is specified | G11: m² | H11: 200 | I11: 0 | J11: =IF(G11 = CHAR(37), H11*I11/100,H11*I11) -> 0
A13: 10194 | B13: C1.6.2 | F13: Grubbing:
A15: 10195 | C15: C1.6.2.1 | F15: Grubbing with machines and some hand labour where necessary | G15: ha | H15: 4 | I15: 0 | J15: =IF(G15 = CHAR(37), H15*I15/100,H15*I15) -> 0
A17: 10196 | C17: C1.6.2.2 | F17: Grubbing with hand labour when labour enhancement work is specified or it is not practical to use a machine | G17: m² | H17: 200 | I17: 0 | J17: =IF(G17 = CHAR(37), H17*I17/100,H17*I17) -> 0
A19: 10197 | B19: C1.6.3 | F19: Removal and grubbing of large trees and tree stumps:
A21: 10198 | C21: C1.6.3.1 | F21: Girth equal to or exceeding 1,0 m up to and including 2,0 m | G21: No | H21: 30 | I21: 0 | J21: =IF(G21 = CHAR(37), H21*I21/100,H21*I21) -> 0
A23: 10199 | C23: C1.6.3.2 | F23: Girth exceeding 2,0 m up to and including 3,0 m | G23: No | H23: 5 | I23: 0 | J23: =IF(G23 = CHAR(37), H23*I23/100,H23*I23) -> 0
B59: Total Carried Forward To Summary | J59: =SUM(J4:J58) -> 0
J60: C3-96
B61: SCHEDULE B3 - MAJOR CULVERT C0843 (km 87.5)
B62: C1.7 LOADING AND HAULING
C63: Item | F63: Description | G63: Unit | H63: Quantity | I63: Rate | J63: Amount R
A65: 10200 | B65: C1.7 | F65: LOADING AND HAULING
A67: 10201 | B67: C1.7.1 | F67: Loading:
A69: 10202 | C69: C1.7.1.1 | F69: Loading from stockpile using machines and some hand labour where necessary | G69: m³ | H69: 0 | I69: 0 | J69: =IF(G69 = CHAR(37), H69*I69/100,H69*I69) -> 0
A71: 10203 | B71: C1.7.2 | F71: Hauling:
A73: 10204 | C73: C1.7.2.2 | F73: Hauling material to spoil and off-loading it at a designated spoil area:
A75: 10205 | D75: (b) | F75: Soil and gravel material | G75: m³-km | H75: 300000 | I75: 0 | J75: =IF(G75 = CHAR(37), H75*I75/100,H75*I75) -> 0
A77: 10206 | D77: (c) | F77: Boulders and hard material | G77: m³-km | H77: 600 | I77: 0 | J77: =IF(G77 = CHAR(37), H77*I77/100,H77*I77) -> 0
B125: Total Carried Forward To Summary | J125: =SUM(J64:J124) -> 0
J126: C3-97
B127: SCHEDULE B3 - MAJOR CULVERT C0843 (km 87.5)
B128: C3.2 CULVERTS
C129: Item | F129: Description | G129: Unit | H129: Quantity | I129: Rate | J129: Amount R
A131: 10168 | B131: C3.2 | F131: CULVERTS
A133: 10184 | B133: C3.2.1 | F133: Excavation for culvert structures:
A135: 10185 | C135: C3.2.1.1 | F135: Excavating in all material situated within the following depth ranges below the surface level:
A137: 10186 | D137: (a) | F137: 0 m to 1,5 m | G137: m³ | H137: 50 | I137: 0 | J137: =IF(G137 = CHAR(37), H137*I137/100,H137*I137) -> 0
A139: 10187 | C139: C3.2.1.4 | F139: Extra over sub-item C3.2.1.1 for excavation in hard or boulder material, irrespective of depth | G139: m³ | H139: 5 | I139: 0 | J139: =IF(G139 = CHAR(37), H139*I139/100,H139*I139) -> 0
A141: 10169 | B141: C3.2.2 | F141: Backfilling:
A143: 10170 | C143: C3.2.2.1 | F143: Using the excavated material | G143: m³ | H143: 28 | I143: 0 | J143: =IF(G143 = CHAR(37), H143*I143/100,H143*I143) -> 0
A145: 10171 | C145: C3.2.2.2 | F145: Using imported selected material:
A147: 10172 | D147: (a) | F147: From commercial sources (granular material) | G147: m³ | H147: 5 | I147: 0 | J147: =IF(G147 = CHAR(37), H147*I147/100,H147*I147) -> 0
A149: 10173 | C149: C3.2.2.4 | F149: Extra over sub-items C3.2.2.1 and C3.2.2.2 for screed layers (75mm thick, Class C16/20-20-X0) | G149: m³ | H149: 2 | I149: 0 | J149: =IF(G149 = CHAR(37), H149*I149/100,H149*I149) -> 0
...

Sheet Schedule 1.5
A1: Rate=F | B1: Schedule D: Stakeholder and Community Liaison, and Targeted Labour and Targeted
B2: Enterprises Utilisation and Development
B3: SCHEDULE D:SMALL CONTRACTOR DEVELOPMENT, TRAINING AND COMMUNITY LIAISON
B4: Number | C4: Item Description | D4: Unit | E4: Quantity | F4: Rate | G4: Amount R
A6: 6629 | B6: D1000 | C6: SMALL CONTRACTOR DEVELOPMENT, TRAINING AND COMMUNITY LIAISON
A8: 6630 | B8: D10.01 | C8: Target Group Participation
A10: 6631 | C10: (a) Contract Participation Performance bonus | D10: PC Sum | E10: 1 | F10: 2000000 | G10: 2000000
A12: 6632 | B12: D10.02 | C12: Stakeholder and Community Liaison and Social Facilitation
A14: 6633 | C14: (a) Cost of liaison, social facilitation and PLC support | D14: PC Sum | E14: 1 | F14: 1000000 | G14: 1000000
A16: 6634 | C16: (b) Handling cost and profit in respect of sub-item D10.02(a) | D16: % | E16: =G14 -> 1000000 | F16: 0 | G16: =IF(D16 = CHAR(37), E16*F16/100,E16*F16) -> 0
A18: 6635 | B18: D10.03 | C18: Tender Process for Targeted Enterprises
A20: 6636 | C20: (a) Contractor's charge for the management and execution of the Targeted Enterprise procurement process:
A22: 6637 | C22: (i) Procurement process for the totality of all tenders concluded for the appointment of Targeted Enterprise subcontractors of CIDB 1 and 2 contractor grading | D22: No | E22: 30 | F22: 0 | G22: =IF(D22 = CHAR(37), E22*F22/100,E22*F22) -> 0
A24: 6638 | C24: (ii) Procurement process for the totality of all tenders concluded for the appointment of Targeted Enterprise subcontractors of CIDB 3 and 4 contractor grading | D24: No | E24: 10 | F24: 0 | G24: =IF(D24 = CHAR(37), E24*F24/100,E24*F24) -> 0
A26: 6639 | C26: (iii) Procurement process for the totality of all tenders concluded for the appointment of Targeted Enterprise subcontractors of CIDB 5 and higher contractor grading | D26: No | E26: 5 | F26: 0 | G26: =IF(D26 = CHAR(37), E26*F26/100,E26*F26) -> 0
A28: 6653 | C28: (iv) Procurement process for the totality of all tenders concluded for the appointment of Targeted Enterprise suppliers | D28: No | E28: 45 | F28: 0 | G28: =IF(D28 = CHAR(37), E28*F28/100,E28*F28) -> 0
A30: 7582 | C30: (b) Targeted Enterprise Procurement Coordinator | D30: Month | E30: 21 | F30: 0 | G30: =IF(D30 = CHAR(37), E30*F30/100,E30*F30) -> 0
A32: 6640 | B32: D10.04 | C32: Responsibilities of the Contractor towards Targeted Enterprises
A34: 6641 | C34: (a) Contractor's establishment, management, management support assistance, coaching, guidance, mentoring and supervision of Targeted Enterprises | D34: Month | E34: 21 | F34: 0 | G34: =IF(D34 = CHAR(37), E34*F34/100,E34*F34) -> 0
A36: 6651 | C36: (b) Targeted Enterprise Construction Manager | D36: Person. month | E36: 15 | F36: 0 | G36: =IF(D36 = CHAR(37), E36*F36/100,E36*F36) -> 0
A38: 6652 | C38: (c) Targeted Enterprise Site Supervisors | D38: Person. month | E38: 150 | F38: 0 | G38: =IF(D38 = CHAR(37), E38*F38/100,E38*F38) -> 0
A40: 6642 | B40: D10.05 | C40: Construction Works by Targeted Enterprises
A42: 6643 | C42: (a) Payments associated with the construction works executed by Targeted Enterprise sub-contractors of CIDB 1 and 2 contractor grading designation appointed in terms of Section D of the Specifications | D42: Prov sum | E42: 1 | F42: 12000000 | G42: 12000000
A44: 6644 | C44: (b) Handling costs and profit in respect of payment associated with subitem D10.05(a) | D44: % | E44: =G42 -> 12000000 | F44: 5 | G44: 600000
B45: Total Carried Forward | G45: =SUM(G5:G44) -> 15600000
G46: C3-67
B47: Schedule D: Stakeholder and Community Liaison, and Targeted Labour and Targeted
B48: Enterprises Utilisation and Development
B49: SCHEDULE D:SMALL CONTRACTOR DEVELOPMENT, TRAINING AND COMMUNITY LIAISON
B50: Number | C50: Item Description | D50: Unit | E50: Quantity | F50: Rate | G50: Amount R
B51: Brought Forward | G51: =G45 -> 15600000
A52: 6645 | C52: (c) Fluctuation between the main contractor's rates and that of the Targeted Enterprise sub-contractors | D52: lump sum | E52: 1 | F52: 0 | G52: =IF(D52 = CHAR(37), E52*F52/100,E52*F52) -> 0
A54: 6646 | C54: (d) Preliminary and General Obligations of Targeted Enterprise sub-contractors appointed in terms of Section D of the Specifications | D54: lump sum | E54: 1 | F54: 0 | G54: =IF(D54 = CHAR(37), E54*F54/100,E54*F54) -> 0
A56: 6647 | B56: D10.06 | C56: Training, coaching, guidance, mentoring and assistance
A58: 10624 | C58: (a)Training Costs
A60: 8236 | C60: (i) Accredited NQF training | D60: Prov sum | E60: 1 | F60: 2000000 | G60: 2000000
A62: 6649 | C62: (ii) Accredited generic skills training | D62: Prov sum | E62: 1 | F62: 2000000 | G62: 2000000
A64: 6650 | C64: (iii) Community skills training | D64: Prov sum | E64: 1 | F64: 2000000 | G64: Rate Only
A66: 6654 | C66: (iv) Handling cost and profit in respect of Subitems D10.06(a)(i),(ii) and (iii) | D66: % | E66: 6000000 | F66: 0 | G66: =IF(D66 = CHAR(37), E66*F66/100,E66*F66) -> 0
A68: 6658 | C68: (c) Other costs during training | D68: Prov sum | E68: 1 | F68: 2000000 | G68: 2000000
...

Sheet Summary Of Schedules 1
A1: Rate=F | B1: CONTRACT SANRAL R.33-0120-2019/1
B2: SUMMARY OF SCHEDULES
B3: Description | F3: Amount R
B4: Schedule A: Roadworks | F4: ='Schedule 1.1'!J3163 -> 78955500
B6: SCHEDULE B1 - BRIDGE B621 NYL RIVER BRIDGE (km 82.1) | F6: ='Schedule 1.2'!J1062 -> 200000
B8: SCHEDULE B2 - BRIDGE B3837 ROAD OVER RAIL (km 86.6) | F8: ='Schedule 1.3'!J795 -> 970000
B10: SCHEDULE B3 - MAJOR CULVERT C0843 (km 87.5) | F10: ='Schedule 1.4'!J1066 -> 0
B12: Schedule D: Stakeholder and Community Liaison, and Targeted Labour and Targeted Enterprises Utilisation and Development | F12: ='Schedule 1.5'!G115 -> 21600000
B14: Subtotal A | F14: =SUM(F4:F13) -> 101725500
B16: CONTRACT SKILLS DEVELOPMENT GOAL:
B17: 0.25% of Subtotal A | F17: =F14*0.25% -> 254313.75
B19: SUBTOTAL B | F19: =F17+F14 -> 1.0197981e+08
B22: VALUE ADDED TAX:
B24: 15% of Subtotal B | F24: =F19*15% -> 15296972
B27: TOTAL CARRIED TO C.1.1.1: FORM OF OFFER | F27: =F24+F19 -> 1.1727679e+08

Sheet Rate Estimator
C2: To use a free rate estimator program with this Excel file
B4: 1) | C4: Download and install the program by clicking the link below and following instructions
C5: Bill Project (demo mode)
B6: 2) | C6: In MS Windows run the program using 'Start > Programs > Civilsoft > Bill Project'
B7: 3) | C7: Once Bill Project is running use 'File > Open Excel Tender' and select this file, eg
C8: =MID(CELL("filename"),1,FIND("]",CELL("filename"))) -> T:\20568 R33 Modimolle\09 - Tender\01 - Document\03 - Construction\03 - Final\R.033-120-2019-1 Tender Document\Volume_3-Tender Document\[R_33_120_2019_1_SOQ.xlsx]
B9: 4) | C9: Item rates can now be calculated by adding project resources to items
B10: 5) | C10: For more information in Bill Project use 'Tools > Guide' and click on 'Rate Estimator'
C12: Note:
C13: Although Bill Project will be set to demo mode, the rate estimator will have full functionality
C14: Once rates have been calculated in Bill Project they can be exported using 'File > Export > Rate'
C16: If you need help with any of the above, click the link below or phone +27 (0)42 294 1777
C17: Bill Project support
