Workbook
Name \A: #REF!
Name \A: #REF!
Name \B: #REF!
Name \B: #REF!
Name \C: '[1]MechPipe EMEC'!#REF!
Name \C: '[1]MechPipe EMEC'!#REF!
Name \D: '[1]MechPipe EMEC'!#REF!
Name \D: '[1]MechPipe EMEC'!#REF!
Name \E: '[1]MechPipe EMEC'!#REF!
Name \E: '[1]MechPipe EMEC'!#REF!
Name \Q: #REF!
Name \Q: #REF!
Name \X: #REF!
Name \X: #REF!
Name \Z: #REF!
Name \Z: #REF!
Name ____xlnm.Print_Area_10: #REF!
Name ____xlnm.Print_Area_10: #REF!
Name ____xlnm.Print_Area_11: #REF!
Name ____xlnm.Print_Area_11: #REF!
Name ____xlnm.Print_Area_2: #REF!
Name ____xlnm.Print_Area_2: #REF!
Name ____xlnm.Print_Area_3: #REF!
Name ____xlnm.Print_Area_3: #REF!
Name ____xlnm.Print_Area_4: #REF!
Name ____xlnm.Print_Area_4: #REF!
Name ____xlnm.Print_Area_5: #REF!
Name ____xlnm.Print_Area_5: #REF!
Name ____xlnm.Print_Area_6: #REF!
Name ____xlnm.Print_Area_6: #REF!
Name ____xlnm.Print_Area_8: #REF!
Name ____xlnm.Print_Area_8: #REF!
Name ____xlnm.Print_Area_9: #REF!
Name ____xlnm.Print_Area_9: #REF!
Name ___INDEX_SHEET___ASAP_Utilities: #REF!
Name ___INDEX_SHEET___ASAP_Utilities: #REF!
Name ___xlnm.Print_Area_10: #REF!
Name ___xlnm.Print_Area_10: #REF!
Name ___xlnm.Print_Area_11: #REF!
Name ___xlnm.Print_Area_11: #REF!
Name ___xlnm.Print_Area_2: #REF!
Name ___xlnm.Print_Area_2: #REF!
Name ___xlnm.Print_Area_3: #REF!
Name ___xlnm.Print_Area_3: #REF!
Name ___xlnm.Print_Area_4: #REF!
Name ___xlnm.Print_Area_4: #REF!
Name ___xlnm.Print_Area_5: #REF!
Name ___xlnm.Print_Area_5: #REF!
Name ___xlnm.Print_Area_6: #REF!
Name ___xlnm.Print_Area_6: #REF!
Name ___xlnm.Print_Area_8: #REF!
Name ___xlnm.Print_Area_8: #REF!
Name ___xlnm.Print_Area_9: #REF!
Name ___xlnm.Print_Area_9: #REF!
Name __CXX1: '[2]1'!$F$175:$F$182
Name __CXX2: '[2]2'!$F$175:$F$182
Name __CXX3: '[2]3'!$F$175:$F$182
Name __CXX4: '[2]4'!$F$175:$F$182
Name __CXX5: '[2]5'!$F$175:$F$182
Name __CXX6: '[2]6'!$F$175:$F$182

Sheet PMS
C1: PROJECT MANAGEMENT SERVICES
B4: Item | C4: Description | D4: Unit | E4: Quantity | F4: Number | G4: Rate | H4: Total per annum per person | I4: Total per annum | J4: Duration (years) | K4: Total for 2 years
C5: CATEGORY 1 MANAGEMENT AND SUPERVISION
B6: 1 | C6: P&Gs
B7: 1.1 | C7: Traveling Cost | D7: km | E7: =1200360*10% -> 120036 | H7: =G7*E7 -> 0 | J7: 2 | K7: =J7*H7 -> 0
B8: 1.2 | C8: Accommodation | D8: per night | E8: =(12*12*70)*10% -> 1008 | H8: =E8*G8 -> 0 | J8: 2 | K8: =J8*H8 -> 0
B9: 1.3 | C9: Toll Fees | D9: Per toll | E9: =(10*70*12)*10% -> 840 | H9: =E9*G9 -> 0 | J9: 2 | K9: =J9*H9 -> 0
A10: =SUM(#REF!,#REF!,#REF!,#REF!,#REF!,#REF!,#REF!,#REF!) -> #REF! | B10: 1.4 | C10: Medicals (Entry & Exit) | D10: Annual | E10: =SUM($F$14:$F$16) -> 18 | H10: =E10*G10 -> 0 | J10: 3 | K10: =J10*H10 -> 0
B11: 1.5 | C11: PPE | D11: Annual | E11: =SUM($F$14:$F$16) -> 18 | H11: =G11*E11 -> 0 | J11: 2 | K11: =J11*H11 -> 0
C12: SUB-TOTAL P&G | K12: =SUM(K7:K11) -> 0
B13: 2 | C13: Labour
B14: 2.1 | C14: Project Manager | D14: Hour | E14: 1188 | F14: 6 | H14: =G14*E14 -> 0 | I14: =F14*H14 -> 0 | J14: 2 | K14: =I14*J14 -> 0
B15: 2.2 | C15: Site Manager | D15: Hour | E15: 1188 | F15: 6 | H15: =G15*E15 -> 0 | I15: =F15*H15 -> 0 | J15: 2 | K15: =I15*J15 -> 0
B16: 2.3 | C16: Site Supervisor | D16: Hour | E16: 1188 | F16: 6 | H16: =G16*E16 -> 0 | I16: =F16*H16 -> 0 | J16: 2 | K16: =I16*J16 -> 0
C17: SUB-TOTAL LABOUR | K17: =SUM(K14:K16) -> 0
B19: 3 | C19: OVERTIME
B20: 3.1 | C20: OVERTIME (MONDAY - FRIDAY) - MANAGEMENT AND SUPERVISION
B21: 3.1.1 | C21: Project Manager | D21: Hour | E21: =5*2*6 -> 60 | F21: 6 | H21: =G21*E21 -> 0 | I21: =F21*H21 -> 0 | J21: 2 | K21: =I21*J21 -> 0
B22: 3.1.2 | C22: Site Manager | D22: Hour | E22: =5*2*6 -> 60 | F22: 6 | H22: =G22*E22 -> 0 | I22: =F22*H22 -> 0 | J22: 2 | K22: =I22*J22 -> 0
B23: 3.1.3 | C23: Site supervisor | D23: Hour | E23: =10*2*6 -> 120 | F23: 6 | H23: =G23*E23 -> 0 | I23: =F23*H23 -> 0 | J23: 2 | K23: =I23*J23 -> 0
B24: 3.2 | C24: OVERTIME (SATURDAY) - MANAGEMENT AND SUPERVISION
B25: 3.2.1 | C25: Project Manager | D25: Hour | E25: =5*2*6 -> 60 | F25: 6 | H25: =G25*E25 -> 0 | I25: =F25*H25 -> 0 | J25: 2 | K25: =I25*J25 -> 0
B26: 3.2.2 | C26: Site Manager | D26: Hour | E26: =5*2*6 -> 60 | F26: 6 | H26: =G26*E26 -> 0 | I26: =F26*H26 -> 0 | J26: 2 | K26: =I26*J26 -> 0
B27: 3.3.3 | C27: Site supervisor | D27: Hour | E27: =5*2*6 -> 60 | F27: 6 | H27: =G27*E27 -> 0 | I27: =F27*H27 -> 0 | J27: 2 | K27: =I27*J27 -> 0
B28: 3.3 | C28: OVERTIME (SUNDAY & PPH) - MANAGEMENT AND SUPERVISION
B29: 3.3.1 | C29: Project Manager | D29: Hour | E29: =8*2*6 -> 96 | F29: 6 | H29: =G29*E29 -> 0 | I29: =F29*H29 -> 0 | J29: 2 | K29: =I29*J29 -> 0
B30: 3.3.2 | C30: Site Manager | D30: Hour | E30: =6*2*6 -> 72 | F30: 6 | H30: =G30*E30 -> 0 | I30: =F30*H30 -> 0 | J30: 2 | K30: =I30*J30 -> 0
B31: 3.3.3 | C31: Site supervisor | D31: Hour | E31: =5*2*6 -> 60 | F31: 6 | H31: =G31*E31 -> 0 | I31: =F31*H31 -> 0 | J31: 2 | K31: =I31*J31 -> 0
C32: SUB-TOTAL OVERTIME | K32: =SUM(K21:K31) -> 0
C33: TOTAL MANAGEMENT AND SUPERVISION | K33: =SUM($K$32,$K$17,$K$12) -> 0
C36: TOTAL EXCL. VAT 2 YEARS | K36: =K33 -> 0

Sheet PPS
C1: PROJECT PLANNING SERVICES
B3: Item | C3: Description | D3: Unit | E3: Quantity | F3: Number | G3: Rate | H3: Total per annum per person | I3: Total per annum | J3: Duration (years) | K3: Total for 2 years
C4: CATEGORY 2 ADMINISTARTIVE
B5: 1 | C5: P&Gs
B6: 1.1 | C6: Traveling Cost | D6: km | E6: =1200360*10% -> 120036 | H6: =G6*E6 -> 0 | J6: 2 | K6: =J6*H6 -> 0
B7: 1.2 | C7: Accommodation | D7: per night | E7: =(12*12*70)*10% -> 1008 | H7: =E7*G7 -> 0 | J7: 2 | K7: =J7*H7 -> 0
B8: 1.3 | C8: Toll Fees | D8: Per toll | E8: =(10*70*12)*10% -> 840 | H8: =E8*G8 -> 0 | J8: 2 | K8: =J8*H8 -> 0
A9: =SUM(#REF!,#REF!,#REF!,#REF!,#REF!,#REF!,#REF!,#REF!) -> #REF! | B9: 1.4 | C9: Medicals (Entry & Exit) | D9: Annual | E9: =SUM($F$13:$F$15) -> 8 | H9: =E9*G9 -> 0 | J9: 3 | K9: =J9*H9 -> 0
B10: 1.5 | C10: PPE | D10: Annual | E10: =SUM($F$13:$F$15) -> 8 | H10: =G10*E10 -> 0 | J10: 2 | K10: =J10*H10 -> 0
C11: SUB-TOTAL P&G | K11: =SUM(K6:K10) -> 0
B12: 2 | C12: Labour
B13: 2.1 | C13: Project Planner | D13: Hour | E13: 1188 | F13: 3 | H13: =G13*E13 -> 0 | I13: =F13*H13 -> 0 | J13: 2 | K13: =I13*J13 -> 0
B14: 2.2 | C14: Draughtsman | D14: Hour | E14: 792 | F14: 2 | H14: =G14*E14 -> 0 | I14: =F14*H14 -> 0 | J14: 2 | K14: =I14*J14 -> 0
B15: 2.3 | C15: Document controller | D15: Hour | E15: 1188 | F15: 3 | H15: =G15*E15 -> 0 | I15: =F15*H15 -> 0 | J15: 2 | K15: =I15*J15 -> 0
C16: SUB-TOTAL ADMINISTRATIVE | K16: =SUM(K13:K15) -> 0
B18: 3 | C18: OVERTIME
B19: 3.1 | C19: OVERTIME (MONDAY - FRIDAY) - ADMINISTRATIVE
B20: 3.1.3 | C20: Project Planner | D20: Hour | E20: =2*2*6 -> 24 | F20: 3 | H20: =G20*E20 -> 0 | I20: =F20*H20 -> 0 | J20: 2 | K20: =I20*J20 -> 0
B21: 3.1.2 | C21: Draughtsman | D21: Hour | E21: =5*2*4 -> 40 | F21: 2 | H21: =G21*E21 -> 0 | I21: =F21*H21 -> 0 | J21: 2 | K21: =I21*J21 -> 0
B22: 3.1.3 | C22: Document controller | D22: Hour | E22: =5*2*6 -> 60 | F22: 3 | H22: =G22*E22 -> 0 | I22: =F22*H22 -> 0 | J22: 2 | K22: =I22*J22 -> 0
B23: 3.2 | C23: OVERTIME (SATURDAY) - ADMINISTRATIVE
B24: 3.2.1 | C24: Project Planner | D24: Hour | E24: =5*2*6 -> 60 | F24: 3 | H24: =G24*E24 -> 0 | I24: =F24*H24 -> 0 | J24: 2 | K24: =I24*J24 -> 0
B25: 3.2.2 | C25: Draughtsman | D25: Hour | E25: =4*2*4 -> 32 | F25: 2 | H25: =G25*E25 -> 0 | I25: =F25*H25 -> 0 | J25: 2 | K25: =I25*J25 -> 0
B26: 3.2.3 | C26: Document controller | D26: Hour | E26: =5*2*6 -> 60 | F26: 3 | H26: =G26*E26 -> 0 | I26: =F26*H26 -> 0 | J26: 2 | K26: =I26*J26 -> 0
B27: 3.3 | C27: OVERTIME (SUNDAY & PPH) - ADMINISTRATIVE
B28: 3.3.1 | C28: Project Planner | D28: Hour | E28: =6*2*6 -> 72 | F28: 3 | H28: =G28*E28 -> 0 | I28: =F28*H28 -> 0 | J28: 2 | K28: =I28*J28 -> 0
B29: 3.3.2 | C29: Draughtsman | D29: Hour | E29: =5*2*6 -> 60 | F29: 2 | H29: =G29*E29 -> 0 | I29: =F29*H29 -> 0 | J29: 2 | K29: =I29*J29 -> 0
B30: 3.3.3 | C30: Document controller | D30: Hour | E30: =5*2*12 -> 120 | F30: 3 | H30: =G30*E30 -> 0 | I30: =F30*H30 -> 0 | J30: 2 | K30: =I30*J30 -> 0
C31: SUB-TOTAL OVERTIME | K31: =SUM(K20:K30) -> 0
C32: TOTAL MANAGEMENT AND SUPERVISION | K32: =SUM($K$16,$K$31,$K$11) -> 0
C35: TOTAL EXCL. VAT 2 YEARS | K35: =K32 -> 0

Sheet Elec_Control
C1: ENGINEERING - ELECTRICAL AND CONTROL & INSTRUMENTATION
B3: Item | C3: Description | D3: Unit | E3: Quantity | F3: Number | G3: Rate | H3: Total per annum per person | I3: Total per annum | J3: Duration (years) | K3: Total for 2 years
C4: CATEGORY 3 ADMINISTRATIVE TECHNICAL
B5: 1 | C5: P&Gs
B6: 1.1 | C6: Traveling Cost | D6: km | E6: 1500060 | H6: =G6*E6 -> 0 | J6: 2 | K6: =J6*H6 -> 0
B7: 1.2 | C7: Accommodation | D7: per night | E7: 1680 | H7: =E7*G7 -> 0 | J7: 2 | K7: =J7*H7 -> 0
B8: 1.3 | C8: Toll Fees | D8: Per toll | E8: 1400 | H8: =E8*G8 -> 0 | J8: 2 | K8: =J8*H8 -> 0
A9: =SUM(#REF!,#REF!,#REF!,#REF!,#REF!,#REF!,#REF!,#REF!) -> #REF! | B9: 1.4 | C9: Medicals (Entry & Exit) | D9: Annual | E9: 29 | H9: =E9*G9 -> 0 | J9: 3 | K9: =J9*H9 -> 0
B10: 1.5 | C10: PPE | D10: Annual | E10: 29 | H10: =G10*E10 -> 0 | J10: 2 | K10: =J10*H10 -> 0
C11: SUB-TOTAL P&G | K11: =SUM(K6:K10) -> 0
B12: 2 | C12: Labour
B13: 2.1 | C13: Engineering expert | D13: Hour | E13: 186 | F13: 1 | H13: =G13*E13 -> 0 | I13: =F13*H13 -> 0 | J13: 2 | K13: =I13*J13 -> 0
B14: 2.2 | C14: Specialist (Electrical and Control & Instrumentation) | D14: Hour | E14: 264 | F14: 13 | H14: =G14*E14 -> 0 | I14: =F14*H14 -> 0 | J14: 2 | K14: =I14*J14 -> 0
B15: 2.3 | C15: Chief Engineer/Technologist (Electrical and Control & instrumentation) | D15: Hour | E15: 264 | F15: 6 | H15: =G15*E15 -> 0 | I15: =F15*H15 -> 0 | J15: 2 | K15: =I15*J15 -> 0
B16: 2.4 | C16: Senior Engineer/Technologist (Electrical and Control & Instrumentation) | D16: Hour | E16: 560 | F16: 13 | H16: =G16*E16 -> 0 | I16: =F16*H16 -> 0 | J16: 2 | K16: =I16*J16 -> 0
B17: 2.5 | C17: Engineer/Technologist (Electrical and Control & instrumentation) | D17: Hour | E17: 550 | F17: 26 | H17: =G17*E17 -> 0 | I17: =F17*H17 -> 0 | J17: 2 | K17: =I17*J17 -> 0
B18: 2.6 | C18: Senior Technician (Electrical and Control & Instrumentation) | D18: Hour | E18: 550 | F18: 13 | H18: =G18*E18 -> 0 | I18: =F18*H18 -> 0 | J18: 2 | K18: =I18*J18 -> 0
B19: 2.7 | C19: Technician (Electrical and Control &Instrumentation) | D19: Hour | E19: 500 | F19: 13 | H19: =G19*E19 -> 0 | I19: =F19*H19 -> 0 | J19: 2 | K19: =I19*J19 -> 0
C20: SUB-TOTAL LABOUR | K20: =SUM(K13:K19) -> 0
B22: 3 | C22: OVERTIME
B23: 3.1 | C23: OVERTIME (MONDAY - FRIDAY) - TECHNICAL
B24: 3.1.1 | C24: Engineering expert | D24: Hour | E24: 5 | F24: 1 | H24: =G24*E24 -> 0 | I24: =F24*H24 -> 0 | J24: 2 | K24: =I24*J24 -> 0
B25: 3.1.2 | C25: Specialist (Electrical and Control & Instrumentation) | D25: Hour | E25: 10 | F25: 13 | H25: =G25*E25 -> 0 | I25: =F25*H25 -> 0 | J25: 2 | K25: =I25*J25 -> 0
B26: 3.1.3 | C26: Chief Engineer/Technologist (Electrical and Control & instrumentation) | D26: Hour | E26: 10 | F26: 6 | H26: =G26*E26 -> 0 | I26: =F26*H26 -> 0 | J26: 2 | K26: =I26*J26 -> 0
B27: 3.1.4 | C27: Senior Engineer/Technologist (Electrical and Control & Instrumentation) | D27: Hour | E27: 40 | F27: 13 | H27: =G27*E27 -> 0 | I27: =F27*H27 -> 0 | J27: 2 | K27: =I27*J27 -> 0
B28: 3.1.5 | C28: Engineer/Technologist (Electrical and Control & instrumentation) | D28: Hour | E28: 40 | F28: 26 | H28: =G28*E28 -> 0 | I28: =F28*H28 -> 0 | J28: 2 | K28: =I28*J28 -> 0
B29: 3.1.6 | C29: Senior Technician (Electrical and Control & Instrumentation) | D29: Hour | E29: 40 | F29: 13 | H29: =G29*E29 -> 0 | I29: =F29*H29 -> 0 | J29: 2 | K29: =I29*J29 -> 0
B30: 3.1.7 | C30: Technician (Electrical and Control &Instrumentation) | D30: Hour | E30: 40 | F30: 13 | H30: =G30*E30 -> 0 | I30: =F30*H30 -> 0 | J30: 2 | K30: =I30*J30 -> 0
B31: 3.2 | C31: OVERTIME (SATURDAY) - TECHNICAL
B32: 3.2.1 | C32: Engineering expert | D32: Hour | E32: 5 | F32: 1 | H32: =G32*E32 -> 0 | I32: =F32*H32 -> 0 | J32: 2 | K32: =I32*J32 -> 0
B33: 3.2.2 | C33: Specialist (Electrical and Control & Instrumentation) | D33: Hour | E33: 10 | F33: 13 | H33: =G33*E33 -> 0 | I33: =F33*H33 -> 0 | J33: 2 | K33: =I33*J33 -> 0
B34: 3.2.3 | C34: Chief Engineer/Technologist (Electrical and Control & instrumentation) | D34: Hour | E34: 10 | F34: 6 | H34: =G34*E34 -> 0 | I34: =F34*H34 -> 0 | J34: 2 | K34: =I34*J34 -> 0
B35: 3.2.4 | C35: Senior Engineer/Technologist (Electrical and Control & Instrumentation) | D35: Hour | E35: 40 | F35: 13 | H35: =G35*E35 -> 0 | I35: =F35*H35 -> 0 | J35: 2 | K35: =I35*J35 -> 0
B36: 3.2.5 | C36: Engineer/Technologist (Electrical and Control & instrumentation) | D36: Hour | E36: 40 | F36: 26 | H36: =G36*E36 -> 0 | I36: =F36*H36 -> 0 | J36: 2 | K36: =I36*J36 -> 0
B37: 3.2.6 | C37: Senior Technician (Electrical and Control & Instrumentation) | D37: Hour | E37: 40 | F37: 13 | H37: =G37*E37 -> 0 | I37: =F37*H37 -> 0 | J37: 2 | K37: =I37*J37 -> 0
B38: 3.2.7 | C38: Technician (Electrical and Control &Instrumentation) | D38: Hour | E38: 40 | F38: 13 | H38: =G38*E38 -> 0 | I38: =F38*H38 -> 0 | J38: 2 | K38: =I38*J38 -> 0
B39: 3.3 | C39: OVERTIME (SUNDAY & PPH) - TECHNICAL
B40: 3.3.1 | C40: Engineering expert | D40: Hour | E40: 8 | F40: 1 | H40: =G40*E40 -> 0 | I40: =F40*H40 -> 0 | J40: 2 | K40: =I40*J40 -> 0
B41: 3.3.2 | C41: Specialist (Electrical and Control & Instrumentation) | D41: Hour | E41: 10 | F41: 13 | H41: =G41*E41 -> 0 | I41: =F41*H41 -> 0 | J41: 2 | K41: =I41*J41 -> 0
B42: 3.3.3 | C42: Chief Engineer/Technologist (Electrical and Control & instrumentation) | D42: Hour | E42: 10 | F42: 6 | H42: =G42*E42 -> 0 | I42: =F42*H42 -> 0 | J42: 2 | K42: =I42*J42 -> 0
...

Sheet Civil-Geotech
C1: ENGINEERING - CIVIL AND GEOTECHNICAL
B3: Item | C3: Description | D3: Unit | E3: Quantity | F3: Number | G3: Rate | H3: Total per annum per person | I3: Total per annum | J3: Duration (years) | K3: Total for 2 years
C4: CATEGORY 3 ADMINISTRATIVE TECHNICAL
B5: 1 | C5: P&Gs
B6: 1.1 | C6: Traveling Cost | D6: km | E6: 1500060 | H6: =G6*E6 -> 0 | J6: 2 | K6: =J6*H6 -> 0
B7: 1.2 | C7: Accommodation | D7: per night | E7: 1680 | H7: =E7*G7 -> 0 | J7: 2 | K7: =J7*H7 -> 0
B8: 1.3 | C8: Toll Fees | D8: Per toll | E8: 1400 | H8: =E8*G8 -> 0 | J8: 2 | K8: =J8*H8 -> 0
A9: =SUM(#REF!,#REF!,#REF!,#REF!,#REF!,#REF!,#REF!,#REF!) -> #REF! | B9: 1.4 | C9: Medicals (Entry & Exit) | D9: Annual | E9: 29 | H9: =E9*G9 -> 0 | J9: 3 | K9: =J9*H9 -> 0
B10: 1.5 | C10: PPE | D10: Annual | E10: 29 | H10: =G10*E10 -> 0 | J10: 2 | K10: =J10*H10 -> 0
C11: SUB-TOTAL P&G | K11: =SUM(K6:K10) -> 0
B12: 2 | C12: Labour
B13: 2.1 | C13: Engineering expert | D13: Hour | E13: 198 | F13: 1 | H13: =G13*E13 -> 0 | I13: =F13*H13 -> 0 | J13: 2 | K13: =I13*J13 -> 0
B14: 2.2 | C14: Specialist (Civil and Geotechnical) | D14: Hour | E14: 264 | F14: 13 | H14: =G14*E14 -> 0 | I14: =F14*H14 -> 0 | J14: 2 | K14: =I14*J14 -> 0
B15: 2.3 | C15: Chief Engineer/Technologist (Civil and geotechnical) | D15: Hour | E15: 264 | F15: 6 | H15: =G15*E15 -> 0 | I15: =F15*H15 -> 0 | J15: 2 | K15: =I15*J15 -> 0
B16: 2.4 | C16: Senior Engineer/Technologist (Civil and Geotechnical) | D16: Hour | E16: 560 | F16: 13 | H16: =G16*E16 -> 0 | I16: =F16*H16 -> 0 | J16: 2 | K16: =I16*J16 -> 0
B17: 2.5 | C17: Engineer/Technologist (Civil and Geotechnical) | D17: Hour | E17: 560 | F17: 26 | H17: =G17*E17 -> 0 | I17: =F17*H17 -> 0 | J17: 2 | K17: =I17*J17 -> 0
B18: 2.6 | C18: Senior Technician (Civil and Geotecnnical) | D18: Hour | E18: 600 | F18: 13 | H18: =G18*E18 -> 0 | I18: =F18*H18 -> 0 | J18: 2 | K18: =I18*J18 -> 0
B19: 2.7 | C19: Technician (Civil and Geotechnical) | D19: Hour | E19: 540 | F19: 13 | H19: =G19*E19 -> 0 | I19: =F19*H19 -> 0 | J19: 2 | K19: =I19*J19 -> 0
C20: SUB-TOTAL LABOUR | K20: =SUM(K13:K19) -> 0
B22: 3 | C22: OVERTIME
B23: 3.1 | C23: OVERTIME (MONDAY - FRIDAY) - TECHNICAL
B24: 3.1.1 | C24: Engineering expert | D24: Hour | E24: 5 | F24: 1 | H24: =G24*E24 -> 0 | I24: =F24*H24 -> 0 | J24: 2 | K24: =I24*J24 -> 0
B25: 3.1.2 | C25: Specialist (Civil and Geotechnical) | D25: Hour | E25: 10 | F25: 13 | H25: =G25*E25 -> 0 | I25: =F25*H25 -> 0 | J25: 2 | K25: =I25*J25 -> 0
B26: 3.1.3 | C26: Chief Engineer/Technologist (Civil and geotechnical) | D26: Hour | E26: 10 | F26: 6 | H26: =G26*E26 -> 0 | I26: =F26*H26 -> 0 | J26: 2 | K26: =I26*J26 -> 0
B27: 3.1.4 | C27: Senior Engineer/Technologist (Civil and Geotechnical) | D27: Hour | E27: 40 | F27: 13 | H27: =G27*E27 -> 0 | I27: =F27*H27 -> 0 | J27: 2 | K27: =I27*J27 -> 0
B28: 3.1.5 | C28: Engineer/Technologist (Civil and Geotechnical) | D28: Hour | E28: 40 | F28: 26 | H28: =G28*E28 -> 0 | I28: =F28*H28 -> 0 | J28: 2 | K28: =I28*J28 -> 0
B29: 3.1.6 | C29: Senior Technician (Civili and Geotecnnical) | D29: Hour | E29: 40 | F29: 13 | H29: =G29*E29 -> 0 | I29: =F29*H29 -> 0 | J29: 2 | K29: =I29*J29 -> 0
B30: 3.1.7 | C30: Technician (Civil and Geotechnical) | D30: Hour | E30: 40 | F30: 13 | H30: =G30*E30 -> 0 | I30: =F30*H30 -> 0 | J30: 2 | K30: =I30*J30 -> 0
B31: 3.2 | C31: OVERTIME (SATURDAY) - TECHNICAL
B32: 3.2.1 | C32: Engineering expert | D32: Hour | E32: 5 | F32: 1 | H32: =G32*E32 -> 0 | I32: =F32*H32 -> 0 | J32: 2 | K32: =I32*J32 -> 0
B33: 3.2.2 | C33: Specialist (Civil and Geotechnical) | D33: Hour | E33: 10 | F33: 13 | H33: =G33*E33 -> 0 | I33: =F33*H33 -> 0 | J33: 2 | K33: =I33*J33 -> 0
B34: 3.2.3 | C34: Chief Engineer/Technologist (Civil and geotechnical) | D34: Hour | E34: 10 | F34: 6 | H34: =G34*E34 -> 0 | I34: =F34*H34 -> 0 | J34: 2 | K34: =I34*J34 -> 0
B35: 3.2.4 | C35: Senior Engineer/Technologist (Civil and Geotechnical) | D35: Hour | E35: 40 | F35: 13 | H35: =G35*E35 -> 0 | I35: =F35*H35 -> 0 | J35: 2 | K35: =I35*J35 -> 0
B36: 3.2.5 | C36: Engineer/Technologist (Civil and Geotechnical) | D36: Hour | E36: 40 | F36: 26 | H36: =G36*E36 -> 0 | I36: =F36*H36 -> 0 | J36: 2 | K36: =I36*J36 -> 0
B37: 3.2.6 | C37: Senior Technician (Civili and Geotecnnical) | D37: Hour | E37: 40 | F37: 13 | H37: =G37*E37 -> 0 | I37: =F37*H37 -> 0 | J37: 2 | K37: =I37*J37 -> 0
B38: 3.2.7 | C38: Technician (Civil and Geotechnical) | D38: Hour | E38: 40 | F38: 13 | H38: =G38*E38 -> 0 | I38: =F38*H38 -> 0 | J38: 2 | K38: =I38*J38 -> 0
B39: 3.3 | C39: OVERTIME (SUNDAY & PPH) - TECHNICAL
B40: 3.3.1 | C40: Engineering expert | D40: Hour | E40: 8 | F40: 1 | H40: =G40*E40 -> 0 | I40: =F40*H40 -> 0 | J40: 2 | K40: =I40*J40 -> 0
B41: 3.3.2 | C41: Specialist (Civil and Geotechnical) | D41: Hour | E41: 10 | F41: 13 | H41: =G41*E41 -> 0 | I41: =F41*H41 -> 0 | J41: 2 | K41: =I41*J41 -> 0
B42: 3.3.3 | C42: Chief Engineer/Technologist (Civil and geotechnical) | D42: Hour | E42: 10 | F42: 6 | H42: =G42*E42 -> 0 | I42: =F42*H42 -> 0 | J42: 2 | K42: =I42*J42 -> 0
...

Sheet Mech_Struct
C1: ENGINEERING - MECHANICAL AND STRUCTURAL
B3: Item | C3: Description | D3: Unit | E3: Quantity | F3: Number | G3: Rate | H3: Total per annum per person | I3: Total per annum | J3: Duration (years) | K3: Total for 2 years
C4: CATEGORY 3 ADMINISTRATIVE TECHNICAL
B5: 1 | C5: P&Gs
B6: 1.1 | C6: Traveling Cost | D6: km | E6: 1500060 | H6: =G6*E6 -> 0 | J6: 2 | K6: =J6*H6 -> 0
B7: 1.2 | C7: Accommodation | D7: per night | E7: 1680 | H7: =E7*G7 -> 0 | J7: 2 | K7: =J7*H7 -> 0
B8: 1.3 | C8: Toll Fees | D8: Per toll | E8: 1400 | H8: =E8*G8 -> 0 | J8: 2 | K8: =J8*H8 -> 0
A9: =SUM(#REF!,#REF!,#REF!,#REF!,#REF!,#REF!,#REF!,#REF!) -> #REF! | B9: 1.4 | C9: Medicals (Entry & Exit) | D9: Annual | E9: 29 | H9: =E9*G9 -> 0 | J9: 3 | K9: =J9*H9 -> 0
B10: 1.5 | C10: PPE | D10: Annual | E10: 29 | H10: =G10*E10 -> 0 | J10: 2 | K10: =J10*H10 -> 0
C11: SUB-TOTAL P&G | K11: =SUM(K6:K10) -> 0
B12: 2 | C12: Labour
B13: 2.1 | C13: Engineering expert | D13: Hour | E13: 198 | F13: 1 | H13: =G13*E13 -> 0 | I13: =F13*H13 -> 0 | J13: 2 | K13: =I13*J13 -> 0
B14: 2.2 | C14: Specialist (Mechanical and Structural) | D14: Hour | E14: 264 | F14: 13 | H14: =G14*E14 -> 0 | I14: =F14*H14 -> 0 | J14: 2 | K14: =I14*J14 -> 0
B15: 2.3 | C15: Chief Engineer/Technologist (Mechanical and Structural) | D15: Hour | E15: 264 | F15: 6 | H15: =G15*E15 -> 0 | I15: =F15*H15 -> 0 | J15: 2 | K15: =I15*J15 -> 0
B16: 2.4 | C16: Senior Engineer/Technologist (Mechanical and Structural) | D16: Hour | E16: 792 | F16: 13 | H16: =G16*E16 -> 0 | I16: =F16*H16 -> 0 | J16: 2 | K16: =I16*J16 -> 0
B17: 2.5 | C17: Engineer/Technologist (Mechanical and Structural) | D17: Hour | E17: 560 | F17: 26 | H17: =G17*E17 -> 0 | I17: =F17*H17 -> 0 | J17: 2 | K17: =I17*J17 -> 0
B18: 2.6 | C18: Senior Technician (Mechanical and Structural) | D18: Hour | E18: 500 | F18: 13 | H18: =G18*E18 -> 0 | I18: =F18*H18 -> 0 | J18: 2 | K18: =I18*J18 -> 0
B19: 2.7 | C19: Technician (Mechanical and Structural) | D19: Hour | E19: 792 | F19: 13 | H19: =G19*E19 -> 0 | I19: =F19*H19 -> 0 | J19: 2 | K19: =I19*J19 -> 0
C20: SUB-TOTAL LABOUR | K20: =SUM(K13:K19) -> 0
B22: 3 | C22: OVERTIME
B23: 3.1 | C23: OVERTIME (MONDAY - FRIDAY) - TECHNICAL
B24: 3.1.1 | C24: Engineering expert | D24: Hour | E24: 5 | F24: 1 | H24: =G24*E24 -> 0 | I24: =F24*H24 -> 0 | J24: 2 | K24: =I24*J24 -> 0
B25: 3.1.2 | C25: Specialist (Mechanical and Structural) | D25: Hour | E25: 10 | F25: 13 | H25: =G25*E25 -> 0 | I25: =F25*H25 -> 0 | J25: 2 | K25: =I25*J25 -> 0
B26: 3.1.3 | C26: Chief Engineer/Technologist (Mechanical and Structural) | D26: Hour | E26: 10 | F26: 6 | H26: =G26*E26 -> 0 | I26: =F26*H26 -> 0 | J26: 2 | K26: =I26*J26 -> 0
B27: 3.1.4 | C27: Senior Engineer/Technologist (Mechanical and Structural) | D27: Hour | E27: 40 | F27: 13 | H27: =G27*E27 -> 0 | I27: =F27*H27 -> 0 | J27: 2 | K27: =I27*J27 -> 0
B28: 3.1.5 | C28: Engineer/Technologist (Mechanical and Structural) | D28: Hour | E28: 40 | F28: 26 | H28: =G28*E28 -> 0 | I28: =F28*H28 -> 0 | J28: 2 | K28: =I28*J28 -> 0
B29: 3.1.6 | C29: Senior Technician (Mechanical and Structural) | D29: Hour | E29: 40 | F29: 13 | H29: =G29*E29 -> 0 | I29: =F29*H29 -> 0 | J29: 2 | K29: =I29*J29 -> 0
B30: 3.1.7 | C30: Technician (Mechanical and Structural) | D30: Hour | E30: 40 | F30: 13 | H30: =G30*E30 -> 0 | I30: =F30*H30 -> 0 | J30: 2 | K30: =I30*J30 -> 0
B31: 3.2 | C31: OVERTIME (SATURDAY) - TECHNICAL
B32: 3.2.1 | C32: Engineering expert | D32: Hour | E32: 5 | F32: 1 | H32: =G32*E32 -> 0 | I32: =F32*H32 -> 0 | J32: 2 | K32: =I32*J32 -> 0
B33: 3.2.2 | C33: Specialist (Mechanical and Structural) | D33: Hour | E33: 10 | F33: 13 | H33: =G33*E33 -> 0 | I33: =F33*H33 -> 0 | J33: 2 | K33: =I33*J33 -> 0
B34: 3.2.3 | C34: Chief Engineer/Technologist (Mechanical and Structural) | D34: Hour | E34: 10 | F34: 6 | H34: =G34*E34 -> 0 | I34: =F34*H34 -> 0 | J34: 2 | K34: =I34*J34 -> 0
B35: 3.2.4 | C35: Senior Engineer/Technologist (Mechanical and Structural) | D35: Hour | E35: 40 | F35: 13 | H35: =G35*E35 -> 0 | I35: =F35*H35 -> 0 | J35: 2 | K35: =I35*J35 -> 0
B36: 3.2.5 | C36: Engineer/Technologist (Mechanical and Structural) | D36: Hour | E36: 40 | F36: 26 | H36: =G36*E36 -> 0 | I36: =F36*H36 -> 0 | J36: 2 | K36: =I36*J36 -> 0
B37: 3.2.6 | C37: Senior Technician (Mechanical and Structural) | D37: Hour | E37: 40 | F37: 13 | H37: =G37*E37 -> 0 | I37: =F37*H37 -> 0 | J37: 2 | K37: =I37*J37 -> 0
B38: 3.2.7 | C38: Technician (Mechanical and Structural) | D38: Hour | E38: 40 | F38: 13 | H38: =G38*E38 -> 0 | I38: =F38*H38 -> 0 | J38: 2 | K38: =I38*J38 -> 0
B39: 3.3 | C39: OVERTIME (SUNDAY & PPH) - TECHNICAL
B40: 3.3.1 | C40: Engineering expert | D40: Hour | E40: 8 | F40: 1 | H40: =G40*E40 -> 0 | I40: =F40*H40 -> 0 | J40: 2 | K40: =I40*J40 -> 0
B41: 3.3.2 | C41: Specialist (Mechanical and Structural) | D41: Hour | E41: 10 | F41: 13 | H41: =G41*E41 -> 0 | I41: =F41*H41 -> 0 | J41: 2 | K41: =I41*J41 -> 0
B42: 3.3.3 | C42: Chief Engineer/Technologist (Mechanical and Structural) | D42: Hour | E42: 10 | F42: 6 | H42: =G42*E42 -> 0 | I42: =F42*H42 -> 0 | J42: 2 | K42: =I42*J42 -> 0
...

Sheet Quality
C1: ENGINEERING - QUALITY
B3: Item | C3: Description | D3: Unit | E3: Quantity | F3: Number | G3: Rate | H3: Total per annum per person | I3: Total per annum | J3: Duration (years) | K3: Total for 2 years
C5: CATEGORY 4 SAFETY HEALTH ENVIRONMENT AND QUALITY
B6: 1 | C6: P&Gs
B7: 1.1 | C7: Traveling Cost | D7: km | E7: =1200360*30% -> 360108 | H7: =G7*E7 -> 0 | J7: 2 | K7: =J7*H7 -> 0
B8: 1.2 | C8: Accommodation | D8: per night | E8: =(12*12*70)*30% -> 3024 | H8: =E8*G8 -> 0 | J8: 2 | K8: =J8*H8 -> 0
B9: 1.3 | C9: Toll Fees | D9: Per toll | E9: =(10*70*12)*30% -> 2520 | H9: =E9*G9 -> 0 | J9: 2 | K9: =J9*H9 -> 0
A10: =SUM(#REF!,#REF!,#REF!,#REF!,#REF!,#REF!,#REF!,#REF!) -> #REF! | B10: 1.4 | C10: Medicals (Entry & Exit) | D10: Annual | E10: =SUM($F$14:$F$17) -> 19 | H10: =E10*G10 -> 0 | J10: 3 | K10: =J10*H10 -> 0
B11: 1.5 | C11: PPE | D11: Annual | E11: =SUM($F$14:$F$17) -> 19 | H11: =G11*E11 -> 0 | J11: 2 | K11: =J11*H11 -> 0
C12: SUB-TOTAL P&G | K12: =SUM(K7:K11) -> 0
B13: 2 | C13: Labour
B14: 2.1 | C14: Quality Engineer | D14: Hour | E14: 792 | F14: 5 | H14: =G14*E14 -> 0 | I14: =F14*H14 -> 0 | J14: 2 | K14: =I14*J14 -> 0
B15: 2.2 | C15: Quality Controllers | D15: Hour | E15: 2376 | F15: 10 | H15: =G15*E15 -> 0 | I15: =F15*H15 -> 0 | J15: 2 | K15: =I15*J15 -> 0
B16: 2.3 | C16: Senior Environmental Officer | D16: Hour | E16: 1 | F16: 1 | H16: =G16*E16 -> 0 | I16: =F16*H16 -> 0 | J16: 2 | K16: =I16*J16 -> 0
B17: 2.4 | C17: Environmental Officer | D17: Hour | E17: 3 | F17: 3 | H17: =G17*E17 -> 0 | I17: =F17*H17 -> 0 | J17: 2 | K17: =I17*J17 -> 0
C18: SUB-TOTAL LABOUR | K18: =SUM(K14:K17) -> 0
B20: 3 | C20: OVERTIME
B21: 3.1 | C21: OVERTIME (MONDAY - FRIDAY) - SAFETY HEALTH ENVIRONMENT AND QUALITY
B22: 3.1.1 | C22: Quality Engineer | D22: Hour | E22: =10*2*4 -> 80 | F22: 5 | H22: =G22*E22 -> 0 | I22: =F22*H22 -> 0 | J22: 2 | K22: =I22*J22 -> 0
B23: 3.1.2 | C23: Quality Controllers | D23: Hour | E23: =5*2*12 -> 120 | F23: 10 | H23: =G23*E23 -> 0 | I23: =F23*H23 -> 0 | J23: 2 | K23: =I23*J23 -> 0
B24: 3.2 | C24: OVERTIME (SATURDAY) - SAFETY HEALTH ENVIRONMENT AND QUALITY
B25: 3.2.1 | C25: Quality Engineer | D25: Hour | E25: =5*2*4 -> 40 | F25: 5 | H25: =G25*E25 -> 0 | I25: =F25*H25 -> 0 | J25: 2 | K25: =I25*J25 -> 0
B26: 3.2.2 | C26: Quality Controllers | D26: Hour | E26: =5*2*12 -> 120 | F26: 10 | H26: =G26*E26 -> 0 | I26: =F26*H26 -> 0 | J26: 2 | K26: =I26*J26 -> 0
B28: 3.3 | C28: OVERTIME (SUNDAY & PPH) - SAFETY HEALTH ENVIRONMENT AND QUALITY
B29: 3.3.1 | C29: Quality Engineer | D29: Hour | E29: =5*2*6 -> 60 | F29: 5 | H29: =G29*E29 -> 0 | I29: =F29*H29 -> 0 | J29: 2 | K29: =I29*J29 -> 0
B30: 3.3.2 | C30: Quality Controllers | D30: Hour | E30: =5*2*12 -> 120 | F30: 10 | H30: =G30*E30 -> 0 | I30: =F30*H30 -> 0 | J30: 2 | K30: =I30*J30 -> 0
C31: SUB-TOTAL OVERTIME (SUNDAY & PPH) | K31: =SUM(K22:K30) -> 0
C32: TOTAL SAFETY HEALTH ENVIRONMENT AND QUALITY | K32: =SUM($K$31,$K$18,$K$12) -> 0
C35: TOTAL EXCL. VAT 2 YEARS | K35: =K32 -> 0

Sheet SUMMARY 
A2: DESCRIPTION | B2: TOTAL EXCL. VAT
A3: CATEGORY 1 PROJECT MANAGEMENT SERVICES | B3: =PMS!K36 -> 0
A4: CATEGORY 2 PROJECT PLANNING SERVICES | B4: =PPS!K35 -> 0
A5: CATEGORY 3 ENGINEERING-ELECTRICAL AND CONTROL&INSTRUMENTATION | B5: =Elec_Control!K50 -> 0
A6: CATEGORY 4 ENGINEERING- CIVIL AND GEOTECHNICAL | B6: ='Civil-Geotech'!K50 -> 0
A7: CATEGORY 5 ENGINEERING- MECHANICAL AND STRUCTURAL | B7: =Mech_Struct!K50 -> 0
A8: CATEGORY 6 ENGINEERING - QUALITY | B8: =Quality!K35 -> 0
A9: Total Excl. VAT | B9: =SUM(B3:B8) -> 0

Sheet PPE 
A4: Item | B4: Description | C4: UoM | D4: Annual Issue per person (Qty) | E4: Rate | F4: Amount
A5: 1 | B5: Hard hats with strips (Hooked on the hats itself not inside) | C5: Annual | D5: 1 | F5: =D5*E5 -> 0
A6: 2 | B6: Body, Overalls | C6: PP/Annual | D6: 1 | F6: =D6*E6 -> 0
A7: 3 | B7: Rainsuit | C7: PP/Annual | D7: 1 | F7: =D7*E7 -> 0
A8: 4 | B8: Shoes (Safety Boots) | C8: PP/Annual | D8: 1 | F8: =D8*E8 -> 0
A9: 5 | B9: Ear plugs (100 pack) | C9: Annual | D9: =(4*12*130)/100 +1 -> 63.4 | F9: =(D9*E9)/130 -> 0
A10: 6 | B10: Safety goggles | C10: PP/Annual | D10: 1 | F10: =D10*E10 -> 0
A11: 7 | B11: Winter Jackets | C11: PP/Annual | D11: 0.5 | F11: =D11*E11 -> 0
A12: 8 | B12: Dust mask | C12: PP/Annual | D12: =(4*12*130) -> 6240 | F12: =(D12*E12)/130 -> 0
A13: 10 | B13: Hands, Gloves Pig skin | C13: PP/Annual | D13: 2 | F13: =D13*E13 -> 0
D14: TOTAL VALUE FOR HEALTH AND SAFETY PER TEAM PER ANNUM | F14: =SUM(F5:F13) -> 0
