Workbook
Name \A: #REF!
Name \A: #REF!
Name \B: #REF!
Name \C: #REF!
Name \D: #REF!
Name \E: #REF!
Name \F: #REF!
Name \G: #REF!
Name \H: #REF!
Name \J: #REF!
Name \K: #REF!
Name \Q: #REF!
Name ______SEC1200: #REF!
Name _____SEC1200: #REF!
Name ____SEC1200: #REF!
Name ___SEC1200: #REF!
Name __SEC1200: #REF!
Name _1SCHEDULE_1: #REF!
Name _2SCHEDULE_2: #REF!
Name _hhh2: #REF!
Name _SEC1200: #REF!
Name ALL: #REF!
Name BIGEN_AFRICA_no: #REF!
Name Contract_Description: #REF!
Name CONTRACT_NAME: #REF!
Name CONTRACT_NAME: #REF!
Name Contract_no: #REF!
Name D: #REF!
Name D: #REF!
Name data: #REF!
Name data: #REF!
Name data1: #REF!
Name data1: #REF!
Name data2: #REF!
Name data2: #REF!
Name Date: #REF!
Name Date: #REF!
Name hhh: #REF!
Name Items_01: #REF!
Name New: #REF!
Name SCHED1: #REF!
Name SCHED2: #REF!
Name SCHED2A: #REF!
Name VO1_ch133: #REF!

Sheet 1-admin
A2: =+works!B3 -> Metsimaholo Local Municipality
A3: Construction of stormwater channels in Themba Khubeka and Zamdela
A5: Item | B5: Payment | C5: Item Description | D5: Unit | E5: Quantities | F5: Rate | G5: Amount
A6: number | B6: reference | G6: Rands.cents
B7: SANS | C7: Schedule A
B8: 1200 | C8: Preliminary & General and Health & Safety schedules
A12: 1.1 | C12: Preliminary & General allowances
A14: 1.1.1 | B14: A8.3 | C14: Fixed contractual requirements affecting the Contractor as specified in | D14: sum | E14: 1
C15: the items A8.3 (all costs inclusive to items 8.3.1 to 8.3.4)
A16: 1.1.2 | B16: A8.4 | C16: Time related contractual requirements affecting the Contractor for the | D16: sum | E16: 1
C17: duration of the Contract as specified in the items A8.4 (all costs inclusive
C18: to items A8.4.1 to A8.4.5)
A20: 1.2 | C20: Provisional sums by the Engineer
A22: 1.2.1 | B22: A8.5a | C22: Provisional sum for various tests requested by the Engineer - other | D22: Prov | E22: 1 | F22: 30000 | G22: =ROUND(E22*F22,2) -> 30000
C23: than the tests that are required to do by the Contractor under the various
C24: SANS 1200 pay items (refer to the relevant SANS 1200 testing
C25: requirements for the various work activities)
A27: 1.3 | C27: Occupational Health & Safety
A29: 1.3.1 | C29: All Health and Safety matters as described in the Tender Document with | D29: sum | E29: 1
C30: financial implications to this Contract using reference to the Construction
C31: Regulations of the Occupational health & Safety (Regulation 3, 5 & 7)
C32: Act no. 85/1993, specifically to H&S plan, File, registry file, training and
C33: training file, training provider, protective gear, first aid & fire fighting gear &
C34: training of it, medical tests etc.(this pay item to cover all aspects and
C35: requirements of the Occupational Health and Safety regulation relating to
C36: the type of works as described in this Bill of Quantities for the duration of
C37: the whole of the Contract)
A60: =C7&" total carried to FINAL Summary page" -> Schedule A total carried to FINAL Summary page

Sheet works
B3: Metsimaholo Local Municipality
B4: Construction of stormwater channels in Themba Khubeka
B10: SECTION 1
D16: CONSTRUCTION OF THEMBA KHUBEKA STORMWATER CHANNEL

Sheet schedule A1
B3: =+works!B3 -> Metsimaholo Local Municipality
B4: Construction of stormwater channels in Themba Khubeka
B6: Item | C6: Payment | D6: Item Description | E6: Unit | F6: Quantities | G6: Rate | H6: Amount
B7: number | C7: reference | H7: Rands.cents
C8: SANS | D8: Schedule A
C9: 1200 | D9: Preliminary & General and Health & Safety schedules
B13: 1.1 | D13: Preliminary & General allowances
B15: 1.1.1 | C15: A8.3 | D15: Fixed contractual requirements affecting the Contractor as specified in | E15: sum | F15: 1
D16: the items A8.3 (all costs inclusive to items 8.3.1 to 8.3.4)
B17: 1.1.2 | C17: A8.4 | D17: Time related contractual requirements affecting the Contractor for the | E17: sum | F17: 1
D18: duration of the Contract as specified in the items A8.4 (all costs inclusive
D19: to items A8.4.1 to A8.4.5)
B21: 1.2 | D21: Provisional sums by the Engineer
B23: 1.2.1 | C23: A8.5a | D23: Provisional sum for various tests requested by the Engineer - other | E23: Prov | F23: 1 | G23: 30000 | H23: =ROUND(F23*G23,2) -> 30000
D24: than the tests that are required to do by the Contractor under the various
D25: SANS 1200 pay items (refer to the relevant SANS 1200 testing
D26: requirements for the various work activities)
B28: 1.3 | D28: Occupational Health & Safety
B30: 1.3.1 | D30: All Health and Safety matters as described in the Tender Document with | E30: sum | F30: 1
D31: financial implications to this Contract using reference to the Construction
D32: Regulations of the Occupational health & Safety (Regulation 3, 5 & 7)
D33: Act no. 85/1993, specifically to H&S plan, File, registry file, training and
D34: training file, training provider, protective gear, first aid & fire fighting gear &
D35: training of it, medical tests etc.(this pay item to cover all aspects and
D36: requirements of the Occupational Health and Safety regulation relating to
D37: the type of works as described in this Bill of Quantities for the duration of
D38: the whole of the Contract)
B61: =D8&" total carried to Summary page" -> Schedule A total carried to Summary page

Sheet 2 street1-0to280-1
B2: =+works!B3 -> Metsimaholo Local Municipality
B3: =+works!B4 -> Construction of stormwater channels in Themba Khubeka
B5: Item | C5: Payment | D5: Item Description | E5: Unit | F5: Quantities | G5: Rate | H5: Amount
B6: number | C6: reference | H6: Rands.cents
C7: SANS | D7: Schedule 1
C8: 1 200 | D8: Street 1 - from chainage 0 to chainage 280
D9: Refer to drawings : 4230/2/C/1 & 2 Revision 0
D12: Supply, install/construct the following items :
B14: 2.2 | D14: Earthen storm water channel on Street 1
B16: 2.2.1 | D16: Blade, shape and compact natural earthen storm water channel along | E16: m | F16: 280
D17: Street 1 from chainage 0 - 280 to lines and levels as on the design
D18: drawings. Action requires application of road construction plant comprising
D19: of grader, roller and water cart. Berm on western side of earthen channel
D20: to be shaped and compacted from bladed material.
B60: =D7&" total carried to summary page" -> Schedule 1 total carried to summary page

Sheet 2 street1-0to280-2
A2: =+works!B3 -> Metsimaholo Local Municipality
A3: =+works!B4 -> Construction of stormwater channels in Themba Khubeka
A5: Item | B5: Payment | C5: Item Description | D5: Unit | E5: Quantities | F5: Rate | G5: Amount
A6: number | B6: reference | G6: Rands.cents
B7: SANS | C7: Schedule 2 continued
B8: 1 200 | C8: =+'2 street1-0to280-1'!D8 -> Street 1 - from chainage 0 to chainage 280
C9: Refer to drawings : 4230/2/C/2 Revision 0
C12: Form works
A13: 2.3.4 | C13: Rough vertical form work to edges of concrete channels | D13: m² | E13: =ROUNDUP(280*0.25*2,0) -> 140 | G13: Rate only
C14: Joints
A15: 2.3.5 | B15: G8.5 | C15: 10 mm construction joint in 125 mm thick concrete storm water lining | D15: m | E15: =ROUNDUP(280/30*6,2) -> 56 | G15: Rate only
C16: with 12 mm jointex filling and capped with horizontal polysulfide at 30 m
C17: intervals as indicated on the drawing detail
A19: 2.4 | C19: Construction of Street 1 (length 280 m width 6 m)
C21: General clearance works & bulk excavation
A22: 2.4.1 | B22: DM8.3.1 | C22: Clear site (rate shall cover the costs for activities as described in | D22: m² | E22: =ROUNDUP(E28,0) -> 1932 | G22: Rate only
C23: SANS 1200 C)
C24: Excavation
A25: 2.4.2 | C25: Excavation from natural ground to formation level of road layer works | D25: m³ | E25: =ROUNDUP(1208.74*37%,0)+ROUNDUP(E28*0.355,0) -> 1134 | G25: Rate only
C26: and spoil material at designated spoil area (box cut)
C27: Excavated surface treatment
A28: 2.4.3 | B28: DM8.3.3.a2 | C28: Rip in-situ formation layer below area of road layer works to a depth | D28: m² | E28: =ROUNDUP(280*6.9,0) -> 1932 | G28: Rate only
C29: of 150 mm and compact to 93% Mod AASHTO density
C30: Sub grade fill - Upper Selected layer
A31: 2.4.4 | B31: DM8.3.5 | C31: Upper selected layer - 150 mm thick G5 material imported from borror pit, | D31: m³ | E31: =ROUNDUP(E28*0.15,0) -> 290 | G31: Rate only
C32: compacted to 95% Mod AASHTO density
C33: Sub-base course
A34: 2.4.5 | B34: ME8.3.1 | C34: 125 mm thick G5 material imported from borrow pit and compacted to | D34: m³ | E34: =ROUNDUP(E28*0.125,0) -> 242 | G34: Rate only
C35: 97% Mod AASHTO density & stabilized to C4 strength
A36: 2.4.6 | B36: ME8.3.5d | C36: Process sub-base material by stabilization | D36: m³ | E36: =+E34 -> 242 | G36: Rate only
A37: 2.4.7 | B37: ME8.3.8 | C37: RoadCem CEM II 32.5 N applied @ 3.0% / volume for stabilization | D37: t | E37: =ROUNDUP((E36*2.1*3%),2) -> 15.25 | G37: Rate only
C38: Paving Block surface finishing
A39: 2.4.8 | B39: MJ8.2.2 | C39: 60 mm type S-A interlocking 30 mPa concrete paving blocks with the 20 | D39: m² | E39: =ROUNDUP(280*6,0) -> 1680 | G39: Rate only
C40: mm thick sand layer included
A41: 2.4.9 | B41: MJ8.2.3 | C41: Allow for cutting of concrete paving blocks | D41: m | E41: =+E42+E43+E44 -> 574 | G41: Rate only
C42: Kerbing
A43: 2.4.10 | B43: MK8.2.1a&b | C43: Figure 9e - mountable kerbs on straight lines | D43: m | E43: =ROUNDUP(280*2,0) -> 560 | G43: Rate only
A44: 2.4.11 | B44: MK8.2.1a&b | C44: Figure 1 - rectangular curbs on straight line at end of road | D44: m | E44: =ROUNDUP(6.9*2,0) -> 14 | G44: Rate only
A60: =C7&" total carried to summary page" -> Schedule 2 continued total carried to summary page

Sheet 3 street1-280to525-1
B2: =+works!B3 -> Metsimaholo Local Municipality
B3: =+works!B4 -> Construction of stormwater channels in Themba Khubeka
B5: Item | C5: Payment | D5: Item Description | E5: Unit | F5: Quantities | G5: Rate | H5: Amount
B6: number | C6: reference | H6: Rands.cents
C7: SANS | D7: Schedule 2
C8: 1 200 | D8: Street 1 - from chainage 280 to chainage 525
D9: Refer to drawings : 4230/2/C/1 & 2 Revision 0
D12: Supply, install/construct the following items :
B14: 3.1 | D14: Storm water channel (length 245 m width 6 m)
D16: General clearance works
B17: 3.1.1 | C17: DM8.3.1 | D17: Clear site (rate shall cover the costs for activities as described in | E17: m² | F17: =ROUNDUP(F23,0) -> 1530
D18: SANS 1200 C)
D19: Excavation
B20: 3.1.2 | D20: Excavation from natural ground to formation level of storm water channel | E20: m³ | F20: =ROUNDUP(946.09*63%,0)+ROUNDUP((F23*0.375),0) -> 1171
D21: layer works and spoil material at designated spoil area (box cut)
D22: Excavated surface treatment
B23: 3.1.3 | C23: DM8.3.3.a2 | D23: Rip in-situ formation layer below area of storm water channels to a depth | E23: m² | F23: =ROUNDUP((525-280)*6+15*2*2,0) -> 1530
D24: of 150 mm and compact to 93% Mod AASHTO density
D25: Sub grade fill - Upper Selected layer
B26: 3.1.4 | C26: DM8.3.5 | D26: Upper selected layer - 125 mm thick G5 material imported from borror pit, | E26: m³ | F26: =ROUNDUP((F$23*0.125),0) -> 192
D27: compacted to 95% Mod AASHTO density
D28: Sub-base course
B29: 3.1.5 | C29: ME8.3.1 | D29: 125 mm thick G5 material imported from borrow pit and compacted to | E29: m³ | F29: =ROUNDUP((F$23*0.125),0) -> 192
D30: 97% Mod AASHTO density & stabilized to C4 strength
B31: 3.1.6 | C31: ME8.3.5d | D31: Process sub-base material by stabilization | E31: m³ | F31: =+F29 -> 192
B32: 3.1.7 | C32: ME8.3.8 | D32: RoadCem CEM II 32.5 N applied @ 3.0% / volume for stabilization | E32: t | F32: =ROUNDUP((F31*2.1*3%),2) -> 12.1
B33: 3.1.8 | C33: DM8.3.13 | D33: Surface finishing on edge/shoulder of storm water channel with 125 mm | E33: m² | F33: =ROUNDUP(245*1,0) -> 245
D34: thick imported G5 material to a minimum width of 1 m
B36: 3.2 | D36: Stormwater concrete finishing
D38: Concrete channels
B39: 3.2.1 | C39: G8.4.3.1 | D39: 245 m long x 6000 mm wide x 125 mm thick channel including 125 mm x | E39: m³ | F39: =ROUNDUP(((525-280)*6+15*2*2)*0.125+0.125*0.15*245*2,0) -> 201
D40: 200 mm toes along both edges with 25 mPa concrete
C41: G8.4.3.2 | D41: 123 m long x 6000 mm wide x 125 mm thick channel including 125 mm x | E41: m³ | F41: =F39/2 -> 100.5
D42: 200 mm toes along both edges with 30 mPa concrete
D43: Reinforcement
B44: 3.2.2 | C44: G8.3.2 | D44: Type 311 fabric reinforcement in 125 mm concrete slab in single | E44: m² | F44: 1530
D45: horizontal layer
D46: Surface finishing
B47: 3.2.3 | C47: G8.4.4 | D47: Uniform wood float finish on horizontal surface of 125 mm thick concrete | E47: m² | F47: 1530
D48: surface
...

Sheet 3 street1-280to525-2
A2: =+works!B3 -> Metsimaholo Local Municipality
A3: =+works!B4 -> Construction of stormwater channels in Themba Khubeka
A5: Item | B5: Payment | C5: Item Description | D5: Unit | E5: Quantities | F5: Rate | G5: Amount
A6: number | B6: reference | G6: Rands.cents
B7: SANS | C7: Schedule 3 continued
B8: 1 200 | C8: =+'3 street1-280to525-1'!D8 -> Street 1 - from chainage 280 to chainage 525
C9: Refer to drawings : 4230/2/C/2 Revision 0
A10: =+'3 street1-280to525-1'!#REF! -> #REF!
A12: 3.3 | C12: Construction of Street 1 (length 245 m width 6 m)
C14: General clearance works & bulk excavation
A15: 3.3.1 | B15: DM8.3.1 | C15: Clear site (rate shall cover the costs for activities as described in | D15: m² | E15: =ROUNDUP(E21,0) -> 1691 | G15: Rate only
C16: SANS 1200 C)
C17: Excavation
A18: 3.3.2 | C18: Excavation from natural ground to formation level of road layer works | D18: m³ | E18: =ROUNDUP(946.09*37%,0)+ROUNDUP(E21*0.355,0) -> 952 | G18: Rate only
C19: and spoil material at designated spoil area (box cut)
C20: Excavated surface treatment
A21: 3.3.4 | B21: DM8.3.3.a2 | C21: Rip in-situ formation layer below area of road layer works to a depth | D21: m² | E21: =ROUNDUP(245*6.9,0) -> 1691 | G21: Rate only
C22: of 150 mm and compact to 93% Mod AASHTO density
C23: Sub grade fill - Upper Selected layer
A24: 3.3.6 | B24: DM8.3.5 | C24: Upper selected layer - 150 mm thick G5 material imported from borror pit, | D24: m³ | E24: =ROUNDUP(E21*0.15,0) -> 254 | G24: Rate only
C25: compacted to 95% Mod AASHTO density
C26: Sub-base course
A27: 3.3.7 | B27: ME8.3.1 | C27: 125 mm thick G5 material imported from borrow pit and compacted to | D27: m³ | E27: =ROUNDUP(E21*0.125,0) -> 212 | G27: Rate only
C28: 97% Mod AASHTO density & stabilized to C4 strength
A29: 3.3.8 | B29: ME8.3.5d | C29: Process sub-base material by stabilization | D29: m³ | E29: =+E27 -> 212 | G29: Rate only
A30: 3.3.9 | B30: ME8.3.8 | C30: RoadCem CEM II 32.5 N applied @ 3.0% / volume for stabilization | D30: t | E30: =ROUNDUP((E29*2.1*3%),2) -> 13.36 | G30: Rate only
C31: Paving Block surface finishing
A32: 3.3.10 | B32: MJ8.2.2 | C32: 60 mm type S-A interlocking 30 mPa concrete paving blocks with the 20 | D32: m² | E32: =ROUNDUP(245*6,0) -> 1470 | G32: Rate only
C33: mm thick sand layer included
A34: 3.3.11 | B34: MJ8.2.3 | C34: Allow for cutting of concrete paving blocks | D34: m | E34: =+E35+E36+E37 -> 497 | G34: Rate only
C35: Kerbing
A36: 3.3.12 | B36: MK8.2.1a&b | C36: Figure 9e - mountable kerbs on straight lines | D36: m | E36: =ROUNDUP(245*2-8-6-10,0) -> 466 | G36: Rate only
A37: 3.3.13 | B37: MK8.2.1a&b | C37: Figure 1 - rectangular curbs on straight line at end of road | D37: m | E37: =ROUNDUP(6.9+8+6+10,0) -> 31 | G37: Rate only
A60: =C7&" total carried to summary page" -> Schedule 3 continued total carried to summary page

Sheet 4 street2-1
B2: =+works!B3 -> Metsimaholo Local Municipality
B3: =+works!B4 -> Construction of stormwater channels in Themba Khubeka
B5: Item | C5: Payment | D5: Item Description | E5: Unit | F5: Quantities | G5: Rate | H5: Amount
B6: number | C6: reference | H6: Rands.cents
C7: SANS | D7: Schedule 3
C8: 1 200 | D8: Street 2 - full length - 406 m long
D9: Refer to drawings : 4230/2/C/1 & 2 Revision 0
D12: Supply, install/construct the following items :
B14: 4.1 | D14: Storm water channel (length ±414 m width 4.5 m)
D16: General clearance works
B17: 4.1.1 | C17: DM8.3.1 | D17: Clear site (rate shall cover the costs for activities as described in | E17: m² | F17: =ROUNDUP(F23,0) -> 1863
D18: SANS 1200 C)
D19: Excavation
B20: 4.1.2 | D20: Excavation from natural ground to formation level of storm water channel | E20: m³ | F20: =ROUNDUP(1728.08*75%,0)+ROUNDUP((F23*0.375),0) -> 1996
D21: layer works and spoil material at designated spoil area (box cut)
D22: Excavated surface treatment
B23: 4.1.3 | C23: DM8.3.3.a2 | D23: Rip in-situ formation layer below area of storm water channels to a depth | E23: m² | F23: =ROUNDUP(414*4.5,0) -> 1863
D24: of 150 mm and compact to 93% Mod AASHTO density
D25: Sub grade fill - Upper Selected layer
B26: 4.1.4 | C26: DM8.3.5 | D26: Upper selected layer - 125 mm thick G5 material imported from borror pit, | E26: m³ | F26: =ROUNDUP((F$23*0.125),0) -> 233
D27: compacted to 95% Mod AASHTO density
D28: Sub-base course
B29: 4.1.5 | C29: ME8.3.1 | D29: 125 mm thick G5 material imported from borrow pit and compacted to | E29: m³ | F29: =ROUNDUP((F$23*0.125),0) -> 233
D30: 97% Mod AASHTO density & stabilized to C4 strength
B31: 4.1.6 | C31: ME8.3.5d | D31: Process sub-base material by stabilization | E31: m³ | F31: =+F29 -> 233
B32: 4.1.7 | C32: ME8.3.8 | D32: RoadCem CEM II 32.5 N applied @ 3.0% / volume for stabilization | E32: t | F32: =ROUNDUP((F31*2.1*3%),2) -> 14.68
B33: 4.1.8 | D33: Surface finishing on edge/shoulder of storm water channel with 125 mm | E33: m² | F33: =ROUNDUP((409-3-10+10*2*PI()/4)*1,0) -> 412
D34: thick imported G5 material to a minimum width of 1 m
B36: 4.2 | D36: Stormwater concrete finishing
D38: Concrete channels
B39: 4.2.1 | C39: G8.4.3.1 | D39: 406 m long x 6000 mm wide x 125 mm thick channel including 125 mm x | E39: m³ | F39: 325
D40: 200 mm toes along both edges with 25 mPa concrete
C41: G8.4.3.2 | D41: 203 m long x 6000 mm wide x 125 mm thick channel including 125 mm x | E41: m³ | F41: 163
D42: 200 mm toes along both edges with 30 mPa concrete
D43: Reinforcement
B44: 4.2.2 | C44: G8.3.2 | D44: Type 311 fabric reinforcement in 125 mm concrete slab in single | E44: m² | F44: 2500
D45: horizontal layer
D46: Surface finishing
B47: 4.2.3 | C47: G8.4.4 | D47: Uniform wood float finish on horizontal surface of 125 mm thick concrete | E47: m² | F47: 2500
D48: surface
...

Sheet 4 street2-2
B2: =+works!B3 -> Metsimaholo Local Municipality
B3: =+works!B4 -> Construction of stormwater channels in Themba Khubeka
B5: Item | C5: Payment | D5: Item Description | E5: Unit | F5: Quantities | G5: Rate | H5: Amount
B6: number | C6: reference | H6: Rands.cents
C7: SANS | D7: Schedule 3 continued
C8: 1 200 | D8: =+'4 street2-1'!D8 -> Street 2 - full length - 406 m long
D9: Refer to drawings : 4230/2/C/2 Revision 0
B12: 4.3 | D12: Construction of Street 2 (length 406 m width 6 m)
D14: General clearance works & bulk excavation
B15: 4.3.1 | C15: DM8.4.1 | D15: Clear site (rate shall cover the costs for activities as described in | E15: m² | F15: =ROUNDUP(F21,0) -> 2837
D16: SANS 1200 C)
D17: Excavation
B18: 4.3.2 | D18: Excavation from natural ground to formation level of road layer works | E18: m³ | F18: =ROUNDUP(1728.08*25%,0)+ROUNDUP(F21*0.355,0) -> 1441
D19: and spoil material at designated spoil area (box cut)
D20: Excavated surface treatment
B21: 4.3.3 | C21: DM8.4.4.a2 | D21: Rip in-situ formation layer below area of road layer works to a depth | E21: m² | F21: =ROUNDUP(406*6.9+(8*8-8^2*PI()/4)+(10*10-10^2*PI()/4),0) -> 2837
D22: of 150 mm and compact to 93% Mod AASHTO density
D23: Sub grade fill - Upper Selected layer
B24: 4.3.4 | C24: DM8.4.5 | D24: Upper selected layer - 150 mm thick G5 material imported from borror pit, | E24: m³ | F24: =ROUNDUP(F21*0.15,0) -> 426
D25: compacted to 95% Mod AASHTO density
D26: Sub-base course
B27: 4.3.5 | C27: ME8.4.1 | D27: 125 mm thick G5 material imported from borrow pit and compacted to | E27: m³ | F27: =ROUNDUP(F21*0.125,0) -> 355
D28: 97% Mod AASHTO density & stabilized to C4 strength
B29: 4.3.6 | C29: ME8.4.5d | D29: Process sub-base material by stabilization | E29: m³ | F29: =+F27 -> 355
B30: 4.3.7 | C30: ME8.4.8 | D30: RoadCem CEM II 32.5 N applied @ 3.0% / volume for stabilization | E30: t | F30: =ROUNDUP((F29*2.1*3%),2) -> 22.37
D31: Paving Block surface finishing
B32: 4.3.8 | C32: MJ8.2.2 | D32: 60 mm type S-A interlocking 30 mPa concrete paving blocks with the 20 | E32: m² | F32: =ROUNDUP(406*6+(8*8-8^2*PI()/4)+(10*10-10^2*PI()/4),0) -> 2472
D33: mm thick sand layer included
B34: 4.3.9 | C34: MJ8.2.3 | D34: Allow for cutting of concrete paving blocks | E34: m | F34: =+F35+F36+F38 -> 419
D35: Kerbing
B36: 4.3.10 | C36: MK8.2.1a&b | D36: Figure 9e - mountable kerbs on straight lines | E36: m | F36: =ROUNDUP(406-8-10,0) -> 388
B37: 4.3.11 | C37: MK8.2.1a&b | D37: Figure 9e - mountable kerbs at curving lines with radius less than 20 m | E37: m | F37: =ROUNDUP(8*2*PI()/4+10*2*PI()/4,0) -> 29
B38: 4.3.12 | C38: MK8.2.1a&b | D38: Figure 1 - rectangular curbs on straight line at end of road | E38: m | F38: =ROUNDUP(6.9+8+6+10,0) -> 31
B60: =D7&" total carried to summary page" -> Schedule 3 continued total carried to summary page

Sheet sum
B3: =+works!B3 -> Metsimaholo Local Municipality
B4: =+works!B4 -> Construction of stormwater channels in Themba Khubeka
B6: Summary of the Schedule of Quantities
B8: Schedule number | C8: Schedule description | D8: Schedule value
B9: Schedule A | C9: =+'[1]1-admin'!C8 -> Preliminary & General and Health & Safety schedules
B10: =+'2 street1-0to280-1'!D7 -> Schedule 1 | C10: =+'2 street1-0to280-1'!D8 -> Street 1 - from chainage 0 to chainage 280
B11: =+'3 street1-280to525-1'!D7 -> Schedule 2 | C11: =+'3 street1-280to525-1'!D8 -> Street 1 - from chainage 280 to chainage 525
B12: =+'4 street2-1'!D7 -> Schedule 3 | C12: =+'4 street2-1'!D8 -> Street 2 - full length - 406 m long
B20: Sub - total : construction value :
B22: Add 10% of construction value for contingencies : | C22: Add estimated (10% of construction value) contingencies
B24: Sub - total : construction and contingency value : | C24: Total construction and contingency value
B26: Add 15% Value Added Tax : | C26: Add 14% Value Added Tax
B28: Total tender amount carried to form of offer : | C28: Total value carried to Tender Document's front page

Sheet Sheet5
B3: Metsimaholo Local Municipality
B4: Construction of stormwater channels in Zamdela
B10: SECTION 2
D16: CONSTRUCTION OF ZAMDELA STORMWATER CHANNEL

Sheet schedule A2
B3: =+works!B3 -> Metsimaholo Local Municipality
B4: Construction of stormwater channels in Zamdela
B6: Item | C6: Payment | D6: Item Description | E6: Unit | F6: Quantities | G6: Rate | H6: Amount
B7: number | C7: reference | H7: Rands.cents
C8: SANS | D8: Schedule A
C9: 1200 | D9: Preliminary & General and Health & Safety schedules
B13: 1.1 | D13: Preliminary & General allowances
B15: 1.1.1 | C15: A8.3 | D15: Fixed contractual requirements affecting the Contractor as specified in | E15: sum | F15: 1
D16: the items A8.3 (all costs inclusive to items 8.3.1 to 8.3.4)
B17: 1.1.2 | C17: A8.4 | D17: Time related contractual requirements affecting the Contractor for the | E17: sum | F17: 1
D18: duration of the Contract as specified in the items A8.4 (all costs inclusive
D19: to items A8.4.1 to A8.4.5)
B21: 1.2 | D21: Provisional sums by the Engineer
B23: 1.2.1 | C23: A8.5a | D23: Provisional sum for various tests requested by the Engineer - other | E23: Prov | F23: 1 | G23: 30000 | H23: =ROUND(F23*G23,2) -> 30000
D24: than the tests that are required to do by the Contractor under the various
D25: SANS 1200 pay items (refer to the relevant SANS 1200 testing
D26: requirements for the various work activities)
B28: 1.3 | D28: Occupational Health & Safety
B30: 1.3.1 | D30: All Health and Safety matters as described in the Tender Document with | E30: sum | F30: 1
D31: financial implications to this Contract using reference to the Construction
D32: Regulations of the Occupational health & Safety (Regulation 3, 5 & 7)
D33: Act no. 85/1993, specifically to H&S plan, File, registry file, training and
D34: training file, training provider, protective gear, first aid & fire fighting gear &
D35: training of it, medical tests etc.(this pay item to cover all aspects and
D36: requirements of the Occupational Health and Safety regulation relating to
D37: the type of works as described in this Bill of Quantities for the duration of
D38: the whole of the Contract)
B61: =D8&" total carried to Summary page" -> Schedule A total carried to Summary page

Sheet Table 2
A1: Item | B1: Payment | C1: Item Description | D1: Unit | E1: Quantities | F1: Rate | G1: Amount
A2: number | B2: reference | G2: Rands.cents
B3: SANS | C3: Schedule 1
B4: 1200 | C4: Preliminary & General and Health & Safety schedules
A7: 1.1 Preliminary & General allowances
A9: 1.1.1 | B9: A8.3 | C9: Fixed contractual requirements affecting the Contractor as specified in | D9: sum | E9: 1 | F9: 176141.31 | G9: =E9*F9 -> 176141.31 | H9: =G9/$G$55 -> 0.3260225 | I9: =$J$55*H9 -> 0
C10: the items A8.3 (all costs inclusive to items 8.3.1 to 8.3.4 )
A11: 1.1.2 | B11: A8.4 | C11: Time related contractual requirements affecting the Contractor for the | D11: sum | E11: 1 | F11: 264211.96 | G11: =E11*F11 -> 264211.96 | H11: =G11/$G$55 -> 0.48903374 | I11: =$J$55*H11 -> 0
C12: duration of the Contract as specified in the items A8.4 (all costs inclusive
C13: to items A8.4.1 to A8.4.5 )
A15: 1.2 Provisional sums by the Engineer
A17: 1.2.1 | B17: A8.5a | C17: Provisional sum for various tests requested by the Engineer - other | D17: Prov | E17: 1 | F17: 11849.56 | G17: =E17*F17 -> 11849.56 | H17: =G17/$G$55 -> 0.021932522 | I17: =$J$55*H17 -> 0
C18: than the tests that are required to do by the Contractor under the various
C19: SANS 1200 pay items (refer to the relevant SANS 1200 testing
C20: requirements for the various work activities)
A22: 1.3 Occupational Health & Safety
A24: 1.3.1 | C24: All Health and Safety matters as described in the Tender Document with | D24: sum | E24: 1 | F24: 88070.65 | G24: =E24*F24 -> 88070.65 | H24: =G24/$G$55 -> 0.16301124 | I24: =$J$55*H24 -> 0
C25: financial implications to this Contract using reference to the Construction
C26: Regulations of the Occupational health & Safety (Regulation 3, 5 & 7)
C27: Act no. 85/1993, specifically to H&S plan, File, registry file, training and
C28: training file, training provider, protective gear, first aid & fire fighting gear &
C29: training of it, medical tests etc.(this pay item to cover all aspects and
C30: requirements of the Occupational Health and Safety regulation relating to
C31: the type of works as described in this Bill of Quantities for the duration of
C32: the whole of the Contract)
A55: Schedule 1 total carried to summary page | G55: =SUM(G9:G26) -> 540273.48 | H55: =SUM(H9:H25) -> 1 | I55: =SUM(I9:I26) -> 0 | J55: ='Table 12'!K7 -> 0
A56: Bill of Quantities page number 2

Sheet Table 5
B2: Item | C2: Payment | D2: Item Description | E2: Unit | F2: Quantities | G2: Rate | H2: Amount
B3: number | C3: reference | H3: Rands.cents
C4: SANS | D4: Schedule 1
C5: 1 200 | D5: Storm water channel Portion 3 (224m - Clean & line with concrete)
D6: Refer to drawings : 4230/2/C/2 Revision 0
B9: 4.1 Clean existing storm water channel (length : 224 m)
B11: 4.1.1 | D11: Cleaning, dredging and reclamation of existing open earthen storm | E11: m | F11: 224
D12: water channel as per method statement provided
B13: 4.1.2 | D13: Clean existing box culvert crossing as per method statement provided | E13: m | F13: 14
D14: (2 x concrete box culverts, 7 m in length)
B16: 4.2 Earthworks
D18: Excavation (box cut)
B19: 4.2.1 | C19: DM8.3.7a | D19: Strip and spoil 100 mm topsoil material & spoil it at designated spoil area | E19: m³ | F19: 211
B20: 4.2.2 | C20: DM8.3.7a | D20: Excavate to fill for storm water channel | E20: m³ | F20: 266
B21: 4.2.3 | C21: DM8.3.7a | D21: Excavate to spoil for storm water channel to designated spoil area | E21: m³ | F21: 630
D22: Excavated surface treatment
B23: 4.2.4 | C23: DM8.3.3.a2 | D23: Rip in-situ formation layer below area of storm water channels to a depth | E23: m² | F23: 1792
D24: of 150 mm and compact to 93% Mod AASHTO density
D25: Dumprock fill
B26: 4.2.5 | C26: D8.3.4 | D26: 300 mm thick layer of dump rock compacted to 88% relative density | E26: m³ | F26: 262
D27: G5 imported layer
B28: 4.2.6 | C28: ME8.3.1 | D28: 125 mm thick imported G5 material compacted to 93% Mod AASHTO | E28: m³ | F28: 269
D29: density, layer laid on the dumprock layer
B31: 4.3 Concrete and related items for 224 m long channel
D33: Concrete channels
B34: 4.3.1 | C34: G8.4.3.1 | D34: 224 m long x 8000 mm wide x 100 mm thick channel with 100 mm x 250 | E34: m³ | F34: 198
D35: mm toes along both edges with 20 mPa concrete
C36: G8.4.3.2 | D36: 112 m long x 8000 mm wide x 100 mm thick channel with 100 mm x 250 | E36: m³ | F36: 90
D37: mm toes along both edges with 25 mPa concrete
D38: Reinforcement
B39: 4.3.2 | C39: G8.3.2 | D39: Type 245 fabric reinforcement in 100 mm concrete slab in single | E39: m² | F39: 1861
D40: horizontal layer
D41: Surface finishing
B42: 4.3.3 | C42: G8.4.4 | D42: Uniform wood float finish on horizontal surface of 100 mm thick concrete | E42: m² | F42: 1861
D43: channel
D44: Form works
B45: 4.3.4 | D45: Rough vertical form work to edges of concrete channels | E45: m² | F45: 90
D46: Joints : cross-sectional
B47: 4.3.5 | C47: G8.5 | D47: 10 mm construction joint in 100 mm thick concrete storm water lining | E47: m | F47: 128
D48: with 10 mm jointex filling and capped with horizontal polysulfide at 15 m
...

Sheet Table 6
B2: Item | C2: Payment | D2: Item Description | E2: Unit | F2: Quantities | G2: Rate | H2: Amount
B3: number | C3: reference | H3: Rands.cents
C4: SANS | D4: Schedule 2
C5: 1 200 | D5: Storm water channel Portion 4 (366m - Clean & line with concrete)
D6: Refer to drawings : 4230/2/C/2 Revision 0
B9: 5.1 Clean existing storm water channel (length : 366 m)
B11: 5.1.1 | D11: Cleaning, dredging and reclamation of existing open earthen storm | E11: m | F11: 366
D12: water channel as per method statement provided
B13: 5.1.2 | D13: Clean existing box culvert crossing as per method statement provided | E13: m | F13: 16
D14: (1 x concrete box culvert, 16 m in length)
B16: 5.2 Earthworks
D18: Excavation (box cut)
B19: 5.2.1 | C19: DM8.3.7a | D19: Strip and spoil 100 mm topsoil material & spoil it at designated spoil area | E19: m³ | F19: 355
B20: 5.2.2 | C20: DM8.3.7a | D20: Excavate to fill for storm water channel | E20: m³ | F20: 473
B21: 5.2.3 | C21: DM8.3.7a | D21: Excavate to spoil for storm water channel to designated spoil area | E21: m³ | F21: 995
D22: Excavated surface treatment
B23: 5.2.4 | C23: DM8.3.3.a2 | D23: Rip in-situ formation layer below area of storm water channels to a depth | E23: m² | F23: 2900
D24: of 150 mm and compact to 93% Mod AASHTO density
D25: Dumprock fill
B26: 5.2.5 | C26: D8.3.4 | D26: 300 mm thick layer of dump rock compacted to 88% relative density | E26: m³ | F26: 429
D27: G5 imported layer
B28: 5.2.6 | C28: ME8.3.1 | D28: 125 mm thick imported G5 material compacted to 93% Mod AASHTO | E28: m³ | F28: 440
D29: density, layer laid on the dumprock layer
B31: 5.3 Concrete and related items for 684 m long channel
D33: Concrete channels
B34: 5.3.1 | C34: G8.4.3.1 | D34: 366m long x 8000 mm wide x 100 mm thick channel with 100 mm x 250 | E34: m³ | F34: 311
D35: mm toes along both edges with 20 mPa concrete
C36: G8.4.3.2 | D36: 183m long x 8000 mm wide x 100 mm thick channel with 100 mm x 250 | E36: m³ | F36: 156
D37: mm toes along both edges with 25 mPa concrete
D38: Reinforcement
B39: 5.3.2 | C39: G8.3.2 | D39: Type 245 fabric reinforcement in 100 mm concrete slab in single | E39: m² | F39: 3044
D40: horizontal layer
D41: Surface finishing
B42: 5.3.3 | C42: G8.4.4 | D42: Uniform wood float finish on horizontal surface of 100 mm thick concrete | E42: m² | F42: 3044
D43: channel
D44: Form works
B45: 5.3.4 | D45: Rough vertical form work to edges of concrete channels | E45: m² | F45: 147
D46: Joints : cross-sectional
B47: 5.3.5 | C47: G8.5 | D47: 10 mm construction joint in 100 mm thick concrete storm water lining | E47: m | F47: 209
D48: with 10 mm jointex filling and capped with horizontal polysulfide at 15 m
...

Sheet Table 12
A2: Metsimaholo Local Municipality
A3: Construction of stormwater channels in Zamdela
A4: Summary of the Schedule of Quantities
A6: Schedule number | C6: Schedule description | H6: Schedule value
A7: Schedule 1 | C7: Storm water channel Portion 3 (224m - Clean & line with concrete) | K7: =K8*0.15 -> 0 | L7: 1381432.2
A8: Schedule 2 | C8: Storm water channel Portion 4 (366m - Clean & line with concrete) | K8: =H8+H7 -> 0 | L8: 2220561.3
A39: SUBTOTAL SECTION 2 CARRIED TO FINAL SUMMARY | K39: =#REF!/1.1 -> #REF! | L39: =SUM(L7:L8) -> 3601993.5

Sheet Sheet7
B3: =+works!B3 -> Metsimaholo Local Municipality
B4: Construction of stormwater channels in Zamdela
B6: Summary of the Schedule of Quantities
B8: Schedule number | C8: Schedule description | D8: Schedule value
B9: Schedule A | C9: =+'[1]1-admin'!C8 -> Preliminary & General and Health & Safety schedules
B10: =+'2 street1-0to280-1'!D7 -> Schedule 1 | C10: Stormwater channel portion 3 (224m - clean and line with concrete)
B11: =+'3 street1-280to525-1'!D7 -> Schedule 2 | C11: Stormwater channel portion 4 (366m - clean and line with concrete)
B17: Sub - total : construction value :
B19: Add 10% of construction value for contingencies : | C19: Add estimated (10% of construction value) contingencies
B21: Sub - total : construction and contingency value : | C21: Total construction and contingency value
B23: Add 15% Value Added Tax : | C23: Add 14% Value Added Tax
B25: Total tender amount carried to form of offer : | C25: Total value carried to Tender Document's front page

Sheet Sheet6
B3: =+[1]works!A2 -> Metsimaholo Local Municipality
B4: ='1-admin'!A3 -> Construction of stormwater channels in Themba Khubeka and Zamdela
B6: Summary of the Schedule of Quantities
B8: Section number | C8: Section description | D8: Section value
B9: Section 1 | C9: Construction of stormwater channels in Themba Khubeka
B10: Section 2 | C10: Construction of stormwater channels in Zamdela
B22: Sub - total : construction value :
B24: Add 10% of construction value for contingencies : | C24: Add estimated (10% of construction value) contingencies
B26: Sub - total : construction and contingency value : | C26: Total construction and contingency value
B28: Add 15% Value Added Tax : | C28: Add 14% Value Added Tax
B30: Total tender amount carried to form of offer : | C30: Total value carried to Tender Document's front page
L46: =5239752.3+5824137.92 -> 11063890
