Workbook

Sheet Read me
A1: Project: | C1: KUSILE POWER STATION PROJECT
A2: Enquiry No. | C2: ='Cover Page'!C19 -> 0
A3: Package Name: | C3: ='5.1.2 C1 BOQ'!B4 -> THE PROVISION FOR PROCUREMENT OF C&I, ELECTRICAL AND MECHANICAL MOBILE EQUIPMENT AT KUSILE POWER STATION
A4: Tenderer's Name: | C4: ='Cover Page'!C23 -> 0
A5: Category of Offer: | C5: ='Cover Page'!C25 -> 0
A7: READ ME
B9: Read these notes BEFORE you commence input or make any changes to this workbook.
B11: The Tenderer must provide a clear indication on the Cover Sheet as to whether the offer is "main" or "alternative" (and if there are several alternatives, to number them). There must be a separate Excel file for each offer if applicable
B13: NOTE: ALL CALCULATIONS ARE THE RESPONSIBILITY OF THE TENDERER, AND MUST BE CHECKED THOROUGHLY. ANY DISCREPANCY FOUND IN THE CALCULATIONS IN THIS WORKBOOK MUST BE BROUGHT TO THE ATTENTION OF ESKOM, THROUGH THE DESIGNATED BUYER!
A16: 1 | B16: This workbook contains the following sheets:
B17: Read Me | C17: This sheet provides an overview to the Tenderer of the content and role of the sheets making up the Price Schedules. It will not form part of the tender or contract.
B18: Tender Cover Sheet | C18: This is the cover sheet for Section 5.1 and provides the total tender price. It is also the source of the package name, tenderer name etc. for the other sheets.
B19: 5.1.1 Preamble | C19: This sheet provides general guidelines for this section.
B20: 5.1.2 C1 Bills of Quantity (BOQ) | C20: This is the main data entry sheet for the Tenderer to complete for section C1 - Mobile Cranes and Forklifts.
B21: 5.1.3 C2 Bills of Quantity (BOQ) | C21: This is the main data entry sheet for the Tenderer to complete for section C2 - Submersible Pumps.
B22: 5.1.4 C3 Bills of Quantity (BOQ) | C22: This is the main data entry sheet for the Tenderer to complete for section C3 - Pallet jacks and Trolleys.
B23: 5.1.5 C4 Bills of Quantity (BOQ) | C23: This is the main data entry sheet for the Tenderer to complete for section C4 - Heavy Duty Trucks.
B24: 5.1.6 C6 Bills of Quantity (BOQ) | C24: This is the main data entry sheet for the Tenderer to complete for section C6 - Mobile Compressors & Power Generators.
B25: 5.1.7 CPA Formula | C25: This sheet provides for CPA requirements.
A27: 2 | B27: Conventions used in this workbook
B28: The following conventions have been used in this workbook to facilitate its accurate use:
C29: This GREEN shading is used for cells where DATA ENTRY is required from the Tenderer. The Tenderer must complete the information in these GREEN shaded cells
C30: PLEASE REFRAIN from tampering with ANY other cells contained in this workbook as it may affect Eskom's standard formulae and lead to data integrity issues.

Sheet Cover Page
B2: KUSILE POWER STATION PROJECT
B15: PRICING INFORMATION
B17: TENDER INFORMATION
B19: ENQUIRY No.
B21: NAME OF PACKAGE: | C21: THE PROVISION FOR PROCUREMENT OF C&I, ELECTRICAL AND MECHANICAL MOBILE EQUIPMENT AT KUSILE POWER STATION
B23: TENDERER’S NAME:
B25: CATEGORY OF OFFER (MAIN, ALTERNATIVE 1, ETC):
B27: Annexure IT 5.1.2 TO 5.1.6 Bill Of Quantities
B30: C1 - MOBILE CRANES AND FORKLIFTS TENDER PRICE: IN ZAR | C30: ='5.1.2 C1 BOQ'!H23 -> 0
B31: (excluding VAT)
B34: C2 - SUBMERSIBLE PUMPS TENDER PRICE: IN ZAR | C34: ='5.1.3 C2 BOQ'!H17 -> 0
B35: (excluding VAT)
B38: C3 - PALLET JACKS AND TROLLEYS TENDER PRICE: IN ZAR | C38: ='5.1.4 C3 BOQ'!H24 -> 0
B39: (excluding VAT)
B42: C4 - HEAVY DUTY TRUCKS TENDER PRICE: IN ZAR | C42: ='5.1.5 C4 BOQ'!H16 -> 0
B43: (excluding VAT)
B46: C6 - MOBILE COMPRESSORS AND POWER GENERATORS TENDER PRICE: IN ZAR | C46: ='5.1.2 C6 BOQ'!H19 -> 0
B47: (excluding VAT)
B50: DATE :
B54: FULL NAMES OF SIGNATORY:
B58: DESIGNATION OF SIGNATORY:
B62: SIGNATURE :

Sheet 5.1.1 Preamble
A1: Project: | C1: ='[1]Tender Cover Sheet'!B2 -> KUSILE POWER STATION PROJECT
A2: Enquiry No. | C2: ='Cover Page'!C19 -> 0
A3: Package Name: | C3: ='5.1.2 C1 BOQ'!B4 -> THE PROVISION FOR PROCUREMENT OF C&I, ELECTRICAL AND MECHANICAL MOBILE EQUIPMENT AT KUSILE POWER STATION
A4: Tenderer's Name: | C4: ='Cover Page'!C23 -> 0
A5: Category of Offer: | C5: ='Cover Page'!C25 -> 0
A7: 5.1.1.1 PREAMBLE TO PRICE SCHEDULE
A9: 1 | B9: The Provisional Price Schedule provides the basis of valuation of all the work activities and inputs and information for general contract progress monitoring.
A10: 2 | B10: The amount due at each application for payment date is based on activities and/or milestones completed as indicated on the Price Schedule/Bills of Quantities. The Tenderer must provide all necessary information which is required to determine amounts due in respect of each application for payment relative to the activities.
A11: 3 | B11: The total of the prices must include for all direct and indirect costs, overheads, profits; on costs, risks, liabilities, obligations, etc. relative to the contract.
A12: 4 | B12: The Tenderer must allow for all necessary costs to complete the works as required in terms of the specifications," Scope of Work for Procurement of C&I, Electrical and Mechanical Mobile Equipment at Kusile Power Station" and shall comply conditions of contract whether expressly stated or not in the Price Schedules. The Tenderer must provide the Project Manager with any breakdown of prices as may be required for specific items not detailed in the Activity Schedule prior to or after contract award.
A13: 5 | B13: The Tenderer must ensure that they price for all BOQ items in that particular section.

Sheet 5.1.2 C1 BOQ
A2: Project: | B2: KUSILE POWER STATION
A3: Enquiry No.
A4: Package Name: | B4: THE PROVISION FOR PROCUREMENT OF C&I, ELECTRICAL AND MECHANICAL MOBILE EQUIPMENT AT KUSILE POWER STATION
A5: Tenderer's Name: | B5: ='Cover Page'!C23 -> 0
A6: Category of Offer: | B6: ='Cover Page'!C25 -> 0
B8: The Tenderer is advised to read the scope of work together with pricing schedule when pricing for this document to enable him/her to price comprehensively.
A11: GROUPING | B11: ITEM NO. | C11: DESCRIPTION | D11: CLASSIFICATION | E11: UNIT | F11: QUANTITY | G11: RATE | H11: AMOUNT
A12: C1 | B12: 1 | C12: C1 - Mobile Cranes and Forklifts
B13: 1.1 | C13: Forklift 10.000kg | D13: Heavy Duty Machinery | E13: no | F13: 2 | H13: =F13*G13 -> 0
B14: 1.2 | C14: Forklift 3.000kg | D14: Heavy Duty Machinery | E14: no | F14: 1 | H14: =F14*G14 -> 0
B15: 1.3 | C15: Forklift 3.000kg | D15: Heavy Duty Machinery | E15: no | F15: 1 | H15: =F15*G15 -> 0
B16: 1.4 | C16: Forklift 3.000kg | D16: Heavy Duty Machinery | E16: no | F16: 1 | H16: =F16*G16 -> 0
B17: 1.5 | C17: Telescopic Forklift/Telehandler 12ton | D17: Heavy Duty Machinery | E17: no | F17: 1 | H17: =F17*G17 -> 0
B18: 1.6 | C18: Articulated platform | D18: Heavy Duty Machinery | E18: no | F18: 1 | H18: =F18*G18 -> 0
B19: 1.7 | C19: Skid Steer Loader | D19: Compact/Light Duty | E19: no | F19: 1 | H19: =F19*G19 -> 0
B20: 1.8 | C20: Mobile crane 20 ton | D20: Heavy Duty Machinery | E20: no | F20: 1 | H20: =F20*G20 -> 0
B21: 1.9 | C21: Delivery of mobile equipment | E21: sum | F21: 1 | H21: =F21*G21 -> 0
C23: TOTAL | H23: =SUM(H13:H21) -> 0

Sheet 5.1.3 C2  BOQ
A2: Project: | B2: KUSILE POWER STATION
A3: Enquiry No.
A4: Package Name: | B4: THE PROVISION FOR PROCUREMENT OF C&I, ELECTRICAL AND MECHANICAL MOBILE EQUIPMENT AT KUSILE POWER STATION
A5: Tenderer's Name: | B5: ='Cover Page'!C23 -> 0
A6: Category of Offer: | B6: ='Cover Page'!C25 -> 0
B8: The Tenderer is advised to read the scope of work together with pricing schedule when pricing for this document to enable him/her to price comprehensively.
A11: GROUPING | B11: ITEM NO. | C11: DESCRIPTION | D11: CLASSIFICATION | E11: UNIT | F11: QUANTITY | G11: RATE | H11: AMOUNT
A12: C2 | B12: 2 | C12: C2 - Submersible Pumps
B13: 2.1 | C13: Bravo 400 electrical submersible slurry pump | D13: Compact/Light Duty | E13: no | F13: 2 | H13: =F13*G13 -> 0
B14: 2.2 | C14: Bravo 600 electrical submersible slurry pump | D14: Compact/Light Duty | E14: no | F14: 2 | H14: =F14*G14 -> 0
B15: 2.3 | C15: Delivery of mobile equipment | E15: sum | F15: 1 | H15: =F15*G15 -> 0
C17: TOTAL | H17: =SUM(H13:H15) -> 0

Sheet 5.1.4 C3 BOQ
A2: Project: | B2: KUSILE POWER STATION
A3: Enquiry No.
A4: Package Name: | B4: THE PROVISION FOR PROCUREMENT OF C&I, ELECTRICAL AND MECHANICAL MOBILE EQUIPMENT AT KUSILE POWER STATION
A5: Tenderer's Name: | B5: ='Cover Page'!C23 -> 0
A6: Category of Offer: | B6: ='Cover Page'!C25 -> 0
B8: The Tenderer is advised to read the scope of work together with pricing schedule when pricing for this document to enable him/her to price comprehensively.
A11: GROUPING | B11: ITEM NO. | C11: DESCRIPTION | D11: CLASSIFICATION | E11: UNIT | F11: QUANTITY | G11: RATE | H11: AMOUNT
A12: C3 | B12: 3 | C12: C3 - Pallet jacks & Trolleys
B13: 3.1 | C13: Hydraulic Floor Crane 2 ton | D13: Compact/Light Duty | E13: no | F13: 1 | H13: =F13*G13 -> 0
B14: 3.2 | C14: Picking Trolley | D14: Compact/Light Duty | E14: no | F14: 3 | H14: =F14*G14 -> 0
B15: 3.3 | C15: Pallet jack - Low Profile | D15: Compact/Light Duty | E15: no | F15: 3 | H15: =F15*G15 -> 0
B16: 3.4 | C16: Pallet Stacker | D16: Compact/Light Duty | E16: no | F16: 1 | H16: =F16*G16 -> 0
B17: 3.5 | C17: Trolley Ladder | D17: Compact/Light Duty | E17: no | F17: 1 | H17: =F17*G17 -> 0
B18: 3.6 | C18: Lighting Unit Mobile - Floodlight | D18: Compact/Light Duty | E18: no | F18: 5 | H18: =F18*G18 -> 0
B19: 3.7 | C19: Tumable 4 wheel trolleys MMD | D19: Compact/Light Duty | E19: no | F19: 9 | H19: =F19*G19 -> 0
B20: 3.8 | C20: Tumable 4 wheel trolleys EM | D20: Compact/Light Duty | E20: no | F20: 6 | H20: =F20*G20 -> 0
B21: 3.9 | C21: Tumable 4 wheel trolleys C&I | D21: Compact/Light Duty | E21: no | F21: 6 | H21: =F21*G21 -> 0
B22: 3.1 | C22: Delivery of mobile equipment | E22: sum | F22: 1 | H22: =F22*G22 -> 0
C24: TOTAL | H24: =SUM(H13:H22) -> 0

Sheet 5.1.5 C4 BOQ
A2: Project: | B2: KUSILE POWER STATION
A3: Enquiry No.
A4: Package Name: | B4: THE PROVISION FOR PROCUREMENT OF C&I, ELECTRICAL AND MECHANICAL MOBILE EQUIPMENT AT KUSILE POWER STATION
A5: Tenderer's Name: | B5: ='Cover Page'!C23 -> 0
A6: Category of Offer: | B6: ='Cover Page'!C25 -> 0
B8: The Tenderer is advised to read the scope of work together with pricing schedule when pricing for this document to enable him/her to price comprehensively.
A11: GROUPING | B11: ITEM NO. | C11: DESCRIPTION | D11: CLASSIFICATION | E11: UNIT | F11: QUANTITY | G11: RATE | H11: AMOUNT
A12: C4 | B12: 4 | C12: C4 - Heavy Duty Trucks
B13: 4.1 | C13: Heavy duty truck - 15ton with 7.4 ton mounted crane | D13: Heavy Duty Machinery | E13: no | F13: 1 | H13: =F13*G13 -> 0
B14: 4.2 | C14: Delivery of mobile equipment | E14: sum | F14: 1 | H14: =F14*G14 -> 0
C16: TOTAL | H16: =SUM(H13:H14) -> 0

Sheet 5.1.2 C6 BOQ
A2: Project: | B2: KUSILE POWER STATION
A3: Enquiry No.
A4: Package Name: | B4: THE PROVISION FOR PROCUREMENT OF C&I, ELECTRICAL AND MECHANICAL MOBILE EQUIPMENT AT KUSILE POWER STATION
A5: Tenderer's Name: | B5: ='Cover Page'!C23 -> 0
A6: Category of Offer: | B6: ='Cover Page'!C25 -> 0
B8: The Tenderer is advised to read the scope of work together with pricing schedule when pricing for this document to enable him/her to price comprehensively.
A11: GROUPING | B11: ITEM NO. | C11: DESCRIPTION | D11: CLASSIFICATION | E11: UNIT | F11: QUANTITY | G11: RATE | H11: AMOUNT
A12: C6 | B12: 6 | C12: C6 - Mobile Compressors & Power Generators
B13: 6.1 | C13: Mobile Compressor | D13: Compact/Light Duty | E13: no | F13: 50 | H13: =F13*G13 -> 0
B14: 6.2 | C14: Mobile Diesel Pump | D14: Compact/Light Duty | E14: no | F14: 50 | H14: =F14*G14 -> 0
B15: 6.3 | C15: Mobile Power Generator | D15: Heavy Duty Machinery | E15: no | F15: 20 | H15: =F15*G15 -> 0
B16: 6.4 | C16: Mobile Power Generator | D16: Heavy Duty Machinery | E16: no | F16: 20 | H16: =F16*G16 -> 0
B17: 7 | C17: Delivery of mobile equipment | E17: sum | F17: 1 | H17: =F17*G17 -> 0
C19: TOTAL | H19: =SUM(H13:H17) -> 0

Sheet 5.1.7 CPA Formula
A1: KUSILE POWER STATION PROJECT
A2: ENQUIRY No. | C2: ='5.1.2 C1 BOQ'!B3 -> 0
A3: TENDERER NAME: | C3: ='Cover Page'!C23 -> 0
A4: NAME OF PACKAGE: | C4: THE PROVISION FOR PROCUREMENT OF STATIONERY AT KUSILE POWER STATION
A6: PRICE ADJUSTMENT FOR INFLATION
A7: Summary
A8: No | B8: Description
A9: A6 | B9: FIXED | E9: Type in description of formula which is carried through below
A13: GENERAL NOTES :
A14: a. | B14: References to "indices" below have the meaning of "cost indices or reference prices", unless otherwise stated.
A15: b. | B15: Where historical information is applicable as requested below, internet address references which are accessible to the
B16: general public may be submitted instead, with the specific electronic route and web page reflecting the applicable data.
A17: c. | B17: Each formula is related to one unique currency. Mixing of currencies in a specific formula is not acceptable.
A18: CPA FORMULA REQUIREMENTS :
A19: i. | B19: Formulae must be linked to independent cost indices or other benchmarks ("reference prices") and must be clearly and
B20: completely defined. The source must be a recognised statistical publishing source and must not be in-house indices.
A21: ii. | B21: Local Indices: Where local indices other than SEIFSA or StatsSA are specified, the tenderer is to submit 5 years' historical data
B22: for such indices. Note that the Contractor must ensure that indices are published and recommended by the "Source" as
B23: applicable to the work involved. For example SEIFSA has terminated the publication of Table E and is replaced by Table E-A and
B24: or E-EX and the specific sub breakdown of such must be identified. Also SEIFSA recommends utilisation of Table L-2 for road
B25: transport rather than Table L-1.
A26: iii. | B26: Foreign Price Adjustments: In the case of foreign price adjustments, the Contractor is to submit 5 years' historical data for the
B27: tendered indices. Where a formula is linked to indices in a country, payment of the amounts for that formula must be in the
B28: currency of the same country. A formula may not be linked to indices of more than one country.
A29: iv. | B29: Commodity Price Linked Payments: The reference price is considered as the base price (index) for purpose of the CPA formula
B30: and is included in the applicable tables below and must be in the currency in which the CPA will be payable. The exchange
B31: rate applied to convert the base price in a foreign currency into that of the currency of the formula must also be indicated in
B32: the tables below if the price is not in the same currency as the applicable formula.. ie exposure to the movement in a
B33: reference price is in the same currency as that of the CPA formula. The Contractor is to submit 5 years' historical price data
B34: for such commodity,
A35: v. | B35: London Metal Exchange (LME) Prices: For metals traded on the LME, the tonnage will be required before contract award in
B36: order for Eskom to hedge the metal price fluctuations. This applies also for prices linked to local indices or reference prices.
B37: Though these metals are traded in US$, prices are daily quoted in various other currencies.
B38: The LME price in the currency of the formula must apply and thus not the US$ unless the amount payable in terms of the
B39: formula is US$. Refer to the "LME" Sheet in this file for more detail regarding this aspect. By indicating any of these metals in
B40: the formulae below, the contractor declares that neither he nor any other body avails or will avail of forward price and/or
B41: currency cover for the metal(s).
A42: vi. | B42: CPA Base Date: The CPA base date for calculating price movements is the Base Date as defined in the Particular Conditions,
B43: Clause 1.1.3.1. For indices or reference prices published as at certain dates, and where such a date is not the Base Date, the
B44: latest date for which it is published before the Base Date will be considered as the Base Date index or reference price. In
...
