Workbook

Sheet Germiston
A2: Germiston and surrounding areas | B2: Item No. | C2: Description of Item | D2: Unit | E2: QTY | F2: Unit Price (R) Year 1 | G2: Quantity | H2: Total Price (R) Year 1 | I2: Unit Price (R) Year 2 | J2: Quantity | K2: Total Price (R) Year 2 | L2: Unit Price (R) Year 3 | M2: Quantity | N2: Total Price (R) Year 3 | O2: Unit Price (R) Year 4 | P2: Quantity | Q2: Total Price (R) Year 4 | R2: Unit Price (R) Year 5 | S2: Quantity | T2: Total Price (R) Year 5 | U2: 5 years Total Unit Price (R) | V2: Comments on Quantity
B3: 068001109 | C3: Internal inspection/witnessing | D3: R/h | E3: 966 wagons per year | G3: 996 | H3: =F3*G3 -> 0 | J3: 996 | K3: =I3*J3 -> 0 | M3: 996 | N3: =L3*M3 -> 0 | P3: 996 | Q3: =O3*P3 -> 0 | S3: 996 | T3: =R3*S3 -> 0 | U3: =SUM(H3+K3+N3+Q3+T3) -> 0
B4: 068001110 | C4: External inspection/witnessing | D4: R/h | E4: 966 wagons per year | G4: 966 | H4: =F4*G4 -> 0 | J4: 966 | K4: =I4*J4 -> 0 | M4: 966 | N4: =L4*M4 -> 0 | P4: 966 | Q4: =O4*P4 -> 0 | S4: 966 | T4: =R4*S4 -> 0 | U4: =SUM(H4+K4+N4+Q4+T4) -> 0
B5: 068019634 | C5: Mark out of defects | D5: R/h | E5: 665 wagons per year | G5: 665 | H5: =F5*G5 -> 0 | J5: 665 | K5: =I5*J5 -> 0 | M5: 665 | N5: =L5*M5 -> 0 | P5: 665 | Q5: =O5*P5 -> 0 | S5: 665 | T5: =R5*S5 -> 0 | U5: =SUM(H5+K5+N5+Q5+T5) -> 0
B6: 068001115 | C6: Final inspection of repair and report writing | D6: R/h | E6: 665 wagons per year | G6: 665 | H6: =F6*G6 -> 0 | J6: 665 | K6: =I6*J6 -> 0 | M6: 665 | N6: =L6*M6 -> 0 | P6: 665 | Q6: =O6*P6 -> 0 | S6: 665 | T6: =R6*S6 -> 0 | U6: =SUM(H6+K6+N6+Q6+T6) -> 0
B7: 90014070BTT | C7: Take barrel thickness measurements (when required) | D7: R/h | E7: 665 wagons per year | G7: 665 | H7: =F7*G7 -> 0 | J7: 665 | K7: =I7*J7 -> 0 | M7: 665 | N7: =L7*M7 -> 0 | P7: 665 | Q7: =O7*P7 -> 0 | S7: 665 | T7: =R7*S7 -> 0 | U7: =SUM(H7+K7+N7+Q7+T7) -> 0
B8: 068001113 | C8: Inspection/witnessing of Non-Destructive Testing (when required) | D8: R/h | E8: 966 wagons per year | G8: 966 | H8: =F8*G8 -> 0 | J8: 966 | K8: =I8*J8 -> 0 | M8: 966 | N8: =L8*M8 -> 0 | P8: 966 | Q8: =O8*P8 -> 0 | S8: 966 | T8: =R8*S8 -> 0 | U8: =SUM(H8+K8+N8+Q8+T8) -> 0
B9: 068001111 | C9: Inspection/witnessing of Barrel test | D9: R/h | E9: 966 wagons per year | G9: 996 | H9: =F9*G9 -> 0 | J9: 996 | K9: =I9*J9 -> 0 | M9: 996 | N9: =L9*M9 -> 0 | P9: 996 | Q9: =O9*P9 -> 0 | S9: 996 | T9: =R9*S9 -> 0 | U9: =SUM(H9+K9+N9+Q9+T9) -> 0
B10: 068019643 | C10: Material verification at suppliers (includes transfer of heat and cast numbers and issuing of report). Travelling cost should also be inclusive) | D10: R/Verification + R/km | E10: 665 verification per year and 655 visits per year (Assume 50km radius from Germiston) | G10: 665 | H10: =F10*G10 -> 0 | J10: 665 | K10: =I10*J10 -> 0 | M10: 665 | N10: =L10*M10 -> 0 | P10: 665 | Q10: =O10*P10 -> 0 | S10: 665 | T10: =R10*S10 -> 0 | U10: =SUM(H10+K10+N10+Q10+T10) -> 0
B11: 068019631 | C11: Additional scope for the X- fleet as per MegChem recommendations: ● Internal inspection by competent person, frequency to be maintained at 3-yearly intervals. | D11: R/h | E11: 605 wagons per year | G11: 605 | H11: =F11*G11 -> 0 | J11: 605 | K11: =I11*J11 -> 0 | M11: 605 | N11: =L11*M11 -> 0 | P11: 605 | Q11: =O11*P11 -> 0 | S11: 605 | T11: =R11*S11 -> 0 | U11: =SUM(H11+K11+N11+Q11+T11) -> 0
B12: 068019632 | C12: Additional scope for the X -fleet as per MegChem recommendations: ● External inspection by competent person, frequency to be maintained at 3-yearly intervals. | D12: R/h | E12: 605 wagons per year | G12: 605 | H12: =F12*G12 -> 0 | J12: 605 | K12: =I12*J12 -> 0 | M12: 605 | N12: =L12*M12 -> 0 | P12: 605 | Q12: =O12*P12 -> 0 | S12: 605 | T12: =R12*S12 -> 0 | U12: =SUM(H12+K12+N12+Q12+T12) -> 0
B13: 068HYDROST | C13: Additional scope for the X fleet as per MegChem recommendations: ● Witnessing of Hydrostatic pressure test to be carried out at this time. ● Name plate to be fitted to each wagon as per regulations (pop rivet). | D13: R/h | E13: 605 wagons per year | G13: 605 | H13: =F13*G13 -> 0 | J13: 605 | K13: =I13*J13 -> 0 | M13: 605 | N13: =L13*M13 -> 0 | P13: 605 | Q13: =O13*P13 -> 0 | S13: 605 | T13: =R13*S13 -> 0 | U13: =SUM(H13+K13+N13+Q13+T13) -> 0
B14: 068001088 | C14: Recertification of wagons (when required), which entails: ● Full dimensional inspection, measuring every single component of the barrel, Inspection/witnessing of fitting new name plate and stamp, issuing of recertification certificate, Issuing of reports (inspections/witnessing, etc.) and drawings modification if needed | D14: R/h | E14: 301 wagons per year | G14: 301 | H14: =F14*G14 -> 0 | J14: 301 | K14: =I14*J14 -> 0 | M14: 301 | N14: =L14*M14 -> 0 | P14: 301 | Q14: =O14*P14 -> 0 | S14: 301 | T14: =R14*S14 -> 0 | U14: =SUM(H14+K14+N14+Q14+T14) -> 0
... B20: 068001097 | C20: TFR: Barrel Test Extension and approval. No travelling required. TFO will supply all documentation related to maintenance history of each wagon that requires extension, after contract award. | D20: R/h | E20: 50 wagons per Year | G20: 50 | H20: =F20*G20 -> 0 | J20: 50 | K20: =I20*J20 -> 0 | M20: 50 | N20: =L20*M20 -> 0 | P20: 50 | Q20: =O20*P20 -> 0 | S20: 50 | T20: =R20*S20 -> 0 | U20: =SUM(H20+K20+N20+Q20+T20) -> 0
B21: TOTAL PRICE, exclusive of VAT | H21: =SUM(H3:H20) -> 0 | U21: =SUM(U3:U20) -> 0
B22: VAT 15% (if applicable)
B23: SUB-TOTAL NEWBUILD Incl. VAT

Sheet New Build
A2: New Build, Design and Prototype Verification | B2: Item No. | C2: Description of Item | D2: Unit | E2: QTY | F2: Unit Price (R) Year 1 | G2: Quantity | H2: Total Price (R) Year 1 | I2: Unit Price (R) Year 2 | J2: Quantity | K2: Total Price (R) Year 2 | L2: Unit Price (R) Year 3 | M2: Quantity | N2: Total Price (R) Year 3 | O2: Unit Price (R) Year 4 | P2: Quantity | Q2: Total Price (R) Year 4 | R2: Unit Price (R) Year 5 | S2: Quantity | T2: Total Price (R) Year 5 | U2: 5 years Total Unit Price (R) | V2: Comments on Quantity
B3: 068001098 | C3: Inspection/witnessing of welds on newly built wagons | D3: R/h | E3: 45 wagon per year | G3: 45 | H3: =F3*G3 -> 0 | J3: 45 | K3: =I3*J3 -> 0 | M3: 45 | N3: =L3*M3 -> 0 | P3: 45 | Q3: =O3*P3 -> 0 | S3: 45 | T3: =R3*S3 -> 0 | U3: =SUM(H3+K3+N3+Q3+T3) -> 0
B4: 068001099 | C4: Inspection/witnessing of welds on newly built wagons (after hours) | D4: R/h | E4: 45 wagons per year | G4: 45 | H4: =F4*G4 -> 0 | J4: 45 | K4: =I4*J4 -> 0 | M4: 45 | N4: =L4*M4 -> 0 | P4: 45 | Q4: =O4*P4 -> 0 | S4: 45 | T4: =R4*S4 -> 0 | U4: =SUM(H4+K4+N4+Q4+T4) -> 0
B5: 068019652 | C5: Design verification (includes the following: document and drawings register, design report, technical specification, quality control plan (QCP), repair quality control procedure, Welder ID schematic, Post weld heat treatment procedure, Procedure Qualification Record (PQR), Welding Procedures Specification (WPS), Welder performance qualification (WPQ) and all applicable drawings and contract review meetings) | D5: R/design verification | E5: 10 design verifications per year | G5: 10 | H5: =F5*G5 -> 0 | J5: 10 | K5: =I5*J5 -> 0 | M5: 10 | N5: =L5*M5 -> 0 | P5: 10 | Q5: =O5*P5 -> 0 | S5: 10 | T5: =R5*S5 -> 0 | U5: =SUM(H5+K5+N5+Q5+T5) -> 0
B6: 068000105 | C6: Resubmission of Design verification | D6: R/design verification | E6: 60 design verifications per year | G6: 60 | H6: =F6*G6 -> 0 | J6: 60 | K6: =I6*J6 -> 0 | M6: 60 | N6: =L6*M6 -> 0 | P6: 60 | Q6: =O6*P6 -> 0 | S6: 60 | T6: =R6*S6 -> 0 | U6: =SUM(H6+K6+N6+Q6+T6) -> 0
B7: 068001094 | C7: WPQR; Welders/operators Performance Qualification Record (include the following; witness test process, witness NDT, witness laboratory tests and issuing of report). Travelling cost should also be inclusive | D7: R/test plate | E7: 600 test plates per month | G7: 600 | H7: =F7*G7 -> 0 | J7: 600 | K7: =I7*J7 -> 0 | M7: 600 | N7: =L7*M7 -> 0 | P7: 600 | Q7: =O7*P7 -> 0 | S7: 600 | T7: =R7*S7 -> 0 | U7: =SUM(H7+K7+N7+Q7+T7) -> 0
B8: 068001095 | C8: PQR: Procedure Qualification Record (includes the following; witness tests, witness NDT, witness laboratory tests, record all values, create PQR document, final signing of document, issue document to TE). Travelling cost should also be inclusive | D8: R/PQR | E8: 50 PQR's per Year | G8: 50 | H8: =F8*G8 -> 0 | J8: 50 | K8: =I8*J8 -> 0 | M8: 50 | N8: =L8*M8 -> 0 | P8: 50 | Q8: =O8*P8 -> 0 | S8: 50 | T8: =R8*S8 -> 0 | U8: =SUM(H8+K8+N8+Q8+T8) -> 0
B9: 068001096 | C9: WPS: Welding Procedures Specification (includes the following; generate WPS document, Final signing of document, issue document to TE) | D9: R/WPS | E9: 50 WPS's per Year | G9: 50 | H9: =F9*G9 -> 0 | J9: 50 | K9: =I9*J9 -> 0 | M9: 50 | N9: =L9*M9 -> 0 | P9: 50 | Q9: =O9*P9 -> 0 | S9: 50 | T9: =R9*S9 -> 0 | U9: =SUM(H9+K9+N9+Q9+T9) -> 0
B10: 068019643 | C10: Material verification at suppliers (includes transfer of heat and cast numbers and issuing of report). Travelling cost should also be inclusive) | D10: R/Verification + R/km | E10: 60 verification per year +60 visits per year (Assume 50km rad ius from Germiston) | G10: 60 | H10: =F10*G10 -> 0 | J10: 60 | K10: =I10*J10 -> 0 | M10: 60 | N10: =L10*M10 -> 0 | P10: 60 | Q10: =O10*P10 -> 0 | S10: 60 | T10: =R10*S10 -> 0 | U10: =SUM(H10+K10+N10+Q10+T10) -> 0
B11: 068001091 | C11: Material verification at suppliers (includes transfer of heat and cast numbers and issuing of report) no travelling cost included | D11: R/visit | E11: 60 visits per year | G11: 60 | H11: =F11*G11 -> 0 | J11: 60 | K11: =I11*J11 -> 0 | M11: 60 | N11: =L11*M11 -> 0 | P11: 60 | Q11: =O11*P11 -> 0 | S11: 60 | T11: =R11*S11 -> 0 | U11: =SUM(H11+K11+N11+Q11+T11) -> 0
B12: 068001107 | C12: Witness & inspect structural test at RTDC (Railway Technology Development Centre) | D12: R/h | E12: 2 wagons per year | G12: 2 | H12: =F12*G12 -> 0 | J12: 2 | K12: =I12*J12 -> 0 | M12: 2 | N12: =L12*M12 -> 0 | P12: 2 | Q12: =O12*P12 -> 0 | S12: 2 | T12: =R12*S12 -> 0 | U12: =SUM(H12+K12+N12+Q12+T12) -> 0
B13: 068001108 | C13: Witness & inspect Structural test (Static Testing) Tank Container | D13: R/h | E13: 2 Tank containers per year | G13: 2 | H13: =F13*G13 -> 0 | J13: 2 | K13: =I13*J13 -> 0 | M13: 2 | N13: =L13*M13 -> 0 | P13: 2 | Q13: =O13*P13 -> 0 | S13: 2 | T13: =R13*S13 -> 0 | U13: =SUM(H13+K13+N13+Q13+T13) -> 0
B14: 068001109 | C14: Internal inspection/witnessing | D14: R/h | E14: 60 wagons per year | G14: 30 | H14: =F14*G14 -> 0 | J14: 30 | K14: =I14*J14 -> 0 | M14: 30 | N14: =L14*M14 -> 0 | P14: 30 | Q14: =O14*P14 -> 0 | S14: 30 | T14: =R14*S14 -> 0 | U14: =SUM(H14+K14+N14+Q14+T14) -> 0
... B22: 068019642 | C22: Emergency travelling cost | D22: R/visit | E22: 60 visits per year (50km radius from Germiston) | G22: 60 | H22: =F22*G22 -> 0 | J22: 60 | K22: =I22*J22 -> 0 | M22: 60 | N22: =L22*M22 -> 0 | P22: 60 | Q22: =O22*P22 -> 0 | S22: 60 | T22: =R22*S22 -> 0 | U22: =SUM(H22+K22+N22+Q22+T22) -> 0
B23: TOTAL PRICE, exclusive of VAT | H23: =SUM(H3:H22) -> 0 | U23: =SUM(U3:U22) -> 0
B24: VAT 15% (if applicable)
B25: SUB-TOTAL NEWBUILD Incl. VAT

Sheet Sasol
A2: Sasol Wagons | B2: Item No. | C2: Description of Item | D2: Unit | E2: QTY | F2: Unit Price (R) Year 1 | G2: Quantity | H2: Total Price (R) Year 1 | I2: Unit Price (R) Year 2 | J2: Quantity | K2: Total Price (R) Year 2 | L2: Unit Price (R) Year 3 | M2: Quantity | N2: Total Price (R) Year 3 | O2: Unit Price (R) Year 4 | P2: Quantity | Q2: Total Price (R) Year 4 | R2: Unit Price (R) Year 5 | S2: Quantity | T2: Total Price (R) Year 5 | U2: 5 years Total Unit Price (R) | V2: Comments on Quantity
B3: 068001109 | C3: In-service: • Internal inspection/witnessing | D3: R/h | E3: 95 wagons per year | G3: 95 | H3: =F3*G3 -> 0 | J3: 95 | K3: =I3*J3 -> 0 | M3: 95 | N3: =L3*M3 -> 0 | P3: 95 | Q3: =O3*P3 -> 0 | S3: 95 | T3: =R3*S3 -> 0 | U3: =SUM(H3+K3+N3+Q3+T3) -> 0
B4: 068001110 | C4: In-service: • External inspection/witnessing | D4: R/h | E4: 95 wagons per year | G4: 95 | H4: =F4*G4 -> 0 | J4: 95 | K4: =I4*J4 -> 0 | M4: 95 | N4: =L4*M4 -> 0 | P4: 95 | Q4: =O4*P4 -> 0 | S4: 95 | T4: =R4*S4 -> 0 | U4: =SUM(H4+K4+N4+Q4+T4) -> 0
B5: 068001094 | C5: In-service: WPQR; Welders/operators Performance Qualification Record (include the following; witness test process, witness NDT, witness laboratory tests and issuing of report). Travelling cost should also be inclusive | D5: R/test plate | E5: 95 test plates per year | G5: 95 | H5: =F5*G5 -> 0 | J5: 95 | K5: =I5*J5 -> 0 | M5: 95 | N5: =L5*M5 -> 0 | P5: 95 | Q5: =O5*P5 -> 0 | S5: 95 | T5: =R5*S5 -> 0 | U5: =SUM(H5+K5+N5+Q5+T5) -> 0
B6: 068001095 | C6: In-service: PQR: Procedure Qualification Record (includes the following; witness tests, witness NDT, witness laboratory tests, record all values, create PQR document, final signing of document, issue document to TE). Travelling cost should also be inclusive | D6: R/PQR | E6: 95 PQR's per Year | G6: 95 | H6: =F6*G6 -> 0 | J6: 95 | K6: =I6*J6 -> 0 | M6: 95 | N6: =L6*M6 -> 0 | P6: 95 | Q6: =O6*P6 -> 0 | S6: 95 | T6: =R6*S6 -> 0 | U6: =SUM(H6+K6+N6+Q6+T6) -> 0
B7: 068001096 | C7: In-service: WPS: Welding Procedures Specification (includes the following; generate WPS document, Final signing of document, issue document to TE) | D7: R/WPS | E7: 95 WPS's per Year | G7: 95 | H7: =F7*G7 -> 0 | K7: =I7*J7 -> 0 | N7: =L7*M7 -> 0 | Q7: =O7*P7 -> 0 | T7: =R7*S7 -> 0 | U7: =SUM(H7+K7+N7+Q7+T7) -> 0
B8: 90014070BTT | C8: In-service: • Take barrel thickness measurements (when required) | D8: R/h | E8: 95 wagons per year | G8: 95 | H8: =F8*G8 -> 0 | J8: 95 | K8: =I8*J8 -> 0 | M8: 95 | N8: =L8*M8 -> 0 | P8: 95 | Q8: =O8*P8 -> 0 | S8: 95 | T8: =R8*S8 -> 0 | U8: =SUM(H8+K8+N8+Q8+T8) -> 0
B9: 068001113 | C9: In-service: • Inspection/witnessing of Non-Destructive Testing (when required) | D9: R/h | E9: 95 wagons per year | G9: 95 | H9: =F9*G9 -> 0 | J9: 95 | K9: =I9*J9 -> 0 | M9: 95 | N9: =L9*M9 -> 0 | P9: 95 | Q9: =O9*P9 -> 0 | S9: 95 | T9: =R9*S9 -> 0 | U9: =SUM(H9+K9+N9+Q9+T9) -> 0
B10: 068001111 | C10: In-service: • Inspection/witnessing of Barrel test | D10: R/h | E10: 95 wagons per year | G10: 95 | H10: =F10*G10 -> 0 | J10: 95 | K10: =I10*J10 -> 0 | M10: 95 | N10: =L10*M10 -> 0 | P10: 95 | Q10: =O10*P10 -> 0 | S10: 95 | T10: =R10*S10 -> 0 | U10: =SUM(H10+K10+N10+Q10+T10) -> 0
B11: 068001101 | C11: Corrosion and remain life (When required) | D11: R/h | E11: 95 wagons per year | G11: 95 | H11: =F11*G11 -> 0 | J11: 95 | K11: =I11*J11 -> 0 | M11: 95 | N11: =L11*M11 -> 0 | P11: 95 | Q11: =O11*P11 -> 0 | S11: 95 | T11: =R11*S11 -> 0 | U11: =SUM(H11+K11+N11+Q11+T11) -> 0
B12: 068001102 | C12: In-service: • Wagon integrity (When found during inspection por when required) | D12: R/h | E12: 95 wagons per year | G12: 95 | H12: =F12*G12 -> 0 | J12: 95 | K12: =I12*J12 -> 0 | M12: 95 | N12: =L12*M12 -> 0 | P12: 95 | Q12: =O12*P12 -> 0 | S12: 95 | T12: =R12*S12 -> 0 | U12: =SUM(H12+K12+N12+Q12+T12) -> 0
B13: 068HYDROST | C13: In-service: ● Witnessing of Hydrostatic pressure test to be carried out at this time. ● Name plate to be fitted to each wagon as per regulations (pop rivet). | D13: R/h | E13: 95 wagons per year | G13: 95 | H13: =F13*G13 -> 0 | J13: 95 | K13: =I13*J13 -> 0 | M13: 95 | N13: =L13*M13 -> 0 | P13: 95 | Q13: =O13*P13 -> 0 | S13: 95 | T13: =R13*S13 -> 0 | U13: =SUM(H13+K13+N13+Q13+T13) -> 0
B14: 068001103 | C14: In-service: • Pressure gauge – User’s requirements (When found during inspection por when required) | D14: R/h | E14: 95 wagons per year | G14: 95 | H14: =F14*G14 -> 0 | J14: 95 | K14: =I14*J14 -> 0 | M14: 95 | N14: =L14*M14 -> 0 | P14: 95 | Q14: =O14*P14 -> 0 | S14: 95 | T14: =R14*S14 -> 0 | U14: =SUM(H14+K14+N14+Q14+T14) -> 0
B15: 068001088 | C15: In-service: ● Issuing of reports (inspections/witnessing, etc.) | D15: R/h | E15: 95 wagons per year | G15: 95 | H15: =F15*G15 -> 0 | J15: 95 | K15: =I15*J15 -> 0 | M15: 95 | N15: =L15*M15 -> 0 | P15: 95 | Q15: =O15*P15 -> 0 | S15: 95 | T15: =R15*S15 -> 0 | U15: =SUM(H15+K15+N15+Q15+T15) -> 0
B16: 068001104 | C16: In-service: Reports (Review & Verification) • Logbook | D16: R/h | E16: 95 wagons per year | G16: 95 | H16: =F16*G16 -> 0 | J16: 95 | K16: =I16*J16 -> 0 | M16: 95 | N16: =L16*M16 -> 0 | P16: 95 | Q16: =O16*P16 -> 0 | S16: 95 | T16: =R16*S16 -> 0 | U16: =SUM(H16+K16+N16+Q16+T16) -> 0
B17: 068019652 | C17: Manufacturing AIA: Design verification (includes the following: document and drawings register, design report, technical specification, quality control plan (QCP), repair quality control procedure, Welder ID schematic, Post weld heat treatment procedure, Procedure Qualification Record (PQR), Welding Procedures Specification (WPS), Scope of repair, Welder performance qualification (WPQ) and all applicable drawings and contract review meetings) | D17: R/design verification | E17: 95 design verifications per year | G17: 95 | H17: =F17*G17 -> 0 | J17: 95 | K17: =I17*J17 -> 0 | M17: 95 | N17: =L17*M17 -> 0 | P17: 95 | Q17: =O17*P17 -> 0 | S17: 95 | T17: =R17*S17 -> 0 | U17: =SUM(H17+K17+N17+Q17+T17) -> 0
B18: 068000105 | C18: Manufacturing AIA: Resubmission of Design verification | D18: R/design verification | E18: 95 design verifications per year | G18: 95 | H18: =F18*G18 -> 0 | J18: 95 | K18: =I18*J18 -> 0 | M18: 95 | N18: =L18*M18 -> 0 | P18: 95 | Q18: =O18*P18 -> 0 | S18: 95 | T18: =R18*S18 -> 0 | U18: =SUM(H18+K18+N18+Q18+T18) -> 0
B19: 068019643 | C19: Manufacturing AIA: Material verification at suppliers (includes transfer of heat and cast numbers and issuing of report). Travelling cost should also be inclusive) | D19: R/verification + R/visit | E19: 95 Verification per year +95 visits per year (Assume 50km radius from Germiston) | G19: 95 | H19: =F19*G19 -> 0 | J19: 95 | K19: =I19*J19 -> 0 | M19: 95 | N19: =L19*M19 -> 0 | P19: 95 | Q19: =O19*P19 -> 0 | S19: 95 | T19: =R19*S19 -> 0 | U19: =SUM(H19+K19+N19+Q19+T19) -> 0
... B22: 068001106 | C22: Travelling to Sasolburg | D22: R/h | E22: 200 visits per year (From Germiston and Sasol) | G22: 200 | H22: =F22*G22 -> 0 | J22: 200 | K22: =I22*J22 -> 0 | M22: 200 | N22: =L22*M22 -> 0 | P22: 200 | Q22: =O22*P22 -> 0 | S22: 200 | T22: =R22*S22 -> 0 | U22: =SUM(H22+K22+N22+Q22+T22) -> 0
B23: TOTAL PRICE, exclusive of VAT | H23: =SUM(H3:H22) -> 0 | U23: =SUM(U3:U22) -> 0
B24: VAT 15% (if applicable)
B25: SUB-TOTAL SASOL Incl. VAT

Sheet Consolidated Pric Schedule
A1: NOTE: Simmilar item numbers might have varying pricess for business / location to business and or locations; due to distance / place, etc. (for this purpose Only the total cost per annum per item group is considared):
A2: Consolidated Quantities per simmillar item number for all 3 areas: | B2: Item No. | C2: Description of Item | D2: Unit | E2: QTY | F2: Unit Price (R) Year 1 | G2: Quantity | H2: Total Price (R) Year 1 | I2: Unit Price (R) Year 2 | J2: Quantity | K2: Total Price (R) Year 2 | L2: Unit Price (R) Year 3 | M2: Quantity | N2: Total Price (R) Year 3 | O2: Unit Price (R) Year 4 | P2: Quantity | Q2: Total Price (R) Year 4 | R2: Unit Price (R) Year 5 | S2: Quantity | T2: Total Price (R) Year 5 | U2: 5 years Total Unit Price (R) | V2: Comments on Quantity
B3: 068001109 | C3: Internal inspection/witnessing | D3: R/h | E3: 1121 wagons per year | G3: =SUM(Germiston!G3+'New Build'!G14+Sasol!G3) -> 1121 | H3: =SUM(Germiston!H3+'New Build'!H14+Sasol!H3) -> 0 | J3: =SUM(Germiston!J3+'New Build'!J14+Sasol!J3) -> 1121 | K3: =SUM(Germiston!K3+'New Build'!K14+Sasol!K3) -> 0 | M3: =SUM(Germiston!M3+'New Build'!M14+Sasol!M3) -> 1121 | N3: =SUM(Germiston!N3+'New Build'!N14+Sasol!N3) -> 0 | P3: =SUM(Germiston!P3+'New Build'!P14+Sasol!P3) -> 1121 | Q3: =SUM(Germiston!Q3+'New Build'!Q14+Sasol!Q3) -> 0 | S3: =SUM(Germiston!S3+'New Build'!S14+Sasol!S3) -> 1121 | T3: =SUM(Germiston!T3+'New Build'!T14+Sasol!T3) -> 0 | U3: =SUM(Sasol!U3+'New Build'!U14+Germiston!U3) -> 0
B4: 068001110 | C4: External inspection/witnessing | D4: R/h | E4: 1121 wagons per year | G4: =SUM(Germiston!G4+'New Build'!G15+Sasol!G4) -> 1121 | H4: =SUM(Germiston!H4+'New Build'!H15+Sasol!H4) -> 0 | J4: =SUM(Germiston!J4+'New Build'!J15+Sasol!J4) -> 1121 | K4: =SUM(Germiston!K4+'New Build'!K15+Sasol!K4) -> 0 | M4: =SUM(Germiston!M4+'New Build'!M15+Sasol!M4) -> 1121 | N4: =SUM(Germiston!N4+'New Build'!N15+Sasol!N4) -> 0 | P4: =SUM(Germiston!P4+'New Build'!P15+Sasol!P4) -> 1121 | Q4: =SUM(Germiston!Q4+'New Build'!Q15+Sasol!Q4) -> 0 | S4: =SUM(Germiston!S4+'New Build'!S15+Sasol!S4) -> 1121 | T4: =SUM(Germiston!T4+'New Build'!T15+Sasol!T4) -> 0 | U4: =SUM(Sasol!U4+'New Build'!U15+Germiston!U4) -> 0
B5: 068019634 | C5: Mark out of defects | D5: R/h | E5: 665 wagons per year | G5: 665 | H5: =SUM(Germiston!H5) -> 0 | J5: 665 | K5: =SUM(Germiston!K5) -> 0 | M5: 665 | N5: =SUM(Germiston!N5) -> 0 | P5: 665 | Q5: =SUM(Germiston!Q5) -> 0 | S5: 665 | T5: =SUM(Germiston!T5) -> 0 | U5: =SUM(Germiston!U5) -> 0
B6: 068001115 | C6: Final inspection of repair and report writing | D6: R/h | E6: 725 wagons per year | G6: 725 | H6: =SUM(Germiston!H6+'New Build'!H20) -> 0 | J6: 725 | K6: =SUM(Germiston!K6+'New Build'!K20) -> 0 | M6: =SUM(Germiston!G6+'New Build'!G20) -> 725 | N6: =SUM(Germiston!N6+'New Build'!N20+Sasol!N4) -> 0 | P6: =SUM(Germiston!J6+'New Build'!J20) -> 725 | Q6: =SUM(Germiston!Q6+'New Build'!Q20) -> 0 | S6: =SUM(Germiston!M6+'New Build'!M20) -> 725 | T6: =SUM(Germiston!T6+'New Build'!T20) -> 0 | U6: =SUM('New Build'!U20+Germiston!U6) -> 0
B7: 90014070BTT | C7: Take barrel thickness measurements (when required) | D7: R/h | E7: 760 wagons per year | G7: =SUM(Germiston!G7+Sasol!G8) -> 760 | H7: =SUM(Germiston!H7+Sasol!H8) -> 0 | J7: =SUM(Germiston!J7+Sasol!J8) -> 760 | K7: =SUM(Germiston!K7+Sasol!K8) -> 0 | M7: =SUM(Germiston!M7+Sasol!M8) -> 760 | N7: =SUM(Germiston!N7+Sasol!N8) -> 0 | P7: =SUM(Germiston!P7+Sasol!P8) -> 760 | Q7: =SUM(Germiston!Q7+Sasol!Q8) -> 0 | S7: =SUM(Germiston!S7+Sasol!S8) -> 760 | T7: =SUM(Germiston!T7+Sasol!T8) -> 0 | U7: =SUM(Sasol!U8+Germiston!U7) -> 0
B8: 068001113 | C8: Inspection/witnessing of Non-Destructive Testing (when required) | D8: R/h | E8: 1121 wagons per year | G8: =SUM(Germiston!G8+'New Build'!G18+Sasol!G9) -> 1121 | H8: =SUM(Germiston!H8+'New Build'!H18+Sasol!H9) -> 0 | J8: =SUM(Germiston!J8+'New Build'!J18+Sasol!J9) -> 1121 | K8: =SUM(Germiston!K8+'New Build'!K18+Sasol!K9) -> 0 | M8: =SUM(Germiston!M8+'New Build'!M18+Sasol!M9) -> 1121 | N8: =SUM(Germiston!N8+'New Build'!N18+Sasol!N9) -> 0 | P8: =SUM(Germiston!P8+'New Build'!P18+Sasol!P9) -> 1121 | Q8: =SUM(Germiston!Q8+'New Build'!Q18+Sasol!Q9) -> 0 | S8: =SUM(Germiston!S8+'New Build'!S18+Sasol!S9) -> 1121 | T8: =SUM(Germiston!T8+'New Build'!T18+Sasol!T9) -> 0 | U8: =SUM(Sasol!U9+'New Build'!U18+Germiston!U8) -> 0
B9: 068001111 | C9: Inspection/witnessing of Barrel test | D9: R/h | E9: 1151 wagons per year | G9: =SUM(Germiston!G9+'New Build'!G16+Sasol!G10) -> 1151 | H9: =SUM(Germiston!H9+'New Build'!H16+Sasol!H10) -> 0 | J9: =SUM(Germiston!J9+'New Build'!J16+Sasol!J10) -> 1151 | K9: =SUM(Germiston!K9+'New Build'!K16+Sasol!K10) -> 0 | M9: =SUM(Germiston!M9+'New Build'!M16+Sasol!M10) -> 1151 | N9: =SUM(Germiston!N9+'New Build'!N16+Sasol!N10) -> 0 | P9: =SUM(Germiston!P9+'New Build'!P16+Sasol!P10) -> 1151 | Q9: =SUM(Germiston!Q9+'New Build'!Q16+Sasol!Q10) -> 0 | S9: =SUM(Germiston!S9+'New Build'!S16+Sasol!S10) -> 1151 | T9: =SUM(Germiston!T9+'New Build'!T16+Sasol!T10) -> 0 | U9: =SUM(Sasol!U10+'New Build'!U16+Germiston!U9) -> 0
B10: 068019643 | C10: Material verification at suppliers (includes transfer of heat and cast numbers and issuing of report). Travelling cost should also be inclusive) | D10: R/Verification + R/km | E10: 820 verification per year and 820 visits per year (Assume 50km radius from Germiston) | G10: =SUM(Germiston!G10+'New Build'!G10+Sasol!G19) -> 820 | H10: =SUM(Germiston!H10+'New Build'!H10+Sasol!H19) -> 0 | J10: =SUM(Germiston!J10+'New Build'!J10+Sasol!J19) -> 820 | K10: =SUM(Germiston!K10+'New Build'!K10+Sasol!K19) -> 0 | M10: =SUM(Germiston!M10+'New Build'!M10+Sasol!M19) -> 820 | N10: =SUM(Germiston!N10+'New Build'!N10+Sasol!N19) -> 0 | P10: =SUM(Germiston!P10+'New Build'!P10+Sasol!P19) -> 820 | Q10: =SUM(Germiston!Q10+'New Build'!Q10+Sasol!Q19) -> 0 | S10: =SUM(Germiston!S10+'New Build'!S10+Sasol!S19) -> 820 | T10: =SUM(Germiston!T10+'New Build'!T10+Sasol!T19) -> 0 | U10: =SUM(Sasol!U19+'New Build'!U10+Germiston!U10) -> 0
B11: 068019631 | C11: Additional scope for the X- fleet as per MegChem recommendations: ● Internal inspection by competent person, frequency to be maintained at 3-yearly intervals. | D11: R/h | E11: 605 wagons per year | G11: 605 | H11: =SUM(Germiston!H11) -> 0 | J11: 605 | K11: =SUM(Germiston!K11) -> 0 | M11: 605 | N11: =SUM(Germiston!N11) -> 0 | P11: 605 | Q11: =SUM(Germiston!Q11) -> 0 | S11: 605 | T11: =SUM(Germiston!T11) -> 0 | U11: =SUM(Germiston!U11) -> 0
B12: 068019632 | C12: Additional scope for the X -fleet as per MegChem recommendations: ● External inspection by competent person, frequency to be maintained at 3-yearly intervals. | D12: R/h | E12: 605 wagons per year | G12: 605 | H12: =SUM(Germiston!H12) -> 0 | J12: 605 | K12: =SUM(Germiston!K12) -> 0 | M12: 605 | N12: =SUM(Germiston!N12) -> 0 | P12: 605 | Q12: =SUM(Germiston!Q12) -> 0 | S12: 605 | T12: =SUM(Germiston!T12) -> 0 | U12: =SUM(Germiston!U12) -> 0
B13: 068HYDROST | C13: Additional scope for the X fleet as per MegChem recommendations: ● Witnessing of Hydrostatic pressure test to be carried out at this time. ● Name plate to be fitted to each wagon as per regulations (pop rivet). | D13: R/h | E13: 700 wagons per year | G13: =SUM(Germiston!G13+Sasol!G13) -> 700 | H13: =SUM(Germiston!H13+Sasol!H13) -> 0 | J13: =SUM(Germiston!J13+Sasol!J13) -> 700 | K13: =SUM(Germiston!K13+Sasol!K13) -> 0 | M13: =SUM(Germiston!M13+Sasol!M13) -> 700 | N13: =SUM(Germiston!N13+Sasol!N13) -> 0 | P13: =SUM(Germiston!P13+Sasol!P13) -> 700 | Q13: =SUM(Germiston!Q13+Sasol!Q13) -> 0 | S13: =SUM(Germiston!S13+Sasol!S13) -> 700 | T13: =SUM(Germiston!T13+Sasol!T13) -> 0 | U13: =SUM(Sasol!U13+Germiston!U13) -> 0
B14: 068001088 | C14: Recertification of wagons (when required), which entails: ● Full dimensional inspection, measuring every single component of the barrel, Inspection/witnessing of fitting new name plate and stamp, issuing of recertification certificate, Issuing of reports (inspections/witnessing, etc.) and drawings modification if needed | D14: R/h | E14: 396 wagons per year | G14: =SUM(Germiston!G14+Sasol!G15) -> 396 | H14: =SUM(Germiston!H14+Sasol!H15) -> 0 | J14: =SUM(Germiston!J14+Sasol!J15) -> 396 | K14: =SUM(Germiston!K14+Sasol!K15) -> 0 | M14: =SUM(Germiston!M14+Sasol!M15) -> 396 | N14: =SUM(Germiston!N14+Sasol!N15) -> 0 | P14: =SUM(Germiston!P14+Sasol!P15) -> 396 | Q14: =SUM(Germiston!Q14+Sasol!Q15) -> 0 | S14: =SUM(Germiston!S14+Sasol!S15) -> 396 | T14: =SUM(Germiston!T14+Sasol!T15) -> 0 | U14: =SUM(Sasol!U15+Germiston!U14) -> 0
B15: 068001092 | C15: External barrel inspection/witnessing and issuing of report at Trichardt Depot | D15: R/h | E15: 200 wagons per year (From Germiston to Trichard) | G15: 200 | H15: =SUM(Germiston!H15) -> 0 | J15: 200 | K15: =SUM(Germiston!K15) -> 0 | M15: 200 | N15: =SUM(Germiston!N15) -> 0 | P15: 200 | Q15: =SUM(Germiston!Q15) -> 0 | S15: 200 | T15: =SUM(Germiston!T15) -> 0 | U15: =SUM(Germiston!U15) -> 0
B16: 068019647 | C16: Travelling cost to Trichardt Depot | D16: R/km | E16: 2000 km per year | G16: 2000 | H16: =SUM(Germiston!H16) -> 0 | J16: 2000 | K16: =SUM(Germiston!K16) -> 0 | M16: 2000 | N16: =SUM(Germiston!N16) -> 0 | P16: 2000 | Q16: =SUM(Germiston!Q16) -> 0 | S16: 2000 | T16: =SUM(Germiston!T16) -> 0 | U16: =SUM(Germiston!U16) -> 0
B17: 068001094 | C17: WPQR; Welders/operators Performance Qualification Record (include the following; witness test process, witness NDT, witness laboratory tests and issuing of report). | D17: R/test plate | E17: 1195 test plates per year | G17: =SUM(Germiston!G17+'New Build'!G7+Sasol!G5) -> 1195 | H17: =SUM(Germiston!H17+'New Build'!H7+Sasol!H5) -> 0 | J17: 1195 | K17: =SUM(Germiston!K17+'New Build'!K7+Sasol!K5) -> 0 | M17: =SUM(Germiston!M17+'New Build'!M7+Sasol!M5) -> 1195 | N17: =SUM(Germiston!N17+'New Build'!N7+Sasol!N5) -> 0 | P17: =SUM(Germiston!P17+'New Build'!P7+Sasol!P5) -> 1195 | Q17: =SUM(Germiston!Q17+'New Build'!Q7+Sasol!Q5) -> 0 | S17: =SUM(Germiston!S17+'New Build'!S7+Sasol!S5) -> 1195 | T17: =SUM(Germiston!T17+'New Build'!T7+Sasol!T5) -> 0 | U17: =SUM(Sasol!U5+'New Build'!U7+Germiston!U17) -> 0
B18: 068001095 | C18: PQR: Procedure Qualification Record (includes the following; witness tests, witness NDT, witness laboratory tests, record all values, create PQR document, final signing of document, issue document to TE). | D18: R/PQR | E18: 195 PQR's per Year | G18: =SUM(Germiston!G18+'New Build'!G8+Sasol!G6) -> 195 | H18: =SUM(Germiston!H18+'New Build'!H8+Sasol!H6) -> 0 | J18: =SUM(Germiston!J18+'New Build'!J8+Sasol!J6) -> 195 | K18: =SUM(Germiston!K18+'New Build'!K8+Sasol!K6) -> 0 | M18: =SUM(Germiston!M18+'New Build'!M8+Sasol!M6) -> 195 | N18: =SUM(Germiston!N18+'New Build'!N8+Sasol!N6) -> 0 | P18: =SUM(Germiston!P18+'New Build'!P8+Sasol!P6) -> 195 | Q18: =SUM(Germiston!Q18+'New Build'!Q8+Sasol!Q6) -> 0 | S18: =SUM(Germiston!S18+'New Build'!S8+Sasol!S6) -> 195 | T18: =SUM(Germiston!T18+'New Build'!T8+Sasol!T6) -> 0 | U18: =SUM(Sasol!U6+'New Build'!U8+Germiston!U18) -> 0
B19: 068001096 | C19: WPS: Welding Procedures Specification (includes the following; generate WPS document, Final signing of document, issue document to TE) | D19: R/WPS | E19: 195 WPS's per Year | G19: =SUM(Germiston!G19+'New Build'!G9+Sasol!G7) -> 195 | H19: =SUM(Germiston!H19+'New Build'!H9+Sasol!H7) -> 0 | J19: 195 | K19: =SUM(Germiston!K19+'New Build'!K9+Sasol!K7) -> 0 | M19: 195 | N19: =SUM(Germiston!N19+'New Build'!N9+Sasol!N7) -> 0 | P19: 195 | Q19: =SUM(Germiston!Q19+'New Build'!Q9+Sasol!Q7) -> 0 | S19: 195 | T19: =SUM(Germiston!T19+'New Build'!T9+Sasol!T7) -> 0 | U19: =SUM(Sasol!U7+'New Build'!U9+Germiston!U19) -> 0
B20: 068001097 | C20: TFR: Barrel Test Extension and approval. No travelling required. TFO will supply all documentation related to maintenance history of each wagon that requires extension, after contract award. | D20: R/h | E20: 50 wagons per Year | G20: 50 | H20: =SUM(Germiston!H20) -> 0 | J20: 50 | K20: =SUM(Germiston!K20) -> 0 | M20: 50 | N20: =SUM(Germiston!N20) -> 0 | P20: 50 | Q20: =SUM(Germiston!Q20) -> 0 | S20: 50 | T20: =SUM(Germiston!T20) -> 0 | U20: =SUM(Germiston!U20) -> 0
B21: 068001098 | C21: Inspection/witnessing of welds on newly built wagons | D21: R/h | E21: 45 wagon per year | G21: 45 | H21: =SUM('New Build'!H3) -> 0 | J21: 45 | K21: =SUM('New Build'!K3) -> 0 | M21: 45 | N21: =SUM('New Build'!N3) -> 0 | P21: 45 | Q21: =SUM('New Build'!Q3) -> 0 | S21: 45 | T21: =SUM('New Build'!T3) -> 0 | U21: =SUM('New Build'!U3) -> 0
B22: 068001099 | C22: Inspection/witnessing of welds on newly built wagons (after hours) | D22: R/h | E22: 45 wagons per year | G22: 45 | H22: =SUM('New Build'!H4) -> 0 | J22: 45 | K22: =SUM('New Build'!K4) -> 0 | M22: 45 | N22: =SUM('New Build'!N4) -> 0 | P22: 45 | Q22: =SUM('New Build'!Q4) -> 0 | S22: 45 | T22: =SUM('New Build'!T4) -> 0 | U22: =SUM('New Build'!U4) -> 0
B23: 068019652 | C23: Design verification (includes the following: document and drawings register, design report, technical specification, quality control plan (QCP), repair quality control procedure, Welder ID schematic, Post weld heat treatment procedure, Procedure Qualification Record (PQR), Welding Procedures Specification (WPS), Welder performance qualification (WPQ) and all applicable drawings and contract review meetings) | D23: R/design verification | E23: 105 design verifications per year | G23: =SUM('New Build'!G5+Sasol!G17) -> 105 | H23: =SUM('New Build'!H5+Sasol!H17) -> 0 | J23: 105 | K23: =SUM('New Build'!K5+Sasol!K17) -> 0 | M23: 105 | N23: =SUM('New Build'!N5+Sasol!N17) -> 0 | P23: 105 | Q23: =SUM('New Build'!Q5+Sasol!Q17) -> 0 | S23: 105 | T23: =SUM('New Build'!T5+Sasol!T17) -> 0 | U23: =SUM(Sasol!U17+'New Build'!U5) -> 0
B24: 068000105 | C24: Resubmission of Design verification | D24: R/design verification | E24: 155 design verifications per year | G24: =SUM('New Build'!G6+Sasol!G18) -> 155 | H24: =SUM('New Build'!H6+Sasol!H18) -> 0 | J24: =SUM('New Build'!J6+Sasol!J18) -> 155 | K24: =SUM('New Build'!K6+Sasol!K18) -> 0 | M24: =SUM('New Build'!M6+Sasol!M18) -> 155 | N24: =SUM('New Build'!N6+Sasol!N18) -> 0 | P24: =SUM('New Build'!P6+Sasol!P18) -> 155 | Q24: =SUM('New Build'!Q6+Sasol!Q18) -> 0 | S24: =SUM('New Build'!S6+Sasol!S18) -> 155 | T24: =SUM('New Build'!T6+Sasol!T18) -> 0 | U24: =SUM(Sasol!U18+'New Build'!U6) -> 0
B25: 068001091 | C25: Material verification at suppliers (includes transfer of heat and cast numbers and issuing of report) no travelling cost included | D25: R/visit | E25: 60 visits per year | G25: 60 | H25: =SUM('New Build'!H11) -> 0 | J25: 60 | K25: =SUM('New Build'!K11) -> 0 | M25: 60 | N25: =SUM('New Build'!N11) -> 0 | P25: 60 | Q25: =SUM('New Build'!Q11) -> 0 | S25: 60 | T25: =SUM('New Build'!T11) -> 0 | U25: =SUM('New Build'!U11) -> 0
B26: 068001107 | C26: Witness & inspect structural test at RTDC (Railway Technology Development Centre) | D26: R/h | E26: 2 wagons per year | G26: 2 | H26: =SUM('New Build'!H12) -> 0 | J26: 2 | K26: =SUM('New Build'!K12) -> 0 | M26: 2 | N26: =SUM('New Build'!N12) -> 0 | P26: 2 | Q26: =SUM('New Build'!Q12) -> 0 | S26: 2 | T26: =SUM('New Build'!T12) -> 0 | U26: =SUM('New Build'!U12) -> 0
B27: 068001108 | C27: Witness & inspect Structural test (Static Testing) Tank Container | D27: R/h | E27: 2 Tank containers per year | G27: 2 | H27: =SUM('New Build'!H13) -> 0 | J27: 2 | K27: =SUM('New Build'!K13) -> 0 | M27: 2 | N27: =SUM('New Build'!N13) -> 0 | P27: 2 | Q27: =SUM('New Build'!Q13) -> 0 | S27: 2 | T27: =SUM('New Build'!T13) -> 0 | U27: =SUM('New Build'!U13) -> 0
B28: 068001112 | C28: Repair inspection/witnessing | D28: R/h | E28: 60 wagons per year | G28: 60 | H28: =SUM('New Build'!H17) -> 0 | J28: 60 | K28: =SUM('New Build'!K17) -> 0 | M28: 60 | N28: =SUM('New Build'!N17) -> 0 | P28: 60 | Q28: =SUM('New Build'!Q17) -> 0 | S28: 60 | T28: =SUM('New Build'!T17) -> 0 | U28: =SUM('New Build'!U17) -> 0
B29: 068001114 | C29: Mark out of defects | D29: R/h | E29: 60 wagons per year | G29: 60 | H29: =SUM('New Build'!H19) -> 0 | J29: 60 | K29: =SUM('New Build'!K19) -> 0 | M29: 60 | N29: =SUM('New Build'!N19) -> 0 | P29: 60 | Q29: =SUM('New Build'!Q19) -> 0 | S29: 60 | T29: =SUM('New Build'!T19) -> 0 | U29: =SUM('New Build'!U19) -> 0
B30: 068001090 | C30: Emergency inspection/witnessing of Non-Destructive Testing (after hours, which includes weekends & public holidays) | D30: R/h | E30: 60 Inspection per year | G30: 60 | H30: =SUM('New Build'!H21) -> 0 | J30: 60 | K30: =SUM('New Build'!K21) -> 0 | M30: 60 | N30: =SUM('New Build'!N21) -> 0 | P30: 60 | Q30: =SUM('New Build'!Q21) -> 0 | S30: 60 | T30: =SUM('New Build'!T21) -> 0 | U30: =SUM('New Build'!U21) -> 0
B31: 068019642 | C31: Emergency travelling cost | D31: R/visit | E31: 60 visits per year (50km radius from Germiston) | G31: 60 | H31: =SUM('New Build'!H22) -> 0 | J31: 60 | K31: =SUM('New Build'!K22) -> 0 | M31: 60 | N31: =SUM('New Build'!N22) -> 0 | P31: 60 | Q31: =SUM('New Build'!Q22) -> 0 | S31: 60 | T31: =SUM('New Build'!T22) -> 0 | U31: =SUM('New Build'!U22) -> 0
B32: 068001101 | C32: Corrosion and remain life (When required) | D32: R/h | E32: 95 wagons per year | G32: 95 | H32: =SUM(Sasol!H11) -> 0 | J32: 95 | K32: =SUM(Sasol!K11) -> 0 | M32: 95 | N32: =SUM(Sasol!N11) -> 0 | P32: 95 | Q32: =SUM(Sasol!Q11) -> 0 | S32: 95 | T32: =SUM(Sasol!T11) -> 0 | U32: =SUM(Sasol!U11) -> 0
B33: 068001102 | C33: In-service: • Wagon integrity (When found during inspection por when required) | D33: R/h | E33: 95 wagons per year | G33: 95 | H33: =SUM(Sasol!H12) -> 0 | J33: 95 | K33: =SUM(Sasol!K12) -> 0 | M33: 95 | N33: =SUM(Sasol!N12) -> 0 | P33: 95 | Q33: =SUM(Sasol!Q12) -> 0 | S33: 95 | T33: =SUM(Sasol!T12) -> 0 | U33: =SUM(Sasol!U12) -> 0
B34: 068001103 | C34: In-service: • Pressure gauge – User’s requirements (When found during inspection por when required) | D34: R/h | E34: 95 wagons per year | G34: 95 | H34: =SUM(Sasol!H14) -> 0 | J34: 95 | K34: =SUM(Sasol!K14) -> 0 | M34: 95 | N34: =SUM(Sasol!N14) -> 0 | P34: 95 | Q34: =SUM(Sasol!Q14) -> 0 | S34: 95 | T34: =SUM(Sasol!T14) -> 0 | U34: =SUM(Sasol!U14) -> 0
B35: 068001104 | C35: In-service: Reports (Review & Verification) • Logbook | D35: R/h | E35: 95 wagons per year | G35: 95 | H35: =SUM(Sasol!H16) -> 0 | J35: 95 | K35: =SUM(Sasol!K16) -> 0 | M35: 95 | N35: =SUM(Sasol!N16) -> 0 | P35: 95 | Q35: =SUM(Sasol!Q16) -> 0 | S35: 95 | T35: =SUM(Sasol!T16) -> 0 | U35: =SUM(Sasol!U16) -> 0
B36: 068001105 | C36: Manufacturing AIA: COC (Certificate of Compliance) issued by the repairer (TE) and co-signed by the AIA | D36: R/h | E36: 95 wagons per year | G36: 95 | H36: =SUM(Sasol!H20) -> 0 | J36: 95 | K36: =SUM(Sasol!K20) -> 0 | M36: 95 | N36: =SUM(Sasol!N20) -> 0 | P36: 95 | Q36: =SUM(Sasol!Q20) -> 0 | S36: 95 | T36: =SUM(Sasol!T20) -> 0 | U36: =SUM(Sasol!U20) -> 0
B37: 068001119 | C37: Approval of dispensation • Issue the approval certificates of dispensation | D37: R/h | E37: 95 wagons per year | G37: 95 | H37: =SUM(Sasol!H21) -> 0 | J37: 95 | K37: =SUM(Sasol!K21) -> 0 | M37: 95 | N37: =SUM(Sasol!N21) -> 0 | P37: 95 | Q37: =SUM(Sasol!Q21) -> 0 | S37: 95 | T37: =SUM(Sasol!T21) -> 0 | U37: =SUM(Sasol!U21) -> 0
B38: 068001106 | C38: Travelling to Sasolburg | D38: R/h | E38: 200 visits per year (From Germiston and Sasol) | G38: 200 | H38: =SUM(Sasol!H22) -> 0 | J38: 200 | K38: =SUM(Sasol!K22) -> 0 | M38: 200 | N38: =SUM(Sasol!N22) -> 0 | P38: 200 | Q38: =SUM(Sasol!Q22) -> 0 | S38: 200 | T38: =SUM(Sasol!T22) -> 0 | U38: =SUM(Sasol!U22) -> 0
B39: TOTAL PRICE, exclusive of VAT | H39: =SUM(H3:H38) -> 0 | K39: =SUM(K3:K38) -> 0 | N39: =SUM(N3:N38) -> 0 | Q39: =SUM(Q3:Q38) -> 0 | T39: =SUM(T3:T38) -> 0 | U39: =SUM(U3:U38) -> 0
B40: VAT 15% (if applicable) | H40: =H39*1.15 -> 0 | K40: =K39*1.15 -> 0 | N40: =N39*1.15 -> 0 | Q40: =Q39*1.15 -> 0 | T40: =T39*1.15 -> 0 | U40: =U39*1.15 -> 0
...
