Workbook
Name Consequence: '[1]Drop Down Lists'!$A$3:$A$8
Name Likelihood: '[1]Drop Down Lists'!$B$3:$B$7
Name RCE: '[1]Drop Down Lists'!$D$3:$D$7

Sheet Risk template
A3: Occupational Health and Safety Baseline risk assessment
A4: Business/Operating unit: | B4: NORTH WEST OPERATING UNIT | J4: Department: | K4: GEMMA CLUSTER NORTH WEST | U4: Next Review Date (every 2 years): | V4: 45191 | W4: Template identifier: | X4: 240-70044602
A6: Date: | J6: Prepared by: | K6: Dudu Sikonde | M6: Authorised by: | O6: Name: Laetitia Smith | W6: Document identifier | AD6: 1 | AE6: A | AF6: Fully effective | AG6: I
O7: Designation: SHEQ Manager | W7: Revision number: | X7: 3 | AD7: 2 | AE7: B | AF7: Mostly effective | AG7: II
O8: Signed: | W8: Revision date: | X8: 45443 | AD8: 3 | AE8: C | AF8: Mostly ineffective | AG8: III
O9: Date: | AD9: 4 | AE9: D | AF9: None | AG9: IV
A10: Refer to Occupational Health and Safety Risk assessment procedure 32-520 | AD10: 5 | AE10: E
A11: List activity | B11: Activity type (Routine/Non-routine) | C11: Hazard nr | D11: Hazard Identification | E11: Risk Nr | F11: Associated risk | G11: Risk type | H11: Cause(s) of the risk | I11: Exposed group/employees | J11: Risk Owner | K11: Exposure patterns | L11: What are the possible consequences? | M11: Existing Controls | P11: Risk Priority Rating | R11: Additional Controls or Tasks Aimed at improving Existing Controls | S11: Monitoring Mechanisms | T11: Control Owner | U11: Legal and Other Requirements | V11: Target Date | W11: Current Status | X11: Integrated Risk Management (IRM) reference number
A12: List specific activities to be performed taking into consideration the equipment to be used, the personnel involved in the task. | B12: Indicate R or N 1. Routine activities and situations create hazards through day-to-day operations and normal work activities; 2. Non-routine activities and situations are occasional or unplanned; | C12: # | D12: Anything with potential to cause of harm. Note: A hazard can pose more than one risk. | E12: # | F12: A chance that injury , ill health or damage could occur as a result of uncontrolled hazard. | G12: Safety or health | H12: What causes the risk to come into effect? | I12: Who is exposed to the hazard i.e. visitors, members of the public, etc. | J12: Who is accountable for making sure the controls and monitors are: - in place, - implemented, - regularly reviewed for effectiveness. | K12: The frequency and duration the person/group is exposed to the hazard e.g. Daily for 3 hrs. | L12: Consider the worse case scenario without controls? | M12: Include: - Preventative Controls (controls implemented to eliminate hazards or reduce the likelihood of the risk occurring), and - Reactive Controls (controls implemented to reduce the immediate impact of the risk occurring) Elimination Substitution Engineering controls Administrative controls Personal protective equipment (PPE) | N12: Consequence | O12: Likelihood | Q12: RCE Risk Control Effectiveness | R12: Include: - Preventative Controls (controls implemented to eliminate hazards or reduce the likelihood of the risk occurring), and - Reactive Controls (controls implemented to reduce the immediate impact of the risk occurring) Elimination Substitution Engineering controls Administrative controls Personal protective equipment (PPE) | S12: How we know if we are succeeding. Include comments on effectiveness. This may include i.e. measurements, inspections, supervision where necessary. | T12: Person allocated the responsibility for implementing the agreed controls | U12: Where relevant, list the relevant legislative and or Eskom requirements that prescribe the control. | V12: Once a date has been agreed to, this can not be changed | W12: Pending, In Progress, Complete | X12: Where applicable, add IRM system reference number for tracking of treatment actions.
A13: 1.Driving | B13: R | C13: 1.1 | D13: Bad road conditions | E13: 1.1 | F13: Possible puncture or damage to the vehicle tyre, possible injuries and fatalities | G13: Safety | H13: Potholes on the road | I13: Employees, Members of public | J13: Management, HSE personnel | K13: Daily for 8hrs | L13: Injury , Property damage | M13: Vehicle safety procedures, Life Saving Rules, Driver observations, Valid drivers license & Permit, Valid Medical, | N13: 3 | O13: B | P13: III | Q13: Mostly effective | R13: Preventative controls-Drivecams, telematrix ,medical fitness for driver, autorised drivers licence, driver obsrvations, awareness and training. Driving procedure commnunication,public safety campaignss Reactive controls- accident reporting and investigation | S13: Reduction on reported MVA's,reduction in lost time injuries | T13: Managers and SHE personnel | U13: National road traffic Act 93 0f 1995;32-345 Vehicle safety specification; 240-88365419 driver training Life Saving Rules | V13: 31/03/2021 | W13: Completed
B14: R | C14: 1.2 | D14: Fatigue | E14: 1.2 | F14: Falling asleep while driving which can lead to losing control of the vehicle or collisions | G14: Safety | H14: Overtime work, not taking breaks, work pressure | I14: Employee, Public | J14: Management, HSE personnel | K14: Daily for 5hrs | L14: Injury , Property damage,ill health | M14: Drivers to take regular rest breaks, EAP, proper work planning and scheduling,supervision, Technical Instruction 10TI-09, Procedure for management of Hours of work 240-42864251 | N14: 3 | O14: B | P14: III | Q14: Mostly effective | R14: Preventative controls-taking regular rest, proper planning of work and scheduling,education and awarenes of fatigue management Reactive controls- accident reporting and investigation, EAP referral of affceted employee | S14: EAP referal report, MVA reduction | T14: Managers and SHE personnel | U14: National road traffic Act 93 0f 1995;32-345 Vehicle safety specification; 240-88365419 driver training, Life Saving Rules. Basic Conditions of Employement Act no.75 of 1997, Labour relations Act 65 of 1995, Procedure for working hours 240-42854251, Management of Overtime worked to Mitigate fatigue 10TI-09 | V14: 31/03/2021 | W14: Completed
B15: R | C15: 1.3 | D15: Intoxication | E15: 1.3 | F15: Driving while under the influence of alcohol | G15: Safety | H15: Non-adherence to Eskom Substance Abuse Procedure, Life saving rules violation (be sober) | I15: Employees | J15: Management, HSE personnel | K15: Daily for 8hrs | L15: Injury , Property damage,ill health | M15: Ad hoc breathalyzer , Live saving rule pledges; Awareness on Substance abuse procedure | N15: 4 | O15: B | P15: III | Q15: Mostly effective | R15: Preventative controls-Awareness on life saving rules,adhoc breatherlizer tests Reactive controls- accident reporting and investigation, EAP referral of affceted employee,alcohol test after the incident on the involved individual | S15: Life saving rules violation report, statistic on positive breatherlizer test, | T15: Managers and SHE personnel | U15: National road traffic Act 93 0f 1995;32-345 Vehicle safety specification; 240-88365419 driver training standard, Life Saving Rules | V15: 31/03/2021 | W15: Completed
B16: R | C16: 1.4 | D16: Speeding | E16: 1.4 | F16: Losing control of the vehicle, collision and unable to stop on time | G16: Safety | H16: Life saving rules violation (be sober,MVA"S statistic reduction | I16: Employee, Public | J16: Management, HSE personnel | K16: Daily for 8hrs | L16: Injury , Property damage | M16: OBC reports and trend analysis, Pool vehicles speed limit - 100km, Valid drivers license & Eskom Permit, valid nationaldriver's licence,drivers observation,drivers risk profile | N16: 5 | O16: C | P16: II | Q16: Mostly effective | R16: Preventative controls-Awarenesson life saving rules,adhoc breatherlizer tests, Driver Monitoring Device System, Vehicle Monitoring Device,driver training programme,driver asssessments, risk profiling Reactive controls- accident reporting and investigation, EAP referral of affceted employee,alcohol test after the incident on the involved individual,speeding violation consequence management | S16: Life saving rules violation report, statistic on positive breatherlizer test,consequence management, Vehicle Monitoring Device | T16: Managers and SHE personnel | U16: National road traffic Act 93 0f 1995;32-345 Vehicle safety specification; 240-88365419 driver training standard, Life Saving Rules | V16: 31/03/2022 | W16: In Progress
B17: R | C17: 1.5 | D17: Hi-jacking | E17: 1.5 | F17: Possible assult, rape, stress, trauma and being shot | G17: Safety | H17: vehicle being stollen, member of the public | I17: Employee, Public | J17: Management, HSE personnel | K17: Daily for 8hrs | L17: Injury , Property damage | M17: All drivers attended anti hi-jacking training; Pool vehicles are fitted with panic buttons; Mixtel system to track vehicle | N17: 3 | O17: B | P17: III | Q17: Mostly effective | R17: Preventative controls-Awareness on on antihijacking,training on anti hijacking, Vehicle Monitoring Device to track the vehicle location Reactive controls- accident reporting and investigation, reporting vehicle to SAPS and Protective services, EAP | S17: Vehicle monitoring device reports, Reduction in speeding fines | T17: Managers and SHE personnel | U17: National road traffic Act 93 0f 1995;32-345 Vehicle safety specification; 240-88365419 driver training standard, Life Saving Rules | V17: 31/03/2021 | W17: Completed
B18: R | C18: 1.6 | D18: Overloading | E18: 1.6 | F18: Increases the chances of injuries during a collision (overloading of material and not properly storing and securing tools) | G18: Safety | H18: Exceed the vehicle specification | I18: Exposed group/employees, members of the public | J18: Management, HSE personnel | K18: Daily for 8 hrs | L18: Injury , Property damage | M18: OBC reports and trend analysis, Valid drivers license & Eskom Permit, valid nationaldriver's licence,drivers observation,drivers risk profile | N18: 2 | O18: B | P18: IV | Q18: Fully effective | R18: Preventative controls-Awarenesson life saving rules,adhoc breatherlizer tests, Driver Monitoring Device System, Vehicle Monitoring Device,driver training programme,driver asssessments, risk profiling Reactive controls- accident reporting and investigation, EAP referral of affceted employee,alcohol test after the incident on the involved individual,speeding violation consequence management | S18: Vehicle monitoring device reports, Reduction in speeding fines | T18: Managers and SHE personnel | U18: National road traffic Act 93 0f 1995;32-345 Vehicle safety specification; 240-88365419 driver training standard, Life Saving Rules | V18: 31/03/2021 | W18: Completed
B19: R | C19: 1.7 | D19: Gravel road | E19: 1.7 | F19: Vehicle slipping and capsizing | G19: Safety | H19: Driving at a speed not suitable for the condtion of the road | I19: Exposed group/employees | J19: Management, employees and Senior Supervisor | K19: Daily | L19: Injury, property damage | M19: 4x4 training, driver awareness, | N19: 3 | O19: B | P19: III | Q19: Mostly effective | R19: Preventative control- Continues awareness on driver safety Reactive control - Accident reporting and investigation. | S19: Monthly incident analysis and sharing of lessons learnt | T19: Managers and SHE personnel | U19: OHSAS 18001 (4.3.1, 4.5.3) | V19: 31/03/2021 | W19: Completed
B20: R | C20: 1.8 | D20: Night driving | E20: 1.8 | F20: Being involved in a motor vehicle accident (Collision, hitting pedestrians, hitting straying animals, etc) | G20: Safety | H20: Night blidness, poor visibility | I20: Employees, members of the public, contractors | J20: responsible manager, employees and contractors | K20: Daily | L20: Injury and property damage | M20: Safety awareness | N20: 3 | O20: C | P20: II | Q20: Mostly effective | R20: Preventative control - Continues awareness on night driving Reactive control- Accident reporting and incident investigation | S20: Monthly incident analysis and sharing of lessons learnt | T20: Managers and SHE personnel | U20: Vehicle and driver safety management (32-93), OHSAS 18001 (4.3.1, 4.5.3) | V20: 31/03/2022 | W20: In progress
B21: R | C21: 1.9 | D21: Driving Unroad worthy vehicle | E21: 1.9 | F21: Vehicle breakdown or parts failure | G21: Safety | H21: Improper or lack of maintenance of vehicle, use of scrapped vehicles | I21: Exposed group/employees, members of the public | J21: Management, HSE personnel | K21: Daily for 8 hours | L21: Injury , Property damage | M21: Pre-trip inspection, Regular service intervals, Breakdown procedure in place,SOP | N21: 2 | O21: B | P21: IV | Q21: Fully effective | R21: Preventative controls-Awareness on life saving rules,adhoc breatherlizer tests, Vehicle Monitoring Device,Driver training programme,Driver asssessments & risk profiling . Reactive controls- accident reporting and investigation, EAP referral of affceted employee,alcohol test after the incident on the involved individual,speeding violation consequence management | S21: Vehicle monitoring device reports, reduction in speeding fines | T21: Managers and SHE personnel | U21: National road traffic Act 93 0f 1995;32-345 Vehicle safety specification; 240-88365419 driver training standard, Life Saving Rules | V21: 31/03/2021 | W21: Completed
B22: R | C22: 1.10 | D22: Travelling in areas where there are protests | E22: 1.10 | F22: Loss of control of the vehicle | G22: Safety | H22: Protesters throwing stones | I22: Employees and contractors | J22: Senior Supervisor, management | K22: Daily | L22: Injury | M22: Protest safety alerts | N22: 1 | O22: C | P22: III | Q22: Fully effective | R22: Preventative controls - Continuos protests alerts and encouraging the use of alternative roads Reactive controls- Call SAPS & Protective Services | S22: Listening to the news, and reading emails on protests alerts | T22: Managers, supervisors and Employees | V22: 31/03/2021 | W22: Completed
B23: R | C23: 1.11 | D23: Reckless driving from other road users | E23: 1.11 | F23: Colliding with other vehicles | G23: Safety | H23: Road conditions, environmental factors, personal factors, not adhering to national road traffic laws | I23: Exposed group/employees, members of the public | J23: Senior Supervisor, management | K23: Daily for 8 hours | L23: Injury | M23: Defensive driver Training | N23: 4 | O23: B | P23: III | Q23: Mostly effective | R23: Preventative control - Driver Observations, Driver assessments, route planning and risk assessment Reactive control: Call for emergency response, Incident reporting & investigation. Share lessons learnt | S23: Vehicle monitoring device reports, daily inspections, workstoppages, incident recall and Reduction in speeding fines | T23: Managers, supervisors and Employees | U23: National road traffic Act 93 0f 1995;32-345 Vehicle safety specification; 240-88365419 driver training standard, Life Saving Rules | V23: 31/03/2021 | W23: Completed
B24: R | C24: 1.12 | D24: Driving Abnormal vehicles | E24: 1.12 | F24: Vehicle collision | G24: Safety | H24: lack of operating knowledge, improper risk assessment | I24: Public | J24: Senior Supervisor, management | K24: Daily for 8 hours | L24: Injury , Property damage | M24: authorisation permit from the authorities, emergency management plan | N24: 1 | O24: B | P24: IV | Q24: Fully effective | R24: Preventative controls-authorisation from the responsible authorities, risk profiling Reactive controls- accident reporting and investigation, spillage clean up | S24: Vehicle monitoring device reports, Reduction in speeding fines | T24: Managers and SHE personnel | U24: National road traffic Act 93 0f 1995;32-345 Vehicle safety specification; 240-88365419 driver training standard, Life Saving Rules | V24: 31/03/2021 | W24: Completed
B25: R | C25: 1.13 | D25: Floods | E25: 1.13 | F25: Motor vehicle accident | G25: Safety | H25: The vehicle aeroplatting due to paddles of water | I25: Employees and Contractors | J25: Responsible managers, Senior Supervisor and employees | K25: As and when | L25: Injuries | M25: Vehicle safety awareness, Defensive and Advance driver training | N25: 4 | O25: B | P25: III | Q25: Mostly effective | R25: Preventative control - Driver Observations, Driver assessments, route planning and risk assessment Reactive control: Call for emergency response, Incident reporting & investigation. Share lessons learnt | S25: Capturing and monitoring incidents and reported near misses | T25: Responsible manager and Senior supervisor | U25: Emergency preparedness procedure and ISO 45001, disaster management plan | V25: 31/03/2021 | W25: Completed
B26: R | C26: 1.14 | D26: Pedestrian on the road/driveway | E26: 1.14 | F26: Run into pedestrians | H26: Not checking surrounding prior driving, lack of focus while driving, poor visibility | I26: Employees ,contractors and pedestrians | J26: Responsible managers, Senior Supervisor and employees | K26: Daily | L26: Fatality, Injury and Property damage | M26: Vehicle monitoring device, Driver profile, Defensive & Advance driver training, Vehicle safety awareness, Driver observations | N26: 5 | O26: C | P26: II | Q26: Mostly effective | R26: Preventative control - Visual inspections by drivers prior driving, Driver Observations, Driver risk profile, Route planning, Vehicle safety awareness and Risk assessment Reactive control: Call for emergency response, Incident reporting & investigation. Share lessons learnt | S26: Vehicle monitoring device reports, daily inspections, workstoppages & awareness, incident recall & share lessons learnt and reduction in culpable homicide court cases | T26: Managers, SHE personnel and Fleet personnel | U26: National road traffic Act 93 0f 1995;32-345 Vehicle safety specification; 240-88365419 driver training standard, Life Saving Rules | W26: Completed
A27: 2.Accessing customer facilities | B27: R | C27: 2.1 | D27: Angry customer | E27: 2.1
B28: R | C28: 2.2 | D28: Hostage situation | E28: 2.2 | F28: Possible assult, rape, stress, trauma | G28: Safety | H28: Customer compeling Eskom to act in his/her favour | I28: Employees and Contractors | J28: Responsible managers, Senior Supervisor and employees | K28: As and when | L28: Injuries | M28: Safety awareness, Risk assessment, Panic button on vehicle, Armed response | N28: 4 | O28: B | P28: III | Q28: Mostly effective | R28: Preventative controls- risk assessment, Armed response team and Local SAPS, EAP Reactive controls- Accident reporting and investigation, | S28: Capturing and monitoring incidents and reported near misses | T28: Responsible manager and Senior supervisor | U28: Emergency preparedness procedure and OHSAS 18001, disaster management plan | V28: 31/03/2021 | W28: Completed
B29: R | C29: 2.3 | D29: Dogs | E29: 2.3 | F29: Possible bites | G29: Safety | H29: Uncontrolled dogs | I29: Employees and contractors | J29: Managers and Senior Supervisor | K29: Daily | L29: Ill health | M29: Customer forums, public awareness campaigns | N29: 3 | O29: C | P29: II | Q29: Mostly effective | R29: Preventative controls- risk assessment,PPE Reactive controls- accident reporting and investigation, | S29: Improved LTIR and TRIR, positive customer feedback | T29: Managers and SHE personnel | U29: PPE specification 240-44175132 ,OHSACT and 32-95, Pre task risk assessment 32-520 | V29: 31/03/2022 | W29: In Progress
B30: R | C30: 2.4 | D30: Exposure to customer wild animals | E30: 2.4 | F30: Possible bites | G30: Safety | H30: Game reserve cutomer based, uncontrolled wild animals | I30: Employees, Contractors | J30: Responsible managers and Senior Supervisors | K30: Daily | L30: Injury | M30: Customer forums, public awareness campaigns, DGL 34-190 Access to Farms | N30: 2 | O30: C | P30: III | Q30: Mostly effective | R30: Preventative controls- risk assessment,PPE, Reactive controls- accident reporting and investigation, | S30: Improved LTIR and TRIR, positive customer feedback | T30: Managers and Senior Supervisor | U30: PPE specification 240-44175132,Occupational Health and Safety Act, 1993 (Act No. 85 of 1993) esction 8and 32-95 | V30: 31/03/2021 | W30: Completed
A31: 3. Community protests | B31: N | C31: 3.1 | D31: Community unrest | E31: 3.1 | F31: Actions and conditions leading to possible hostage situation and assult | G31: Safety | H31: Service delivery related community protests, mine labour unrest | I31: Employees | J31: responsible managers and Senior Supervisors | K31: As and when | L31: Injury | M31: Escort by protective services, SAPS, armed response, public threat communication, avoid risk areas | N31: 2 | O31: C | P31: III | Q31: Mostly effective | R31: Preventative controls-security standard complience, competent security personnel , risk assessment,public safety campaigns, Reactive controls- accident reporting and investigation, treatment of injured employee ,replacement of damaged/stolen property | S31: Reduction in LTIR and TRIR, no fatalities | T31: Managers and Senior Supervisor | U31: OHSACT section 8(1), 240-82789119 Distribution Security Operating procedure, | V31: 31/03/2021 | W31: Completed
A32: 4. Work within office environment | B32: R | C32: 4.1 | D32: Improper sitting position | E32: 4.1 | F32: Musculoskeletal diseases | G32: Health | H32: Continous sitting on awkward position | I32: Employee | J32: Responsible managers and Senior Supervisor | K32: Daily | L32: Injury | M32: Ergonomic awareness, Health risk assesment, OH Surveys | N32: 1 | O32: C | P32: III | Q32: Mostly effective | R32: Preventative control: SMAT observations, medical surveillance, Ergonomics RA, OH Surveys Reactive control: Investigation, sharing of lessons learnt and workstoppages | S32: Reduction in TRIR,reduction in absenteeism rate | T32: Managers and Senior Supervisor | U32: Occupational Health and Safety Act, 1993 (Act No. 85 of 1993), 34-370 Management of Ergonomic hazards exposure in the workplace | V32: 31/03/2021 | W32: Completed
B33: R | C33: 4.2 | D33: Cables, office equipment and other tripping objects | E33: 4.2 | F33: Possible falls | G33: Safety | H33: Poor housekeeping in offices, lack of storage facilities, too much furnisher in the office | I33: Employees | J33: Responsible managers and Senior Supervisor | K33: Daily | L33: Injury | M33: Safety awareness talks, SMAT, SHE Rep inspection, House keeping inspections | N33: 3 | O33: C | P33: II | Q33: Mostly effective | R33: Preventative control: Safety awareness Reactive control: Medical surveillance | S33: Reduction in LTIR and TRIR,reduction in absenteeism rate, | T33: Managers and Senior Supervisor | U33: Environmental regulation for workplace 6 | V33: 31/03/2022 | W33: In progress
B34: R | C34: 4.3 | D34: Cables | E34: 4.3 | F34: Possible electric shock | G34: Safety | H34: Poor housekeeping in offices, exposed cables | I34: Employees | J34: Responsible managers and Senior Supervisor | K34: Daily | L34: Injury | M34: Safety awareness talks, SMAT, safety inspections | N34: 1 | O34: B | P34: IV | Q34: Fully effective | R34: Preventative control - Safety awareness, good housekeeping Reactive control - Incident reporting and investigation | S34: Reduction in LTIR and TRIR,reduction in absenteeism rate, | T34: Managers and Senior Supervisor | U34: Environmental regulation for workplace 6, Electrical machinary regulation 10 | V34: 31/03/2021 | W34: Completed
B35: R | C35: 4.4 | D35: Regular computer use | E35: 4.4 | F35: Vision impairment | G35: Health | H35: Focusing on computer screen for longer periods, inadequate lighting in office environment, glare | I35: Employees | J35: Responsible managers and Senior Supervisor | K35: Daily | L35: Injury | M35: Illumination surveys, medical surveillance programs, regular maintance of lights | N35: 1 | O35: B | P35: IV | Q35: Fully effective | R35: Preventative control: Conduct survey as per occupational hygiene survey plan and requirement. Proper sitting position and use of computers awareness and education,medical surveillance, valid medical certificates, Reactive controls- accident reporting and investigation, treatment of injured employee | S35: Reduction in LTIR and TRIR,reduction in absenteeism rate, | T35: Managers and Senior Supervisor | U35: Monitoring of Occupational hygiene factors 34-369, 34-370 Management of ergonomic hazards exposure in the workplace | V35: 31/03/2021 | W35: Completed
B36: R | C36: 4.5 | D36: Use of paper and other office supplies | E36: 4.5 | F36: Possible lacerations and cuts | G36: Safety | H36: Paper cuts | I36: Employees | J36: Responsible managers and Senior Supervisor | K36: Daily | L36: Illhealth | M36: Safety awareness talks, | N36: 2 | O36: B | P36: IV | Q36: Fully effective | R36: Preventative control-Safety awareness on office hazards Reactive control - Incident reporting and investigation | S36: Reduction in TRIR, | T36: Managers and Senior Supervisor | U36: Occupational Health and Safety Act, 1993 (Act No. 85 of 1993) section 8(1) | V36: 31/03/2021 | W36: Completed
B37: R | C37: 4.6 | D37: Water scarcity | E37: 4.6 | F37: Ill health | G37: Health | H37: Dehydration | I37: Employees, contractors, visitors | J37: Responsible managers and Senior Supervisor | K37: Daily | L37: Injury | M37: Safety talks and daily employee commitmemt on saving water. | N37: 1 | O37: C | P37: III | Q37: Mostly effective | R37: Preventative control - Provision of purified water for drinking. Reactive control: Move employees to the nearest office | S37: Reduction in TRIR,reduction in absenteeism rate, | T37: Managers and Senior Supervisor | U37: Occupational Health and Safety Act, 1993 (Act No. 85 of 1993) and facilities regulation 7 | V37: 31/03/2021 | W37: Completed
B38: R | F38: Illhealth | G38: Health | H38: Poor hygiene in ablution facilite | I38: Employees and contractors | J38: Responsible managers and Senior Supervisor | K38: Daily | L38: Illhealth | M38: Safety talks and daily employee commitmemt on saving water | N38: 1 | O38: C | P38: III | Q38: Mostly effective | R38: Preventative control - Provision of Water tanks for other use. Reactive control: Move employees to the nearest office | S38: Incident reporting | T38: Managers and Senior Supervisor | U38: Occupational Health and Safety Act, 1993 (Act No. 85 of 1993) section 8(1), and facilites regulation 2 | V38: 31/03/2021 | W38: Completed
B39: R | C39: 4.7 | D39: Electricity cuts | E39: 4.7 | F39: Poor visibility which may lead to falling | G39: Health | H39: Thermal discomfort leading to heat exhastion when airconditioners are not working | I39: Employees, contractors, visitors | J39: Responsible managers and Senior Supervisor | K39: Daily | L39: Illhealth | M39: Use temporary work stations and backup generator | N39: 1 | O39: C | P39: III | Q39: Mostly effective | R39: Preventative control - All employees to evacuate the building and assemble at designated area Reactive control - Employees to move to the nearest office | S39: Reductio in medicals and TRIR,reduction in absenteeism rate | T39: Managers and Senior Supervisor | U39: Occupational Health and Safety Act, 1993 (Act No. 85 of 1993) and Environmental regulation for work places 2 | V39: 31/03/2021 | W39: Completed
B40: R | C40: 4.8 | D40: Inadequte level of illumination | E40: 4.8 | F40: Poor visibility which may lead to eye strain | G40: Health | H40: Inadequate lighting | I40: Employees | J40: Responsible managers and Senior Supervisor | K40: Daily | L40: Ill health | M40: Illumination surveys, medical surveillance programs | N40: 1 | O40: C | P40: III | Q40: Mostly effective | R40: Preventative controls-conduct illumination survey (occupational hugiene surveys to check for OEL"s. Provide adequate lighting systemt.Reactive controls - accident investigation, treatment affected employees, | S40: Reduction in TRIR,reduction in absenteeism rate, | T40: Managers and Senior Supervisor | U40: 34-369 Monitoring of Occupational Hygiene Factors, Environmental regulation for workplaces 3, | V40: 31/03/2021 | W40: Completed
B41: R | C41: 4.9 | D41: Poor ventilation | E41: 4.9 | F41: No free circulation of clean air which may cause dizziness | G41: Health | H41: inhalation of contaminated air | I41: Employees, contractors, visitors | J41: Responsible managers and Senior Supervisor | K41: Daily | L41: Ill health | M41: Indoor Air Quality surveys, Medical surveillances | N41: 1 | O41: C | P41: III | Q41: Mostly effective | R41: Preventative controls- EP Plan, EP Risk assessment, EP Training and awareness, Regular EP Drill Reactive controls - Emergency response, Incident investigation, treatment affected employees, EAP | S41: reduction in absenteeism rate, | T41: Managers and Senior Supervisor | U41: 34-369 Monitoring of Occupational Hygiene Factors, Environmental regulation for workplaces 5 | V41: 31/03/2021 | W41: Completed
B42: N | C42: 4.10 | D42: Bomb threats | E42: 4.10 | F42: Possible explosions | G42: Safety | H42: Customer compeling Eskom to act in his/her favour | I42: Employees,Customers and Contractors | J42: Responsible managers, Senior Supervisor and employees | K42: As and when | L42: Injuries and fatalities | M42: Safety Drills, Induction training, EP awareness training | N42: 1 | O42: B | P42: IV | Q42: Fully effective | R42: Preventative controls- Indoor air quality survey (occupational hugiene surveys to check for OEL). Provide adequate ventiltion. Reactive controls - Accident investigation, treatment affected employees and maintanance of the airconditioning system. | S42: Capturing and monitoring incidents and reported near misses | T42: Responsible manager and Senior supervisor | U42: Emergency preparedness procedure and OHSAS 18001, disaster management plan | V42: 31/03/2021 | W42: Completed
B43: R | C43: 4.11 | D43: Walking around the office | E43: 4.11 | F43: Possible trips and falls | G43: Safety | H43: Waking around the office while the floor is still wet | I43: Employees | J43: Responsible managers and Senior Supervisors | K43: Daily | L43: Injuries | M43: Safety awareness | N43: 2 | O43: C | P43: III | Q43: Mostly effective | R43: Preventative controls- Hold on to the rails when ascending or descending staircase. Avoid distructions while walking (Eg Cellphone) Reactive controls - Accident investigation, treatment affected injured employees. | S43: Reduction of TRIR | T43: Managers and Senior Supervisor | U43: OHSACT section 8(1), Environmental regulation for workplaces 6 | V43: 31/03/2021 | W43: Completed
B44: R | C44: 4.12 | D44: Improper microwave usage | E44: 4.12 | F44: Possible burns | G44: Safety | H44: Unsafe way of using the microwave | I44: Employees | J44: Responsible managers and supervisor | K44: Daily | L44: Injuries | M44: Awareness | N44: 3 | O44: B | P44: III | Q44: Mostly effective | R44: Preventative control: Continous safety discussion (Safety talks, sharing of case study) Reactive control - Accident to be reported and investigated | S44: Incident records and BSO | T44: Managers and Senior Supervisor | U44: OHSACT section 8(1), Electrical machinery regulation 10 | V44: 31/03/2021 | W44: Completed
B45: N | C45: 4.13 | D45: Food and water poisoning | E45: 4.13 | F45: Possibe Illhealth | G45: Safety | H45: Ingesting food or water that is contaminated | I45: Employees and Contractors | J45: Responsible managers, Senior Supervisor and employees | K45: As and when | L45: Illhealth and fatalities | M45: Safety awareness | N45: 6 | O45: C | P45: I | Q45: None | R45: Continous Awareness | S45: Capturing and monitoring incidents and reported near misses | T45: Responsible manager and Senior supervisor | U45: Emergency preparedness procedure and OHSAS 18001, disaster management plan | V45: 31/03/2022 | W45: In progress
B46: R | C46: 4.14 | D46: Making use of the hydroboil | E46: 4.14 | F46: Possible burns | G46: Safety | H46: Hot water | I46: Employees | J46: Responsible managers and supervisor | K46: Daily | L46: Injuries | M46: Awareness | N46: 3 | O46: B | P46: III | Q46: Mostly effective | R46: Preventative controls - Continous safety discussion (Safety talks, sharing of case study) Reactive control - Incidents reported and investigations | S46: Incident records and BSO | T46: Managers and Senior Supervisor | U46: OHSACT section 8(1), SANS 10142 | V46: 31/03/2021 | W46: Completed
B47: R | C47: 4.15 | D47: Using ablution facilities | E47: 4.15 | F47: Poor hygiene | G47: Health | H47: Infections and diseases | I47: Employees | J47: Responsible managers and Supervispor | K47: Daily | L47: Ilhealth | M47: Regular cleaning of ablution facilities, 34-369 Monitoring of Occupational Hygience factors | N47: 3 | O47: B | P47: III | Q47: Mostly effective | R47: Preventative control - Regular cleaning of toilets and bathrooms by cleaning contractor, using of antibacterial soap, provision of disinfecting wipes/solution for toilet seat. Hygiene talks with employees. Reactive control - Infection incidents | S47: reduction in absenteeism rate | T47: Managers and Senior Supervisor | U47: Facilities Regulation 2: (Sanitation). | V47: 31/03/2021 | W47: Completed
B48: R | C48: 4.16 | D48: General lifting and physical manhandling of boxes, files, etc | E48: 4.16 | F48: Musculorskeletal injuries | G48: Safety | H48: Improper lifting techniques | I48: Employees | J48: Responsible managers and Supervisors | K48: As and when | L48: Injuries | M48: Awareness on lifting techniques | N48: 4 | O48: C | P48: II | Q48: Mostly effective | R48: Preventative controls - Safety awareness on lifting techniques Reactive controls - Incident investigation & sharing of lessons learnt , treatment injured employees | S48: Incident recording | T48: Managers and Senior Supervisor | U48: OHSA Section 14 - Duties of employees | V48: 31/03/2022 | W48: In progress
A49: 5. Working at Heights | B49: R | C49: 5.1 | D49: Contact with live overhead power lines | E49: 5.1 | F49: Possible Electricution | G49: Safety | H49: Low hanging power lines due to lack of maintenance and theft | I49: Employees, Members of public and contractors | J49: Line manager | K49: Daily,approx 4 hrs | L49: Injuries | M49: SWP, Daily RA, ORHVS | N49: 4 | O49: B | P49: III | Q49: Mostly effective | R49: Preventative controls - Preventative controls- line maintanance and inspection, outages, and authorisation of personnel as per the ORHVS Reactive controls - Incident investigation & sharing of lessons learnt , treatment injured employees | S49: Reduced injuries and deaths of employees | T49: Managers and Senior Supervisor | U49: ORHVS, PPE Specification 240-44175132 | V49: 31/03/2021 | W49: Completed
B50: R | C50: 5.2 | D50: Flash overs | E50: 5.2 | F50: Possible Electrocution | G50: Safety | H50: Not following Safe Operating Procedures, lack or poor supervision, poor mantenance, lack of training | I50: Employees, Members of the public and contractors | J50: Line manager | K50: Daily | L50: Injuries | M50: SWP, Daily RA, ORHVS | N50: 4 | O50: B | P50: III | Q50: Mostly effective | R50: Preventative control - line maintanance and inspection, outages, and authorisation of personnel as per the ORHVS outcome status Reactive controls - Incident investigation & sharing of lessons learnt , treatment injured employees | S50: Reduced injuries and deaths of employees | T50: Managers and Senior Supervisor | U50: ORHVS, PPE Specificatio 240-44175132 | V50: 31/03/2021 | W50: Completed
B51: R | C51: 5.3 | D51: Foreign objects | E51: 5.3 | F51: Struck by a free falling object | G51: Safety | H51: Not wearing correct PPE, inadequate or lack of risk assessment | I51: Employees, Members of the public and contractors | J51: Line manager | K51: Occassionally | L51: Injuries | M51: SWP, Daily RA, PPE | N51: 4 | O51: C | P51: II | Q51: Mostly effective | R51: Preventative controls- wearing proper PPE for the job,risk assessment and awareness on correct use of PPE Reactive controls- incident recall | S51: Reduced injuries and deaths of employees | T51: Managers and Senior Supervisor | U51: PPE specification 240-44175132 | V51: 31/03/2022 | W51: In progress
B52: R | C52: 5.4 | D52: Adverse weather conditions (Lightning) | E52: 5.4 | F52: Lightining and electrocution | G52: Safety | H52: Working under severe bad weather conditions, earthing not done properly | I52: Employees and contractors | J52: Line manager | K52: As and When | L52: Injuries | M52: Pre-task risk assessment 32-520 and 34-227, Working at heights 32-418, Personal Protective Specification for working at heigts 240-100979499 | N52: 4 | O52: B | P52: III | Q52: Mostly effective | R52: Preventative controls: Right to refusal to work in unsafe situation 240-43848327, PPE Reactive controls: Incident recall | S52: Incident recording, Job observations | T52: Managers and Senior Supervisor | U52: OHS Act Section 8. SHEQ Policy 32-727 | V52: 31/03/2021 | W52: Completed
B53: R | C53: 5.5 | D53: Adverse weather conditions (extremely hot conditions) | E53: 5.5 | F53: Possible dehydration and collapsing | G53: Health | H53: Working in the outside during extreme hot conditions or when there is a heat wave | I53: Employees and contractors | J53: Line manager | K53: As and When | L53: Illhealth | M53: Pre-task risk assessment 32-520 and 34-227 | N53: 1 | O53: C | P53: III | Q53: Mostly effective | R53: Preventative control: OHS Awareness, toolbox talks, Medical Surveillance, Health risk assessment; OH Surveys Reactive controls: Medical attention for the involved and incident recall | S53: Incident recording | T53: Managers and Senior Supervisor | U53: 34-369 Monitoring of Occupational hygiene factors, Environmental regulation for workplaces 2 | V53: 31/03/2021 | W53: Completed
B54: R | C54: 5.6 | D54: Incompetent person | E54: 5.6 | F54: Possibility of falling | G54: Safety | H54: Incorrect usage of FAS due to incompetence | I54: Employees and contractors | J54: Line manager | K54: As and When | L54: Injuries | M54: Working at heights 32-418, Training Procedure 32-477 | N54: 1 | O54: C | P54: III | Q54: Mostly effective | R54: Preventative control: FAS Training, Appointed Fall Protection Planner, Fall rescue training, Responsible person supervising work Reactive control: Emergency response for injured, incident investigation and sharing of lesson learnt | S54: Incident recording | T54: Managers and Senior Supervisor | U54: OHS Act Section 14, Construction regulation 10, 32-418 Working at heights procedure | V54: 31/03/2021 | W54: Completed
B55: R | C55: 5.7 | D55: Medical unfitness | E55: 5.7 | F55: Possibility of falling from heights due to medical condition or not feeling well | G55: Safety | H55: Medical condition, being absent minded (not being sober, stress, psychological factors), | I55: Employees and contractors | J55: Line manager | K55: As and When | L55: Injuries | M55: Medical Surveillance 32-282, Working at heights 32-418 | N55: 3 | O55: B | P55: III | Q55: Mostly effective | R55: Preventative control: Job Observation, medical screening Reactive control: Emergency response for injured, incident investigation and sharing of lesson learnt | S55: Incident recording | T55: Managers and Senior Supervisor | U55: OHS Act Section 14. SHEQ Policy 32-727 | V55: 31/03/2021 | W55: Completed
B56: R | C56: 5.8 | D56: Working on a rotten or cracked pole | E56: 5.8 | F56: Possible falling from heights | G56: Safety | H56: Climbing a rotten pole before testing it, the pole might break while busy climbing | I56: Employees and contractors | J56: Senior Supervisor / Manager | K56: Daily | L56: Injuries | M56: Pre-task risk assessment 32-520 and 34-227, Working at heights 32-418, Personal Protective Specification for working at heigts 240-100979499, Wooden Pole Inspection 34-334, training procedure 32-477 | N56: 4 | O56: B | P56: III | Q56: Mostly effective | R56: Preventative control: Training and Awareness on work at heights, Pole replacement procedure (240-61187283) to be implemented Reactive control: Emergency response for injured and fall rescue, incident investigation and sharing of lesson learnt | S56: Incident recording | T56: Managers and Senior Supervisor | U56: OHS Act Section 14, Construction regulation 10, | V56: 31/03/2021 | W56: Completed
B57: R | C57: 5.9 | D57: Steel Structures (Lattice steel) | E57: 5.9 | F57: Possible falling from heights | G57: Safety | H57: Due to instability of the structure that can be caused by severe winds, corrosion, and steel structure not in good condition (vandalised and not being able to climb properly) | I57: Employees, Members of the public and contractors | J57: Line manager | K57: As and When | L57: Injuries | M57: Pre-task risk assessment 32-520 and 34-227, Working at heights 32-418, Personal Protective Specification for working at heigts 240-100979499, training procedure 32-478 | N57: 4 | O57: B | P57: III | Q57: Mostly effective | R57: Preventative control: Training and Awareness on work at heights, Fall rescue training Reactive control: Emergency response for injured and fall rescue, incident investigation and sharing of lesson learnt | S57: Incident recording | T57: Managers and Senior Supervisor | U57: OHS Act Section 14, Construction regulation 10 | V57: 31/03/2021 | W57: Completed
B58: R | C58: 5.10 | D58: Working in an aerial device | E58: 5.10 | F58: Possible falling from heights | G58: Safety | H58: Bucket not secured (Incorrect pin used ). Overcrowding of the bucket. SWL of the bucket not displayed. | I58: Employees and contractors | J58: Line manager | K58: As and When | L58: Injuries | M58: Pre-task risk assessment 32-520 and 34-227, Working at heights 32-418, Personal Protective Specification for working at heigts 240-100979499, training procedure 32-479, Operating vehicle mounted crane 34-111, Safe use of lifting machines and lifting tackle 39-98 | N58: 4 | O58: B | P58: III | Q58: Mostly effective | R58: Preventative control: Training and Awareness on work at heights, Fall rescue training Reactive control: Emergency response for injured and fall rescue, incident investigation and sharing of lesson learnt | S58: Incident recording | T58: Managers and Senior Supervisor | U58: DMR 18, Construction regulation 23 | V58: 31/03/2021 | W58: Completed
B59: R | C59: 5.11 | D59: Overexertion | E59: 5.11 | F59: Ergonomics | G59: Safety | H59: Failure to follow safe working procedures, lack of HRA | I59: Employees and contractors | J59: Line manager | K59: As and When | L59: Injuries | M59: 34-369 Monitoring of Occupational Hygiene Factors, 34-370 Management of Ergonomic hazard exposure in the workplace, Pre task risk assessment 32-520 | N59: 4 | O59: B | P59: III | Q59: Mostly effective | R59: Preventative controls: Use lifting equipement to allow operator to be close to his workstation Reaction controls: Emergency response for injured and fall rescue, incident investigation and sharing of lesson learnt | S59: Reduced injuries and deaths of emplyees and members of the public | T59: Managers and Senior Supervisor | U59: 34-369 Monitoring of Occupational Hygiene Factors, 34-370 Management of Ergonomic hazard exposure in the workplace, Pre task risk assessment 32-520 | V59: 31/03/2021 | W59: Completed
A60: 6.Use of Portable electrical tools | B60: R | C60: 6.1 | D60: Defective electrical tools, | E60: 6.1 | F60: Possible electrocution and electric shock | G60: Safety | H60: Incompetent operator; lack of training, failure to follow procedures, ask of supervision | I60: Employees and contractors | J60: Line manager | K60: As and when | L60: Injuries | M60: SWP, Daily RA, Inspections, Housekeeping and Tool register | N60: 3 | O60: B | P60: III | Q60: Mostly effective | R60: Preventative controls: Daily risk assessment, training and inspections Reaction control: Emergency response for injured and fall rescue, incident investigation and sharing of lesson learnt | S60: Absence of electrical contact incidents | T60: Managers and Senior Supervisor | U60: OHS Act 8, 32-136 Standard Contractor health and safety requirements | V60: 31/03/2021 | W60: Completed
B61: N | C61: 6.2 | D61: Excessive Noise levels | E61: 6.2 | F61: Possible hearing loss | G61: Health | H61: Staff exposed to intermitted noise | I61: Employees and contractors | J61: Line manager | K61: As and when | L61: Injuries | M61: Supervision, Training, Hearing protection devices, medical surveillance and maintenance of the chain saw. | N61: 4 | O61: B | P61: III | Q61: Mostly effective | R61: Preventative control: On job observations, SMAT, Workstoppages, Risk Assessment,OH Surveys and zoning of the noise zone area, Inspections, DSP 34-1800, SCA SA BK 8, DST 34-1191 Reactive control: NIHL monitoring, Medical suiveillance program, Investigation and share lessons learnt. | S61: Supervision/ Medical Surveillance Measurements | T61: Managers and Senior Supervisor | U61: OHS Act, 1993 (Act 85 of 1993) and Regulations, Noise Induced Hearing Loss Regulations 6(1) and 7(1), 32-369 Monitoring of Occupational hygiene factors | V61: 31/03/2021 | W61: Completed
B62: N | C62: 6.3 | D62: Vibration | E62: 6.3 | F62: Illhealth | G62: Health | H62: Vibration being transferred to the body by means on the arms holding cutting equipment | I62: Employees and contractors | J62: Line manager | K62: As and when | L62: Illhealth | M62: Rotation of operator, Proper lifting technique and training, medical surveillances | N62: 3 | O62: A | P62: IV | Q62: Fully effective | R62: Preventative control: Regular rest breaks or job rotation, on job observations, SMAT, Workstoppages, Risk Assessment, Inspections, DSP 34-418, DSP 34-417 Reactive control: Medical surveillance, Investigation and share lessons learnt . | S62: Supervision | T62: Managers and Senior Supervisor | U62: Electrical Machinery regulation 10, 34-369 Monitoring of Occupational hygiene factors | V62: 31/03/2021 | W62: Completed
B63: N | C63: 6.4 | D63: Fumes | E63: 6.4 | F63: Illhealth | G63: Health | H63: Exposure to petrol vapours and fumes due to inhalation | I63: Employees and contractors | J63: Line manager | K63: As and When | L63: Illhealth | M63: Supervision and regular breaks, Respirator, proper training and authorisation, medical surveillance | N63: 3 | O63: A | P63: IV | Q63: Fully effective | R63: Preventative control: On job observations, SMAT, Workstoppages, Risk Assessment, Internal Audits and monitoring, Inspections. Reactive control: Medical surveillance, Investigation and share lessons learnt | S63: Supervision | T63: Managers and Senior Supervisor | U63: 34-369 Monitoring of Occupational hygiene factors | V63: 31/03/2021 | W63: Completed
B64: N | C64: 6.5 | D64: Trailing cables | E64: 6.5 | F64: Trips and falls | G64: Safety | H64: Poor housekeeping | I64: Employees, members of the public and contractors | J64: Line manager | K64: As and When | L64: Injuries | M64: SWP, Daily RA, Inspections, Housekeeping | N64: 3 | O64: A | P64: IV | Q64: Fully effective | R64: Preventative control: SMAT observations, Job observations Reactive control: Emergency response, investigation and sharing of lessons learnt. | S64: Absence of electrical contact incidents | T64: Managers and Senior Supervisor | U64: OHSA Section 8 | V64: 31/03/2021 | W64: Completed
A65: 7.Woking with lifting machinary and tackle | B65: R | C65: 7.1 | D65: Failure of lifting machine or tackle | E65: 7.1 | F65: Possible fall from heights | G65: Safety | H65: Falling from heights, lack of maintenance, poor or lack of inspections | I65: Employees, Members of the public and contractors | J65: Line manager | K65: Daily | L65: Injuries | M65: Visual Inspection before use, Quaterly inspections and Annual load test | N65: 4 | O65: A | P65: III | Q65: Mostly effective | R65: Preventative control: Load testing certificates, RAS audits and inspections Reactive control: Emergency response, investigation and sharing of lessons learnt. | S65: Reduced injuries and improved audit results | T65: Managers and Senior Supervisor | U65: OHS Act and its regulations, 34-111 Operating a truck mounted crane with a bucket attached, 34-110 Operating a vehicle mounted crane | V65: 31/03/2021 | W65: Completed
B66: R | C66: 7.2 | D66: Working inside the crane bucket | E66: 7.2 | F66: Possible fall from heights | G66: Safety | H66: Incompetent operator, Bucket not secured (incorrect pin used). Overcrowding of the bucket. SWL of the bucket not displayed | I66: Employees and contractors | J66: Line manager | K66: Daily,approx 4 hrs | L66: Injuries | M66: Pre Task planning, SOP, Daily risk assessment, Proper lifting technique and training ,medical screening, 32-418. | N66: 4 | O66: B | P66: III | Q66: Mostly effective | R66: Preventative control: On job observations, SMAT, Risk Assessment, Internal Audits and monitoring, Inspections, DSP 34-416 Reactive control: Emergency response, investigation, sharing of lessons learnt and workstoppages | S66: training and awareness, Awereness on Zero Harm principals, internal audits and monitoring, inspections and life saving rules, daily inspection of FAS equipment. | T66: Managers and Senior Supervisor | U66: DMR 18, 32-418 Working at heights procedure, 34-111 Operating a truck mounted crane with a bucket attached | V66: 31/03/2021 | W66: Completed
B67: R | C67: 7.3 | D67: Operating a crane bucket | E67: 7.3 | F67: Possible fall from heights | G67: Safety | H67: unauthorised operator, crane not maintained, SWL not visible, bonded to equal potential earthing, no appointment made, clearance distances not maintained, ground surface where crane where cranes outriggers are used. | I67: Employees and contractors | J67: Line manager | K67: Daily,approx 4 hrs | L67: Injuries | M67: Pre Task planning, SOP, Daily risk assessment, Proper lifting technique and training ,medical screening, 32-418. | N67: 1 | O67: A | P67: IV | Q67: Fully effective | R67: Preventative action: On job observations, SMAT, Workstoppages, Risk Assessment, Internal Audits and monitoring, Inspections, DSP 34-416 Reactive action: Emergency response, investigation, sharing of lessons learnt and workstoppages | S67: training and awareness, Awereness on Zero Harm principals, internal audits and monitoring, inspections and life saving rules, daily inspection of FAS equipment. | T67: Managers and Senior Supervisor | U67: 34-111 Operating a truck mounted crane with a bucket attached, 34-110 Operating a vehicle mounted crane, 32-418 Working at heights | V67: 31/03/2021 | W67: Completed
B68: N | C68: 7.4 | D68: Incorrect lifting and rigging practises | E68: 7.4 | F68: Back injuries | G68: Health | H68: Failure to follow procedures, lack of training, lack of supervision | I68: Employees and contractors | J68: Line manager | K68: As and When | L68: Illhealth | M68: Pre-task risk assessment 32-520 and 34-227, Working at heights 32-418, Personal Protective Specification for working at heigts 240-100979499, training procedure 32-479, Operating vehicle mounted crane 34-111, Safe use of lifting machines and lifting tackle 39-98, 34-369 Monitoring of Occupational Hygiene Factors, 34-370 Management of Ergonomic hazard exposure in the workplace | N68: 3 | O68: B | P68: III | Q68: Mostly effective | R68: Preventative contol: Competent personnel, Training and awareness Reactive control: Emergency response, investigation, sharing of lessons learnt and workstoppages | S68: Reduced injuries and improved audit results | T68: Managers and Senior Supervisor | U68: Pre-task risk assessment 32-520 and 34-227, Working at heights 32-418, Personal Protective Specification for working at heigts 240-100979499, training procedure 32-479, Operating vehicle mounted crane 34-111, Safe use of lifting machines and lifting tackle 39-98, 34-369 Monitoring of Occupational Hygiene Factors, 34-370 Management of Ergonomic hazard exposure in the workplace | V68: 31/03/2021 | W68: Completed
A69: 8. Working close to Excavation work/ Road Construction | B69: N | C69: 8.1 | D69: Road construction works | E69: 8.1 | F69: Struck by foreign objects | G69: Safety | H69: Working too close to the construction area | I69: Employees and contractors | J69: Line manager | K69: As and When | L69: Injuries | M69: Pre-task risk assessment 32-520 and 34-227, | N69: 3 | O69: B | P69: III | Q69: Mostly effective | R69: Preventative control:Training and awareness Reactive control: Emergency response, investigation, sharing of lessons learnt and workstoppages | S69: Reduced injuries and improved audit results | T69: Managers and Senior Supervisor | U69: OHS Act 8, Pre-task risk assessment 32-520 and 34-227 | V69: 31/03/2021 | W69: Completed
B70: N | C70: 8.2 | D70: Excavation/open manhole | E70: 8.2 | F70: Falling into excavation or open man hole | G70: Safety | H70: Improper barricading | I70: Employees and contractors | J70: Line manager | K70: As and When | L70: Injuries | M70: Pre-task risk assessment 32-520 and 34-227, 34-1981 Excavation, 34-276 Covering of cable trenches, 34-185 Excavation for lines and substations | N70: 3 | O70: A | P70: IV | Q70: Fully effective | R70: Preventative control:Training and awareness, Risk assessment and Physical barricading Reactive control: Emergency response, investigation, sharing of lessons learnt and workstoppages | S70: Reduced injuries and improved audit results | T70: Managers and Senior Supervisor | U70: Pre-task risk assessment 32-520 and 34-227, 34-1981 Excavation, 34-276 Covering of cable trenches, 34-185 Excavation for lines and substations, 32-520 Occupational health and safety risk assessment Procedure | V70: 31/03/2021 | W70: Completed
A71: 9. Circuit breaker replacement | B71: R | C71: 9.1 | D71: Incompetent Operator | E71: 9.1 | F71: Possible electrocution | G71: Safety | H71: Unauthorised operator, Meter kiosk not maintained, Hot connections inside kiosk, Kiosk not correctly earthed. | I71: Employees and contractors | J71: Line manager | K71: Daily | L71: Injuries | M71: Pre Task planning and Risk assessment, SOP, SWP, ORHVS, 34-1141 Maintanance of metering Kiosks | N71: 4 | O71: B | P71: III | Q71: Mostly effective | R71: Preventative control: On job observations, SMAT, Risk Assessment, Internal Audits and monitoring, Inspection of equipment, Life saving rules and authorisation of personnel as per the ORHVS outcome status. Reactive control - Incident investigation & sharing of lessons learnt , treatment injured employees | S71: Training and awareness, Awareness on Zero Harm principals, health and wellness active sports or exercises, internal audits and monitoring, inspections and life saving rules. | T71: Managers and Senior Supervisor | U71: OHS Act and its regulations, 240-84242882, 240-65123882, 35-493, Eskom Standards and Procedures | V71: 31/03/2021 | W71: Completed
B72: R | C72: 9.2 | D72: Insect nest inside pillar box | E72: 9.2 | F72: Insects and rodents inside the pillar box | G72: Safety | H72: Being bitten by Insects inside and allegic reaction to insect bites | I72: Responsible managers and Senior Supervisor | J72: Responsible managers and Senior Supervisor | K72: Daily | L72: Injuries | M72: Environmental EP, Report insect nest to be removed by professionals, Wear appropriate PPE | N72: 3 | O72: B | P72: III | Q72: Mostly effective | R72: Preventative control: Safety and Environmental awareness, Enviromental EP Reactive control: Incident investigation & sharing of lessons learnt , treatment injured employees | S72: Training and awareness, Awareness on Zero Harm principals, health and wellness active sports or exercises, internal audits and monitoring, inspections and life saving rules. | T72: Managers and Senior Supervisor | U72: OHS Act and its regulations, 240-84242882, 240-65123882, 34-493, Eskom Standards and Procedures | V72: 31/03/2021 | W72: Completed
A73: 10.Pole planting and Rotten / Broken pole replacement | B73: R | C73: 10.1 | D73: Drilling | E73: 10.1 | F73: Caught by drill bit | G73: Safety | H73: Incorrect handling of the drill | I73: Employees and contractors | J73: Line manager | K73: Daily | L73: Injuries | M73: Follow correct drilling practices, 34-2119 Working with Petrol drilling machine, Pre task planning and risk assessment 32-520 and 34-227 | N73: 4 | O73: B | P73: III | Q73: Mostly effective | R73: Preventative control: Awareness and training Reactive control: Emergency response, investigation, sharing of lessons learnt and workstoppages | S73: Incident recall | T73: Managers and Senior Supervisor | U73: 34-2119 Working with Petrol drilling machine, Pre task planning and risk assessment 32-520 and 34-227, 32-477 Safety, health and environmentatl training and development Procedure | V73: 31/03/2021 | W73: Completed
B74: R | C74: 10.1.1 | E74: 10.1.1 | F74: Inhalation of Sawdust | G74: Health | H74: Not wearing correct PPE, | I74: Employees and contractors | J74: Line manager | K74: Daily | L74: Illhealth | M74: Wear correct PPE for the job, Pre-task risk assessment 32-520 and 34-227, 240-80950592 Standard for Selection, Use and Maintenance of PPE | N74: 3 | O74: B | P74: III | Q74: Mostly effective | R74: Preventative control: Continous awareness, SMAT observation, Job observation Reactive control: Emergency response, investigation, sharing of lessons learnt and workstoppages | S74: Incident recall and Medical surveillance | T74: Managers and Senior Supervisor | U74: Pre-task risk assessment 32-520 and 34-227, 240-80950592 Standard for Selection, Use and Maintenance of PPE, 34-369 Monitoring of Occupational Hygiene Factors | V74: 31/03/2021 | W74: Completed
B75: N | C75: 10.2 | D75: Sawdust | E75: 10.2 | F75: Possible Irritation | G75: Health | H75: Sawdust coming into contact with the skin and eyes | I75: Employees and contractors | J75: Line manager | K75: Daily | L75: Illhealth | M75: Wear correct PPE for the job, Pre-task risk assessment 32-520 and 34-227, 240-80950592 Standard for Selection, Use and Maintenance of PPE | N75: 3 | O75: B | P75: III | Q75: Mostly effective | R75: Preventative control: Continous awareness, SMAT observation, Job observation Reactive control: Emergency response, investigation, sharing of lessons learnt and workstoppages | S75: Incident recall and Medical surveillance | T75: Managers and Senior Supervisor | U75: Pre-task risk assessment 32-520 and 34-227, 240-80950592 Standard for Selection, Use and Maintenance of PPE, 34-369 Monitoring of Occupational Hygiene Factors | V75: 31/03/2021 | W75: Completed
B76: R | C76: 10.3 | D76: Excavation | E76: 10.3 | F76: Dust | G76: Health | H76: Inhalation of dust | I76: Employees and contractors | J76: Line manager | K76: Daily | L76: Illhealth | M76: Wear correct PPE for the job, Pre-task risk assessment 32-520 and 34-227, 240-80950592 Standard for Selection, Use and Maintenance of PPE | N76: 3 | O76: B | P76: III | Q76: Mostly effective | R76: Preventative control: Continous awareness, SMAT observation, Job observation Reactive control: Emergency response, investigation, sharing of lessons learnt and workstoppages | S76: Incident recall and Medical surveillance | T76: Managers and Senior Supervisor | U76: Pre-task risk assessment 32-520 and 34-227, 240-80950592 Standard for Selection, Use and Maintenance of PPE, 34-369 Monitoring of Occupational Hygiene Factors | V76: 31/03/2021 | W76: Completed
B77: R | C77: 10.4 | E77: 10.4 | F77: Dust Particles | G77: Health | H77: Foreign objects into the eyes | I77: Employees and contractors | J77: Line manager | K77: Daily | L77: Illhealth | M77: Wear correct PPE for the job, Pre-task risk assessment 32-520 and 34-227, 240-80950592 Standard for Selection, Use and Maintenance of PPE | N77: 3 | O77: B | P77: III | Q77: Mostly effective | R77: Preventative control: Continous awareness, SMAT observation, Job observation Reactive control: Emergency response, investigation, sharing of lessons learnt and workstoppages | S77: Incident recall and Medical surveillance | T77: Managers and Senior Supervisor | U77: Pre-task risk assessment 32-520 and 34-227, 240-80950592 Standard for Selection, Use and Maintenance of PPE, | V77: 31/03/2021 | W77: Completed
B78: R | C78: 10.5 | E78: 10.5 | F78: Possible struck by Hand tools | G78: Safety | H78: Use of defective tools | I78: Employees and contractors | J78: Line manager | K78: Daily | L78: Injuries | M78: Monthly inspections and training, pretask risk assessment | N78: 3 | O78: B | P78: III | Q78: Mostly effective | R78: Preventative control: Continous awareness, SMAT observation, Job observation, Tool inspection Reactive control: Emergency response, investigation, sharing of lessons learnt and workstoppages | S78: Incident recall | T78: Managers and Senior Supervisor | U78: Pre task risk assessement 32-520 and 34-227, | V78: 31/03/2021 | W78: Completed
B79: R | C79: 10.6 | D79: Auger | E79: 10.6 | F79: Possible health effects (tingling, loss of sensation, headache, and shakiness) | G79: Health | H79: Exposure to excessive vibration | I79: Employees and contractors | J79: Line manager | K79: As and when | L79: Illheath | M79: HRA, Medical surveillance, servicing of the auger, awareness | N79: 3 | O79: B | P79: III | Q79: Mostly effective | R79: Preventative control: Regular servicing of drilling machinery, continous awareness Reactive control: Investigation, sharing of lessons learnt and workstoppages | S79: Incident recall | T79: Managers and Senior Supervisor | U79: 240-51065201 Operating a hydraulic auger attached to a vehicle mounted crane, Pre task risk assessement 32-520 and 34-227, 34-369 Monitoring of Occupational Hygiene Factors | V79: 31/03/2021 | W79: Completed
B80: R | C80: 10.7 | E80: 10.7 | F80: Possible Noise Induced Hearing Loss | G80: Health | H80: Exposure to excessive Noise | I80: Employees and contractors | J80: Line manager | K80: As and when | L80: Illhealth | M80: Supervision, Training, Hearing protection devices, medical surveillance, servicing and maintenance of the Auger. | N80: 4 | O80: B | P80: III | Q80: Mostly effective | R80: Preventative control: Regular servicing of Auger machinery, continous awareness on NHIL, Medical surveillance, Noise surveys Reactive control: Investigation, sharing of lessons learnt and workstoppages | S80: Incident recall | T80: Managers and Senior Supervisor | U80: 240-51065201 Operating a hydraulic auger attached to a vehicle mounted crane, Pre task risk assessement 32-520 and 34-227, 34-369 Monitoring of Occupational Hygiene Factors, 240-80950592 PPE standard, NIHL regulation | V80: 31/03/2021 | W80: Completed
B81: R | C81: 10.8 | E81: 10.8 | F81: Operating of the auger | G81: Safety | H81: Incompetent Persons and lack of hazard awarenes | I81: Employees and contractors | J81: Line manager | K81: As and when | L81: Injuries | M81: Training, safe distance to be maintained by the assistants during operation, SWP to be followed | N81: 3 | O81: A | P81: IV | Q81: Fully effective | R81: Preventative control: Regular servicing of Auger machinery, continous awareness on NHIL, Medical surveillance, Noise surveys Reactive control: Investigation, sharing of lessons learnt and workstoppages | S81: Incident recall | T81: Managers and Senior Supervisor | U81: 240-51065201 Operating a hydraulic auger attached to a vehicle mounted crane, OHS Act and its regulation DMR | V81: 31/03/2021 | W81: Completed
B82: R | C82: 10.9 | D82: Manual handling and lifting of heavy equipment | E82: 10.9 | F82: Musculoskeletal disorders | G82: Health | H82: Awkward position, manual handling | I82: Employees and contractors | J82: Senior Supervisor / Manager | K82: As and when | L82: Injuries | M82: 34-369 Monitoring of Occupational Hygiene Factors, 34-370 Management of Ergonomic hazard exposure in the workplace | N82: 1 | O82: C | P82: III | Q82: Mostly effective | R82: Preventative control: SMAT observations, medical surveillance, Ergonomics RA, OH Surveys Reactive control: Investigation, sharing of lessons learnt and workstoppages | S82: Incident recall | T82: Managers and Senior Supervisor | U82: 34-369 Monitoring of Occupational Hygiene Factors, 34-370 Management of Ergonomic hazard exposure in the workplace, Pre task risk assessment 32-520 | V82: 31/03/2021 | W82: Completed
B83: R | C83: 10.10 | D83: Chain sling | E83: 10.10 | F83: Strucked by the pole | G83: Safety | H83: Sling can break under tension and the pole can fall on people, lack of maintenance, not using the correct tool for the task at hand | I83: Employees and contractors | J83: Line manager | K83: Daily | L83: Injuries | M83: Life Saving Rules 240-62196227, Lifting Machine operators training DST 34-1151. Operating a vehicle Mounted Crane 240-77858652, DMR 18, Pre-task risk assessment, servicing of the sling | N83: 4 | O83: C | P83: II | Q83: Mostly effective | R83: Preventative control: SMAT observations, Training and awareness, Inspection of lifting equipment, Medical fitness and Job observations Reactive control: Emergency response, investigation, sharing of lessons learnt and workstoppages | S83: Incident recall, Job observation and SMAT | T83: Managers and Senior Supervisor | U83: Life Saving Rules 240-62196227, Lifting Machine operators training DST 34-1151. Operating a vehicle Mounted Crane 240-77858652, DMR 18 | V83: 31/03/2022 | W83: In progress
A84: 11 .Maintenance of Metal clad switchgear | B84: R | C84: 11.1 | D84: Operating | E84: 11.1 | F84: Electrocution | G84: Safety | H84: Incompetent person causing an opetating error | I84: Employees | J84: Line manager | K84: Daily | L84: Injuries | M84: Awareness and training, Risk assessment and Pre task planning | N84: 4 | O84: B | P84: III | Q84: Mostly effective | R84: Preventative control: On job observations, SMAT, Risk Assessment, Internal Audits and monitoring, Inspection on apparatus,Adherence to Life saving rules. Reactive control: Emergency response, investigation, sharing of lessons learnt and workstoppages | S84: Training and awareness, Awareness on Zero Harm principals, health and wellness active sports or exercises, internal audits and monitoring, inspections and life saving rules. | T84: Managers and Senior Supervisor | U84: OHS Act and its regulations, DSP 34-1157, DSP 34-1702, OHRVS, EMR, DMN 34-93 Operating metal clad switchgear | V84: 31/03/2021 | W84: Completed
B85: R | C85: 11.2 | D85: Explosion | E85: 11.2 | F85: Possible burns | G85: Safety | H85: Switchgear not maintained, If oil type of switchgear and the oil level is not visible, no approved earthing gear present. | I85: Employees and contractors | J85: Line manager | K85: Daily | L85: Injuries | M85: Pre Task planning, SOP, risk assessment 34-227 | N85: 4 | O85: B | P85: III | Q85: Mostly effective | R85: Preventative control: Inspecting the switch gear before working on it, Conform to requirements of OHRVS. Reactive control: Emergency response, investigation, sharing of lessons learnt and workstoppages | S85: Incident recall | T85: Managers and Senior Supervisor | U85: OHS Act and its regulations, DSP 34-1157, DSP 34-1702, OHRVS, EMR, DMN 34-93 Operating metal clad switchgear, 34-219 and 34-778 | V85: 31/03/2021 | W85: Completed
A86: 12. Replacing and Instalation of a transformer | B86: R | C86: 12.1 | D86: Lifting equipment | E86: 12.1 | F86: Possible injuries due to load falling on worker | G86: Safety | H86: Crane malfunctions, Incompetent, lack of maintenance , unsafe operator practices | I86: Employees and contractors | J86: Line manager | K86: Daily | L86: Injuries | M86: Equipment must be on a maintenance schedule, Implement life saving rules, 32-845,32-418, 34-227 | N86: 5 | O86: A | P86: II | Q86: Mostly effective | R86: Preventative control: Equipment must be on a maintenance schedule, Implement life saving rules, 32-845,32-418, 34-227 Reactive control: Emergency response, investigation, sharing of lessons learnt and workstoppages | S86: Pole inspections are conducted. Hook up at height. Regular audits | T86: Managers and Senior Supervisor | U86: 32-845,32-418, 34-227 Eskom procedures, OHSACT and its regulations | V86: 31/03/2022 | W86: In progress
B87: R | C87: 12.2 | D87: Not hooking up while using PML | E87: 12.2 | F87: Possible falling from heights | G87: Safety | H87: Lack of maintenance, Incompetent operator, PML malfunctions | I87: Employees and contractors | J87: Line manager | K87: Daily | L87: Injuries | M87: Implement life saving rules, Equipment must be on a maintenance schedule | N87: 4 | O87: B | P87: III | Q87: Mostly effective | R87: Preventative control: SMAT and Job observations, working at heights refresher courses, PML Training for operators Reactive control: Emergency response, investigation, sharing of lessons learnt and workstoppages | S87: Job observation and SMAT to be conducted. | T87: Managers and Senior Supervisor | U87: DMR 18, Construction regulation 23, 240-97759893 Work with/ on a pedestal mounted vehicle, 240-62946386 Vehicle and Driver Safety management, 32-345 Vehicle specification procedure | V87: 31/03/2021 | W87: Completed
B88: R | C88: 12.3 | D88: Exposure to oil spillage | E88: 12.3 | F88: Possible inhalation of fumes and skin absorbtion | G88: Health | H88: Inhalation of chemical fumes and coming into contact with the chemical | I88: Employees, public and contractors | J88: Responsible managers, Senior Supervisor and employees | K88: As and when | L88: Illhealth | M88: Safety Data Sheets awareness, Training and awareness, Medical Suveillance | N88: 2 | O88: B | P88: IV | Q88: Fully effective | R88: Preventative control: Training and awareness on HCA and Mafety Data Sheets, Medical Surveillance Reactive control: Emergency response, investigation, sharing of lessons learnt and workstoppages | S88: Monitor incidents | T88: Responsible manager and Senior supervisor | U88: 34-1164 Medical surveillance, Hazardous Chemical Substance regulation, 34-369 Monitoring of Occupational Hygiene Factors, PPE Specification 240-44175132 | V88: 31/03/2021 | W88: Completed
B89: R | C89: 12.4 | D89: Earthing | E89: 12.4 | F89: Possible electrocution | G89: Safety | H89: Lack of maintenance, Incompetent operator, | I89: Employees and contractors | J89: Line manager and Supervisor | K89: Daily | L89: Injuries | M89: Training and authorisation, pre-task risk assessment, ORHVS-equipotential zone | N89: 4 | O89: B | P89: III | Q89: Mostly effective | R89: Preventative control: Job Observations and re-evalution on ORHVS, Riks assessement Reactive control: Emergency response, investigation, sharing of lessons learnt and workstoppages | S89: Job observation and SMAT | T89: Managers and Senior Supervisor | U89: 34-1985 MV and LV earthing, 240-65216546 Standard for portable earthing gear, SANS 1063:1998, 34-444 Procedure for the application and maintenance of portable earthing gear, OHS Act | V89: 31/03/2021 | W89: Completed
A90: 13. String and tensioning a conductor | B90: R | C90: 13.1 | D90: Low hanging conductors | E90: 13.1 | F90: Possible Electrocution | G90: Safety | H90: Low hanging conductor. Members of public can get into contact with live conductor. | I90: Employees, contractors and members of public | J90: Line manager | K90: Daily | L90: Injuries | M90: Training and authorisation, pre-task risk assessment | N90: 3 | O90: B | P90: III | Q90: Mostly effective | R90: Preventative control: Job Observations and re-evalution on ORHVS, Riks assessement Reactive control: Emergency response, investigation, sharing of lessons learnt and workstoppages | S90: Audits, monitoring and on site observation. Maintenance on equipment and lines | T90: Managers and Senior Supervisor | U90: OHS Act and its regulations, DMN 34-180, DST 34-1191, Eskom Standards and Procedures | V90: 31/03/2021 | W90: Completed
B91: R | C91: 13.2 | D91: Lifting and unrolling conductor | E91: 13.2 | F91: Musculoskeletal injuries | G91: Safety | H91: Incorrect method used for rolling out of conductors. Lifting the conductor up can cause damage. Incorrect equipmend to lift or raised the conductor. | I91: Employees and contractors | J91: Line manager | K91: Daily | L91: Injuries | M91: Training and awareness on lifting techniques, Pre task planning and risk assessment | N91: 3 | O91: B | P91: III | Q91: Mostly effective | R91: Preventative control: Zero Harm principals. Introducing daily stretches before and after task Reactative control: Emergency response, investigation, sharing of lessons learnt and workstoppages | S91: Audits, monitoring and on site observation. Maintenance on equipment and lines | T91: Managers and Senior Supervisor | U91: OHS Act and its regulations, DMN 34-180, DST 34-1191, Eskom Standards and Procedures | V91: 31/03/2021 | W91: Completed
B92: R | C92: 13.3 | D92: Earthing of conductor | E92: 13.3 | F92: Possible Electrocution | G92: Safety | H92: Electrocution (Induction of current, friction, lighting and weather condition) | I92: Employees and contractors | J92: Line manager and Supervisor | K92: Daily | L92: Injuries | M92: SWP, ORHVS, Training and awareness, Pre task planning, Risk assessent and Job observation | N92: 4 | O92: B | P92: III | Q92: Mostly effective | R92: Preventative control: Job Observations and re-evalution on ORHVS, Riks assessement Reactive control: Emergency response, investigation, sharing of lessons learnt and workstoppages | S92: Audits, monitoring and on site observation. Maintenance on equipment and lines | T92: Managers and Supervisors | U92: OHS Act and its regulations, DMN 34-180, DST 34-1191, Eskom Standards and Procedures | V92: 31/03/2021 | W92: Completed
B93: R | C93: 13.4 | D93: Working at height (awkward Positioning) | E93: 13.4 | F93: Possible falling from heights | G93: Safety | H93: Incorrect climbing methods and incorrect use of FAS. | I93: Employees and contractors | J93: Line manager | K93: Daily | L93: Injuries | M93: Adherence to Life saving rules, FAS Training and refresher training, Fall rescue training, Inspection and maintanance of FAS equipment and Medical Surveillance | N93: 4 | O93: B | P93: III | Q93: Mostly effective | R93: Preventative control: SMAT and Job observations, working at heights refresher and Reactive control: Emergency response, investigation, sharing of lessons learnt and workstoppages | S93: Audits, monitoring and on site observation. Maintenance on equipment and lines | T93: Managers and Supervisors | U93: OHS Act and its regulations, DMN 34-180, DST 34-1191, Eskom Standards and Procedures | V93: 31/03/2021 | W93: Completed
A94: 14. Making and breaking of jumpers/ droppers (Conection and disconnecting) | B94: N | C94: 14.1 | D94: Non-Oxide grease | E94: 14.1 | F94: Possible skin and eye irritation | G94: Health | H94: Coming into contact with the substance | I94: Employees and contractors | J94: Line manager | K94: Daily | L94: Illhealth | M94: Induction, toolbox talks, risk assessments, competency training, Making and breaking or replacement of jumpers or droppers on overhead lines and substations 240 - 85844063, Procedure for use and maintenance of portable earth DPC 34-444, Maintain LV lines under dead MV lines on the same structure 34 -105 | N94: 3 | O94: B | P94: III | Q94: Mostly effective | R94: Preventative control: On job observations, SMAT, Risk Assessment, Internal Audits and monitoring, Inspections, Medical suveillance Reactive controls: Emergency response, investigation, sharing of lessons learnt and workstoppages | S94: Audits, monitoring and on site observation. Maintenance on equipment and lines | T94: Managers and Senior Supervisor | U94: PPE Specification 240-44175132, | V94: 31/03/2021 | W94: Completed
B95: R | C95: 14.2 | D95: Insects | E95: 14.2 | F95: Possible stings and bites | G95: Health | H95: Being bitten by Insects | I95: Employees and contractors | J95: Line manager | K95: Daily | L95: Illhealth | M95: Pre-task risk assessment, PPE, Environmental EP | N95: 4 | O95: B | P95: III | Q95: Mostly effective | R95: Preventative control: Training and awareness, Environmental EP Drill Reactive controls: Emergency response, investigation, sharing of lessons learnt and workstoppage | S95: Incident recall | T95: Managers and Senior Supervisor | U95: Environmental EP 240-78705086, Pre task risk assessment 34-227 | V95: 31/03/2021 | W95: Completed
B96: R | C96: 14.3 | D96: Not hooking up while using PML | E96: 14.3 | F96: Possible fall from heights | G96: Safety | H96: Incompetent operator, Not hooking up, not using FAS correctly | I96: Employees and contractors | J96: Line manager | K96: Daily | L96: Injuries | M96: Implement life saving rules, Compentency training and awareness, Risk assessment | N96: 3 | O96: B | P96: III | Q96: Mostly effective | R96: Preventative control: SMAT and Job observations, working at heights training and refresher courses, Fall protection & rescue plan and Inspections Reactive control: Emergency response, investigation, sharing of lessons learnt and workstoppage | S96: Audits, monitoring and on site observation. Maintenance on equipment and lines | T96: Managers and Senior Supervisor | U96: DMR 18, Construction regulation 23, 240-97759893 Work with/ on a pedestal mounted vehicle, 240-62946386 Vehicle and Driver Safety management, 32-345 Vehicle specification procedure | V96: 31/03/2021 | W96: Completed
B97: R | C97: 14.4 | D97: Incorrect use of Handtools | E97: 14.4 | F97: Possible injuries | G97: Safety | H97: Using the wrong tool for the job | I97: Employees and contractors | J97: Line manager | K97: Daily | L97: Injuries | M97: Handtool inspections and On the job training, risk assessment and pre task planning | N97: 4 | O97: B | P97: III | Q97: Mostly effective | R97: Preventative control: SMAT and Job observations, inspection checklist records, training and awareness Reactive control: Emergency response, investigation, sharing of lessons learnt and workstoppage | S97: Incident recall | T97: Managers and Senior Supervisor | U97: OHS Act section 8, PPE Specification 240-44175132, 34-227 Risk assessmen | V97: 31/03/2021 | W97: Completed
B98: R | C98: 14.5 | D98: Damaged Material (Insulators and Jumpers) | E98: 14.5 | F98: Possible cuts | G98: Safety | H98: Not wearing gloves | I98: Employees and contractors | J98: Line manager | K98: Daily | L98: Injuries | M98: PPE matrix, awareness and training, SWP, inspection of tools and equipment | N98: 4 | O98: C | P98: II | Q98: Mostly effective | R98: Preventative control: SMAT and Job observation Reactative control: Emergency response, investigation, sharing of lessons learnt and workstoppage | S98: Incident recall | T98: Managers and Senior Supervisor | U98: OHS Act, 1993 (Act 85 of 1993) and Regulations, 240-85844063 Making and breaking of Jumpers, 34-227 Risk assessment, General inspection 34-2208, | V98: 31/03/2022 | W98: In progress
B99: R | C99: 14.6 | D99: Live Apparatus | E99: 14.6 | F99: Possible Electrocution | G99: Safety | H99: Not following life saving rules no 1, not following ORHVS and SWP | I99: Employees and contractors | J99: Responsible managers and Senior Supervisor | K99: Daily | L99: Injuries | M99: Inducion, toolbox talks, risk assessments, competency training on ORHVS, 32-846 Isolation and earthing of apparatus, barricating of apparatus 34-908, Pre task planning | N99: 4 | O99: C | P99: II | Q99: Mostly effective | R99: Preventative control: Supervision, SMAT, Job observation and ORHVS Training Reactative control: Emergency response, investigation, sharing of lessons learnt and workstoppage | S99: Incident recall | T99: Managers and Senior Supervisor | U99: OHS Act, 1993 (Act 85 of 1993) and Regulation EIR, 240-85844063 Making and breaking of Jumpers, 34-227 Risk assessment, General inspection 34-2208, | V99: 31/03/2022 | W99: In progress
B100: R | C100: 14.7.1 | D100: Incorrect connector and cable combination using Crimping tool | E100: 14.7.1 | F100: Possible fire | G100: Safety | H100: Incompetent operator and not following SWP | I100: Employees and contractors | J100: Line manager | K100: Daily | L100: Injures | M100: Follow safe work procedure and use proper connector and combination | N100: 3 | O100: B | P100: III | Q100: Mostly effective | R100: Preventative control: Tool instruction manual Reactive control: Emergency response, investigation, sharing of lessons learnt and workstoppage | S100: Incident recall | T100: Managers and Senior Supervisor | U100: OHS Act section 8, ISO 9001 QMS, OHSAS 4.4 | V100: 31/03/2021 | W100: Completed
C101: 14.7.2 | E101: 14.7.2 | F101: Possible injuries | G101: Safety | H101: Damaged or improperly assembled tool can break and struck nearby employees, improper use of the tool (not using both hands while operating), lack of maintenance | I101: Employees and contractors | J101: Line manager | K101: Daily | L101: Injuries | M101: Inspecting the tool before use, applying two handed operation, risk assessment, training and awareness | N101: 3 | O101: A | P101: IV | Q101: Fully effective | R101: Preventative control: Tool instruction manual, apply two handed operation Reactive control: Emergency response, investigation, sharing of lessons learnt and workstoppage | S101: Incident recall | T101: Managers and Senior Supervisor | U101: OHS Act section 8, ISO 9001 QMS, OHSAS 4.5 | V101: 31/03/2021 | W101: Completed
A102: 15. Replacement of the cross arm | B102: R | C102: 15.1 | D102: Not hooking up while using PML | E102: 15.1 | F102: Possible fall from heights | G102: Safety | H102: Incompetent operator, Not hooking up, not using FAS correctly | I102: Employees and contractors | J102: Line manager | K102: Daily | L102: Injuries | M102: Implement life saving rules, Compentency training and awareness, Risk assessment | N102: 3 | O102: B | P102: III | Q102: Mostly effective | R102: Preventative control: SMAT and Job observations, working at heights training and refresher courses, Fall protection & rescue plan and Inspections Reactive control: Emergency response, investigation, sharing of lessons learnt and workstoppage | S102: Audits, monitoring and on site observation. Maintenance on equipment and lines | T102: Managers and Senior Supervisor | U102: 240-97759893 Work with or on a PML, 32-418 Working at heights | V102: 31/03/2021 | W102: Completed
B103: R | C103: 15.2 | D103: Incorrect use of Handtools | E103: 15.2 | F103: Possible injuries | G103: Safety | H103: Not using the right tools for the job | I103: Employees and contractors | J103: Line manager | K103: Daily | L103: Injuries | M103: Inspecting the tool before use, maintaining the serving of the equipment, applying two handed operation, risk assessment and training | N103: 4 | O103: B | P103: III | Q103: Mostly effective | R103: Preventative control: SMAT and Job observations, inspection checklist records, training and awareness Reactive control: Emergency response, investigation, sharing of lessons learnt and workstoppage | S103: Incident recall | T103: Managers and Senior Supervisor | U103: OHS Act section 8, PPE Specification 240-44175132, 34-227 Risk assessmen | V103: 31/03/2021 | W103: Completed
...

Sheet IRM Register
B3: Speed
B5: MVA
B6: Assualt by customer
B7: Electrocution
B8: Falls from Height
B9: COVID 19

Sheet Contractor Baseline template
A3: Occupational Health and Safety Baseline risk assessment template
A4: Business/Operating, NW- Gemma Cluster | B4: Install, Maintain, Commission, Repair and Test the optical fibre communication links for new projects and fault repairs on existing optic fibre links. | K4: Next Review Date (every 2 years): | L4: Template identifier:
A6: Date: | B6: 45994 | F6: Authorised by: | H6: Name: Frans Ratau | K6: Document identifier | AA6: R | AB6: Safety | AC6: 1 | AD6: A | AE6: Fully effective | AF6: I
H7: Designation: | K7: Revision number: | L7: 1 | AA7: N | AB7: Health | AC7: 2 | AD7: B | AE7: Mostly effective | AF7: II
H8: Signed: | K8: Revision date: | L8: 45443 | AC8: 3 | AD8: C | AE8: Mostly ineffective | AF8: III
H9: Date: | AC9: 4 | AD9: D | AE9: None | AF9: IV
A10: Refer to Occupational Health and Safety Risk assessment procedure 32-520 | AC10: 5 | AD10: E
A11: List activity | B11: Hazard Identification | C11: Associated risk | D11: Risk type | E11: What are the possible consequences? | F11: Existing Controls | I11: Risk Priority Rating | K11: Control Owner | L11: Legal and Other Requirements | AC11: 6
A12: List specific activities to be performed taking into consideration the equipment to be used, the personnel involved in the task. | B12: Anything with potential to cause of harm. Note: A hazard can pose more than one risk. | C12: A chance that injury , ill health or damage could occur as a result of uncontrolled hazard. | D12: Safety or health | E12: Consider the worse case scenario without controls? | F12: Include: - Preventative Controls (controls implemented to eliminate hazards or reduce the likelihood of the risk occurring), and - Reactive Controls (controls implemented to reduce the immediate impact of the risk occurring) Elimination Substitution Engineering controls Administrative controls Personal protective equipment (PPE) | G12: Consequence | H12: Likelihood | J12: RCE Risk Control Effectiveness | K12: Person allocated the responsibility for implementing the agreed controls | L12: Where relevant, list the relevant legislative and or Eskom requirements that prescribe the control. | R12: Consequences | S12: 6 | T12: III | U12: II | V12: I | W12: I | X12: I
A13: =IF('Risk template'!A13="","",'Risk template'!A13) -> 1.Driving | B13: =IF('Risk template'!A13="","",'Risk template'!D13) -> Bad road conditions | C13: =IF('Risk template'!A13="","",'Risk template'!F13) -> Possible puncture or damage to the vehicle tyre, possible injuries and fatalities | D13: =IF('Risk template'!A13="","",'Risk template'!G13) -> Safety | E13: =IF('Risk template'!A13="","",'Risk template'!L13) -> Injury , Property damage | F13: =IF('Risk template'!A13="","",'Risk template'!M13) -> Vehicle safety procedures, Life Saving Rules, Driver observations, Valid drivers license & Permit, Valid Medical, | G13: =IF('Risk template'!A13="","",'Risk template'!N13) -> 3 | H13: =IF('Risk template'!A13="","",'Risk template'!O13) -> B | I13: III | J13: =IF('Risk template'!A13="","",'Risk template'!Q13) -> Mostly effective | K13: =IF('Risk template'!A13="","",'Risk template'!T13) -> Managers and SHE personnel | L13: =IF('Risk template'!A13="","",'Risk template'!U13) -> National road traffic Act 93 0f 1995;32-345 Vehicle safety specification; 240-88365419 driver training Life Saving Rules | S13: 5 | T13: III | U13: II | V13: II | W13: I | X13: I
B14: Driving on public roads | C14: Involved in accident | D14: Safety | E14: Fatalities,Injuries, Property damage | F14: Staff driving vehicles to have national driver's license and Eskom driver's evaluation permit, vehicles in roadworthy condition, only transport authorised staff in vehicle, pre-trip checks, obeying of all traffic laws, Adherence to life saving rules. Toolbox talk discussions. | G14: 5 | H14: C | I14: II | J14: P | K14: Project Managers, Project Co-ordinators and Clerk of works | L14: National Road Safety Act. ESKOM Procedure 32-93 (Vehicle and driver safety management) . ESKOM Procedure 36-588 (Vehicle safety and transportation management) , Life saving rules | S14: 4 | T14: IV | U14: III | V14: II | W14: I | X14: I
B15: Speeding | C15: Losing control over the vehicle, damaging injury to third parties | D15: Safety | E15: Fatalities,injuries to driver, passengers and pedestrians or property damage | F15: Adherance to company rules and strictly drive at required speed limits. Driver assessment and driver behaviour observations.Valid drivers license and eskom driving permit | G15: 5 | H15: C | I15: II | J15: P | K15: Project Managers, Project Co-ordinators and Clerk of works | L15: National Road Safety Act. ESKOM Procedure 32-93 (Vehicle and driver safety management) . ESKOM Procedure 36-588 (Vehicle safety and transportation management) , Life saving rules | S15: 3 | T15: IV | U15: III | V15: II | W15: II | X15: I
B16: Driving without safety belt buckled up | C16: Severe Injuries when involved in an accident | D16: Safety | E16: Fatality or multiple Injuries | F16: Wearing of safety belts at all time. Adherance to the Life Saving Rules (bukle up) | G16: 5 | H16: C | I16: II | J16: P | K16: Project Managers, Project Co-ordinators and Clerk of works | L16: National Road Safety Act. ESKOM Procedure 32-93 (Vehicle and driver safety management) . ESKOM Procedure 36-588 (Vehicle safety and transportation management) , Life saving rules | S16: 2 | T16: IV | U16: IV | V16: III | W16: II | X16: II
B17: Weather conditions | C17: Bad weather conditions impaired visibility | D17: Safety | E17: Fatalities, multiple injuries | F17: Drivers to ensure good visibility at all times, keep following distance, stop over if you cannot see infornt of you until weather conditions has cleared or visibility have improved. | G17: 5 | H17: C | I17: II | J17: P | K17: Project Managers, Project Co-ordinators and Clerk of works | L17: National Road Safety Act. ESKOM Procedure 32-93 (Vehicle and driver safety management) . ESKOM Procedure 36-588 (Vehicle safety and transportation management) , Life saving rules | S17: 1 | T17: IV | U17: IV | V17: III | W17: III | X17: III
B18: Poor road conditions eg. Potholes | C18: Can lead to damage of the vehicle or cause an accident | D18: Safety | E18: Fatalities, Minor and major injuries and property damage | F18: Drivers to ensure good observation is maintained, adherence to speed limits and to conduct a raod risk assessment in order to inform other road uses of the conditions of the roads. | G18: 5 | H18: E | I18: II | J18: P | K18: Project Managers, Project Co-ordinators and Clerk of works | L18: National Road Safety Act. ESKOM Procedure 32-93 (Vehicle and driver safety management) . ESKOM Procedure 36-588 (Vehicle safety and transportation management) , Life saving rules | T18: A | U18: B | V18: C | W18: D | X18: E
B19: Condition of the vehicle | C19: Poor maintenance of a vehicle can cause accidence and major injuries | D19: Safety | E19: Fatalities, Injuries, Property damage | F19: Daily pre-trip check before use. Valid licence and road worthiness of the vehicle. Transport authorised staff. Driver of vehicles to have national driver's license and Eskom driver's evaluation permit, vehicles in roadworthy condition, obey of all traffic laws, adherence to life saving rules. | G19: 6 | H19: C | I19: II | J19: P | K19: Project Managers, Project Co-ordinators and Clerk of works | L19: National Road Safety Act. ESKOM Procedure 32-93 (Vehicle and driver safety management) . ESKOM Procedure 36-588 (Vehicle safety and transportation management) , Life saving rules | T19: Likelihood
A20: =IF('Risk template'!A27="","",'Risk template'!A27) -> 2.Accessing customer facilities | B20: Angry customer | C20: Actions and conditions leading to assult and/or rape | D20: Safety | E20: ill health | F20: Public Safety campaigns, Protective Servives and armed response, SAPS | G20: 3 | H20: B | I20: III | K20: Project Managers, Project Co-ordinators and Clerk of works | L20: Occupational Health and Safety Act, 1993 (Act No. 85 of 1993) and 32-95
B21: Dogs | C21: Possible bites | D21: Health | E21: Ill health | F21: Customer forums, public awareness campaigns | G21: 4 | H21: C | I21: II | K21: Project Managers, Project Co-ordinators and Clerk of works | L21: PPE specification 240-44175132 ,OHSACT and 32-95
B22: Exposure to customer wild animals | C22: Possible bites/ Attackes by animals | D22: Safety | E22: fratures, scratches, injuries | F22: Customer forums, public awareness campaigns | G22: 4 | H22: C | I22: II | K22: Project Managers, Project Co-ordinators and Clerk of works | L22: PPE specification 240-44175132,Occupational Health and Safety Act, 1993 (Act No. 85 of 1993) and 32-95
A23: =IF('Risk template'!A31="","",'Risk template'!A31) -> 3. Community protests | B23: =IF('Risk template'!A31="","",'Risk template'!D31) -> Community unrest | C23: =IF('Risk template'!A31="","",'Risk template'!F31) -> Actions and conditions leading to possible hostage situation and assult | D23: =IF('Risk template'!A31="","",'Risk template'!G31) -> Safety | E23: =IF('Risk template'!A31="","",'Risk template'!L31) -> Injury | F23: =IF('Risk template'!A31="","",'Risk template'!M31) -> Escort by protective services, SAPS, armed response, public threat communication, avoid risk areas | G23: =IF('Risk template'!A31="","",'Risk template'!N31) -> 2 | H23: =IF('Risk template'!A31="","",'Risk template'!O31) -> C | I23: III | J23: =IF('Risk template'!A31="","",'Risk template'!Q31) -> Mostly effective | K23: =IF('Risk template'!A31="","",'Risk template'!T31) -> Managers and Senior Supervisor | L23: =IF('Risk template'!A31="","",'Risk template'!U31) -> OHSACT section 8(1), 240-82789119 Distribution Security Operating procedure,
A24: =IF('Risk template'!A32="","",'Risk template'!A32) -> 4. Work within office environment | B24: =IF('Risk template'!A32="","",'Risk template'!D32) -> Improper sitting position | C24: =IF('Risk template'!A32="","",'Risk template'!F32) -> Musculoskeletal diseases | D24: =IF('Risk template'!A32="","",'Risk template'!G32) -> Health | E24: =IF('Risk template'!A32="","",'Risk template'!L32) -> Injury | F24: =IF('Risk template'!A32="","",'Risk template'!M32) -> Ergonomic awareness, Health risk assesment, OH Surveys | G24: =IF('Risk template'!A32="","",'Risk template'!N32) -> 1 | H24: =IF('Risk template'!A32="","",'Risk template'!O32) -> C | I24: III | J24: =IF('Risk template'!A32="","",'Risk template'!Q32) -> Mostly effective | K24: =IF('Risk template'!A32="","",'Risk template'!T32) -> Managers and Senior Supervisor | L24: =IF('Risk template'!A32="","",'Risk template'!U32) -> Occupational Health and Safety Act, 1993 (Act No. 85 of 1993), 34-370 Management of Ergonomic hazards exposure in the workplace
B25: Ergonomics | C25: Musculoskeletal diseases | D25: Health | E25: injury | F25: (c) Close contact with an infected person or contaminated object / surface | G25: 2 | H25: B | I25: IV | K25: Project Managers, Project Co-ordinators and Clerk of works | L25: Occupational Health and Safety Act, 1993 (Act No. 85 of 1993)
B26: Cables, office equipment and other tripping objects | C26: Possible falls | D26: Safety | E26: injury | F26: (d) Failure to implement precautionary measures such as wearing of appropriate PPE, | G26: 2 | H26: B | I26: IV | K26: Project Managers, Project Co-ordinators and Clerk of works | L26: Occupational Health and Safety Act, 1993 (Act No. 85 of 1993)
B27: Cables | C27: Possible electric shock and injuries from trips and falls | D27: Safety | E27: Injury | F27: (e) low immunity of staff, | G27: 2 | H27: B | I27: IV | K27: Project Managers, Project Co-ordinators and Clerk of works | L27: Occupational Health and Safety Act, 1993 (Act No. 85 of 1993) and it's regulations
B28: Regular computer use | C28: Vision impairment | D28: Health | E28: injury | F28: (f) pre-existing medicals conditions (g) not adhereing to social distancing requirements (h) Lack of hand sanitising or hand washing | G28: 2 | H28: B | I28: IV | K28: Project Managers, Project Co-ordinators and Clerk of works | L28: Occupational Health and Safety Act, 1993 (Act No. 85 of 1993) and it's regulations
B29: Use of paper and other office supplies | C29: Possible lacerations and cuts | D29: Safety | E29: illhealth | F29: Safety awareness talks, | G29: 2 | H29: B | I29: IV | K29: Project Managers, Project Co-ordinators and Clerk of works | L29: Occupational Health and Safety Act, 1993 (Act No. 85 of 1993) and it's regulations
B30: Water scarcity | C30: ill health | D30: Health | E30: injury, | F30: Safety talks and daily employee commitmemt on saving water | G30: 2 | H30: B | I30: IV | K30: Project Managers, Project Co-ordinators and Clerk of works | L30: Occupational Health and Safety Act, 1993 (Act No. 85 of 1993) and it's regulations
B31: Electricity cuts | C31: Poor visibility which may lead to falling | D31: Health | E31: illhealth, | F31: Health awareness talks, medical facilities | G31: 2 | H31: B | I31: IV | K31: Project Managers, Project Co-ordinators and Clerk of works | L31: Occupational Health and Safety Act, 1993 (Act No. 85 of 1993) and it's regulations
B32: Inadequte level of illumination | C32: Poor visibility which may lead to eye strain | D32: Health | E32: ill health | F32: Illumination surveys, medica surveillance pprograms | G32: 2 | H32: B | I32: IV | K32: Project Managers, Project Co-ordinators and Clerk of works | L32: Occupational Health and Safety Act, 1993 (Act No. 85 of 1993) and it's regulations
B33: Poor ventilation | C33: No free circulation of clean air which may cause dizziness | D33: Health | E33: Ill health | F33: Air Quality surveys, medical surveillances | G33: 2 | H33: B | I33: IV | K33: Project Managers, Project Co-ordinators and Clerk of works | L33: Occupational Health and Safety Act, 1993 (Act No. 85 of 1993) and it's regulations
B34: Walking around the office | C34: Possible trips and falls | D34: Safety | E34: Injuries | F34: Safety awareness | G34: 2 | H34: B | I34: IV | K34: Project Managers, Project Co-ordinators and Clerk of works | L34: OHSACT section 8(1)
B35: Improper microwave usage | C35: Possible burns and exposure to radiation | D35: Safety | E35: Injuries | F35: Awareness | G35: 3 | H35: C | I35: II | K35: Project Managers, Project Co-ordinators and Clerk of works | L35: OHSACT section 8(1)
B36: Making use of the hydroboil | C36: Possible burns | D36: Safety | E36: Injuries | F36: Awareness | G36: 2 | H36: B | I36: IV | K36: Project Managers, Project Co-ordinators and Clerk of works | L36: OHSACT section 8(1)
... B39: General lifting and physical manhandling of boxes, files, etc | C39: Musculorskeletal injuries | D39: Safety | E39: Injuries | F39: Awareness | G39: 5 | H39: B | I39: II | K39: Project Managers, Project Co-ordinators and Clerk of works | L39: OHSA Section 14 - Duties of employees
A40: =IF('Risk template'!A49="","",'Risk template'!A49) -> 5. Working at Heights | B40: =IF('Risk template'!A49="","",'Risk template'!D51) -> Foreign objects | C40: =IF('Risk template'!A49="","",'Risk template'!F51) -> Struck by a free falling object | D40: =IF('Risk template'!A49="","",'Risk template'!G51) -> Safety | E40: =IF('Risk template'!A49="","",'Risk template'!L51) -> Injuries | F40: =IF('Risk template'!A49="","",'Risk template'!M51) -> SWP, Daily RA, PPE | G40: =IF('Risk template'!A49="","",'Risk template'!N51) -> 4 | H40: =IF('Risk template'!A49="","",'Risk template'!O51) -> C | I40: II | J40: =IF('Risk template'!A49="","",'Risk template'!Q51) -> Mostly effective | K40: =IF('Risk template'!A49="","",'Risk template'!T51) -> Managers and Senior Supervisor | L40: =IF('Risk template'!A49="","",'Risk template'!U51) -> PPE specification 240-44175132
B41: Fall from height | C41: Fractures, Back, shoulder neck, feet injuries, | D41: Health | E41: Fatalities, Multiple injuries, bruises, fractures | F41: Leather Gloves - Dusk Mask - Overall - Safety Boots - Keep working area safe - Proper lifting technique and training - medical surveillances. | G41: 5 | H41: B | I41: II | J41: P | K41: Project Managers, Project Co-ordinators and Clerk of works | L41: Occupational Health and Safety Act, 1993 (Act No. 85 of 1993)
A42: =IF('Risk template'!A65="","",'Risk template'!A65) -> 7.Woking with lifting machinary and tackle | B42: =IF('Risk template'!A65="","",'Risk template'!D65) -> Failure of lifting machine or tackle | C42: =IF('Risk template'!A65="","",'Risk template'!F65) -> Possible fall from heights | D42: =IF('Risk template'!A65="","",'Risk template'!G65) -> Safety | E42: =IF('Risk template'!A65="","",'Risk template'!L65) -> Injuries | F42: =IF('Risk template'!A65="","",'Risk template'!M65) -> Visual Inspection before use, Quaterly inspections and Annual load test | G42: =IF('Risk template'!A65="","",'Risk template'!N65) -> 4 | H42: =IF('Risk template'!A65="","",'Risk template'!O65) -> A | I42: III | J42: =IF('Risk template'!A65="","",'Risk template'!Q65) -> Mostly effective | K42: =IF('Risk template'!A65="","",'Risk template'!T65) -> Managers and Senior Supervisor | L42: =IF('Risk template'!A65="","",'Risk template'!U65) -> OHS Act and its regulations, 34-111 Operating a truck mounted crane with a bucket attached, 34-110 Operating a vehicle mounted crane
A43: =IF('Risk template'!A71="","",'Risk template'!A71) -> 9. Circuit breaker replacement | B43: =IF('Risk template'!A71="","",'Risk template'!D71) -> Incompetent Operator | C43: =IF('Risk template'!A71="","",'Risk template'!F71) -> Possible electrocution | D43: =IF('Risk template'!A71="","",'Risk template'!G71) -> Safety | E43: =IF('Risk template'!A71="","",'Risk template'!L71) -> Injuries | F43: =IF('Risk template'!A71="","",'Risk template'!M71) -> Pre Task planning and Risk assessment, SOP, SWP, ORHVS, 34-1141 Maintanance of metering Kiosks | G43: =IF('Risk template'!A71="","",'Risk template'!N71) -> 4 | H43: =IF('Risk template'!A71="","",'Risk template'!O71) -> B | I43: III | J43: =IF('Risk template'!A71="","",'Risk template'!Q71) -> Mostly effective | K43: =IF('Risk template'!A71="","",'Risk template'!T71) -> Managers and Senior Supervisor | L43: =IF('Risk template'!A71="","",'Risk template'!U71) -> OHS Act and its regulations, 240-84242882, 240-65123882, 35-493, Eskom Standards and Procedures
A44: =IF('Risk template'!A69="","",'Risk template'!A69) -> 8. Working close to Excavation work/ Road Construction | B44: =IF('Risk template'!A69="","",'Risk template'!D72) -> Insect nest inside pillar box | C44: =IF('Risk template'!A69="","",'Risk template'!F72) -> Insects and rodents inside the pillar box | D44: =IF('Risk template'!A69="","",'Risk template'!G72) -> Safety | E44: =IF('Risk template'!A69="","",'Risk template'!L72) -> Injuries | F44: =IF('Risk template'!A69="","",'Risk template'!M72) -> Environmental EP, Report insect nest to be removed by professionals, Wear appropriate PPE | G44: =IF('Risk template'!A69="","",'Risk template'!N72) -> 3 | H44: =IF('Risk template'!A69="","",'Risk template'!O72) -> B | I44: III | J44: =IF('Risk template'!A69="","",'Risk template'!Q72) -> Mostly effective | K44: =IF('Risk template'!A69="","",'Risk template'!T72) -> Managers and Senior Supervisor | L44: =IF('Risk template'!A69="","",'Risk template'!U72) -> OHS Act and its regulations, 240-84242882, 240-65123882, 34-493, Eskom Standards and Procedures
A45: =IF('Risk template'!A73="","",'Risk template'!A73) -> 10.Pole planting and Rotten / Broken pole replacement | B45: =IF('Risk template'!A73="","",'Risk template'!#REF!) -> #REF! | C45: =IF('Risk template'!A73="","",'Risk template'!F73) -> Caught by drill bit | D45: =IF('Risk template'!A73="","",'Risk template'!G73) -> Safety | E45: =IF('Risk template'!A73="","",'Risk template'!L73) -> Injuries | F45: =IF('Risk template'!A73="","",'Risk template'!M73) -> Follow correct drilling practices, 34-2119 Working with Petrol drilling machine, Pre task planning and risk assessment 32-520 and 34-227 | G45: =IF('Risk template'!A73="","",'Risk template'!N73) -> 4 | H45: =IF('Risk template'!A73="","",'Risk template'!O73) -> B | I45: III | J45: =IF('Risk template'!A73="","",'Risk template'!Q73) -> Mostly effective | K45: =IF('Risk template'!A73="","",'Risk template'!T73) -> Managers and Senior Supervisor | L45: =IF('Risk template'!A73="","",'Risk template'!U73) -> 34-2119 Working with Petrol drilling machine, Pre task planning and risk assessment 32-520 and 34-227, 32-477 Safety, health and environmentatl training and development Procedure
A46: =IF('Risk template'!A84="","",'Risk template'!A84) -> 11 .Maintenance of Metal clad switchgear | B46: =IF('Risk template'!A84="","",'Risk template'!D84) -> Operating | C46: =IF('Risk template'!A84="","",'Risk template'!F84) -> Electrocution | D46: =IF('Risk template'!A84="","",'Risk template'!G84) -> Safety | E46: =IF('Risk template'!A84="","",'Risk template'!L84) -> Injuries | F46: =IF('Risk template'!A84="","",'Risk template'!M84) -> Awareness and training, Risk assessment and Pre task planning | G46: =IF('Risk template'!A84="","",'Risk template'!N84) -> 4 | H46: =IF('Risk template'!A84="","",'Risk template'!O84) -> B | I46: III | J46: =IF('Risk template'!A84="","",'Risk template'!Q84) -> Mostly effective | K46: =IF('Risk template'!A84="","",'Risk template'!T84) -> Managers and Senior Supervisor | L46: =IF('Risk template'!A84="","",'Risk template'!U84) -> OHS Act and its regulations, DSP 34-1157, DSP 34-1702, OHRVS, EMR, DMN 34-93 Operating metal clad switchgear
A47: =IF('Risk template'!A86="","",'Risk template'!A86) -> 12. Replacing and Instalation of a transformer | B47: =IF('Risk template'!A86="","",'Risk template'!D86) -> Lifting equipment | C47: =IF('Risk template'!A86="","",'Risk template'!F86) -> Possible injuries due to load falling on worker | D47: =IF('Risk template'!A86="","",'Risk template'!G86) -> Safety | E47: =IF('Risk template'!A86="","",'Risk template'!L86) -> Injuries | F47: =IF('Risk template'!A86="","",'Risk template'!M86) -> Equipment must be on a maintenance schedule, Implement life saving rules, 32-845,32-418, 34-227 | G47: =IF('Risk template'!A86="","",'Risk template'!N86) -> 5 | H47: =IF('Risk template'!A86="","",'Risk template'!O86) -> A | I47: II | J47: =IF('Risk template'!A86="","",'Risk template'!Q86) -> Mostly effective | K47: =IF('Risk template'!A86="","",'Risk template'!T86) -> Managers and Senior Supervisor | L47: =IF('Risk template'!A86="","",'Risk template'!U86) -> 32-845,32-418, 34-227 Eskom procedures, OHSACT and its regulations
A48: =IF('Risk template'!A90="","",'Risk template'!A90) -> 13. String and tensioning a conductor | B48: =IF('Risk template'!A90="","",'Risk template'!D90) -> Low hanging conductors | C48: =IF('Risk template'!A90="","",'Risk template'!F90) -> Possible Electrocution | D48: =IF('Risk template'!A90="","",'Risk template'!G90) -> Safety | E48: =IF('Risk template'!A90="","",'Risk template'!L90) -> Injuries | F48: =IF('Risk template'!A90="","",'Risk template'!M90) -> Training and authorisation, pre-task risk assessment | G48: =IF('Risk template'!A90="","",'Risk template'!N90) -> 3 | H48: =IF('Risk template'!A90="","",'Risk template'!O90) -> B | I48: III | J48: =IF('Risk template'!A90="","",'Risk template'!Q90) -> Mostly effective | K48: =IF('Risk template'!A90="","",'Risk template'!T90) -> Managers and Senior Supervisor | L48: =IF('Risk template'!A90="","",'Risk template'!U90) -> OHS Act and its regulations, DMN 34-180, DST 34-1191, Eskom Standards and Procedures
A49: =IF('Risk template'!A94="","",'Risk template'!A94) -> 14. Making and breaking of jumpers/ droppers (Conection and disconnecting) | B49: =IF('Risk template'!A94="","",'Risk template'!D94) -> Non-Oxide grease | C49: =IF('Risk template'!A94="","",'Risk template'!F94) -> Possible skin and eye irritation | D49: =IF('Risk template'!A94="","",'Risk template'!G94) -> Health | E49: =IF('Risk template'!A94="","",'Risk template'!L94) -> Illhealth | F49: =IF('Risk template'!A94="","",'Risk template'!M94) -> Induction, toolbox talks, risk assessments, competency training, Making and breaking or replacement of jumpers or droppers on overhead lines and substations 240 - 85844063, Procedure for use and maintenance of portable earth DPC 34-444, Maintain LV lines under dead MV lines on the same structure 34 -105 | G49: =IF('Risk template'!A94="","",'Risk template'!N94) -> 3 | H49: =IF('Risk template'!A94="","",'Risk template'!O94) -> B | I49: III | J49: =IF('Risk template'!A94="","",'Risk template'!Q94) -> Mostly effective | K49: =IF('Risk template'!A94="","",'Risk template'!T94) -> Managers and Senior Supervisor | L49: =IF('Risk template'!A94="","",'Risk template'!U94) -> PPE Specification 240-44175132,
A50: =IF('Risk template'!A102="","",'Risk template'!A102) -> 15. Replacement of the cross arm | B50: =IF('Risk template'!A102="","",'Risk template'!D102) -> Not hooking up while using PML | C50: =IF('Risk template'!A102="","",'Risk template'!F102) -> Possible fall from heights | D50: =IF('Risk template'!A102="","",'Risk template'!G102) -> Safety | E50: =IF('Risk template'!A102="","",'Risk template'!L102) -> Injuries | F50: =IF('Risk template'!A102="","",'Risk template'!M102) -> Implement life saving rules, Compentency training and awareness, Risk assessment | G50: =IF('Risk template'!A102="","",'Risk template'!N102) -> 3 | H50: =IF('Risk template'!A102="","",'Risk template'!O102) -> B | I50: III | J50: =IF('Risk template'!A102="","",'Risk template'!Q102) -> Mostly effective | K50: =IF('Risk template'!A102="","",'Risk template'!T102) -> Managers and Senior Supervisor | L50: =IF('Risk template'!A102="","",'Risk template'!U102) -> 240-97759893 Work with or on a PML, 32-418 Working at heights
A51: =IF('Risk template'!A107="","",'Risk template'!A107) -> 16. Replacement of insulators | B51: =IF('Risk template'!A107="","",'Risk template'!D107) -> Not hooking up while using PML | C51: =IF('Risk template'!A107="","",'Risk template'!F107) -> Possible fall from heights | D51: =IF('Risk template'!A107="","",'Risk template'!G107) -> Safety | E51: =IF('Risk template'!A107="","",'Risk template'!L107) -> Injuries | F51: =IF('Risk template'!A107="","",'Risk template'!M107) -> Implement life saving rules, Compentency training and awareness, Risk assessment | G51: =IF('Risk template'!A107="","",'Risk template'!N107) -> 3 | H51: =IF('Risk template'!A107="","",'Risk template'!O107) -> B | I51: III | J51: =IF('Risk template'!A107="","",'Risk template'!Q107) -> Mostly effective | K51: =IF('Risk template'!A107="","",'Risk template'!T107) -> Management | L51: =IF('Risk template'!A107="","",'Risk template'!U107) -> 240-97759893 Work with or on a PML, 32-418 Working at heights
A52: =IF('Risk template'!A111="","",'Risk template'!A111) -> 17. Replacement of insulators | B52: =IF('Risk template'!A111="","",'Risk template'!D111) -> Not hooking up while using PML | C52: =IF('Risk template'!A111="","",'Risk template'!F111) -> Possible fall from heights | D52: =IF('Risk template'!A111="","",'Risk template'!G111) -> Safety | E52: =IF('Risk template'!A111="","",'Risk template'!L111) -> Injuries | F52: =IF('Risk template'!A111="","",'Risk template'!M111) -> Implement life saving rules, Compentency training and awareness, Risk assessment | G52: =IF('Risk template'!A111="","",'Risk template'!N111) -> 3 | H52: =IF('Risk template'!A111="","",'Risk template'!O111) -> B | I52: III | J52: =IF('Risk template'!A111="","",'Risk template'!Q111) -> Mostly effective | K52: =IF('Risk template'!A111="","",'Risk template'!T111) -> Management | L52: =IF('Risk template'!A111="","",'Risk template'!U111) -> 240-97759893 Work with or on a PML, 32-418 Working at heights
A53: =IF('Risk template'!A115="","",'Risk template'!A115) -> 18.Replace/ Installation of Surge Arrestors | B53: =IF('Risk template'!A115="","",'Risk template'!D115) -> Not hooking up while using PML | C53: =IF('Risk template'!A115="","",'Risk template'!F115) -> Possible fall from heights | D53: =IF('Risk template'!A115="","",'Risk template'!G115) -> Safety | E53: =IF('Risk template'!A115="","",'Risk template'!L115) -> Injuries | F53: =IF('Risk template'!A115="","",'Risk template'!M115) -> Implement life saving rules, Compentency training and awareness, Risk assessment | G53: =IF('Risk template'!A115="","",'Risk template'!N115) -> 3 | H53: =IF('Risk template'!A115="","",'Risk template'!O115) -> B | I53: III | J53: =IF('Risk template'!A115="","",'Risk template'!Q115) -> Mostly effective | K53: =IF('Risk template'!A115="","",'Risk template'!T115) -> Managers and Supervisors | L53: =IF('Risk template'!A115="","",'Risk template'!U115) -> 240-97759893 Work with or on a PML, 32-418 Working at heights
A54: =IF('Risk template'!A119="","",'Risk template'!A119) -> 19. Using Pedestal mounted ladders (Vehicle) | B54: =IF('Risk template'!A119="","",'Risk template'!D119) -> Uneven Surface | C54: =IF('Risk template'!A119="","",'Risk template'!F119) -> Possible falling from heights | D54: =IF('Risk template'!A119="","",'Risk template'!G119) -> Safety | E54: =IF('Risk template'!A119="","",'Risk template'!L119) -> Injuries | F54: =IF('Risk template'!A119="","",'Risk template'!M119) -> Pre Task planning, SOP, risk assessment, competence of operator | G54: =IF('Risk template'!A119="","",'Risk template'!N119) -> 4 | H54: =IF('Risk template'!A119="","",'Risk template'!O119) -> C | I54: II | J54: =IF('Risk template'!A119="","",'Risk template'!Q119) -> Mostly effective | K54: =IF('Risk template'!A119="","",'Risk template'!T119) -> Managers and Supervisors | L54: =IF('Risk template'!A119="","",'Risk template'!U119) -> Procedures,32-418, 34-227 Pre-task risk assessment
A55: =IF('Risk template'!A131="","",'Risk template'!A131) -> 21. Pre-paid meter installation | B55: =IF('Risk template'!A131="","",'Risk template'!D131) -> Live bare conductors | C55: =IF('Risk template'!A131="","",'Risk template'!F131) -> Possible electrocution | D55: =IF('Risk template'!A131="","",'Risk template'!G131) -> Safety | E55: =IF('Risk template'!A131="","",'Risk template'!L131) -> Injuries | F55: =IF('Risk template'!A131="","",'Risk template'!M131) -> Induction, toolbox talks, risk assessments, competency training on ORHVS, 32-846 Isolation and earthing of apparatus, barricating of apparatus 34-908, Pre task planning | G55: =IF('Risk template'!A131="","",'Risk template'!N131) -> 4 | H55: =IF('Risk template'!A131="","",'Risk template'!O131) -> B | I55: III | J55: =IF('Risk template'!A131="","",'Risk template'!Q131) -> Mostly effective | K55: =IF('Risk template'!A131="","",'Risk template'!T131) -> Managers and Senior Supervisor | L55: =IF('Risk template'!A131="","",'Risk template'!U131) -> Eskom Standards and Procedures, 34-109, 34-328, 34-1784, PPE Specification 240-44175132
A56: =IF('Risk template'!A133="","",'Risk template'!A133) -> 22. Live Work | B56: =IF('Risk template'!A133="","",'Risk template'!D133) -> Hydraulic oil and diesel spills | C56: =IF('Risk template'!A133="","",'Risk template'!F133) -> Possible Illhealth from fumes | D56: =IF('Risk template'!A133="","",'Risk template'!G133) -> Health | E56: =IF('Risk template'!A133="","",'Risk template'!L133) -> Illhealth | F56: =IF('Risk template'!A133="","",'Risk template'!M133) -> Supervision and regular breaks, respiratory mask, proper PPE, proper training and authorisation, medical surveillance | G56: =IF('Risk template'!A133="","",'Risk template'!N133) -> 2 | H56: =IF('Risk template'!A133="","",'Risk template'!O133) -> B | I56: IV | J56: =IF('Risk template'!A133="","",'Risk template'!Q133) -> Fully effective | K56: =IF('Risk template'!A133="","",'Risk template'!T133) -> Managers and Senior Supervisor | L56: =IF('Risk template'!A133="","",'Risk template'!U133) -> Hazardous Chemical Substance Regulations 7, 36-369 Monitoring of hygiene factors, PPE Specification 240-44175132
A57: =IF('Risk template'!A147="","",'Risk template'!A147) -> 23. Working in a DC environment in substations | B57: =IF('Risk template'!A147="","",'Risk template'!D147) -> Exposure to Battery Acid | C57: =IF('Risk template'!A147="","",'Risk template'!F147) -> Possible skin contact with acid (Skin Burns) | D57: =IF('Risk template'!A147="","",'Risk template'!G147) -> Health | E57: =IF('Risk template'!A147="","",'Risk template'!L147) -> Illhealth | F57: =IF('Risk template'!A147="","",'Risk template'!M147) -> Battery handling procedure in place and implemented, emergency preparedness procedure, Procedure for accidental spills outlined in the procedure | G57: =IF('Risk template'!A147="","",'Risk template'!N147) -> 2 | H57: =IF('Risk template'!A147="","",'Risk template'!O147) -> B | I57: IV | J57: =IF('Risk template'!A147="","",'Risk template'!Q147) -> Fully effective | K57: =IF('Risk template'!A147="","",'Risk template'!T147) -> Managers and Supervisors | L57: =IF('Risk template'!A147="","",'Risk template'!U147) -> Hazardous Chemical Substance Regulations 7, PPE Specification 240-44175132
A58: =IF('Risk template'!A152="","",'Risk template'!A152) -> 24. Transformer Maintenance | B58: =IF('Risk template'!A152="","",'Risk template'!D153) -> Tan/Delta Machine | C58: =IF('Risk template'!A152="","",'Risk template'!F153) -> Electrocution from a Tan/ Delta Machine | D58: =IF('Risk template'!A152="","",'Risk template'!G153) -> Safety | E58: =IF('Risk template'!A152="","",'Risk template'!L153) -> Injuries | F58: =IF('Risk template'!A152="","",'Risk template'!M153) -> PPE, Trained, HIRA, Safe written procedures | G58: =IF('Risk template'!A152="","",'Risk template'!N153) -> 4 | H58: =IF('Risk template'!A152="","",'Risk template'!O153) -> B | I58: III | J58: =IF('Risk template'!A152="","",'Risk template'!Q153) -> Mostly effective | K58: =IF('Risk template'!A152="","",'Risk template'!T153) -> Managers and Supervisors | L58: =IF('Risk template'!A152="","",'Risk template'!U153) -> Hazardous Chemical Substance Regulations 7, PPE Specification 240-44175134, 34-596 Tap changer, 34-1090 Tap changer 200-1200amps, 32-477 SHE training development procedure
A59: =IF('Risk template'!A156="","",'Risk template'!A156) -> 25. Auxillary maintenance | B59: =IF('Risk template'!A156="","",'Risk template'!D156) -> Climbing on structures | C59: =IF('Risk template'!A156="","",'Risk template'!F156) -> Falling from heights | D59: =IF('Risk template'!A156="","",'Risk template'!G156) -> Safety | E59: =IF('Risk template'!A156="","",'Risk template'!L156) -> Injures | F59: =IF('Risk template'!A156="","",'Risk template'!M156) -> Competence training, FAS equipment, toolbox talks and HIRA completed, Safe written procedures | G59: =IF('Risk template'!A156="","",'Risk template'!N156) -> 4 | H59: =IF('Risk template'!A156="","",'Risk template'!O156) -> B | I59: III | J59: =IF('Risk template'!A156="","",'Risk template'!Q156) -> Mostly effective | K59: =IF('Risk template'!A156="","",'Risk template'!T156) -> Managers and Supervisors | L59: =IF('Risk template'!A156="","",'Risk template'!U156) -> OHSACT section 8(1), Working at height specification 240-100979499, Procedure for using fall arrest system 240-82789329, PPE Specification 240-44175134
A60: =IF('Risk template'!A161="","",'Risk template'!A161) -> 26. Site Access and Security | B60: =IF('Risk template'!A161="","",'Risk template'!D162) -> Conditions leading to Hijacking, kidnapping, robbery, assault, rape | C60: =IF('Risk template'!A161="","",'Risk template'!F162) -> Possible assault, rape, stress, trauma, being shot | D60: =IF('Risk template'!A161="","",'Risk template'!G162) -> Safety | E60: =IF('Risk template'!A161="","",'Risk template'!L162) -> Injury | F60: =IF('Risk template'!A161="","",'Risk template'!M162) -> Awareness on night driving, Ensure that premises is well lit | G60: =IF('Risk template'!A161="","",'Risk template'!N162) -> 4 | H60: =IF('Risk template'!A161="","",'Risk template'!O162) -> B | I60: III | J60: =IF('Risk template'!A161="","",'Risk template'!Q162) -> Mostly effective | K60: =IF('Risk template'!A161="","",'Risk template'!T162) -> Managers and Supervisors | L60: =IF('Risk template'!A161="","",'Risk template'!U162) -> 32-1134 Access Control at Eskom Premises, DMN 34-2208 Access to Work site
A61: =IF('Risk template'!A172="","",'Risk template'!A172) -> 27. Ergonomics - Upper limb movements: steady motion with regular pauses for 50 % to 100 % of the work shift during computer work. Intermittent keying for 50 % to 100% of the work shift during computer work. Bending of neck >20° during computer work for 50 % to 100% of the work shift during computer work. | B61: =IF('Risk template'!A172="","",'Risk template'!D172) -> Poor ergonomics design can result in back pains, musculoskeletal disorders, strains, injuries,etc. | C61: =IF('Risk template'!A172="","",'Risk template'!F172) -> Training or understanding of ergonomical principles and techniques | D61: =IF('Risk template'!A172="","",'Risk template'!G172) -> Health | E61: =IF('Risk template'!A172="","",'Risk template'!L172) -> Musculoskeletal disorders, back pains, strains injuries | F61: =IF('Risk template'!A172="","",'Risk template'!M172) -> 34-369 Monitoring of Occupational Hygiene Factors, 34-370 Management of Ergonomic hazard exposure in the workplace | G61: =IF('Risk template'!A172="","",'Risk template'!N172) -> 1 | H61: =IF('Risk template'!A172="","",'Risk template'!O172) -> C | I61: III | J61: =IF('Risk template'!A172="","",'Risk template'!Q172) -> Mostly effective | K61: =IF('Risk template'!A172="","",'Risk template'!T172) -> Senior Supervisor / Manager | L61: =IF('Risk template'!A172="","",'Risk template'!U172) -> OHSAct, 85 of 1993
A62: =IF('Risk template'!A173="","",'Risk template'!A173) -> 27. Illumination - Areas are provided with artificial lighting (Fluorescent lamps) | B62: =IF('Risk template'!A173="","",'Risk template'!D173) -> Poor illumination that can result from defective lamps, low output from the lamps, glare, incorrect position of the lamps, etc. | C62: =IF('Risk template'!A173="","",'Risk template'!F173) -> Effective lighting maintenance program (defective lamps inspections, light/lamps connection not working, etc.) | D62: =IF('Risk template'!A173="","",'Risk template'!G173) -> Health | E62: =IF('Risk template'!A173="","",'Risk template'!L173) -> Poor vision | F62: =IF('Risk template'!A173="","",'Risk template'!M173) -> Annual Medical Examination, Defects reporting approach by employees | G62: =IF('Risk template'!A173="","",'Risk template'!N173) -> 2 | H62: =IF('Risk template'!A173="","",'Risk template'!O173) -> B | I62: IV | J62: =IF('Risk template'!A173="","",'Risk template'!Q173) -> Fully effective | K62: =IF('Risk template'!A173="","",'Risk template'!T173) -> Senior Supervisor / Manager | L62: =IF('Risk template'!A173="","",'Risk template'!U173) -> Environmental Regulations for Workplaces framed under OHSAct, 85 of 1993
A63: =IF('Risk template'!A174="","",'Risk template'!A174) -> 27. Indoor Air Quality / Ventilation - areas were ventilated by means centralised ventilation system | B63: =IF('Risk template'!A174="","",'Risk template'!D174) -> Poor Indoor Air Quality that can result from artificial ventilation system not working and no fresh air supply | C63: =IF('Risk template'!A174="","",'Risk template'!F174) -> Effective ventilation system maintenance program (inspections of malfuction, defects, etc.) | D63: =IF('Risk template'!A174="","",'Risk template'!G174) -> Health | E63: =IF('Risk template'!A174="","",'Risk template'!L174) -> Irritation of the eyes, nose, and throat, headaches, dizziness, and fatigue | F63: =IF('Risk template'!A174="","",'Risk template'!M174) -> Annual Medical Examination, Defects reporting approach by employees | G63: =IF('Risk template'!A174="","",'Risk template'!N174) -> 2 | H63: =IF('Risk template'!A174="","",'Risk template'!O174) -> B | I63: IV | J63: =IF('Risk template'!A174="","",'Risk template'!Q174) -> Fully effective | K63: =IF('Risk template'!A174="","",'Risk template'!T174) -> Senior Supervisor / Manager | L63: =IF('Risk template'!A174="","",'Risk template'!U174) -> Environmental Regulations for Workplaces framed under OHSAct, 85 of 1993
A64: Chain Saw / pruners ( petrol ) - Bush clearing and cutting away branches. | B64: Noise | C64: Operation of the machine, In adequate maintenance, not using PPE | D64: Health | E64: NIHL | F64: Supervision, Training, Hearing protection devices, medical surveillance | G64: 2 | H64: 1 | I64: IV | J64: =IF('Risk template'!A175="","",'Risk template'!Q175) -> Mostly effective | K64: =IF('Risk template'!A175="","",'Risk template'!T175) -> Senior Supervisor / Manager | L64: Noise Induced Hearing Loss Regulations 6(1) and 7(1)
B65: Vibration | C65: Operation of the machine | D65: Health | E65: Lost time injury | F65: Rotation of operator, Proper lifting technique and training, medical surveillances | G65: 2 | H65: 1 | I65: IV | J65: =IF('Risk template'!A176="","",'Risk template'!Q176) -> Fully effective | K65: =IF('Risk template'!A176="","",'Risk template'!T176) -> Senior Supervisor / Manager | L65: Occupational Health and Safety Act, 1993 (Act No. 85 of 1993)
B66: Flying debris, Saw dust | C66: Operation of the machine, Not using correct PPE, | D66: Safety | E66: Lost time injury | F66: Special Safety boots, Face shileds, Ear protection,Eye protection, Dust masks, gloves | G66: 2 | H66: 1 | I66: IV | J66: =IF('Risk template'!A177="","",'Risk template'!Q177) -> Fully effective | K66: =IF('Risk template'!A177="","",'Risk template'!T177) -> Senior Supervisor / Manager | L66: Occupational Health and Safety Act, 1993 (Act No. 85 of 1993)
B67: Petrol fumes | C67: Making use of unserviced equipment, If the petrol mix is not correct | D67: Health | E67: Respiratory discomfort or complications | F67: Supervision and regular breaks, dust mask, Proper PPE, proper training and authorisation, medical surveillance | G67: 2 | H67: 1 | I67: IV | J67: =IF('Risk template'!A178="","",'Risk template'!Q178) -> Mostly effective | K67: =IF('Risk template'!A178="","",'Risk template'!T178) -> Senior Supervisor / Manager | L67: Occupational Health and Safety Act, 1993 (Act No. 85 of 1993)
C68: No proper maintenance, Petrol leaks | D68: Safety | E68: Damage to equipment and structures, Lost time injury | F68: Fire fighting equipment available, Regular inspection of equipment, Training of staff | G68: 2 | H68: 1 | I68: IV | J68: =IF('Risk template'!A179="","",'Risk template'!Q179) -> Mostly effective | K68: =IF('Risk template'!A179="","",'Risk template'!T179) -> Senior Supervisor / Manager | L68: ERW 9 and SANS 10400
B69: Awkward posture | C69: No Regular breaks, Incorrect posture | D69: Health | E69: Lost time injury | F69: Regular breaks | G69: 2 | H69: 1 | I69: IV | J69: =IF('Risk template'!A180="","",'Risk template'!Q180) -> Mostly effective | K69: =IF('Risk template'!A180="","",'Risk template'!T180) -> Senior Supervisor / Manager | L69: Occupational Health and Safety Act, 1993 (Act No. 85 of 1993)
B70: Heavy lifting | C70: Not assisting one another, incorrect lifting technique | D70: Safety | E70: Lost time injury | F70: Safety Boots, Gloves, Regular breaks, Proper lifting technique and training, medical surveillances | G70: 2 | H70: 1 | I70: IV | J70: =IF('Risk template'!A181="","",'Risk template'!Q181) -> Fully effective | K70: =IF('Risk template'!A181="","",'Risk template'!T181) -> Senior Supervisor / Manager | L70: Occupational Health and Safety Act, 1993 (Act No. 85 of 1993)

Sheet Consequence rating
C2: Consequence criteria
B3: Consequence rating | C3: Description
C4: Health and Safety
B5: 1 | C5: No injuries or health effects(near misses)
B6: 2 | C6: First-aid treatment case, and temporary discomfort case
B7: 3 | C7: Medical treatment case; occupational disease with reversible/non-permanent effect
B8: 4 | C8: Lost Time Injury. Irreversible health effects/occupational disease with permanent consequence
B9: 5 | C9: Fatality or life threatening health effects
B10: 6 | C10: Multiple fatalities

Sheet Likelihood rating
A2: Likelihood criteria
B3: Score | C3: Descriptor | D3: Safety | E3: Occupational hygiene
E4: Exposure | F4: Probability of exceeding OEL
B5: A | C5: Highly unlikely | D5: § More than a “100 year event” | E5: Rare (once a year) | F5: No exposure (or exposure < 10% of OEL)
D6: § Exceptionally unlikely, even in the long-term future
D7: § < 5% probability.
B8: B | C8: Unlikely | D8: § Could occur in “years to decades” | E8: Short periods of time, a few times per day/ intermittent (once in six months, three months, or a month) | F8: Low exposure (< 50% of OEL)
D9: § May occur but not anticipated
D10: § ≥ 5% and < 20% probability.
B11: C | C11: Possible | D11: § Could occur within “months to years” | E11: Continuous for between one and two hours (often/ weekly) | F11: Moderate exposure (chronic exposure > 50% of OEL or acute exposure ≥ OEL)
D12: § May occur shortly but a distinct probability it will not, or ≥ 20% and < 70% probability.
B13: D | C13: Likely | D13: § Could occur within “weeks to months” | E13: Continuous for between two and four hours (frequent/daily) | F13: High exposure (chronic exposure > OEL, or exposure exceeding OEL-STEL)
D14: § Balance of probability will occur
D15: § ≥ 70% and < 90% probability.
B16: E | C16: Unavoidable | D16: § Could occur within “days to weeks” | E16: Continuous for eight-hour shift | F16: Very high exposure (chronic exposure > 2 x OEL or exposure exceeding OEL-C)
D17: § Impact is imminent
D18: § ≥ 90% probability.

Sheet Risk control effectiveness
B3: RISK CONTROL EFFECTIVENESS GUIDE
B4: RCE | C4: Guide
B5: Fully effective | C5: Nothing more to be done except review and monitor the existing controls. Controls are well designed for the risk, are largely preventive and address the root causes. Management believes that they are effective and reliable at all times. Reactive controls only support preventive controls.
B6: Mostly effective | C6: Most controls are designed correctly and are in place and effective. Some more work to be done to improve operating effectiveness or management has doubts about operational effectiveness and reliability of the controls.
B7: Mostly ineffective | C7: While the design of controls may be largely correct in that they treat most of the root causes of the risk, they are not currently operationally very effective. There may be an over-reliance on reactive controls, or some of the controls do not seem correctly designed in that they do not treat root causes.
B8: None | C8: Virtually no credible control. Management has no confidence that any degree of control is being achieved.

Sheet Risk matrix
E2: RISK MATRIX
C3: Consequences | D3: 6 | E3: I | F3: I | G3: I | H3: I | I3: I
D4: 5 | E4: II | F4: II | G4: II | H4: I | I4: I
D5: 4 | E5: III | F5: III | G5: II | H5: I | I5: I
D6: 3 | E6: IV | F6: III | G6: II | H6: II | I6: I
D7: 2 | E7: IV | F7: IV | G7: III | H7: II | I7: II
D8: 1 | E8: IV | F8: IV | G8: III | H8: III | I8: III
E9: A | F9: B | G9: C | H9: D | I9: E
E10: Likelihood
D13: Priority | E13: Risk ranking | F13: Action required
D14: I | E14: Very high | F14: Immediate action required, and these risks to be captured on IRM system.
D15: II | E15: High | F15: Strong mandatory action required, and these risks to be captured on IRM system.
D16: III | E16: Medium | F16: Action required, possibly at administrative level.
D17: IV | E17: Low | F17: Minor or no action required.
