Workbook
Name Consequence: '[1]Drop Down Lists'!$A$3:$A$8
Name Likelihood: '[1]Drop Down Lists'!$B$3:$B$7
Name RCE: '[1]Drop Down Lists'!$D$3:$D$7

Sheet Risk template
A3: Occupational Health and Safety Baseline risk assessment
A4: Business/Operating unit: | B4: NORTH WEST OPERATING UNIT | J4: Department: | K4: GEMMA CLUSTER NORTH WEST | U4: Next Review Date (every 2 years): | V4: 45191 | W4: Template identifier: | X4: 240-70044602
A6: Date: | J6: Prepared by: | K6: Dudu Sikonde | M6: Authorised by: | O6: Name: Laetitia Smith | W6: Document identifier | AD6: 1 | AE6: A | AF6: Fully effective | AG6: I
O7: Designation: SHEQ Manager | W7: Revision number: | X7: 3 | AD7: 2 | AE7: B | AF7: Mostly effective | AG7: II
O8: Signed: | W8: Revision date: | X8: 45443 | AD8: 3 | AE8: C | AF8: Mostly ineffective | AG8: III
O9: Date: | AD9: 4 | AE9: D | AF9: None | AG9: IV
A10: Refer to Occupational Health and Safety Risk assessment procedure 32-520 | AD10: 5 | AE10: E
A11: List activity | B11: Activity type (Routine/Non-routine) | C11: Hazard nr | D11: Hazard Identification | E11: Risk Nr | F11: Associated risk | G11: Risk type | H11: Cause(s) of the risk | I11: Exposed group/employees | J11: Risk Owner | K11: Exposure patterns | L11: What are the possible consequences? | M11: Existing Controls | P11: Risk Priority Rating | R11: Additional Controls or Tasks Aimed at improving Existing Controls | S11: Monitoring Mechanisms | T11: Control Owner | U11: Legal and Other Requirements | V11: Target Date | W11: Current Status | X11: Integrated Risk Management (IRM) reference number
A12: List specific activities to be performed taking into consideration the equipment to be used, the personnel involved in the task. | B12: Indicate R or N 1. Routine activities and situations create hazards through day-to-day operations and normal work activities; 2. Non-routine activities and situations are occasional or unplanned; | C12: # | D12: Anything with potential to cause of harm. Note: A hazard can pose more than one risk. | E12: # | F12: A chance that injury , ill health or damage could occur as a result of uncontrolled hazard. | G12: Safety or health | H12: What causes the risk to come into effect? | I12: Who is exposed to the hazard i.e. visitors, members of the public, etc. | J12: Who is accountable for making sure the controls and monitors are: - in place, - implemented, - regularly reviewed for effectiveness. | K12: The frequency and duration the person/group is exposed to the hazard e.g. Daily for 3 hrs. | L12: Consider the worse case scenario without controls? | M12: Include: - Preventative Controls (controls implemented to eliminate hazards or reduce the likelihood of the risk occurring), and - Reactive Controls (controls implemented to reduce the immediate impact of the risk occurring) Elimination Substitution Engineering controls Administrative controls Personal protective equipment (PPE) | N12: Consequence | O12: Likelihood | Q12: RCE Risk Control Effectiveness | R12: Include: - Preventative Controls (controls implemented to eliminate hazards or reduce the likelihood of the risk occurring), and - Reactive Controls (controls implemented to reduce the immediate impact of the risk occurring) Elimination Substitution Engineering controls Administrative controls Personal protective equipment (PPE) | S12: How we know if we are succeeding. Include comments on effectiveness. This may include i.e. measurements, inspections, supervision where necessary. | T12: Person allocated the responsibility for implementing the agreed controls | U12: Where relevant, list the relevant legislative and or Eskom requirements that prescribe the control. | V12: Once a date has been agreed to, this can not be changed | W12: Pending, In Progress, Complete | X12: Where applicable, add IRM system reference number for tracking of treatment actions.
A13: 1.Driving | B13: R | C13: 1.1 | D13: Bad road conditions | E13: 1.1 | F13: Possible puncture or damage to the vehicle tyre, possible injuries and fatalities | G13: Safety | H13: Potholes on the road | I13: Employees, Members of public | J13: Management, HSE personnel | K13: Daily for 8hrs | L13: Injury , Property damage | M13: Vehicle safety procedures, Life Saving Rules, Driver observations, Valid drivers license & Permit, Valid Medical, | N13: 3 | O13: B | P13: III | Q13: Mostly effective | R13: Preventative controls-Drivecams, telematrix ,medical fitness for driver, autorised drivers licence, driver obsrvations, awareness and training. Driving procedure commnunication,public safety campaignss Reactive controls- accident reporting and investigation | S13: Reduction on reported MVA's,reduction in lost time injuries | T13: Managers and SHE personnel | U13: National road traffic Act 93 0f 1995;32-345 Vehicle safety specification; 240-88365419 driver training Life Saving Rules | V13: 31/03/2021 | W13: Completed
B14: R | C14: 1.2 | D14: Fatigue | E14: 1.2 | F14: Falling asleep while driving which can lead to losing control of the vehicle or collisions | G14: Safety | H14: Overtime work, not taking breaks, work pressure | I14: Employee, Public | J14: Management, HSE personnel | K14: Daily for 5hrs | L14: Injury , Property damage,ill health | M14: Drivers to take regular rest breaks, EAP, proper work planning and scheduling,supervision, Technical Instruction 10TI-09, Procedure for management of Hours of work 240-42864251 | N14: 3 | O14: B | P14: III | Q14: Mostly effective | R14: Preventative controls-taking regular rest, proper planning of work and scheduling,education and awarenes of fatigue management Reactive controls- accident reporting and investigation, EAP referral of affceted employee | S14: EAP referal report, MVA reduction | T14: Managers and SHE personnel | U14: National road traffic Act 93 0f 1995;32-345 Vehicle safety specification; 240-88365419 driver training, Life Saving Rules. Basic Conditions of Employement Act no.75 of 1997, Labour relations Act 65 of 1995, Procedure for working hours 240-42854251, Management of Overtime worked to Mitigate fatigue 10TI-09 | V14: 31/03/2021 | W14: Completed
B15: R | C15: 1.3 | D15: Intoxication | E15: 1.3 | F15: Driving while under the influence of alcohol | G15: Safety | H15: Non-adherence to Eskom Substance Abuse Procedure, Life saving rules violation (be sober) | I15: Employees | J15: Management, HSE personnel | K15: Daily for 8hrs | L15: Injury , Property damage,ill health | M15: Ad hoc breathalyzer , Live saving rule pledges; Awareness on Substance abuse procedure | N15: 4 | O15: B | P15: III | Q15: Mostly effective | R15: Preventative controls-Awareness on life saving rules,adhoc breatherlizer tests Reactive controls- accident reporting and investigation, EAP referral of affceted employee,alcohol test after the incident on the involved individual | S15: Life saving rules violation report, statistic on positive breatherlizer test, | T15: Managers and SHE personnel | U15: National road traffic Act 93 0f 1995;32-345 Vehicle safety specification; 240-88365419 driver training standard, Life Saving Rules | V15: 31/03/2021 | W15: Completed
B16: R | C16: 1.4 | D16: Speeding | E16: 1.4 | F16: Losing control of the vehicle, collision and unable to stop on time | G16: Safety | H16: Life saving rules violation (be sober,MVA"S statistic reduction | I16: Employee, Public | J16: Management, HSE personnel | K16: Daily for 8hrs | L16: Injury , Property damage | M16: OBC reports and trend analysis, Pool vehicles speed limit - 100km, Valid drivers license & Eskom Permit, valid nationaldriver's licence,drivers observation,drivers risk profile | N16: 5 | O16: C | P16: II | Q16: Mostly effective | R16: Preventative controls-Awarenesson life saving rules,adhoc breatherlizer tests, Driver Monitoring Device System, Vehicle Monitoring Device,driver training programme,driver asssessments, risk profiling Reactive controls- accident reporting and investigation, EAP referral of affceted employee,alcohol test after the incident on the involved individual,speeding violation consequence management | S16: Life saving rules violation report, statistic on positive breatherlizer test,consequence management, Vehicle Monitoring Device | T16: Managers and SHE personnel | U16: National road traffic Act 93 0f 1995;32-345 Vehicle safety specification; 240-88365419 driver training standard, Life Saving Rules | V16: 31/03/2022 | W16: In Progress
B17: R | C17: 1.5 | D17: Hi-jacking | E17: 1.5 | F17: Possible assult, rape, stress, trauma and being shot | G17: Safety | H17: vehicle being stollen, member of the public | I17: Employee, Public | J17: Management, HSE personnel | K17: Daily for 8hrs | L17: Injury , Property damage | M17: All drivers attended anti hi-jacking training; Pool vehicles are fitted with panic buttons; Mixtel system to track vehicle | N17: 3 | O17: B | P17: III | Q17: Mostly effective | R17: Preventative controls-Awareness on on antihijacking,training on anti hijacking, Vehicle Monitoring Device to track the vehicle location Reactive controls- accident reporting and investigation, reporting vehicle to SAPS and Protective services, EAP | S17: Vehicle monitoring device reports, Reduction in speeding fines | T17: Managers and SHE personnel | U17: National road traffic Act 93 0f 1995;32-345 Vehicle safety specification; 240-88365419 driver training standard, Life Saving Rules | V17: 31/03/2021 | W17: Completed
B18: R | C18: 1.6 | D18: Overloading | E18: 1.6 | F18: Increases the chances of injuries during a collision (overloading of material and not properly storing and securing tools) | G18: Safety | H18: Exceed the vehicle specification | I18: Exposed group/employees, members of the public | J18: Management, HSE personnel | K18: Daily for 8 hrs | L18: Injury , Property damage | M18: OBC reports and trend analysis, Valid drivers license & Eskom Permit, valid nationaldriver's licence,drivers observation,drivers risk profile | N18: 2 | O18: B | P18: IV | Q18: Fully effective | R18: Preventative controls-Awarenesson life saving rules,adhoc breatherlizer tests, Driver Monitoring Device System, Vehicle Monitoring Device,driver training programme,driver asssessments, risk profiling Reactive controls- accident reporting and investigation, EAP referral of affceted employee,alcohol test after the incident on the involved individual,speeding violation consequence management | S18: Vehicle monitoring device reports, Reduction in speeding fines | T18: Managers and SHE personnel | U18: National road traffic Act 93 0f 1995;32-345 Vehicle safety specification; 240-88365419 driver training standard, Life Saving Rules | V18: 31/03/2021 | W18: Completed
B19: R | C19: 1.7 | D19: Gravel road | E19: 1.7 | F19: Vehicle slipping and capsizing | G19: Safety | H19: Driving at a speed not suitable for the condtion of the road | I19: Exposed group/employees | J19: Management, employees and Senior Supervisor | K19: Daily | L19: Injury, property damage | M19: 4x4 training, driver awareness, | N19: 3 | O19: B | P19: III | Q19: Mostly effective | R19: Preventative control- Continues awareness on driver safety Reactive control - Accident reporting and investigation. | S19: Monthly incident analysis and sharing of lessons learnt | T19: Managers and SHE personnel | U19: OHSAS 18001 (4.3.1, 4.5.3) | V19: 31/03/2021 | W19: Completed
B20: R | C20: 1.8 | D20: Night driving | E20: 1.8 | F20: Being involved in a motor vehicle accident (Collision, hitting pedestrians, hitting straying animals, etc) | G20: Safety | H20: Night blidness, poor visibility | I20: Employees, members of the public, contractors | J20: responsible manager, employees and contractors | K20: Daily | L20: Injury and property damage | M20: Safety awareness | N20: 3 | O20: C | P20: II | Q20: Mostly effective | R20: Preventative control - Continues awareness on night driving Reactive control- Accident reporting and incident investigation | S20: Monthly incident analysis and sharing of lessons learnt | T20: Managers and SHE personnel | U20: Vehicle and driver safety management (32-93), OHSAS 18001 (4.3.1, 4.5.3) | V20: 31/03/2022 | W20: In progress
B21: R | C21: 1.9 | D21: Driving Unroad worthy vehicle | E21: 1.9 | F21: Vehicle breakdown or parts failure | G21: Safety | H21: Improper or lack of maintenance of vehicle, use of scrapped vehicles | I21: Exposed group/employees, members of the public | J21: Management, HSE personnel | K21: Daily for 8 hours | L21: Injury , Property damage | M21: Pre-trip inspection, Regular service intervals, Breakdown procedure in place,SOP | N21: 2 | O21: B | P21: IV | Q21: Fully effective | R21: Preventative controls-Awareness on life saving rules,adhoc breatherlizer tests, Vehicle Monitoring Device,Driver training programme,Driver asssessments & risk profiling . Reactive controls- accident reporting and investigation, EAP referral of affceted employee,alcohol test after the incident on the involved individual,speeding violation consequence management | S21: Vehicle monitoring device reports, reduction in speeding fines | T21: Managers and SHE personnel | U21: National road traffic Act 93 0f 1995;32-345 Vehicle safety specification; 240-88365419 driver training standard, Life Saving Rules | V21: 31/03/2021 | W21: Completed
B22: R | C22: 1.10 | D22: Travelling in areas where there are protests | E22: 1.10 | F22: Loss of control of the vehicle | G22: Safety | H22: Protesters throwing stones | I22: Employees and contractors | J22: Senior Supervisor, management | K22: Daily | L22: Injury | M22: Protest safety alerts | N22: 1 | O22: C | P22: III | Q22: Fully effective | R22: Preventative controls - Continuos protests alerts and encouraging the use of alternative roads Reactive controls- Call SAPS & Protective Services | S22: Listening to the news, and reading emails on protests alerts | T22: Managers, supervisors and Employees | V22: 31/03/2021 | W22: Completed
B23: R | C23: 1.11 | D23: Reckless driving from other road users | E23: 1.11 | F23: Colliding with other vehicles | G23: Safety | H23: Road conditions, environmental factors, personal factors, not adhering to national road traffic laws | I23: Exposed group/employees, members of the public | J23: Senior Supervisor, management | K23: Daily for 8 hours | L23: Injury | M23: Defensive driver Training | N23: 4 | O23: B | P23: III | Q23: Mostly effective | R23: Preventative control - Driver Observations, Driver assessments, route planning and risk assessment Reactive control: Call for emergency response, Incident reporting & investigation. Share lessons learnt | S23: Vehicle monitoring device reports, daily inspections, workstoppages, incident recall and Reduction in speeding fines | T23: Managers, supervisors and Employees | U23: National road traffic Act 93 0f 1995;32-345 Vehicle safety specification; 240-88365419 driver training standard, Life Saving Rules | V23: 31/03/2021 | W23: Completed
B24: R | C24: 1.12 | D24: Driving Abnormal vehicles | E24: 1.12 | F24: Vehicle collision | G24: Safety | H24: lack of operating knowledge, improper risk assessment | I24: Public | J24: Senior Supervisor, management | K24: Daily for 8 hours | L24: Injury , Property damage | M24: authorisation permit from the authorities, emergency management plan | N24: 1 | O24: B | P24: IV | Q24: Fully effective | R24: Preventative controls-authorisation from the responsible authorities, risk profiling Reactive controls- accident reporting and investigation, spillage clean up | S24: Vehicle monitoring device reports, Reduction in speeding fines | T24: Managers and SHE personnel | U24: National road traffic Act 93 0f 1995;32-345 Vehicle safety specification; 240-88365419 driver training standard, Life Saving Rules | V24: 31/03/2021 | W24: Completed
B25: R | C25: 1.13 | D25: Floods | E25: 1.13 | F25: Motor vehicle accident | G25: Safety | H25: The vehicle aeroplatting due to paddles of water | I25: Employees and Contractors | J25: Responsible managers, Senior Supervisor and employees | K25: As and when | L25: Injuries | M25: Vehicle safety awareness, Defensive and Advance driver training | N25: 4 | O25: B | P25: III | Q25: Mostly effective | R25: Preventative control - Driver Observations, Driver assessments, route planning and risk assessment Reactive control: Call for emergency response, Incident reporting & investigation. Share lessons learnt | S25: Capturing and monitoring incidents and reported near misses | T25: Responsible manager and Senior supervisor | U25: Emergency preparedness procedure and ISO 45001, disaster management plan | V25: 31/03/2021 | W25: Completed
B26: R | C26: 1.14 | D26: Pedestrian on the road/driveway | E26: 1.14 | F26: Run into pedestrians | H26: Not checking surrounding prior driving, lack of focus while driving, poor visibility | I26: Employees ,contractors and pedestrians | J26: Responsible managers, Senior Supervisor and employees | K26: Daily | L26: Fatality, Injury and Property damage | M26: Vehicle monitoring device, Driver profile, Defensive & Advance driver training, Vehicle safety awareness, Driver observations | N26: 5 | O26: C | P26: II | Q26: Mostly effective | R26: Preventative control - Visual inspections by drivers prior driving, Driver Observations, Driver risk profile, Route planning, Vehicle safety awareness and Risk assessment Reactive control: Call for emergency response, Incident reporting & investigation. Share lessons learnt | S26: Vehicle monitoring device reports, daily inspections, workstoppages & awareness, incident recall & share lessons learnt and reduction in culpable homicide court cases | T26: Managers, SHE personnel and Fleet personnel | U26: National road traffic Act 93 0f 1995;32-345 Vehicle safety specification; 240-88365419 driver training standard, Life Saving Rules | W26: Completed
A27: 2.Accessing customer facilities | B27: R | C27: 2.1 | D27: Angry customer | E27: 2.1
B28: R | C28: 2.2 | D28: Hostage situation | E28: 2.2 | F28: Possible assult, rape, stress, trauma | G28: Safety | H28: Customer compeling Eskom to act in his/her favour | I28: Employees and Contractors | J28: Responsible managers, Senior Supervisor and employees | K28: As and when | L28: Injuries | M28: Safety awareness, Risk assessment, Panic button on vehicle, Armed response | N28: 4 | O28: B | P28: III | Q28: Mostly effective | R28: Preventative controls- risk assessment, Armed response team and Local SAPS, EAP Reactive controls- Accident reporting and investigation, | S28: Capturing and monitoring incidents and reported near misses | T28: Responsible manager and Senior supervisor | U28: Emergency preparedness procedure and OHSAS 18001, disaster management plan | V28: 31/03/2021 | W28: Completed
B29: R | C29: 2.3 | D29: Dogs | E29: 2.3 | F29: Possible bites | G29: Safety | H29: Uncontrolled dogs | I29: Employees and contractors | J29: Managers and Senior Supervisor | K29: Daily | L29: Ill health | M29: Customer forums, public awareness campaigns | N29: 3 | O29: C | P29: II | Q29: Mostly effective | R29: Preventative controls- risk assessment,PPE Reactive controls- accident reporting and investigation, | S29: Improved LTIR and TRIR, positive customer feedback | T29: Managers and SHE personnel | U29: PPE specification 240-44175132 ,OHSACT and 32-95, Pre task risk assessment 32-520 | V29: 31/03/2022 | W29: In Progress
B30: R | C30: 2.4 | D30: Exposure to customer wild animals | E30: 2.4 | F30: Possible bites | G30: Safety | H30: Game reserve cutomer based, uncontrolled wild animals | I30: Employees, Contractors | J30: Responsible managers and Senior Supervisors | K30: Daily | L30: Injury | M30: Customer forums, public awareness campaigns, DGL 34-190 Access to Farms | N30: 2 | O30: C | P30: III | Q30: Mostly effective | R30: Preventative controls- risk assessment,PPE, Reactive controls- accident reporting and investigation, | S30: Improved LTIR and TRIR, positive customer feedback | T30: Managers and Senior Supervisor | U30: PPE specification 240-44175132,Occupational Health and Safety Act, 1993 (Act No. 85 of 1993) esction 8and 32-95 | V30: 31/03/2021 | W30: Completed
A31: 3. Community protests | B31: N | C31: 3.1 | D31: Community unrest | E31: 3.1 | F31: Actions and conditions leading to possible hostage situation and assult | G31: Safety | H31: Service delivery related community protests, mine labour unrest | I31: Employees | J31: responsible managers and Senior Supervisors | K31: As and when | L31: Injury | M31: Escort by protective services, SAPS, armed response, public threat communication, avoid risk areas | N31: 2 | O31: C | P31: III | Q31: Mostly effective | R31: Preventative controls-security standard complience, competent security personnel , risk assessment,public safety campaigns, Reactive controls- accident reporting and investigation, treatment of injured employee ,replacement of damaged/stolen property | S31: Reduction in LTIR and TRIR, no fatalities | T31: Managers and Senior Supervisor | U31: OHSACT section 8(1), 240-82789119 Distribution Security Operating procedure, | V31: 31/03/2021 | W31: Completed
A32: 4. Work within office environment | B32: R | C32: 4.1 | D32: Improper sitting position | E32: 4.1 | F32: Musculoskeletal diseases | G32: Health | H32: Continous sitting on awkward position | I32: Employee | J32: Responsible managers and Senior Supervisor | K32: Daily | L32: Injury | M32: Ergonomic awareness, Health risk assesment, OH Surveys | N32: 1 | O32: C | P32: III | Q32: Mostly effective | R32: Preventative control: SMAT observations, medical surveillance, Ergonomics RA, OH Surveys Reactive control: Investigation, sharing of lessons learnt and workstoppages | S32: Reduction in TRIR,reduction in absenteeism rate | T32: Managers and Senior Supervisor | U32: Occupational Health and Safety Act, 1993 (Act No. 85 of 1993), 34-370 Management of Ergonomic hazards exposure in the workplace | V32: 31/03/2021 | W32: Completed
B33: R | C33: 4.2 | D33: Cables, office equipment and other tripping objects | E33: 4.2 | F33: Possible falls | G33: Safety | H33: Poor housekeeping in offices, lack of storage facilities, too much furnisher in the office | I33: Employees | J33: Responsible managers and Senior Supervisor | K33: Daily | L33: Injury | M33: Safety awareness talks, SMAT, SHE Rep inspection, House keeping inspections | N33: 3 | O33: C | P33: II | Q33: Mostly effective | R33: Preventative control: Safety awareness Reactive control: Medical surveillance | S33: Reduction in LTIR and TRIR,reduction in absenteeism rate, | T33: Managers and Senior Supervisor | U33: Environmental regulation for workplace 6 | V33: 31/03/2022 | W33: In progress
B34: R | C34: 4.3 | D34: Cables | E34: 4.3 | F34: Possible electric shock | G34: Safety | H34: Poor housekeeping in offices, exposed cables | I34: Employees | J34: Responsible managers and Senior Supervisor | K34: Daily | L34: Injury | M34: Safety awareness talks, SMAT, safety inspections | N34: 1 | O34: B | P34: IV | Q34: Fully effective | R34: Preventative control - Safety awareness, good housekeeping Reactive control - Incident reporting and investigation | S34: Reduction in LTIR and TRIR,reduction in absenteeism rate, | T34: Managers and Senior Supervisor | U34: Environmental regulation for workplace 6, Electrical machinary regulation 10 | V34: 31/03/2021 | W34: Completed
B35: R | C35: 4.4 | D35: Regular computer use | E35: 4.4 | F35: Vision impairment | G35: Health | H35: Focusing on computer screen for longer periods, inadequate lighting in office environment, glare | I35: Employees | J35: Responsible managers and Senior Supervisor | K35: Daily | L35: Injury | M35: Illumination surveys, medical surveillance programs, regular maintance of lights | N35: 1 | O35: B | P35: IV | Q35: Fully effective | R35: Preventative control: Conduct survey as per occupational hygiene survey plan and requirement. Proper sitting position and use of computers awareness and education,medical surveillance, valid medical certificates, Reactive controls- accident reporting and investigation, treatment of injured employee | S35: Reduction in LTIR and TRIR,reduction in absenteeism rate, | T35: Managers and Senior Supervisor | U35: Monitoring of Occupational hygiene factors 34-369, 34-370 Management of ergonomic hazards exposure in the workplace | V35: 31/03/2021 | W35: Completed
B36: R | C36: 4.5 | D36: Use of paper and other office supplies | E36: 4.5 | F36: Possible lacerations and cuts | G36: Safety | H36: Paper cuts | I36: Employees | J36: Responsible managers and Senior Supervisor | K36: Daily | L36: Illhealth | M36: Safety awareness talks, | N36: 2 | O36: B | P36: IV | Q36: Fully effective | R36: Preventative control-Safety awareness on office hazards Reactive control - Incident reporting and investigation | S36: Reduction in TRIR, | T36: Managers and Senior Supervisor | U36: Occupational Health and Safety Act, 1993 (Act No. 85 of 1993) section 8(1) | V36: 31/03/2021 | W36: Completed
B37: R | C37: 4.6 | D37: Water scarcity | E37: 4.6 | F37: Ill health | G37: Health | H37: Dehydration | I37: Employees, contractors, visitors | J37: Responsible managers and Senior Supervisor | K37: Daily | L37: Injury | M37: Safety talks and daily employee commitmemt on saving water. | N37: 1 | O37: C | P37: III | Q37: Mostly effective | R37: Preventative control - Provision of purified water for drinking. Reactive control: Move employees to the nearest office | S37: Reduction in TRIR,reduction in absenteeism rate, | T37: Managers and Senior Supervisor | U37: Occupational Health and Safety Act, 1993 (Act No. 85 of 1993) and facilities regulation 7 | V37: 31/03/2021 | W37: Completed
B38: R | F38: Illhealth | G38: Health | H38: Poor hygiene in ablution facilite | I38: Employees and contractors | J38: Responsible managers and Senior Supervisor | K38: Daily | L38: Illhealth | M38: Safety talks and daily employee commitmemt on saving water | N38: 1 | O38: C | P38: III | Q38: Mostly effective | R38: Preventative control - Provision of Water tanks for other use. Reactive control: Move employees to the nearest office | S38: Incident reporting | T38: Managers and Senior Supervisor | U38: Occupational Health and Safety Act, 1993 (Act No. 85 of 1993) section 8(1), and facilites regulation 2 | V38: 31/03/2021 | W38: Completed
B39: R | C39: 4.7 | D39: Electricity cuts | E39: 4.7 | F39: Poor visibility which may lead to falling | G39: Health | H39: Thermal discomfort leading to heat exhastion when airconditioners are not working | I39: Employees, contractors, visitors | J39: Responsible managers and Senior Supervisor | K39: Daily | L39: Illhealth | M39: Use temporary work stations and backup generator | N39: 1 | O39: C | P39: III | Q39: Mostly effective | R39: Preventative control - All employees to evacuate the building and assemble at designated area Reactive control - Employees to move to the nearest office | S39: Reductio in medicals and TRIR,reduction in absenteeism rate | T39: Managers and Senior Supervisor | U39: Occupational Health and Safety Act, 1993 (Act No. 85 of 1993) and Environmental regulation for work places 2 | V39: 31/03/2021 | W39: Completed
B40: R | C40: 4.8 | D40: Inadequte level of illumination | E40: 4.8 | F40: Poor visibility which may lead to eye strain | G40: Health | H40: Inadequate lighting | I40: Employees | J40: Responsible managers and Senior Supervisor | K40: Daily | L40: Ill health | M40: Illumination surveys, medical surveillance programs | N40: 1 | O40: C | P40: III | Q40: Mostly effective | R40: Preventative controls-conduct illumination survey (occupational hugiene surveys to check for OEL"s. Provide adequate lighting systemt.Reactive controls - accident investigation, treatment affected employees, | S40: Reduction in TRIR,reduction in absenteeism rate, | T40: Managers and Senior Supervisor | U40: 34-369 Monitoring of Occupational Hygiene Factors, Environmental regulation for workplaces 3, | V40: 31/03/2021 | W40: Completed
B41: R | C41: 4.9 | D41: Poor ventilation | E41: 4.9 | F41: No free circulation of clean air which may cause dizziness | G41: Health | H41: inhalation of contaminated air | I41: Employees, contractors, visitors | J41: Responsible managers and Senior Supervisor | K41: Daily | L41: Ill health | M41: Indoor Air Quality surveys, Medical surveillances | N41: 1 | O41: C | P41: III | Q41: Mostly effective | R41: Preventative controls- EP Plan, EP Risk assessment, EP Training and awareness, Regular EP Drill Reactive controls - Emergency response, Incident investigation, treatment affected employees, EAP | S41: reduction in absenteeism rate, | T41: Managers and Senior Supervisor | U41: 34-369 Monitoring of Occupational Hygiene Factors, Environmental regulation for workplaces 5 | V41: 31/03/2021 | W41: Completed
B42: N | C42: 4.10 | D42: Bomb threats | E42: 4.10 | F42: Possible explosions | G42: Safety | H42: Customer compeling Eskom to act in his/her favour | I42: Employees,Customers and Contractors | J42: Responsible managers, Senior Supervisor and employees | K42: As and when | L42: Injuries and fatalities | M42: Safety Drills, Induction training, EP awareness training | N42: 1 | O42: B | P42: IV | Q42: Fully effective | R42: Preventative controls- Indoor air quality survey (occupational hugiene surveys to check for OEL). Provide adequate ventiltion. Reactive controls - Accident investigation, treatment affected employees and maintanance of the airconditioning system. | S42: Capturing and monitoring incidents and reported near misses | T42: Responsible manager and Senior supervisor | U42: Emergency preparedness procedure and OHSAS 18001, disaster management plan | V42: 31/03/2021 | W42: Completed
B43: R | C43: 4.11 | D43: Walking around the office | E43: 4.11 | F43: Possible trips and falls | G43: Safety | H43: Waking around the office while the floor is still wet | I43: Employees | J43: Responsible managers and Senior Supervisors | K43: Daily | L43: Injuries | M43: Safety awareness | N43: 2 | O43: C | P43: III | Q43: Mostly effective | R43: Preventative controls- Hold on to the rails when ascending or descending staircase. Avoid distructions while walking (Eg Cellphone) Reactive controls - Accident investigation, treatment affected injured employees. | S43: Reduction of TRIR | T43: Managers and Senior Supervisor | U43: OHSACT section 8(1), Environmental regulation for workplaces 6 | V43: 31/03/2021 | W43: Completed
...

Sheet IRM Register
B3: Speed
B5: MVA
B6: Assualt by customer
B7: Electrocution
B8: Falls from Height
B9: COVID 19

Sheet Contractor Baseline template
A3: Occupational Health and Safety Baseline risk assessment template
A4: Business/Operating, NW- Gemma Cluster | B4: Install, Maintain, Commission, Repair and Test the optical fibre communication links for new projects and fault repairs on existing optic fibre links. | K4: Next Review Date (every 2 years): | L4: Template identifier:
A6: Date: | B6: 45994 | F6: Authorised by: | H6: Name: Frans Ratau | K6: Document identifier | AA6: R | AB6: Safety | AC6: 1 | AD6: A | AE6: Fully effective | AF6: I
H7: Designation: | K7: Revision number: | L7: 1 | AA7: N | AB7: Health | AC7: 2 | AD7: B | AE7: Mostly effective | AF7: II
H8: Signed: | K8: Revision date: | L8: 45443 | AC8: 3 | AD8: C | AE8: Mostly ineffective | AF8: III
H9: Date: | AC9: 4 | AD9: D | AE9: None | AF9: IV
A10: Refer to Occupational Health and Safety Risk assessment procedure 32-520 | AC10: 5 | AD10: E
A11: List activity | B11: Hazard Identification | C11: Associated risk | D11: Risk type | E11: What are the possible consequences? | F11: Existing Controls | I11: Risk Priority Rating | K11: Control Owner | L11: Legal and Other Requirements | AC11: 6
A12: List specific activities to be performed taking into consideration the equipment to be used, the personnel involved in the task. | B12: Anything with potential to cause of harm. Note: A hazard can pose more than one risk. | C12: A chance that injury , ill health or damage could occur as a result of uncontrolled hazard. | D12: Safety or health | E12: Consider the worse case scenario without controls? | F12: Include: - Preventative Controls (controls implemented to eliminate hazards or reduce the likelihood of the risk occurring), and - Reactive Controls (controls implemented to reduce the immediate impact of the risk occurring) Elimination Substitution Engineering controls Administrative controls Personal protective equipment (PPE) | G12: Consequence | H12: Likelihood | J12: RCE Risk Control Effectiveness | K12: Person allocated the responsibility for implementing the agreed controls | L12: Where relevant, list the relevant legislative and or Eskom requirements that prescribe the control. | R12: Consequences | S12: 6 | T12: III | U12: II | V12: I | W12: I | X12: I
A13: =IF('Risk template'!A13="","",'Risk template'!A13) -> 1.Driving | B13: =IF('Risk template'!A13="","",'Risk template'!D13) -> Bad road conditions | C13: =IF('Risk template'!A13="","",'Risk template'!F13) -> Possible puncture or damage to the vehicle tyre, possible injuries and fatalities | D13: =IF('Risk template'!A13="","",'Risk template'!G13) -> Safety | E13: =IF('Risk template'!A13="","",'Risk template'!L13) -> Injury , Property damage | F13: =IF('Risk template'!A13="","",'Risk template'!M13) -> Vehicle safety procedures, Life Saving Rules, Driver observations, Valid drivers license & Permit, Valid Medical, | G13: =IF('Risk template'!A13="","",'Risk template'!N13) -> 3 | H13: =IF('Risk template'!A13="","",'Risk template'!O13) -> B | I13: III | J13: =IF('Risk template'!A13="","",'Risk template'!Q13) -> Mostly effective | K13: =IF('Risk template'!A13="","",'Risk template'!T13) -> Managers and SHE personnel | L13: =IF('Risk template'!A13="","",'Risk template'!U13) -> National road traffic Act 93 0f 1995;32-345 Vehicle safety specification; 240-88365419 driver training Life Saving Rules | S13: 5 | T13: III | U13: II | V13: II | W13: I | X13: I
B14: Driving on public roads | C14: Involved in accident | D14: Safety | E14: Fatalities,Injuries, Property damage | F14: Staff driving vehicles to have national driver's license and Eskom driver's evaluation permit, vehicles in roadworthy condition, only transport authorised staff in vehicle, pre-trip checks, obeying of all traffic laws, Adherence to life saving rules. Toolbox talk discussions. | G14: 5 | H14: C | I14: II | J14: P | K14: Project Managers, Project Co-ordinators and Clerk of works | L14: National Road Safety Act. ESKOM Procedure 32-93 (Vehicle and driver safety management) . ESKOM Procedure 36-588 (Vehicle safety and transportation management) , Life saving rules | S14: 4 | T14: IV | U14: III | V14: II | W14: I | X14: I
B15: Speeding | C15: Losing control over the vehicle, damaging injury to third parties | D15: Safety | E15: Fatalities,injuries to driver, passengers and pedestrians or property damage | F15: Adherance to company rules and strictly drive at required speed limits. Driver assessment and driver behaviour observations.Valid drivers license and eskom driving permit | G15: 5 | H15: C | I15: II | J15: P | K15: Project Managers, Project Co-ordinators and Clerk of works | L15: National Road Safety Act. ESKOM Procedure 32-93 (Vehicle and driver safety management) . ESKOM Procedure 36-588 (Vehicle safety and transportation management) , Life saving rules | S15: 3 | T15: IV | U15: III | V15: II | W15: II | X15: I
B16: Driving without safety belt buckled up | C16: Severe Injuries when involved in an accident | D16: Safety | E16: Fatality or multiple Injuries | F16: Wearing of safety belts at all time. Adherance to the Life Saving Rules (bukle up) | G16: 5 | H16: C | I16: II | J16: P | K16: Project Managers, Project Co-ordinators and Clerk of works | L16: National Road Safety Act. ESKOM Procedure 32-93 (Vehicle and driver safety management) . ESKOM Procedure 36-588 (Vehicle safety and transportation management) , Life saving rules | S16: 2 | T16: IV | U16: IV | V16: III | W16: II | X16: II
B17: Weather conditions | C17: Bad weather conditions impaired visibility | D17: Safety | E17: Fatalities, multiple injuries | F17: Drivers to ensure good visibility at all times, keep following distance, stop over if you cannot see infornt of you until weather conditions has cleared or visibility have improved. | G17: 5 | H17: C | I17: II | J17: P | K17: Project Managers, Project Co-ordinators and Clerk of works | L17: National Road Safety Act. ESKOM Procedure 32-93 (Vehicle and driver safety management) . ESKOM Procedure 36-588 (Vehicle safety and transportation management) , Life saving rules | S17: 1 | T17: IV | U17: IV | V17: III | W17: III | X17: III
B18: Poor road conditions eg. Potholes | C18: Can lead to damage of the vehicle or cause an accident | D18: Safety | E18: Fatalities, Minor and major injuries and property damage | F18: Drivers to ensure good observation is maintained, adherence to speed limits and to conduct a raod risk assessment in order to inform other road uses of the conditions of the roads. | G18: 5 | H18: E | I18: II | J18: P | K18: Project Managers, Project Co-ordinators and Clerk of works | L18: National Road Safety Act. ESKOM Procedure 32-93 (Vehicle and driver safety management) . ESKOM Procedure 36-588 (Vehicle safety and transportation management) , Life saving rules | T18: A | U18: B | V18: C | W18: D | X18: E
B19: Condition of the vehicle | C19: Poor maintenance of a vehicle can cause accidence and major injuries | D19: Safety | E19: Fatalities, Injuries, Property damage | F19: Daily pre-trip check before use. Valid licence and road worthiness of the vehicle. Transport authorised staff. Driver of vehicles to have national driver's license and Eskom driver's evaluation permit, vehicles in roadworthy condition, obey of all traffic laws, adherence to life saving rules. | G19: 6 | H19: C | I19: II | J19: P | K19: Project Managers, Project Co-ordinators and Clerk of works | L19: National Road Safety Act. ESKOM Procedure 32-93 (Vehicle and driver safety management) . ESKOM Procedure 36-588 (Vehicle safety and transportation management) , Life saving rules | T19: Likelihood
A20: =IF('Risk template'!A27="","",'Risk template'!A27) -> 2.Accessing customer facilities | B20: Angry customer | C20: Actions and conditions leading to assult and/or rape | D20: Safety | E20: ill health | F20: Public Safety campaigns, Protective Servives and armed response, SAPS | G20: 3 | H20: B | I20: III | K20: Project Managers, Project Co-ordinators and Clerk of works | L20: Occupational Health and Safety Act, 1993 (Act No. 85 of 1993) and 32-95
B21: Dogs | C21: Possible bites | D21: Health | E21: Ill health | F21: Customer forums, public awareness campaigns | G21: 4 | H21: C | I21: II | K21: Project Managers, Project Co-ordinators and Clerk of works | L21: PPE specification 240-44175132 ,OHSACT and 32-95
B22: Exposure to customer wild animals | C22: Possible bites/ Attackes by animals | D22: Safety | E22: fratures, scratches, injuries | F22: Customer forums, public awareness campaigns | G22: 4 | H22: C | I22: II | K22: Project Managers, Project Co-ordinators and Clerk of works | L22: PPE specification 240-44175132,Occupational Health and Safety Act, 1993 (Act No. 85 of 1993) and 32-95
A23: =IF('Risk template'!A31="","",'Risk template'!A31) -> 3. Community protests | B23: =IF('Risk template'!A31="","",'Risk template'!D31) -> Community unrest | C23: =IF('Risk template'!A31="","",'Risk template'!F31) -> Actions and conditions leading to possible hostage situation and assult | D23: =IF('Risk template'!A31="","",'Risk template'!G31) -> Safety | E23: =IF('Risk template'!A31="","",'Risk template'!L31) -> Injury | F23: =IF('Risk template'!A31="","",'Risk template'!M31) -> Escort by protective services, SAPS, armed response, public threat communication, avoid risk areas | G23: =IF('Risk template'!A31="","",'Risk template'!N31) -> 2 | H23: =IF('Risk template'!A31="","",'Risk template'!O31) -> C | I23: III | J23: =IF('Risk template'!A31="","",'Risk template'!Q31) -> Mostly effective | K23: =IF('Risk template'!A31="","",'Risk template'!T31) -> Managers and Senior Supervisor | L23: =IF('Risk template'!A31="","",'Risk template'!U31) -> OHSACT section 8(1), 240-82789119 Distribution Security Operating procedure,
A24: =IF('Risk template'!A32="","",'Risk template'!A32) -> 4. Work within office environment | B24: =IF('Risk template'!A32="","",'Risk template'!D32) -> Improper sitting position | C24: =IF('Risk template'!A32="","",'Risk template'!F32) -> Musculoskeletal diseases | D24: =IF('Risk template'!A32="","",'Risk template'!G32) -> Health | E24: =IF('Risk template'!A32="","",'Risk template'!L32) -> Injury | F24: =IF('Risk template'!A32="","",'Risk template'!M32) -> Ergonomic awareness, Health risk assesment, OH Surveys | G24: =IF('Risk template'!A32="","",'Risk template'!N32) -> 1 | H24: =IF('Risk template'!A32="","",'Risk template'!O32) -> C | I24: III | J24: =IF('Risk template'!A32="","",'Risk template'!Q32) -> Mostly effective | K24: =IF('Risk template'!A32="","",'Risk template'!T32) -> Managers and Senior Supervisor | L24: =IF('Risk template'!A32="","",'Risk template'!U32) -> Occupational Health and Safety Act, 1993 (Act No. 85 of 1993), 34-370 Management of Ergonomic hazards exposure in the workplace
B25: Ergonomics | C25: Musculoskeletal diseases | D25: Health | E25: injury | F25: (c) Close contact with an infected person or contaminated object / surface | G25: 2 | H25: B | I25: IV | K25: Project Managers, Project Co-ordinators and Clerk of works | L25: Occupational Health and Safety Act, 1993 (Act No. 85 of 1993)
B26: Cables, office equipment and other tripping objects | C26: Possible falls | D26: Safety | E26: injury | F26: (d) Failure to implement precautionary measures such as wearing of appropriate PPE, | G26: 2 | H26: B | I26: IV | K26: Project Managers, Project Co-ordinators and Clerk of works | L26: Occupational Health and Safety Act, 1993 (Act No. 85 of 1993)
B27: Cables | C27: Possible electric shock and injuries from trips and falls | D27: Safety | E27: Injury | F27: (e) low immunity of staff, | G27: 2 | H27: B | I27: IV | K27: Project Managers, Project Co-ordinators and Clerk of works | L27: Occupational Health and Safety Act, 1993 (Act No. 85 of 1993) and it's regulations
B28: Regular computer use | C28: Vision impairment | D28: Health | E28: injury | F28: (f) pre-existing medicals conditions (g) not adhereing to social distancing requirements (h) Lack of hand sanitising or hand washing | G28: 2 | H28: B | I28: IV | K28: Project Managers, Project Co-ordinators and Clerk of works | L28: Occupational Health and Safety Act, 1993 (Act No. 85 of 1993) and it's regulations
B29: Use of paper and other office supplies | C29: Possible lacerations and cuts | D29: Safety | E29: illhealth | F29: Safety awareness talks, | G29: 2 | H29: B | I29: IV | K29: Project Managers, Project Co-ordinators and Clerk of works | L29: Occupational Health and Safety Act, 1993 (Act No. 85 of 1993) and it's regulations
B30: Water scarcity | C30: ill health | D30: Health | E30: injury, | F30: Safety talks and daily employee commitmemt on saving water | G30: 2 | H30: B | I30: IV | K30: Project Managers, Project Co-ordinators and Clerk of works | L30: Occupational Health and Safety Act, 1993 (Act No. 85 of 1993) and it's regulations
B31: Electricity cuts | C31: Poor visibility which may lead to falling | D31: Health | E31: illhealth, | F31: Health awareness talks, medical facilities | G31: 2 | H31: B | I31: IV | K31: Project Managers, Project Co-ordinators and Clerk of works | L31: Occupational Health and Safety Act, 1993 (Act No. 85 of 1993) and it's regulations
B32: Inadequte level of illumination | C32: Poor visibility which may lead to eye strain | D32: Health | E32: ill health | F32: Illumination surveys, medica surveillance pprograms | G32: 2 | H32: B | I32: IV | K32: Project Managers, Project Co-ordinators and Clerk of works | L32: Occupational Health and Safety Act, 1993 (Act No. 85 of 1993) and it's regulations
B33: Poor ventilation | C33: No free circulation of clean air which may cause dizziness | D33: Health | E33: Ill health | F33: Air Quality surveys, medical surveillances | G33: 2 | H33: B | I33: IV | K33: Project Managers, Project Co-ordinators and Clerk of works | L33: Occupational Health and Safety Act, 1993 (Act No. 85 of 1993) and it's regulations
B34: Walking around the office | C34: Possible trips and falls | D34: Safety | E34: Injuries | F34: Safety awareness | G34: 2 | H34: B | I34: IV | K34: Project Managers, Project Co-ordinators and Clerk of works | L34: OHSACT section 8(1)
B35: Improper microwave usage | C35: Possible burns and exposure to radiation | D35: Safety | E35: Injuries | F35: Awareness | G35: 3 | H35: C | I35: II | K35: Project Managers, Project Co-ordinators and Clerk of works | L35: OHSACT section 8(1)
B36: Making use of the hydroboil | C36: Possible burns | D36: Safety | E36: Injuries | F36: Awareness | G36: 2 | H36: B | I36: IV | K36: Project Managers, Project Co-ordinators and Clerk of works | L36: OHSACT section 8(1)
... B39: General lifting and physical manhandling of boxes, files, etc | C39: Musculorskeletal injuries | D39: Safety | E39: Injuries | F39: Awareness | G39: 5 | H39: B | I39: II | K39: Project Managers, Project Co-ordinators and Clerk of works | L39: OHSA Section 14 - Duties of employees
A40: =IF('Risk template'!A49="","",'Risk template'!A49) -> 5. Working at Heights | B40: =IF('Risk template'!A49="","",'Risk template'!D51) -> Foreign objects | C40: =IF('Risk template'!A49="","",'Risk template'!F51) -> Struck by a free falling object | D40: =IF('Risk template'!A49="","",'Risk template'!G51) -> Safety | E40: =IF('Risk template'!A49="","",'Risk template'!L51) -> Injuries | F40: =IF('Risk template'!A49="","",'Risk template'!M51) -> SWP, Daily RA, PPE | G40: =IF('Risk template'!A49="","",'Risk template'!N51) -> 4 | H40: =IF('Risk template'!A49="","",'Risk template'!O51) -> C | I40: II | J40: =IF('Risk template'!A49="","",'Risk template'!Q51) -> Mostly effective | K40: =IF('Risk template'!A49="","",'Risk template'!T51) -> Managers and Senior Supervisor | L40: =IF('Risk template'!A49="","",'Risk template'!U51) -> PPE specification 240-44175132
B41: Fall from height | C41: Fractures, Back, shoulder neck, feet injuries, | D41: Health | E41: Fatalities, Multiple injuries, bruises, fractures | F41: Leather Gloves - Dusk Mask - Overall - Safety Boots - Keep working area safe - Proper lifting technique and training - medical surveillances. | G41: 5 | H41: B | I41: II | J41: P | K41: Project Managers, Project Co-ordinators and Clerk of works | L41: Occupational Health and Safety Act, 1993 (Act No. 85 of 1993)
A42: =IF('Risk template'!A65="","",'Risk template'!A65) -> 7.Woking with lifting machinary and tackle | B42: =IF('Risk template'!A65="","",'Risk template'!D65) -> Failure of lifting machine or tackle | C42: =IF('Risk template'!A65="","",'Risk template'!F65) -> Possible fall from heights | D42: =IF('Risk template'!A65="","",'Risk template'!G65) -> Safety | E42: =IF('Risk template'!A65="","",'Risk template'!L65) -> Injuries | F42: =IF('Risk template'!A65="","",'Risk template'!M65) -> Visual Inspection before use, Quaterly inspections and Annual load test | G42: =IF('Risk template'!A65="","",'Risk template'!N65) -> 4 | H42: =IF('Risk template'!A65="","",'Risk template'!O65) -> A | I42: III | J42: =IF('Risk template'!A65="","",'Risk template'!Q65) -> Mostly effective | K42: =IF('Risk template'!A65="","",'Risk template'!T65) -> Managers and Senior Supervisor | L42: =IF('Risk template'!A65="","",'Risk template'!U65) -> OHS Act and its regulations, 34-111 Operating a truck mounted crane with a bucket attached, 34-110 Operating a vehicle mounted crane
A43: =IF('Risk template'!A71="","",'Risk template'!A71) -> 9. Circuit breaker replacement | B43: =IF('Risk template'!A71="","",'Risk template'!D71) -> Incompetent Operator | C43: =IF('Risk template'!A71="","",'Risk template'!F71) -> Possible electrocution | D43: =IF('Risk template'!A71="","",'Risk template'!G71) -> Safety | E43: =IF('Risk template'!A71="","",'Risk template'!L71) -> Injuries | F43: =IF('Risk template'!A71="","",'Risk template'!M71) -> Pre Task planning and Risk assessment, SOP, SWP, ORHVS, 34-1141 Maintanance of metering Kiosks | G43: =IF('Risk template'!A71="","",'Risk template'!N71) -> 4 | H43: =IF('Risk template'!A71="","",'Risk template'!O71) -> B | I43: III | J43: =IF('Risk template'!A71="","",'Risk template'!Q71) -> Mostly effective | K43: =IF('Risk template'!A71="","",'Risk template'!T71) -> Managers and Senior Supervisor | L43: =IF('Risk template'!A71="","",'Risk template'!U71) -> OHS Act and its regulations, 240-84242882, 240-65123882, 35-493, Eskom Standards and Procedures
A44: =IF('Risk template'!A69="","",'Risk template'!A69) -> 8. Working close to Excavation work/ Road Construction | B44: =IF('Risk template'!A69="","",'Risk template'!D72) -> Insect nest inside pillar box | C44: =IF('Risk template'!A69="","",'Risk template'!F72) -> Insects and rodents inside the pillar box | D44: =IF('Risk template'!A69="","",'Risk template'!G72) -> Safety | E44: =IF('Risk template'!A69="","",'Risk template'!L72) -> Injuries | F44: =IF('Risk template'!A69="","",'Risk template'!M72) -> Environmental EP, Report insect nest to be removed by professionals, Wear appropriate PPE | G44: =IF('Risk template'!A69="","",'Risk template'!N72) -> 3 | H44: =IF('Risk template'!A69="","",'Risk template'!O72) -> B | I44: III | J44: =IF('Risk template'!A69="","",'Risk template'!Q72) -> Mostly effective | K44: =IF('Risk template'!A69="","",'Risk template'!T72) -> Managers and Senior Supervisor | L44: =IF('Risk template'!A69="","",'Risk template'!U72) -> OHS Act and its regulations, 240-84242882, 240-65123882, 34-493, Eskom Standards and Procedures
A45: =IF('Risk template'!A73="","",'Risk template'!A73) -> 10.Pole planting and Rotten / Broken pole replacement | B45: =IF('Risk template'!A73="","",'Risk template'!#REF!) -> #REF! | C45: =IF('Risk template'!A73="","",'Risk template'!F73) -> Caught by drill bit | D45: =IF('Risk template'!A73="","",'Risk template'!G73) -> Safety | E45: =IF('Risk template'!A73="","",'Risk template'!L73) -> Injuries | F45: =IF('Risk template'!A73="","",'Risk template'!M73) -> Follow correct drilling practices, 34-2119 Working with Petrol drilling machine, Pre task planning and risk assessment 32-520 and 34-227 | G45: =IF('Risk template'!A73="","",'Risk template'!N73) -> 4 | H45: =IF('Risk template'!A73="","",'Risk template'!O73) -> B | I45: III | J45: =IF('Risk template'!A73="","",'Risk template'!Q73) -> Mostly effective | K45: =IF('Risk template'!A73="","",'Risk template'!T73) -> Managers and Senior Supervisor | L45: =IF('Risk template'!A73="","",'Risk template'!U73) -> 34-2119 Working with Petrol drilling machine, Pre task planning and risk assessment 32-520 and 34-227, 32-477 Safety, health and environmentatl training and development Procedure
...

Sheet Consequence rating
C2: Consequence criteria
B3: Consequence rating | C3: Description
C4: Health and Safety
B5: 1 | C5: No injuries or health effects(near misses)
B6: 2 | C6: First-aid treatment case, and temporary discomfort case
B7: 3 | C7: Medical treatment case; occupational disease with reversible/non-permanent effect
B8: 4 | C8: Lost Time Injury. Irreversible health effects/occupational disease with permanent consequence
B9: 5 | C9: Fatality or life threatening health effects
B10: 6 | C10: Multiple fatalities

Sheet Likelihood rating
A2: Likelihood criteria
B3: Score | C3: Descriptor | D3: Safety | E3: Occupational hygiene
E4: Exposure | F4: Probability of exceeding OEL
B5: A | C5: Highly unlikely | D5: § More than a “100 year event” | E5: Rare (once a year) | F5: No exposure (or exposure < 10% of OEL)
D6: § Exceptionally unlikely, even in the long-term future
D7: § < 5% probability.
B8: B | C8: Unlikely | D8: § Could occur in “years to decades” | E8: Short periods of time, a few times per day/ intermittent (once in six months, three months, or a month) | F8: Low exposure (< 50% of OEL)
D9: § May occur but not anticipated
D10: § ≥ 5% and < 20% probability.
B11: C | C11: Possible | D11: § Could occur within “months to years” | E11: Continuous for between one and two hours (often/ weekly) | F11: Moderate exposure (chronic exposure > 50% of OEL or acute exposure ≥ OEL)
D12: § May occur shortly but a distinct probability it will not, or ≥ 20% and < 70% probability.
B13: D | C13: Likely | D13: § Could occur within “weeks to months” | E13: Continuous for between two and four hours (frequent/daily) | F13: High exposure (chronic exposure > OEL, or exposure exceeding OEL-STEL)
D14: § Balance of probability will occur
D15: § ≥ 70% and < 90% probability.
B16: E | C16: Unavoidable | D16: § Could occur within “days to weeks” | E16: Continuous for eight-hour shift | F16: Very high exposure (chronic exposure > 2 x OEL or exposure exceeding OEL-C)
D17: § Impact is imminent
D18: § ≥ 90% probability.

Sheet Risk control effectiveness
B3: RISK CONTROL EFFECTIVENESS GUIDE
B4: RCE | C4: Guide
B5: Fully effective | C5: Nothing more to be done except review and monitor the existing controls. Controls are well designed for the risk, are largely preventive and address the root causes. Management believes that they are effective and reliable at all times. Reactive controls only support preventive controls.
B6: Mostly effective | C6: Most controls are designed correctly and are in place and effective. Some more work to be done to improve operating effectiveness or management has doubts about operational effectiveness and reliability of the controls.
B7: Mostly ineffective | C7: While the design of controls may be largely correct in that they treat most of the root causes of the risk, they are not currently operationally very effective. There may be an over-reliance on reactive controls, or some of the controls do not seem correctly designed in that they do not treat root causes.
B8: None | C8: Virtually no credible control. Management has no confidence that any degree of control is being achieved.

Sheet Risk matrix
E2: RISK MATRIX
C3: Consequences | D3: 6 | E3: I | F3: I | G3: I | H3: I | I3: I
D4: 5 | E4: II | F4: II | G4: II | H4: I | I4: I
D5: 4 | E5: III | F5: III | G5: II | H5: I | I5: I
D6: 3 | E6: IV | F6: III | G6: II | H6: II | I6: I
D7: 2 | E7: IV | F7: IV | G7: III | H7: II | I7: II
D8: 1 | E8: IV | F8: IV | G8: III | H8: III | I8: III
E9: A | F9: B | G9: C | H9: D | I9: E
E10: Likelihood
D13: Priority | E13: Risk ranking | F13: Action required
D14: I | E14: Very high | F14: Immediate action required, and these risks to be captured on IRM system.
D15: II | E15: High | F15: Strong mandatory action required, and these risks to be captured on IRM system.
D16: III | E16: Medium | F16: Action required, possibly at administrative level.
D17: IV | E17: Low | F17: Minor or no action required.
